{"text_format":"1","workbook":"xlsx","n_sheets":5,"sheets":["Přehled_body","Tabulka","Pořadí","List4","List1"],"not_rendered":{"charts":0,"images":1,"macros":1,"external_links":0,"defined_names":19,"comments":1,"pivot_tables":0},"unopened":[],"bounds":{"document_bytes":16777216,"sheet_cells":100000,"rows_first":2000,"rows_last":500,"rows_between":2000,"halvings":0,"cell_chars":16384,"cell_head_chars":4096},"cells_cut":0,"cells_raw":0,"read":"whole","date_system":"1900"}

{"sheet":"Přehled_body","index":0,"n_rows":142,"n_cols":142,"rows_kept":142,"cut":false,"hidden":false,"merged":[[0,104,0,108],[0,99,0,103],[0,94,0,98],[0,89,0,93],[0,84,0,88],[0,135,1,135],[0,34,0,38],[0,39,0,43],[0,44,0,48],[0,49,0,53],[0,54,0,58],[0,59,0,63],[0,64,0,68],[0,119,0,123],[0,69,0,73],[0,124,0,128],[0,129,0,133],[0,74,0,78],[0,79,0,83],[0,114,0,118],[0,109,0,113],[0,24,0,28],[0,29,0,33],[0,2,1,2],[0,4,0,8],[0,9,0,13],[0,14,0,18],[0,19,0,23]]}
[null,null,2021,"2. pololetí","2021-07-13",null,null,null,null,"2021-07-20",null,null,null,null,"2021-07-27",null,null,null,null,"2021-08-10",null,null,null,null,"2021-08-31",null,null,null,null,"2021-09-07",null,null,null,null,"2021-09-14",null,null,null,null,"2021-09-21",null,null,null,null,"2021-10-05",null,null,null,null,"2021-10-12",null,null,null,null,null,null,null,null,null,null,null,null,null,null,null,null,null,null,null,null,null,null,null,null,null,null,null,null,null,null,null,null,null,null,null,null,null,null,null,null,null,null,null,null,null,null,null,null,null,null,null,null,null,null,null,null,null,null,null,null,null,null,null,null,null,null,null,null,null,null,null,null,null,null,null,null,null,null,null,null,null,null,null,null,{"$f":"Tabulka!AE2","v":"Součet"},{"$f":"Tabulka!AF2","v":"Body"},null,null,null,null,null,"1. pololetí"]
[null,null,null,"Kolo",1,2,3,4,5,1,2,3,4,5,1,2,3,4,5,1,2,3,4,5,1,2,3,4,5,1,2,3,4,5,1,2,3,4,5,1,2,3,4,5,1,2,3,4,5,1,2,3,4,5,1,2,3,4,5,1,2,3,4,5,1,2,3,4,5,1,2,3,4,5,1,2,3,4,5,1,2,3,4,5,1,2,3,4,5,1,2,3,4,5,1,2,3,4,5,1,2,3,4,5,1,2,3,4,5,1,2,3,4,5,1,2,3,4,5,1,2,3,4,5,1,2,3,4,5,1,2,3,4,5,{"$f":"Tabulka!AE3","v":"celkem"},{"$f":"Tabulka!AF3","v":0},null,null,null,null,null,"2. pololetí"]
[{"$f":"CONCATENATE($C$4,\" \",$C$5,D3)","v":"Jiří FialaVýhry"},{"$f":"CONCATENATE(C4,\" \",C5)","v":"Jiří Fiala"},{"$f":"Tabulka!B4","v":0},"Výhry",null,null,null,null,null,null,null,null,null,null,null,null,null,null,null,null,null,null,null,null,null,null,null,null,null,null,null,null,null,null,null,null,null,null,null,null,null,null,null,null,null,null,null,null,null,null,null,null,null,null,null,null,null,null,null,null,null,null,null,null,null,null,null,null,null,null,null,null,null,null,null,null,null,null,null,null,null,null,null,null,null,null,null,null,null,null,null,null,null,null,null,null,null,null,null,null,null,null,null,null,null,null,null,null,null,null,null,null,null,null,null,null,null,null,null,null,null,null,null,null,null,null,null,null,null,null,null,null,null,null,{"$f":"IF(OR(SUM(Jiří_Fiala)<1),-90000,SUM(E3:ED3))","v":-90000}]
[{"$f":"CONCATENATE($C$4,\" \",$C$5,D4)","v":"Jiří FialaProhry"},{"$f":"CONCATENATE(C4,\" \",C5)","v":"Jiří Fiala"},{"$f":"Tabulka!B5","v":"Jiří"},"Prohry",null,null,null,null,null,null,null,null,null,null,null,null,null,null,null,null,null,null,null,null,null,null,null,null,null,null,null,null,null,null,null,null,null,null,null,null,null,null,null,null,null,null,null,null,null,null,null,null,null,null,null,null,null,null,null,null,null,null,null,null,null,null,null,null,null,null,null,null,null,null,null,null,null,null,null,null,null,null,null,null,null,null,null,null,null,null,null,null,null,null,null,null,null,null,null,null,null,null,null,null,null,null,null,null,null,null,null,null,null,null,null,null,null,null,null,null,null,null,null,null,null,null,null,null,null,null,null,null,null,null,-90000,{"$f":"SUM(EE3-EE4)","v":0}]
["Jiří FialaPlaceno panáků",{"$f":"CONCATENATE(C4,\" \",C5)","v":"Jiří Fiala"},{"$f":"Tabulka!B6","v":"Fiala"},"Placeno panáků",null,null,null,null,null,null,null,null,null,null,null,null,null,null,null,null,null,null,null,null,null,null,null,null,null,null,null,null,null,null,null,null,null,null,null,null,null,null,null,null,null,null,null,null,null,null,null,null,null,null,null,null,null,null,null,null,null,null,null,null,null,null,null,null,null,null,null,null,null,null,null,null,null,null,null,null,null,null,null,null,null,null,null,null,null,null,null,null,null,null,null,null,null,null,null,null,null,null,null,null,null,null,null,null,null,null,null,null,null,null,null,null,null,null,null,null,null,null,null,null,null,null,null,null,null,null,null,null,null,null,-90000]
["Jiří FialaPřehozy",{"$f":"CONCATENATE(C4,\" \",C5)","v":"Jiří Fiala"},{"$f":"Tabulka!B7","v":0},"Přehozy",null,null,null,null,null,null,null,null,null,null,null,null,null,null,null,null,null,null,null,null,null,null,null,null,null,null,null,null,null,null,null,null,null,null,null,null,null,null,null,null,null,null,null,null,null,null,null,null,null,null,null,null,null,null,null,null,null,null,null,null,null,null,null,null,null,null,null,null,null,null,null,null,null,null,null,null,null,null,null,null,null,null,null,null,null,null,null,null,null,null,null,null,null,null,null,null,null,null,null,null,null,null,null,null,null,null,null,null,null,null,null,null,null,null,null,null,null,null,null,null,null,null,null,null,null,null,null,null,null,null,-90000]
["Jiří FialaPoč. kol",{"$f":"CONCATENATE(C4,\" \",C5)","v":"Jiří Fiala"},{"$f":"Tabulka!B8","v":0},"Poč. kol",null,null,null,null,null,null,null,null,null,null,null,null,null,null,null,null,null,null,null,null,null,null,null,null,null,null,null,null,null,null,null,null,null,null,null,null,null,null,null,null,null,null,null,null,null,null,null,null,null,null,null,null,null,null,null,null,null,null,null,null,null,null,null,null,null,null,null,null,null,null,null,null,null,null,null,null,null,null,null,null,null,null,null,null,null,null,null,null,null,null,null,null,null,null,null,null,null,null,null,null,null,null,null,null,null,null,null,null,null,null,null,null,null,null,null,null,null,null,null,null,null,null,null,null,null,null,null,null,null,null,-90000]
["Jiří FialaPočet konečných bodů",{"$f":"CONCATENATE(C4,\" \",C5)","v":"Jiří Fiala"},null,"Počet konečných bodů",null,null,null,null,null,null,null,null,null,null,null,null,null,null,null,null,null,null,null,null,null,null,null,null,null,null,null,null,null,null,null,null,null,null,null,null,null,null,null,null,null,null,null,null,null,null,null,null,null,null,null,null,null,null,null,null,null,null,null,null,null,null,null,null,null,null,null,null,null,null,null,null,null,null,null,null,null,null,null,null,null,null,null,null,null,null,null,null,null,null,null,null,null,null,null,null,null,null,null,null,null,null,null,null,null,null,null,null,null,null,null,null,null,null,null,null,null,null,null,null,null,null,null,null,null,null,null,null,null,null,-90000]
["Jiří FialaPrůměr konečných bodů na kolo",{"$f":"CONCATENATE(C4,\" \",C5)","v":"Jiří Fiala"},null,"Průměr konečných bodů na kolo",{"$f":"IF(E8<>\"\",AVERAGE($E8:E8)+$EI9,\"\")","v":""},{"$f":"IF(F8<>\"\",AVERAGE($E8:F8)+$EI9,\"\")","v":""},{"$f":"IF(G8<>\"\",AVERAGE($E8:G8)+$EI9,\"\")","v":""},{"$f":"IF(H8<>\"\",AVERAGE($E8:H8)+$EI9,\"\")","v":""},{"$f":"IF(I8<>\"\",AVERAGE($E8:I8)+$EI9,\"\")","v":""},{"$f":"IF(J8<>\"\",AVERAGE($E8:J8)+$EI9,\"\")","v":""},{"$f":"IF(K8<>\"\",AVERAGE($E8:K8)+$EI9,\"\")","v":""},{"$f":"IF(L8<>\"\",AVERAGE($E8:L8)+$EI9,\"\")","v":""},{"$f":"IF(M8<>\"\",AVERAGE($E8:M8)+$EI9,\"\")","v":""},{"$f":"IF(N8<>\"\",AVERAGE($E8:N8)+$EI9,\"\")","v":""},{"$f":"IF(O8<>\"\",AVERAGE($E8:O8)+$EI9,\"\")","v":""},{"$f":"IF(P8<>\"\",AVERAGE($E8:P8)+$EI9,\"\")","v":""},{"$f":"IF(Q8<>\"\",AVERAGE($E8:Q8)+$EI9,\"\")","v":""},{"$f":"IF(R8<>\"\",AVERAGE($E8:R8)+$EI9,\"\")","v":""},{"$f":"IF(S8<>\"\",AVERAGE($E8:S8)+$EI9,\"\")","v":""},{"$f":"IF(T8<>\"\",AVERAGE($E8:T8)+$EI9,\"\")","v":""},{"$f":"IF(U8<>\"\",AVERAGE($E8:U8)+$EI9,\"\")","v":""},{"$f":"IF(V8<>\"\",AVERAGE($E8:V8)+$EI9,\"\")","v":""},{"$f":"IF(W8<>\"\",AVERAGE($E8:W8)+$EI9,\"\")","v":""},{"$f":"IF(X8<>\"\",AVERAGE($E8:X8)+$EI9,\"\")","v":""},{"$f":"IF(Y8<>\"\",AVERAGE($E8:Y8)+$EI9,\"\")","v":""},{"$f":"IF(Z8<>\"\",AVERAGE($E8:Z8)+$EI9,\"\")","v":""},{"$f":"IF(AA8<>\"\",AVERAGE($E8:AA8)+$EI9,\"\")","v":""},{"$f":"IF(AB8<>\"\",AVERAGE($E8:AB8)+$EI9,\"\")","v":""},{"$f":"IF(AC8<>\"\",AVERAGE($E8:AC8)+$EI9,\"\")","v":""},{"$f":"IF(AD8<>\"\",AVERAGE($E8:AD8)+$EI9,\"\")","v":""},{"$f":"IF(AE8<>\"\",AVERAGE($E8:AE8)+$EI9,\"\")","v":""},{"$f":"IF(AF8<>\"\",AVERAGE($E8:AF8)+$EI9,\"\")","v":""},{"$f":"IF(AG8<>\"\",AVERAGE($E8:AG8)+$EI9,\"\")","v":""},{"$f":"IF(AH8<>\"\",AVERAGE($E8:AH8)+$EI9,\"\")","v":""},{"$f":"IF(AI8<>\"\",AVERAGE($E8:AI8)+$EI9,\"\")","v":""},{"$f":"IF(AJ8<>\"\",AVERAGE($E8:AJ8)+$EI9,\"\")","v":""},{"$f":"IF(AK8<>\"\",AVERAGE($E8:AK8)+$EI9,\"\")","v":""},{"$f":"IF(AL8<>\"\",AVERAGE($E8:AL8)+$EI9,\"\")","v":""},{"$f":"IF(AM8<>\"\",AVERAGE($E8:AM8)+$EI9,\"\")","v":""},{"$f":"IF(AN8<>\"\",AVERAGE($E8:AN8)+$EI9,\"\")","v":""},{"$f":"IF(AO8<>\"\",AVERAGE($E8:AO8)+$EI9,\"\")","v":""},{"$f":"IF(AP8<>\"\",AVERAGE($E8:AP8)+$EI9,\"\")","v":""},{"$f":"IF(AQ8<>\"\",AVERAGE($E8:AQ8)+$EI9,\"\")","v":""},{"$f":"IF(AR8<>\"\",AVERAGE($E8:AR8)+$EI9,\"\")","v":""},{"$f":"IF(AS8<>\"\",AVERAGE($E8:AS8)+$EI9,\"\")","v":""},{"$f":"IF(AT8<>\"\",AVERAGE($E8:AT8)+$EI9,\"\")","v":""},{"$f":"IF(AU8<>\"\",AVERAGE($E8:AU8)+$EI9,\"\")","v":""},{"$f":"IF(AV8<>\"\",AVERAGE($E8:AV8)+$EI9,\"\")","v":""},{"$f":"IF(AW8<>\"\",AVERAGE($E8:AW8)+$EI9,\"\")","v":""},{"$f":"IF(AX8<>\"\",AVERAGE($E8:AX8)+$EI9,\"\")","v":""},{"$f":"IF(AY8<>\"\",AVERAGE($E8:AY8)+$EI9,\"\")","v":""},{"$f":"IF(AZ8<>\"\",AVERAGE($E8:AZ8)+$EI9,\"\")","v":""},{"$f":"IF(BA8<>\"\",AVERAGE($E8:BA8)+$EI9,\"\")","v":""},{"$f":"IF(BB8<>\"\",AVERAGE($E8:BB8)+$EI9,\"\")","v":""},{"$f":"IF(BC8<>\"\",AVERAGE($E8:BC8)+$EI9,\"\")","v":""},{"$f":"IF(BD8<>\"\",AVERAGE($E8:BD8)+$EI9,\"\")","v":""},{"$f":"IF(BE8<>\"\",AVERAGE($E8:BE8)+$EI9,\"\")","v":""},{"$f":"IF(BF8<>\"\",AVERAGE($E8:BF8)+$EI9,\"\")","v":""},{"$f":"IF(BG8<>\"\",AVERAGE($E8:BG8)+$EI9,\"\")","v":""},{"$f":"IF(BH8<>\"\",AVERAGE($E8:BH8)+$EI9,\"\")","v":""},{"$f":"IF(BI8<>\"\",AVERAGE($E8:BI8)+$EI9,\"\")","v":""},{"$f":"IF(BJ8<>\"\",AVERAGE($E8:BJ8)+$EI9,\"\")","v":""},{"$f":"IF(BK8<>\"\",AVERAGE($E8:BK8)+$EI9,\"\")","v":""},{"$f":"IF(BL8<>\"\",AVERAGE($E8:BL8)+$EI9,\"\")","v":""},{"$f":"IF(BM8<>\"\",AVERAGE($E8:BM8)+$EI9,\"\")","v":""},{"$f":"IF(BN8<>\"\",AVERAGE($E8:BN8)+$EI9,\"\")","v":""},{"$f":"IF(BO8<>\"\",AVERAGE($E8:BO8)+$EI9,\"\")","v":""},{"$f":"IF(BP8<>\"\",AVERAGE($E8:BP8)+$EI9,\"\")","v":""},{"$f":"IF(BQ8<>\"\",AVERAGE($E8:BQ8)+$EI9,\"\")","v":""},{"$f":"IF(BR8<>\"\",AVERAGE($E8:BR8)+$EI9,\"\")","v":""},{"$f":"IF(BS8<>\"\",AVERAGE($E8:BS8)+$EI9,\"\")","v":""},{"$f":"IF(BT8<>\"\",AVERAGE($E8:BT8)+$EI9,\"\")","v":""},{"$f":"IF(BU8<>\"\",AVERAGE($E8:BU8)+$EI9,\"\")","v":""},{"$f":"IF(BV8<>\"\",AVERAGE($E8:BV8)+$EI9,\"\")","v":""},{"$f":"IF(BW8<>\"\",AVERAGE($E8:BW8)+$EI9,\"\")","v":""},{"$f":"IF(BX8<>\"\",AVERAGE($E8:BX8)+$EI9,\"\")","v":""},{"$f":"IF(BY8<>\"\",AVERAGE($E8:BY8)+$EI9,\"\")","v":""},{"$f":"IF(BZ8<>\"\",AVERAGE($E8:BZ8)+$EI9,\"\")","v":""},{"$f":"IF(CA8<>\"\",AVERAGE($E8:CA8)+$EI9,\"\")","v":""},{"$f":"IF(CB8<>\"\",AVERAGE($E8:CB8)+$EI9,\"\")","v":""},{"$f":"IF(CC8<>\"\",AVERAGE($E8:CC8)+$EI9,\"\")","v":""},{"$f":"IF(CD8<>\"\",AVERAGE($E8:CD8)+$EI9,\"\")","v":""},{"$f":"IF(CE8<>\"\",AVERAGE($E8:CE8)+$EI9,\"\")","v":""},{"$f":"IF(CF8<>\"\",AVERAGE($E8:CF8)+$EI9,\"\")","v":""},{"$f":"IF(CG8<>\"\",AVERAGE($E8:CG8)+$EI9,\"\")","v":""},{"$f":"IF(CH8<>\"\",AVERAGE($E8:CH8)+$EI9,\"\")","v":""},{"$f":"IF(CI8<>\"\",AVERAGE($E8:CI8)+$EI9,\"\")","v":""},{"$f":"IF(CJ8<>\"\",AVERAGE($E8:CJ8)+$EI9,\"\")","v":""},{"$f":"IF(CK8<>\"\",AVERAGE($E8:CK8)+$EI9,\"\")","v":""},{"$f":"IF(CL8<>\"\",AVERAGE($E8:CL8)+$EI9,\"\")","v":""},{"$f":"IF(CM8<>\"\",AVERAGE($E8:CM8)+$EI9,\"\")","v":""},{"$f":"IF(CN8<>\"\",AVERAGE($E8:CN8)+$EI9,\"\")","v":""},{"$f":"IF(CO8<>\"\",AVERAGE($E8:CO8)+$EI9,\"\")","v":""},{"$f":"IF(CP8<>\"\",AVERAGE($E8:CP8)+$EI9,\"\")","v":""},{"$f":"IF(CQ8<>\"\",AVERAGE($E8:CQ8)+$EI9,\"\")","v":""},{"$f":"IF(CR8<>\"\",AVERAGE($E8:CR8)+$EI9,\"\")","v":""},{"$f":"IF(CS8<>\"\",AVERAGE($E8:CS8)+$EI9,\"\")","v":""},{"$f":"IF(CT8<>\"\",AVERAGE($E8:CT8)+$EI9,\"\")","v":""},{"$f":"IF(CU8<>\"\",AVERAGE($E8:CU8)+$EI9,\"\")","v":""},{"$f":"IF(CV8<>\"\",AVERAGE($E8:CV8)+$EI9,\"\")","v":""},{"$f":"IF(CW8<>\"\",AVERAGE($E8:CW8)+$EI9,\"\")","v":""},{"$f":"IF(CX8<>\"\",AVERAGE($E8:CX8)+$EI9,\"\")","v":""},{"$f":"IF(CY8<>\"\",AVERAGE($E8:CY8)+$EI9,\"\")","v":""},{"$f":"IF(CZ8<>\"\",AVERAGE($E8:CZ8)+$EI9,\"\")","v":""},{"$f":"IF(DA8<>\"\",AVERAGE($E8:DA8)+$EI9,\"\")","v":""},{"$f":"IF(DB8<>\"\",AVERAGE($E8:DB8)+$EI9,\"\")","v":""},{"$f":"IF(DC8<>\"\",AVERAGE($E8:DC8)+$EI9,\"\")","v":""},{"$f":"IF(DD8<>\"\",AVERAGE($E8:DD8)+$EI9,\"\")","v":""},{"$f":"IF(DE8<>\"\",AVERAGE($E8:DE8)+$EI9,\"\")","v":""},{"$f":"IF(DF8<>\"\",AVERAGE($E8:DF8)+$EI9,\"\")","v":""},{"$f":"IF(DG8<>\"\",AVERAGE($E8:DG8)+$EI9,\"\")","v":""},{"$f":"IF(DH8<>\"\",AVERAGE($E8:DH8)+$EI9,\"\")","v":""},{"$f":"IF(DI8<>\"\",AVERAGE($E8:DI8)+$EI9,\"\")","v":""},{"$f":"IF(DJ8<>\"\",AVERAGE($E8:DJ8)+$EI9,\"\")","v":""},{"$f":"IF(DK8<>\"\",AVERAGE($E8:DK8)+$EI9,\"\")","v":""},{"$f":"IF(DL8<>\"\",AVERAGE($E8:DL8)+$EI9,\"\")","v":""},{"$f":"IF(DM8<>\"\",AVERAGE($E8:DM8)+$EI9,\"\")","v":""},{"$f":"IF(DN8<>\"\",AVERAGE($E8:DN8)+$EI9,\"\")","v":""},{"$f":"IF(DO8<>\"\",AVERAGE($E8:DO8)+$EI9,\"\")","v":""},{"$f":"IF(DP8<>\"\",AVERAGE($E8:DP8)+$EI9,\"\")","v":""},{"$f":"IF(DQ8<>\"\",AVERAGE($E8:DQ8)+$EI9,\"\")","v":""},{"$f":"IF(DR8<>\"\",AVERAGE($E8:DR8)+$EI9,\"\")","v":""},{"$f":"IF(DS8<>\"\",AVERAGE($E8:DS8)+$EI9,\"\")","v":""},{"$f":"IF(DT8<>\"\",AVERAGE($E8:DT8)+$EI9,\"\")","v":""},{"$f":"IF(DU8<>\"\",AVERAGE($E8:DU8)+$EI9,\"\")","v":""},{"$f":"IF(DV8<>\"\",AVERAGE($E8:DV8)+$EI9,\"\")","v":""},{"$f":"IF(DW8<>\"\",AVERAGE($E8:DW8)+$EI9,\"\")","v":""},{"$f":"IF(DX8<>\"\",AVERAGE($E8:DX8)+$EI9,\"\")","v":""},{"$f":"IF(DY8<>\"\",AVERAGE($E8:DY8)+$EI9,\"\")","v":""},{"$f":"IF(DZ8<>\"\",AVERAGE($E8:DZ8)+$EI9,\"\")","v":""},{"$f":"IF(EA8<>\"\",AVERAGE($E8:EA8)+$EI9,\"\")","v":""},{"$f":"IF(EB8<>\"\",AVERAGE($E8:EB8)+$EI9,\"\")","v":""},{"$f":"IF(EC8<>\"\",AVERAGE($E8:EC8)+$EI9,\"\")","v":""},{"$f":"IF(ED8<>\"\",AVERAGE($E8:ED8)+$EI9,\"\")","v":""},{"$f":"IF(SUM(Jiří_Fiala)<1,-90000,EE8/COUNT(E8:ED8))","v":-90000},null,null,{"$f":"CONCATENATE(C4,\" \",C5)","v":"Jiří Fiala"},{"$f":"INDEX(List4!$E$2:$E$17,MATCH(CONCATENATE(C4,\" \",C5),Tabulka1128[Jmeno_prijmeni],0),1)","v":2.1900000000000002E-6}]
["Jiří FialaPočet šipek",{"$f":"CONCATENATE(C4,\" \",C5)","v":"Jiří Fiala"},null,"Počet šipek",null,null,null,null,null,null,null,null,null,null,null,null,null,null,null,null,null,null,null,null,null,null,null,null,null,null,null,null,null,null,null,null,null,null,null,null,null,null,null,null,null,null,null,null,null,null,null,null,null,null,null,null,null,null,null,null,null,null,null,null,null,null,null,null,null,null,null,null,null,null,null,null,null,null,null,null,null,null,null,null,null,null,null,null,null,null,null,null,null,null,null,null,null,null,null,null,null,null,null,null,null,null,null,null,null,null,null,null,null,null,null,null,null,null,null,null,null,null,null,null,null,null,null,null,null,null,null,null,null,null,{"$f":"IF(OR(SUM(Jiří_Fiala)<1),-90000,SUM(E10:ED10))","v":-90000}]
[{"$f":"CONCATENATE($C$12,\" \",$C$13,D11)","v":"Libor HruškaVýhry"},{"$f":"CONCATENATE(C12,\" \",C13)","v":"Libor Hruška"},{"$f":"Tabulka!B9","v":0},"Výhry",1,null,null,null,null,3,null,null,null,null,1,null,null,null,null,1,null,null,null,null,0,null,null,null,null,0,null,null,null,null,1,null,null,null,null,0,null,null,null,null,1,null,null,null,null,0,null,null,null,null,null,null,null,null,null,null,null,null,null,null,null,null,null,null,null,null,null,null,null,null,null,null,null,null,null,null,null,null,null,null,null,null,null,null,null,null,null,null,null,null,null,null,null,null,null,null,null,null,null,null,null,null,null,null,null,null,null,null,null,null,null,null,null,null,null,null,null,null,null,null,null,null,null,null,null,null,null,null,null,null,{"$f":"IF(SUM(Libor_Hruška)<1,-90000,SUM(C11:ED11))","v":8}]
["Libor HruškaProhry","Libor Hruška",{"$f":"Tabulka!B10","v":"Libor"},"Prohry",0,null,null,null,null,0,null,null,null,null,0,null,null,null,null,2,null,null,null,null,0,null,null,null,null,0,null,null,null,null,0,null,null,null,null,0,null,null,null,null,0,null,null,null,null,0,null,null,null,null,null,null,null,null,null,null,null,null,null,null,null,null,null,null,null,null,null,null,null,null,null,null,null,null,null,null,null,null,null,null,null,null,null,null,null,null,null,null,null,null,null,null,null,null,null,null,null,null,null,null,null,null,null,null,null,null,null,null,null,null,null,null,null,null,null,null,null,null,null,null,null,null,null,null,null,null,null,null,null,null,2,{"$f":"SUM(EE11-EE12)","v":6}]
["Libor HruškaPlaceno panáků",{"$f":"CONCATENATE(C12,\" \",C13)","v":"Libor Hruška"},{"$f":"Tabulka!B11","v":"Hruška"},"Placeno panáků",0,null,null,null,null,0,null,null,null,null,0,null,null,null,null,2,null,null,null,null,0,null,null,null,null,0,null,null,null,null,0,null,null,null,null,0,null,null,null,null,0,null,null,null,null,0,null,null,null,null,null,null,null,null,null,null,null,null,null,null,null,null,null,null,null,null,null,null,null,null,null,null,null,null,null,null,null,null,null,null,null,null,null,null,null,null,null,null,null,null,null,null,null,null,null,null,null,null,null,null,null,null,null,null,null,null,null,null,null,null,null,null,null,null,null,null,null,null,null,null,null,null,null,null,null,null,null,null,null,null,2]
["Libor HruškaPřehozy",{"$f":"CONCATENATE(C12,\" \",C13)","v":"Libor Hruška"},{"$f":"Tabulka!B12","v":0},"Přehozy",1,null,null,null,null,2,null,null,null,null,0,null,null,null,null,1,null,null,null,null,1,null,null,null,null,3,null,null,null,null,0,null,null,null,null,0,null,null,null,null,0,null,null,null,null,2,null,null,null,null,null,null,null,null,null,null,null,null,null,null,null,null,null,null,null,null,null,null,null,null,null,null,null,null,null,null,null,null,null,null,null,null,null,null,null,null,null,null,null,null,null,null,null,null,null,null,null,null,null,null,null,null,null,null,null,null,null,null,null,null,null,null,null,null,null,null,null,null,null,null,null,null,null,null,null,null,null,null,null,null,10]
["Libor HruškaPoč. kol",{"$f":"CONCATENATE(C12,\" \",C13)","v":"Libor Hruška"},{"$f":"Tabulka!B13","v":0},"Poč. kol",4,null,null,null,null,4,null,null,null,null,4,null,null,null,null,4,null,null,null,null,4,null,null,null,null,4,null,null,null,null,4,null,null,null,null,4,null,null,null,null,3,null,null,null,null,4,null,null,null,null,null,null,null,null,null,null,null,null,null,null,null,null,null,null,null,null,null,null,null,null,null,null,null,null,null,null,null,null,null,null,null,null,null,null,null,null,null,null,null,null,null,null,null,null,null,null,null,null,null,null,null,null,null,null,null,null,null,null,null,null,null,null,null,null,null,null,null,null,null,null,null,null,null,null,null,null,null,null,null,null,39]
["Libor HruškaPočet konečných bodů",{"$f":"CONCATENATE(C12,\" \",C13)","v":"Libor Hruška"},null,"Počet konečných bodů",19,45,98,0,null,0,0,25,0,null,0,16,70,74,null,140,0,56,182,null,118,178,33,21,null,33,74,3,67,null,85,0,11,90,null,71,108,41,33,null,26,0,23,null,null,16,22,23,28,null,null,null,null,null,null,null,null,null,null,null,null,null,null,null,null,null,null,null,null,null,null,null,null,null,null,null,null,null,null,null,null,null,null,null,null,null,null,null,null,null,null,null,null,null,null,null,null,null,null,null,null,null,null,null,null,null,null,null,null,null,null,null,null,null,null,null,null,null,null,null,null,null,null,null,null,null,null,null,null,null,1829]
["Libor HruškaPrůměr konečných bodů na kolo",{"$f":"CONCATENATE(C12,\" \",C13)","v":"Libor Hruška"},null,"Průměr konečných bodů na kolo",{"$f":"IF(E16<>\"\",AVERAGE($E16:E16)+$EI17,\"\")","v":19.000002179999999},{"$f":"IF(F16<>\"\",AVERAGE($E16:F16)+$EI17,\"\")","v":32.000002180000003},{"$f":"IF(G16<>\"\",AVERAGE($E16:G16)+$EI17,\"\")","v":54.000002180000003},{"$f":"IF(H16<>\"\",AVERAGE($E16:H16)+$EI17,\"\")","v":40.500002180000003},{"$f":"IF(I16<>\"\",AVERAGE($E16:I16)+$EI17,\"\")","v":""},{"$f":"IF(J16<>\"\",AVERAGE($E16:J16)+$EI17,\"\")","v":32.400002180000001},{"$f":"IF(K16<>\"\",AVERAGE($E16:K16)+$EI17,\"\")","v":27.000002179999999},{"$f":"IF(L16<>\"\",AVERAGE($E16:L16)+$EI17,\"\")","v":26.714287894285714},{"$f":"IF(M16<>\"\",AVERAGE($E16:M16)+$EI17,\"\")","v":23.375002179999999},{"$f":"IF(N16<>\"\",AVERAGE($E16:N16)+$EI17,\"\")","v":""},{"$f":"IF(O16<>\"\",AVERAGE($E16:O16)+$EI17,\"\")","v":20.777779957777778},{"$f":"IF(P16<>\"\",AVERAGE($E16:P16)+$EI17,\"\")","v":20.30000218},{"$f":"IF(Q16<>\"\",AVERAGE($E16:Q16)+$EI17,\"\")","v":24.818183998181816},{"$f":"IF(R16<>\"\",AVERAGE($E16:R16)+$EI17,\"\")","v":28.916668846666667},{"$f":"IF(S16<>\"\",AVERAGE($E16:S16)+$EI17,\"\")","v":""},{"$f":"IF(T16<>\"\",AVERAGE($E16:T16)+$EI17,\"\")","v":37.461540641538463},{"$f":"IF(U16<>\"\",AVERAGE($E16:U16)+$EI17,\"\")","v":34.785716465714287},{"$f":"IF(V16<>\"\",AVERAGE($E16:V16)+$EI17,\"\")","v":36.200002180000006},{"$f":"IF(W16<>\"\",AVERAGE($E16:W16)+$EI17,\"\")","v":45.312502180000003},{"$f":"IF(X16<>\"\",AVERAGE($E16:X16)+$EI17,\"\")","v":""},{"$f":"IF(Y16<>\"\",AVERAGE($E16:Y16)+$EI17,\"\")","v":49.588237474117648},{"$f":"IF(Z16<>\"\",AVERAGE($E16:Z16)+$EI17,\"\")","v":56.722224402222224},{"$f":"IF(AA16<>\"\",AVERAGE($E16:AA16)+$EI17,\"\")","v":55.473686390526318},{"$f":"IF(AB16<>\"\",AVERAGE($E16:AB16)+$EI17,\"\")","v":53.750002180000003},{"$f":"IF(AC16<>\"\",AVERAGE($E16:AC16)+$EI17,\"\")","v":""},{"$f":"IF(AD16<>\"\",AVERAGE($E16:AD16)+$EI17,\"\")","v":52.761906941904762},{"$f":"IF(AE16<>\"\",AVERAGE($E16:AE16)+$EI17,\"\")","v":53.727274907272729},{"$f":"IF(AF16<>\"\",AVERAGE($E16:AF16)+$EI17,\"\")","v":51.521741310434784},{"$f":"IF(AG16<>\"\",AVERAGE($E16:AG16)+$EI17,\"\")","v":52.166668846666667},{"$f":"IF(AH16<>\"\",AVERAGE($E16:AH16)+$EI17,\"\")","v":""},{"$f":"IF(AI16<>\"\",AVERAGE($E16:AI16)+$EI17,\"\")","v":53.48000218},{"$f":"IF(AJ16<>\"\",AVERAGE($E16:AJ16)+$EI17,\"\")","v":51.423079103076923},{"$f":"IF(AK16<>\"\",AVERAGE($E16:AK16)+$EI17,\"\")","v":49.925928105925927},{"$f":"IF(AL16<>\"\",AVERAGE($E16:AL16)+$EI17,\"\")","v":51.357145037142857},{"$f":"IF(AM16<>\"\",AVERAGE($E16:AM16)+$EI17,\"\")","v":""},{"$f":"IF(AN16<>\"\",AVERAGE($E16:AN16)+$EI17,\"\")","v":52.034484938620693},{"$f":"IF(AO16<>\"\",AVERAGE($E16:AO16)+$EI17,\"\")","v":53.900002180000001},{"$f":"IF(AP16<>\"\",AVERAGE($E16:AP16)+$EI17,\"\")","v":53.483873147741939},{"$f":"IF(AQ16<>\"\",AVERAGE($E16:AQ16)+$EI17,\"\")","v":52.843752180000003},{"$f":"IF(AR16<>\"\",AVERAGE($E16:AR16)+$EI17,\"\")","v":""},{"$f":"IF(AS16<>\"\",AVERAGE($E16:AS16)+$EI17,\"\")","v":52.030305210303034},{"$f":"IF(AT16<>\"\",AVERAGE($E16:AT16)+$EI17,\"\")","v":50.500002180000003},{"$f":"IF(AU16<>\"\",AVERAGE($E16:AU16)+$EI17,\"\")","v":49.714287894285718},{"$f":"IF(AV16<>\"\",AVERAGE($E16:AV16)+$EI17,\"\")","v":""},{"$f":"IF(AW16<>\"\",AVERAGE($E16:AW16)+$EI17,\"\")","v":""},{"$f":"IF(AX16<>\"\",AVERAGE($E16:AX16)+$EI17,\"\")","v":48.777779957777781},{"$f":"IF(AY16<>\"\",AVERAGE($E16:AY16)+$EI17,\"\")","v":48.054056234054059},{"$f":"IF(AZ16<>\"\",AVERAGE($E16:AZ16)+$EI17,\"\")","v":47.394739022105263},{"$f":"IF(BA16<>\"\",AVERAGE($E16:BA16)+$EI17,\"\")","v":46.897438077435901},{"$f":"IF(BB16<>\"\",AVERAGE($E16:BB16)+$EI17,\"\")","v":""},{"$f":"IF(BC16<>\"\",AVERAGE($E16:BC16)+$EI17,\"\")","v":""},{"$f":"IF(BD16<>\"\",AVERAGE($E16:BD16)+$EI17,\"\")","v":""},{"$f":"IF(BE16<>\"\",AVERAGE($E16:BE16)+$EI17,\"\")","v":""},{"$f":"IF(BF16<>\"\",AVERAGE($E16:BF16)+$EI17,\"\")","v":""},{"$f":"IF(BG16<>\"\",AVERAGE($E16:BG16)+$EI17,\"\")","v":""},{"$f":"IF(BH16<>\"\",AVERAGE($E16:BH16)+$EI17,\"\")","v":""},{"$f":"IF(BI16<>\"\",AVERAGE($E16:BI16)+$EI17,\"\")","v":""},{"$f":"IF(BJ16<>\"\",AVERAGE($E16:BJ16)+$EI17,\"\")","v":""},{"$f":"IF(BK16<>\"\",AVERAGE($E16:BK16)+$EI17,\"\")","v":""},{"$f":"IF(BL16<>\"\",AVERAGE($E16:BL16)+$EI17,\"\")","v":""},{"$f":"IF(BM16<>\"\",AVERAGE($E16:BM16)+$EI17,\"\")","v":""},{"$f":"IF(BN16<>\"\",AVERAGE($E16:BN16)+$EI17,\"\")","v":""},{"$f":"IF(BO16<>\"\",AVERAGE($E16:BO16)+$EI17,\"\")","v":""},{"$f":"IF(BP16<>\"\",AVERAGE($E16:BP16)+$EI17,\"\")","v":""},{"$f":"IF(BQ16<>\"\",AVERAGE($E16:BQ16)+$EI17,\"\")","v":""},{"$f":"IF(BR16<>\"\",AVERAGE($E16:BR16)+$EI17,\"\")","v":""},{"$f":"IF(BS16<>\"\",AVERAGE($E16:BS16)+$EI17,\"\")","v":""},{"$f":"IF(BT16<>\"\",AVERAGE($E16:BT16)+$EI17,\"\")","v":""},{"$f":"IF(BU16<>\"\",AVERAGE($E16:BU16)+$EI17,\"\")","v":""},{"$f":"IF(BV16<>\"\",AVERAGE($E16:BV16)+$EI17,\"\")","v":""},{"$f":"IF(BW16<>\"\",AVERAGE($E16:BW16)+$EI17,\"\")","v":""},{"$f":"IF(BX16<>\"\",AVERAGE($E16:BX16)+$EI17,\"\")","v":""},{"$f":"IF(BY16<>\"\",AVERAGE($E16:BY16)+$EI17,\"\")","v":""},{"$f":"IF(BZ16<>\"\",AVERAGE($E16:BZ16)+$EI17,\"\")","v":""},{"$f":"IF(CA16<>\"\",AVERAGE($E16:CA16)+$EI17,\"\")","v":""},{"$f":"IF(CB16<>\"\",AVERAGE($E16:CB16)+$EI17,\"\")","v":""},{"$f":"IF(CC16<>\"\",AVERAGE($E16:CC16)+$EI17,\"\")","v":""},{"$f":"IF(CD16<>\"\",AVERAGE($E16:CD16)+$EI17,\"\")","v":""},{"$f":"IF(CE16<>\"\",AVERAGE($E16:CE16)+$EI17,\"\")","v":""},{"$f":"IF(CF16<>\"\",AVERAGE($E16:CF16)+$EI17,\"\")","v":""},{"$f":"IF(CG16<>\"\",AVERAGE($E16:CG16)+$EI17,\"\")","v":""},{"$f":"IF(CH16<>\"\",AVERAGE($E16:CH16)+$EI17,\"\")","v":""},{"$f":"IF(CI16<>\"\",AVERAGE($E16:CI16)+$EI17,\"\")","v":""},{"$f":"IF(CJ16<>\"\",AVERAGE($E16:CJ16)+$EI17,\"\")","v":""},{"$f":"IF(CK16<>\"\",AVERAGE($E16:CK16)+$EI17,\"\")","v":""},{"$f":"IF(CL16<>\"\",AVERAGE($E16:CL16)+$EI17,\"\")","v":""},{"$f":"IF(CM16<>\"\",AVERAGE($E16:CM16)+$EI17,\"\")","v":""},{"$f":"IF(CN16<>\"\",AVERAGE($E16:CN16)+$EI17,\"\")","v":""},{"$f":"IF(CO16<>\"\",AVERAGE($E16:CO16)+$EI17,\"\")","v":""},{"$f":"IF(CP16<>\"\",AVERAGE($E16:CP16)+$EI17,\"\")","v":""},{"$f":"IF(CQ16<>\"\",AVERAGE($E16:CQ16)+$EI17,\"\")","v":""},{"$f":"IF(CR16<>\"\",AVERAGE($E16:CR16)+$EI17,\"\")","v":""},{"$f":"IF(CS16<>\"\",AVERAGE($E16:CS16)+$EI17,\"\")","v":""},{"$f":"IF(CT16<>\"\",AVERAGE($E16:CT16)+$EI17,\"\")","v":""},{"$f":"IF(CU16<>\"\",AVERAGE($E16:CU16)+$EI17,\"\")","v":""},{"$f":"IF(CV16<>\"\",AVERAGE($E16:CV16)+$EI17,\"\")","v":""},{"$f":"IF(CW16<>\"\",AVERAGE($E16:CW16)+$EI17,\"\")","v":""},{"$f":"IF(CX16<>\"\",AVERAGE($E16:CX16)+$EI17,\"\")","v":""},{"$f":"IF(CY16<>\"\",AVERAGE($E16:CY16)+$EI17,\"\")","v":""},{"$f":"IF(CZ16<>\"\",AVERAGE($E16:CZ16)+$EI17,\"\")","v":""},{"$f":"IF(DA16<>\"\",AVERAGE($E16:DA16)+$EI17,\"\")","v":""},{"$f":"IF(DB16<>\"\",AVERAGE($E16:DB16)+$EI17,\"\")","v":""},{"$f":"IF(DC16<>\"\",AVERAGE($E16:DC16)+$EI17,\"\")","v":""},{"$f":"IF(DD16<>\"\",AVERAGE($E16:DD16)+$EI17,\"\")","v":""},{"$f":"IF(DE16<>\"\",AVERAGE($E16:DE16)+$EI17,\"\")","v":""},{"$f":"IF(DF16<>\"\",AVERAGE($E16:DF16)+$EI17,\"\")","v":""},{"$f":"IF(DG16<>\"\",AVERAGE($E16:DG16)+$EI17,\"\")","v":""},{"$f":"IF(DH16<>\"\",AVERAGE($E16:DH16)+$EI17,\"\")","v":""},{"$f":"IF(DI16<>\"\",AVERAGE($E16:DI16)+$EI17,\"\")","v":""},{"$f":"IF(DJ16<>\"\",AVERAGE($E16:DJ16)+$EI17,\"\")","v":""},{"$f":"IF(DK16<>\"\",AVERAGE($E16:DK16)+$EI17,\"\")","v":""},{"$f":"IF(DL16<>\"\",AVERAGE($E16:DL16)+$EI17,\"\")","v":""},{"$f":"IF(DM16<>\"\",AVERAGE($E16:DM16)+$EI17,\"\")","v":""},{"$f":"IF(DN16<>\"\",AVERAGE($E16:DN16)+$EI17,\"\")","v":""},{"$f":"IF(DO16<>\"\",AVERAGE($E16:DO16)+$EI17,\"\")","v":""},{"$f":"IF(DP16<>\"\",AVERAGE($E16:DP16)+$EI17,\"\")","v":""},{"$f":"IF(DQ16<>\"\",AVERAGE($E16:DQ16)+$EI17,\"\")","v":""},{"$f":"IF(DR16<>\"\",AVERAGE($E16:DR16)+$EI17,\"\")","v":""},{"$f":"IF(DS16<>\"\",AVERAGE($E16:DS16)+$EI17,\"\")","v":""},{"$f":"IF(DT16<>\"\",AVERAGE($E16:DT16)+$EI17,\"\")","v":""},{"$f":"IF(DU16<>\"\",AVERAGE($E16:DU16)+$EI17,\"\")","v":""},{"$f":"IF(DV16<>\"\",AVERAGE($E16:DV16)+$EI17,\"\")","v":""},{"$f":"IF(DW16<>\"\",AVERAGE($E16:DW16)+$EI17,\"\")","v":""},{"$f":"IF(DX16<>\"\",AVERAGE($E16:DX16)+$EI17,\"\")","v":""},{"$f":"IF(DY16<>\"\",AVERAGE($E16:DY16)+$EI17,\"\")","v":""},{"$f":"IF(DZ16<>\"\",AVERAGE($E16:DZ16)+$EI17,\"\")","v":""},{"$f":"IF(EA16<>\"\",AVERAGE($E16:EA16)+$EI17,\"\")","v":""},{"$f":"IF(EB16<>\"\",AVERAGE($E16:EB16)+$EI17,\"\")","v":""},{"$f":"IF(EC16<>\"\",AVERAGE($E16:EC16)+$EI17,\"\")","v":""},{"$f":"IF(ED16<>\"\",AVERAGE($E16:ED16)+$EI17,\"\")","v":""},{"$f":"IF(SUM(Libor_Hruška)<1,-90000,EE16/COUNT(E16:ED16))","v":46.897435897435898},null,null,{"$f":"CONCATENATE(C12,\" \",C13)","v":"Libor Hruška"},{"$f":"INDEX(List4!$E$2:$E$17,MATCH(CONCATENATE(C12,\" \",C13),Tabulka1128[Jmeno_prijmeni],0),1)","v":2.1800000000000003E-6}]
["Libor HruškaPočet šipek",{"$f":"CONCATENATE(C12,\" \",C13)","v":"Libor Hruška"},null,"Počet šipek",null,null,null,null,null,null,null,null,null,null,null,null,null,null,null,null,null,null,null,null,null,null,null,null,null,null,null,null,null,null,null,null,null,null,null,null,null,null,null,null,null,null,null,null,null,null,null,null,null,null,null,null,null,null,null,null,null,null,null,null,null,null,null,null,null,null,null,null,null,null,null,null,null,null,null,null,null,null,null,null,null,null,null,null,null,null,null,null,null,null,null,null,null,null,null,null,null,null,null,null,null,null,null,null,null,null,null,null,null,null,null,null,null,null,null,null,null,null,null,null,null,null,null,null,null,null,null,null,null,null,{"$f":"IF(SUM(Libor_Hruška)<1,-90000,SUM(C18:ED18))","v":0}]
[{"$f":"CONCATENATE($C$20,\" \",$C$21,D19)","v":"Petr WeinerVýhry"},{"$f":"CONCATENATE(C20,\" \",C21)","v":"Petr Weiner"},{"$f":"Tabulka!B14","v":0},"Výhry",null,null,null,null,null,null,null,null,null,null,null,null,null,null,null,null,null,null,null,null,null,null,null,null,null,null,null,null,null,null,null,null,null,null,null,null,null,null,null,null,null,null,null,null,null,null,null,null,null,null,null,null,null,null,null,null,null,null,null,null,null,null,null,null,null,null,null,null,null,null,null,null,null,null,null,null,null,null,null,null,null,null,null,null,null,null,null,null,null,null,null,null,null,null,null,null,null,null,null,null,null,null,null,null,null,null,null,null,null,null,null,null,null,null,null,null,null,null,null,null,null,null,null,null,null,null,null,null,null,null,{"$f":"IF(OR(SUM(Petr_Weiner)<1),-90000,SUM(E19:ED19))","v":-90000}]
["Petr WeinerProhry","Petr Weiner",{"$f":"Tabulka!B15","v":"Petr"},"Prohry",null,null,null,null,null,null,null,null,null,null,null,null,null,null,null,null,null,null,null,null,null,null,null,null,null,null,null,null,null,null,null,null,null,null,null,null,null,null,null,null,null,null,null,null,null,null,null,null,null,null,null,null,null,null,null,null,null,null,null,null,null,null,null,null,null,null,null,null,null,null,null,null,null,null,null,null,null,null,null,null,null,null,null,null,null,null,null,null,null,null,null,null,null,null,null,null,null,null,null,null,null,null,null,null,null,null,null,null,null,null,null,null,null,null,null,null,null,null,null,null,null,null,null,null,null,null,null,null,null,null,-90000,{"$f":"SUM(EE19-EE20)","v":0}]
["Petr WeinerPlaceno panáků",{"$f":"CONCATENATE(C20,\" \",C21)","v":"Petr Weiner"},{"$f":"Tabulka!B16","v":"Weiner"},"Placeno panáků",null,null,null,null,null,null,null,null,null,null,null,null,null,null,null,null,null,null,null,null,null,null,null,null,null,null,null,null,null,null,null,null,null,null,null,null,null,null,null,null,null,null,null,null,null,null,null,null,null,null,null,null,null,null,null,null,null,null,null,null,null,null,null,null,null,null,null,null,null,null,null,null,null,null,null,null,null,null,null,null,null,null,null,null,null,null,null,null,null,null,null,null,null,null,null,null,null,null,null,null,null,null,null,null,null,null,null,null,null,null,null,null,null,null,null,null,null,null,null,null,null,null,null,null,null,null,null,null,null,null,-90000]
["Petr WeinerPřehozy",{"$f":"CONCATENATE(C20,\" \",C21)","v":"Petr Weiner"},{"$f":"Tabulka!B17","v":0},"Přehozy",null,null,null,null,null,null,null,null,null,null,null,null,null,null,null,null,null,null,null,null,null,null,null,null,null,null,null,null,null,null,null,null,null,null,null,null,null,null,null,null,null,null,null,null,null,null,null,null,null,null,null,null,null,null,null,null,null,null,null,null,null,null,null,null,null,null,null,null,null,null,null,null,null,null,null,null,null,null,null,null,null,null,null,null,null,null,null,null,null,null,null,null,null,null,null,null,null,null,null,null,null,null,null,null,null,null,null,null,null,null,null,null,null,null,null,null,null,null,null,null,null,null,null,null,null,null,null,null,null,null,-90000]
["Petr WeinerPoč. kol",{"$f":"CONCATENATE(C20,\" \",C21)","v":"Petr Weiner"},{"$f":"Tabulka!B18","v":0},"Poč. kol",null,null,null,null,null,null,null,null,null,null,null,null,null,null,null,null,null,null,null,null,null,null,null,null,null,null,null,null,null,null,null,null,null,null,null,null,null,null,null,null,null,null,null,null,null,null,null,null,null,null,null,null,null,null,null,null,null,null,null,null,null,null,null,null,null,null,null,null,null,null,null,null,null,null,null,null,null,null,null,null,null,null,null,null,null,null,null,null,null,null,null,null,null,null,null,null,null,null,null,null,null,null,null,null,null,null,null,null,null,null,null,null,null,null,null,null,null,null,null,null,null,null,null,null,null,null,null,null,null,null,-90000]
["Petr WeinerPočet konečných bodů",{"$f":"CONCATENATE(C20,\" \",C21)","v":"Petr Weiner"},null,"Počet konečných bodů",null,null,null,null,null,null,null,null,null,null,null,null,null,null,null,null,null,null,null,null,null,null,null,null,null,null,null,null,null,null,null,null,null,null,null,null,null,null,null,null,null,null,null,null,null,null,null,null,null,null,null,null,null,null,null,null,null,null,null,null,null,null,null,null,null,null,null,null,null,null,null,null,null,null,null,null,null,null,null,null,null,null,null,null,null,null,null,null,null,null,null,null,null,null,null,null,null,null,null,null,null,null,null,null,null,null,null,null,null,null,null,null,null,null,null,null,null,null,null,null,null,null,null,null,null,null,null,null,null,null,-90000]
["Petr WeinerPrůměr konečných bodů na kolo",{"$f":"CONCATENATE(C20,\" \",C21)","v":"Petr Weiner"},null,"Průměr konečných bodů na kolo",{"$f":"IF(E24<>\"\",AVERAGE($E24:E24)+$EI25,\"\")","v":""},{"$f":"IF(F24<>\"\",AVERAGE($E24:F24)+$EI25,\"\")","v":""},{"$f":"IF(G24<>\"\",AVERAGE($E24:G24)+$EI25,\"\")","v":""},{"$f":"IF(H24<>\"\",AVERAGE($E24:H24)+$EI25,\"\")","v":""},{"$f":"IF(I24<>\"\",AVERAGE($E24:I24)+$EI25,\"\")","v":""},{"$f":"IF(J24<>\"\",AVERAGE($E24:J24)+$EI25,\"\")","v":""},{"$f":"IF(K24<>\"\",AVERAGE($E24:K24)+$EI25,\"\")","v":""},{"$f":"IF(L24<>\"\",AVERAGE($E24:L24)+$EI25,\"\")","v":""},{"$f":"IF(M24<>\"\",AVERAGE($E24:M24)+$EI25,\"\")","v":""},{"$f":"IF(N24<>\"\",AVERAGE($E24:N24)+$EI25,\"\")","v":""},{"$f":"IF(O24<>\"\",AVERAGE($E24:O24)+$EI25,\"\")","v":""},{"$f":"IF(P24<>\"\",AVERAGE($E24:P24)+$EI25,\"\")","v":""},{"$f":"IF(Q24<>\"\",AVERAGE($E24:Q24)+$EI25,\"\")","v":""},{"$f":"IF(R24<>\"\",AVERAGE($E24:R24)+$EI25,\"\")","v":""},{"$f":"IF(S24<>\"\",AVERAGE($E24:S24)+$EI25,\"\")","v":""},{"$f":"IF(T24<>\"\",AVERAGE($E24:T24)+$EI25,\"\")","v":""},{"$f":"IF(U24<>\"\",AVERAGE($E24:U24)+$EI25,\"\")","v":""},{"$f":"IF(V24<>\"\",AVERAGE($E24:V24)+$EI25,\"\")","v":""},{"$f":"IF(W24<>\"\",AVERAGE($E24:W24)+$EI25,\"\")","v":""},{"$f":"IF(X24<>\"\",AVERAGE($E24:X24)+$EI25,\"\")","v":""},{"$f":"IF(Y24<>\"\",AVERAGE($E24:Y24)+$EI25,\"\")","v":""},{"$f":"IF(Z24<>\"\",AVERAGE($E24:Z24)+$EI25,\"\")","v":""},{"$f":"IF(AA24<>\"\",AVERAGE($E24:AA24)+$EI25,\"\")","v":""},{"$f":"IF(AB24<>\"\",AVERAGE($E24:AB24)+$EI25,\"\")","v":""},{"$f":"IF(AC24<>\"\",AVERAGE($E24:AC24)+$EI25,\"\")","v":""},{"$f":"IF(AD24<>\"\",AVERAGE($E24:AD24)+$EI25,\"\")","v":""},{"$f":"IF(AE24<>\"\",AVERAGE($E24:AE24)+$EI25,\"\")","v":""},{"$f":"IF(AF24<>\"\",AVERAGE($E24:AF24)+$EI25,\"\")","v":""},{"$f":"IF(AG24<>\"\",AVERAGE($E24:AG24)+$EI25,\"\")","v":""},{"$f":"IF(AH24<>\"\",AVERAGE($E24:AH24)+$EI25,\"\")","v":""},{"$f":"IF(AI24<>\"\",AVERAGE($E24:AI24)+$EI25,\"\")","v":""},{"$f":"IF(AJ24<>\"\",AVERAGE($E24:AJ24)+$EI25,\"\")","v":""},{"$f":"IF(AK24<>\"\",AVERAGE($E24:AK24)+$EI25,\"\")","v":""},{"$f":"IF(AL24<>\"\",AVERAGE($E24:AL24)+$EI25,\"\")","v":""},{"$f":"IF(AM24<>\"\",AVERAGE($E24:AM24)+$EI25,\"\")","v":""},{"$f":"IF(AN24<>\"\",AVERAGE($E24:AN24)+$EI25,\"\")","v":""},{"$f":"IF(AO24<>\"\",AVERAGE($E24:AO24)+$EI25,\"\")","v":""},{"$f":"IF(AP24<>\"\",AVERAGE($E24:AP24)+$EI25,\"\")","v":""},{"$f":"IF(AQ24<>\"\",AVERAGE($E24:AQ24)+$EI25,\"\")","v":""},{"$f":"IF(AR24<>\"\",AVERAGE($E24:AR24)+$EI25,\"\")","v":""},{"$f":"IF(AS24<>\"\",AVERAGE($E24:AS24)+$EI25,\"\")","v":""},{"$f":"IF(AT24<>\"\",AVERAGE($E24:AT24)+$EI25,\"\")","v":""},{"$f":"IF(AU24<>\"\",AVERAGE($E24:AU24)+$EI25,\"\")","v":""},{"$f":"IF(AV24<>\"\",AVERAGE($E24:AV24)+$EI25,\"\")","v":""},{"$f":"IF(AW24<>\"\",AVERAGE($E24:AW24)+$EI25,\"\")","v":""},{"$f":"IF(AX24<>\"\",AVERAGE($E24:AX24)+$EI25,\"\")","v":""},{"$f":"IF(AY24<>\"\",AVERAGE($E24:AY24)+$EI25,\"\")","v":""},{"$f":"IF(AZ24<>\"\",AVERAGE($E24:AZ24)+$EI25,\"\")","v":""},{"$f":"IF(BA24<>\"\",AVERAGE($E24:BA24)+$EI25,\"\")","v":""},{"$f":"IF(BB24<>\"\",AVERAGE($E24:BB24)+$EI25,\"\")","v":""},{"$f":"IF(BC24<>\"\",AVERAGE($E24:BC24)+$EI25,\"\")","v":""},{"$f":"IF(BD24<>\"\",AVERAGE($E24:BD24)+$EI25,\"\")","v":""},{"$f":"IF(BE24<>\"\",AVERAGE($E24:BE24)+$EI25,\"\")","v":""},{"$f":"IF(BF24<>\"\",AVERAGE($E24:BF24)+$EI25,\"\")","v":""},{"$f":"IF(BG24<>\"\",AVERAGE($E24:BG24)+$EI25,\"\")","v":""},{"$f":"IF(BH24<>\"\",AVERAGE($E24:BH24)+$EI25,\"\")","v":""},{"$f":"IF(BI24<>\"\",AVERAGE($E24:BI24)+$EI25,\"\")","v":""},{"$f":"IF(BJ24<>\"\",AVERAGE($E24:BJ24)+$EI25,\"\")","v":""},{"$f":"IF(BK24<>\"\",AVERAGE($E24:BK24)+$EI25,\"\")","v":""},{"$f":"IF(BL24<>\"\",AVERAGE($E24:BL24)+$EI25,\"\")","v":""},{"$f":"IF(BM24<>\"\",AVERAGE($E24:BM24)+$EI25,\"\")","v":""},{"$f":"IF(BN24<>\"\",AVERAGE($E24:BN24)+$EI25,\"\")","v":""},{"$f":"IF(BO24<>\"\",AVERAGE($E24:BO24)+$EI25,\"\")","v":""},{"$f":"IF(BP24<>\"\",AVERAGE($E24:BP24)+$EI25,\"\")","v":""},{"$f":"IF(BQ24<>\"\",AVERAGE($E24:BQ24)+$EI25,\"\")","v":""},{"$f":"IF(BR24<>\"\",AVERAGE($E24:BR24)+$EI25,\"\")","v":""},{"$f":"IF(BS24<>\"\",AVERAGE($E24:BS24)+$EI25,\"\")","v":""},{"$f":"IF(BT24<>\"\",AVERAGE($E24:BT24)+$EI25,\"\")","v":""},{"$f":"IF(BU24<>\"\",AVERAGE($E24:BU24)+$EI25,\"\")","v":""},{"$f":"IF(BV24<>\"\",AVERAGE($E24:BV24)+$EI25,\"\")","v":""},{"$f":"IF(BW24<>\"\",AVERAGE($E24:BW24)+$EI25,\"\")","v":""},{"$f":"IF(BX24<>\"\",AVERAGE($E24:BX24)+$EI25,\"\")","v":""},{"$f":"IF(BY24<>\"\",AVERAGE($E24:BY24)+$EI25,\"\")","v":""},{"$f":"IF(BZ24<>\"\",AVERAGE($E24:BZ24)+$EI25,\"\")","v":""},{"$f":"IF(CA24<>\"\",AVERAGE($E24:CA24)+$EI25,\"\")","v":""},{"$f":"IF(CB24<>\"\",AVERAGE($E24:CB24)+$EI25,\"\")","v":""},{"$f":"IF(CC24<>\"\",AVERAGE($E24:CC24)+$EI25,\"\")","v":""},{"$f":"IF(CD24<>\"\",AVERAGE($E24:CD24)+$EI25,\"\")","v":""},{"$f":"IF(CE24<>\"\",AVERAGE($E24:CE24)+$EI25,\"\")","v":""},{"$f":"IF(CF24<>\"\",AVERAGE($E24:CF24)+$EI25,\"\")","v":""},{"$f":"IF(CG24<>\"\",AVERAGE($E24:CG24)+$EI25,\"\")","v":""},{"$f":"IF(CH24<>\"\",AVERAGE($E24:CH24)+$EI25,\"\")","v":""},{"$f":"IF(CI24<>\"\",AVERAGE($E24:CI24)+$EI25,\"\")","v":""},{"$f":"IF(CJ24<>\"\",AVERAGE($E24:CJ24)+$EI25,\"\")","v":""},{"$f":"IF(CK24<>\"\",AVERAGE($E24:CK24)+$EI25,\"\")","v":""},{"$f":"IF(CL24<>\"\",AVERAGE($E24:CL24)+$EI25,\"\")","v":""},{"$f":"IF(CM24<>\"\",AVERAGE($E24:CM24)+$EI25,\"\")","v":""},{"$f":"IF(CN24<>\"\",AVERAGE($E24:CN24)+$EI25,\"\")","v":""},{"$f":"IF(CO24<>\"\",AVERAGE($E24:CO24)+$EI25,\"\")","v":""},{"$f":"IF(CP24<>\"\",AVERAGE($E24:CP24)+$EI25,\"\")","v":""},{"$f":"IF(CQ24<>\"\",AVERAGE($E24:CQ24)+$EI25,\"\")","v":""},{"$f":"IF(CR24<>\"\",AVERAGE($E24:CR24)+$EI25,\"\")","v":""},{"$f":"IF(CS24<>\"\",AVERAGE($E24:CS24)+$EI25,\"\")","v":""},{"$f":"IF(CT24<>\"\",AVERAGE($E24:CT24)+$EI25,\"\")","v":""},{"$f":"IF(CU24<>\"\",AVERAGE($E24:CU24)+$EI25,\"\")","v":""},{"$f":"IF(CV24<>\"\",AVERAGE($E24:CV24)+$EI25,\"\")","v":""},{"$f":"IF(CW24<>\"\",AVERAGE($E24:CW24)+$EI25,\"\")","v":""},{"$f":"IF(CX24<>\"\",AVERAGE($E24:CX24)+$EI25,\"\")","v":""},{"$f":"IF(CY24<>\"\",AVERAGE($E24:CY24)+$EI25,\"\")","v":""},{"$f":"IF(CZ24<>\"\",AVERAGE($E24:CZ24)+$EI25,\"\")","v":""},{"$f":"IF(DA24<>\"\",AVERAGE($E24:DA24)+$EI25,\"\")","v":""},{"$f":"IF(DB24<>\"\",AVERAGE($E24:DB24)+$EI25,\"\")","v":""},{"$f":"IF(DC24<>\"\",AVERAGE($E24:DC24)+$EI25,\"\")","v":""},{"$f":"IF(DD24<>\"\",AVERAGE($E24:DD24)+$EI25,\"\")","v":""},{"$f":"IF(DE24<>\"\",AVERAGE($E24:DE24)+$EI25,\"\")","v":""},{"$f":"IF(DF24<>\"\",AVERAGE($E24:DF24)+$EI25,\"\")","v":""},{"$f":"IF(DG24<>\"\",AVERAGE($E24:DG24)+$EI25,\"\")","v":""},{"$f":"IF(DH24<>\"\",AVERAGE($E24:DH24)+$EI25,\"\")","v":""},{"$f":"IF(DI24<>\"\",AVERAGE($E24:DI24)+$EI25,\"\")","v":""},{"$f":"IF(DJ24<>\"\",AVERAGE($E24:DJ24)+$EI25,\"\")","v":""},{"$f":"IF(DK24<>\"\",AVERAGE($E24:DK24)+$EI25,\"\")","v":""},{"$f":"IF(DL24<>\"\",AVERAGE($E24:DL24)+$EI25,\"\")","v":""},{"$f":"IF(DM24<>\"\",AVERAGE($E24:DM24)+$EI25,\"\")","v":""},{"$f":"IF(DN24<>\"\",AVERAGE($E24:DN24)+$EI25,\"\")","v":""},{"$f":"IF(DO24<>\"\",AVERAGE($E24:DO24)+$EI25,\"\")","v":""},{"$f":"IF(DP24<>\"\",AVERAGE($E24:DP24)+$EI25,\"\")","v":""},{"$f":"IF(DQ24<>\"\",AVERAGE($E24:DQ24)+$EI25,\"\")","v":""},{"$f":"IF(DR24<>\"\",AVERAGE($E24:DR24)+$EI25,\"\")","v":""},{"$f":"IF(DS24<>\"\",AVERAGE($E24:DS24)+$EI25,\"\")","v":""},{"$f":"IF(DT24<>\"\",AVERAGE($E24:DT24)+$EI25,\"\")","v":""},{"$f":"IF(DU24<>\"\",AVERAGE($E24:DU24)+$EI25,\"\")","v":""},{"$f":"IF(DV24<>\"\",AVERAGE($E24:DV24)+$EI25,\"\")","v":""},{"$f":"IF(DW24<>\"\",AVERAGE($E24:DW24)+$EI25,\"\")","v":""},{"$f":"IF(DX24<>\"\",AVERAGE($E24:DX24)+$EI25,\"\")","v":""},{"$f":"IF(DY24<>\"\",AVERAGE($E24:DY24)+$EI25,\"\")","v":""},{"$f":"IF(DZ24<>\"\",AVERAGE($E24:DZ24)+$EI25,\"\")","v":""},{"$f":"IF(EA24<>\"\",AVERAGE($E24:EA24)+$EI25,\"\")","v":""},{"$f":"IF(EB24<>\"\",AVERAGE($E24:EB24)+$EI25,\"\")","v":""},{"$f":"IF(EC24<>\"\",AVERAGE($E24:EC24)+$EI25,\"\")","v":""},{"$f":"IF(ED24<>\"\",AVERAGE($E24:ED24)+$EI25,\"\")","v":""},{"$f":"IF(OR(SUM(Petr_Weiner)<1),-90000,EE24/COUNT(E24:ED24))","v":-90000},null,null,{"$f":"CONCATENATE(C20,\" \",C21)","v":"Petr Weiner"},{"$f":"INDEX(List4!$E$2:$E$17,MATCH(CONCATENATE(C20,\" \",C21),Tabulka1128[Jmeno_prijmeni],0),1)","v":2.0600000000000015E-6}]
["Petr WeinerPočet šipek",{"$f":"CONCATENATE(C20,\" \",C21)","v":"Petr Weiner"},null,"Počet šipek",null,null,null,null,null,null,null,null,null,null,null,null,null,null,null,null,null,null,null,null,null,null,null,null,null,null,null,null,null,null,null,null,null,null,null,null,null,null,null,null,null,null,null,null,null,null,null,null,null,null,null,null,null,null,null,null,null,null,null,null,null,null,null,null,null,null,null,null,null,null,null,null,null,null,null,null,null,null,null,null,null,null,null,null,null,null,null,null,null,null,null,null,null,null,null,null,null,null,null,null,null,null,null,null,null,null,null,null,null,null,null,null,null,null,null,null,null,null,null,null,null,null,null,null,null,null,null,null,null,null,{"$f":"IF(OR(SUM(Petr_Weiner)<1),-90000,SUM(E26:ED26))","v":-90000}]
[{"$f":"CONCATENATE($C$28,\" \",$C$29,D27)","v":"Pavel PernekrVýhry"},{"$f":"CONCATENATE(C28,\" \",C29)","v":"Pavel Pernekr"},{"$f":"Tabulka!B19","v":0},"Výhry",null,null,null,null,null,null,null,null,null,null,null,null,null,null,null,null,null,null,null,null,null,null,null,null,null,null,null,null,null,null,null,null,null,null,null,null,null,null,null,null,null,null,null,null,null,null,null,null,null,null,null,null,null,null,null,null,null,null,null,null,null,null,null,null,null,null,null,null,null,null,null,null,null,null,null,null,null,null,null,null,null,null,null,null,null,null,null,null,null,null,null,null,null,null,null,null,null,null,null,null,null,null,null,null,null,null,null,null,null,null,null,null,null,null,null,null,null,null,null,null,null,null,null,null,null,null,null,null,null,null,{"$f":"IF(SUM(Pavel_Pernekr)<1,-90000,SUM(C27:ED27))","v":-90000}]
["Pavel PernekrProhry","Pavel Pernekr",{"$f":"Tabulka!B20","v":"Pavel"},"Prohry",null,null,null,null,null,null,null,null,null,null,null,null,null,null,null,null,null,null,null,null,null,null,null,null,null,null,null,null,null,null,null,null,null,null,null,null,null,null,null,null,null,null,null,null,null,null,null,null,null,null,null,null,null,null,null,null,null,null,null,null,null,null,null,null,null,null,null,null,null,null,null,null,null,null,null,null,null,null,null,null,null,null,null,null,null,null,null,null,null,null,null,null,null,null,null,null,null,null,null,null,null,null,null,null,null,null,null,null,null,null,null,null,null,null,null,null,null,null,null,null,null,null,null,null,null,null,null,null,null,null,-90000,{"$f":"SUM(EE27-EE28)","v":0}]
["Pavel PernekrPlaceno panáků",{"$f":"CONCATENATE(C28,\" \",C29)","v":"Pavel Pernekr"},{"$f":"Tabulka!B21","v":"Pernekr"},"Placeno panáků",null,null,null,null,null,null,null,null,null,null,null,null,null,null,null,null,null,null,null,null,null,null,null,null,null,null,null,null,null,null,null,null,null,null,null,null,null,null,null,null,null,null,null,null,null,null,null,null,null,null,null,null,null,null,null,null,null,null,null,null,null,null,null,null,null,null,null,null,null,null,null,null,null,null,null,null,null,null,null,null,null,null,null,null,null,null,null,null,null,null,null,null,null,null,null,null,null,null,null,null,null,null,null,null,null,null,null,null,null,null,null,null,null,null,null,null,null,null,null,null,null,null,null,null,null,null,null,null,null,null,-90000]
["Pavel PernekrPřehozy",{"$f":"CONCATENATE(C28,\" \",C29)","v":"Pavel Pernekr"},{"$f":"Tabulka!B22","v":0},"Přehozy",null,null,null,null,null,null,null,null,null,null,null,null,null,null,null,null,null,null,null,null,null,null,null,null,null,null,null,null,null,null,null,null,null,null,null,null,null,null,null,null,null,null,null,null,null,null,null,null,null,null,null,null,null,null,null,null,null,null,null,null,null,null,null,null,null,null,null,null,null,null,null,null,null,null,null,null,null,null,null,null,null,null,null,null,null,null,null,null,null,null,null,null,null,null,null,null,null,null,null,null,null,null,null,null,null,null,null,null,null,null,null,null,null,null,null,null,null,null,null,null,null,null,null,null,null,null,null,null,null,null,-90000]
["Pavel PernekrPoč. kol",{"$f":"CONCATENATE(C28,\" \",C29)","v":"Pavel Pernekr"},{"$f":"Tabulka!B23","v":0},"Poč. kol",null,null,null,null,null,null,null,null,null,null,null,null,null,null,null,null,null,null,null,null,null,null,null,null,null,null,null,null,null,null,null,null,null,null,null,null,null,null,null,null,null,null,null,null,null,null,null,null,null,null,null,null,null,null,null,null,null,null,null,null,null,null,null,null,null,null,null,null,null,null,null,null,null,null,null,null,null,null,null,null,null,null,null,null,null,null,null,null,null,null,null,null,null,null,null,null,null,null,null,null,null,null,null,null,null,null,null,null,null,null,null,null,null,null,null,null,null,null,null,null,null,null,null,null,null,null,null,null,null,null,-90000]
["Pavel PernekrPočet konečných bodů",{"$f":"CONCATENATE(C28,\" \",C29)","v":"Pavel Pernekr"},null,"Počet konečných bodů",null,null,null,null,null,null,null,null,null,null,null,null,null,null,null,null,null,null,null,null,null,null,null,null,null,null,null,null,null,null,null,null,null,null,null,null,null,null,null,null,null,null,null,null,null,null,null,null,null,null,null,null,null,null,null,null,null,null,null,null,null,null,null,null,null,null,null,null,null,null,null,null,null,null,null,null,null,null,null,null,null,null,null,null,null,null,null,null,null,null,null,null,null,null,null,null,null,null,null,null,null,null,null,null,null,null,null,null,null,null,null,null,null,null,null,null,null,null,null,null,null,null,null,null,null,null,null,null,null,null,-90000]
["Pavel PernekrPrůměr konečných bodů na kolo",{"$f":"CONCATENATE(C28,\" \",C29)","v":"Pavel Pernekr"},null,"Průměr konečných bodů na kolo",{"$f":"IF(E32<>\"\",AVERAGE($E32:E32)+$EI33,\"\")","v":""},{"$f":"IF(F32<>\"\",AVERAGE($E32:F32)+$EI33,\"\")","v":""},{"$f":"IF(G32<>\"\",AVERAGE($E32:G32)+$EI33,\"\")","v":""},{"$f":"IF(H32<>\"\",AVERAGE($E32:H32)+$EI33,\"\")","v":""},{"$f":"IF(I32<>\"\",AVERAGE($E32:I32)+$EI33,\"\")","v":""},{"$f":"IF(J32<>\"\",AVERAGE($E32:J32)+$EI33,\"\")","v":""},{"$f":"IF(K32<>\"\",AVERAGE($E32:K32)+$EI33,\"\")","v":""},{"$f":"IF(L32<>\"\",AVERAGE($E32:L32)+$EI33,\"\")","v":""},{"$f":"IF(M32<>\"\",AVERAGE($E32:M32)+$EI33,\"\")","v":""},{"$f":"IF(N32<>\"\",AVERAGE($E32:N32)+$EI33,\"\")","v":""},{"$f":"IF(O32<>\"\",AVERAGE($E32:O32)+$EI33,\"\")","v":""},{"$f":"IF(P32<>\"\",AVERAGE($E32:P32)+$EI33,\"\")","v":""},{"$f":"IF(Q32<>\"\",AVERAGE($E32:Q32)+$EI33,\"\")","v":""},{"$f":"IF(R32<>\"\",AVERAGE($E32:R32)+$EI33,\"\")","v":""},{"$f":"IF(S32<>\"\",AVERAGE($E32:S32)+$EI33,\"\")","v":""},{"$f":"IF(T32<>\"\",AVERAGE($E32:T32)+$EI33,\"\")","v":""},{"$f":"IF(U32<>\"\",AVERAGE($E32:U32)+$EI33,\"\")","v":""},{"$f":"IF(V32<>\"\",AVERAGE($E32:V32)+$EI33,\"\")","v":""},{"$f":"IF(W32<>\"\",AVERAGE($E32:W32)+$EI33,\"\")","v":""},{"$f":"IF(X32<>\"\",AVERAGE($E32:X32)+$EI33,\"\")","v":""},{"$f":"IF(Y32<>\"\",AVERAGE($E32:Y32)+$EI33,\"\")","v":""},{"$f":"IF(Z32<>\"\",AVERAGE($E32:Z32)+$EI33,\"\")","v":""},{"$f":"IF(AA32<>\"\",AVERAGE($E32:AA32)+$EI33,\"\")","v":""},{"$f":"IF(AB32<>\"\",AVERAGE($E32:AB32)+$EI33,\"\")","v":""},{"$f":"IF(AC32<>\"\",AVERAGE($E32:AC32)+$EI33,\"\")","v":""},{"$f":"IF(AD32<>\"\",AVERAGE($E32:AD32)+$EI33,\"\")","v":""},{"$f":"IF(AE32<>\"\",AVERAGE($E32:AE32)+$EI33,\"\")","v":""},{"$f":"IF(AF32<>\"\",AVERAGE($E32:AF32)+$EI33,\"\")","v":""},{"$f":"IF(AG32<>\"\",AVERAGE($E32:AG32)+$EI33,\"\")","v":""},{"$f":"IF(AH32<>\"\",AVERAGE($E32:AH32)+$EI33,\"\")","v":""},{"$f":"IF(AI32<>\"\",AVERAGE($E32:AI32)+$EI33,\"\")","v":""},{"$f":"IF(AJ32<>\"\",AVERAGE($E32:AJ32)+$EI33,\"\")","v":""},{"$f":"IF(AK32<>\"\",AVERAGE($E32:AK32)+$EI33,\"\")","v":""},{"$f":"IF(AL32<>\"\",AVERAGE($E32:AL32)+$EI33,\"\")","v":""},{"$f":"IF(AM32<>\"\",AVERAGE($E32:AM32)+$EI33,\"\")","v":""},{"$f":"IF(AN32<>\"\",AVERAGE($E32:AN32)+$EI33,\"\")","v":""},{"$f":"IF(AO32<>\"\",AVERAGE($E32:AO32)+$EI33,\"\")","v":""},{"$f":"IF(AP32<>\"\",AVERAGE($E32:AP32)+$EI33,\"\")","v":""},{"$f":"IF(AQ32<>\"\",AVERAGE($E32:AQ32)+$EI33,\"\")","v":""},{"$f":"IF(AR32<>\"\",AVERAGE($E32:AR32)+$EI33,\"\")","v":""},{"$f":"IF(AS32<>\"\",AVERAGE($E32:AS32)+$EI33,\"\")","v":""},{"$f":"IF(AT32<>\"\",AVERAGE($E32:AT32)+$EI33,\"\")","v":""},{"$f":"IF(AU32<>\"\",AVERAGE($E32:AU32)+$EI33,\"\")","v":""},{"$f":"IF(AV32<>\"\",AVERAGE($E32:AV32)+$EI33,\"\")","v":""},{"$f":"IF(AW32<>\"\",AVERAGE($E32:AW32)+$EI33,\"\")","v":""},{"$f":"IF(AX32<>\"\",AVERAGE($E32:AX32)+$EI33,\"\")","v":""},{"$f":"IF(AY32<>\"\",AVERAGE($E32:AY32)+$EI33,\"\")","v":""},{"$f":"IF(AZ32<>\"\",AVERAGE($E32:AZ32)+$EI33,\"\")","v":""},{"$f":"IF(BA32<>\"\",AVERAGE($E32:BA32)+$EI33,\"\")","v":""},{"$f":"IF(BB32<>\"\",AVERAGE($E32:BB32)+$EI33,\"\")","v":""},{"$f":"IF(BC32<>\"\",AVERAGE($E32:BC32)+$EI33,\"\")","v":""},{"$f":"IF(BD32<>\"\",AVERAGE($E32:BD32)+$EI33,\"\")","v":""},{"$f":"IF(BE32<>\"\",AVERAGE($E32:BE32)+$EI33,\"\")","v":""},{"$f":"IF(BF32<>\"\",AVERAGE($E32:BF32)+$EI33,\"\")","v":""},{"$f":"IF(BG32<>\"\",AVERAGE($E32:BG32)+$EI33,\"\")","v":""},{"$f":"IF(BH32<>\"\",AVERAGE($E32:BH32)+$EI33,\"\")","v":""},{"$f":"IF(BI32<>\"\",AVERAGE($E32:BI32)+$EI33,\"\")","v":""},{"$f":"IF(BJ32<>\"\",AVERAGE($E32:BJ32)+$EI33,\"\")","v":""},{"$f":"IF(BK32<>\"\",AVERAGE($E32:BK32)+$EI33,\"\")","v":""},{"$f":"IF(BL32<>\"\",AVERAGE($E32:BL32)+$EI33,\"\")","v":""},{"$f":"IF(BM32<>\"\",AVERAGE($E32:BM32)+$EI33,\"\")","v":""},{"$f":"IF(BN32<>\"\",AVERAGE($E32:BN32)+$EI33,\"\")","v":""},{"$f":"IF(BO32<>\"\",AVERAGE($E32:BO32)+$EI33,\"\")","v":""},{"$f":"IF(BP32<>\"\",AVERAGE($E32:BP32)+$EI33,\"\")","v":""},{"$f":"IF(BQ32<>\"\",AVERAGE($E32:BQ32)+$EI33,\"\")","v":""},{"$f":"IF(BR32<>\"\",AVERAGE($E32:BR32)+$EI33,\"\")","v":""},{"$f":"IF(BS32<>\"\",AVERAGE($E32:BS32)+$EI33,\"\")","v":""},{"$f":"IF(BT32<>\"\",AVERAGE($E32:BT32)+$EI33,\"\")","v":""},{"$f":"IF(BU32<>\"\",AVERAGE($E32:BU32)+$EI33,\"\")","v":""},{"$f":"IF(BV32<>\"\",AVERAGE($E32:BV32)+$EI33,\"\")","v":""},{"$f":"IF(BW32<>\"\",AVERAGE($E32:BW32)+$EI33,\"\")","v":""},{"$f":"IF(BX32<>\"\",AVERAGE($E32:BX32)+$EI33,\"\")","v":""},{"$f":"IF(BY32<>\"\",AVERAGE($E32:BY32)+$EI33,\"\")","v":""},{"$f":"IF(BZ32<>\"\",AVERAGE($E32:BZ32)+$EI33,\"\")","v":""},{"$f":"IF(CA32<>\"\",AVERAGE($E32:CA32)+$EI33,\"\")","v":""},{"$f":"IF(CB32<>\"\",AVERAGE($E32:CB32)+$EI33,\"\")","v":""},{"$f":"IF(CC32<>\"\",AVERAGE($E32:CC32)+$EI33,\"\")","v":""},{"$f":"IF(CD32<>\"\",AVERAGE($E32:CD32)+$EI33,\"\")","v":""},{"$f":"IF(CE32<>\"\",AVERAGE($E32:CE32)+$EI33,\"\")","v":""},{"$f":"IF(CF32<>\"\",AVERAGE($E32:CF32)+$EI33,\"\")","v":""},{"$f":"IF(CG32<>\"\",AVERAGE($E32:CG32)+$EI33,\"\")","v":""},{"$f":"IF(CH32<>\"\",AVERAGE($E32:CH32)+$EI33,\"\")","v":""},{"$f":"IF(CI32<>\"\",AVERAGE($E32:CI32)+$EI33,\"\")","v":""},{"$f":"IF(CJ32<>\"\",AVERAGE($E32:CJ32)+$EI33,\"\")","v":""},{"$f":"IF(CK32<>\"\",AVERAGE($E32:CK32)+$EI33,\"\")","v":""},{"$f":"IF(CL32<>\"\",AVERAGE($E32:CL32)+$EI33,\"\")","v":""},{"$f":"IF(CM32<>\"\",AVERAGE($E32:CM32)+$EI33,\"\")","v":""},{"$f":"IF(CN32<>\"\",AVERAGE($E32:CN32)+$EI33,\"\")","v":""},{"$f":"IF(CO32<>\"\",AVERAGE($E32:CO32)+$EI33,\"\")","v":""},{"$f":"IF(CP32<>\"\",AVERAGE($E32:CP32)+$EI33,\"\")","v":""},{"$f":"IF(CQ32<>\"\",AVERAGE($E32:CQ32)+$EI33,\"\")","v":""},{"$f":"IF(CR32<>\"\",AVERAGE($E32:CR32)+$EI33,\"\")","v":""},{"$f":"IF(CS32<>\"\",AVERAGE($E32:CS32)+$EI33,\"\")","v":""},{"$f":"IF(CT32<>\"\",AVERAGE($E32:CT32)+$EI33,\"\")","v":""},{"$f":"IF(CU32<>\"\",AVERAGE($E32:CU32)+$EI33,\"\")","v":""},{"$f":"IF(CV32<>\"\",AVERAGE($E32:CV32)+$EI33,\"\")","v":""},{"$f":"IF(CW32<>\"\",AVERAGE($E32:CW32)+$EI33,\"\")","v":""},{"$f":"IF(CX32<>\"\",AVERAGE($E32:CX32)+$EI33,\"\")","v":""},{"$f":"IF(CY32<>\"\",AVERAGE($E32:CY32)+$EI33,\"\")","v":""},{"$f":"IF(CZ32<>\"\",AVERAGE($E32:CZ32)+$EI33,\"\")","v":""},{"$f":"IF(DA32<>\"\",AVERAGE($E32:DA32)+$EI33,\"\")","v":""},{"$f":"IF(DB32<>\"\",AVERAGE($E32:DB32)+$EI33,\"\")","v":""},{"$f":"IF(DC32<>\"\",AVERAGE($E32:DC32)+$EI33,\"\")","v":""},{"$f":"IF(DD32<>\"\",AVERAGE($E32:DD32)+$EI33,\"\")","v":""},{"$f":"IF(DE32<>\"\",AVERAGE($E32:DE32)+$EI33,\"\")","v":""},{"$f":"IF(DF32<>\"\",AVERAGE($E32:DF32)+$EI33,\"\")","v":""},{"$f":"IF(DG32<>\"\",AVERAGE($E32:DG32)+$EI33,\"\")","v":""},{"$f":"IF(DH32<>\"\",AVERAGE($E32:DH32)+$EI33,\"\")","v":""},{"$f":"IF(DI32<>\"\",AVERAGE($E32:DI32)+$EI33,\"\")","v":""},{"$f":"IF(DJ32<>\"\",AVERAGE($E32:DJ32)+$EI33,\"\")","v":""},{"$f":"IF(DK32<>\"\",AVERAGE($E32:DK32)+$EI33,\"\")","v":""},{"$f":"IF(DL32<>\"\",AVERAGE($E32:DL32)+$EI33,\"\")","v":""},{"$f":"IF(DM32<>\"\",AVERAGE($E32:DM32)+$EI33,\"\")","v":""},{"$f":"IF(DN32<>\"\",AVERAGE($E32:DN32)+$EI33,\"\")","v":""},{"$f":"IF(DO32<>\"\",AVERAGE($E32:DO32)+$EI33,\"\")","v":""},{"$f":"IF(DP32<>\"\",AVERAGE($E32:DP32)+$EI33,\"\")","v":""},{"$f":"IF(DQ32<>\"\",AVERAGE($E32:DQ32)+$EI33,\"\")","v":""},{"$f":"IF(DR32<>\"\",AVERAGE($E32:DR32)+$EI33,\"\")","v":""},{"$f":"IF(DS32<>\"\",AVERAGE($E32:DS32)+$EI33,\"\")","v":""},{"$f":"IF(DT32<>\"\",AVERAGE($E32:DT32)+$EI33,\"\")","v":""},{"$f":"IF(DU32<>\"\",AVERAGE($E32:DU32)+$EI33,\"\")","v":""},{"$f":"IF(DV32<>\"\",AVERAGE($E32:DV32)+$EI33,\"\")","v":""},{"$f":"IF(DW32<>\"\",AVERAGE($E32:DW32)+$EI33,\"\")","v":""},{"$f":"IF(DX32<>\"\",AVERAGE($E32:DX32)+$EI33,\"\")","v":""},{"$f":"IF(DY32<>\"\",AVERAGE($E32:DY32)+$EI33,\"\")","v":""},{"$f":"IF(DZ32<>\"\",AVERAGE($E32:DZ32)+$EI33,\"\")","v":""},{"$f":"IF(EA32<>\"\",AVERAGE($E32:EA32)+$EI33,\"\")","v":""},{"$f":"IF(EB32<>\"\",AVERAGE($E32:EB32)+$EI33,\"\")","v":""},{"$f":"IF(EC32<>\"\",AVERAGE($E32:EC32)+$EI33,\"\")","v":""},{"$f":"IF(ED32<>\"\",AVERAGE($E32:ED32)+$EI33,\"\")","v":""},{"$f":"IF(SUM(Pavel_Pernekr)<1,-90000,EE32/COUNT(E32:ED32))","v":-90000},null,null,{"$f":"CONCATENATE(C28,\" \",C29)","v":"Pavel Pernekr"},{"$f":"INDEX(List4!$E$2:$E$17,MATCH(CONCATENATE(C28,\" \",C29),Tabulka1128[Jmeno_prijmeni],0),1)","v":2.1300000000000008E-6}]
["Pavel PernekrPočet šipek",{"$f":"CONCATENATE(C28,\" \",C29)","v":"Pavel Pernekr"},null,"Počet šipek",null,null,null,null,null,null,null,null,null,null,null,null,null,null,null,null,null,null,null,null,null,null,null,null,null,null,null,null,null,null,null,null,null,null,null,null,null,null,null,null,null,null,null,null,null,null,null,null,null,null,null,null,null,null,null,null,null,null,null,null,null,null,null,null,null,null,null,null,null,null,null,null,null,null,null,null,null,null,null,null,null,null,null,null,null,null,null,null,null,null,null,null,null,null,null,null,null,null,null,null,null,null,null,null,null,null,null,null,null,null,null,null,null,null,null,null,null,null,null,null,null,null,null,null,null,null,null,null,null,null,{"$f":"IF(SUM(Pavel_Pernekr)<1,-90000,SUM(C34:ED34))","v":-90000}]
[{"$f":"CONCATENATE($C$36,\" \",$C$37,D35)","v":"Milan VeselýVýhry"},{"$f":"CONCATENATE(C36,\" \",C37)","v":"Milan Veselý"},{"$f":"Tabulka!B24","v":0},"Výhry",1,null,null,null,null,3,null,null,null,null,2,null,null,null,null,1,null,null,null,null,2,null,null,null,null,2,null,null,null,null,2,null,null,null,null,2,null,null,null,null,1,null,null,null,null,2,null,null,null,null,null,null,null,null,null,null,null,null,null,null,null,null,null,null,null,null,null,null,null,null,null,null,null,null,null,null,null,null,null,null,null,null,null,null,null,null,null,null,null,null,null,null,null,null,null,null,null,null,null,null,null,null,null,null,null,null,null,null,null,null,null,null,null,null,null,null,null,null,null,null,null,null,null,null,null,null,null,null,null,null,{"$f":"IF(OR(SUM(Milan_Veselý)<1),-90000,SUM(E35:ED35))","v":18}]
["Milan VeselýProhry","Milan Veselý",{"$f":"Tabulka!B25","v":"Milan"},"Prohry",1,null,null,null,null,0,null,null,null,null,1,null,null,null,null,1,null,null,null,null,0,null,null,null,null,1,null,null,null,null,0,null,null,null,null,0,null,null,null,null,0,null,null,null,null,1,null,null,null,null,null,null,null,null,null,null,null,null,null,null,null,null,null,null,null,null,null,null,null,null,null,null,null,null,null,null,null,null,null,null,null,null,null,null,null,null,null,null,null,null,null,null,null,null,null,null,null,null,null,null,null,null,null,null,null,null,null,null,null,null,null,null,null,null,null,null,null,null,null,null,null,null,null,null,null,null,null,null,null,null,5,{"$f":"SUM(EE35-EE36)","v":13}]
["Milan VeselýPlaceno panáků",{"$f":"CONCATENATE(C36,\" \",C37)","v":"Milan Veselý"},{"$f":"Tabulka!B26","v":"Veselý"},"Placeno panáků",1,null,null,null,null,0,null,null,null,null,1,null,null,null,null,2,null,null,null,null,0,null,null,null,null,1,null,null,null,null,0,null,null,null,null,0,null,null,null,null,0,null,null,null,null,1,null,null,null,null,null,null,null,null,null,null,null,null,null,null,null,null,null,null,null,null,null,null,null,null,null,null,null,null,null,null,null,null,null,null,null,null,null,null,null,null,null,null,null,null,null,null,null,null,null,null,null,null,null,null,null,null,null,null,null,null,null,null,null,null,null,null,null,null,null,null,null,null,null,null,null,null,null,null,null,null,null,null,null,null,6]
["Milan VeselýPřehozy",{"$f":"CONCATENATE(C36,\" \",C37)","v":"Milan Veselý"},{"$f":"Tabulka!B27","v":0},"Přehozy",0,null,null,null,null,3,null,null,null,null,0,null,null,null,null,1,null,null,null,null,1,null,null,null,null,0,null,null,null,null,0,null,null,null,null,1,null,null,null,null,1,null,null,null,null,3,null,null,null,null,null,null,null,null,null,null,null,null,null,null,null,null,null,null,null,null,null,null,null,null,null,null,null,null,null,null,null,null,null,null,null,null,null,null,null,null,null,null,null,null,null,null,null,null,null,null,null,null,null,null,null,null,null,null,null,null,null,null,null,null,null,null,null,null,null,null,null,null,null,null,null,null,null,null,null,null,null,null,null,null,10]
["Milan VeselýPoč. kol",{"$f":"CONCATENATE(C36,\" \",C37)","v":"Milan Veselý"},{"$f":"Tabulka!B28","v":0},"Poč. kol",4,null,null,null,null,4,null,null,null,null,4,null,null,null,null,4,null,null,null,null,4,null,null,null,null,4,null,null,null,null,4,null,null,null,null,4,null,null,null,null,3,null,null,null,null,4,null,null,null,null,null,null,null,null,null,null,null,null,null,null,null,null,null,null,null,null,null,null,null,null,null,null,null,null,null,null,null,null,null,null,null,null,null,null,null,null,null,null,null,null,null,null,null,null,null,null,null,null,null,null,null,null,null,null,null,null,null,null,null,null,null,null,null,null,null,null,null,null,null,null,null,null,null,null,null,null,null,null,null,null,39]
["Milan VeselýPočet konečných bodů",{"$f":"CONCATENATE(C36,\" \",C37)","v":"Milan Veselý"},null,"Počet konečných bodů",0,23,46,101,null,0,61,0,0,null,4,141,0,0,null,0,82,31,8,null,0,0,26,75,null,84,0,25,0,null,0,43,0,77,null,0,0,34,33,null,35,0,8,null,null,126,26,0,0,null,null,null,null,null,null,null,null,null,null,null,null,null,null,null,null,null,null,null,null,null,null,null,null,null,null,null,null,null,null,null,null,null,null,null,null,null,null,null,null,null,null,null,null,null,null,null,null,null,null,null,null,null,null,null,null,null,null,null,null,null,null,null,null,null,null,null,null,null,null,null,null,null,null,null,null,null,null,null,null,null,1089]
["Milan VeselýPrůměr konečných bodů na kolo",{"$f":"CONCATENATE(C36,\" \",C37)","v":"Milan Veselý"},null,"Průměr konečných bodů na kolo",{"$f":"IF(E40<>\"\",AVERAGE($E40:E40)+$EI41,\"\")","v":2.0700000000000014E-6},{"$f":"IF(F40<>\"\",AVERAGE($E40:F40)+$EI41,\"\")","v":11.500002070000001},{"$f":"IF(G40<>\"\",AVERAGE($E40:G40)+$EI41,\"\")","v":23.000002070000001},{"$f":"IF(H40<>\"\",AVERAGE($E40:H40)+$EI41,\"\")","v":42.500002070000001},{"$f":"IF(I40<>\"\",AVERAGE($E40:I40)+$EI41,\"\")","v":""},{"$f":"IF(J40<>\"\",AVERAGE($E40:J40)+$EI41,\"\")","v":34.000002070000001},{"$f":"IF(K40<>\"\",AVERAGE($E40:K40)+$EI41,\"\")","v":38.500002070000001},{"$f":"IF(L40<>\"\",AVERAGE($E40:L40)+$EI41,\"\")","v":33.000002070000001},{"$f":"IF(M40<>\"\",AVERAGE($E40:M40)+$EI41,\"\")","v":28.875002070000001},{"$f":"IF(N40<>\"\",AVERAGE($E40:N40)+$EI41,\"\")","v":""},{"$f":"IF(O40<>\"\",AVERAGE($E40:O40)+$EI41,\"\")","v":26.111113181111111},{"$f":"IF(P40<>\"\",AVERAGE($E40:P40)+$EI41,\"\")","v":37.600002070000002},{"$f":"IF(Q40<>\"\",AVERAGE($E40:Q40)+$EI41,\"\")","v":34.181820251818181},{"$f":"IF(R40<>\"\",AVERAGE($E40:R40)+$EI41,\"\")","v":31.333335403333333},{"$f":"IF(S40<>\"\",AVERAGE($E40:S40)+$EI41,\"\")","v":""},{"$f":"IF(T40<>\"\",AVERAGE($E40:T40)+$EI41,\"\")","v":28.923078993076924},{"$f":"IF(U40<>\"\",AVERAGE($E40:U40)+$EI41,\"\")","v":32.714287784285716},{"$f":"IF(V40<>\"\",AVERAGE($E40:V40)+$EI41,\"\")","v":32.600002070000002},{"$f":"IF(W40<>\"\",AVERAGE($E40:W40)+$EI41,\"\")","v":31.062502070000001},{"$f":"IF(X40<>\"\",AVERAGE($E40:X40)+$EI41,\"\")","v":""},{"$f":"IF(Y40<>\"\",AVERAGE($E40:Y40)+$EI41,\"\")","v":29.235296187647059},{"$f":"IF(Z40<>\"\",AVERAGE($E40:Z40)+$EI41,\"\")","v":27.611113181111111},{"$f":"IF(AA40<>\"\",AVERAGE($E40:AA40)+$EI41,\"\")","v":27.526317859473686},{"$f":"IF(AB40<>\"\",AVERAGE($E40:AB40)+$EI41,\"\")","v":29.900002069999999},{"$f":"IF(AC40<>\"\",AVERAGE($E40:AC40)+$EI41,\"\")","v":""},{"$f":"IF(AD40<>\"\",AVERAGE($E40:AD40)+$EI41,\"\")","v":32.476192546190475},{"$f":"IF(AE40<>\"\",AVERAGE($E40:AE40)+$EI41,\"\")","v":31.000002070000001},{"$f":"IF(AF40<>\"\",AVERAGE($E40:AF40)+$EI41,\"\")","v":30.73913250478261},{"$f":"IF(AG40<>\"\",AVERAGE($E40:AG40)+$EI41,\"\")","v":29.458335403333333},{"$f":"IF(AH40<>\"\",AVERAGE($E40:AH40)+$EI41,\"\")","v":""},{"$f":"IF(AI40<>\"\",AVERAGE($E40:AI40)+$EI41,\"\")","v":28.280002070000002},{"$f":"IF(AJ40<>\"\",AVERAGE($E40:AJ40)+$EI41,\"\")","v":28.846155916153847},{"$f":"IF(AK40<>\"\",AVERAGE($E40:AK40)+$EI41,\"\")","v":27.777779847777779},{"$f":"IF(AL40<>\"\",AVERAGE($E40:AL40)+$EI41,\"\")","v":29.535716355714285},{"$f":"IF(AM40<>\"\",AVERAGE($E40:AM40)+$EI41,\"\")","v":""},{"$f":"IF(AN40<>\"\",AVERAGE($E40:AN40)+$EI41,\"\")","v":28.517243449310346},{"$f":"IF(AO40<>\"\",AVERAGE($E40:AO40)+$EI41,\"\")","v":27.566668736666667},{"$f":"IF(AP40<>\"\",AVERAGE($E40:AP40)+$EI41,\"\")","v":27.774195618387097},{"$f":"IF(AQ40<>\"\",AVERAGE($E40:AQ40)+$EI41,\"\")","v":27.937502070000001},{"$f":"IF(AR40<>\"\",AVERAGE($E40:AR40)+$EI41,\"\")","v":""},{"$f":"IF(AS40<>\"\",AVERAGE($E40:AS40)+$EI41,\"\")","v":28.151517221515153},{"$f":"IF(AT40<>\"\",AVERAGE($E40:AT40)+$EI41,\"\")","v":27.323531481764707},{"$f":"IF(AU40<>\"\",AVERAGE($E40:AU40)+$EI41,\"\")","v":26.771430641428573},{"$f":"IF(AV40<>\"\",AVERAGE($E40:AV40)+$EI41,\"\")","v":""},{"$f":"IF(AW40<>\"\",AVERAGE($E40:AW40)+$EI41,\"\")","v":""},{"$f":"IF(AX40<>\"\",AVERAGE($E40:AX40)+$EI41,\"\")","v":29.527779847777779},{"$f":"IF(AY40<>\"\",AVERAGE($E40:AY40)+$EI41,\"\")","v":29.432434502432432},{"$f":"IF(AZ40<>\"\",AVERAGE($E40:AZ40)+$EI41,\"\")","v":28.657896806842107},{"$f":"IF(BA40<>\"\",AVERAGE($E40:BA40)+$EI41,\"\")","v":27.923078993076924},{"$f":"IF(BB40<>\"\",AVERAGE($E40:BB40)+$EI41,\"\")","v":""},{"$f":"IF(BC40<>\"\",AVERAGE($E40:BC40)+$EI41,\"\")","v":""},{"$f":"IF(BD40<>\"\",AVERAGE($E40:BD40)+$EI41,\"\")","v":""},{"$f":"IF(BE40<>\"\",AVERAGE($E40:BE40)+$EI41,\"\")","v":""},{"$f":"IF(BF40<>\"\",AVERAGE($E40:BF40)+$EI41,\"\")","v":""},{"$f":"IF(BG40<>\"\",AVERAGE($E40:BG40)+$EI41,\"\")","v":""},{"$f":"IF(BH40<>\"\",AVERAGE($E40:BH40)+$EI41,\"\")","v":""},{"$f":"IF(BI40<>\"\",AVERAGE($E40:BI40)+$EI41,\"\")","v":""},{"$f":"IF(BJ40<>\"\",AVERAGE($E40:BJ40)+$EI41,\"\")","v":""},{"$f":"IF(BK40<>\"\",AVERAGE($E40:BK40)+$EI41,\"\")","v":""},{"$f":"IF(BL40<>\"\",AVERAGE($E40:BL40)+$EI41,\"\")","v":""},{"$f":"IF(BM40<>\"\",AVERAGE($E40:BM40)+$EI41,\"\")","v":""},{"$f":"IF(BN40<>\"\",AVERAGE($E40:BN40)+$EI41,\"\")","v":""},{"$f":"IF(BO40<>\"\",AVERAGE($E40:BO40)+$EI41,\"\")","v":""},{"$f":"IF(BP40<>\"\",AVERAGE($E40:BP40)+$EI41,\"\")","v":""},{"$f":"IF(BQ40<>\"\",AVERAGE($E40:BQ40)+$EI41,\"\")","v":""},{"$f":"IF(BR40<>\"\",AVERAGE($E40:BR40)+$EI41,\"\")","v":""},{"$f":"IF(BS40<>\"\",AVERAGE($E40:BS40)+$EI41,\"\")","v":""},{"$f":"IF(BT40<>\"\",AVERAGE($E40:BT40)+$EI41,\"\")","v":""},{"$f":"IF(BU40<>\"\",AVERAGE($E40:BU40)+$EI41,\"\")","v":""},{"$f":"IF(BV40<>\"\",AVERAGE($E40:BV40)+$EI41,\"\")","v":""},{"$f":"IF(BW40<>\"\",AVERAGE($E40:BW40)+$EI41,\"\")","v":""},{"$f":"IF(BX40<>\"\",AVERAGE($E40:BX40)+$EI41,\"\")","v":""},{"$f":"IF(BY40<>\"\",AVERAGE($E40:BY40)+$EI41,\"\")","v":""},{"$f":"IF(BZ40<>\"\",AVERAGE($E40:BZ40)+$EI41,\"\")","v":""},{"$f":"IF(CA40<>\"\",AVERAGE($E40:CA40)+$EI41,\"\")","v":""},{"$f":"IF(CB40<>\"\",AVERAGE($E40:CB40)+$EI41,\"\")","v":""},{"$f":"IF(CC40<>\"\",AVERAGE($E40:CC40)+$EI41,\"\")","v":""},{"$f":"IF(CD40<>\"\",AVERAGE($E40:CD40)+$EI41,\"\")","v":""},{"$f":"IF(CE40<>\"\",AVERAGE($E40:CE40)+$EI41,\"\")","v":""},{"$f":"IF(CF40<>\"\",AVERAGE($E40:CF40)+$EI41,\"\")","v":""},{"$f":"IF(CG40<>\"\",AVERAGE($E40:CG40)+$EI41,\"\")","v":""},{"$f":"IF(CH40<>\"\",AVERAGE($E40:CH40)+$EI41,\"\")","v":""},{"$f":"IF(CI40<>\"\",AVERAGE($E40:CI40)+$EI41,\"\")","v":""},{"$f":"IF(CJ40<>\"\",AVERAGE($E40:CJ40)+$EI41,\"\")","v":""},{"$f":"IF(CK40<>\"\",AVERAGE($E40:CK40)+$EI41,\"\")","v":""},{"$f":"IF(CL40<>\"\",AVERAGE($E40:CL40)+$EI41,\"\")","v":""},{"$f":"IF(CM40<>\"\",AVERAGE($E40:CM40)+$EI41,\"\")","v":""},{"$f":"IF(CN40<>\"\",AVERAGE($E40:CN40)+$EI41,\"\")","v":""},{"$f":"IF(CO40<>\"\",AVERAGE($E40:CO40)+$EI41,\"\")","v":""},{"$f":"IF(CP40<>\"\",AVERAGE($E40:CP40)+$EI41,\"\")","v":""},{"$f":"IF(CQ40<>\"\",AVERAGE($E40:CQ40)+$EI41,\"\")","v":""},{"$f":"IF(CR40<>\"\",AVERAGE($E40:CR40)+$EI41,\"\")","v":""},{"$f":"IF(CS40<>\"\",AVERAGE($E40:CS40)+$EI41,\"\")","v":""},{"$f":"IF(CT40<>\"\",AVERAGE($E40:CT40)+$EI41,\"\")","v":""},{"$f":"IF(CU40<>\"\",AVERAGE($E40:CU40)+$EI41,\"\")","v":""},{"$f":"IF(CV40<>\"\",AVERAGE($E40:CV40)+$EI41,\"\")","v":""},{"$f":"IF(CW40<>\"\",AVERAGE($E40:CW40)+$EI41,\"\")","v":""},{"$f":"IF(CX40<>\"\",AVERAGE($E40:CX40)+$EI41,\"\")","v":""},{"$f":"IF(CY40<>\"\",AVERAGE($E40:CY40)+$EI41,\"\")","v":""},{"$f":"IF(CZ40<>\"\",AVERAGE($E40:CZ40)+$EI41,\"\")","v":""},{"$f":"IF(DA40<>\"\",AVERAGE($E40:DA40)+$EI41,\"\")","v":""},{"$f":"IF(DB40<>\"\",AVERAGE($E40:DB40)+$EI41,\"\")","v":""},{"$f":"IF(DC40<>\"\",AVERAGE($E40:DC40)+$EI41,\"\")","v":""},{"$f":"IF(DD40<>\"\",AVERAGE($E40:DD40)+$EI41,\"\")","v":""},{"$f":"IF(DE40<>\"\",AVERAGE($E40:DE40)+$EI41,\"\")","v":""},{"$f":"IF(DF40<>\"\",AVERAGE($E40:DF40)+$EI41,\"\")","v":""},{"$f":"IF(DG40<>\"\",AVERAGE($E40:DG40)+$EI41,\"\")","v":""},{"$f":"IF(DH40<>\"\",AVERAGE($E40:DH40)+$EI41,\"\")","v":""},{"$f":"IF(DI40<>\"\",AVERAGE($E40:DI40)+$EI41,\"\")","v":""},{"$f":"IF(DJ40<>\"\",AVERAGE($E40:DJ40)+$EI41,\"\")","v":""},{"$f":"IF(DK40<>\"\",AVERAGE($E40:DK40)+$EI41,\"\")","v":""},{"$f":"IF(DL40<>\"\",AVERAGE($E40:DL40)+$EI41,\"\")","v":""},{"$f":"IF(DM40<>\"\",AVERAGE($E40:DM40)+$EI41,\"\")","v":""},{"$f":"IF(DN40<>\"\",AVERAGE($E40:DN40)+$EI41,\"\")","v":""},{"$f":"IF(DO40<>\"\",AVERAGE($E40:DO40)+$EI41,\"\")","v":""},{"$f":"IF(DP40<>\"\",AVERAGE($E40:DP40)+$EI41,\"\")","v":""},{"$f":"IF(DQ40<>\"\",AVERAGE($E40:DQ40)+$EI41,\"\")","v":""},{"$f":"IF(DR40<>\"\",AVERAGE($E40:DR40)+$EI41,\"\")","v":""},{"$f":"IF(DS40<>\"\",AVERAGE($E40:DS40)+$EI41,\"\")","v":""},{"$f":"IF(DT40<>\"\",AVERAGE($E40:DT40)+$EI41,\"\")","v":""},{"$f":"IF(DU40<>\"\",AVERAGE($E40:DU40)+$EI41,\"\")","v":""},{"$f":"IF(DV40<>\"\",AVERAGE($E40:DV40)+$EI41,\"\")","v":""},{"$f":"IF(DW40<>\"\",AVERAGE($E40:DW40)+$EI41,\"\")","v":""},{"$f":"IF(DX40<>\"\",AVERAGE($E40:DX40)+$EI41,\"\")","v":""},{"$f":"IF(DY40<>\"\",AVERAGE($E40:DY40)+$EI41,\"\")","v":""},{"$f":"IF(DZ40<>\"\",AVERAGE($E40:DZ40)+$EI41,\"\")","v":""},{"$f":"IF(EA40<>\"\",AVERAGE($E40:EA40)+$EI41,\"\")","v":""},{"$f":"IF(EB40<>\"\",AVERAGE($E40:EB40)+$EI41,\"\")","v":""},{"$f":"IF(EC40<>\"\",AVERAGE($E40:EC40)+$EI41,\"\")","v":""},{"$f":"IF(ED40<>\"\",AVERAGE($E40:ED40)+$EI41,\"\")","v":""},{"$f":"IFERROR(IF(OR(SUM(Milan_Veselý)<1),-90000,EE40/COUNT(E40:ED40)),INDEX(List4!$E$2:$E$14,MATCH(CONCATENATE(C52,\" \",C53),Tabulka1128[Jmeno_prijmeni],0),1))","v":27.923076923076923},null,null,{"$f":"CONCATENATE(C36,\" \",C37)","v":"Milan Veselý"},{"$f":"INDEX(List4!$E$2:$E$17,MATCH(CONCATENATE(C36,\" \",C37),Tabulka1128[Jmeno_prijmeni],0),1)","v":2.0700000000000014E-6}]
["Milan VeselýPočet šipek",{"$f":"CONCATENATE(C36,\" \",C37)","v":"Milan Veselý"},null,"Počet šipek",null,null,null,null,null,null,null,null,null,null,null,null,null,null,null,null,null,null,null,null,null,null,null,null,null,null,null,null,null,null,null,null,null,null,null,null,null,null,null,null,null,null,null,null,null,null,null,null,null,null,null,null,null,null,null,null,null,null,null,null,null,null,null,null,null,null,null,null,null,null,null,null,null,null,null,null,null,null,null,null,null,null,null,null,null,null,null,null,null,null,null,null,null,null,null,null,null,null,null,null,null,null,null,null,null,null,null,null,null,null,null,null,null,null,null,null,null,null,null,null,null,null,null,null,null,null,null,null,null,null,{"$f":"IF(OR(SUM(Milan_Veselý)<1),-90000,SUM(E42:ED42))","v":0}]
[{"$f":"CONCATENATE($C$44,\" \",$C$45,D43)","v":"Míra ŠedivýVýhry"},{"$f":"CONCATENATE(C44,\" \",C45)","v":"Míra Šedivý"},{"$f":"Tabulka!B29","v":0},"Výhry",null,null,null,null,null,null,null,null,null,null,0,null,null,null,null,0,null,null,null,null,null,null,null,null,null,0,null,null,null,null,0,null,null,null,null,0,null,null,null,null,null,null,null,null,null,null,null,null,null,null,null,null,null,null,null,null,null,null,null,null,null,null,null,null,null,null,null,null,null,null,null,null,null,null,null,null,null,null,null,null,null,null,null,null,null,null,null,null,null,null,null,null,null,null,null,null,null,null,null,null,null,null,null,null,null,null,null,null,null,null,null,null,null,null,null,null,null,null,null,null,null,null,null,null,null,null,null,null,null,null,{"$f":"IF(SUM(Míra_Šedivý)<1,-90000,SUM(C43:ED43))","v":0}]
["Míra ŠedivýProhry","Míra Šedivý",{"$f":"Tabulka!B30","v":"Míra"},"Prohry",null,null,null,null,null,null,null,null,null,null,0,null,null,null,null,0,null,null,null,null,null,null,null,null,null,1,null,null,null,null,2,null,null,null,null,1,null,null,null,null,null,null,null,null,null,null,null,null,null,null,null,null,null,null,null,null,null,null,null,null,null,null,null,null,null,null,null,null,null,null,null,null,null,null,null,null,null,null,null,null,null,null,null,null,null,null,null,null,null,null,null,null,null,null,null,null,null,null,null,null,null,null,null,null,null,null,null,null,null,null,null,null,null,null,null,null,null,null,null,null,null,null,null,null,null,null,null,null,null,null,4,{"$f":"SUM(EE43-EE44)","v":-4}]
["Míra ŠedivýPlaceno panáků",{"$f":"CONCATENATE(C44,\" \",C45)","v":"Míra Šedivý"},{"$f":"Tabulka!B31","v":"Šedivý"},"Placeno panáků",null,null,null,null,null,null,null,null,null,null,0,null,null,null,null,0,null,null,null,null,null,null,null,null,null,1,null,null,null,null,2,null,null,null,null,1,null,null,null,null,null,null,null,null,null,null,null,null,null,null,null,null,null,null,null,null,null,null,null,null,null,null,null,null,null,null,null,null,null,null,null,null,null,null,null,null,null,null,null,null,null,null,null,null,null,null,null,null,null,null,null,null,null,null,null,null,null,null,null,null,null,null,null,null,null,null,null,null,null,null,null,null,null,null,null,null,null,null,null,null,null,null,null,null,null,null,null,null,null,null,4]
["Míra ŠedivýPřehozy",{"$f":"CONCATENATE(C44,\" \",C45)","v":"Míra Šedivý"},{"$f":"Tabulka!B32","v":0},"Přehozy",null,null,null,null,null,null,null,null,null,null,0,null,null,null,null,0,null,null,null,null,null,null,null,null,null,0,null,null,null,null,0,null,null,null,null,0,null,null,null,null,null,null,null,null,null,null,null,null,null,null,null,null,null,null,null,null,null,null,null,null,null,null,null,null,null,null,null,null,null,null,null,null,null,null,null,null,null,null,null,null,null,null,null,null,null,null,null,null,null,null,null,null,null,null,null,null,null,null,null,null,null,null,null,null,null,null,null,null,null,null,null,null,null,null,null,null,null,null,null,null,null,null,null,null,null,null,null,null,null,null,0]
["Míra ŠedivýPoč. kol",{"$f":"CONCATENATE(C44,\" \",C45)","v":"Míra Šedivý"},{"$f":"Tabulka!B33","v":0},"Poč. kol",null,null,null,null,null,null,null,null,null,null,4,null,null,null,null,4,null,null,null,null,null,null,null,null,null,4,null,null,null,null,4,null,null,null,null,4,null,null,null,null,null,null,null,null,null,null,null,null,null,null,null,null,null,null,null,null,null,null,null,null,null,null,null,null,null,null,null,null,null,null,null,null,null,null,null,null,null,null,null,null,null,null,null,null,null,null,null,null,null,null,null,null,null,null,null,null,null,null,null,null,null,null,null,null,null,null,null,null,null,null,null,null,null,null,null,null,null,null,null,null,null,null,null,null,null,null,null,null,null,null,20]
["Míra ŠedivýPočet konečných bodů",{"$f":"CONCATENATE(C44,\" \",C45)","v":"Míra Šedivý"},null,"Počet konečných bodů",null,null,null,null,null,null,null,null,null,null,109,109,20,33,null,101,46,28,102,null,null,null,null,null,null,30,21,49,141,null,154,15,77,114,null,48,75,100,90,null,null,null,null,null,null,null,null,null,null,null,null,null,null,null,null,null,null,null,null,null,null,null,null,null,null,null,null,null,null,null,null,null,null,null,null,null,null,null,null,null,null,null,null,null,null,null,null,null,null,null,null,null,null,null,null,null,null,null,null,null,null,null,null,null,null,null,null,null,null,null,null,null,null,null,null,null,null,null,null,null,null,null,null,null,null,null,null,null,null,null,1462]
["Míra ŠedivýPrůměr konečných bodů na kolo",{"$f":"CONCATENATE(C44,\" \",C45)","v":"Míra Šedivý"},null,"Průměr konečných bodů na kolo",{"$f":"IF(E48<>\"\",AVERAGE($E48:E48)+$EI49,\"\")","v":""},{"$f":"IF(F48<>\"\",AVERAGE($E48:F48)+$EI49,\"\")","v":""},{"$f":"IF(G48<>\"\",AVERAGE($E48:G48)+$EI49,\"\")","v":""},{"$f":"IF(H48<>\"\",AVERAGE($E48:H48)+$EI49,\"\")","v":""},{"$f":"IF(I48<>\"\",AVERAGE($E48:I48)+$EI49,\"\")","v":""},{"$f":"IF(J48<>\"\",AVERAGE($E48:J48)+$EI49,\"\")","v":""},{"$f":"IF(K48<>\"\",AVERAGE($E48:K48)+$EI49,\"\")","v":""},{"$f":"IF(L48<>\"\",AVERAGE($E48:L48)+$EI49,\"\")","v":""},{"$f":"IF(M48<>\"\",AVERAGE($E48:M48)+$EI49,\"\")","v":""},{"$f":"IF(N48<>\"\",AVERAGE($E48:N48)+$EI49,\"\")","v":""},{"$f":"IF(O48<>\"\",AVERAGE($E48:O48)+$EI49,\"\")","v":109.0000021},{"$f":"IF(P48<>\"\",AVERAGE($E48:P48)+$EI49,\"\")","v":109.0000021},{"$f":"IF(Q48<>\"\",AVERAGE($E48:Q48)+$EI49,\"\")","v":79.333335433333332},{"$f":"IF(R48<>\"\",AVERAGE($E48:R48)+$EI49,\"\")","v":67.750002100000003},{"$f":"IF(S48<>\"\",AVERAGE($E48:S48)+$EI49,\"\")","v":""},{"$f":"IF(T48<>\"\",AVERAGE($E48:T48)+$EI49,\"\")","v":74.400002100000009},{"$f":"IF(U48<>\"\",AVERAGE($E48:U48)+$EI49,\"\")","v":69.666668766666675},{"$f":"IF(V48<>\"\",AVERAGE($E48:V48)+$EI49,\"\")","v":63.714287814285719},{"$f":"IF(W48<>\"\",AVERAGE($E48:W48)+$EI49,\"\")","v":68.500002100000003},{"$f":"IF(X48<>\"\",AVERAGE($E48:X48)+$EI49,\"\")","v":""},{"$f":"IF(Y48<>\"\",AVERAGE($E48:Y48)+$EI49,\"\")","v":""},{"$f":"IF(Z48<>\"\",AVERAGE($E48:Z48)+$EI49,\"\")","v":""},{"$f":"IF(AA48<>\"\",AVERAGE($E48:AA48)+$EI49,\"\")","v":""},{"$f":"IF(AB48<>\"\",AVERAGE($E48:AB48)+$EI49,\"\")","v":""},{"$f":"IF(AC48<>\"\",AVERAGE($E48:AC48)+$EI49,\"\")","v":""},{"$f":"IF(AD48<>\"\",AVERAGE($E48:AD48)+$EI49,\"\")","v":64.222224322222232},{"$f":"IF(AE48<>\"\",AVERAGE($E48:AE48)+$EI49,\"\")","v":59.900002100000002},{"$f":"IF(AF48<>\"\",AVERAGE($E48:AF48)+$EI49,\"\")","v":58.90909300909091},{"$f":"IF(AG48<>\"\",AVERAGE($E48:AG48)+$EI49,\"\")","v":65.750002100000003},{"$f":"IF(AH48<>\"\",AVERAGE($E48:AH48)+$EI49,\"\")","v":""},{"$f":"IF(AI48<>\"\",AVERAGE($E48:AI48)+$EI49,\"\")","v":72.538463638461536},{"$f":"IF(AJ48<>\"\",AVERAGE($E48:AJ48)+$EI49,\"\")","v":68.428573528571434},{"$f":"IF(AK48<>\"\",AVERAGE($E48:AK48)+$EI49,\"\")","v":69.000002100000003},{"$f":"IF(AL48<>\"\",AVERAGE($E48:AL48)+$EI49,\"\")","v":71.812502100000003},{"$f":"IF(AM48<>\"\",AVERAGE($E48:AM48)+$EI49,\"\")","v":""},{"$f":"IF(AN48<>\"\",AVERAGE($E48:AN48)+$EI49,\"\")","v":70.411766805882351},{"$f":"IF(AO48<>\"\",AVERAGE($E48:AO48)+$EI49,\"\")","v":70.666668766666675},{"$f":"IF(AP48<>\"\",AVERAGE($E48:AP48)+$EI49,\"\")","v":72.210528415789483},{"$f":"IF(AQ48<>\"\",AVERAGE($E48:AQ48)+$EI49,\"\")","v":73.100002099999998},{"$f":"IF(AR48<>\"\",AVERAGE($E48:AR48)+$EI49,\"\")","v":""},{"$f":"IF(AS48<>\"\",AVERAGE($E48:AS48)+$EI49,\"\")","v":""},{"$f":"IF(AT48<>\"\",AVERAGE($E48:AT48)+$EI49,\"\")","v":""},{"$f":"IF(AU48<>\"\",AVERAGE($E48:AU48)+$EI49,\"\")","v":""},{"$f":"IF(AV48<>\"\",AVERAGE($E48:AV48)+$EI49,\"\")","v":""},{"$f":"IF(AW48<>\"\",AVERAGE($E48:AW48)+$EI49,\"\")","v":""},{"$f":"IF(AX48<>\"\",AVERAGE($E48:AX48)+$EI49,\"\")","v":""},{"$f":"IF(AY48<>\"\",AVERAGE($E48:AY48)+$EI49,\"\")","v":""},{"$f":"IF(AZ48<>\"\",AVERAGE($E48:AZ48)+$EI49,\"\")","v":""},{"$f":"IF(BA48<>\"\",AVERAGE($E48:BA48)+$EI49,\"\")","v":""},{"$f":"IF(BB48<>\"\",AVERAGE($E48:BB48)+$EI49,\"\")","v":""},{"$f":"IF(BC48<>\"\",AVERAGE($E48:BC48)+$EI49,\"\")","v":""},{"$f":"IF(BD48<>\"\",AVERAGE($E48:BD48)+$EI49,\"\")","v":""},{"$f":"IF(BE48<>\"\",AVERAGE($E48:BE48)+$EI49,\"\")","v":""},{"$f":"IF(BF48<>\"\",AVERAGE($E48:BF48)+$EI49,\"\")","v":""},{"$f":"IF(BG48<>\"\",AVERAGE($E48:BG48)+$EI49,\"\")","v":""},{"$f":"IF(BH48<>\"\",AVERAGE($E48:BH48)+$EI49,\"\")","v":""},{"$f":"IF(BI48<>\"\",AVERAGE($E48:BI48)+$EI49,\"\")","v":""},{"$f":"IF(BJ48<>\"\",AVERAGE($E48:BJ48)+$EI49,\"\")","v":""},{"$f":"IF(BK48<>\"\",AVERAGE($E48:BK48)+$EI49,\"\")","v":""},{"$f":"IF(BL48<>\"\",AVERAGE($E48:BL48)+$EI49,\"\")","v":""},{"$f":"IF(BM48<>\"\",AVERAGE($E48:BM48)+$EI49,\"\")","v":""},{"$f":"IF(BN48<>\"\",AVERAGE($E48:BN48)+$EI49,\"\")","v":""},{"$f":"IF(BO48<>\"\",AVERAGE($E48:BO48)+$EI49,\"\")","v":""},{"$f":"IF(BP48<>\"\",AVERAGE($E48:BP48)+$EI49,\"\")","v":""},{"$f":"IF(BQ48<>\"\",AVERAGE($E48:BQ48)+$EI49,\"\")","v":""},{"$f":"IF(BR48<>\"\",AVERAGE($E48:BR48)+$EI49,\"\")","v":""},{"$f":"IF(BS48<>\"\",AVERAGE($E48:BS48)+$EI49,\"\")","v":""},{"$f":"IF(BT48<>\"\",AVERAGE($E48:BT48)+$EI49,\"\")","v":""},{"$f":"IF(BU48<>\"\",AVERAGE($E48:BU48)+$EI49,\"\")","v":""},{"$f":"IF(BV48<>\"\",AVERAGE($E48:BV48)+$EI49,\"\")","v":""},{"$f":"IF(BW48<>\"\",AVERAGE($E48:BW48)+$EI49,\"\")","v":""},{"$f":"IF(BX48<>\"\",AVERAGE($E48:BX48)+$EI49,\"\")","v":""},{"$f":"IF(BY48<>\"\",AVERAGE($E48:BY48)+$EI49,\"\")","v":""},{"$f":"IF(BZ48<>\"\",AVERAGE($E48:BZ48)+$EI49,\"\")","v":""},{"$f":"IF(CA48<>\"\",AVERAGE($E48:CA48)+$EI49,\"\")","v":""},{"$f":"IF(CB48<>\"\",AVERAGE($E48:CB48)+$EI49,\"\")","v":""},{"$f":"IF(CC48<>\"\",AVERAGE($E48:CC48)+$EI49,\"\")","v":""},{"$f":"IF(CD48<>\"\",AVERAGE($E48:CD48)+$EI49,\"\")","v":""},{"$f":"IF(CE48<>\"\",AVERAGE($E48:CE48)+$EI49,\"\")","v":""},{"$f":"IF(CF48<>\"\",AVERAGE($E48:CF48)+$EI49,\"\")","v":""},{"$f":"IF(CG48<>\"\",AVERAGE($E48:CG48)+$EI49,\"\")","v":""},{"$f":"IF(CH48<>\"\",AVERAGE($E48:CH48)+$EI49,\"\")","v":""},{"$f":"IF(CI48<>\"\",AVERAGE($E48:CI48)+$EI49,\"\")","v":""},{"$f":"IF(CJ48<>\"\",AVERAGE($E48:CJ48)+$EI49,\"\")","v":""},{"$f":"IF(CK48<>\"\",AVERAGE($E48:CK48)+$EI49,\"\")","v":""},{"$f":"IF(CL48<>\"\",AVERAGE($E48:CL48)+$EI49,\"\")","v":""},{"$f":"IF(CM48<>\"\",AVERAGE($E48:CM48)+$EI49,\"\")","v":""},{"$f":"IF(CN48<>\"\",AVERAGE($E48:CN48)+$EI49,\"\")","v":""},{"$f":"IF(CO48<>\"\",AVERAGE($E48:CO48)+$EI49,\"\")","v":""},{"$f":"IF(CP48<>\"\",AVERAGE($E48:CP48)+$EI49,\"\")","v":""},{"$f":"IF(CQ48<>\"\",AVERAGE($E48:CQ48)+$EI49,\"\")","v":""},{"$f":"IF(CR48<>\"\",AVERAGE($E48:CR48)+$EI49,\"\")","v":""},{"$f":"IF(CS48<>\"\",AVERAGE($E48:CS48)+$EI49,\"\")","v":""},{"$f":"IF(CT48<>\"\",AVERAGE($E48:CT48)+$EI49,\"\")","v":""},{"$f":"IF(CU48<>\"\",AVERAGE($E48:CU48)+$EI49,\"\")","v":""},{"$f":"IF(CV48<>\"\",AVERAGE($E48:CV48)+$EI49,\"\")","v":""},{"$f":"IF(CW48<>\"\",AVERAGE($E48:CW48)+$EI49,\"\")","v":""},{"$f":"IF(CX48<>\"\",AVERAGE($E48:CX48)+$EI49,\"\")","v":""},{"$f":"IF(CY48<>\"\",AVERAGE($E48:CY48)+$EI49,\"\")","v":""},{"$f":"IF(CZ48<>\"\",AVERAGE($E48:CZ48)+$EI49,\"\")","v":""},{"$f":"IF(DA48<>\"\",AVERAGE($E48:DA48)+$EI49,\"\")","v":""},{"$f":"IF(DB48<>\"\",AVERAGE($E48:DB48)+$EI49,\"\")","v":""},{"$f":"IF(DC48<>\"\",AVERAGE($E48:DC48)+$EI49,\"\")","v":""},{"$f":"IF(DD48<>\"\",AVERAGE($E48:DD48)+$EI49,\"\")","v":""},{"$f":"IF(DE48<>\"\",AVERAGE($E48:DE48)+$EI49,\"\")","v":""},{"$f":"IF(DF48<>\"\",AVERAGE($E48:DF48)+$EI49,\"\")","v":""},{"$f":"IF(DG48<>\"\",AVERAGE($E48:DG48)+$EI49,\"\")","v":""},{"$f":"IF(DH48<>\"\",AVERAGE($E48:DH48)+$EI49,\"\")","v":""},{"$f":"IF(DI48<>\"\",AVERAGE($E48:DI48)+$EI49,\"\")","v":""},{"$f":"IF(DJ48<>\"\",AVERAGE($E48:DJ48)+$EI49,\"\")","v":""},{"$f":"IF(DK48<>\"\",AVERAGE($E48:DK48)+$EI49,\"\")","v":""},{"$f":"IF(DL48<>\"\",AVERAGE($E48:DL48)+$EI49,\"\")","v":""},{"$f":"IF(DM48<>\"\",AVERAGE($E48:DM48)+$EI49,\"\")","v":""},{"$f":"IF(DN48<>\"\",AVERAGE($E48:DN48)+$EI49,\"\")","v":""},{"$f":"IF(DO48<>\"\",AVERAGE($E48:DO48)+$EI49,\"\")","v":""},{"$f":"IF(DP48<>\"\",AVERAGE($E48:DP48)+$EI49,\"\")","v":""},{"$f":"IF(DQ48<>\"\",AVERAGE($E48:DQ48)+$EI49,\"\")","v":""},{"$f":"IF(DR48<>\"\",AVERAGE($E48:DR48)+$EI49,\"\")","v":""},{"$f":"IF(DS48<>\"\",AVERAGE($E48:DS48)+$EI49,\"\")","v":""},{"$f":"IF(DT48<>\"\",AVERAGE($E48:DT48)+$EI49,\"\")","v":""},{"$f":"IF(DU48<>\"\",AVERAGE($E48:DU48)+$EI49,\"\")","v":""},{"$f":"IF(DV48<>\"\",AVERAGE($E48:DV48)+$EI49,\"\")","v":""},{"$f":"IF(DW48<>\"\",AVERAGE($E48:DW48)+$EI49,\"\")","v":""},{"$f":"IF(DX48<>\"\",AVERAGE($E48:DX48)+$EI49,\"\")","v":""},{"$f":"IF(DY48<>\"\",AVERAGE($E48:DY48)+$EI49,\"\")","v":""},{"$f":"IF(DZ48<>\"\",AVERAGE($E48:DZ48)+$EI49,\"\")","v":""},{"$f":"IF(EA48<>\"\",AVERAGE($E48:EA48)+$EI49,\"\")","v":""},{"$f":"IF(EB48<>\"\",AVERAGE($E48:EB48)+$EI49,\"\")","v":""},{"$f":"IF(EC48<>\"\",AVERAGE($E48:EC48)+$EI49,\"\")","v":""},{"$f":"IF(ED48<>\"\",AVERAGE($E48:ED48)+$EI49,\"\")","v":""},{"$f":"IF(SUM(Míra_Šedivý)<1,-90000,EE48/COUNT(E48:ED48))","v":73.099999999999994},null,null,{"$f":"CONCATENATE(C44,\" \",C45)","v":"Míra Šedivý"},{"$f":"INDEX(List4!$E$2:$E$17,MATCH(CONCATENATE(C44,\" \",C45),Tabulka1128[Jmeno_prijmeni],0),1)","v":2.1000000000000011E-6}]
["Míra ŠedivýPočet šipek",{"$f":"CONCATENATE(C44,\" \",C45)","v":"Míra Šedivý"},null,"Počet šipek",null,null,null,null,null,null,null,null,null,null,null,null,null,null,null,null,null,null,null,null,null,null,null,null,null,null,null,null,null,null,null,null,null,null,null,null,null,null,null,null,null,null,null,null,null,null,null,null,null,null,null,null,null,null,null,null,null,null,null,null,null,null,null,null,null,null,null,null,null,null,null,null,null,null,null,null,null,null,null,null,null,null,null,null,null,null,null,null,null,null,null,null,null,null,null,null,null,null,null,null,null,null,null,null,null,null,null,null,null,null,null,null,null,null,null,null,null,null,null,null,null,null,null,null,null,null,null,null,null,null,{"$f":"IF(SUM(Míra_Šedivý)<1,-90000,SUM(C50:ED50))","v":0}]
[{"$f":"CONCATENATE($C$52,\" \",$C$53,D51)","v":"Jiří BlínVýhry"},{"$f":"CONCATENATE(C52,\" \",C53)","v":"Jiří Blín"},{"$f":"Tabulka!B34","v":0},"Výhry",1,null,null,null,null,0,null,null,null,null,0,null,null,null,null,0,null,null,null,null,0,null,null,null,null,0,null,null,null,null,0,null,null,null,null,1,null,null,null,null,0,null,null,null,null,1,null,null,null,null,null,null,null,null,null,null,null,null,null,null,null,null,null,null,null,null,null,null,null,null,null,null,null,null,null,null,null,null,null,null,null,null,null,null,null,null,null,null,null,null,null,null,null,null,null,null,null,null,null,null,null,null,null,null,null,null,null,null,null,null,null,null,null,null,null,null,null,null,null,null,null,null,null,null,null,null,null,null,null,null,{"$f":"IF(OR(SUM(Jiří_Blín)<1),-90000,SUM(E51:ED51))","v":3}]
["Jiří BlínProhry","Jiří Blín",{"$f":"Tabulka!B35","v":"Jiří"},"Prohry",1,null,null,null,null,2,null,null,null,null,3,null,null,null,null,0,null,null,null,null,0,null,null,null,null,1,null,null,null,null,1,null,null,null,null,2,null,null,null,null,1,null,null,null,null,0,null,null,null,null,null,null,null,null,null,null,null,null,null,null,null,null,null,null,null,null,null,null,null,null,null,null,null,null,null,null,null,null,null,null,null,null,null,null,null,null,null,null,null,null,null,null,null,null,null,null,null,null,null,null,null,null,null,null,null,null,null,null,null,null,null,null,null,null,null,null,null,null,null,null,null,null,null,null,null,null,null,null,null,null,11,{"$f":"SUM(EE51-EE52)","v":-8}]
["Jiří BlínPlaceno panáků",{"$f":"CONCATENATE(C52,\" \",C53)","v":"Jiří Blín"},{"$f":"Tabulka!B36","v":"Blín"},"Placeno panáků",2,null,null,null,null,4,null,null,null,null,4,null,null,null,null,0,null,null,null,null,0,null,null,null,null,1,null,null,null,null,1,null,null,null,null,2,null,null,null,null,1,null,null,null,null,0,null,null,null,null,null,null,null,null,null,null,null,null,null,null,null,null,null,null,null,null,null,null,null,null,null,null,null,null,null,null,null,null,null,null,null,null,null,null,null,null,null,null,null,null,null,null,null,null,null,null,null,null,null,null,null,null,null,null,null,null,null,null,null,null,null,null,null,null,null,null,null,null,null,null,null,null,null,null,null,null,null,null,null,null,15]
["Jiří BlínPřehozy",{"$f":"CONCATENATE(C52,\" \",C53)","v":"Jiří Blín"},{"$f":"Tabulka!B37","v":0},"Přehozy",0,null,null,null,null,0,null,null,null,null,0,null,null,null,null,0,null,null,null,null,1,null,null,null,null,3,null,null,null,null,2,null,null,null,null,0,null,null,null,null,0,null,null,null,null,0,null,null,null,null,null,null,null,null,null,null,null,null,null,null,null,null,null,null,null,null,null,null,null,null,null,null,null,null,null,null,null,null,null,null,null,null,null,null,null,null,null,null,null,null,null,null,null,null,null,null,null,null,null,null,null,null,null,null,null,null,null,null,null,null,null,null,null,null,null,null,null,null,null,null,null,null,null,null,null,null,null,null,null,null,6]
["Jiří BlínPoč. kol",{"$f":"CONCATENATE(C52,\" \",C53)","v":"Jiří Blín"},{"$f":"Tabulka!B38","v":0},"Poč. kol",4,null,null,null,null,4,null,null,null,null,4,null,null,null,null,4,null,null,null,null,4,null,null,null,null,4,null,null,null,null,4,null,null,null,null,4,null,null,null,null,3,null,null,null,null,4,null,null,null,null,null,null,null,null,null,null,null,null,null,null,null,null,null,null,null,null,null,null,null,null,null,null,null,null,null,null,null,null,null,null,null,null,null,null,null,null,null,null,null,null,null,null,null,null,null,null,null,null,null,null,null,null,null,null,null,null,null,null,null,null,null,null,null,null,null,null,null,null,null,null,null,null,null,null,null,null,null,null,null,null,39]
["Jiří BlínPočet konečných bodů",{"$f":"CONCATENATE(C52,\" \",C53)","v":"Jiří Blín"},null,"Počet konečných bodů",105,61,0,68,null,90,81,28,16,null,164,84,193,89,null,139,66,22,71,null,42,95,37,65,null,27,125,16,168,null,37,2,31,151,null,164,149,136,0,null,12,104,135,null,null,0,21,55,67,null,null,null,null,null,null,null,null,null,null,null,null,null,null,null,null,null,null,null,null,null,null,null,null,null,null,null,null,null,null,null,null,null,null,null,null,null,null,null,null,null,null,null,null,null,null,null,null,null,null,null,null,null,null,null,null,null,null,null,null,null,null,null,null,null,null,null,null,null,null,null,null,null,null,null,null,null,null,null,null,null,2916]
["Jiří BlínPrůměr konečných bodů na kolo",{"$f":"CONCATENATE(C52,\" \",C53)","v":"Jiří Blín"},null,"Průměr konečných bodů na kolo",{"$f":"IF(E56<>\"\",AVERAGE($E56:E56)+$EI57,\"\")","v":105.0000022},{"$f":"IF(F56<>\"\",AVERAGE($E56:F56)+$EI57,\"\")","v":83.000002199999997},{"$f":"IF(G56<>\"\",AVERAGE($E56:G56)+$EI57,\"\")","v":55.333335533333333},{"$f":"IF(H56<>\"\",AVERAGE($E56:H56)+$EI57,\"\")","v":58.500002199999997},{"$f":"IF(I56<>\"\",AVERAGE($E56:I56)+$EI57,\"\")","v":""},{"$f":"IF(J56<>\"\",AVERAGE($E56:J56)+$EI57,\"\")","v":64.800002199999994},{"$f":"IF(K56<>\"\",AVERAGE($E56:K56)+$EI57,\"\")","v":67.500002199999997},{"$f":"IF(L56<>\"\",AVERAGE($E56:L56)+$EI57,\"\")","v":61.857145057142851},{"$f":"IF(M56<>\"\",AVERAGE($E56:M56)+$EI57,\"\")","v":56.125002199999997},{"$f":"IF(N56<>\"\",AVERAGE($E56:N56)+$EI57,\"\")","v":""},{"$f":"IF(O56<>\"\",AVERAGE($E56:O56)+$EI57,\"\")","v":68.111113311111112},{"$f":"IF(P56<>\"\",AVERAGE($E56:P56)+$EI57,\"\")","v":69.7000022},{"$f":"IF(Q56<>\"\",AVERAGE($E56:Q56)+$EI57,\"\")","v":80.909093109090904},{"$f":"IF(R56<>\"\",AVERAGE($E56:R56)+$EI57,\"\")","v":81.583335533333326},{"$f":"IF(S56<>\"\",AVERAGE($E56:S56)+$EI57,\"\")","v":""},{"$f":"IF(T56<>\"\",AVERAGE($E56:T56)+$EI57,\"\")","v":86.000002199999997},{"$f":"IF(U56<>\"\",AVERAGE($E56:U56)+$EI57,\"\")","v":84.571430771428567},{"$f":"IF(V56<>\"\",AVERAGE($E56:V56)+$EI57,\"\")","v":80.400002200000003},{"$f":"IF(W56<>\"\",AVERAGE($E56:W56)+$EI57,\"\")","v":79.812502199999997},{"$f":"IF(X56<>\"\",AVERAGE($E56:X56)+$EI57,\"\")","v":""},{"$f":"IF(Y56<>\"\",AVERAGE($E56:Y56)+$EI57,\"\")","v":77.588237494117649},{"$f":"IF(Z56<>\"\",AVERAGE($E56:Z56)+$EI57,\"\")","v":78.555557755555554},{"$f":"IF(AA56<>\"\",AVERAGE($E56:AA56)+$EI57,\"\")","v":76.368423252631572},{"$f":"IF(AB56<>\"\",AVERAGE($E56:AB56)+$EI57,\"\")","v":75.800002199999994},{"$f":"IF(AC56<>\"\",AVERAGE($E56:AC56)+$EI57,\"\")","v":""},{"$f":"IF(AD56<>\"\",AVERAGE($E56:AD56)+$EI57,\"\")","v":73.476192676190479},{"$f":"IF(AE56<>\"\",AVERAGE($E56:AE56)+$EI57,\"\")","v":75.81818401818181},{"$f":"IF(AF56<>\"\",AVERAGE($E56:AF56)+$EI57,\"\")","v":73.217393504347825},{"$f":"IF(AG56<>\"\",AVERAGE($E56:AG56)+$EI57,\"\")","v":77.166668866666669},{"$f":"IF(AH56<>\"\",AVERAGE($E56:AH56)+$EI57,\"\")","v":""},{"$f":"IF(AI56<>\"\",AVERAGE($E56:AI56)+$EI57,\"\")","v":75.5600022},{"$f":"IF(AJ56<>\"\",AVERAGE($E56:AJ56)+$EI57,\"\")","v":72.730771430769224},{"$f":"IF(AK56<>\"\",AVERAGE($E56:AK56)+$EI57,\"\")","v":71.185187385185188},{"$f":"IF(AL56<>\"\",AVERAGE($E56:AL56)+$EI57,\"\")","v":74.035716485714289},{"$f":"IF(AM56<>\"\",AVERAGE($E56:AM56)+$EI57,\"\")","v":""},{"$f":"IF(AN56<>\"\",AVERAGE($E56:AN56)+$EI57,\"\")","v":77.137933234482759},{"$f":"IF(AO56<>\"\",AVERAGE($E56:AO56)+$EI57,\"\")","v":79.533335533333329},{"$f":"IF(AP56<>\"\",AVERAGE($E56:AP56)+$EI57,\"\")","v":81.354840909677421},{"$f":"IF(AQ56<>\"\",AVERAGE($E56:AQ56)+$EI57,\"\")","v":78.812502199999997},{"$f":"IF(AR56<>\"\",AVERAGE($E56:AR56)+$EI57,\"\")","v":""},{"$f":"IF(AS56<>\"\",AVERAGE($E56:AS56)+$EI57,\"\")","v":76.787880987878779},{"$f":"IF(AT56<>\"\",AVERAGE($E56:AT56)+$EI57,\"\")","v":77.588237494117649},{"$f":"IF(AU56<>\"\",AVERAGE($E56:AU56)+$EI57,\"\")","v":79.228573628571425},{"$f":"IF(AV56<>\"\",AVERAGE($E56:AV56)+$EI57,\"\")","v":""},{"$f":"IF(AW56<>\"\",AVERAGE($E56:AW56)+$EI57,\"\")","v":""},{"$f":"IF(AX56<>\"\",AVERAGE($E56:AX56)+$EI57,\"\")","v":77.027779977777769},{"$f":"IF(AY56<>\"\",AVERAGE($E56:AY56)+$EI57,\"\")","v":75.513515713513513},{"$f":"IF(AZ56<>\"\",AVERAGE($E56:AZ56)+$EI57,\"\")","v":74.973686410526312},{"$f":"IF(BA56<>\"\",AVERAGE($E56:BA56)+$EI57,\"\")","v":74.769232969230771},{"$f":"IF(BB56<>\"\",AVERAGE($E56:BB56)+$EI57,\"\")","v":""},{"$f":"IF(BC56<>\"\",AVERAGE($E56:BC56)+$EI57,\"\")","v":""},{"$f":"IF(BD56<>\"\",AVERAGE($E56:BD56)+$EI57,\"\")","v":""},{"$f":"IF(BE56<>\"\",AVERAGE($E56:BE56)+$EI57,\"\")","v":""},{"$f":"IF(BF56<>\"\",AVERAGE($E56:BF56)+$EI57,\"\")","v":""},{"$f":"IF(BG56<>\"\",AVERAGE($E56:BG56)+$EI57,\"\")","v":""},{"$f":"IF(BH56<>\"\",AVERAGE($E56:BH56)+$EI57,\"\")","v":""},{"$f":"IF(BI56<>\"\",AVERAGE($E56:BI56)+$EI57,\"\")","v":""},{"$f":"IF(BJ56<>\"\",AVERAGE($E56:BJ56)+$EI57,\"\")","v":""},{"$f":"IF(BK56<>\"\",AVERAGE($E56:BK56)+$EI57,\"\")","v":""},{"$f":"IF(BL56<>\"\",AVERAGE($E56:BL56)+$EI57,\"\")","v":""},{"$f":"IF(BM56<>\"\",AVERAGE($E56:BM56)+$EI57,\"\")","v":""},{"$f":"IF(BN56<>\"\",AVERAGE($E56:BN56)+$EI57,\"\")","v":""},{"$f":"IF(BO56<>\"\",AVERAGE($E56:BO56)+$EI57,\"\")","v":""},{"$f":"IF(BP56<>\"\",AVERAGE($E56:BP56)+$EI57,\"\")","v":""},{"$f":"IF(BQ56<>\"\",AVERAGE($E56:BQ56)+$EI57,\"\")","v":""},{"$f":"IF(BR56<>\"\",AVERAGE($E56:BR56)+$EI57,\"\")","v":""},{"$f":"IF(BS56<>\"\",AVERAGE($E56:BS56)+$EI57,\"\")","v":""},{"$f":"IF(BT56<>\"\",AVERAGE($E56:BT56)+$EI57,\"\")","v":""},{"$f":"IF(BU56<>\"\",AVERAGE($E56:BU56)+$EI57,\"\")","v":""},{"$f":"IF(BV56<>\"\",AVERAGE($E56:BV56)+$EI57,\"\")","v":""},{"$f":"IF(BW56<>\"\",AVERAGE($E56:BW56)+$EI57,\"\")","v":""},{"$f":"IF(BX56<>\"\",AVERAGE($E56:BX56)+$EI57,\"\")","v":""},{"$f":"IF(BY56<>\"\",AVERAGE($E56:BY56)+$EI57,\"\")","v":""},{"$f":"IF(BZ56<>\"\",AVERAGE($E56:BZ56)+$EI57,\"\")","v":""},{"$f":"IF(CA56<>\"\",AVERAGE($E56:CA56)+$EI57,\"\")","v":""},{"$f":"IF(CB56<>\"\",AVERAGE($E56:CB56)+$EI57,\"\")","v":""},{"$f":"IF(CC56<>\"\",AVERAGE($E56:CC56)+$EI57,\"\")","v":""},{"$f":"IF(CD56<>\"\",AVERAGE($E56:CD56)+$EI57,\"\")","v":""},{"$f":"IF(CE56<>\"\",AVERAGE($E56:CE56)+$EI57,\"\")","v":""},{"$f":"IF(CF56<>\"\",AVERAGE($E56:CF56)+$EI57,\"\")","v":""},{"$f":"IF(CG56<>\"\",AVERAGE($E56:CG56)+$EI57,\"\")","v":""},{"$f":"IF(CH56<>\"\",AVERAGE($E56:CH56)+$EI57,\"\")","v":""},{"$f":"IF(CI56<>\"\",AVERAGE($E56:CI56)+$EI57,\"\")","v":""},{"$f":"IF(CJ56<>\"\",AVERAGE($E56:CJ56)+$EI57,\"\")","v":""},{"$f":"IF(CK56<>\"\",AVERAGE($E56:CK56)+$EI57,\"\")","v":""},{"$f":"IF(CL56<>\"\",AVERAGE($E56:CL56)+$EI57,\"\")","v":""},{"$f":"IF(CM56<>\"\",AVERAGE($E56:CM56)+$EI57,\"\")","v":""},{"$f":"IF(CN56<>\"\",AVERAGE($E56:CN56)+$EI57,\"\")","v":""},{"$f":"IF(CO56<>\"\",AVERAGE($E56:CO56)+$EI57,\"\")","v":""},{"$f":"IF(CP56<>\"\",AVERAGE($E56:CP56)+$EI57,\"\")","v":""},{"$f":"IF(CQ56<>\"\",AVERAGE($E56:CQ56)+$EI57,\"\")","v":""},{"$f":"IF(CR56<>\"\",AVERAGE($E56:CR56)+$EI57,\"\")","v":""},{"$f":"IF(CS56<>\"\",AVERAGE($E56:CS56)+$EI57,\"\")","v":""},{"$f":"IF(CT56<>\"\",AVERAGE($E56:CT56)+$EI57,\"\")","v":""},{"$f":"IF(CU56<>\"\",AVERAGE($E56:CU56)+$EI57,\"\")","v":""},{"$f":"IF(CV56<>\"\",AVERAGE($E56:CV56)+$EI57,\"\")","v":""},{"$f":"IF(CW56<>\"\",AVERAGE($E56:CW56)+$EI57,\"\")","v":""},{"$f":"IF(CX56<>\"\",AVERAGE($E56:CX56)+$EI57,\"\")","v":""},{"$f":"IF(CY56<>\"\",AVERAGE($E56:CY56)+$EI57,\"\")","v":""},{"$f":"IF(CZ56<>\"\",AVERAGE($E56:CZ56)+$EI57,\"\")","v":""},{"$f":"IF(DA56<>\"\",AVERAGE($E56:DA56)+$EI57,\"\")","v":""},{"$f":"IF(DB56<>\"\",AVERAGE($E56:DB56)+$EI57,\"\")","v":""},{"$f":"IF(DC56<>\"\",AVERAGE($E56:DC56)+$EI57,\"\")","v":""},{"$f":"IF(DD56<>\"\",AVERAGE($E56:DD56)+$EI57,\"\")","v":""},{"$f":"IF(DE56<>\"\",AVERAGE($E56:DE56)+$EI57,\"\")","v":""},{"$f":"IF(DF56<>\"\",AVERAGE($E56:DF56)+$EI57,\"\")","v":""},{"$f":"IF(DG56<>\"\",AVERAGE($E56:DG56)+$EI57,\"\")","v":""},{"$f":"IF(DH56<>\"\",AVERAGE($E56:DH56)+$EI57,\"\")","v":""},{"$f":"IF(DI56<>\"\",AVERAGE($E56:DI56)+$EI57,\"\")","v":""},{"$f":"IF(DJ56<>\"\",AVERAGE($E56:DJ56)+$EI57,\"\")","v":""},{"$f":"IF(DK56<>\"\",AVERAGE($E56:DK56)+$EI57,\"\")","v":""},{"$f":"IF(DL56<>\"\",AVERAGE($E56:DL56)+$EI57,\"\")","v":""},{"$f":"IF(DM56<>\"\",AVERAGE($E56:DM56)+$EI57,\"\")","v":""},{"$f":"IF(DN56<>\"\",AVERAGE($E56:DN56)+$EI57,\"\")","v":""},{"$f":"IF(DO56<>\"\",AVERAGE($E56:DO56)+$EI57,\"\")","v":""},{"$f":"IF(DP56<>\"\",AVERAGE($E56:DP56)+$EI57,\"\")","v":""},{"$f":"IF(DQ56<>\"\",AVERAGE($E56:DQ56)+$EI57,\"\")","v":""},{"$f":"IF(DR56<>\"\",AVERAGE($E56:DR56)+$EI57,\"\")","v":""},{"$f":"IF(DS56<>\"\",AVERAGE($E56:DS56)+$EI57,\"\")","v":""},{"$f":"IF(DT56<>\"\",AVERAGE($E56:DT56)+$EI57,\"\")","v":""},{"$f":"IF(DU56<>\"\",AVERAGE($E56:DU56)+$EI57,\"\")","v":""},{"$f":"IF(DV56<>\"\",AVERAGE($E56:DV56)+$EI57,\"\")","v":""},{"$f":"IF(DW56<>\"\",AVERAGE($E56:DW56)+$EI57,\"\")","v":""},{"$f":"IF(DX56<>\"\",AVERAGE($E56:DX56)+$EI57,\"\")","v":""},{"$f":"IF(DY56<>\"\",AVERAGE($E56:DY56)+$EI57,\"\")","v":""},{"$f":"IF(DZ56<>\"\",AVERAGE($E56:DZ56)+$EI57,\"\")","v":""},{"$f":"IF(EA56<>\"\",AVERAGE($E56:EA56)+$EI57,\"\")","v":""},{"$f":"IF(EB56<>\"\",AVERAGE($E56:EB56)+$EI57,\"\")","v":""},{"$f":"IF(EC56<>\"\",AVERAGE($E56:EC56)+$EI57,\"\")","v":""},{"$f":"IF(ED56<>\"\",AVERAGE($E56:ED56)+$EI57,\"\")","v":""},{"$f":"IF(OR(SUM(Jiří_Blín)<1),-90000,EE56/COUNT(E56:ED56))","v":74.769230769230774},null,null,{"$f":"CONCATENATE(C52,\" \",C53)","v":"Jiří Blín"},{"$f":"INDEX(List4!$E$2:$E$17,MATCH(CONCATENATE(C52,\" \",C53),Tabulka1128[Jmeno_prijmeni],0),1)","v":2.2000000000000001E-6}]
["Jiří BlínPočet šipek",{"$f":"CONCATENATE(C52,\" \",C53)","v":"Jiří Blín"},null,"Počet šipek",null,null,null,null,null,null,null,null,null,null,null,null,null,null,null,null,null,null,null,null,null,null,null,null,null,null,null,null,null,null,null,null,null,null,null,null,null,null,null,null,null,null,null,null,null,null,null,null,null,null,null,null,null,null,null,null,null,null,null,null,null,null,null,null,null,null,null,null,null,null,null,null,null,null,null,null,null,null,null,null,null,null,null,null,null,null,null,null,null,null,null,null,null,null,null,null,null,null,null,null,null,null,null,null,null,null,null,null,null,null,null,null,null,null,null,null,null,null,null,null,null,null,null,null,null,null,null,null,null,null,{"$f":"IF(OR(SUM(Jiří_Blín)<1),-90000,SUM(E58:ED58))","v":0}]
[{"$f":"CONCATENATE($C$60,\" \",$C$61,D59)","v":"Adam ŠmídVýhry"},{"$f":"CONCATENATE(C60,\" \",C61)","v":"Adam Šmíd"},{"$f":"Tabulka!B39","v":0},"Výhry",0,null,null,null,null,null,null,null,null,null,0,null,null,null,null,0,null,null,null,null,0,null,null,null,null,null,null,null,null,null,0,null,null,null,null,0,null,null,null,null,0,null,null,null,null,null,null,null,null,null,null,null,null,null,null,null,null,null,null,null,null,null,null,null,null,null,null,null,null,null,null,null,null,null,null,null,null,null,null,null,null,null,null,null,null,null,null,null,null,null,null,null,null,null,null,null,null,null,null,null,null,null,null,null,null,null,null,null,null,null,null,null,null,null,null,null,null,null,null,null,null,null,null,null,null,null,null,null,null,null,{"$f":"IF(SUM(Adam_Šmíd)<1,-90000,SUM(C59:ED59))","v":0}]
["Adam ŠmídProhry","Adam Šmíd",{"$f":"Tabulka!B40","v":"Adam"},"Prohry",0,null,null,null,null,null,null,null,null,null,0,null,null,null,null,1,null,null,null,null,1,null,null,null,null,null,null,null,null,null,0,null,null,null,null,1,null,null,null,null,1,null,null,null,null,null,null,null,null,null,null,null,null,null,null,null,null,null,null,null,null,null,null,null,null,null,null,null,null,null,null,null,null,null,null,null,null,null,null,null,null,null,null,null,null,null,null,null,null,null,null,null,null,null,null,null,null,null,null,null,null,null,null,null,null,null,null,null,null,null,null,null,null,null,null,null,null,null,null,null,null,null,null,null,null,null,null,null,null,null,4,{"$f":"SUM(EE59-EE60)","v":-4}]
["Adam ŠmídPlaceno panáků",{"$f":"CONCATENATE(C60,\" \",C61)","v":"Adam Šmíd"},{"$f":"Tabulka!B41","v":"Šmíd"},"Placeno panáků",0,null,null,null,null,null,null,null,null,null,5,null,null,null,null,1,null,null,null,null,1,null,null,null,null,null,null,null,null,null,0,null,null,null,null,1,null,null,null,null,2,null,null,null,null,null,null,null,null,null,null,null,null,null,null,null,null,null,null,null,null,null,null,null,null,null,null,null,null,null,null,null,null,null,null,null,null,null,null,null,null,null,null,null,null,null,null,null,null,null,null,null,null,null,null,null,null,null,null,null,null,null,null,null,null,null,null,null,null,null,null,null,null,null,null,null,null,null,null,null,null,null,null,null,null,null,null,null,null,null,10]
["Adam ŠmídPřehozy",{"$f":"CONCATENATE(C60,\" \",C61)","v":"Adam Šmíd"},{"$f":"Tabulka!B42","v":0},"Přehozy",0,null,null,null,null,null,null,null,null,null,0,null,null,null,null,0,null,null,null,null,0,null,null,null,null,null,null,null,null,null,2,null,null,null,null,0,null,null,null,null,0,null,null,null,null,null,null,null,null,null,null,null,null,null,null,null,null,null,null,null,null,null,null,null,null,null,null,null,null,null,null,null,null,null,null,null,null,null,null,null,null,null,null,null,null,null,null,null,null,null,null,null,null,null,null,null,null,null,null,null,null,null,null,null,null,null,null,null,null,null,null,null,null,null,null,null,null,null,null,null,null,null,null,null,null,null,null,null,null,null,2]
["Adam ŠmídPoč. kol",{"$f":"CONCATENATE(C60,\" \",C61)","v":"Adam Šmíd"},{"$f":"Tabulka!B43","v":0},"Poč. kol",1,null,null,null,null,null,null,null,null,null,2,null,null,null,null,2,null,null,null,null,1,null,null,null,null,null,null,null,null,null,2,null,null,null,null,2,null,null,null,null,2,null,null,null,null,null,null,null,null,null,null,null,null,null,null,null,null,null,null,null,null,null,null,null,null,null,null,null,null,null,null,null,null,null,null,null,null,null,null,null,null,null,null,null,null,null,null,null,null,null,null,null,null,null,null,null,null,null,null,null,null,null,null,null,null,null,null,null,null,null,null,null,null,null,null,null,null,null,null,null,null,null,null,null,null,null,null,null,null,null,12]
["Adam ŠmídPočet konečných bodů",{"$f":"CONCATENATE(C60,\" \",C61)","v":"Adam Šmíd"},null,"Počet konečných bodů",null,null,null,15,null,null,null,null,null,null,null,null,156,49,null,null,null,115,132,null,null,null,null,85,null,null,null,null,null,null,null,null,49,65,null,null,null,195,53,null,null,132,81,null,null,null,null,null,null,null,null,null,null,null,null,null,null,null,null,null,null,null,null,null,null,null,null,null,null,null,null,null,null,null,null,null,null,null,null,null,null,null,null,null,null,null,null,null,null,null,null,null,null,null,null,null,null,null,null,null,null,null,null,null,null,null,null,null,null,null,null,null,null,null,null,null,null,null,null,null,null,null,null,null,null,null,null,null,null,null,1127]
["Adam ŠmídPrůměr konečných bodů na kolo",{"$f":"CONCATENATE(C60,\" \",C61)","v":"Adam Šmíd"},null,"Průměr konečných bodů na kolo",{"$f":"IF(E64<>\"\",AVERAGE($E64:E64)+$EI65,\"\")","v":""},{"$f":"IF(F64<>\"\",AVERAGE($E64:F64)+$EI65,\"\")","v":""},{"$f":"IF(G64<>\"\",AVERAGE($E64:G64)+$EI65,\"\")","v":""},{"$f":"IF(H64<>\"\",AVERAGE($E64:H64)+$EI65,\"\")","v":15.000002090000001},{"$f":"IF(I64<>\"\",AVERAGE($E64:I64)+$EI65,\"\")","v":""},{"$f":"IF(J64<>\"\",AVERAGE($E64:J64)+$EI65,\"\")","v":""},{"$f":"IF(K64<>\"\",AVERAGE($E64:K64)+$EI65,\"\")","v":""},{"$f":"IF(L64<>\"\",AVERAGE($E64:L64)+$EI65,\"\")","v":""},{"$f":"IF(M64<>\"\",AVERAGE($E64:M64)+$EI65,\"\")","v":""},{"$f":"IF(N64<>\"\",AVERAGE($E64:N64)+$EI65,\"\")","v":""},{"$f":"IF(O64<>\"\",AVERAGE($E64:O64)+$EI65,\"\")","v":""},{"$f":"IF(P64<>\"\",AVERAGE($E64:P64)+$EI65,\"\")","v":""},{"$f":"IF(Q64<>\"\",AVERAGE($E64:Q64)+$EI65,\"\")","v":85.500002089999995},{"$f":"IF(R64<>\"\",AVERAGE($E64:R64)+$EI65,\"\")","v":73.333335423333324},{"$f":"IF(S64<>\"\",AVERAGE($E64:S64)+$EI65,\"\")","v":""},{"$f":"IF(T64<>\"\",AVERAGE($E64:T64)+$EI65,\"\")","v":""},{"$f":"IF(U64<>\"\",AVERAGE($E64:U64)+$EI65,\"\")","v":""},{"$f":"IF(V64<>\"\",AVERAGE($E64:V64)+$EI65,\"\")","v":83.750002089999995},{"$f":"IF(W64<>\"\",AVERAGE($E64:W64)+$EI65,\"\")","v":93.400002090000001},{"$f":"IF(X64<>\"\",AVERAGE($E64:X64)+$EI65,\"\")","v":""},{"$f":"IF(Y64<>\"\",AVERAGE($E64:Y64)+$EI65,\"\")","v":""},{"$f":"IF(Z64<>\"\",AVERAGE($E64:Z64)+$EI65,\"\")","v":""},{"$f":"IF(AA64<>\"\",AVERAGE($E64:AA64)+$EI65,\"\")","v":""},{"$f":"IF(AB64<>\"\",AVERAGE($E64:AB64)+$EI65,\"\")","v":92.000002089999995},{"$f":"IF(AC64<>\"\",AVERAGE($E64:AC64)+$EI65,\"\")","v":""},{"$f":"IF(AD64<>\"\",AVERAGE($E64:AD64)+$EI65,\"\")","v":""},{"$f":"IF(AE64<>\"\",AVERAGE($E64:AE64)+$EI65,\"\")","v":""},{"$f":"IF(AF64<>\"\",AVERAGE($E64:AF64)+$EI65,\"\")","v":""},{"$f":"IF(AG64<>\"\",AVERAGE($E64:AG64)+$EI65,\"\")","v":""},{"$f":"IF(AH64<>\"\",AVERAGE($E64:AH64)+$EI65,\"\")","v":""},{"$f":"IF(AI64<>\"\",AVERAGE($E64:AI64)+$EI65,\"\")","v":""},{"$f":"IF(AJ64<>\"\",AVERAGE($E64:AJ64)+$EI65,\"\")","v":""},{"$f":"IF(AK64<>\"\",AVERAGE($E64:AK64)+$EI65,\"\")","v":85.857144947142856},{"$f":"IF(AL64<>\"\",AVERAGE($E64:AL64)+$EI65,\"\")","v":83.250002089999995},{"$f":"IF(AM64<>\"\",AVERAGE($E64:AM64)+$EI65,\"\")","v":""},{"$f":"IF(AN64<>\"\",AVERAGE($E64:AN64)+$EI65,\"\")","v":""},{"$f":"IF(AO64<>\"\",AVERAGE($E64:AO64)+$EI65,\"\")","v":""},{"$f":"IF(AP64<>\"\",AVERAGE($E64:AP64)+$EI65,\"\")","v":95.666668756666667},{"$f":"IF(AQ64<>\"\",AVERAGE($E64:AQ64)+$EI65,\"\")","v":91.400002090000001},{"$f":"IF(AR64<>\"\",AVERAGE($E64:AR64)+$EI65,\"\")","v":""},{"$f":"IF(AS64<>\"\",AVERAGE($E64:AS64)+$EI65,\"\")","v":""},{"$f":"IF(AT64<>\"\",AVERAGE($E64:AT64)+$EI65,\"\")","v":95.090911180909089},{"$f":"IF(AU64<>\"\",AVERAGE($E64:AU64)+$EI65,\"\")","v":93.916668756666667},{"$f":"IF(AV64<>\"\",AVERAGE($E64:AV64)+$EI65,\"\")","v":""},{"$f":"IF(AW64<>\"\",AVERAGE($E64:AW64)+$EI65,\"\")","v":""},{"$f":"IF(AX64<>\"\",AVERAGE($E64:AX64)+$EI65,\"\")","v":""},{"$f":"IF(AY64<>\"\",AVERAGE($E64:AY64)+$EI65,\"\")","v":""},{"$f":"IF(AZ64<>\"\",AVERAGE($E64:AZ64)+$EI65,\"\")","v":""},{"$f":"IF(BA64<>\"\",AVERAGE($E64:BA64)+$EI65,\"\")","v":""},{"$f":"IF(BB64<>\"\",AVERAGE($E64:BB64)+$EI65,\"\")","v":""},{"$f":"IF(BC64<>\"\",AVERAGE($E64:BC64)+$EI65,\"\")","v":""},{"$f":"IF(BD64<>\"\",AVERAGE($E64:BD64)+$EI65,\"\")","v":""},{"$f":"IF(BE64<>\"\",AVERAGE($E64:BE64)+$EI65,\"\")","v":""},{"$f":"IF(BF64<>\"\",AVERAGE($E64:BF64)+$EI65,\"\")","v":""},{"$f":"IF(BG64<>\"\",AVERAGE($E64:BG64)+$EI65,\"\")","v":""},{"$f":"IF(BH64<>\"\",AVERAGE($E64:BH64)+$EI65,\"\")","v":""},{"$f":"IF(BI64<>\"\",AVERAGE($E64:BI64)+$EI65,\"\")","v":""},{"$f":"IF(BJ64<>\"\",AVERAGE($E64:BJ64)+$EI65,\"\")","v":""},{"$f":"IF(BK64<>\"\",AVERAGE($E64:BK64)+$EI65,\"\")","v":""},{"$f":"IF(BL64<>\"\",AVERAGE($E64:BL64)+$EI65,\"\")","v":""},{"$f":"IF(BM64<>\"\",AVERAGE($E64:BM64)+$EI65,\"\")","v":""},{"$f":"IF(BN64<>\"\",AVERAGE($E64:BN64)+$EI65,\"\")","v":""},{"$f":"IF(BO64<>\"\",AVERAGE($E64:BO64)+$EI65,\"\")","v":""},{"$f":"IF(BP64<>\"\",AVERAGE($E64:BP64)+$EI65,\"\")","v":""},{"$f":"IF(BQ64<>\"\",AVERAGE($E64:BQ64)+$EI65,\"\")","v":""},{"$f":"IF(BR64<>\"\",AVERAGE($E64:BR64)+$EI65,\"\")","v":""},{"$f":"IF(BS64<>\"\",AVERAGE($E64:BS64)+$EI65,\"\")","v":""},{"$f":"IF(BT64<>\"\",AVERAGE($E64:BT64)+$EI65,\"\")","v":""},{"$f":"IF(BU64<>\"\",AVERAGE($E64:BU64)+$EI65,\"\")","v":""},{"$f":"IF(BV64<>\"\",AVERAGE($E64:BV64)+$EI65,\"\")","v":""},{"$f":"IF(BW64<>\"\",AVERAGE($E64:BW64)+$EI65,\"\")","v":""},{"$f":"IF(BX64<>\"\",AVERAGE($E64:BX64)+$EI65,\"\")","v":""},{"$f":"IF(BY64<>\"\",AVERAGE($E64:BY64)+$EI65,\"\")","v":""},{"$f":"IF(BZ64<>\"\",AVERAGE($E64:BZ64)+$EI65,\"\")","v":""},{"$f":"IF(CA64<>\"\",AVERAGE($E64:CA64)+$EI65,\"\")","v":""},{"$f":"IF(CB64<>\"\",AVERAGE($E64:CB64)+$EI65,\"\")","v":""},{"$f":"IF(CC64<>\"\",AVERAGE($E64:CC64)+$EI65,\"\")","v":""},{"$f":"IF(CD64<>\"\",AVERAGE($E64:CD64)+$EI65,\"\")","v":""},{"$f":"IF(CE64<>\"\",AVERAGE($E64:CE64)+$EI65,\"\")","v":""},{"$f":"IF(CF64<>\"\",AVERAGE($E64:CF64)+$EI65,\"\")","v":""},{"$f":"IF(CG64<>\"\",AVERAGE($E64:CG64)+$EI65,\"\")","v":""},{"$f":"IF(CH64<>\"\",AVERAGE($E64:CH64)+$EI65,\"\")","v":""},{"$f":"IF(CI64<>\"\",AVERAGE($E64:CI64)+$EI65,\"\")","v":""},{"$f":"IF(CJ64<>\"\",AVERAGE($E64:CJ64)+$EI65,\"\")","v":""},{"$f":"IF(CK64<>\"\",AVERAGE($E64:CK64)+$EI65,\"\")","v":""},{"$f":"IF(CL64<>\"\",AVERAGE($E64:CL64)+$EI65,\"\")","v":""},{"$f":"IF(CM64<>\"\",AVERAGE($E64:CM64)+$EI65,\"\")","v":""},{"$f":"IF(CN64<>\"\",AVERAGE($E64:CN64)+$EI65,\"\")","v":""},{"$f":"IF(CO64<>\"\",AVERAGE($E64:CO64)+$EI65,\"\")","v":""},{"$f":"IF(CP64<>\"\",AVERAGE($E64:CP64)+$EI65,\"\")","v":""},{"$f":"IF(CQ64<>\"\",AVERAGE($E64:CQ64)+$EI65,\"\")","v":""},{"$f":"IF(CR64<>\"\",AVERAGE($E64:CR64)+$EI65,\"\")","v":""},{"$f":"IF(CS64<>\"\",AVERAGE($E64:CS64)+$EI65,\"\")","v":""},{"$f":"IF(CT64<>\"\",AVERAGE($E64:CT64)+$EI65,\"\")","v":""},{"$f":"IF(CU64<>\"\",AVERAGE($E64:CU64)+$EI65,\"\")","v":""},{"$f":"IF(CV64<>\"\",AVERAGE($E64:CV64)+$EI65,\"\")","v":""},{"$f":"IF(CW64<>\"\",AVERAGE($E64:CW64)+$EI65,\"\")","v":""},{"$f":"IF(CX64<>\"\",AVERAGE($E64:CX64)+$EI65,\"\")","v":""},{"$f":"IF(CY64<>\"\",AVERAGE($E64:CY64)+$EI65,\"\")","v":""},{"$f":"IF(CZ64<>\"\",AVERAGE($E64:CZ64)+$EI65,\"\")","v":""},{"$f":"IF(DA64<>\"\",AVERAGE($E64:DA64)+$EI65,\"\")","v":""},{"$f":"IF(DB64<>\"\",AVERAGE($E64:DB64)+$EI65,\"\")","v":""},{"$f":"IF(DC64<>\"\",AVERAGE($E64:DC64)+$EI65,\"\")","v":""},{"$f":"IF(DD64<>\"\",AVERAGE($E64:DD64)+$EI65,\"\")","v":""},{"$f":"IF(DE64<>\"\",AVERAGE($E64:DE64)+$EI65,\"\")","v":""},{"$f":"IF(DF64<>\"\",AVERAGE($E64:DF64)+$EI65,\"\")","v":""},{"$f":"IF(DG64<>\"\",AVERAGE($E64:DG64)+$EI65,\"\")","v":""},{"$f":"IF(DH64<>\"\",AVERAGE($E64:DH64)+$EI65,\"\")","v":""},{"$f":"IF(DI64<>\"\",AVERAGE($E64:DI64)+$EI65,\"\")","v":""},{"$f":"IF(DJ64<>\"\",AVERAGE($E64:DJ64)+$EI65,\"\")","v":""},{"$f":"IF(DK64<>\"\",AVERAGE($E64:DK64)+$EI65,\"\")","v":""},{"$f":"IF(DL64<>\"\",AVERAGE($E64:DL64)+$EI65,\"\")","v":""},{"$f":"IF(DM64<>\"\",AVERAGE($E64:DM64)+$EI65,\"\")","v":""},{"$f":"IF(DN64<>\"\",AVERAGE($E64:DN64)+$EI65,\"\")","v":""},{"$f":"IF(DO64<>\"\",AVERAGE($E64:DO64)+$EI65,\"\")","v":""},{"$f":"IF(DP64<>\"\",AVERAGE($E64:DP64)+$EI65,\"\")","v":""},{"$f":"IF(DQ64<>\"\",AVERAGE($E64:DQ64)+$EI65,\"\")","v":""},{"$f":"IF(DR64<>\"\",AVERAGE($E64:DR64)+$EI65,\"\")","v":""},{"$f":"IF(DS64<>\"\",AVERAGE($E64:DS64)+$EI65,\"\")","v":""},{"$f":"IF(DT64<>\"\",AVERAGE($E64:DT64)+$EI65,\"\")","v":""},{"$f":"IF(DU64<>\"\",AVERAGE($E64:DU64)+$EI65,\"\")","v":""},{"$f":"IF(DV64<>\"\",AVERAGE($E64:DV64)+$EI65,\"\")","v":""},{"$f":"IF(DW64<>\"\",AVERAGE($E64:DW64)+$EI65,\"\")","v":""},{"$f":"IF(DX64<>\"\",AVERAGE($E64:DX64)+$EI65,\"\")","v":""},{"$f":"IF(DY64<>\"\",AVERAGE($E64:DY64)+$EI65,\"\")","v":""},{"$f":"IF(DZ64<>\"\",AVERAGE($E64:DZ64)+$EI65,\"\")","v":""},{"$f":"IF(EA64<>\"\",AVERAGE($E64:EA64)+$EI65,\"\")","v":""},{"$f":"IF(EB64<>\"\",AVERAGE($E64:EB64)+$EI65,\"\")","v":""},{"$f":"IF(EC64<>\"\",AVERAGE($E64:EC64)+$EI65,\"\")","v":""},{"$f":"IF(ED64<>\"\",AVERAGE($E64:ED64)+$EI65,\"\")","v":""},{"$f":"IF(SUM(Adam_Šmíd)<1,-90000,EE64/COUNT(E64:ED64))","v":93.916666666666671},null,null,{"$f":"CONCATENATE(C60,\" \",C61)","v":"Adam Šmíd"},{"$f":"INDEX(List4!$E$2:$E$17,MATCH(CONCATENATE(C60,\" \",C61),Tabulka1128[Jmeno_prijmeni],0),1)","v":2.0900000000000012E-6}]
["Adam ŠmídPočet šipek",{"$f":"CONCATENATE(C60,\" \",C61)","v":"Adam Šmíd"},null,"Počet šipek",null,null,null,null,null,null,null,null,null,null,null,null,null,null,null,null,null,null,null,null,null,null,null,null,null,null,null,null,null,null,null,null,null,null,null,null,null,null,null,null,null,null,null,null,null,null,null,null,null,null,null,null,null,null,null,null,null,null,null,null,null,null,null,null,null,null,null,null,null,null,null,null,null,null,null,null,null,null,null,null,null,null,null,null,null,null,null,null,null,null,null,null,null,null,null,null,null,null,null,null,null,null,null,null,null,null,null,null,null,null,null,null,null,null,null,null,null,null,null,null,null,null,null,null,null,null,null,null,null,null,{"$f":"IF(SUM(Adam_Šmíd)<1,-90000,SUM(C66:ED66))","v":0}]
[{"$f":"CONCATENATE($C$68,\" \",$C$69,D67)","v":"Míra ChalupníkVýhry"},{"$f":"CONCATENATE(C68,\" \",C69)","v":"Míra Chalupník"},{"$f":"Tabulka!B44","v":0},"Výhry",0,null,null,null,null,null,null,null,null,null,null,null,null,null,null,null,null,null,null,null,null,null,null,null,null,null,null,null,null,null,null,null,null,null,null,null,null,null,null,null,null,null,null,null,null,null,null,null,null,null,null,null,null,null,null,null,null,null,null,null,null,null,null,null,null,null,null,null,null,null,null,null,null,null,null,null,null,null,null,null,null,null,null,null,null,null,null,null,null,null,null,null,null,null,null,null,null,null,null,null,null,null,null,null,null,null,null,null,null,null,null,null,null,null,null,null,null,null,null,null,null,null,null,null,null,null,null,null,null,null,{"$f":"IF(OR(SUM(Míra_Chalupník)<1),-90000,SUM(E67:ED67))","v":0}]
["Míra ChalupníkProhry",{"$f":"CONCATENATE(C68,\" \",C69)","v":"Míra Chalupník"},{"$f":"Tabulka!B45","v":"Míra"},"Prohry",2,null,null,null,null,null,null,null,null,null,null,null,null,null,null,null,null,null,null,null,null,null,null,null,null,null,null,null,null,null,null,null,null,null,null,null,null,null,null,null,null,null,null,null,null,null,null,null,null,null,null,null,null,null,null,null,null,null,null,null,null,null,null,null,null,null,null,null,null,null,null,null,null,null,null,null,null,null,null,null,null,null,null,null,null,null,null,null,null,null,null,null,null,null,null,null,null,null,null,null,null,null,null,null,null,null,null,null,null,null,null,null,null,null,null,null,null,null,null,null,null,null,null,null,null,null,null,null,null,null,2,{"$f":"SUM(EE67-EE68)","v":-2}]
["Míra ChalupníkPlaceno panáků",{"$f":"CONCATENATE(C68,\" \",C69)","v":"Míra Chalupník"},{"$f":"Tabulka!B46","v":"Chalupník"},"Placeno panáků",2,null,null,null,null,null,null,null,null,null,null,null,null,null,null,null,null,null,null,null,null,null,null,null,null,null,null,null,null,null,null,null,null,null,null,null,null,null,null,null,null,null,null,null,null,null,null,null,null,null,null,null,null,null,null,null,null,null,null,null,null,null,null,null,null,null,null,null,null,null,null,null,null,null,null,null,null,null,null,null,null,null,null,null,null,null,null,null,null,null,null,null,null,null,null,null,null,null,null,null,null,null,null,null,null,null,null,null,null,null,null,null,null,null,null,null,null,null,null,null,null,null,null,null,null,null,null,null,null,null,2]
["Míra ChalupníkPřehozy",{"$f":"CONCATENATE(C68,\" \",C69)","v":"Míra Chalupník"},{"$f":"Tabulka!B47","v":0},"Přehozy",1,null,null,null,null,null,null,null,null,null,null,null,null,null,null,null,null,null,null,null,null,null,null,null,null,null,null,null,null,null,null,null,null,null,null,null,null,null,null,null,null,null,null,null,null,null,null,null,null,null,null,null,null,null,null,null,null,null,null,null,null,null,null,null,null,null,null,null,null,null,null,null,null,null,null,null,null,null,null,null,null,null,null,null,null,null,null,null,null,null,null,null,null,null,null,null,null,null,null,null,null,null,null,null,null,null,null,null,null,null,null,null,null,null,null,null,null,null,null,null,null,null,null,null,null,null,null,null,null,null,1]
["Míra ChalupníkPoč. kol",{"$f":"CONCATENATE(C68,\" \",C69)","v":"Míra Chalupník"},{"$f":"Tabulka!B48","v":0},"Poč. kol",4,null,null,null,null,null,null,null,null,null,null,null,null,null,null,null,null,null,null,null,null,null,null,null,null,null,null,null,null,null,null,null,null,null,null,null,null,null,null,null,null,null,null,null,null,null,null,null,null,null,null,null,null,null,null,null,null,null,null,null,null,null,null,null,null,null,null,null,null,null,null,null,null,null,null,null,null,null,null,null,null,null,null,null,null,null,null,null,null,null,null,null,null,null,null,null,null,null,null,null,null,null,null,null,null,null,null,null,null,null,null,null,null,null,null,null,null,null,null,null,null,null,null,null,null,null,null,null,null,null,4]
["Míra ChalupníkPočet konečných bodů",{"$f":"CONCATENATE(C68,\" \",C69)","v":"Míra Chalupník"},null,"Počet konečných bodů",28,138,116,43,null,null,null,null,null,null,null,null,null,null,null,null,null,null,null,null,null,null,null,null,null,null,null,null,null,null,null,null,null,null,null,null,null,null,null,null,null,null,null,null,null,null,null,null,null,null,null,null,null,null,null,null,null,null,null,null,null,null,null,null,null,null,null,null,null,null,null,null,null,null,null,null,null,null,null,null,null,null,null,null,null,null,null,null,null,null,null,null,null,null,null,null,null,null,null,null,null,null,null,null,null,null,null,null,null,null,null,null,null,null,null,null,null,null,null,null,null,null,null,null,null,null,null,null,null,null,325]
["Míra ChalupníkPrůměr konečných bodů na kolo",{"$f":"CONCATENATE(C68,\" \",C69)","v":"Míra Chalupník"},null,"Průměr konečných bodů na kolo",{"$f":"IF(E72<>\"\",AVERAGE($E72:E72)+$EI73,\"\")","v":28.000002169999998},{"$f":"IF(F72<>\"\",AVERAGE($E72:F72)+$EI73,\"\")","v":83.000002170000002},{"$f":"IF(G72<>\"\",AVERAGE($E72:G72)+$EI73,\"\")","v":94.000002170000002},{"$f":"IF(H72<>\"\",AVERAGE($E72:H72)+$EI73,\"\")","v":81.250002170000002},{"$f":"IF(I72<>\"\",AVERAGE($E72:I72)+$EI73,\"\")","v":""},{"$f":"IF(J72<>\"\",AVERAGE($E72:J72)+$EI73,\"\")","v":""},{"$f":"IF(K72<>\"\",AVERAGE($E72:K72)+$EI73,\"\")","v":""},{"$f":"IF(L72<>\"\",AVERAGE($E72:L72)+$EI73,\"\")","v":""},{"$f":"IF(M72<>\"\",AVERAGE($E72:M72)+$EI73,\"\")","v":""},{"$f":"IF(N72<>\"\",AVERAGE($E72:N72)+$EI73,\"\")","v":""},{"$f":"IF(O72<>\"\",AVERAGE($E72:O72)+$EI73,\"\")","v":""},{"$f":"IF(P72<>\"\",AVERAGE($E72:P72)+$EI73,\"\")","v":""},{"$f":"IF(Q72<>\"\",AVERAGE($E72:Q72)+$EI73,\"\")","v":""},{"$f":"IF(R72<>\"\",AVERAGE($E72:R72)+$EI73,\"\")","v":""},{"$f":"IF(S72<>\"\",AVERAGE($E72:S72)+$EI73,\"\")","v":""},{"$f":"IF(T72<>\"\",AVERAGE($E72:T72)+$EI73,\"\")","v":""},{"$f":"IF(U72<>\"\",AVERAGE($E72:U72)+$EI73,\"\")","v":""},{"$f":"IF(V72<>\"\",AVERAGE($E72:V72)+$EI73,\"\")","v":""},{"$f":"IF(W72<>\"\",AVERAGE($E72:W72)+$EI73,\"\")","v":""},{"$f":"IF(X72<>\"\",AVERAGE($E72:X72)+$EI73,\"\")","v":""},{"$f":"IF(Y72<>\"\",AVERAGE($E72:Y72)+$EI73,\"\")","v":""},{"$f":"IF(Z72<>\"\",AVERAGE($E72:Z72)+$EI73,\"\")","v":""},{"$f":"IF(AA72<>\"\",AVERAGE($E72:AA72)+$EI73,\"\")","v":""},{"$f":"IF(AB72<>\"\",AVERAGE($E72:AB72)+$EI73,\"\")","v":""},{"$f":"IF(AC72<>\"\",AVERAGE($E72:AC72)+$EI73,\"\")","v":""},{"$f":"IF(AD72<>\"\",AVERAGE($E72:AD72)+$EI73,\"\")","v":""},{"$f":"IF(AE72<>\"\",AVERAGE($E72:AE72)+$EI73,\"\")","v":""},{"$f":"IF(AF72<>\"\",AVERAGE($E72:AF72)+$EI73,\"\")","v":""},{"$f":"IF(AG72<>\"\",AVERAGE($E72:AG72)+$EI73,\"\")","v":""},{"$f":"IF(AH72<>\"\",AVERAGE($E72:AH72)+$EI73,\"\")","v":""},{"$f":"IF(AI72<>\"\",AVERAGE($E72:AI72)+$EI73,\"\")","v":""},{"$f":"IF(AJ72<>\"\",AVERAGE($E72:AJ72)+$EI73,\"\")","v":""},{"$f":"IF(AK72<>\"\",AVERAGE($E72:AK72)+$EI73,\"\")","v":""},{"$f":"IF(AL72<>\"\",AVERAGE($E72:AL72)+$EI73,\"\")","v":""},{"$f":"IF(AM72<>\"\",AVERAGE($E72:AM72)+$EI73,\"\")","v":""},{"$f":"IF(AN72<>\"\",AVERAGE($E72:AN72)+$EI73,\"\")","v":""},{"$f":"IF(AO72<>\"\",AVERAGE($E72:AO72)+$EI73,\"\")","v":""},{"$f":"IF(AP72<>\"\",AVERAGE($E72:AP72)+$EI73,\"\")","v":""},{"$f":"IF(AQ72<>\"\",AVERAGE($E72:AQ72)+$EI73,\"\")","v":""},{"$f":"IF(AR72<>\"\",AVERAGE($E72:AR72)+$EI73,\"\")","v":""},{"$f":"IF(AS72<>\"\",AVERAGE($E72:AS72)+$EI73,\"\")","v":""},{"$f":"IF(AT72<>\"\",AVERAGE($E72:AT72)+$EI73,\"\")","v":""},{"$f":"IF(AU72<>\"\",AVERAGE($E72:AU72)+$EI73,\"\")","v":""},{"$f":"IF(AV72<>\"\",AVERAGE($E72:AV72)+$EI73,\"\")","v":""},{"$f":"IF(AW72<>\"\",AVERAGE($E72:AW72)+$EI73,\"\")","v":""},{"$f":"IF(AX72<>\"\",AVERAGE($E72:AX72)+$EI73,\"\")","v":""},{"$f":"IF(AY72<>\"\",AVERAGE($E72:AY72)+$EI73,\"\")","v":""},{"$f":"IF(AZ72<>\"\",AVERAGE($E72:AZ72)+$EI73,\"\")","v":""},{"$f":"IF(BA72<>\"\",AVERAGE($E72:BA72)+$EI73,\"\")","v":""},{"$f":"IF(BB72<>\"\",AVERAGE($E72:BB72)+$EI73,\"\")","v":""},{"$f":"IF(BC72<>\"\",AVERAGE($E72:BC72)+$EI73,\"\")","v":""},{"$f":"IF(BD72<>\"\",AVERAGE($E72:BD72)+$EI73,\"\")","v":""},{"$f":"IF(BE72<>\"\",AVERAGE($E72:BE72)+$EI73,\"\")","v":""},{"$f":"IF(BF72<>\"\",AVERAGE($E72:BF72)+$EI73,\"\")","v":""},{"$f":"IF(BG72<>\"\",AVERAGE($E72:BG72)+$EI73,\"\")","v":""},{"$f":"IF(BH72<>\"\",AVERAGE($E72:BH72)+$EI73,\"\")","v":""},{"$f":"IF(BI72<>\"\",AVERAGE($E72:BI72)+$EI73,\"\")","v":""},{"$f":"IF(BJ72<>\"\",AVERAGE($E72:BJ72)+$EI73,\"\")","v":""},{"$f":"IF(BK72<>\"\",AVERAGE($E72:BK72)+$EI73,\"\")","v":""},{"$f":"IF(BL72<>\"\",AVERAGE($E72:BL72)+$EI73,\"\")","v":""},{"$f":"IF(BM72<>\"\",AVERAGE($E72:BM72)+$EI73,\"\")","v":""},{"$f":"IF(BN72<>\"\",AVERAGE($E72:BN72)+$EI73,\"\")","v":""},{"$f":"IF(BO72<>\"\",AVERAGE($E72:BO72)+$EI73,\"\")","v":""},{"$f":"IF(BP72<>\"\",AVERAGE($E72:BP72)+$EI73,\"\")","v":""},{"$f":"IF(BQ72<>\"\",AVERAGE($E72:BQ72)+$EI73,\"\")","v":""},{"$f":"IF(BR72<>\"\",AVERAGE($E72:BR72)+$EI73,\"\")","v":""},{"$f":"IF(BS72<>\"\",AVERAGE($E72:BS72)+$EI73,\"\")","v":""},{"$f":"IF(BT72<>\"\",AVERAGE($E72:BT72)+$EI73,\"\")","v":""},{"$f":"IF(BU72<>\"\",AVERAGE($E72:BU72)+$EI73,\"\")","v":""},{"$f":"IF(BV72<>\"\",AVERAGE($E72:BV72)+$EI73,\"\")","v":""},{"$f":"IF(BW72<>\"\",AVERAGE($E72:BW72)+$EI73,\"\")","v":""},{"$f":"IF(BX72<>\"\",AVERAGE($E72:BX72)+$EI73,\"\")","v":""},{"$f":"IF(BY72<>\"\",AVERAGE($E72:BY72)+$EI73,\"\")","v":""},{"$f":"IF(BZ72<>\"\",AVERAGE($E72:BZ72)+$EI73,\"\")","v":""},{"$f":"IF(CA72<>\"\",AVERAGE($E72:CA72)+$EI73,\"\")","v":""},{"$f":"IF(CB72<>\"\",AVERAGE($E72:CB72)+$EI73,\"\")","v":""},{"$f":"IF(CC72<>\"\",AVERAGE($E72:CC72)+$EI73,\"\")","v":""},{"$f":"IF(CD72<>\"\",AVERAGE($E72:CD72)+$EI73,\"\")","v":""},{"$f":"IF(CE72<>\"\",AVERAGE($E72:CE72)+$EI73,\"\")","v":""},{"$f":"IF(CF72<>\"\",AVERAGE($E72:CF72)+$EI73,\"\")","v":""},{"$f":"IF(CG72<>\"\",AVERAGE($E72:CG72)+$EI73,\"\")","v":""},{"$f":"IF(CH72<>\"\",AVERAGE($E72:CH72)+$EI73,\"\")","v":""},{"$f":"IF(CI72<>\"\",AVERAGE($E72:CI72)+$EI73,\"\")","v":""},{"$f":"IF(CJ72<>\"\",AVERAGE($E72:CJ72)+$EI73,\"\")","v":""},{"$f":"IF(CK72<>\"\",AVERAGE($E72:CK72)+$EI73,\"\")","v":""},{"$f":"IF(CL72<>\"\",AVERAGE($E72:CL72)+$EI73,\"\")","v":""},{"$f":"IF(CM72<>\"\",AVERAGE($E72:CM72)+$EI73,\"\")","v":""},{"$f":"IF(CN72<>\"\",AVERAGE($E72:CN72)+$EI73,\"\")","v":""},{"$f":"IF(CO72<>\"\",AVERAGE($E72:CO72)+$EI73,\"\")","v":""},{"$f":"IF(CP72<>\"\",AVERAGE($E72:CP72)+$EI73,\"\")","v":""},{"$f":"IF(CQ72<>\"\",AVERAGE($E72:CQ72)+$EI73,\"\")","v":""},{"$f":"IF(CR72<>\"\",AVERAGE($E72:CR72)+$EI73,\"\")","v":""},{"$f":"IF(CS72<>\"\",AVERAGE($E72:CS72)+$EI73,\"\")","v":""},{"$f":"IF(CT72<>\"\",AVERAGE($E72:CT72)+$EI73,\"\")","v":""},{"$f":"IF(CU72<>\"\",AVERAGE($E72:CU72)+$EI73,\"\")","v":""},{"$f":"IF(CV72<>\"\",AVERAGE($E72:CV72)+$EI73,\"\")","v":""},{"$f":"IF(CW72<>\"\",AVERAGE($E72:CW72)+$EI73,\"\")","v":""},{"$f":"IF(CX72<>\"\",AVERAGE($E72:CX72)+$EI73,\"\")","v":""},{"$f":"IF(CY72<>\"\",AVERAGE($E72:CY72)+$EI73,\"\")","v":""},{"$f":"IF(CZ72<>\"\",AVERAGE($E72:CZ72)+$EI73,\"\")","v":""},{"$f":"IF(DA72<>\"\",AVERAGE($E72:DA72)+$EI73,\"\")","v":""},{"$f":"IF(DB72<>\"\",AVERAGE($E72:DB72)+$EI73,\"\")","v":""},{"$f":"IF(DC72<>\"\",AVERAGE($E72:DC72)+$EI73,\"\")","v":""},{"$f":"IF(DD72<>\"\",AVERAGE($E72:DD72)+$EI73,\"\")","v":""},{"$f":"IF(DE72<>\"\",AVERAGE($E72:DE72)+$EI73,\"\")","v":""},{"$f":"IF(DF72<>\"\",AVERAGE($E72:DF72)+$EI73,\"\")","v":""},{"$f":"IF(DG72<>\"\",AVERAGE($E72:DG72)+$EI73,\"\")","v":""},{"$f":"IF(DH72<>\"\",AVERAGE($E72:DH72)+$EI73,\"\")","v":""},{"$f":"IF(DI72<>\"\",AVERAGE($E72:DI72)+$EI73,\"\")","v":""},{"$f":"IF(DJ72<>\"\",AVERAGE($E72:DJ72)+$EI73,\"\")","v":""},{"$f":"IF(DK72<>\"\",AVERAGE($E72:DK72)+$EI73,\"\")","v":""},{"$f":"IF(DL72<>\"\",AVERAGE($E72:DL72)+$EI73,\"\")","v":""},{"$f":"IF(DM72<>\"\",AVERAGE($E72:DM72)+$EI73,\"\")","v":""},{"$f":"IF(DN72<>\"\",AVERAGE($E72:DN72)+$EI73,\"\")","v":""},{"$f":"IF(DO72<>\"\",AVERAGE($E72:DO72)+$EI73,\"\")","v":""},{"$f":"IF(DP72<>\"\",AVERAGE($E72:DP72)+$EI73,\"\")","v":""},{"$f":"IF(DQ72<>\"\",AVERAGE($E72:DQ72)+$EI73,\"\")","v":""},{"$f":"IF(DR72<>\"\",AVERAGE($E72:DR72)+$EI73,\"\")","v":""},{"$f":"IF(DS72<>\"\",AVERAGE($E72:DS72)+$EI73,\"\")","v":""},{"$f":"IF(DT72<>\"\",AVERAGE($E72:DT72)+$EI73,\"\")","v":""},{"$f":"IF(DU72<>\"\",AVERAGE($E72:DU72)+$EI73,\"\")","v":""},{"$f":"IF(DV72<>\"\",AVERAGE($E72:DV72)+$EI73,\"\")","v":""},{"$f":"IF(DW72<>\"\",AVERAGE($E72:DW72)+$EI73,\"\")","v":""},{"$f":"IF(DX72<>\"\",AVERAGE($E72:DX72)+$EI73,\"\")","v":""},{"$f":"IF(DY72<>\"\",AVERAGE($E72:DY72)+$EI73,\"\")","v":""},{"$f":"IF(DZ72<>\"\",AVERAGE($E72:DZ72)+$EI73,\"\")","v":""},{"$f":"IF(EA72<>\"\",AVERAGE($E72:EA72)+$EI73,\"\")","v":""},{"$f":"IF(EB72<>\"\",AVERAGE($E72:EB72)+$EI73,\"\")","v":""},{"$f":"IF(EC72<>\"\",AVERAGE($E72:EC72)+$EI73,\"\")","v":""},{"$f":"IF(ED72<>\"\",AVERAGE($E72:ED72)+$EI73,\"\")","v":""},{"$f":"IF(OR(SUM(Míra_Chalupník)<1),-90000,EE72/COUNT(E72:ED72))","v":81.25},null,null,{"$f":"CONCATENATE(C68,\" \",C69)","v":"Míra Chalupník"},{"$f":"INDEX(List4!$E$2:$E$17,MATCH(CONCATENATE(C68,\" \",C69),Tabulka1128[Jmeno_prijmeni],0),1)","v":2.1700000000000004E-6}]
["Míra ChalupníkPočet šipek",{"$f":"CONCATENATE(C68,\" \",C69)","v":"Míra Chalupník"},null,"Počet šipek",null,null,null,null,null,null,null,null,null,null,null,null,null,null,null,null,null,null,null,null,null,null,null,null,null,null,null,null,null,null,null,null,null,null,null,null,null,null,null,null,null,null,null,null,null,null,null,null,null,null,null,null,null,null,null,null,null,null,null,null,null,null,null,null,null,null,null,null,null,null,null,null,null,null,null,null,null,null,null,null,null,null,null,null,null,null,null,null,null,null,null,null,null,null,null,null,null,null,null,null,null,null,null,null,null,null,null,null,null,null,null,null,null,null,null,null,null,null,null,null,null,null,null,null,null,null,null,null,null,null,{"$f":"IF(OR(SUM(Míra_Chalupník)<1),-90000,SUM(E74:ED74))","v":0}]
[{"$f":"CONCATENATE($C$76,\" \",$C$77,D75)","v":"Jarda KleinVýhry"},{"$f":"CONCATENATE(C76,\" \",C77)","v":"Jarda Klein"},{"$f":"Tabulka!B49","v":0},"Výhry",1,null,null,null,null,0,null,null,null,null,2,null,null,null,null,3,null,null,null,null,2,null,null,null,null,1,null,null,null,null,0,null,null,null,null,null,null,null,null,null,1,null,null,null,null,1,null,null,null,null,null,null,null,null,null,null,null,null,null,null,null,null,null,null,null,null,null,null,null,null,null,null,null,null,null,null,null,null,null,null,null,null,null,null,null,null,null,null,null,null,null,null,null,null,null,null,null,null,null,null,null,null,null,null,null,null,null,null,null,null,null,null,null,null,null,null,null,null,null,null,null,null,null,null,null,null,null,null,null,null,{"$f":"IF(SUM(Jarda_Klein)<1,-90000,SUM(C75:ED75))","v":11}]
["Jarda KleinProhry","Jarda Klein",{"$f":"Tabulka!B50","v":"Jarda"},"Prohry",0,null,null,null,null,2,null,null,null,null,0,null,null,null,null,0,null,null,null,null,0,null,null,null,null,1,null,null,null,null,0,null,null,null,null,null,null,null,null,null,1,null,null,null,null,1,null,null,null,null,null,null,null,null,null,null,null,null,null,null,null,null,null,null,null,null,null,null,null,null,null,null,null,null,null,null,null,null,null,null,null,null,null,null,null,null,null,null,null,null,null,null,null,null,null,null,null,null,null,null,null,null,null,null,null,null,null,null,null,null,null,null,null,null,null,null,null,null,null,null,null,null,null,null,null,null,null,null,null,null,5,{"$f":"SUM(EE75-EE76)","v":6}]
["Jarda KleinPlaceno panáků",{"$f":"CONCATENATE(C76,\" \",C77)","v":"Jarda Klein"},{"$f":"Tabulka!B51","v":"Klein"},"Placeno panáků",0,null,null,null,null,4,null,null,null,null,0,null,null,null,null,0,null,null,null,null,0,null,null,null,null,1,null,null,null,null,0,null,null,null,null,null,null,null,null,null,1,null,null,null,null,1,null,null,null,null,null,null,null,null,null,null,null,null,null,null,null,null,null,null,null,null,null,null,null,null,null,null,null,null,null,null,null,null,null,null,null,null,null,null,null,null,null,null,null,null,null,null,null,null,null,null,null,null,null,null,null,null,null,null,null,null,null,null,null,null,null,null,null,null,null,null,null,null,null,null,null,null,null,null,null,null,null,null,null,null,7]
["Jarda KleinPřehozy",{"$f":"CONCATENATE(C76,\" \",C77)","v":"Jarda Klein"},{"$f":"Tabulka!B52","v":0},"Přehozy",3,null,null,null,null,4,null,null,null,null,0,null,null,null,null,0,null,null,null,null,3,null,null,null,null,1,null,null,null,null,1,null,null,null,null,null,null,null,null,null,1,null,null,null,null,1,null,null,null,null,null,null,null,null,null,null,null,null,null,null,null,null,null,null,null,null,null,null,null,null,null,null,null,null,null,null,null,null,null,null,null,null,null,null,null,null,null,null,null,null,null,null,null,null,null,null,null,null,null,null,null,null,null,null,null,null,null,null,null,null,null,null,null,null,null,null,null,null,null,null,null,null,null,null,null,null,null,null,null,null,14]
["Jarda KleinPoč. kol",{"$f":"CONCATENATE(C76,\" \",C77)","v":"Jarda Klein"},{"$f":"Tabulka!B53","v":0},"Poč. kol",4,null,null,null,null,4,null,null,null,null,4,null,null,null,null,4,null,null,null,null,4,null,null,null,null,4,null,null,null,null,4,null,null,null,null,null,null,null,null,null,3,null,null,null,null,4,null,null,null,null,null,null,null,null,null,null,null,null,null,null,null,null,null,null,null,null,null,null,null,null,null,null,null,null,null,null,null,null,null,null,null,null,null,null,null,null,null,null,null,null,null,null,null,null,null,null,null,null,null,null,null,null,null,null,null,null,null,null,null,null,null,null,null,null,null,null,null,null,null,null,null,null,null,null,null,null,null,null,null,null,35]
["Jarda KleinPočet konečných bodů",{"$f":"CONCATENATE(C76,\" \",C77)","v":"Jarda Klein"},null,"Počet konečných bodů",25,0,28,98,null,9,95,9,32,null,21,0,0,75,null,133,0,0,0,null,149,28,0,0,null,28,155,0,18,null,108,26,11,149,null,null,null,null,null,null,39,14,0,null,null,8,0,22,78,null,null,null,null,null,null,null,null,null,null,null,null,null,null,null,null,null,null,null,null,null,null,null,null,null,null,null,null,null,null,null,null,null,null,null,null,null,null,null,null,null,null,null,null,null,null,null,null,null,null,null,null,null,null,null,null,null,null,null,null,null,null,null,null,null,null,null,null,null,null,null,null,null,null,null,null,null,null,null,null,null,1358]
["Jarda KleinPrůměr konečných bodů na kolo",{"$f":"CONCATENATE(C76,\" \",C77)","v":"Jarda Klein"},null,"Průměr konečných bodů na kolo",{"$f":"IF(E80<>\"\",AVERAGE($E80:E80)+$EI81,\"\")","v":25.00000215},{"$f":"IF(F80<>\"\",AVERAGE($E80:F80)+$EI81,\"\")","v":12.50000215},{"$f":"IF(G80<>\"\",AVERAGE($E80:G80)+$EI81,\"\")","v":17.666668816666668},{"$f":"IF(H80<>\"\",AVERAGE($E80:H80)+$EI81,\"\")","v":37.75000215},{"$f":"IF(I80<>\"\",AVERAGE($E80:I80)+$EI81,\"\")","v":""},{"$f":"IF(J80<>\"\",AVERAGE($E80:J80)+$EI81,\"\")","v":32.00000215},{"$f":"IF(K80<>\"\",AVERAGE($E80:K80)+$EI81,\"\")","v":42.50000215},{"$f":"IF(L80<>\"\",AVERAGE($E80:L80)+$EI81,\"\")","v":37.714287864285716},{"$f":"IF(M80<>\"\",AVERAGE($E80:M80)+$EI81,\"\")","v":37.00000215},{"$f":"IF(N80<>\"\",AVERAGE($E80:N80)+$EI81,\"\")","v":""},{"$f":"IF(O80<>\"\",AVERAGE($E80:O80)+$EI81,\"\")","v":35.222224372222222},{"$f":"IF(P80<>\"\",AVERAGE($E80:P80)+$EI81,\"\")","v":31.70000215},{"$f":"IF(Q80<>\"\",AVERAGE($E80:Q80)+$EI81,\"\")","v":28.818183968181817},{"$f":"IF(R80<>\"\",AVERAGE($E80:R80)+$EI81,\"\")","v":32.666668816666665},{"$f":"IF(S80<>\"\",AVERAGE($E80:S80)+$EI81,\"\")","v":""},{"$f":"IF(T80<>\"\",AVERAGE($E80:T80)+$EI81,\"\")","v":40.384617534615387},{"$f":"IF(U80<>\"\",AVERAGE($E80:U80)+$EI81,\"\")","v":37.50000215},{"$f":"IF(V80<>\"\",AVERAGE($E80:V80)+$EI81,\"\")","v":35.00000215},{"$f":"IF(W80<>\"\",AVERAGE($E80:W80)+$EI81,\"\")","v":32.81250215},{"$f":"IF(X80<>\"\",AVERAGE($E80:X80)+$EI81,\"\")","v":""},{"$f":"IF(Y80<>\"\",AVERAGE($E80:Y80)+$EI81,\"\")","v":39.647060973529413},{"$f":"IF(Z80<>\"\",AVERAGE($E80:Z80)+$EI81,\"\")","v":39.00000215},{"$f":"IF(AA80<>\"\",AVERAGE($E80:AA80)+$EI81,\"\")","v":36.94737057105263},{"$f":"IF(AB80<>\"\",AVERAGE($E80:AB80)+$EI81,\"\")","v":35.100002150000002},{"$f":"IF(AC80<>\"\",AVERAGE($E80:AC80)+$EI81,\"\")","v":""},{"$f":"IF(AD80<>\"\",AVERAGE($E80:AD80)+$EI81,\"\")","v":34.761906911904759},{"$f":"IF(AE80<>\"\",AVERAGE($E80:AE80)+$EI81,\"\")","v":40.227274877272727},{"$f":"IF(AF80<>\"\",AVERAGE($E80:AF80)+$EI81,\"\")","v":38.478263019565219},{"$f":"IF(AG80<>\"\",AVERAGE($E80:AG80)+$EI81,\"\")","v":37.62500215},{"$f":"IF(AH80<>\"\",AVERAGE($E80:AH80)+$EI81,\"\")","v":""},{"$f":"IF(AI80<>\"\",AVERAGE($E80:AI80)+$EI81,\"\")","v":40.440002149999998},{"$f":"IF(AJ80<>\"\",AVERAGE($E80:AJ80)+$EI81,\"\")","v":39.884617534615387},{"$f":"IF(AK80<>\"\",AVERAGE($E80:AK80)+$EI81,\"\")","v":38.814816964814817},{"$f":"IF(AL80<>\"\",AVERAGE($E80:AL80)+$EI81,\"\")","v":42.75000215},{"$f":"IF(AM80<>\"\",AVERAGE($E80:AM80)+$EI81,\"\")","v":""},{"$f":"IF(AN80<>\"\",AVERAGE($E80:AN80)+$EI81,\"\")","v":""},{"$f":"IF(AO80<>\"\",AVERAGE($E80:AO80)+$EI81,\"\")","v":""},{"$f":"IF(AP80<>\"\",AVERAGE($E80:AP80)+$EI81,\"\")","v":""},{"$f":"IF(AQ80<>\"\",AVERAGE($E80:AQ80)+$EI81,\"\")","v":""},{"$f":"IF(AR80<>\"\",AVERAGE($E80:AR80)+$EI81,\"\")","v":""},{"$f":"IF(AS80<>\"\",AVERAGE($E80:AS80)+$EI81,\"\")","v":42.620691805172413},{"$f":"IF(AT80<>\"\",AVERAGE($E80:AT80)+$EI81,\"\")","v":41.666668816666665},{"$f":"IF(AU80<>\"\",AVERAGE($E80:AU80)+$EI81,\"\")","v":40.322582795161289},{"$f":"IF(AV80<>\"\",AVERAGE($E80:AV80)+$EI81,\"\")","v":""},{"$f":"IF(AW80<>\"\",AVERAGE($E80:AW80)+$EI81,\"\")","v":""},{"$f":"IF(AX80<>\"\",AVERAGE($E80:AX80)+$EI81,\"\")","v":39.31250215},{"$f":"IF(AY80<>\"\",AVERAGE($E80:AY80)+$EI81,\"\")","v":38.121214271212125},{"$f":"IF(AZ80<>\"\",AVERAGE($E80:AZ80)+$EI81,\"\")","v":37.647060973529413},{"$f":"IF(BA80<>\"\",AVERAGE($E80:BA80)+$EI81,\"\")","v":38.800002149999997},{"$f":"IF(BB80<>\"\",AVERAGE($E80:BB80)+$EI81,\"\")","v":""},{"$f":"IF(BC80<>\"\",AVERAGE($E80:BC80)+$EI81,\"\")","v":""},{"$f":"IF(BD80<>\"\",AVERAGE($E80:BD80)+$EI81,\"\")","v":""},{"$f":"IF(BE80<>\"\",AVERAGE($E80:BE80)+$EI81,\"\")","v":""},{"$f":"IF(BF80<>\"\",AVERAGE($E80:BF80)+$EI81,\"\")","v":""},{"$f":"IF(BG80<>\"\",AVERAGE($E80:BG80)+$EI81,\"\")","v":""},{"$f":"IF(BH80<>\"\",AVERAGE($E80:BH80)+$EI81,\"\")","v":""},{"$f":"IF(BI80<>\"\",AVERAGE($E80:BI80)+$EI81,\"\")","v":""},{"$f":"IF(BJ80<>\"\",AVERAGE($E80:BJ80)+$EI81,\"\")","v":""},{"$f":"IF(BK80<>\"\",AVERAGE($E80:BK80)+$EI81,\"\")","v":""},{"$f":"IF(BL80<>\"\",AVERAGE($E80:BL80)+$EI81,\"\")","v":""},{"$f":"IF(BM80<>\"\",AVERAGE($E80:BM80)+$EI81,\"\")","v":""},{"$f":"IF(BN80<>\"\",AVERAGE($E80:BN80)+$EI81,\"\")","v":""},{"$f":"IF(BO80<>\"\",AVERAGE($E80:BO80)+$EI81,\"\")","v":""},{"$f":"IF(BP80<>\"\",AVERAGE($E80:BP80)+$EI81,\"\")","v":""},{"$f":"IF(BQ80<>\"\",AVERAGE($E80:BQ80)+$EI81,\"\")","v":""},{"$f":"IF(BR80<>\"\",AVERAGE($E80:BR80)+$EI81,\"\")","v":""},{"$f":"IF(BS80<>\"\",AVERAGE($E80:BS80)+$EI81,\"\")","v":""},{"$f":"IF(BT80<>\"\",AVERAGE($E80:BT80)+$EI81,\"\")","v":""},{"$f":"IF(BU80<>\"\",AVERAGE($E80:BU80)+$EI81,\"\")","v":""},{"$f":"IF(BV80<>\"\",AVERAGE($E80:BV80)+$EI81,\"\")","v":""},{"$f":"IF(BW80<>\"\",AVERAGE($E80:BW80)+$EI81,\"\")","v":""},{"$f":"IF(BX80<>\"\",AVERAGE($E80:BX80)+$EI81,\"\")","v":""},{"$f":"IF(BY80<>\"\",AVERAGE($E80:BY80)+$EI81,\"\")","v":""},{"$f":"IF(BZ80<>\"\",AVERAGE($E80:BZ80)+$EI81,\"\")","v":""},{"$f":"IF(CA80<>\"\",AVERAGE($E80:CA80)+$EI81,\"\")","v":""},{"$f":"IF(CB80<>\"\",AVERAGE($E80:CB80)+$EI81,\"\")","v":""},{"$f":"IF(CC80<>\"\",AVERAGE($E80:CC80)+$EI81,\"\")","v":""},{"$f":"IF(CD80<>\"\",AVERAGE($E80:CD80)+$EI81,\"\")","v":""},{"$f":"IF(CE80<>\"\",AVERAGE($E80:CE80)+$EI81,\"\")","v":""},{"$f":"IF(CF80<>\"\",AVERAGE($E80:CF80)+$EI81,\"\")","v":""},{"$f":"IF(CG80<>\"\",AVERAGE($E80:CG80)+$EI81,\"\")","v":""},{"$f":"IF(CH80<>\"\",AVERAGE($E80:CH80)+$EI81,\"\")","v":""},{"$f":"IF(CI80<>\"\",AVERAGE($E80:CI80)+$EI81,\"\")","v":""},{"$f":"IF(CJ80<>\"\",AVERAGE($E80:CJ80)+$EI81,\"\")","v":""},{"$f":"IF(CK80<>\"\",AVERAGE($E80:CK80)+$EI81,\"\")","v":""},{"$f":"IF(CL80<>\"\",AVERAGE($E80:CL80)+$EI81,\"\")","v":""},{"$f":"IF(CM80<>\"\",AVERAGE($E80:CM80)+$EI81,\"\")","v":""},{"$f":"IF(CN80<>\"\",AVERAGE($E80:CN80)+$EI81,\"\")","v":""},{"$f":"IF(CO80<>\"\",AVERAGE($E80:CO80)+$EI81,\"\")","v":""},{"$f":"IF(CP80<>\"\",AVERAGE($E80:CP80)+$EI81,\"\")","v":""},{"$f":"IF(CQ80<>\"\",AVERAGE($E80:CQ80)+$EI81,\"\")","v":""},{"$f":"IF(CR80<>\"\",AVERAGE($E80:CR80)+$EI81,\"\")","v":""},{"$f":"IF(CS80<>\"\",AVERAGE($E80:CS80)+$EI81,\"\")","v":""},{"$f":"IF(CT80<>\"\",AVERAGE($E80:CT80)+$EI81,\"\")","v":""},{"$f":"IF(CU80<>\"\",AVERAGE($E80:CU80)+$EI81,\"\")","v":""},{"$f":"IF(CV80<>\"\",AVERAGE($E80:CV80)+$EI81,\"\")","v":""},{"$f":"IF(CW80<>\"\",AVERAGE($E80:CW80)+$EI81,\"\")","v":""},{"$f":"IF(CX80<>\"\",AVERAGE($E80:CX80)+$EI81,\"\")","v":""},{"$f":"IF(CY80<>\"\",AVERAGE($E80:CY80)+$EI81,\"\")","v":""},{"$f":"IF(CZ80<>\"\",AVERAGE($E80:CZ80)+$EI81,\"\")","v":""},{"$f":"IF(DA80<>\"\",AVERAGE($E80:DA80)+$EI81,\"\")","v":""},{"$f":"IF(DB80<>\"\",AVERAGE($E80:DB80)+$EI81,\"\")","v":""},{"$f":"IF(DC80<>\"\",AVERAGE($E80:DC80)+$EI81,\"\")","v":""},{"$f":"IF(DD80<>\"\",AVERAGE($E80:DD80)+$EI81,\"\")","v":""},{"$f":"IF(DE80<>\"\",AVERAGE($E80:DE80)+$EI81,\"\")","v":""},{"$f":"IF(DF80<>\"\",AVERAGE($E80:DF80)+$EI81,\"\")","v":""},{"$f":"IF(DG80<>\"\",AVERAGE($E80:DG80)+$EI81,\"\")","v":""},{"$f":"IF(DH80<>\"\",AVERAGE($E80:DH80)+$EI81,\"\")","v":""},{"$f":"IF(DI80<>\"\",AVERAGE($E80:DI80)+$EI81,\"\")","v":""},{"$f":"IF(DJ80<>\"\",AVERAGE($E80:DJ80)+$EI81,\"\")","v":""},{"$f":"IF(DK80<>\"\",AVERAGE($E80:DK80)+$EI81,\"\")","v":""},{"$f":"IF(DL80<>\"\",AVERAGE($E80:DL80)+$EI81,\"\")","v":""},{"$f":"IF(DM80<>\"\",AVERAGE($E80:DM80)+$EI81,\"\")","v":""},{"$f":"IF(DN80<>\"\",AVERAGE($E80:DN80)+$EI81,\"\")","v":""},{"$f":"IF(DO80<>\"\",AVERAGE($E80:DO80)+$EI81,\"\")","v":""},{"$f":"IF(DP80<>\"\",AVERAGE($E80:DP80)+$EI81,\"\")","v":""},{"$f":"IF(DQ80<>\"\",AVERAGE($E80:DQ80)+$EI81,\"\")","v":""},{"$f":"IF(DR80<>\"\",AVERAGE($E80:DR80)+$EI81,\"\")","v":""},{"$f":"IF(DS80<>\"\",AVERAGE($E80:DS80)+$EI81,\"\")","v":""},{"$f":"IF(DT80<>\"\",AVERAGE($E80:DT80)+$EI81,\"\")","v":""},{"$f":"IF(DU80<>\"\",AVERAGE($E80:DU80)+$EI81,\"\")","v":""},{"$f":"IF(DV80<>\"\",AVERAGE($E80:DV80)+$EI81,\"\")","v":""},{"$f":"IF(DW80<>\"\",AVERAGE($E80:DW80)+$EI81,\"\")","v":""},{"$f":"IF(DX80<>\"\",AVERAGE($E80:DX80)+$EI81,\"\")","v":""},{"$f":"IF(DY80<>\"\",AVERAGE($E80:DY80)+$EI81,\"\")","v":""},{"$f":"IF(DZ80<>\"\",AVERAGE($E80:DZ80)+$EI81,\"\")","v":""},{"$f":"IF(EA80<>\"\",AVERAGE($E80:EA80)+$EI81,\"\")","v":""},{"$f":"IF(EB80<>\"\",AVERAGE($E80:EB80)+$EI81,\"\")","v":""},{"$f":"IF(EC80<>\"\",AVERAGE($E80:EC80)+$EI81,\"\")","v":""},{"$f":"IF(ED80<>\"\",AVERAGE($E80:ED80)+$EI81,\"\")","v":""},{"$f":"IF(SUM(Jarda_Klein)<1,-90000,EE80/COUNT(E80:ED80))","v":38.799999999999997},null,null,{"$f":"CONCATENATE(C76,\" \",C77)","v":"Jarda Klein"},{"$f":"INDEX(List4!$E$2:$E$17,MATCH(CONCATENATE(C76,\" \",C77),Tabulka1128[Jmeno_prijmeni],0),1)","v":2.1500000000000006E-6}]
["Jarda KleinPočet šipek",{"$f":"CONCATENATE(C76,\" \",C77)","v":"Jarda Klein"},null,"Počet šipek",null,null,null,null,null,null,null,null,null,null,null,null,null,null,null,null,null,null,null,null,null,null,null,null,null,null,null,null,null,null,null,null,null,null,null,null,null,null,null,null,null,null,null,null,null,null,null,null,null,null,null,null,null,null,null,null,null,null,null,null,null,null,null,null,null,null,null,null,null,null,null,null,null,null,null,null,null,null,null,null,null,null,null,null,null,null,null,null,null,null,null,null,null,null,null,null,null,null,null,null,null,null,null,null,null,null,null,null,null,null,null,null,null,null,null,null,null,null,null,null,null,null,null,null,null,null,null,null,null,null,{"$f":"IF(SUM(Jarda_Klein)<1,-90000,SUM(C82:ED82))","v":0}]
[{"$f":"CONCATENATE($C$84,\" \",$C$85,D83)","v":"Kuba ŠedivýVýhry"},{"$f":"CONCATENATE(C84,\" \",C85)","v":"Kuba Šedivý"},{"$f":"Tabulka!B54","v":0},"Výhry",1,null,null,null,null,null,null,null,null,null,null,null,null,null,null,null,null,null,null,null,null,null,null,null,null,null,null,null,null,null,null,null,null,null,null,null,null,null,null,null,null,null,null,null,null,2,null,null,null,null,null,null,null,null,null,null,null,null,null,null,null,null,null,null,null,null,null,null,null,null,null,null,null,null,null,null,null,null,null,null,null,null,null,null,null,null,null,null,null,null,null,null,null,null,null,null,null,null,null,null,null,null,null,null,null,null,null,null,null,null,null,null,null,null,null,null,null,null,null,null,null,null,null,null,null,null,null,null,null,null,{"$f":"IF(OR(SUM(Kuba_Šedivý)<1),-90000,SUM(E83:ED83))","v":3}]
["Kuba ŠedivýProhry","Kuba Šedivý",{"$f":"Tabulka!B55","v":"Kuba"},"Prohry",0,null,null,null,null,null,null,null,null,null,null,null,null,null,null,null,null,null,null,null,null,null,null,null,null,null,null,null,null,null,null,null,null,null,null,null,null,null,null,null,null,null,null,null,null,0,null,null,null,null,null,null,null,null,null,null,null,null,null,null,null,null,null,null,null,null,null,null,null,null,null,null,null,null,null,null,null,null,null,null,null,null,null,null,null,null,null,null,null,null,null,null,null,null,null,null,null,null,null,null,null,null,null,null,null,null,null,null,null,null,null,null,null,null,null,null,null,null,null,null,null,null,null,null,null,null,null,null,null,null,0,{"$f":"SUM(EE83-EE84)","v":3}]
["Kuba ŠedivýPlaceno panáků",{"$f":"CONCATENATE(C84,\" \",C85)","v":"Kuba Šedivý"},{"$f":"Tabulka!B56","v":"Šedivý"},"Placeno panáků",0,null,null,null,null,null,null,null,null,null,null,null,null,null,null,null,null,null,null,null,null,null,null,null,null,null,null,null,null,null,null,null,null,null,null,null,null,null,null,null,null,null,null,null,null,0,null,null,null,null,null,null,null,null,null,null,null,null,null,null,null,null,null,null,null,null,null,null,null,null,null,null,null,null,null,null,null,null,null,null,null,null,null,null,null,null,null,null,null,null,null,null,null,null,null,null,null,null,null,null,null,null,null,null,null,null,null,null,null,null,null,null,null,null,null,null,null,null,null,null,null,null,null,null,null,null,null,null,null,null,0]
["Kuba ŠedivýPřehozy",{"$f":"CONCATENATE(C84,\" \",C85)","v":"Kuba Šedivý"},{"$f":"Tabulka!B57","v":0},"Přehozy",3,null,null,null,null,null,null,null,null,null,null,null,null,null,null,null,null,null,null,null,null,null,null,null,null,null,null,null,null,null,null,null,null,null,null,null,null,null,null,null,null,null,null,null,null,3,null,null,null,null,null,null,null,null,null,null,null,null,null,null,null,null,null,null,null,null,null,null,null,null,null,null,null,null,null,null,null,null,null,null,null,null,null,null,null,null,null,null,null,null,null,null,null,null,null,null,null,null,null,null,null,null,null,null,null,null,null,null,null,null,null,null,null,null,null,null,null,null,null,null,null,null,null,null,null,null,null,null,null,null,6]
["Kuba ŠedivýPoč. kol",{"$f":"CONCATENATE(C84,\" \",C85)","v":"Kuba Šedivý"},{"$f":"Tabulka!B58","v":0},"Poč. kol",3,null,null,null,null,null,null,null,null,null,null,null,null,null,null,null,null,null,null,null,null,null,null,null,null,null,null,null,null,null,null,null,null,null,null,null,null,null,null,null,null,null,null,null,null,4,null,null,null,null,null,null,null,null,null,null,null,null,null,null,null,null,null,null,null,null,null,null,null,null,null,null,null,null,null,null,null,null,null,null,null,null,null,null,null,null,null,null,null,null,null,null,null,null,null,null,null,null,null,null,null,null,null,null,null,null,null,null,null,null,null,null,null,null,null,null,null,null,null,null,null,null,null,null,null,null,null,null,null,null,7]
["Kuba ŠedivýPočet konečných bodů",{"$f":"CONCATENATE(C84,\" \",C85)","v":"Kuba Šedivý"},null,"Počet konečných bodů",0,40,1,null,null,null,null,null,null,null,null,null,null,null,null,null,null,null,null,null,null,null,null,null,null,null,null,null,null,null,null,null,null,null,null,null,null,null,null,null,null,null,null,null,null,54,0,0,38,null,null,null,null,null,null,null,null,null,null,null,null,null,null,null,null,null,null,null,null,null,null,null,null,null,null,null,null,null,null,null,null,null,null,null,null,null,null,null,null,null,null,null,null,null,null,null,null,null,null,null,null,null,null,null,null,null,null,null,null,null,null,null,null,null,null,null,null,null,null,null,null,null,null,null,null,null,null,null,null,null,{"$f":"IF(OR(SUM(Kuba_Šedivý)<1),-90000,SUM(E88:ED88))","v":133}]
["Kuba ŠedivýPrůměr konečných bodů na kolo",{"$f":"CONCATENATE(C84,\" \",C85)","v":"Kuba Šedivý"},null,"Průměr konečných bodů na kolo",{"$f":"IF(E88<>\"\",AVERAGE($E88:E88)+$EI89,\"\")","v":2.110000000000001E-6},{"$f":"IF(F88<>\"\",AVERAGE($E88:F88)+$EI89,\"\")","v":20.00000211},{"$f":"IF(G88<>\"\",AVERAGE($E88:G88)+$EI89,\"\")","v":13.666668776666667},{"$f":"IF(H88<>\"\",AVERAGE($E88:H88)+$EI89,\"\")","v":""},{"$f":"IF(I88<>\"\",AVERAGE($E88:I88)+$EI89,\"\")","v":""},{"$f":"IF(J88<>\"\",AVERAGE($E88:J88)+$EI89,\"\")","v":""},{"$f":"IF(K88<>\"\",AVERAGE($E88:K88)+$EI89,\"\")","v":""},{"$f":"IF(L88<>\"\",AVERAGE($E88:L88)+$EI89,\"\")","v":""},{"$f":"IF(M88<>\"\",AVERAGE($E88:M88)+$EI89,\"\")","v":""},{"$f":"IF(N88<>\"\",AVERAGE($E88:N88)+$EI89,\"\")","v":""},{"$f":"IF(O88<>\"\",AVERAGE($E88:O88)+$EI89,\"\")","v":""},{"$f":"IF(P88<>\"\",AVERAGE($E88:P88)+$EI89,\"\")","v":""},{"$f":"IF(Q88<>\"\",AVERAGE($E88:Q88)+$EI89,\"\")","v":""},{"$f":"IF(R88<>\"\",AVERAGE($E88:R88)+$EI89,\"\")","v":""},{"$f":"IF(S88<>\"\",AVERAGE($E88:S88)+$EI89,\"\")","v":""},{"$f":"IF(T88<>\"\",AVERAGE($E88:T88)+$EI89,\"\")","v":""},{"$f":"IF(U88<>\"\",AVERAGE($E88:U88)+$EI89,\"\")","v":""},{"$f":"IF(V88<>\"\",AVERAGE($E88:V88)+$EI89,\"\")","v":""},{"$f":"IF(W88<>\"\",AVERAGE($E88:W88)+$EI89,\"\")","v":""},{"$f":"IF(X88<>\"\",AVERAGE($E88:X88)+$EI89,\"\")","v":""},{"$f":"IF(Y88<>\"\",AVERAGE($E88:Y88)+$EI89,\"\")","v":""},{"$f":"IF(Z88<>\"\",AVERAGE($E88:Z88)+$EI89,\"\")","v":""},{"$f":"IF(AA88<>\"\",AVERAGE($E88:AA88)+$EI89,\"\")","v":""},{"$f":"IF(AB88<>\"\",AVERAGE($E88:AB88)+$EI89,\"\")","v":""},{"$f":"IF(AC88<>\"\",AVERAGE($E88:AC88)+$EI89,\"\")","v":""},{"$f":"IF(AD88<>\"\",AVERAGE($E88:AD88)+$EI89,\"\")","v":""},{"$f":"IF(AE88<>\"\",AVERAGE($E88:AE88)+$EI89,\"\")","v":""},{"$f":"IF(AF88<>\"\",AVERAGE($E88:AF88)+$EI89,\"\")","v":""},{"$f":"IF(AG88<>\"\",AVERAGE($E88:AG88)+$EI89,\"\")","v":""},{"$f":"IF(AH88<>\"\",AVERAGE($E88:AH88)+$EI89,\"\")","v":""},{"$f":"IF(AI88<>\"\",AVERAGE($E88:AI88)+$EI89,\"\")","v":""},{"$f":"IF(AJ88<>\"\",AVERAGE($E88:AJ88)+$EI89,\"\")","v":""},{"$f":"IF(AK88<>\"\",AVERAGE($E88:AK88)+$EI89,\"\")","v":""},{"$f":"IF(AL88<>\"\",AVERAGE($E88:AL88)+$EI89,\"\")","v":""},{"$f":"IF(AM88<>\"\",AVERAGE($E88:AM88)+$EI89,\"\")","v":""},{"$f":"IF(AN88<>\"\",AVERAGE($E88:AN88)+$EI89,\"\")","v":""},{"$f":"IF(AO88<>\"\",AVERAGE($E88:AO88)+$EI89,\"\")","v":""},{"$f":"IF(AP88<>\"\",AVERAGE($E88:AP88)+$EI89,\"\")","v":""},{"$f":"IF(AQ88<>\"\",AVERAGE($E88:AQ88)+$EI89,\"\")","v":""},{"$f":"IF(AR88<>\"\",AVERAGE($E88:AR88)+$EI89,\"\")","v":""},{"$f":"IF(AS88<>\"\",AVERAGE($E88:AS88)+$EI89,\"\")","v":""},{"$f":"IF(AT88<>\"\",AVERAGE($E88:AT88)+$EI89,\"\")","v":""},{"$f":"IF(AU88<>\"\",AVERAGE($E88:AU88)+$EI89,\"\")","v":""},{"$f":"IF(AV88<>\"\",AVERAGE($E88:AV88)+$EI89,\"\")","v":""},{"$f":"IF(AW88<>\"\",AVERAGE($E88:AW88)+$EI89,\"\")","v":""},{"$f":"IF(AX88<>\"\",AVERAGE($E88:AX88)+$EI89,\"\")","v":23.75000211},{"$f":"IF(AY88<>\"\",AVERAGE($E88:AY88)+$EI89,\"\")","v":19.00000211},{"$f":"IF(AZ88<>\"\",AVERAGE($E88:AZ88)+$EI89,\"\")","v":15.833335443333334},{"$f":"IF(BA88<>\"\",AVERAGE($E88:BA88)+$EI89,\"\")","v":19.00000211},{"$f":"IF(BB88<>\"\",AVERAGE($E88:BB88)+$EI89,\"\")","v":""},{"$f":"IF(BC88<>\"\",AVERAGE($E88:BC88)+$EI89,\"\")","v":""},{"$f":"IF(BD88<>\"\",AVERAGE($E88:BD88)+$EI89,\"\")","v":""},{"$f":"IF(BE88<>\"\",AVERAGE($E88:BE88)+$EI89,\"\")","v":""},{"$f":"IF(BF88<>\"\",AVERAGE($E88:BF88)+$EI89,\"\")","v":""},{"$f":"IF(BG88<>\"\",AVERAGE($E88:BG88)+$EI89,\"\")","v":""},{"$f":"IF(BH88<>\"\",AVERAGE($E88:BH88)+$EI89,\"\")","v":""},{"$f":"IF(BI88<>\"\",AVERAGE($E88:BI88)+$EI89,\"\")","v":""},{"$f":"IF(BJ88<>\"\",AVERAGE($E88:BJ88)+$EI89,\"\")","v":""},{"$f":"IF(BK88<>\"\",AVERAGE($E88:BK88)+$EI89,\"\")","v":""},{"$f":"IF(BL88<>\"\",AVERAGE($E88:BL88)+$EI89,\"\")","v":""},{"$f":"IF(BM88<>\"\",AVERAGE($E88:BM88)+$EI89,\"\")","v":""},{"$f":"IF(BN88<>\"\",AVERAGE($E88:BN88)+$EI89,\"\")","v":""},{"$f":"IF(BO88<>\"\",AVERAGE($E88:BO88)+$EI89,\"\")","v":""},{"$f":"IF(BP88<>\"\",AVERAGE($E88:BP88)+$EI89,\"\")","v":""},{"$f":"IF(BQ88<>\"\",AVERAGE($E88:BQ88)+$EI89,\"\")","v":""},{"$f":"IF(BR88<>\"\",AVERAGE($E88:BR88)+$EI89,\"\")","v":""},{"$f":"IF(BS88<>\"\",AVERAGE($E88:BS88)+$EI89,\"\")","v":""},{"$f":"IF(BT88<>\"\",AVERAGE($E88:BT88)+$EI89,\"\")","v":""},{"$f":"IF(BU88<>\"\",AVERAGE($E88:BU88)+$EI89,\"\")","v":""},{"$f":"IF(BV88<>\"\",AVERAGE($E88:BV88)+$EI89,\"\")","v":""},{"$f":"IF(BW88<>\"\",AVERAGE($E88:BW88)+$EI89,\"\")","v":""},{"$f":"IF(BX88<>\"\",AVERAGE($E88:BX88)+$EI89,\"\")","v":""},{"$f":"IF(BY88<>\"\",AVERAGE($E88:BY88)+$EI89,\"\")","v":""},{"$f":"IF(BZ88<>\"\",AVERAGE($E88:BZ88)+$EI89,\"\")","v":""},{"$f":"IF(CA88<>\"\",AVERAGE($E88:CA88)+$EI89,\"\")","v":""},{"$f":"IF(CB88<>\"\",AVERAGE($E88:CB88)+$EI89,\"\")","v":""},{"$f":"IF(CC88<>\"\",AVERAGE($E88:CC88)+$EI89,\"\")","v":""},{"$f":"IF(CD88<>\"\",AVERAGE($E88:CD88)+$EI89,\"\")","v":""},{"$f":"IF(CE88<>\"\",AVERAGE($E88:CE88)+$EI89,\"\")","v":""},{"$f":"IF(CF88<>\"\",AVERAGE($E88:CF88)+$EI89,\"\")","v":""},{"$f":"IF(CG88<>\"\",AVERAGE($E88:CG88)+$EI89,\"\")","v":""},{"$f":"IF(CH88<>\"\",AVERAGE($E88:CH88)+$EI89,\"\")","v":""},{"$f":"IF(CI88<>\"\",AVERAGE($E88:CI88)+$EI89,\"\")","v":""},{"$f":"IF(CJ88<>\"\",AVERAGE($E88:CJ88)+$EI89,\"\")","v":""},{"$f":"IF(CK88<>\"\",AVERAGE($E88:CK88)+$EI89,\"\")","v":""},{"$f":"IF(CL88<>\"\",AVERAGE($E88:CL88)+$EI89,\"\")","v":""},{"$f":"IF(CM88<>\"\",AVERAGE($E88:CM88)+$EI89,\"\")","v":""},{"$f":"IF(CN88<>\"\",AVERAGE($E88:CN88)+$EI89,\"\")","v":""},{"$f":"IF(CO88<>\"\",AVERAGE($E88:CO88)+$EI89,\"\")","v":""},{"$f":"IF(CP88<>\"\",AVERAGE($E88:CP88)+$EI89,\"\")","v":""},{"$f":"IF(CQ88<>\"\",AVERAGE($E88:CQ88)+$EI89,\"\")","v":""},{"$f":"IF(CR88<>\"\",AVERAGE($E88:CR88)+$EI89,\"\")","v":""},{"$f":"IF(CS88<>\"\",AVERAGE($E88:CS88)+$EI89,\"\")","v":""},{"$f":"IF(CT88<>\"\",AVERAGE($E88:CT88)+$EI89,\"\")","v":""},{"$f":"IF(CU88<>\"\",AVERAGE($E88:CU88)+$EI89,\"\")","v":""},{"$f":"IF(CV88<>\"\",AVERAGE($E88:CV88)+$EI89,\"\")","v":""},{"$f":"IF(CW88<>\"\",AVERAGE($E88:CW88)+$EI89,\"\")","v":""},{"$f":"IF(CX88<>\"\",AVERAGE($E88:CX88)+$EI89,\"\")","v":""},{"$f":"IF(CY88<>\"\",AVERAGE($E88:CY88)+$EI89,\"\")","v":""},{"$f":"IF(CZ88<>\"\",AVERAGE($E88:CZ88)+$EI89,\"\")","v":""},{"$f":"IF(DA88<>\"\",AVERAGE($E88:DA88)+$EI89,\"\")","v":""},{"$f":"IF(DB88<>\"\",AVERAGE($E88:DB88)+$EI89,\"\")","v":""},{"$f":"IF(DC88<>\"\",AVERAGE($E88:DC88)+$EI89,\"\")","v":""},{"$f":"IF(DD88<>\"\",AVERAGE($E88:DD88)+$EI89,\"\")","v":""},{"$f":"IF(DE88<>\"\",AVERAGE($E88:DE88)+$EI89,\"\")","v":""},{"$f":"IF(DF88<>\"\",AVERAGE($E88:DF88)+$EI89,\"\")","v":""},{"$f":"IF(DG88<>\"\",AVERAGE($E88:DG88)+$EI89,\"\")","v":""},{"$f":"IF(DH88<>\"\",AVERAGE($E88:DH88)+$EI89,\"\")","v":""},{"$f":"IF(DI88<>\"\",AVERAGE($E88:DI88)+$EI89,\"\")","v":""},{"$f":"IF(DJ88<>\"\",AVERAGE($E88:DJ88)+$EI89,\"\")","v":""},{"$f":"IF(DK88<>\"\",AVERAGE($E88:DK88)+$EI89,\"\")","v":""},{"$f":"IF(DL88<>\"\",AVERAGE($E88:DL88)+$EI89,\"\")","v":""},{"$f":"IF(DM88<>\"\",AVERAGE($E88:DM88)+$EI89,\"\")","v":""},{"$f":"IF(DN88<>\"\",AVERAGE($E88:DN88)+$EI89,\"\")","v":""},{"$f":"IF(DO88<>\"\",AVERAGE($E88:DO88)+$EI89,\"\")","v":""},{"$f":"IF(DP88<>\"\",AVERAGE($E88:DP88)+$EI89,\"\")","v":""},{"$f":"IF(DQ88<>\"\",AVERAGE($E88:DQ88)+$EI89,\"\")","v":""},{"$f":"IF(DR88<>\"\",AVERAGE($E88:DR88)+$EI89,\"\")","v":""},{"$f":"IF(DS88<>\"\",AVERAGE($E88:DS88)+$EI89,\"\")","v":""},{"$f":"IF(DT88<>\"\",AVERAGE($E88:DT88)+$EI89,\"\")","v":""},{"$f":"IF(DU88<>\"\",AVERAGE($E88:DU88)+$EI89,\"\")","v":""},{"$f":"IF(DV88<>\"\",AVERAGE($E88:DV88)+$EI89,\"\")","v":""},{"$f":"IF(DW88<>\"\",AVERAGE($E88:DW88)+$EI89,\"\")","v":""},{"$f":"IF(DX88<>\"\",AVERAGE($E88:DX88)+$EI89,\"\")","v":""},{"$f":"IF(DY88<>\"\",AVERAGE($E88:DY88)+$EI89,\"\")","v":""},{"$f":"IF(DZ88<>\"\",AVERAGE($E88:DZ88)+$EI89,\"\")","v":""},{"$f":"IF(EA88<>\"\",AVERAGE($E88:EA88)+$EI89,\"\")","v":""},{"$f":"IF(EB88<>\"\",AVERAGE($E88:EB88)+$EI89,\"\")","v":""},{"$f":"IF(EC88<>\"\",AVERAGE($E88:EC88)+$EI89,\"\")","v":""},{"$f":"IF(ED88<>\"\",AVERAGE($E88:ED88)+$EI89,\"\")","v":""},{"$f":"IF(OR(SUM(Kuba_Šedivý)<1),-90000,EE88/COUNT(E88:ED88))","v":19},null,null,{"$f":"CONCATENATE(C84,\" \",C85)","v":"Kuba Šedivý"},{"$f":"INDEX(List4!$E$2:$E$17,MATCH(CONCATENATE(C84,\" \",C85),Tabulka1128[Jmeno_prijmeni],0),1)","v":2.110000000000001E-6}]
["Kuba ŠedivýPočet šipek",{"$f":"CONCATENATE(C84,\" \",C85)","v":"Kuba Šedivý"},null,"Počet šipek",null,null,null,null,null,null,null,null,null,null,null,null,null,null,null,null,null,null,null,null,null,null,null,null,null,null,null,null,null,null,null,null,null,null,null,null,null,null,null,null,null,null,null,null,null,null,null,null,null,null,null,null,null,null,null,null,null,null,null,null,null,null,null,null,null,null,null,null,null,null,null,null,null,null,null,null,null,null,null,null,null,null,null,null,null,null,null,null,null,null,null,null,null,null,null,null,null,null,null,null,null,null,null,null,null,null,null,null,null,null,null,null,null,null,null,null,null,null,null,null,null,null,null,null,null,null,null,null,null,null,{"$f":"IF(OR(SUM(Kuba_Šedivý)<1),-90000,SUM(E90:ED90))","v":0}]
[{"$f":"CONCATENATE($C$92,\" \",$C$93,D91)","v":"Standa RothVýhry"},{"$f":"CONCATENATE(C92,\" \",C93)","v":"Standa Roth"},{"$f":"Tabulka!B59","v":0},"Výhry",0,null,null,null,null,2,null,null,null,null,null,null,null,null,null,0,null,null,null,null,0,null,null,null,null,1,null,null,null,null,1,null,null,null,null,1,null,null,null,null,1,null,null,null,null,0,null,null,null,null,null,null,null,null,null,null,null,null,null,null,null,null,null,null,null,null,null,null,null,null,null,null,null,null,null,null,null,null,null,null,null,null,null,null,null,null,null,null,null,null,null,null,null,null,null,null,null,null,null,null,null,null,null,null,null,null,null,null,null,null,null,null,null,null,null,null,null,null,null,null,null,null,null,null,null,null,null,null,null,null,{"$f":"IF(SUM(Standa_Roth)<1,-90000,SUM(E91:ED91))","v":6}]
["Standa RothProhry","Standa Roth",{"$f":"Tabulka!B60","v":"Standa"},"Prohry",0,null,null,null,null,0,null,null,null,null,null,null,null,null,null,0,null,null,null,null,1,null,null,null,null,0,null,null,null,null,1,null,null,null,null,0,null,null,null,null,0,null,null,null,null,2,null,null,null,null,null,null,null,null,null,null,null,null,null,null,null,null,null,null,null,null,null,null,null,null,null,null,null,null,null,null,null,null,null,null,null,null,null,null,null,null,null,null,null,null,null,null,null,null,null,null,null,null,null,null,null,null,null,null,null,null,null,null,null,null,null,null,null,null,null,null,null,null,null,null,null,null,null,null,null,null,null,null,null,null,4,{"$f":"SUM(EE91-EE92)","v":2}]
["Standa RothPlaceno panáků",{"$f":"CONCATENATE(C92,\" \",C93)","v":"Standa Roth"},{"$f":"Tabulka!B61","v":"Roth"},"Placeno panáků",0,null,null,null,null,0,null,null,null,null,null,null,null,null,null,0,null,null,null,null,2,null,null,null,null,0,null,null,null,null,1,null,null,null,null,0,null,null,null,null,0,null,null,null,null,4,null,null,null,null,null,null,null,null,null,null,null,null,null,null,null,null,null,null,null,null,null,null,null,null,null,null,null,null,null,null,null,null,null,null,null,null,null,null,null,null,null,null,null,null,null,null,null,null,null,null,null,null,null,null,null,null,null,null,null,null,null,null,null,null,null,null,null,null,null,null,null,null,null,null,null,null,null,null,null,null,null,null,null,null,7]
["Standa RothPřehozy",{"$f":"CONCATENATE(C92,\" \",C93)","v":"Standa Roth"},{"$f":"Tabulka!B62","v":0},"Přehozy",0,null,null,null,null,2,null,null,null,null,null,null,null,null,null,2,null,null,null,null,0,null,null,null,null,0,null,null,null,null,0,null,null,null,null,0,null,null,null,null,0,null,null,null,null,3,null,null,null,null,null,null,null,null,null,null,null,null,null,null,null,null,null,null,null,null,null,null,null,null,null,null,null,null,null,null,null,null,null,null,null,null,null,null,null,null,null,null,null,null,null,null,null,null,null,null,null,null,null,null,null,null,null,null,null,null,null,null,null,null,null,null,null,null,null,null,null,null,null,null,null,null,null,null,null,null,null,null,null,null,7]
["Standa RothPoč. kol",{"$f":"CONCATENATE(C92,\" \",C93)","v":"Standa Roth"},{"$f":"Tabulka!B63","v":0},"Poč. kol",4,null,null,null,null,4,null,null,null,null,null,null,null,null,null,4,null,null,null,null,4,null,null,null,null,4,null,null,null,null,4,null,null,null,null,4,null,null,null,null,3,null,null,null,null,4,null,null,null,null,null,null,null,null,null,null,null,null,null,null,null,null,null,null,null,null,null,null,null,null,null,null,null,null,null,null,null,null,null,null,null,null,null,null,null,null,null,null,null,null,null,null,null,null,null,null,null,null,null,null,null,null,null,null,null,null,null,null,null,null,null,null,null,null,null,null,null,null,null,null,null,null,null,null,null,null,null,null,null,null,35]
["Standa RothPočet konečných bodů",{"$f":"CONCATENATE(C92,\" \",C93)","v":"Standa Roth"},null,"Počet konečných bodů",8,116,88,93,null,1,72,0,0,null,null,null,null,null,null,50,44,96,19,null,105,193,93,30,null,0,70,17,132,null,105,61,58,0,null,144,49,0,16,null,0,64,115,null,null,45,75,64,16,null,null,null,null,null,null,null,null,null,null,null,null,null,null,null,null,null,null,null,null,null,null,null,null,null,null,null,null,null,null,null,null,null,null,null,null,null,null,null,null,null,null,null,null,null,null,null,null,null,null,null,null,null,null,null,null,null,null,null,null,null,null,null,null,null,null,null,null,null,null,null,null,null,null,null,null,null,null,null,null,null,2039]
["Standa RothPrůměr konečných bodů na kolo",{"$f":"CONCATENATE(C92,\" \",C93)","v":"Standa Roth"},null,"Průměr konečných bodů na kolo",{"$f":"IF(E96<>\"\",AVERAGE($E96:E96)+$EI97,\"\")","v":8.0000021199999996},{"$f":"IF(F96<>\"\",AVERAGE($E96:F96)+$EI97,\"\")","v":62.000002119999998},{"$f":"IF(G96<>\"\",AVERAGE($E96:G96)+$EI97,\"\")","v":70.666668786666676},{"$f":"IF(H96<>\"\",AVERAGE($E96:H96)+$EI97,\"\")","v":76.250002120000005},{"$f":"IF(I96<>\"\",AVERAGE($E96:I96)+$EI97,\"\")","v":""},{"$f":"IF(J96<>\"\",AVERAGE($E96:J96)+$EI97,\"\")","v":61.200002120000001},{"$f":"IF(K96<>\"\",AVERAGE($E96:K96)+$EI97,\"\")","v":63.000002119999998},{"$f":"IF(L96<>\"\",AVERAGE($E96:L96)+$EI97,\"\")","v":54.000002119999998},{"$f":"IF(M96<>\"\",AVERAGE($E96:M96)+$EI97,\"\")","v":47.250002119999998},{"$f":"IF(N96<>\"\",AVERAGE($E96:N96)+$EI97,\"\")","v":""},{"$f":"IF(O96<>\"\",AVERAGE($E96:O96)+$EI97,\"\")","v":""},{"$f":"IF(P96<>\"\",AVERAGE($E96:P96)+$EI97,\"\")","v":""},{"$f":"IF(Q96<>\"\",AVERAGE($E96:Q96)+$EI97,\"\")","v":""},{"$f":"IF(R96<>\"\",AVERAGE($E96:R96)+$EI97,\"\")","v":""},{"$f":"IF(S96<>\"\",AVERAGE($E96:S96)+$EI97,\"\")","v":""},{"$f":"IF(T96<>\"\",AVERAGE($E96:T96)+$EI97,\"\")","v":47.555557675555555},{"$f":"IF(U96<>\"\",AVERAGE($E96:U96)+$EI97,\"\")","v":47.200002120000001},{"$f":"IF(V96<>\"\",AVERAGE($E96:V96)+$EI97,\"\")","v":51.636365756363631},{"$f":"IF(W96<>\"\",AVERAGE($E96:W96)+$EI97,\"\")","v":48.916668786666662},{"$f":"IF(X96<>\"\",AVERAGE($E96:X96)+$EI97,\"\")","v":""},{"$f":"IF(Y96<>\"\",AVERAGE($E96:Y96)+$EI97,\"\")","v":53.230771350769231},{"$f":"IF(Z96<>\"\",AVERAGE($E96:Z96)+$EI97,\"\")","v":63.214287834285713},{"$f":"IF(AA96<>\"\",AVERAGE($E96:AA96)+$EI97,\"\")","v":65.200002120000008},{"$f":"IF(AB96<>\"\",AVERAGE($E96:AB96)+$EI97,\"\")","v":63.000002119999998},{"$f":"IF(AC96<>\"\",AVERAGE($E96:AC96)+$EI97,\"\")","v":""},{"$f":"IF(AD96<>\"\",AVERAGE($E96:AD96)+$EI97,\"\")","v":59.294119767058824},{"$f":"IF(AE96<>\"\",AVERAGE($E96:AE96)+$EI97,\"\")","v":59.888891008888884},{"$f":"IF(AF96<>\"\",AVERAGE($E96:AF96)+$EI97,\"\")","v":57.631581067368415},{"$f":"IF(AG96<>\"\",AVERAGE($E96:AG96)+$EI97,\"\")","v":61.350002119999999},{"$f":"IF(AH96<>\"\",AVERAGE($E96:AH96)+$EI97,\"\")","v":""},{"$f":"IF(AI96<>\"\",AVERAGE($E96:AI96)+$EI97,\"\")","v":63.428573548571428},{"$f":"IF(AJ96<>\"\",AVERAGE($E96:AJ96)+$EI97,\"\")","v":63.318183938181818},{"$f":"IF(AK96<>\"\",AVERAGE($E96:AK96)+$EI97,\"\")","v":63.08695864173913},{"$f":"IF(AL96<>\"\",AVERAGE($E96:AL96)+$EI97,\"\")","v":60.458335453333333},{"$f":"IF(AM96<>\"\",AVERAGE($E96:AM96)+$EI97,\"\")","v":""},{"$f":"IF(AN96<>\"\",AVERAGE($E96:AN96)+$EI97,\"\")","v":63.800002119999995},{"$f":"IF(AO96<>\"\",AVERAGE($E96:AO96)+$EI97,\"\")","v":63.230771350769231},{"$f":"IF(AP96<>\"\",AVERAGE($E96:AP96)+$EI97,\"\")","v":60.888891008888884},{"$f":"IF(AQ96<>\"\",AVERAGE($E96:AQ96)+$EI97,\"\")","v":59.285716405714282},{"$f":"IF(AR96<>\"\",AVERAGE($E96:AR96)+$EI97,\"\")","v":""},{"$f":"IF(AS96<>\"\",AVERAGE($E96:AS96)+$EI97,\"\")","v":57.241381430344823},{"$f":"IF(AT96<>\"\",AVERAGE($E96:AT96)+$EI97,\"\")","v":57.466668786666666},{"$f":"IF(AU96<>\"\",AVERAGE($E96:AU96)+$EI97,\"\")","v":59.322582765161286},{"$f":"IF(AV96<>\"\",AVERAGE($E96:AV96)+$EI97,\"\")","v":""},{"$f":"IF(AW96<>\"\",AVERAGE($E96:AW96)+$EI97,\"\")","v":""},{"$f":"IF(AX96<>\"\",AVERAGE($E96:AX96)+$EI97,\"\")","v":58.875002119999998},{"$f":"IF(AY96<>\"\",AVERAGE($E96:AY96)+$EI97,\"\")","v":59.363638483636365},{"$f":"IF(AZ96<>\"\",AVERAGE($E96:AZ96)+$EI97,\"\")","v":59.500002119999998},{"$f":"IF(BA96<>\"\",AVERAGE($E96:BA96)+$EI97,\"\")","v":58.257144977142858},{"$f":"IF(BB96<>\"\",AVERAGE($E96:BB96)+$EI97,\"\")","v":""},{"$f":"IF(BC96<>\"\",AVERAGE($E96:BC96)+$EI97,\"\")","v":""},{"$f":"IF(BD96<>\"\",AVERAGE($E96:BD96)+$EI97,\"\")","v":""},{"$f":"IF(BE96<>\"\",AVERAGE($E96:BE96)+$EI97,\"\")","v":""},{"$f":"IF(BF96<>\"\",AVERAGE($E96:BF96)+$EI97,\"\")","v":""},{"$f":"IF(BG96<>\"\",AVERAGE($E96:BG96)+$EI97,\"\")","v":""},{"$f":"IF(BH96<>\"\",AVERAGE($E96:BH96)+$EI97,\"\")","v":""},{"$f":"IF(BI96<>\"\",AVERAGE($E96:BI96)+$EI97,\"\")","v":""},{"$f":"IF(BJ96<>\"\",AVERAGE($E96:BJ96)+$EI97,\"\")","v":""},{"$f":"IF(BK96<>\"\",AVERAGE($E96:BK96)+$EI97,\"\")","v":""},{"$f":"IF(BL96<>\"\",AVERAGE($E96:BL96)+$EI97,\"\")","v":""},{"$f":"IF(BM96<>\"\",AVERAGE($E96:BM96)+$EI97,\"\")","v":""},{"$f":"IF(BN96<>\"\",AVERAGE($E96:BN96)+$EI97,\"\")","v":""},{"$f":"IF(BO96<>\"\",AVERAGE($E96:BO96)+$EI97,\"\")","v":""},{"$f":"IF(BP96<>\"\",AVERAGE($E96:BP96)+$EI97,\"\")","v":""},{"$f":"IF(BQ96<>\"\",AVERAGE($E96:BQ96)+$EI97,\"\")","v":""},{"$f":"IF(BR96<>\"\",AVERAGE($E96:BR96)+$EI97,\"\")","v":""},{"$f":"IF(BS96<>\"\",AVERAGE($E96:BS96)+$EI97,\"\")","v":""},{"$f":"IF(BT96<>\"\",AVERAGE($E96:BT96)+$EI97,\"\")","v":""},{"$f":"IF(BU96<>\"\",AVERAGE($E96:BU96)+$EI97,\"\")","v":""},{"$f":"IF(BV96<>\"\",AVERAGE($E96:BV96)+$EI97,\"\")","v":""},{"$f":"IF(BW96<>\"\",AVERAGE($E96:BW96)+$EI97,\"\")","v":""},{"$f":"IF(BX96<>\"\",AVERAGE($E96:BX96)+$EI97,\"\")","v":""},{"$f":"IF(BY96<>\"\",AVERAGE($E96:BY96)+$EI97,\"\")","v":""},{"$f":"IF(BZ96<>\"\",AVERAGE($E96:BZ96)+$EI97,\"\")","v":""},{"$f":"IF(CA96<>\"\",AVERAGE($E96:CA96)+$EI97,\"\")","v":""},{"$f":"IF(CB96<>\"\",AVERAGE($E96:CB96)+$EI97,\"\")","v":""},{"$f":"IF(CC96<>\"\",AVERAGE($E96:CC96)+$EI97,\"\")","v":""},{"$f":"IF(CD96<>\"\",AVERAGE($E96:CD96)+$EI97,\"\")","v":""},{"$f":"IF(CE96<>\"\",AVERAGE($E96:CE96)+$EI97,\"\")","v":""},{"$f":"IF(CF96<>\"\",AVERAGE($E96:CF96)+$EI97,\"\")","v":""},{"$f":"IF(CG96<>\"\",AVERAGE($E96:CG96)+$EI97,\"\")","v":""},{"$f":"IF(CH96<>\"\",AVERAGE($E96:CH96)+$EI97,\"\")","v":""},{"$f":"IF(CI96<>\"\",AVERAGE($E96:CI96)+$EI97,\"\")","v":""},{"$f":"IF(CJ96<>\"\",AVERAGE($E96:CJ96)+$EI97,\"\")","v":""},{"$f":"IF(CK96<>\"\",AVERAGE($E96:CK96)+$EI97,\"\")","v":""},{"$f":"IF(CL96<>\"\",AVERAGE($E96:CL96)+$EI97,\"\")","v":""},{"$f":"IF(CM96<>\"\",AVERAGE($E96:CM96)+$EI97,\"\")","v":""},{"$f":"IF(CN96<>\"\",AVERAGE($E96:CN96)+$EI97,\"\")","v":""},{"$f":"IF(CO96<>\"\",AVERAGE($E96:CO96)+$EI97,\"\")","v":""},{"$f":"IF(CP96<>\"\",AVERAGE($E96:CP96)+$EI97,\"\")","v":""},{"$f":"IF(CQ96<>\"\",AVERAGE($E96:CQ96)+$EI97,\"\")","v":""},{"$f":"IF(CR96<>\"\",AVERAGE($E96:CR96)+$EI97,\"\")","v":""},{"$f":"IF(CS96<>\"\",AVERAGE($E96:CS96)+$EI97,\"\")","v":""},{"$f":"IF(CT96<>\"\",AVERAGE($E96:CT96)+$EI97,\"\")","v":""},{"$f":"IF(CU96<>\"\",AVERAGE($E96:CU96)+$EI97,\"\")","v":""},{"$f":"IF(CV96<>\"\",AVERAGE($E96:CV96)+$EI97,\"\")","v":""},{"$f":"IF(CW96<>\"\",AVERAGE($E96:CW96)+$EI97,\"\")","v":""},{"$f":"IF(CX96<>\"\",AVERAGE($E96:CX96)+$EI97,\"\")","v":""},{"$f":"IF(CY96<>\"\",AVERAGE($E96:CY96)+$EI97,\"\")","v":""},{"$f":"IF(CZ96<>\"\",AVERAGE($E96:CZ96)+$EI97,\"\")","v":""},{"$f":"IF(DA96<>\"\",AVERAGE($E96:DA96)+$EI97,\"\")","v":""},{"$f":"IF(DB96<>\"\",AVERAGE($E96:DB96)+$EI97,\"\")","v":""},{"$f":"IF(DC96<>\"\",AVERAGE($E96:DC96)+$EI97,\"\")","v":""},{"$f":"IF(DD96<>\"\",AVERAGE($E96:DD96)+$EI97,\"\")","v":""},{"$f":"IF(DE96<>\"\",AVERAGE($E96:DE96)+$EI97,\"\")","v":""},{"$f":"IF(DF96<>\"\",AVERAGE($E96:DF96)+$EI97,\"\")","v":""},{"$f":"IF(DG96<>\"\",AVERAGE($E96:DG96)+$EI97,\"\")","v":""},{"$f":"IF(DH96<>\"\",AVERAGE($E96:DH96)+$EI97,\"\")","v":""},{"$f":"IF(DI96<>\"\",AVERAGE($E96:DI96)+$EI97,\"\")","v":""},{"$f":"IF(DJ96<>\"\",AVERAGE($E96:DJ96)+$EI97,\"\")","v":""},{"$f":"IF(DK96<>\"\",AVERAGE($E96:DK96)+$EI97,\"\")","v":""},{"$f":"IF(DL96<>\"\",AVERAGE($E96:DL96)+$EI97,\"\")","v":""},{"$f":"IF(DM96<>\"\",AVERAGE($E96:DM96)+$EI97,\"\")","v":""},{"$f":"IF(DN96<>\"\",AVERAGE($E96:DN96)+$EI97,\"\")","v":""},{"$f":"IF(DO96<>\"\",AVERAGE($E96:DO96)+$EI97,\"\")","v":""},{"$f":"IF(DP96<>\"\",AVERAGE($E96:DP96)+$EI97,\"\")","v":""},{"$f":"IF(DQ96<>\"\",AVERAGE($E96:DQ96)+$EI97,\"\")","v":""},{"$f":"IF(DR96<>\"\",AVERAGE($E96:DR96)+$EI97,\"\")","v":""},{"$f":"IF(DS96<>\"\",AVERAGE($E96:DS96)+$EI97,\"\")","v":""},{"$f":"IF(DT96<>\"\",AVERAGE($E96:DT96)+$EI97,\"\")","v":""},{"$f":"IF(DU96<>\"\",AVERAGE($E96:DU96)+$EI97,\"\")","v":""},{"$f":"IF(DV96<>\"\",AVERAGE($E96:DV96)+$EI97,\"\")","v":""},{"$f":"IF(DW96<>\"\",AVERAGE($E96:DW96)+$EI97,\"\")","v":""},{"$f":"IF(DX96<>\"\",AVERAGE($E96:DX96)+$EI97,\"\")","v":""},{"$f":"IF(DY96<>\"\",AVERAGE($E96:DY96)+$EI97,\"\")","v":""},{"$f":"IF(DZ96<>\"\",AVERAGE($E96:DZ96)+$EI97,\"\")","v":""},{"$f":"IF(EA96<>\"\",AVERAGE($E96:EA96)+$EI97,\"\")","v":""},{"$f":"IF(EB96<>\"\",AVERAGE($E96:EB96)+$EI97,\"\")","v":""},{"$f":"IF(EC96<>\"\",AVERAGE($E96:EC96)+$EI97,\"\")","v":""},{"$f":"IF(ED96<>\"\",AVERAGE($E96:ED96)+$EI97,\"\")","v":""},{"$f":"IF(SUM(Standa_Roth)<1,-90000,EE96/COUNT(E96:ED96))","v":58.25714285714286},null,null,{"$f":"CONCATENATE(C92,\" \",C93)","v":"Standa Roth"},{"$f":"INDEX(List4!$E$2:$E$17,MATCH(CONCATENATE(C92,\" \",C93),Tabulka1128[Jmeno_prijmeni],0),1)","v":2.1200000000000009E-6}]
["Standa RothPočet šipek",{"$f":"CONCATENATE(C92,\" \",C93)","v":"Standa Roth"},null,"Počet šipek",null,null,null,null,null,null,null,null,null,null,null,null,null,null,null,null,null,null,null,null,null,null,null,null,null,null,null,null,null,null,null,null,null,null,null,null,null,null,null,null,null,null,null,null,null,null,null,null,null,null,null,null,null,null,null,null,null,null,null,null,null,null,null,null,null,null,null,null,null,null,null,null,null,null,null,null,null,null,null,null,null,null,null,null,null,null,null,null,null,null,null,null,null,null,null,null,null,null,null,null,null,null,null,null,null,null,null,null,null,null,null,null,null,null,null,null,null,null,null,null,null,null,null,null,null,null,null,null,null,null,{"$f":"IF(SUM(Standa_Roth)<1,-90000,SUM(E98:ED98))","v":0}]
[{"$f":"CONCATENATE($C$100,\" \",$C$101,D99)","v":"Ostatní hráčiVýhry"},{"$f":"CONCATENATE(C100,\" \",C101)","v":"Ostatní hráči"},{"$f":"Tabulka!B64","v":0},"Výhry",null,null,null,null,null,null,null,null,null,null,null,null,null,null,null,null,null,null,null,null,1,null,null,null,null,null,null,null,null,null,null,null,null,null,null,null,null,null,null,null,null,null,null,null,null,null,null,null,null,null,null,null,null,null,null,null,null,null,null,null,null,null,null,null,null,null,null,null,null,null,null,null,null,null,null,null,null,null,null,null,null,null,null,null,null,null,null,null,null,null,null,null,null,null,null,null,null,null,null,null,null,null,null,null,null,null,null,null,null,null,null,null,null,null,null,null,null,null,null,null,null,null,null,null,null,null,null,null,null,null,{"$f":"IF(OR(SUM(Pavla_Šmídová)<1),-90000,SUM(E99:ED99))","v":1}]
["Ostatní hráčiProhry","Ostatní hráči",{"$f":"Tabulka!B65","v":"Ostatní"},"Prohry",null,null,null,null,null,null,null,null,null,null,null,null,null,null,null,null,null,null,null,null,2,null,null,null,null,null,null,null,null,null,null,null,null,null,null,null,null,null,null,null,null,null,null,null,null,null,null,null,null,null,null,null,null,null,null,null,null,null,null,null,null,null,null,null,null,null,null,null,null,null,null,null,null,null,null,null,null,null,null,null,null,null,null,null,null,null,null,null,null,null,null,null,null,null,null,null,null,null,null,null,null,null,null,null,null,null,null,null,null,null,null,null,null,null,null,null,null,null,null,null,null,null,null,null,null,null,null,null,null,null,2,{"$f":"SUM(EE99-EE100)","v":-1}]
["Ostatní hráčiPlaceno panáků",{"$f":"CONCATENATE(C100,\" \",C101)","v":"Ostatní hráči"},{"$f":"Tabulka!B66","v":"hráči"},"Placeno panáků",null,null,null,null,null,null,null,null,null,null,null,null,null,null,null,null,null,null,null,null,2,null,null,null,null,null,null,null,null,null,null,null,null,null,null,null,null,null,null,null,null,null,null,null,null,null,null,null,null,null,null,null,null,null,null,null,null,null,null,null,null,null,null,null,null,null,null,null,null,null,null,null,null,null,null,null,null,null,null,null,null,null,null,null,null,null,null,null,null,null,null,null,null,null,null,null,null,null,null,null,null,null,null,null,null,null,null,null,null,null,null,null,null,null,null,null,null,null,null,null,null,null,null,null,null,null,null,null,null,null,2]
["Ostatní hráčiPřehozy",{"$f":"CONCATENATE(C100,\" \",C101)","v":"Ostatní hráči"},{"$f":"Tabulka!B67","v":0},"Přehozy",null,null,null,null,null,null,null,null,null,null,null,null,null,null,null,null,null,null,null,null,0,null,null,null,null,null,null,null,null,null,null,null,null,null,null,null,null,null,null,null,null,null,null,null,null,null,null,null,null,null,null,null,null,null,null,null,null,null,null,null,null,null,null,null,null,null,null,null,null,null,null,null,null,null,null,null,null,null,null,null,null,null,null,null,null,null,null,null,null,null,null,null,null,null,null,null,null,null,null,null,null,null,null,null,null,null,null,null,null,null,null,null,null,null,null,null,null,null,null,null,null,null,null,null,null,null,null,null,null,null,0]
["Ostatní hráčiPoč. kol",{"$f":"CONCATENATE(C100,\" \",C101)","v":"Ostatní hráči"},{"$f":"Tabulka!B68","v":0},"Poč. kol",null,null,null,null,null,null,null,null,null,null,null,null,null,null,null,null,null,null,null,null,4,null,null,null,null,null,null,null,null,null,null,null,null,null,null,null,null,null,null,null,null,null,null,null,null,null,null,null,null,null,null,null,null,null,null,null,null,null,null,null,null,null,null,null,null,null,null,null,null,null,null,null,null,null,null,null,null,null,null,null,null,null,null,null,null,null,null,null,null,null,null,null,null,null,null,null,null,null,null,null,null,null,null,null,null,null,null,null,null,null,null,null,null,null,null,null,null,null,null,null,null,null,null,null,null,null,null,null,null,null,4]
["Ostatní hráčiPočet konečných bodů",{"$f":"CONCATENATE(C100,\" \",C101)","v":"Ostatní hráči"},null,"Počet konečných bodů",null,null,null,null,null,null,null,null,null,null,null,null,null,null,null,null,null,null,null,null,240,273,0,53,null,null,null,null,null,null,null,null,null,null,null,null,null,null,null,null,null,null,null,null,null,null,null,null,null,null,null,null,null,null,null,null,null,null,null,null,null,null,null,null,null,null,null,null,null,null,null,null,null,null,null,null,null,null,null,null,null,null,null,null,null,null,null,null,null,null,null,null,null,null,null,null,null,null,null,null,null,null,null,null,null,null,null,null,null,null,null,null,null,null,null,null,null,null,null,null,null,null,null,null,null,null,null,null,null,null,566]
["Ostatní hráčiPrůměr konečných bodů na kolo",{"$f":"CONCATENATE(C100,\" \",C101)","v":"Ostatní hráči"},null,"Průměr konečných bodů na kolo",{"$f":"IF(E104<>\"\",AVERAGE($E104:E104)+$EI105,\"\")","v":""},{"$f":"IF(F104<>\"\",AVERAGE($E104:F104)+$EI105,\"\")","v":""},{"$f":"IF(G104<>\"\",AVERAGE($E104:G104)+$EI105,\"\")","v":""},{"$f":"IF(H104<>\"\",AVERAGE($E104:H104)+$EI105,\"\")","v":""},{"$f":"IF(I104<>\"\",AVERAGE($E104:I104)+$EI105,\"\")","v":""},{"$f":"IF(J104<>\"\",AVERAGE($E104:J104)+$EI105,\"\")","v":""},{"$f":"IF(K104<>\"\",AVERAGE($E104:K104)+$EI105,\"\")","v":""},{"$f":"IF(L104<>\"\",AVERAGE($E104:L104)+$EI105,\"\")","v":""},{"$f":"IF(M104<>\"\",AVERAGE($E104:M104)+$EI105,\"\")","v":""},{"$f":"IF(N104<>\"\",AVERAGE($E104:N104)+$EI105,\"\")","v":""},{"$f":"IF(O104<>\"\",AVERAGE($E104:O104)+$EI105,\"\")","v":""},{"$f":"IF(P104<>\"\",AVERAGE($E104:P104)+$EI105,\"\")","v":""},{"$f":"IF(Q104<>\"\",AVERAGE($E104:Q104)+$EI105,\"\")","v":""},{"$f":"IF(R104<>\"\",AVERAGE($E104:R104)+$EI105,\"\")","v":""},{"$f":"IF(S104<>\"\",AVERAGE($E104:S104)+$EI105,\"\")","v":""},{"$f":"IF(T104<>\"\",AVERAGE($E104:T104)+$EI105,\"\")","v":""},{"$f":"IF(U104<>\"\",AVERAGE($E104:U104)+$EI105,\"\")","v":""},{"$f":"IF(V104<>\"\",AVERAGE($E104:V104)+$EI105,\"\")","v":""},{"$f":"IF(W104<>\"\",AVERAGE($E104:W104)+$EI105,\"\")","v":""},{"$f":"IF(X104<>\"\",AVERAGE($E104:X104)+$EI105,\"\")","v":""},{"$f":"IF(Y104<>\"\",AVERAGE($E104:Y104)+$EI105,\"\")","v":240.00000208},{"$f":"IF(Z104<>\"\",AVERAGE($E104:Z104)+$EI105,\"\")","v":256.50000208},{"$f":"IF(AA104<>\"\",AVERAGE($E104:AA104)+$EI105,\"\")","v":171.00000208},{"$f":"IF(AB104<>\"\",AVERAGE($E104:AB104)+$EI105,\"\")","v":141.50000208},{"$f":"IF(AC104<>\"\",AVERAGE($E104:AC104)+$EI105,\"\")","v":""},{"$f":"IF(AD104<>\"\",AVERAGE($E104:AD104)+$EI105,\"\")","v":""},{"$f":"IF(AE104<>\"\",AVERAGE($E104:AE104)+$EI105,\"\")","v":""},{"$f":"IF(AF104<>\"\",AVERAGE($E104:AF104)+$EI105,\"\")","v":""},{"$f":"IF(AG104<>\"\",AVERAGE($E104:AG104)+$EI105,\"\")","v":""},{"$f":"IF(AH104<>\"\",AVERAGE($E104:AH104)+$EI105,\"\")","v":""},{"$f":"IF(AI104<>\"\",AVERAGE($E104:AI104)+$EI105,\"\")","v":""},{"$f":"IF(AJ104<>\"\",AVERAGE($E104:AJ104)+$EI105,\"\")","v":""},{"$f":"IF(AK104<>\"\",AVERAGE($E104:AK104)+$EI105,\"\")","v":""},{"$f":"IF(AL104<>\"\",AVERAGE($E104:AL104)+$EI105,\"\")","v":""},{"$f":"IF(AM104<>\"\",AVERAGE($E104:AM104)+$EI105,\"\")","v":""},{"$f":"IF(AN104<>\"\",AVERAGE($E104:AN104)+$EI105,\"\")","v":""},{"$f":"IF(AO104<>\"\",AVERAGE($E104:AO104)+$EI105,\"\")","v":""},{"$f":"IF(AP104<>\"\",AVERAGE($E104:AP104)+$EI105,\"\")","v":""},{"$f":"IF(AQ104<>\"\",AVERAGE($E104:AQ104)+$EI105,\"\")","v":""},{"$f":"IF(AR104<>\"\",AVERAGE($E104:AR104)+$EI105,\"\")","v":""},{"$f":"IF(AS104<>\"\",AVERAGE($E104:AS104)+$EI105,\"\")","v":""},{"$f":"IF(AT104<>\"\",AVERAGE($E104:AT104)+$EI105,\"\")","v":""},{"$f":"IF(AU104<>\"\",AVERAGE($E104:AU104)+$EI105,\"\")","v":""},{"$f":"IF(AV104<>\"\",AVERAGE($E104:AV104)+$EI105,\"\")","v":""},{"$f":"IF(AW104<>\"\",AVERAGE($E104:AW104)+$EI105,\"\")","v":""},{"$f":"IF(AX104<>\"\",AVERAGE($E104:AX104)+$EI105,\"\")","v":""},{"$f":"IF(AY104<>\"\",AVERAGE($E104:AY104)+$EI105,\"\")","v":""},{"$f":"IF(AZ104<>\"\",AVERAGE($E104:AZ104)+$EI105,\"\")","v":""},{"$f":"IF(BA104<>\"\",AVERAGE($E104:BA104)+$EI105,\"\")","v":""},{"$f":"IF(BB104<>\"\",AVERAGE($E104:BB104)+$EI105,\"\")","v":""},{"$f":"IF(BC104<>\"\",AVERAGE($E104:BC104)+$EI105,\"\")","v":""},{"$f":"IF(BD104<>\"\",AVERAGE($E104:BD104)+$EI105,\"\")","v":""},{"$f":"IF(BE104<>\"\",AVERAGE($E104:BE104)+$EI105,\"\")","v":""},{"$f":"IF(BF104<>\"\",AVERAGE($E104:BF104)+$EI105,\"\")","v":""},{"$f":"IF(BG104<>\"\",AVERAGE($E104:BG104)+$EI105,\"\")","v":""},{"$f":"IF(BH104<>\"\",AVERAGE($E104:BH104)+$EI105,\"\")","v":""},{"$f":"IF(BI104<>\"\",AVERAGE($E104:BI104)+$EI105,\"\")","v":""},{"$f":"IF(BJ104<>\"\",AVERAGE($E104:BJ104)+$EI105,\"\")","v":""},{"$f":"IF(BK104<>\"\",AVERAGE($E104:BK104)+$EI105,\"\")","v":""},{"$f":"IF(BL104<>\"\",AVERAGE($E104:BL104)+$EI105,\"\")","v":""},{"$f":"IF(BM104<>\"\",AVERAGE($E104:BM104)+$EI105,\"\")","v":""},{"$f":"IF(BN104<>\"\",AVERAGE($E104:BN104)+$EI105,\"\")","v":""},{"$f":"IF(BO104<>\"\",AVERAGE($E104:BO104)+$EI105,\"\")","v":""},{"$f":"IF(BP104<>\"\",AVERAGE($E104:BP104)+$EI105,\"\")","v":""},{"$f":"IF(BQ104<>\"\",AVERAGE($E104:BQ104)+$EI105,\"\")","v":""},{"$f":"IF(BR104<>\"\",AVERAGE($E104:BR104)+$EI105,\"\")","v":""},{"$f":"IF(BS104<>\"\",AVERAGE($E104:BS104)+$EI105,\"\")","v":""},{"$f":"IF(BT104<>\"\",AVERAGE($E104:BT104)+$EI105,\"\")","v":""},{"$f":"IF(BU104<>\"\",AVERAGE($E104:BU104)+$EI105,\"\")","v":""},{"$f":"IF(BV104<>\"\",AVERAGE($E104:BV104)+$EI105,\"\")","v":""},{"$f":"IF(BW104<>\"\",AVERAGE($E104:BW104)+$EI105,\"\")","v":""},{"$f":"IF(BX104<>\"\",AVERAGE($E104:BX104)+$EI105,\"\")","v":""},{"$f":"IF(BY104<>\"\",AVERAGE($E104:BY104)+$EI105,\"\")","v":""},{"$f":"IF(BZ104<>\"\",AVERAGE($E104:BZ104)+$EI105,\"\")","v":""},{"$f":"IF(CA104<>\"\",AVERAGE($E104:CA104)+$EI105,\"\")","v":""},{"$f":"IF(CB104<>\"\",AVERAGE($E104:CB104)+$EI105,\"\")","v":""},{"$f":"IF(CC104<>\"\",AVERAGE($E104:CC104)+$EI105,\"\")","v":""},{"$f":"IF(CD104<>\"\",AVERAGE($E104:CD104)+$EI105,\"\")","v":""},{"$f":"IF(CE104<>\"\",AVERAGE($E104:CE104)+$EI105,\"\")","v":""},{"$f":"IF(CF104<>\"\",AVERAGE($E104:CF104)+$EI105,\"\")","v":""},{"$f":"IF(CG104<>\"\",AVERAGE($E104:CG104)+$EI105,\"\")","v":""},{"$f":"IF(CH104<>\"\",AVERAGE($E104:CH104)+$EI105,\"\")","v":""},{"$f":"IF(CI104<>\"\",AVERAGE($E104:CI104)+$EI105,\"\")","v":""},{"$f":"IF(CJ104<>\"\",AVERAGE($E104:CJ104)+$EI105,\"\")","v":""},{"$f":"IF(CK104<>\"\",AVERAGE($E104:CK104)+$EI105,\"\")","v":""},{"$f":"IF(CL104<>\"\",AVERAGE($E104:CL104)+$EI105,\"\")","v":""},{"$f":"IF(CM104<>\"\",AVERAGE($E104:CM104)+$EI105,\"\")","v":""},{"$f":"IF(CN104<>\"\",AVERAGE($E104:CN104)+$EI105,\"\")","v":""},{"$f":"IF(CO104<>\"\",AVERAGE($E104:CO104)+$EI105,\"\")","v":""},{"$f":"IF(CP104<>\"\",AVERAGE($E104:CP104)+$EI105,\"\")","v":""},{"$f":"IF(CQ104<>\"\",AVERAGE($E104:CQ104)+$EI105,\"\")","v":""},{"$f":"IF(CR104<>\"\",AVERAGE($E104:CR104)+$EI105,\"\")","v":""},{"$f":"IF(CS104<>\"\",AVERAGE($E104:CS104)+$EI105,\"\")","v":""},{"$f":"IF(CT104<>\"\",AVERAGE($E104:CT104)+$EI105,\"\")","v":""},{"$f":"IF(CU104<>\"\",AVERAGE($E104:CU104)+$EI105,\"\")","v":""},{"$f":"IF(CV104<>\"\",AVERAGE($E104:CV104)+$EI105,\"\")","v":""},{"$f":"IF(CW104<>\"\",AVERAGE($E104:CW104)+$EI105,\"\")","v":""},{"$f":"IF(CX104<>\"\",AVERAGE($E104:CX104)+$EI105,\"\")","v":""},{"$f":"IF(CY104<>\"\",AVERAGE($E104:CY104)+$EI105,\"\")","v":""},{"$f":"IF(CZ104<>\"\",AVERAGE($E104:CZ104)+$EI105,\"\")","v":""},{"$f":"IF(DA104<>\"\",AVERAGE($E104:DA104)+$EI105,\"\")","v":""},{"$f":"IF(DB104<>\"\",AVERAGE($E104:DB104)+$EI105,\"\")","v":""},{"$f":"IF(DC104<>\"\",AVERAGE($E104:DC104)+$EI105,\"\")","v":""},{"$f":"IF(DD104<>\"\",AVERAGE($E104:DD104)+$EI105,\"\")","v":""},{"$f":"IF(DE104<>\"\",AVERAGE($E104:DE104)+$EI105,\"\")","v":""},{"$f":"IF(DF104<>\"\",AVERAGE($E104:DF104)+$EI105,\"\")","v":""},{"$f":"IF(DG104<>\"\",AVERAGE($E104:DG104)+$EI105,\"\")","v":""},{"$f":"IF(DH104<>\"\",AVERAGE($E104:DH104)+$EI105,\"\")","v":""},{"$f":"IF(DI104<>\"\",AVERAGE($E104:DI104)+$EI105,\"\")","v":""},{"$f":"IF(DJ104<>\"\",AVERAGE($E104:DJ104)+$EI105,\"\")","v":""},{"$f":"IF(DK104<>\"\",AVERAGE($E104:DK104)+$EI105,\"\")","v":""},{"$f":"IF(DL104<>\"\",AVERAGE($E104:DL104)+$EI105,\"\")","v":""},{"$f":"IF(DM104<>\"\",AVERAGE($E104:DM104)+$EI105,\"\")","v":""},{"$f":"IF(DN104<>\"\",AVERAGE($E104:DN104)+$EI105,\"\")","v":""},{"$f":"IF(DO104<>\"\",AVERAGE($E104:DO104)+$EI105,\"\")","v":""},{"$f":"IF(DP104<>\"\",AVERAGE($E104:DP104)+$EI105,\"\")","v":""},{"$f":"IF(DQ104<>\"\",AVERAGE($E104:DQ104)+$EI105,\"\")","v":""},{"$f":"IF(DR104<>\"\",AVERAGE($E104:DR104)+$EI105,\"\")","v":""},{"$f":"IF(DS104<>\"\",AVERAGE($E104:DS104)+$EI105,\"\")","v":""},{"$f":"IF(DT104<>\"\",AVERAGE($E104:DT104)+$EI105,\"\")","v":""},{"$f":"IF(DU104<>\"\",AVERAGE($E104:DU104)+$EI105,\"\")","v":""},{"$f":"IF(DV104<>\"\",AVERAGE($E104:DV104)+$EI105,\"\")","v":""},{"$f":"IF(DW104<>\"\",AVERAGE($E104:DW104)+$EI105,\"\")","v":""},{"$f":"IF(DX104<>\"\",AVERAGE($E104:DX104)+$EI105,\"\")","v":""},{"$f":"IF(DY104<>\"\",AVERAGE($E104:DY104)+$EI105,\"\")","v":""},{"$f":"IF(DZ104<>\"\",AVERAGE($E104:DZ104)+$EI105,\"\")","v":""},{"$f":"IF(EA104<>\"\",AVERAGE($E104:EA104)+$EI105,\"\")","v":""},{"$f":"IF(EB104<>\"\",AVERAGE($E104:EB104)+$EI105,\"\")","v":""},{"$f":"IF(EC104<>\"\",AVERAGE($E104:EC104)+$EI105,\"\")","v":""},{"$f":"IF(ED104<>\"\",AVERAGE($E104:ED104)+$EI105,\"\")","v":""},{"$f":"IF(OR(SUM(Pavla_Šmídová)<1),-90000,EE104/COUNT(E104:ED104))","v":141.5},null,null,{"$f":"CONCATENATE(C100,\" \",C101)","v":"Ostatní hráči"},{"$f":"INDEX(List4!$E$2:$E$17,MATCH(CONCATENATE(C100,\" \",C101),Tabulka1128[Jmeno_prijmeni],0),1)","v":2.0800000000000013E-6}]
["Ostatní hráčiPočet šipek",{"$f":"CONCATENATE(C100,\" \",C101)","v":"Ostatní hráči"},null,"Počet šipek",null,null,null,null,null,null,null,null,null,null,null,null,null,null,null,null,null,null,null,null,null,null,null,null,null,null,null,null,null,null,null,null,null,null,null,null,null,null,null,null,null,null,null,null,null,null,null,null,null,null,null,null,null,null,null,null,null,null,null,null,null,null,null,null,null,null,null,null,null,null,null,null,null,null,null,null,null,null,null,null,null,null,null,null,null,null,null,null,null,null,null,null,null,null,null,null,null,null,null,null,null,null,null,null,null,null,null,null,null,null,null,null,null,null,null,null,null,null,null,null,null,null,null,null,null,null,null,null,null,null,{"$f":"IF(OR(SUM(Pavla_Šmídová)<1),-90000,SUM(E106:ED106))","v":0}]
[{"$f":"CONCATENATE($C$108,\" \",$C$109,D107)","v":"Míra KulhanVýhry"},{"$f":"CONCATENATE(C108,\" \",C109)","v":"Míra Kulhan"},{"$f":"Tabulka!B69","v":0},"Výhry",null,null,null,null,null,null,null,null,null,null,null,null,null,null,null,null,null,null,null,null,null,null,null,null,null,null,null,null,null,null,null,null,null,null,null,null,null,null,null,null,null,null,null,null,null,null,null,null,null,null,null,null,null,null,null,null,null,null,null,null,null,null,null,null,null,null,null,null,null,null,null,null,null,null,null,null,null,null,null,null,null,null,null,null,null,null,null,null,null,null,null,null,null,null,null,null,null,null,null,null,null,null,null,null,null,null,null,null,null,null,null,null,null,null,null,null,null,null,null,null,null,null,null,null,null,null,null,null,null,null,{"$f":"IF(SUM(Náhrad_1)<1,-90000,SUM(C107:ED107))","v":-90000}]
["Míra KulhanProhry","Míra Kulhan",{"$f":"Tabulka!B70","v":"Míra"},"Prohry",null,null,null,null,null,null,null,null,null,null,null,null,null,null,null,null,null,null,null,null,null,null,null,null,null,null,null,null,null,null,null,null,null,null,null,null,null,null,null,null,null,null,null,null,null,null,null,null,null,null,null,null,null,null,null,null,null,null,null,null,null,null,null,null,null,null,null,null,null,null,null,null,null,null,null,null,null,null,null,null,null,null,null,null,null,null,null,null,null,null,null,null,null,null,null,null,null,null,null,null,null,null,null,null,null,null,null,null,null,null,null,null,null,null,null,null,null,null,null,null,null,null,null,null,null,null,null,null,null,null,-90000,{"$f":"SUM(EE107-EE108)","v":0}]
["Míra KulhanPlaceno panáků",{"$f":"CONCATENATE(C108,\" \",C109)","v":"Míra Kulhan"},{"$f":"Tabulka!B71","v":"Kulhan"},"Placeno panáků",null,null,null,null,null,null,null,null,null,null,null,null,null,null,null,null,null,null,null,null,null,null,null,null,null,null,null,null,null,null,null,null,null,null,null,null,null,null,null,null,null,null,null,null,null,null,null,null,null,null,null,null,null,null,null,null,null,null,null,null,null,null,null,null,null,null,null,null,null,null,null,null,null,null,null,null,null,null,null,null,null,null,null,null,null,null,null,null,null,null,null,null,null,null,null,null,null,null,null,null,null,null,null,null,null,null,null,null,null,null,null,null,null,null,null,null,null,null,null,null,null,null,null,null,null,null,null,null,null,null,-90000]
["Míra KulhanPřehozy",{"$f":"CONCATENATE(C108,\" \",C109)","v":"Míra Kulhan"},{"$f":"Tabulka!B72","v":0},"Přehozy",null,null,null,null,null,null,null,null,null,null,null,null,null,null,null,null,null,null,null,null,null,null,null,null,null,null,null,null,null,null,null,null,null,null,null,null,null,null,null,null,null,null,null,null,null,null,null,null,null,null,null,null,null,null,null,null,null,null,null,null,null,null,null,null,null,null,null,null,null,null,null,null,null,null,null,null,null,null,null,null,null,null,null,null,null,null,null,null,null,null,null,null,null,null,null,null,null,null,null,null,null,null,null,null,null,null,null,null,null,null,null,null,null,null,null,null,null,null,null,null,null,null,null,null,null,null,null,null,null,null,-90000]
["Míra KulhanPoč. kol",{"$f":"CONCATENATE(C108,\" \",C109)","v":"Míra Kulhan"},{"$f":"Tabulka!B73","v":0},"Poč. kol",null,null,null,null,null,null,null,null,null,null,null,null,null,null,null,null,null,null,null,null,null,null,null,null,null,null,null,null,null,null,null,null,null,null,null,null,null,null,null,null,null,null,null,null,null,null,null,null,null,null,null,null,null,null,null,null,null,null,null,null,null,null,null,null,null,null,null,null,null,null,null,null,null,null,null,null,null,null,null,null,null,null,null,null,null,null,null,null,null,null,null,null,null,null,null,null,null,null,null,null,null,null,null,null,null,null,null,null,null,null,null,null,null,null,null,null,null,null,null,null,null,null,null,null,null,null,null,null,null,null,-90000]
["Míra KulhanPočet konečných bodů",{"$f":"CONCATENATE(C108,\" \",C109)","v":"Míra Kulhan"},null,"Počet konečných bodů",null,null,null,null,null,null,null,null,null,null,null,null,null,null,null,null,null,null,null,null,null,null,null,null,null,null,null,null,null,null,null,null,null,null,null,null,null,null,null,null,null,null,null,null,null,null,null,null,null,null,null,null,null,null,null,null,null,null,null,null,null,null,null,null,null,null,null,null,null,null,null,null,null,null,null,null,null,null,null,null,null,null,null,null,null,null,null,null,null,null,null,null,null,null,null,null,null,null,null,null,null,null,null,null,null,null,null,null,null,null,null,null,null,null,null,null,null,null,null,null,null,null,null,null,null,null,null,null,null,null,-90000]
["Míra KulhanPrůměr konečných bodů na kolo",{"$f":"CONCATENATE(C108,\" \",C109)","v":"Míra Kulhan"},null,"Průměr konečných bodů na kolo",{"$f":"IF(E112<>\"\",AVERAGE($E112:E112)+$EI113,\"\")","v":""},{"$f":"IF(F112<>\"\",AVERAGE($E112:F112)+$EI113,\"\")","v":""},{"$f":"IF(G112<>\"\",AVERAGE($E112:G112)+$EI113,\"\")","v":""},{"$f":"IF(H112<>\"\",AVERAGE($E112:H112)+$EI113,\"\")","v":""},{"$f":"IF(I112<>\"\",AVERAGE($E112:I112)+$EI113,\"\")","v":""},{"$f":"IF(J112<>\"\",AVERAGE($E112:J112)+$EI113,\"\")","v":""},{"$f":"IF(K112<>\"\",AVERAGE($E112:K112)+$EI113,\"\")","v":""},{"$f":"IF(L112<>\"\",AVERAGE($E112:L112)+$EI113,\"\")","v":""},{"$f":"IF(M112<>\"\",AVERAGE($E112:M112)+$EI113,\"\")","v":""},{"$f":"IF(N112<>\"\",AVERAGE($E112:N112)+$EI113,\"\")","v":""},{"$f":"IF(O112<>\"\",AVERAGE($E112:O112)+$EI113,\"\")","v":""},{"$f":"IF(P112<>\"\",AVERAGE($E112:P112)+$EI113,\"\")","v":""},{"$f":"IF(Q112<>\"\",AVERAGE($E112:Q112)+$EI113,\"\")","v":""},{"$f":"IF(R112<>\"\",AVERAGE($E112:R112)+$EI113,\"\")","v":""},{"$f":"IF(S112<>\"\",AVERAGE($E112:S112)+$EI113,\"\")","v":""},{"$f":"IF(T112<>\"\",AVERAGE($E112:T112)+$EI113,\"\")","v":""},{"$f":"IF(U112<>\"\",AVERAGE($E112:U112)+$EI113,\"\")","v":""},{"$f":"IF(V112<>\"\",AVERAGE($E112:V112)+$EI113,\"\")","v":""},{"$f":"IF(W112<>\"\",AVERAGE($E112:W112)+$EI113,\"\")","v":""},{"$f":"IF(X112<>\"\",AVERAGE($E112:X112)+$EI113,\"\")","v":""},{"$f":"IF(Y112<>\"\",AVERAGE($E112:Y112)+$EI113,\"\")","v":""},{"$f":"IF(Z112<>\"\",AVERAGE($E112:Z112)+$EI113,\"\")","v":""},{"$f":"IF(AA112<>\"\",AVERAGE($E112:AA112)+$EI113,\"\")","v":""},{"$f":"IF(AB112<>\"\",AVERAGE($E112:AB112)+$EI113,\"\")","v":""},{"$f":"IF(AC112<>\"\",AVERAGE($E112:AC112)+$EI113,\"\")","v":""},{"$f":"IF(AD112<>\"\",AVERAGE($E112:AD112)+$EI113,\"\")","v":""},{"$f":"IF(AE112<>\"\",AVERAGE($E112:AE112)+$EI113,\"\")","v":""},{"$f":"IF(AF112<>\"\",AVERAGE($E112:AF112)+$EI113,\"\")","v":""},{"$f":"IF(AG112<>\"\",AVERAGE($E112:AG112)+$EI113,\"\")","v":""},{"$f":"IF(AH112<>\"\",AVERAGE($E112:AH112)+$EI113,\"\")","v":""},{"$f":"IF(AI112<>\"\",AVERAGE($E112:AI112)+$EI113,\"\")","v":""},{"$f":"IF(AJ112<>\"\",AVERAGE($E112:AJ112)+$EI113,\"\")","v":""},{"$f":"IF(AK112<>\"\",AVERAGE($E112:AK112)+$EI113,\"\")","v":""},{"$f":"IF(AL112<>\"\",AVERAGE($E112:AL112)+$EI113,\"\")","v":""},{"$f":"IF(AM112<>\"\",AVERAGE($E112:AM112)+$EI113,\"\")","v":""},{"$f":"IF(AN112<>\"\",AVERAGE($E112:AN112)+$EI113,\"\")","v":""},{"$f":"IF(AO112<>\"\",AVERAGE($E112:AO112)+$EI113,\"\")","v":""},{"$f":"IF(AP112<>\"\",AVERAGE($E112:AP112)+$EI113,\"\")","v":""},{"$f":"IF(AQ112<>\"\",AVERAGE($E112:AQ112)+$EI113,\"\")","v":""},{"$f":"IF(AR112<>\"\",AVERAGE($E112:AR112)+$EI113,\"\")","v":""},{"$f":"IF(AS112<>\"\",AVERAGE($E112:AS112)+$EI113,\"\")","v":""},{"$f":"IF(AT112<>\"\",AVERAGE($E112:AT112)+$EI113,\"\")","v":""},{"$f":"IF(AU112<>\"\",AVERAGE($E112:AU112)+$EI113,\"\")","v":""},{"$f":"IF(AV112<>\"\",AVERAGE($E112:AV112)+$EI113,\"\")","v":""},{"$f":"IF(AW112<>\"\",AVERAGE($E112:AW112)+$EI113,\"\")","v":""},{"$f":"IF(AX112<>\"\",AVERAGE($E112:AX112)+$EI113,\"\")","v":""},{"$f":"IF(AY112<>\"\",AVERAGE($E112:AY112)+$EI113,\"\")","v":""},{"$f":"IF(AZ112<>\"\",AVERAGE($E112:AZ112)+$EI113,\"\")","v":""},{"$f":"IF(BA112<>\"\",AVERAGE($E112:BA112)+$EI113,\"\")","v":""},{"$f":"IF(BB112<>\"\",AVERAGE($E112:BB112)+$EI113,\"\")","v":""},{"$f":"IF(BC112<>\"\",AVERAGE($E112:BC112)+$EI113,\"\")","v":""},{"$f":"IF(BD112<>\"\",AVERAGE($E112:BD112)+$EI113,\"\")","v":""},{"$f":"IF(BE112<>\"\",AVERAGE($E112:BE112)+$EI113,\"\")","v":""},{"$f":"IF(BF112<>\"\",AVERAGE($E112:BF112)+$EI113,\"\")","v":""},{"$f":"IF(BG112<>\"\",AVERAGE($E112:BG112)+$EI113,\"\")","v":""},{"$f":"IF(BH112<>\"\",AVERAGE($E112:BH112)+$EI113,\"\")","v":""},{"$f":"IF(BI112<>\"\",AVERAGE($E112:BI112)+$EI113,\"\")","v":""},{"$f":"IF(BJ112<>\"\",AVERAGE($E112:BJ112)+$EI113,\"\")","v":""},{"$f":"IF(BK112<>\"\",AVERAGE($E112:BK112)+$EI113,\"\")","v":""},{"$f":"IF(BL112<>\"\",AVERAGE($E112:BL112)+$EI113,\"\")","v":""},{"$f":"IF(BM112<>\"\",AVERAGE($E112:BM112)+$EI113,\"\")","v":""},{"$f":"IF(BN112<>\"\",AVERAGE($E112:BN112)+$EI113,\"\")","v":""},{"$f":"IF(BO112<>\"\",AVERAGE($E112:BO112)+$EI113,\"\")","v":""},{"$f":"IF(BP112<>\"\",AVERAGE($E112:BP112)+$EI113,\"\")","v":""},{"$f":"IF(BQ112<>\"\",AVERAGE($E112:BQ112)+$EI113,\"\")","v":""},{"$f":"IF(BR112<>\"\",AVERAGE($E112:BR112)+$EI113,\"\")","v":""},{"$f":"IF(BS112<>\"\",AVERAGE($E112:BS112)+$EI113,\"\")","v":""},{"$f":"IF(BT112<>\"\",AVERAGE($E112:BT112)+$EI113,\"\")","v":""},{"$f":"IF(BU112<>\"\",AVERAGE($E112:BU112)+$EI113,\"\")","v":""},{"$f":"IF(BV112<>\"\",AVERAGE($E112:BV112)+$EI113,\"\")","v":""},{"$f":"IF(BW112<>\"\",AVERAGE($E112:BW112)+$EI113,\"\")","v":""},{"$f":"IF(BX112<>\"\",AVERAGE($E112:BX112)+$EI113,\"\")","v":""},{"$f":"IF(BY112<>\"\",AVERAGE($E112:BY112)+$EI113,\"\")","v":""},{"$f":"IF(BZ112<>\"\",AVERAGE($E112:BZ112)+$EI113,\"\")","v":""},{"$f":"IF(CA112<>\"\",AVERAGE($E112:CA112)+$EI113,\"\")","v":""},{"$f":"IF(CB112<>\"\",AVERAGE($E112:CB112)+$EI113,\"\")","v":""},{"$f":"IF(CC112<>\"\",AVERAGE($E112:CC112)+$EI113,\"\")","v":""},{"$f":"IF(CD112<>\"\",AVERAGE($E112:CD112)+$EI113,\"\")","v":""},{"$f":"IF(CE112<>\"\",AVERAGE($E112:CE112)+$EI113,\"\")","v":""},{"$f":"IF(CF112<>\"\",AVERAGE($E112:CF112)+$EI113,\"\")","v":""},{"$f":"IF(CG112<>\"\",AVERAGE($E112:CG112)+$EI113,\"\")","v":""},{"$f":"IF(CH112<>\"\",AVERAGE($E112:CH112)+$EI113,\"\")","v":""},{"$f":"IF(CI112<>\"\",AVERAGE($E112:CI112)+$EI113,\"\")","v":""},{"$f":"IF(CJ112<>\"\",AVERAGE($E112:CJ112)+$EI113,\"\")","v":""},{"$f":"IF(CK112<>\"\",AVERAGE($E112:CK112)+$EI113,\"\")","v":""},{"$f":"IF(CL112<>\"\",AVERAGE($E112:CL112)+$EI113,\"\")","v":""},{"$f":"IF(CM112<>\"\",AVERAGE($E112:CM112)+$EI113,\"\")","v":""},{"$f":"IF(CN112<>\"\",AVERAGE($E112:CN112)+$EI113,\"\")","v":""},{"$f":"IF(CO112<>\"\",AVERAGE($E112:CO112)+$EI113,\"\")","v":""},{"$f":"IF(CP112<>\"\",AVERAGE($E112:CP112)+$EI113,\"\")","v":""},{"$f":"IF(CQ112<>\"\",AVERAGE($E112:CQ112)+$EI113,\"\")","v":""},{"$f":"IF(CR112<>\"\",AVERAGE($E112:CR112)+$EI113,\"\")","v":""},{"$f":"IF(CS112<>\"\",AVERAGE($E112:CS112)+$EI113,\"\")","v":""},{"$f":"IF(CT112<>\"\",AVERAGE($E112:CT112)+$EI113,\"\")","v":""},{"$f":"IF(CU112<>\"\",AVERAGE($E112:CU112)+$EI113,\"\")","v":""},{"$f":"IF(CV112<>\"\",AVERAGE($E112:CV112)+$EI113,\"\")","v":""},{"$f":"IF(CW112<>\"\",AVERAGE($E112:CW112)+$EI113,\"\")","v":""},{"$f":"IF(CX112<>\"\",AVERAGE($E112:CX112)+$EI113,\"\")","v":""},{"$f":"IF(CY112<>\"\",AVERAGE($E112:CY112)+$EI113,\"\")","v":""},{"$f":"IF(CZ112<>\"\",AVERAGE($E112:CZ112)+$EI113,\"\")","v":""},{"$f":"IF(DA112<>\"\",AVERAGE($E112:DA112)+$EI113,\"\")","v":""},{"$f":"IF(DB112<>\"\",AVERAGE($E112:DB112)+$EI113,\"\")","v":""},{"$f":"IF(DC112<>\"\",AVERAGE($E112:DC112)+$EI113,\"\")","v":""},{"$f":"IF(DD112<>\"\",AVERAGE($E112:DD112)+$EI113,\"\")","v":""},{"$f":"IF(DE112<>\"\",AVERAGE($E112:DE112)+$EI113,\"\")","v":""},{"$f":"IF(DF112<>\"\",AVERAGE($E112:DF112)+$EI113,\"\")","v":""},{"$f":"IF(DG112<>\"\",AVERAGE($E112:DG112)+$EI113,\"\")","v":""},{"$f":"IF(DH112<>\"\",AVERAGE($E112:DH112)+$EI113,\"\")","v":""},{"$f":"IF(DI112<>\"\",AVERAGE($E112:DI112)+$EI113,\"\")","v":""},{"$f":"IF(DJ112<>\"\",AVERAGE($E112:DJ112)+$EI113,\"\")","v":""},{"$f":"IF(DK112<>\"\",AVERAGE($E112:DK112)+$EI113,\"\")","v":""},{"$f":"IF(DL112<>\"\",AVERAGE($E112:DL112)+$EI113,\"\")","v":""},{"$f":"IF(DM112<>\"\",AVERAGE($E112:DM112)+$EI113,\"\")","v":""},{"$f":"IF(DN112<>\"\",AVERAGE($E112:DN112)+$EI113,\"\")","v":""},{"$f":"IF(DO112<>\"\",AVERAGE($E112:DO112)+$EI113,\"\")","v":""},{"$f":"IF(DP112<>\"\",AVERAGE($E112:DP112)+$EI113,\"\")","v":""},{"$f":"IF(DQ112<>\"\",AVERAGE($E112:DQ112)+$EI113,\"\")","v":""},{"$f":"IF(DR112<>\"\",AVERAGE($E112:DR112)+$EI113,\"\")","v":""},{"$f":"IF(DS112<>\"\",AVERAGE($E112:DS112)+$EI113,\"\")","v":""},{"$f":"IF(DT112<>\"\",AVERAGE($E112:DT112)+$EI113,\"\")","v":""},{"$f":"IF(DU112<>\"\",AVERAGE($E112:DU112)+$EI113,\"\")","v":""},{"$f":"IF(DV112<>\"\",AVERAGE($E112:DV112)+$EI113,\"\")","v":""},{"$f":"IF(DW112<>\"\",AVERAGE($E112:DW112)+$EI113,\"\")","v":""},{"$f":"IF(DX112<>\"\",AVERAGE($E112:DX112)+$EI113,\"\")","v":""},{"$f":"IF(DY112<>\"\",AVERAGE($E112:DY112)+$EI113,\"\")","v":""},{"$f":"IF(DZ112<>\"\",AVERAGE($E112:DZ112)+$EI113,\"\")","v":""},{"$f":"IF(EA112<>\"\",AVERAGE($E112:EA112)+$EI113,\"\")","v":""},{"$f":"IF(EB112<>\"\",AVERAGE($E112:EB112)+$EI113,\"\")","v":""},{"$f":"IF(EC112<>\"\",AVERAGE($E112:EC112)+$EI113,\"\")","v":""},{"$f":"IF(ED112<>\"\",AVERAGE($E112:ED112)+$EI113,\"\")","v":""},{"$f":"IF(SUM(Náhrad_1)<1,-90000,EE112/COUNT(E112:ED112))","v":-90000},null,null,{"$f":"CONCATENATE(C108,\" \",C109)","v":"Míra Kulhan"},{"$f":"INDEX(List4!$E$2:$E$17,MATCH(CONCATENATE(C108,\" \",C109),Tabulka1128[Jmeno_prijmeni],0),1)","v":2.1400000000000007E-6}]
["Míra KulhanPočet šipek",{"$f":"CONCATENATE(C108,\" \",C109)","v":"Míra Kulhan"},null,"Počet šipek",null,null,null,null,null,null,null,null,null,null,null,null,null,null,null,null,null,null,null,null,null,null,null,null,null,null,null,null,null,null,null,null,null,null,null,null,null,null,null,null,null,null,null,null,null,null,null,null,null,null,null,null,null,null,null,null,null,null,null,null,null,null,null,null,null,null,null,null,null,null,null,null,null,null,null,null,null,null,null,null,null,null,null,null,null,null,null,null,null,null,null,null,null,null,null,null,null,null,null,null,null,null,null,null,null,null,null,null,null,null,null,null,null,null,null,null,null,null,null,null,null,null,null,null,null,null,null,null,null,null,{"$f":"IF(SUM(Náhrad_1)<1,-90000,SUM(C114:ED114))","v":-90000}]
[{"$f":"CONCATENATE($C$116,\" \",$C$117,D115)","v":"Míla WeinerováVýhry"},{"$f":"CONCATENATE(C116,\" \",C117)","v":"Míla Weinerová"},{"$f":"Tabulka!B74","v":0},"Výhry",null,null,null,null,null,null,null,null,null,null,null,null,null,null,null,null,null,null,null,null,null,null,null,null,null,null,null,null,null,null,null,null,null,null,null,null,null,null,null,null,null,null,null,null,null,null,null,null,null,null,null,null,null,null,null,null,null,null,null,null,null,null,null,null,null,null,null,null,null,null,null,null,null,null,null,null,null,null,null,null,null,null,null,null,null,null,null,null,null,null,null,null,null,null,null,null,null,null,null,null,null,null,null,null,null,null,null,null,null,null,null,null,null,null,null,null,null,null,null,null,null,null,null,null,null,null,null,null,null,null,{"$f":"IF(OR(SUM(Náhrad_2)<1),-90000,SUM(E115:ED115))","v":-90000}]
["Míla WeinerováProhry",{"$f":"CONCATENATE(C116,\" \",C117)","v":"Míla Weinerová"},{"$f":"Tabulka!B75","v":"Míla"},"Prohry",null,null,null,null,null,null,null,null,null,null,null,null,null,null,null,null,null,null,null,null,null,null,null,null,null,null,null,null,null,null,null,null,null,null,null,null,null,null,null,null,null,null,null,null,null,null,null,null,null,null,null,null,null,null,null,null,null,null,null,null,null,null,null,null,null,null,null,null,null,null,null,null,null,null,null,null,null,null,null,null,null,null,null,null,null,null,null,null,null,null,null,null,null,null,null,null,null,null,null,null,null,null,null,null,null,null,null,null,null,null,null,null,null,null,null,null,null,null,null,null,null,null,null,null,null,null,null,null,null,null,-90000,{"$f":"SUM(EE115-EE116)","v":0}]
["Míla WeinerováPlaceno panáků",{"$f":"CONCATENATE(C116,\" \",C117)","v":"Míla Weinerová"},{"$f":"Tabulka!B76","v":"Weinerová"},"Placeno panáků",null,null,null,null,null,null,null,null,null,null,null,null,null,null,null,null,null,null,null,null,null,null,null,null,null,null,null,null,null,null,null,null,null,null,null,null,null,null,null,null,null,null,null,null,null,null,null,null,null,null,null,null,null,null,null,null,null,null,null,null,null,null,null,null,null,null,null,null,null,null,null,null,null,null,null,null,null,null,null,null,null,null,null,null,null,null,null,null,null,null,null,null,null,null,null,null,null,null,null,null,null,null,null,null,null,null,null,null,null,null,null,null,null,null,null,null,null,null,null,null,null,null,null,null,null,null,null,null,null,null,-90000]
["Míla WeinerováPřehozy",{"$f":"CONCATENATE(C116,\" \",C117)","v":"Míla Weinerová"},{"$f":"Tabulka!B77","v":0},"Přehozy",null,null,null,null,null,null,null,null,null,null,null,null,null,null,null,null,null,null,null,null,null,null,null,null,null,null,null,null,null,null,null,null,null,null,null,null,null,null,null,null,null,null,null,null,null,null,null,null,null,null,null,null,null,null,null,null,null,null,null,null,null,null,null,null,null,null,null,null,null,null,null,null,null,null,null,null,null,null,null,null,null,null,null,null,null,null,null,null,null,null,null,null,null,null,null,null,null,null,null,null,null,null,null,null,null,null,null,null,null,null,null,null,null,null,null,null,null,null,null,null,null,null,null,null,null,null,null,null,null,null,-90000]
["Míla WeinerováPoč. kol",{"$f":"CONCATENATE(C116,\" \",C117)","v":"Míla Weinerová"},{"$f":"Tabulka!B78","v":0},"Poč. kol",null,null,null,null,null,null,null,null,null,null,null,null,null,null,null,null,null,null,null,null,null,null,null,null,null,null,null,null,null,null,null,null,null,null,null,null,null,null,null,null,null,null,null,null,null,null,null,null,null,null,null,null,null,null,null,null,null,null,null,null,null,null,null,null,null,null,null,null,null,null,null,null,null,null,null,null,null,null,null,null,null,null,null,null,null,null,null,null,null,null,null,null,null,null,null,null,null,null,null,null,null,null,null,null,null,null,null,null,null,null,null,null,null,null,null,null,null,null,null,null,null,null,null,null,null,null,null,null,null,null,-90000]
["Míla WeinerováPočet konečných bodů",{"$f":"CONCATENATE(C116,\" \",C117)","v":"Míla Weinerová"},null,"Počet konečných bodů",null,null,null,null,null,null,null,null,null,null,null,null,null,null,null,null,null,null,null,null,null,null,null,null,null,null,null,null,null,null,null,null,null,null,null,null,null,null,null,null,null,null,null,null,null,null,null,null,null,null,null,null,null,null,null,null,null,null,null,null,null,null,null,null,null,null,null,null,null,null,null,null,null,null,null,null,null,null,null,null,null,null,null,null,null,null,null,null,null,null,null,null,null,null,null,null,null,null,null,null,null,null,null,null,null,null,null,null,null,null,null,null,null,null,null,null,null,null,null,null,null,null,null,null,null,null,null,null,null,null,-90000]
["Míla WeinerováPrůměr konečných bodů na kolo",{"$f":"CONCATENATE(C116,\" \",C117)","v":"Míla Weinerová"},null,"Průměr konečných bodů na kolo",{"$f":"IF(E120<>\"\",AVERAGE($E120:E120)+$EI121,\"\")","v":""},{"$f":"IF(F120<>\"\",AVERAGE($E120:F120)+$EI121,\"\")","v":""},{"$f":"IF(G120<>\"\",AVERAGE($E120:G120)+$EI121,\"\")","v":""},{"$f":"IF(H120<>\"\",AVERAGE($E120:H120)+$EI121,\"\")","v":""},{"$f":"IF(I120<>\"\",AVERAGE($E120:I120)+$EI121,\"\")","v":""},{"$f":"IF(J120<>\"\",AVERAGE($E120:J120)+$EI121,\"\")","v":""},{"$f":"IF(K120<>\"\",AVERAGE($E120:K120)+$EI121,\"\")","v":""},{"$f":"IF(L120<>\"\",AVERAGE($E120:L120)+$EI121,\"\")","v":""},{"$f":"IF(M120<>\"\",AVERAGE($E120:M120)+$EI121,\"\")","v":""},{"$f":"IF(N120<>\"\",AVERAGE($E120:N120)+$EI121,\"\")","v":""},{"$f":"IF(O120<>\"\",AVERAGE($E120:O120)+$EI121,\"\")","v":""},{"$f":"IF(P120<>\"\",AVERAGE($E120:P120)+$EI121,\"\")","v":""},{"$f":"IF(Q120<>\"\",AVERAGE($E120:Q120)+$EI121,\"\")","v":""},{"$f":"IF(R120<>\"\",AVERAGE($E120:R120)+$EI121,\"\")","v":""},{"$f":"IF(S120<>\"\",AVERAGE($E120:S120)+$EI121,\"\")","v":""},{"$f":"IF(T120<>\"\",AVERAGE($E120:T120)+$EI121,\"\")","v":""},{"$f":"IF(U120<>\"\",AVERAGE($E120:U120)+$EI121,\"\")","v":""},{"$f":"IF(V120<>\"\",AVERAGE($E120:V120)+$EI121,\"\")","v":""},{"$f":"IF(W120<>\"\",AVERAGE($E120:W120)+$EI121,\"\")","v":""},{"$f":"IF(X120<>\"\",AVERAGE($E120:X120)+$EI121,\"\")","v":""},{"$f":"IF(Y120<>\"\",AVERAGE($E120:Y120)+$EI121,\"\")","v":""},{"$f":"IF(Z120<>\"\",AVERAGE($E120:Z120)+$EI121,\"\")","v":""},{"$f":"IF(AA120<>\"\",AVERAGE($E120:AA120)+$EI121,\"\")","v":""},{"$f":"IF(AB120<>\"\",AVERAGE($E120:AB120)+$EI121,\"\")","v":""},{"$f":"IF(AC120<>\"\",AVERAGE($E120:AC120)+$EI121,\"\")","v":""},{"$f":"IF(AD120<>\"\",AVERAGE($E120:AD120)+$EI121,\"\")","v":""},{"$f":"IF(AE120<>\"\",AVERAGE($E120:AE120)+$EI121,\"\")","v":""},{"$f":"IF(AF120<>\"\",AVERAGE($E120:AF120)+$EI121,\"\")","v":""},{"$f":"IF(AG120<>\"\",AVERAGE($E120:AG120)+$EI121,\"\")","v":""},{"$f":"IF(AH120<>\"\",AVERAGE($E120:AH120)+$EI121,\"\")","v":""},{"$f":"IF(AI120<>\"\",AVERAGE($E120:AI120)+$EI121,\"\")","v":""},{"$f":"IF(AJ120<>\"\",AVERAGE($E120:AJ120)+$EI121,\"\")","v":""},{"$f":"IF(AK120<>\"\",AVERAGE($E120:AK120)+$EI121,\"\")","v":""},{"$f":"IF(AL120<>\"\",AVERAGE($E120:AL120)+$EI121,\"\")","v":""},{"$f":"IF(AM120<>\"\",AVERAGE($E120:AM120)+$EI121,\"\")","v":""},{"$f":"IF(AN120<>\"\",AVERAGE($E120:AN120)+$EI121,\"\")","v":""},{"$f":"IF(AO120<>\"\",AVERAGE($E120:AO120)+$EI121,\"\")","v":""},{"$f":"IF(AP120<>\"\",AVERAGE($E120:AP120)+$EI121,\"\")","v":""},{"$f":"IF(AQ120<>\"\",AVERAGE($E120:AQ120)+$EI121,\"\")","v":""},{"$f":"IF(AR120<>\"\",AVERAGE($E120:AR120)+$EI121,\"\")","v":""},{"$f":"IF(AS120<>\"\",AVERAGE($E120:AS120)+$EI121,\"\")","v":""},{"$f":"IF(AT120<>\"\",AVERAGE($E120:AT120)+$EI121,\"\")","v":""},{"$f":"IF(AU120<>\"\",AVERAGE($E120:AU120)+$EI121,\"\")","v":""},{"$f":"IF(AV120<>\"\",AVERAGE($E120:AV120)+$EI121,\"\")","v":""},{"$f":"IF(AW120<>\"\",AVERAGE($E120:AW120)+$EI121,\"\")","v":""},{"$f":"IF(AX120<>\"\",AVERAGE($E120:AX120)+$EI121,\"\")","v":""},{"$f":"IF(AY120<>\"\",AVERAGE($E120:AY120)+$EI121,\"\")","v":""},{"$f":"IF(AZ120<>\"\",AVERAGE($E120:AZ120)+$EI121,\"\")","v":""},{"$f":"IF(BA120<>\"\",AVERAGE($E120:BA120)+$EI121,\"\")","v":""},{"$f":"IF(BB120<>\"\",AVERAGE($E120:BB120)+$EI121,\"\")","v":""},{"$f":"IF(BC120<>\"\",AVERAGE($E120:BC120)+$EI121,\"\")","v":""},{"$f":"IF(BD120<>\"\",AVERAGE($E120:BD120)+$EI121,\"\")","v":""},{"$f":"IF(BE120<>\"\",AVERAGE($E120:BE120)+$EI121,\"\")","v":""},{"$f":"IF(BF120<>\"\",AVERAGE($E120:BF120)+$EI121,\"\")","v":""},{"$f":"IF(BG120<>\"\",AVERAGE($E120:BG120)+$EI121,\"\")","v":""},{"$f":"IF(BH120<>\"\",AVERAGE($E120:BH120)+$EI121,\"\")","v":""},{"$f":"IF(BI120<>\"\",AVERAGE($E120:BI120)+$EI121,\"\")","v":""},{"$f":"IF(BJ120<>\"\",AVERAGE($E120:BJ120)+$EI121,\"\")","v":""},{"$f":"IF(BK120<>\"\",AVERAGE($E120:BK120)+$EI121,\"\")","v":""},{"$f":"IF(BL120<>\"\",AVERAGE($E120:BL120)+$EI121,\"\")","v":""},{"$f":"IF(BM120<>\"\",AVERAGE($E120:BM120)+$EI121,\"\")","v":""},{"$f":"IF(BN120<>\"\",AVERAGE($E120:BN120)+$EI121,\"\")","v":""},{"$f":"IF(BO120<>\"\",AVERAGE($E120:BO120)+$EI121,\"\")","v":""},{"$f":"IF(BP120<>\"\",AVERAGE($E120:BP120)+$EI121,\"\")","v":""},{"$f":"IF(BQ120<>\"\",AVERAGE($E120:BQ120)+$EI121,\"\")","v":""},{"$f":"IF(BR120<>\"\",AVERAGE($E120:BR120)+$EI121,\"\")","v":""},{"$f":"IF(BS120<>\"\",AVERAGE($E120:BS120)+$EI121,\"\")","v":""},{"$f":"IF(BT120<>\"\",AVERAGE($E120:BT120)+$EI121,\"\")","v":""},{"$f":"IF(BU120<>\"\",AVERAGE($E120:BU120)+$EI121,\"\")","v":""},{"$f":"IF(BV120<>\"\",AVERAGE($E120:BV120)+$EI121,\"\")","v":""},{"$f":"IF(BW120<>\"\",AVERAGE($E120:BW120)+$EI121,\"\")","v":""},{"$f":"IF(BX120<>\"\",AVERAGE($E120:BX120)+$EI121,\"\")","v":""},{"$f":"IF(BY120<>\"\",AVERAGE($E120:BY120)+$EI121,\"\")","v":""},{"$f":"IF(BZ120<>\"\",AVERAGE($E120:BZ120)+$EI121,\"\")","v":""},{"$f":"IF(CA120<>\"\",AVERAGE($E120:CA120)+$EI121,\"\")","v":""},{"$f":"IF(CB120<>\"\",AVERAGE($E120:CB120)+$EI121,\"\")","v":""},{"$f":"IF(CC120<>\"\",AVERAGE($E120:CC120)+$EI121,\"\")","v":""},{"$f":"IF(CD120<>\"\",AVERAGE($E120:CD120)+$EI121,\"\")","v":""},{"$f":"IF(CE120<>\"\",AVERAGE($E120:CE120)+$EI121,\"\")","v":""},{"$f":"IF(CF120<>\"\",AVERAGE($E120:CF120)+$EI121,\"\")","v":""},{"$f":"IF(CG120<>\"\",AVERAGE($E120:CG120)+$EI121,\"\")","v":""},{"$f":"IF(CH120<>\"\",AVERAGE($E120:CH120)+$EI121,\"\")","v":""},{"$f":"IF(CI120<>\"\",AVERAGE($E120:CI120)+$EI121,\"\")","v":""},{"$f":"IF(CJ120<>\"\",AVERAGE($E120:CJ120)+$EI121,\"\")","v":""},{"$f":"IF(CK120<>\"\",AVERAGE($E120:CK120)+$EI121,\"\")","v":""},{"$f":"IF(CL120<>\"\",AVERAGE($E120:CL120)+$EI121,\"\")","v":""},{"$f":"IF(CM120<>\"\",AVERAGE($E120:CM120)+$EI121,\"\")","v":""},{"$f":"IF(CN120<>\"\",AVERAGE($E120:CN120)+$EI121,\"\")","v":""},{"$f":"IF(CO120<>\"\",AVERAGE($E120:CO120)+$EI121,\"\")","v":""},{"$f":"IF(CP120<>\"\",AVERAGE($E120:CP120)+$EI121,\"\")","v":""},{"$f":"IF(CQ120<>\"\",AVERAGE($E120:CQ120)+$EI121,\"\")","v":""},{"$f":"IF(CR120<>\"\",AVERAGE($E120:CR120)+$EI121,\"\")","v":""},{"$f":"IF(CS120<>\"\",AVERAGE($E120:CS120)+$EI121,\"\")","v":""},{"$f":"IF(CT120<>\"\",AVERAGE($E120:CT120)+$EI121,\"\")","v":""},{"$f":"IF(CU120<>\"\",AVERAGE($E120:CU120)+$EI121,\"\")","v":""},{"$f":"IF(CV120<>\"\",AVERAGE($E120:CV120)+$EI121,\"\")","v":""},{"$f":"IF(CW120<>\"\",AVERAGE($E120:CW120)+$EI121,\"\")","v":""},{"$f":"IF(CX120<>\"\",AVERAGE($E120:CX120)+$EI121,\"\")","v":""},{"$f":"IF(CY120<>\"\",AVERAGE($E120:CY120)+$EI121,\"\")","v":""},{"$f":"IF(CZ120<>\"\",AVERAGE($E120:CZ120)+$EI121,\"\")","v":""},{"$f":"IF(DA120<>\"\",AVERAGE($E120:DA120)+$EI121,\"\")","v":""},{"$f":"IF(DB120<>\"\",AVERAGE($E120:DB120)+$EI121,\"\")","v":""},{"$f":"IF(DC120<>\"\",AVERAGE($E120:DC120)+$EI121,\"\")","v":""},{"$f":"IF(DD120<>\"\",AVERAGE($E120:DD120)+$EI121,\"\")","v":""},{"$f":"IF(DE120<>\"\",AVERAGE($E120:DE120)+$EI121,\"\")","v":""},{"$f":"IF(DF120<>\"\",AVERAGE($E120:DF120)+$EI121,\"\")","v":""},{"$f":"IF(DG120<>\"\",AVERAGE($E120:DG120)+$EI121,\"\")","v":""},{"$f":"IF(DH120<>\"\",AVERAGE($E120:DH120)+$EI121,\"\")","v":""},{"$f":"IF(DI120<>\"\",AVERAGE($E120:DI120)+$EI121,\"\")","v":""},{"$f":"IF(DJ120<>\"\",AVERAGE($E120:DJ120)+$EI121,\"\")","v":""},{"$f":"IF(DK120<>\"\",AVERAGE($E120:DK120)+$EI121,\"\")","v":""},{"$f":"IF(DL120<>\"\",AVERAGE($E120:DL120)+$EI121,\"\")","v":""},{"$f":"IF(DM120<>\"\",AVERAGE($E120:DM120)+$EI121,\"\")","v":""},{"$f":"IF(DN120<>\"\",AVERAGE($E120:DN120)+$EI121,\"\")","v":""},{"$f":"IF(DO120<>\"\",AVERAGE($E120:DO120)+$EI121,\"\")","v":""},{"$f":"IF(DP120<>\"\",AVERAGE($E120:DP120)+$EI121,\"\")","v":""},{"$f":"IF(DQ120<>\"\",AVERAGE($E120:DQ120)+$EI121,\"\")","v":""},{"$f":"IF(DR120<>\"\",AVERAGE($E120:DR120)+$EI121,\"\")","v":""},{"$f":"IF(DS120<>\"\",AVERAGE($E120:DS120)+$EI121,\"\")","v":""},{"$f":"IF(DT120<>\"\",AVERAGE($E120:DT120)+$EI121,\"\")","v":""},{"$f":"IF(DU120<>\"\",AVERAGE($E120:DU120)+$EI121,\"\")","v":""},{"$f":"IF(DV120<>\"\",AVERAGE($E120:DV120)+$EI121,\"\")","v":""},{"$f":"IF(DW120<>\"\",AVERAGE($E120:DW120)+$EI121,\"\")","v":""},{"$f":"IF(DX120<>\"\",AVERAGE($E120:DX120)+$EI121,\"\")","v":""},{"$f":"IF(DY120<>\"\",AVERAGE($E120:DY120)+$EI121,\"\")","v":""},{"$f":"IF(DZ120<>\"\",AVERAGE($E120:DZ120)+$EI121,\"\")","v":""},{"$f":"IF(EA120<>\"\",AVERAGE($E120:EA120)+$EI121,\"\")","v":""},{"$f":"IF(EB120<>\"\",AVERAGE($E120:EB120)+$EI121,\"\")","v":""},{"$f":"IF(EC120<>\"\",AVERAGE($E120:EC120)+$EI121,\"\")","v":""},{"$f":"IF(ED120<>\"\",AVERAGE($E120:ED120)+$EI121,\"\")","v":""},{"$f":"IF(OR(SUM(Náhrad_2)<1),-90000,EE120/COUNT(E120:ED120))","v":-90000},null,null,{"$f":"CONCATENATE(C116,\" \",C117)","v":"Míla Weinerová"},{"$f":"INDEX(List4!$E$2:$E$17,MATCH(CONCATENATE(C116,\" \",C117),Tabulka1128[Jmeno_prijmeni],0),1)","v":2.0500000000000015E-6}]
["Míla WeinerováPočet šipek",{"$f":"CONCATENATE(C116,\" \",C117)","v":"Míla Weinerová"},null,"Počet šipek",null,null,null,null,null,null,null,null,null,null,null,null,null,null,null,null,null,null,null,null,null,null,null,null,null,null,null,null,null,null,null,null,null,null,null,null,null,null,null,null,null,null,null,null,null,null,null,null,null,null,null,null,null,null,null,null,null,null,null,null,null,null,null,null,null,null,null,null,null,null,null,null,null,null,null,null,null,null,null,null,null,null,null,null,null,null,null,null,null,null,null,null,null,null,null,null,null,null,null,null,null,null,null,null,null,null,null,null,null,null,null,null,null,null,null,null,null,null,null,null,null,null,null,null,null,null,null,null,null,null,{"$f":"IF(OR(SUM(Náhrad_2)<1),-90000,SUM(E122:ED122))","v":-90000}]
[{"$f":"CONCATENATE($C$124,\" \",$C$125,D123)","v":"Iva IvankaVýhry"},{"$f":"CONCATENATE(C124,\" \",C125)","v":"Iva Ivanka"},{"$f":"Tabulka!B79","v":0},"Výhry",null,null,null,null,null,null,null,null,null,null,null,null,null,null,null,null,null,null,null,null,null,null,null,null,null,null,null,null,null,null,null,null,null,null,null,null,null,null,null,null,null,null,null,null,null,null,null,null,null,null,null,null,null,null,null,null,null,null,null,null,null,null,null,null,null,null,null,null,null,null,null,null,null,null,null,null,null,null,null,null,null,null,null,null,null,null,null,null,null,null,null,null,null,null,null,null,null,null,null,null,null,null,null,null,null,null,null,null,null,null,null,null,null,null,null,null,null,null,null,null,null,null,null,null,null,null,null,null,null,null,{"$f":"IF(SUM(Náhrad_3)<1,-90000,SUM(C123:ED123))","v":-90000}]
["Iva IvankaProhry","Iva Ivanka",{"$f":"Tabulka!B80","v":"Iva"},"Prohry",null,null,null,null,null,null,null,null,null,null,null,null,null,null,null,null,null,null,null,null,null,null,null,null,null,null,null,null,null,null,null,null,null,null,null,null,null,null,null,null,null,null,null,null,null,null,null,null,null,null,null,null,null,null,null,null,null,null,null,null,null,null,null,null,null,null,null,null,null,null,null,null,null,null,null,null,null,null,null,null,null,null,null,null,null,null,null,null,null,null,null,null,null,null,null,null,null,null,null,null,null,null,null,null,null,null,null,null,null,null,null,null,null,null,null,null,null,null,null,null,null,null,null,null,null,null,null,null,null,null,-90000,{"$f":"SUM(EE123-EE124)","v":0}]
["Iva IvankaPlaceno panáků",{"$f":"CONCATENATE(C124,\" \",C125)","v":"Iva Ivanka"},{"$f":"Tabulka!B81","v":"Ivanka"},"Placeno panáků",null,null,null,null,null,null,null,null,null,null,null,null,null,null,null,null,null,null,null,null,null,null,null,null,null,null,null,null,null,null,null,null,null,null,null,null,null,null,null,null,null,null,null,null,null,null,null,null,null,null,null,null,null,null,null,null,null,null,null,null,null,null,null,null,null,null,null,null,null,null,null,null,null,null,null,null,null,null,null,null,null,null,null,null,null,null,null,null,null,null,null,null,null,null,null,null,null,null,null,null,null,null,null,null,null,null,null,null,null,null,null,null,null,null,null,null,null,null,null,null,null,null,null,null,null,null,null,null,null,null,-90000]
["Iva IvankaPřehozy",{"$f":"CONCATENATE(C124,\" \",C125)","v":"Iva Ivanka"},{"$f":"Tabulka!B82","v":0},"Přehozy",null,null,null,null,null,null,null,null,null,null,null,null,null,null,null,null,null,null,null,null,null,null,null,null,null,null,null,null,null,null,null,null,null,null,null,null,null,null,null,null,null,null,null,null,null,null,null,null,null,null,null,null,null,null,null,null,null,null,null,null,null,null,null,null,null,null,null,null,null,null,null,null,null,null,null,null,null,null,null,null,null,null,null,null,null,null,null,null,null,null,null,null,null,null,null,null,null,null,null,null,null,null,null,null,null,null,null,null,null,null,null,null,null,null,null,null,null,null,null,null,null,null,null,null,null,null,null,null,null,null,-90000]
["Iva IvankaPoč. kol",{"$f":"CONCATENATE(C124,\" \",C125)","v":"Iva Ivanka"},{"$f":"Tabulka!B83","v":0},"Poč. kol",null,null,null,null,null,null,null,null,null,null,null,null,null,null,null,null,null,null,null,null,null,null,null,null,null,null,null,null,null,null,null,null,null,null,null,null,null,null,null,null,null,null,null,null,null,null,null,null,null,null,null,null,null,null,null,null,null,null,null,null,null,null,null,null,null,null,null,null,null,null,null,null,null,null,null,null,null,null,null,null,null,null,null,null,null,null,null,null,null,null,null,null,null,null,null,null,null,null,null,null,null,null,null,null,null,null,null,null,null,null,null,null,null,null,null,null,null,null,null,null,null,null,null,null,null,null,null,null,null,null,-90000]
["Iva IvankaPočet konečných bodů",{"$f":"CONCATENATE(C124,\" \",C125)","v":"Iva Ivanka"},null,"Počet konečných bodů",null,null,null,null,null,null,null,null,null,null,null,null,null,null,null,null,null,null,null,null,null,null,null,null,null,null,null,null,null,null,null,null,null,null,null,null,null,null,null,null,null,null,null,null,null,null,null,null,null,null,null,null,null,null,null,null,null,null,null,null,null,null,null,null,null,null,null,null,null,null,null,null,null,null,null,null,null,null,null,null,null,null,null,null,null,null,null,null,null,null,null,null,null,null,null,null,null,null,null,null,null,null,null,null,null,null,null,null,null,null,null,null,null,null,null,null,null,null,null,null,null,null,null,null,null,null,null,null,null,null,-90000]
["Iva IvankaPrůměr konečných bodů na kolo",{"$f":"CONCATENATE(C124,\" \",C125)","v":"Iva Ivanka"},null,"Průměr konečných bodů na kolo",{"$f":"IF(E128<>\"\",AVERAGE($E128:E128)+$EI129,\"\")","v":""},{"$f":"IF(F128<>\"\",AVERAGE($E128:F128)+$EI129,\"\")","v":""},{"$f":"IF(G128<>\"\",AVERAGE($E128:G128)+$EI129,\"\")","v":""},{"$f":"IF(H128<>\"\",AVERAGE($E128:H128)+$EI129,\"\")","v":""},{"$f":"IF(I128<>\"\",AVERAGE($E128:I128)+$EI129,\"\")","v":""},{"$f":"IF(J128<>\"\",AVERAGE($E128:J128)+$EI129,\"\")","v":""},{"$f":"IF(K128<>\"\",AVERAGE($E128:K128)+$EI129,\"\")","v":""},{"$f":"IF(L128<>\"\",AVERAGE($E128:L128)+$EI129,\"\")","v":""},{"$f":"IF(M128<>\"\",AVERAGE($E128:M128)+$EI129,\"\")","v":""},{"$f":"IF(N128<>\"\",AVERAGE($E128:N128)+$EI129,\"\")","v":""},{"$f":"IF(O128<>\"\",AVERAGE($E128:O128)+$EI129,\"\")","v":""},{"$f":"IF(P128<>\"\",AVERAGE($E128:P128)+$EI129,\"\")","v":""},{"$f":"IF(Q128<>\"\",AVERAGE($E128:Q128)+$EI129,\"\")","v":""},{"$f":"IF(R128<>\"\",AVERAGE($E128:R128)+$EI129,\"\")","v":""},{"$f":"IF(S128<>\"\",AVERAGE($E128:S128)+$EI129,\"\")","v":""},{"$f":"IF(T128<>\"\",AVERAGE($E128:T128)+$EI129,\"\")","v":""},{"$f":"IF(U128<>\"\",AVERAGE($E128:U128)+$EI129,\"\")","v":""},{"$f":"IF(V128<>\"\",AVERAGE($E128:V128)+$EI129,\"\")","v":""},{"$f":"IF(W128<>\"\",AVERAGE($E128:W128)+$EI129,\"\")","v":""},{"$f":"IF(X128<>\"\",AVERAGE($E128:X128)+$EI129,\"\")","v":""},{"$f":"IF(Y128<>\"\",AVERAGE($E128:Y128)+$EI129,\"\")","v":""},{"$f":"IF(Z128<>\"\",AVERAGE($E128:Z128)+$EI129,\"\")","v":""},{"$f":"IF(AA128<>\"\",AVERAGE($E128:AA128)+$EI129,\"\")","v":""},{"$f":"IF(AB128<>\"\",AVERAGE($E128:AB128)+$EI129,\"\")","v":""},{"$f":"IF(AC128<>\"\",AVERAGE($E128:AC128)+$EI129,\"\")","v":""},{"$f":"IF(AD128<>\"\",AVERAGE($E128:AD128)+$EI129,\"\")","v":""},{"$f":"IF(AE128<>\"\",AVERAGE($E128:AE128)+$EI129,\"\")","v":""},{"$f":"IF(AF128<>\"\",AVERAGE($E128:AF128)+$EI129,\"\")","v":""},{"$f":"IF(AG128<>\"\",AVERAGE($E128:AG128)+$EI129,\"\")","v":""},{"$f":"IF(AH128<>\"\",AVERAGE($E128:AH128)+$EI129,\"\")","v":""},{"$f":"IF(AI128<>\"\",AVERAGE($E128:AI128)+$EI129,\"\")","v":""},{"$f":"IF(AJ128<>\"\",AVERAGE($E128:AJ128)+$EI129,\"\")","v":""},{"$f":"IF(AK128<>\"\",AVERAGE($E128:AK128)+$EI129,\"\")","v":""},{"$f":"IF(AL128<>\"\",AVERAGE($E128:AL128)+$EI129,\"\")","v":""},{"$f":"IF(AM128<>\"\",AVERAGE($E128:AM128)+$EI129,\"\")","v":""},{"$f":"IF(AN128<>\"\",AVERAGE($E128:AN128)+$EI129,\"\")","v":""},{"$f":"IF(AO128<>\"\",AVERAGE($E128:AO128)+$EI129,\"\")","v":""},{"$f":"IF(AP128<>\"\",AVERAGE($E128:AP128)+$EI129,\"\")","v":""},{"$f":"IF(AQ128<>\"\",AVERAGE($E128:AQ128)+$EI129,\"\")","v":""},{"$f":"IF(AR128<>\"\",AVERAGE($E128:AR128)+$EI129,\"\")","v":""},{"$f":"IF(AS128<>\"\",AVERAGE($E128:AS128)+$EI129,\"\")","v":""},{"$f":"IF(AT128<>\"\",AVERAGE($E128:AT128)+$EI129,\"\")","v":""},{"$f":"IF(AU128<>\"\",AVERAGE($E128:AU128)+$EI129,\"\")","v":""},{"$f":"IF(AV128<>\"\",AVERAGE($E128:AV128)+$EI129,\"\")","v":""},{"$f":"IF(AW128<>\"\",AVERAGE($E128:AW128)+$EI129,\"\")","v":""},{"$f":"IF(AX128<>\"\",AVERAGE($E128:AX128)+$EI129,\"\")","v":""},{"$f":"IF(AY128<>\"\",AVERAGE($E128:AY128)+$EI129,\"\")","v":""},{"$f":"IF(AZ128<>\"\",AVERAGE($E128:AZ128)+$EI129,\"\")","v":""},{"$f":"IF(BA128<>\"\",AVERAGE($E128:BA128)+$EI129,\"\")","v":""},{"$f":"IF(BB128<>\"\",AVERAGE($E128:BB128)+$EI129,\"\")","v":""},{"$f":"IF(BC128<>\"\",AVERAGE($E128:BC128)+$EI129,\"\")","v":""},{"$f":"IF(BD128<>\"\",AVERAGE($E128:BD128)+$EI129,\"\")","v":""},{"$f":"IF(BE128<>\"\",AVERAGE($E128:BE128)+$EI129,\"\")","v":""},{"$f":"IF(BF128<>\"\",AVERAGE($E128:BF128)+$EI129,\"\")","v":""},{"$f":"IF(BG128<>\"\",AVERAGE($E128:BG128)+$EI129,\"\")","v":""},{"$f":"IF(BH128<>\"\",AVERAGE($E128:BH128)+$EI129,\"\")","v":""},{"$f":"IF(BI128<>\"\",AVERAGE($E128:BI128)+$EI129,\"\")","v":""},{"$f":"IF(BJ128<>\"\",AVERAGE($E128:BJ128)+$EI129,\"\")","v":""},{"$f":"IF(BK128<>\"\",AVERAGE($E128:BK128)+$EI129,\"\")","v":""},{"$f":"IF(BL128<>\"\",AVERAGE($E128:BL128)+$EI129,\"\")","v":""},{"$f":"IF(BM128<>\"\",AVERAGE($E128:BM128)+$EI129,\"\")","v":""},{"$f":"IF(BN128<>\"\",AVERAGE($E128:BN128)+$EI129,\"\")","v":""},{"$f":"IF(BO128<>\"\",AVERAGE($E128:BO128)+$EI129,\"\")","v":""},{"$f":"IF(BP128<>\"\",AVERAGE($E128:BP128)+$EI129,\"\")","v":""},{"$f":"IF(BQ128<>\"\",AVERAGE($E128:BQ128)+$EI129,\"\")","v":""},{"$f":"IF(BR128<>\"\",AVERAGE($E128:BR128)+$EI129,\"\")","v":""},{"$f":"IF(BS128<>\"\",AVERAGE($E128:BS128)+$EI129,\"\")","v":""},{"$f":"IF(BT128<>\"\",AVERAGE($E128:BT128)+$EI129,\"\")","v":""},{"$f":"IF(BU128<>\"\",AVERAGE($E128:BU128)+$EI129,\"\")","v":""},{"$f":"IF(BV128<>\"\",AVERAGE($E128:BV128)+$EI129,\"\")","v":""},{"$f":"IF(BW128<>\"\",AVERAGE($E128:BW128)+$EI129,\"\")","v":""},{"$f":"IF(BX128<>\"\",AVERAGE($E128:BX128)+$EI129,\"\")","v":""},{"$f":"IF(BY128<>\"\",AVERAGE($E128:BY128)+$EI129,\"\")","v":""},{"$f":"IF(BZ128<>\"\",AVERAGE($E128:BZ128)+$EI129,\"\")","v":""},{"$f":"IF(CA128<>\"\",AVERAGE($E128:CA128)+$EI129,\"\")","v":""},{"$f":"IF(CB128<>\"\",AVERAGE($E128:CB128)+$EI129,\"\")","v":""},{"$f":"IF(CC128<>\"\",AVERAGE($E128:CC128)+$EI129,\"\")","v":""},{"$f":"IF(CD128<>\"\",AVERAGE($E128:CD128)+$EI129,\"\")","v":""},{"$f":"IF(CE128<>\"\",AVERAGE($E128:CE128)+$EI129,\"\")","v":""},{"$f":"IF(CF128<>\"\",AVERAGE($E128:CF128)+$EI129,\"\")","v":""},{"$f":"IF(CG128<>\"\",AVERAGE($E128:CG128)+$EI129,\"\")","v":""},{"$f":"IF(CH128<>\"\",AVERAGE($E128:CH128)+$EI129,\"\")","v":""},{"$f":"IF(CI128<>\"\",AVERAGE($E128:CI128)+$EI129,\"\")","v":""},{"$f":"IF(CJ128<>\"\",AVERAGE($E128:CJ128)+$EI129,\"\")","v":""},{"$f":"IF(CK128<>\"\",AVERAGE($E128:CK128)+$EI129,\"\")","v":""},{"$f":"IF(CL128<>\"\",AVERAGE($E128:CL128)+$EI129,\"\")","v":""},{"$f":"IF(CM128<>\"\",AVERAGE($E128:CM128)+$EI129,\"\")","v":""},{"$f":"IF(CN128<>\"\",AVERAGE($E128:CN128)+$EI129,\"\")","v":""},{"$f":"IF(CO128<>\"\",AVERAGE($E128:CO128)+$EI129,\"\")","v":""},{"$f":"IF(CP128<>\"\",AVERAGE($E128:CP128)+$EI129,\"\")","v":""},{"$f":"IF(CQ128<>\"\",AVERAGE($E128:CQ128)+$EI129,\"\")","v":""},{"$f":"IF(CR128<>\"\",AVERAGE($E128:CR128)+$EI129,\"\")","v":""},{"$f":"IF(CS128<>\"\",AVERAGE($E128:CS128)+$EI129,\"\")","v":""},{"$f":"IF(CT128<>\"\",AVERAGE($E128:CT128)+$EI129,\"\")","v":""},{"$f":"IF(CU128<>\"\",AVERAGE($E128:CU128)+$EI129,\"\")","v":""},{"$f":"IF(CV128<>\"\",AVERAGE($E128:CV128)+$EI129,\"\")","v":""},{"$f":"IF(CW128<>\"\",AVERAGE($E128:CW128)+$EI129,\"\")","v":""},{"$f":"IF(CX128<>\"\",AVERAGE($E128:CX128)+$EI129,\"\")","v":""},{"$f":"IF(CY128<>\"\",AVERAGE($E128:CY128)+$EI129,\"\")","v":""},{"$f":"IF(CZ128<>\"\",AVERAGE($E128:CZ128)+$EI129,\"\")","v":""},{"$f":"IF(DA128<>\"\",AVERAGE($E128:DA128)+$EI129,\"\")","v":""},{"$f":"IF(DB128<>\"\",AVERAGE($E128:DB128)+$EI129,\"\")","v":""},{"$f":"IF(DC128<>\"\",AVERAGE($E128:DC128)+$EI129,\"\")","v":""},{"$f":"IF(DD128<>\"\",AVERAGE($E128:DD128)+$EI129,\"\")","v":""},{"$f":"IF(DE128<>\"\",AVERAGE($E128:DE128)+$EI129,\"\")","v":""},{"$f":"IF(DF128<>\"\",AVERAGE($E128:DF128)+$EI129,\"\")","v":""},{"$f":"IF(DG128<>\"\",AVERAGE($E128:DG128)+$EI129,\"\")","v":""},{"$f":"IF(DH128<>\"\",AVERAGE($E128:DH128)+$EI129,\"\")","v":""},{"$f":"IF(DI128<>\"\",AVERAGE($E128:DI128)+$EI129,\"\")","v":""},{"$f":"IF(DJ128<>\"\",AVERAGE($E128:DJ128)+$EI129,\"\")","v":""},{"$f":"IF(DK128<>\"\",AVERAGE($E128:DK128)+$EI129,\"\")","v":""},{"$f":"IF(DL128<>\"\",AVERAGE($E128:DL128)+$EI129,\"\")","v":""},{"$f":"IF(DM128<>\"\",AVERAGE($E128:DM128)+$EI129,\"\")","v":""},{"$f":"IF(DN128<>\"\",AVERAGE($E128:DN128)+$EI129,\"\")","v":""},{"$f":"IF(DO128<>\"\",AVERAGE($E128:DO128)+$EI129,\"\")","v":""},{"$f":"IF(DP128<>\"\",AVERAGE($E128:DP128)+$EI129,\"\")","v":""},{"$f":"IF(DQ128<>\"\",AVERAGE($E128:DQ128)+$EI129,\"\")","v":""},{"$f":"IF(DR128<>\"\",AVERAGE($E128:DR128)+$EI129,\"\")","v":""},{"$f":"IF(DS128<>\"\",AVERAGE($E128:DS128)+$EI129,\"\")","v":""},{"$f":"IF(DT128<>\"\",AVERAGE($E128:DT128)+$EI129,\"\")","v":""},{"$f":"IF(DU128<>\"\",AVERAGE($E128:DU128)+$EI129,\"\")","v":""},{"$f":"IF(DV128<>\"\",AVERAGE($E128:DV128)+$EI129,\"\")","v":""},{"$f":"IF(DW128<>\"\",AVERAGE($E128:DW128)+$EI129,\"\")","v":""},{"$f":"IF(DX128<>\"\",AVERAGE($E128:DX128)+$EI129,\"\")","v":""},{"$f":"IF(DY128<>\"\",AVERAGE($E128:DY128)+$EI129,\"\")","v":""},{"$f":"IF(DZ128<>\"\",AVERAGE($E128:DZ128)+$EI129,\"\")","v":""},{"$f":"IF(EA128<>\"\",AVERAGE($E128:EA128)+$EI129,\"\")","v":""},{"$f":"IF(EB128<>\"\",AVERAGE($E128:EB128)+$EI129,\"\")","v":""},{"$f":"IF(EC128<>\"\",AVERAGE($E128:EC128)+$EI129,\"\")","v":""},{"$f":"IF(ED128<>\"\",AVERAGE($E128:ED128)+$EI129,\"\")","v":""},{"$f":"IF(SUM(Náhrad_3)<1,-90000,EE128/COUNT(E128:ED128))","v":-90000},null,null,{"$f":"CONCATENATE(C124,\" \",C125)","v":"Iva Ivanka"},{"$f":"INDEX(List4!$E$2:$E$17,MATCH(CONCATENATE(C124,\" \",C125),Tabulka1128[Jmeno_prijmeni],0),1)","v":2.1600000000000005E-6}]
["Iva IvankaPočet šipek",{"$f":"CONCATENATE(C124,\" \",C125)","v":"Iva Ivanka"},null,"Počet šipek",null,null,null,null,null,null,null,null,null,null,null,null,null,null,null,null,null,null,null,null,null,null,null,null,null,null,null,null,null,null,null,null,null,null,null,null,null,null,null,null,null,null,null,null,null,null,null,null,null,null,null,null,null,null,null,null,null,null,null,null,null,null,null,null,null,null,null,null,null,null,null,null,null,null,null,null,null,null,null,null,null,null,null,null,null,null,null,null,null,null,null,null,null,null,null,null,null,null,null,null,null,null,null,null,null,null,null,null,null,null,null,null,null,null,null,null,null,null,null,null,null,null,null,null,null,null,null,null,null,null,{"$f":"IF(SUM(Náhrad_3)<1,-90000,SUM(C130:ED130))","v":-90000}]
[]
[]
[]
[]
[]
[]
[]
[]
[]
[]
[]
[null,null,6]

{"sheet":"Tabulka","index":1,"n_rows":83,"n_cols":35,"rows_kept":83,"cut":false,"hidden":false,"merged":[[58,32,62,32],[63,32,67,32],[68,32,72,32],[73,32,77,32],[78,32,82,32],[33,32,37,32],[38,32,42,32],[43,32,47,32],[48,32,52,32],[53,32,57,32],[8,32,12,32],[13,32,17,32],[18,32,22,32],[23,32,27,32],[28,32,32,32],[1,31,2,31],[1,1,2,1],[0,1,0,2],[1,32,2,32],[3,32,7,32]]}
[null,"sipy.zlatyruce.cz"]
[null,{"$f":"Přehled_body!C1","v":2021},{"$f":"Přehled_body!D1","v":"2. pololetí"},{"$f":"IFERROR(Přehled_body!E1,\"\")","v":"2021-07-13"},{"$f":"IFERROR(IF(INDEX(Přehled_body!$E$1:$ED$1,1,MATCH(Tabulka!D2,Přehled_body!$D$1:$ED$1,0)+4)=\"\",\"\",INDEX(Přehled_body!$E$1:$ED$1,1,MATCH(Tabulka!D2,Přehled_body!$D$1:$ED$1,0)+4)),\"\")","v":"2021-07-20"},{"$f":"IFERROR(IF(INDEX(Přehled_body!$E$1:$ED$1,1,MATCH(Tabulka!E2,Přehled_body!$D$1:$ED$1,0)+4)=\"\",\"\",INDEX(Přehled_body!$E$1:$ED$1,1,MATCH(Tabulka!E2,Přehled_body!$D$1:$ED$1,0)+4)),\"\")","v":"2021-07-27"},{"$f":"IFERROR(IF(INDEX(Přehled_body!$E$1:$ED$1,1,MATCH(Tabulka!F2,Přehled_body!$D$1:$ED$1,0)+4)=\"\",\"\",INDEX(Přehled_body!$E$1:$ED$1,1,MATCH(Tabulka!F2,Přehled_body!$D$1:$ED$1,0)+4)),\"\")","v":"2021-08-10"},{"$f":"IFERROR(IF(INDEX(Přehled_body!$E$1:$ED$1,1,MATCH(Tabulka!G2,Přehled_body!$D$1:$ED$1,0)+4)=\"\",\"\",INDEX(Přehled_body!$E$1:$ED$1,1,MATCH(Tabulka!G2,Přehled_body!$D$1:$ED$1,0)+4)),\"\")","v":"2021-08-31"},{"$f":"IFERROR(IF(INDEX(Přehled_body!$E$1:$ED$1,1,MATCH(Tabulka!H2,Přehled_body!$D$1:$ED$1,0)+4)=\"\",\"\",INDEX(Přehled_body!$E$1:$ED$1,1,MATCH(Tabulka!H2,Přehled_body!$D$1:$ED$1,0)+4)),\"\")","v":"2021-09-07"},{"$f":"IFERROR(IF(INDEX(Přehled_body!$E$1:$ED$1,1,MATCH(Tabulka!I2,Přehled_body!$D$1:$ED$1,0)+4)=\"\",\"\",INDEX(Přehled_body!$E$1:$ED$1,1,MATCH(Tabulka!I2,Přehled_body!$D$1:$ED$1,0)+4)),\"\")","v":"2021-09-14"},{"$f":"IFERROR(IF(INDEX(Přehled_body!$E$1:$ED$1,1,MATCH(Tabulka!J2,Přehled_body!$D$1:$ED$1,0)+4)=\"\",\"\",INDEX(Přehled_body!$E$1:$ED$1,1,MATCH(Tabulka!J2,Přehled_body!$D$1:$ED$1,0)+4)),\"\")","v":"2021-09-21"},{"$f":"IFERROR(IF(INDEX(Přehled_body!$E$1:$ED$1,1,MATCH(Tabulka!K2,Přehled_body!$D$1:$ED$1,0)+4)=\"\",\"\",INDEX(Přehled_body!$E$1:$ED$1,1,MATCH(Tabulka!K2,Přehled_body!$D$1:$ED$1,0)+4)),\"\")","v":"2021-10-05"},{"$f":"IFERROR(IF(INDEX(Přehled_body!$E$1:$ED$1,1,MATCH(Tabulka!L2,Přehled_body!$D$1:$ED$1,0)+4)=\"\",\"\",INDEX(Přehled_body!$E$1:$ED$1,1,MATCH(Tabulka!L2,Přehled_body!$D$1:$ED$1,0)+4)),\"\")","v":"2021-10-12"},{"$f":"IFERROR(IF(INDEX(Přehled_body!$E$1:$ED$1,1,MATCH(Tabulka!M2,Přehled_body!$D$1:$ED$1,0)+4)=\"\",\"\",INDEX(Přehled_body!$E$1:$ED$1,1,MATCH(Tabulka!M2,Přehled_body!$D$1:$ED$1,0)+4)),\"\")","v":""},{"$f":"IFERROR(IF(INDEX(Přehled_body!$E$1:$ED$1,1,MATCH(Tabulka!N2,Přehled_body!$D$1:$ED$1,0)+4)=\"\",\"\",INDEX(Přehled_body!$E$1:$ED$1,1,MATCH(Tabulka!N2,Přehled_body!$D$1:$ED$1,0)+4)),\"\")","v":""},{"$f":"IFERROR(IF(INDEX(Přehled_body!$E$1:$ED$1,1,MATCH(Tabulka!O2,Přehled_body!$D$1:$ED$1,0)+4)=\"\",\"\",INDEX(Přehled_body!$E$1:$ED$1,1,MATCH(Tabulka!O2,Přehled_body!$D$1:$ED$1,0)+4)),\"\")","v":""},{"$f":"IFERROR(IF(INDEX(Přehled_body!$E$1:$ED$1,1,MATCH(Tabulka!P2,Přehled_body!$D$1:$ED$1,0)+4)=\"\",\"\",INDEX(Přehled_body!$E$1:$ED$1,1,MATCH(Tabulka!P2,Přehled_body!$D$1:$ED$1,0)+4)),\"\")","v":""},{"$f":"IFERROR(IF(INDEX(Přehled_body!$E$1:$ED$1,1,MATCH(Tabulka!Q2,Přehled_body!$D$1:$ED$1,0)+4)=\"\",\"\",INDEX(Přehled_body!$E$1:$ED$1,1,MATCH(Tabulka!Q2,Přehled_body!$D$1:$ED$1,0)+4)),\"\")","v":""},{"$f":"IFERROR(IF(INDEX(Přehled_body!$E$1:$ED$1,1,MATCH(Tabulka!R2,Přehled_body!$D$1:$ED$1,0)+4)=\"\",\"\",INDEX(Přehled_body!$E$1:$ED$1,1,MATCH(Tabulka!R2,Přehled_body!$D$1:$ED$1,0)+4)),\"\")","v":""},{"$f":"IFERROR(IF(INDEX(Přehled_body!$E$1:$ED$1,1,MATCH(Tabulka!S2,Přehled_body!$D$1:$ED$1,0)+4)=\"\",\"\",INDEX(Přehled_body!$E$1:$ED$1,1,MATCH(Tabulka!S2,Přehled_body!$D$1:$ED$1,0)+4)),\"\")","v":""},{"$f":"IFERROR(IF(INDEX(Přehled_body!$E$1:$ED$1,1,MATCH(Tabulka!T2,Přehled_body!$D$1:$ED$1,0)+4)=\"\",\"\",INDEX(Přehled_body!$E$1:$ED$1,1,MATCH(Tabulka!T2,Přehled_body!$D$1:$ED$1,0)+4)),\"\")","v":""},{"$f":"IFERROR(IF(INDEX(Přehled_body!$E$1:$ED$1,1,MATCH(Tabulka!U2,Přehled_body!$D$1:$ED$1,0)+4)=\"\",\"\",INDEX(Přehled_body!$E$1:$ED$1,1,MATCH(Tabulka!U2,Přehled_body!$D$1:$ED$1,0)+4)),\"\")","v":""},{"$f":"IFERROR(IF(INDEX(Přehled_body!$E$1:$ED$1,1,MATCH(Tabulka!V2,Přehled_body!$D$1:$ED$1,0)+4)=\"\",\"\",INDEX(Přehled_body!$E$1:$ED$1,1,MATCH(Tabulka!V2,Přehled_body!$D$1:$ED$1,0)+4)),\"\")","v":""},{"$f":"IFERROR(IF(INDEX(Přehled_body!$E$1:$ED$1,1,MATCH(Tabulka!W2,Přehled_body!$D$1:$ED$1,0)+4)=\"\",\"\",INDEX(Přehled_body!$E$1:$ED$1,1,MATCH(Tabulka!W2,Přehled_body!$D$1:$ED$1,0)+4)),\"\")","v":""},{"$f":"IFERROR(IF(INDEX(Přehled_body!$E$1:$ED$1,1,MATCH(Tabulka!X2,Přehled_body!$D$1:$ED$1,0)+4)=\"\",\"\",INDEX(Přehled_body!$E$1:$ED$1,1,MATCH(Tabulka!X2,Přehled_body!$D$1:$ED$1,0)+4)),\"\")","v":""},{"$f":"IFERROR(IF(INDEX(Přehled_body!$E$1:$ED$1,1,MATCH(Tabulka!Y2,Přehled_body!$D$1:$ED$1,0)+4)=\"\",\"\",INDEX(Přehled_body!$E$1:$ED$1,1,MATCH(Tabulka!Y2,Přehled_body!$D$1:$ED$1,0)+4)),\"\")","v":""},{"$f":"IFERROR(IF(INDEX(Přehled_body!$E$1:$ED$1,1,MATCH(Tabulka!Z2,Přehled_body!$D$1:$ED$1,0)+4)=\"\",\"\",INDEX(Přehled_body!$E$1:$ED$1,1,MATCH(Tabulka!Z2,Přehled_body!$D$1:$ED$1,0)+4)),\"\")","v":""},{"$f":"IFERROR(IF(INDEX(Přehled_body!$E$1:$ED$1,1,MATCH(Tabulka!AA2,Přehled_body!$D$1:$ED$1,0)+4)=\"\",\"\",INDEX(Přehled_body!$E$1:$ED$1,1,MATCH(Tabulka!AA2,Přehled_body!$D$1:$ED$1,0)+4)),\"\")","v":""},{"$f":"IFERROR(IF(INDEX(Přehled_body!$E$1:$ED$1,1,MATCH(Tabulka!AB2,Přehled_body!$D$1:$ED$1,0)+4)=\"\",\"\",INDEX(Přehled_body!$E$1:$ED$1,1,MATCH(Tabulka!AB2,Přehled_body!$D$1:$ED$1,0)+4)),\"\")","v":""},{"$f":"IFERROR(IF(INDEX(Přehled_body!$E$1:$ED$1,1,MATCH(Tabulka!AC2,Přehled_body!$D$1:$ED$1,0)+4)=\"\",\"\",INDEX(Přehled_body!$E$1:$ED$1,1,MATCH(Tabulka!AC2,Přehled_body!$D$1:$ED$1,0)+4)),\"\")","v":""},"Součet","Body","Účast dny"]
[null,null,"Počet hrájících",{"$f":"IF(D2=\"\",\"\",IF(D8>0,1,0)+IF(D13>0,1,0)+IF(D18>0,1,0)+IF(D23>0,1,0)+IF(D28>0,1,0)+IF(D33>0,1,0)+IF(D38>0,1,0)+IF(D43>0,1,0)+IF(D48>0,1,0)+IF(D53>0,1,0)+IF(D58>0,1,0)+IF(D63>0,1,0)+IF(D68>0,1,0)+IF(D73>0,1,0)+IF(D78>0,1,0)+IF(D83>0,1,0))","v":8},{"$f":"IF(E2=\"\",\"\",IF(E8>0,1,0)+IF(E13>0,1,0)+IF(E18>0,1,0)+IF(E23>0,1,0)+IF(E28>0,1,0)+IF(E33>0,1,0)+IF(E38>0,1,0)+IF(E43>0,1,0)+IF(E48>0,1,0)+IF(E53>0,1,0)+IF(E58>0,1,0)+IF(E63>0,1,0)+IF(E68>0,1,0)+IF(E73>0,1,0)+IF(E78>0,1,0)+IF(E83>0,1,0))","v":5},6,7,7,6,7,6,6,6,"","","","","","","","","","","","","","","","","","celkem"]
[null,null,"Výhry",{"$f":"IF(IFERROR(INDEX(Přehled_body!$E$3:$ED$130,MATCH(Tabulka!$AI4,Přehled_body!$A$3:$A$130,0),MATCH(Tabulka!D$2,Přehled_body!$E$1:$ED$1,0)),)=\"\",,IF(IFERROR(INDEX(Přehled_body!$E$3:$ED$130,MATCH(Tabulka!$AI4,Přehled_body!$A$3:$A$130,0),MATCH(Tabulka!D$2,Přehled_body!$E$1:$ED$1,0)),)=0,0.00000000001,IFERROR(INDEX(Přehled_body!$E$3:$ED$130,MATCH(Tabulka!$AI4,Přehled_body!$A$3:$A$130,0),MATCH(Tabulka!D$2,Přehled_body!$E$1:$ED$1,0)),)))","v":0},{"$f":"IF(IFERROR(INDEX(Přehled_body!$E$3:$ED$130,MATCH(Tabulka!$AI4,Přehled_body!$A$3:$A$130,0),MATCH(Tabulka!E$2,Přehled_body!$E$1:$ED$1,0)),)=\"\",,IF(IFERROR(INDEX(Přehled_body!$E$3:$ED$130,MATCH(Tabulka!$AI4,Přehled_body!$A$3:$A$130,0),MATCH(Tabulka!E$2,Přehled_body!$E$1:$ED$1,0)),)=0,0.00000000001,IFERROR(INDEX(Přehled_body!$E$3:$ED$130,MATCH(Tabulka!$AI4,Přehled_body!$A$3:$A$130,0),MATCH(Tabulka!E$2,Přehled_body!$E$1:$ED$1,0)),)))","v":0},{"$f":"IF(IFERROR(INDEX(Přehled_body!$E$3:$ED$130,MATCH(Tabulka!$AI4,Přehled_body!$A$3:$A$130,0),MATCH(Tabulka!F$2,Přehled_body!$E$1:$ED$1,0)),)=\"\",,IF(IFERROR(INDEX(Přehled_body!$E$3:$ED$130,MATCH(Tabulka!$AI4,Přehled_body!$A$3:$A$130,0),MATCH(Tabulka!F$2,Přehled_body!$E$1:$ED$1,0)),)=0,0.00000000001,IFERROR(INDEX(Přehled_body!$E$3:$ED$130,MATCH(Tabulka!$AI4,Přehled_body!$A$3:$A$130,0),MATCH(Tabulka!F$2,Přehled_body!$E$1:$ED$1,0)),)))","v":0},{"$f":"IF(IFERROR(INDEX(Přehled_body!$E$3:$ED$130,MATCH(Tabulka!$AI4,Přehled_body!$A$3:$A$130,0),MATCH(Tabulka!G$2,Přehled_body!$E$1:$ED$1,0)),)=\"\",,IF(IFERROR(INDEX(Přehled_body!$E$3:$ED$130,MATCH(Tabulka!$AI4,Přehled_body!$A$3:$A$130,0),MATCH(Tabulka!G$2,Přehled_body!$E$1:$ED$1,0)),)=0,0.00000000001,IFERROR(INDEX(Přehled_body!$E$3:$ED$130,MATCH(Tabulka!$AI4,Přehled_body!$A$3:$A$130,0),MATCH(Tabulka!G$2,Přehled_body!$E$1:$ED$1,0)),)))","v":0},{"$f":"IF(IFERROR(INDEX(Přehled_body!$E$3:$ED$130,MATCH(Tabulka!$AI4,Přehled_body!$A$3:$A$130,0),MATCH(Tabulka!H$2,Přehled_body!$E$1:$ED$1,0)),)=\"\",,IF(IFERROR(INDEX(Přehled_body!$E$3:$ED$130,MATCH(Tabulka!$AI4,Přehled_body!$A$3:$A$130,0),MATCH(Tabulka!H$2,Přehled_body!$E$1:$ED$1,0)),)=0,0.00000000001,IFERROR(INDEX(Přehled_body!$E$3:$ED$130,MATCH(Tabulka!$AI4,Přehled_body!$A$3:$A$130,0),MATCH(Tabulka!H$2,Přehled_body!$E$1:$ED$1,0)),)))","v":0},{"$f":"IF(IFERROR(INDEX(Přehled_body!$E$3:$ED$130,MATCH(Tabulka!$AI4,Přehled_body!$A$3:$A$130,0),MATCH(Tabulka!I$2,Přehled_body!$E$1:$ED$1,0)),)=\"\",,IF(IFERROR(INDEX(Přehled_body!$E$3:$ED$130,MATCH(Tabulka!$AI4,Přehled_body!$A$3:$A$130,0),MATCH(Tabulka!I$2,Přehled_body!$E$1:$ED$1,0)),)=0,0.00000000001,IFERROR(INDEX(Přehled_body!$E$3:$ED$130,MATCH(Tabulka!$AI4,Přehled_body!$A$3:$A$130,0),MATCH(Tabulka!I$2,Přehled_body!$E$1:$ED$1,0)),)))","v":0},{"$f":"IF(IFERROR(INDEX(Přehled_body!$E$3:$ED$130,MATCH(Tabulka!$AI4,Přehled_body!$A$3:$A$130,0),MATCH(Tabulka!J$2,Přehled_body!$E$1:$ED$1,0)),)=\"\",,IF(IFERROR(INDEX(Přehled_body!$E$3:$ED$130,MATCH(Tabulka!$AI4,Přehled_body!$A$3:$A$130,0),MATCH(Tabulka!J$2,Přehled_body!$E$1:$ED$1,0)),)=0,0.00000000001,IFERROR(INDEX(Přehled_body!$E$3:$ED$130,MATCH(Tabulka!$AI4,Přehled_body!$A$3:$A$130,0),MATCH(Tabulka!J$2,Přehled_body!$E$1:$ED$1,0)),)))","v":0},{"$f":"IF(IFERROR(INDEX(Přehled_body!$E$3:$ED$130,MATCH(Tabulka!$AI4,Přehled_body!$A$3:$A$130,0),MATCH(Tabulka!K$2,Přehled_body!$E$1:$ED$1,0)),)=\"\",,IF(IFERROR(INDEX(Přehled_body!$E$3:$ED$130,MATCH(Tabulka!$AI4,Přehled_body!$A$3:$A$130,0),MATCH(Tabulka!K$2,Přehled_body!$E$1:$ED$1,0)),)=0,0.00000000001,IFERROR(INDEX(Přehled_body!$E$3:$ED$130,MATCH(Tabulka!$AI4,Přehled_body!$A$3:$A$130,0),MATCH(Tabulka!K$2,Přehled_body!$E$1:$ED$1,0)),)))","v":0},{"$f":"IF(IFERROR(INDEX(Přehled_body!$E$3:$ED$130,MATCH(Tabulka!$AI4,Přehled_body!$A$3:$A$130,0),MATCH(Tabulka!L$2,Přehled_body!$E$1:$ED$1,0)),)=\"\",,IF(IFERROR(INDEX(Přehled_body!$E$3:$ED$130,MATCH(Tabulka!$AI4,Přehled_body!$A$3:$A$130,0),MATCH(Tabulka!L$2,Přehled_body!$E$1:$ED$1,0)),)=0,0.00000000001,IFERROR(INDEX(Přehled_body!$E$3:$ED$130,MATCH(Tabulka!$AI4,Přehled_body!$A$3:$A$130,0),MATCH(Tabulka!L$2,Přehled_body!$E$1:$ED$1,0)),)))","v":0},{"$f":"IF(IFERROR(INDEX(Přehled_body!$E$3:$ED$130,MATCH(Tabulka!$AI4,Přehled_body!$A$3:$A$130,0),MATCH(Tabulka!M$2,Přehled_body!$E$1:$ED$1,0)),)=\"\",,IF(IFERROR(INDEX(Přehled_body!$E$3:$ED$130,MATCH(Tabulka!$AI4,Přehled_body!$A$3:$A$130,0),MATCH(Tabulka!M$2,Přehled_body!$E$1:$ED$1,0)),)=0,0.00000000001,IFERROR(INDEX(Přehled_body!$E$3:$ED$130,MATCH(Tabulka!$AI4,Přehled_body!$A$3:$A$130,0),MATCH(Tabulka!M$2,Přehled_body!$E$1:$ED$1,0)),)))","v":0},{"$f":"IF(IFERROR(INDEX(Přehled_body!$E$3:$ED$130,MATCH(Tabulka!$AI4,Přehled_body!$A$3:$A$130,0),MATCH(Tabulka!N$2,Přehled_body!$E$1:$ED$1,0)),)=\"\",,IF(IFERROR(INDEX(Přehled_body!$E$3:$ED$130,MATCH(Tabulka!$AI4,Přehled_body!$A$3:$A$130,0),MATCH(Tabulka!N$2,Přehled_body!$E$1:$ED$1,0)),)=0,0.00000000001,IFERROR(INDEX(Přehled_body!$E$3:$ED$130,MATCH(Tabulka!$AI4,Přehled_body!$A$3:$A$130,0),MATCH(Tabulka!N$2,Přehled_body!$E$1:$ED$1,0)),)))","v":0},{"$f":"IF(IFERROR(INDEX(Přehled_body!$E$3:$ED$130,MATCH(Tabulka!$AI4,Přehled_body!$A$3:$A$130,0),MATCH(Tabulka!O$2,Přehled_body!$E$1:$ED$1,0)),)=\"\",,IF(IFERROR(INDEX(Přehled_body!$E$3:$ED$130,MATCH(Tabulka!$AI4,Přehled_body!$A$3:$A$130,0),MATCH(Tabulka!O$2,Přehled_body!$E$1:$ED$1,0)),)=0,0.00000000001,IFERROR(INDEX(Přehled_body!$E$3:$ED$130,MATCH(Tabulka!$AI4,Přehled_body!$A$3:$A$130,0),MATCH(Tabulka!O$2,Přehled_body!$E$1:$ED$1,0)),)))","v":0},{"$f":"IF(IFERROR(INDEX(Přehled_body!$E$3:$ED$130,MATCH(Tabulka!$AI4,Přehled_body!$A$3:$A$130,0),MATCH(Tabulka!P$2,Přehled_body!$E$1:$ED$1,0)),)=\"\",,IF(IFERROR(INDEX(Přehled_body!$E$3:$ED$130,MATCH(Tabulka!$AI4,Přehled_body!$A$3:$A$130,0),MATCH(Tabulka!P$2,Přehled_body!$E$1:$ED$1,0)),)=0,0.00000000001,IFERROR(INDEX(Přehled_body!$E$3:$ED$130,MATCH(Tabulka!$AI4,Přehled_body!$A$3:$A$130,0),MATCH(Tabulka!P$2,Přehled_body!$E$1:$ED$1,0)),)))","v":0},{"$f":"IF(IFERROR(INDEX(Přehled_body!$E$3:$ED$130,MATCH(Tabulka!$AI4,Přehled_body!$A$3:$A$130,0),MATCH(Tabulka!Q$2,Přehled_body!$E$1:$ED$1,0)),)=\"\",,IF(IFERROR(INDEX(Přehled_body!$E$3:$ED$130,MATCH(Tabulka!$AI4,Přehled_body!$A$3:$A$130,0),MATCH(Tabulka!Q$2,Přehled_body!$E$1:$ED$1,0)),)=0,0.00000000001,IFERROR(INDEX(Přehled_body!$E$3:$ED$130,MATCH(Tabulka!$AI4,Přehled_body!$A$3:$A$130,0),MATCH(Tabulka!Q$2,Přehled_body!$E$1:$ED$1,0)),)))","v":0},{"$f":"IF(IFERROR(INDEX(Přehled_body!$E$3:$ED$130,MATCH(Tabulka!$AI4,Přehled_body!$A$3:$A$130,0),MATCH(Tabulka!R$2,Přehled_body!$E$1:$ED$1,0)),)=\"\",,IF(IFERROR(INDEX(Přehled_body!$E$3:$ED$130,MATCH(Tabulka!$AI4,Přehled_body!$A$3:$A$130,0),MATCH(Tabulka!R$2,Přehled_body!$E$1:$ED$1,0)),)=0,0.00000000001,IFERROR(INDEX(Přehled_body!$E$3:$ED$130,MATCH(Tabulka!$AI4,Přehled_body!$A$3:$A$130,0),MATCH(Tabulka!R$2,Přehled_body!$E$1:$ED$1,0)),)))","v":0},{"$f":"IF(IFERROR(INDEX(Přehled_body!$E$3:$ED$130,MATCH(Tabulka!$AI4,Přehled_body!$A$3:$A$130,0),MATCH(Tabulka!S$2,Přehled_body!$E$1:$ED$1,0)),)=\"\",,IF(IFERROR(INDEX(Přehled_body!$E$3:$ED$130,MATCH(Tabulka!$AI4,Přehled_body!$A$3:$A$130,0),MATCH(Tabulka!S$2,Přehled_body!$E$1:$ED$1,0)),)=0,0.00000000001,IFERROR(INDEX(Přehled_body!$E$3:$ED$130,MATCH(Tabulka!$AI4,Přehled_body!$A$3:$A$130,0),MATCH(Tabulka!S$2,Přehled_body!$E$1:$ED$1,0)),)))","v":0},{"$f":"IF(IFERROR(INDEX(Přehled_body!$E$3:$ED$130,MATCH(Tabulka!$AI4,Přehled_body!$A$3:$A$130,0),MATCH(Tabulka!T$2,Přehled_body!$E$1:$ED$1,0)),)=\"\",,IF(IFERROR(INDEX(Přehled_body!$E$3:$ED$130,MATCH(Tabulka!$AI4,Přehled_body!$A$3:$A$130,0),MATCH(Tabulka!T$2,Přehled_body!$E$1:$ED$1,0)),)=0,0.00000000001,IFERROR(INDEX(Přehled_body!$E$3:$ED$130,MATCH(Tabulka!$AI4,Přehled_body!$A$3:$A$130,0),MATCH(Tabulka!T$2,Přehled_body!$E$1:$ED$1,0)),)))","v":0},{"$f":"IF(IFERROR(INDEX(Přehled_body!$E$3:$ED$130,MATCH(Tabulka!$AI4,Přehled_body!$A$3:$A$130,0),MATCH(Tabulka!U$2,Přehled_body!$E$1:$ED$1,0)),)=\"\",,IF(IFERROR(INDEX(Přehled_body!$E$3:$ED$130,MATCH(Tabulka!$AI4,Přehled_body!$A$3:$A$130,0),MATCH(Tabulka!U$2,Přehled_body!$E$1:$ED$1,0)),)=0,0.00000000001,IFERROR(INDEX(Přehled_body!$E$3:$ED$130,MATCH(Tabulka!$AI4,Přehled_body!$A$3:$A$130,0),MATCH(Tabulka!U$2,Přehled_body!$E$1:$ED$1,0)),)))","v":0},{"$f":"IF(IFERROR(INDEX(Přehled_body!$E$3:$ED$130,MATCH(Tabulka!$AI4,Přehled_body!$A$3:$A$130,0),MATCH(Tabulka!V$2,Přehled_body!$E$1:$ED$1,0)),)=\"\",,IF(IFERROR(INDEX(Přehled_body!$E$3:$ED$130,MATCH(Tabulka!$AI4,Přehled_body!$A$3:$A$130,0),MATCH(Tabulka!V$2,Přehled_body!$E$1:$ED$1,0)),)=0,0.00000000001,IFERROR(INDEX(Přehled_body!$E$3:$ED$130,MATCH(Tabulka!$AI4,Přehled_body!$A$3:$A$130,0),MATCH(Tabulka!V$2,Přehled_body!$E$1:$ED$1,0)),)))","v":0},{"$f":"IF(IFERROR(INDEX(Přehled_body!$E$3:$ED$130,MATCH(Tabulka!$AI4,Přehled_body!$A$3:$A$130,0),MATCH(Tabulka!W$2,Přehled_body!$E$1:$ED$1,0)),)=\"\",,IF(IFERROR(INDEX(Přehled_body!$E$3:$ED$130,MATCH(Tabulka!$AI4,Přehled_body!$A$3:$A$130,0),MATCH(Tabulka!W$2,Přehled_body!$E$1:$ED$1,0)),)=0,0.00000000001,IFERROR(INDEX(Přehled_body!$E$3:$ED$130,MATCH(Tabulka!$AI4,Přehled_body!$A$3:$A$130,0),MATCH(Tabulka!W$2,Přehled_body!$E$1:$ED$1,0)),)))","v":0},{"$f":"IF(IFERROR(INDEX(Přehled_body!$E$3:$ED$130,MATCH(Tabulka!$AI4,Přehled_body!$A$3:$A$130,0),MATCH(Tabulka!X$2,Přehled_body!$E$1:$ED$1,0)),)=\"\",,IF(IFERROR(INDEX(Přehled_body!$E$3:$ED$130,MATCH(Tabulka!$AI4,Přehled_body!$A$3:$A$130,0),MATCH(Tabulka!X$2,Přehled_body!$E$1:$ED$1,0)),)=0,0.00000000001,IFERROR(INDEX(Přehled_body!$E$3:$ED$130,MATCH(Tabulka!$AI4,Přehled_body!$A$3:$A$130,0),MATCH(Tabulka!X$2,Přehled_body!$E$1:$ED$1,0)),)))","v":0},{"$f":"IF(IFERROR(INDEX(Přehled_body!$E$3:$ED$130,MATCH(Tabulka!$AI4,Přehled_body!$A$3:$A$130,0),MATCH(Tabulka!Y$2,Přehled_body!$E$1:$ED$1,0)),)=\"\",,IF(IFERROR(INDEX(Přehled_body!$E$3:$ED$130,MATCH(Tabulka!$AI4,Přehled_body!$A$3:$A$130,0),MATCH(Tabulka!Y$2,Přehled_body!$E$1:$ED$1,0)),)=0,0.00000000001,IFERROR(INDEX(Přehled_body!$E$3:$ED$130,MATCH(Tabulka!$AI4,Přehled_body!$A$3:$A$130,0),MATCH(Tabulka!Y$2,Přehled_body!$E$1:$ED$1,0)),)))","v":0},{"$f":"IF(IFERROR(INDEX(Přehled_body!$E$3:$ED$130,MATCH(Tabulka!$AI4,Přehled_body!$A$3:$A$130,0),MATCH(Tabulka!Z$2,Přehled_body!$E$1:$ED$1,0)),)=\"\",,IF(IFERROR(INDEX(Přehled_body!$E$3:$ED$130,MATCH(Tabulka!$AI4,Přehled_body!$A$3:$A$130,0),MATCH(Tabulka!Z$2,Přehled_body!$E$1:$ED$1,0)),)=0,0.00000000001,IFERROR(INDEX(Přehled_body!$E$3:$ED$130,MATCH(Tabulka!$AI4,Přehled_body!$A$3:$A$130,0),MATCH(Tabulka!Z$2,Přehled_body!$E$1:$ED$1,0)),)))","v":0},{"$f":"IF(IFERROR(INDEX(Přehled_body!$E$3:$ED$130,MATCH(Tabulka!$AI4,Přehled_body!$A$3:$A$130,0),MATCH(Tabulka!AA$2,Přehled_body!$E$1:$ED$1,0)),)=\"\",,IF(IFERROR(INDEX(Přehled_body!$E$3:$ED$130,MATCH(Tabulka!$AI4,Přehled_body!$A$3:$A$130,0),MATCH(Tabulka!AA$2,Přehled_body!$E$1:$ED$1,0)),)=0,0.00000000001,IFERROR(INDEX(Přehled_body!$E$3:$ED$130,MATCH(Tabulka!$AI4,Přehled_body!$A$3:$A$130,0),MATCH(Tabulka!AA$2,Přehled_body!$E$1:$ED$1,0)),)))","v":0},{"$f":"IF(IFERROR(INDEX(Přehled_body!$E$3:$ED$130,MATCH(Tabulka!$AI4,Přehled_body!$A$3:$A$130,0),MATCH(Tabulka!AB$2,Přehled_body!$E$1:$ED$1,0)),)=\"\",,IF(IFERROR(INDEX(Přehled_body!$E$3:$ED$130,MATCH(Tabulka!$AI4,Přehled_body!$A$3:$A$130,0),MATCH(Tabulka!AB$2,Přehled_body!$E$1:$ED$1,0)),)=0,0.00000000001,IFERROR(INDEX(Přehled_body!$E$3:$ED$130,MATCH(Tabulka!$AI4,Přehled_body!$A$3:$A$130,0),MATCH(Tabulka!AB$2,Přehled_body!$E$1:$ED$1,0)),)))","v":0},{"$f":"IF(IFERROR(INDEX(Přehled_body!$E$3:$ED$130,MATCH(Tabulka!$AI4,Přehled_body!$A$3:$A$130,0),MATCH(Tabulka!AC$2,Přehled_body!$E$1:$ED$1,0)),)=\"\",,IF(IFERROR(INDEX(Přehled_body!$E$3:$ED$130,MATCH(Tabulka!$AI4,Přehled_body!$A$3:$A$130,0),MATCH(Tabulka!AC$2,Přehled_body!$E$1:$ED$1,0)),)=0,0.00000000001,IFERROR(INDEX(Přehled_body!$E$3:$ED$130,MATCH(Tabulka!$AI4,Přehled_body!$A$3:$A$130,0),MATCH(Tabulka!AC$2,Přehled_body!$E$1:$ED$1,0)),)))","v":0},{"$f":"IF(IFERROR(INDEX(Přehled_body!$E$3:$ED$130,MATCH(Tabulka!$AI4,Přehled_body!$A$3:$A$130,0),MATCH(Tabulka!AD$2,Přehled_body!$E$1:$ED$1,0)),)=\"\",,IF(IFERROR(INDEX(Přehled_body!$E$3:$ED$130,MATCH(Tabulka!$AI4,Přehled_body!$A$3:$A$130,0),MATCH(Tabulka!AD$2,Přehled_body!$E$1:$ED$1,0)),)=0,0.00000000001,IFERROR(INDEX(Přehled_body!$E$3:$ED$130,MATCH(Tabulka!$AI4,Přehled_body!$A$3:$A$130,0),MATCH(Tabulka!AD$2,Přehled_body!$E$1:$ED$1,0)),)))","v":0},{"$f":"IF(SUM($D$4:$AD$8)<1,-90000,SUM(D4:AD4))","v":-90000},null,{"$f":"COUNTIF(D4:AD4,\">0\")","v":0},null,{"$f":"CONCATENATE($B$5,\" \",$B$6,C4)","v":"Jiří FialaVýhry"}]
[{"$f":"CONCATENATE(B5,\" \",B6)","v":"Jiří Fiala"},"Jiří","Prohry",{"$f":"IF(IFERROR(INDEX(Přehled_body!$E$3:$ED$130,MATCH(Tabulka!$AI5,Přehled_body!$A$3:$A$130,0),MATCH(Tabulka!D$2,Přehled_body!$E$1:$ED$1,0)),)=\"\",,IF(IFERROR(INDEX(Přehled_body!$E$3:$ED$130,MATCH(Tabulka!$AI5,Přehled_body!$A$3:$A$130,0),MATCH(Tabulka!D$2,Přehled_body!$E$1:$ED$1,0)),)=0,0.00000000001,IFERROR(INDEX(Přehled_body!$E$3:$ED$130,MATCH(Tabulka!$AI5,Přehled_body!$A$3:$A$130,0),MATCH(Tabulka!D$2,Přehled_body!$E$1:$ED$1,0)),)))","v":0},{"$f":"IF(IFERROR(INDEX(Přehled_body!$E$3:$ED$130,MATCH(Tabulka!$AI5,Přehled_body!$A$3:$A$130,0),MATCH(Tabulka!E$2,Přehled_body!$E$1:$ED$1,0)),)=\"\",,IF(IFERROR(INDEX(Přehled_body!$E$3:$ED$130,MATCH(Tabulka!$AI5,Přehled_body!$A$3:$A$130,0),MATCH(Tabulka!E$2,Přehled_body!$E$1:$ED$1,0)),)=0,0.00000000001,IFERROR(INDEX(Přehled_body!$E$3:$ED$130,MATCH(Tabulka!$AI5,Přehled_body!$A$3:$A$130,0),MATCH(Tabulka!E$2,Přehled_body!$E$1:$ED$1,0)),)))","v":0},{"$f":"IF(IFERROR(INDEX(Přehled_body!$E$3:$ED$130,MATCH(Tabulka!$AI5,Přehled_body!$A$3:$A$130,0),MATCH(Tabulka!F$2,Přehled_body!$E$1:$ED$1,0)),)=\"\",,IF(IFERROR(INDEX(Přehled_body!$E$3:$ED$130,MATCH(Tabulka!$AI5,Přehled_body!$A$3:$A$130,0),MATCH(Tabulka!F$2,Přehled_body!$E$1:$ED$1,0)),)=0,0.00000000001,IFERROR(INDEX(Přehled_body!$E$3:$ED$130,MATCH(Tabulka!$AI5,Přehled_body!$A$3:$A$130,0),MATCH(Tabulka!F$2,Přehled_body!$E$1:$ED$1,0)),)))","v":0},{"$f":"IF(IFERROR(INDEX(Přehled_body!$E$3:$ED$130,MATCH(Tabulka!$AI5,Přehled_body!$A$3:$A$130,0),MATCH(Tabulka!G$2,Přehled_body!$E$1:$ED$1,0)),)=\"\",,IF(IFERROR(INDEX(Přehled_body!$E$3:$ED$130,MATCH(Tabulka!$AI5,Přehled_body!$A$3:$A$130,0),MATCH(Tabulka!G$2,Přehled_body!$E$1:$ED$1,0)),)=0,0.00000000001,IFERROR(INDEX(Přehled_body!$E$3:$ED$130,MATCH(Tabulka!$AI5,Přehled_body!$A$3:$A$130,0),MATCH(Tabulka!G$2,Přehled_body!$E$1:$ED$1,0)),)))","v":0},{"$f":"IF(IFERROR(INDEX(Přehled_body!$E$3:$ED$130,MATCH(Tabulka!$AI5,Přehled_body!$A$3:$A$130,0),MATCH(Tabulka!H$2,Přehled_body!$E$1:$ED$1,0)),)=\"\",,IF(IFERROR(INDEX(Přehled_body!$E$3:$ED$130,MATCH(Tabulka!$AI5,Přehled_body!$A$3:$A$130,0),MATCH(Tabulka!H$2,Přehled_body!$E$1:$ED$1,0)),)=0,0.00000000001,IFERROR(INDEX(Přehled_body!$E$3:$ED$130,MATCH(Tabulka!$AI5,Přehled_body!$A$3:$A$130,0),MATCH(Tabulka!H$2,Přehled_body!$E$1:$ED$1,0)),)))","v":0},{"$f":"IF(IFERROR(INDEX(Přehled_body!$E$3:$ED$130,MATCH(Tabulka!$AI5,Přehled_body!$A$3:$A$130,0),MATCH(Tabulka!I$2,Přehled_body!$E$1:$ED$1,0)),)=\"\",,IF(IFERROR(INDEX(Přehled_body!$E$3:$ED$130,MATCH(Tabulka!$AI5,Přehled_body!$A$3:$A$130,0),MATCH(Tabulka!I$2,Přehled_body!$E$1:$ED$1,0)),)=0,0.00000000001,IFERROR(INDEX(Přehled_body!$E$3:$ED$130,MATCH(Tabulka!$AI5,Přehled_body!$A$3:$A$130,0),MATCH(Tabulka!I$2,Přehled_body!$E$1:$ED$1,0)),)))","v":0},{"$f":"IF(IFERROR(INDEX(Přehled_body!$E$3:$ED$130,MATCH(Tabulka!$AI5,Přehled_body!$A$3:$A$130,0),MATCH(Tabulka!J$2,Přehled_body!$E$1:$ED$1,0)),)=\"\",,IF(IFERROR(INDEX(Přehled_body!$E$3:$ED$130,MATCH(Tabulka!$AI5,Přehled_body!$A$3:$A$130,0),MATCH(Tabulka!J$2,Přehled_body!$E$1:$ED$1,0)),)=0,0.00000000001,IFERROR(INDEX(Přehled_body!$E$3:$ED$130,MATCH(Tabulka!$AI5,Přehled_body!$A$3:$A$130,0),MATCH(Tabulka!J$2,Přehled_body!$E$1:$ED$1,0)),)))","v":0},{"$f":"IF(IFERROR(INDEX(Přehled_body!$E$3:$ED$130,MATCH(Tabulka!$AI5,Přehled_body!$A$3:$A$130,0),MATCH(Tabulka!K$2,Přehled_body!$E$1:$ED$1,0)),)=\"\",,IF(IFERROR(INDEX(Přehled_body!$E$3:$ED$130,MATCH(Tabulka!$AI5,Přehled_body!$A$3:$A$130,0),MATCH(Tabulka!K$2,Přehled_body!$E$1:$ED$1,0)),)=0,0.00000000001,IFERROR(INDEX(Přehled_body!$E$3:$ED$130,MATCH(Tabulka!$AI5,Přehled_body!$A$3:$A$130,0),MATCH(Tabulka!K$2,Přehled_body!$E$1:$ED$1,0)),)))","v":0},{"$f":"IF(IFERROR(INDEX(Přehled_body!$E$3:$ED$130,MATCH(Tabulka!$AI5,Přehled_body!$A$3:$A$130,0),MATCH(Tabulka!L$2,Přehled_body!$E$1:$ED$1,0)),)=\"\",,IF(IFERROR(INDEX(Přehled_body!$E$3:$ED$130,MATCH(Tabulka!$AI5,Přehled_body!$A$3:$A$130,0),MATCH(Tabulka!L$2,Přehled_body!$E$1:$ED$1,0)),)=0,0.00000000001,IFERROR(INDEX(Přehled_body!$E$3:$ED$130,MATCH(Tabulka!$AI5,Přehled_body!$A$3:$A$130,0),MATCH(Tabulka!L$2,Přehled_body!$E$1:$ED$1,0)),)))","v":0},{"$f":"IF(IFERROR(INDEX(Přehled_body!$E$3:$ED$130,MATCH(Tabulka!$AI5,Přehled_body!$A$3:$A$130,0),MATCH(Tabulka!M$2,Přehled_body!$E$1:$ED$1,0)),)=\"\",,IF(IFERROR(INDEX(Přehled_body!$E$3:$ED$130,MATCH(Tabulka!$AI5,Přehled_body!$A$3:$A$130,0),MATCH(Tabulka!M$2,Přehled_body!$E$1:$ED$1,0)),)=0,0.00000000001,IFERROR(INDEX(Přehled_body!$E$3:$ED$130,MATCH(Tabulka!$AI5,Přehled_body!$A$3:$A$130,0),MATCH(Tabulka!M$2,Přehled_body!$E$1:$ED$1,0)),)))","v":0},{"$f":"IF(IFERROR(INDEX(Přehled_body!$E$3:$ED$130,MATCH(Tabulka!$AI5,Přehled_body!$A$3:$A$130,0),MATCH(Tabulka!N$2,Přehled_body!$E$1:$ED$1,0)),)=\"\",,IF(IFERROR(INDEX(Přehled_body!$E$3:$ED$130,MATCH(Tabulka!$AI5,Přehled_body!$A$3:$A$130,0),MATCH(Tabulka!N$2,Přehled_body!$E$1:$ED$1,0)),)=0,0.00000000001,IFERROR(INDEX(Přehled_body!$E$3:$ED$130,MATCH(Tabulka!$AI5,Přehled_body!$A$3:$A$130,0),MATCH(Tabulka!N$2,Přehled_body!$E$1:$ED$1,0)),)))","v":0},{"$f":"IF(IFERROR(INDEX(Přehled_body!$E$3:$ED$130,MATCH(Tabulka!$AI5,Přehled_body!$A$3:$A$130,0),MATCH(Tabulka!O$2,Přehled_body!$E$1:$ED$1,0)),)=\"\",,IF(IFERROR(INDEX(Přehled_body!$E$3:$ED$130,MATCH(Tabulka!$AI5,Přehled_body!$A$3:$A$130,0),MATCH(Tabulka!O$2,Přehled_body!$E$1:$ED$1,0)),)=0,0.00000000001,IFERROR(INDEX(Přehled_body!$E$3:$ED$130,MATCH(Tabulka!$AI5,Přehled_body!$A$3:$A$130,0),MATCH(Tabulka!O$2,Přehled_body!$E$1:$ED$1,0)),)))","v":0},{"$f":"IF(IFERROR(INDEX(Přehled_body!$E$3:$ED$130,MATCH(Tabulka!$AI5,Přehled_body!$A$3:$A$130,0),MATCH(Tabulka!P$2,Přehled_body!$E$1:$ED$1,0)),)=\"\",,IF(IFERROR(INDEX(Přehled_body!$E$3:$ED$130,MATCH(Tabulka!$AI5,Přehled_body!$A$3:$A$130,0),MATCH(Tabulka!P$2,Přehled_body!$E$1:$ED$1,0)),)=0,0.00000000001,IFERROR(INDEX(Přehled_body!$E$3:$ED$130,MATCH(Tabulka!$AI5,Přehled_body!$A$3:$A$130,0),MATCH(Tabulka!P$2,Přehled_body!$E$1:$ED$1,0)),)))","v":0},{"$f":"IF(IFERROR(INDEX(Přehled_body!$E$3:$ED$130,MATCH(Tabulka!$AI5,Přehled_body!$A$3:$A$130,0),MATCH(Tabulka!Q$2,Přehled_body!$E$1:$ED$1,0)),)=\"\",,IF(IFERROR(INDEX(Přehled_body!$E$3:$ED$130,MATCH(Tabulka!$AI5,Přehled_body!$A$3:$A$130,0),MATCH(Tabulka!Q$2,Přehled_body!$E$1:$ED$1,0)),)=0,0.00000000001,IFERROR(INDEX(Přehled_body!$E$3:$ED$130,MATCH(Tabulka!$AI5,Přehled_body!$A$3:$A$130,0),MATCH(Tabulka!Q$2,Přehled_body!$E$1:$ED$1,0)),)))","v":0},{"$f":"IF(IFERROR(INDEX(Přehled_body!$E$3:$ED$130,MATCH(Tabulka!$AI5,Přehled_body!$A$3:$A$130,0),MATCH(Tabulka!R$2,Přehled_body!$E$1:$ED$1,0)),)=\"\",,IF(IFERROR(INDEX(Přehled_body!$E$3:$ED$130,MATCH(Tabulka!$AI5,Přehled_body!$A$3:$A$130,0),MATCH(Tabulka!R$2,Přehled_body!$E$1:$ED$1,0)),)=0,0.00000000001,IFERROR(INDEX(Přehled_body!$E$3:$ED$130,MATCH(Tabulka!$AI5,Přehled_body!$A$3:$A$130,0),MATCH(Tabulka!R$2,Přehled_body!$E$1:$ED$1,0)),)))","v":0},{"$f":"IF(IFERROR(INDEX(Přehled_body!$E$3:$ED$130,MATCH(Tabulka!$AI5,Přehled_body!$A$3:$A$130,0),MATCH(Tabulka!S$2,Přehled_body!$E$1:$ED$1,0)),)=\"\",,IF(IFERROR(INDEX(Přehled_body!$E$3:$ED$130,MATCH(Tabulka!$AI5,Přehled_body!$A$3:$A$130,0),MATCH(Tabulka!S$2,Přehled_body!$E$1:$ED$1,0)),)=0,0.00000000001,IFERROR(INDEX(Přehled_body!$E$3:$ED$130,MATCH(Tabulka!$AI5,Přehled_body!$A$3:$A$130,0),MATCH(Tabulka!S$2,Přehled_body!$E$1:$ED$1,0)),)))","v":0},{"$f":"IF(IFERROR(INDEX(Přehled_body!$E$3:$ED$130,MATCH(Tabulka!$AI5,Přehled_body!$A$3:$A$130,0),MATCH(Tabulka!T$2,Přehled_body!$E$1:$ED$1,0)),)=\"\",,IF(IFERROR(INDEX(Přehled_body!$E$3:$ED$130,MATCH(Tabulka!$AI5,Přehled_body!$A$3:$A$130,0),MATCH(Tabulka!T$2,Přehled_body!$E$1:$ED$1,0)),)=0,0.00000000001,IFERROR(INDEX(Přehled_body!$E$3:$ED$130,MATCH(Tabulka!$AI5,Přehled_body!$A$3:$A$130,0),MATCH(Tabulka!T$2,Přehled_body!$E$1:$ED$1,0)),)))","v":0},{"$f":"IF(IFERROR(INDEX(Přehled_body!$E$3:$ED$130,MATCH(Tabulka!$AI5,Přehled_body!$A$3:$A$130,0),MATCH(Tabulka!U$2,Přehled_body!$E$1:$ED$1,0)),)=\"\",,IF(IFERROR(INDEX(Přehled_body!$E$3:$ED$130,MATCH(Tabulka!$AI5,Přehled_body!$A$3:$A$130,0),MATCH(Tabulka!U$2,Přehled_body!$E$1:$ED$1,0)),)=0,0.00000000001,IFERROR(INDEX(Přehled_body!$E$3:$ED$130,MATCH(Tabulka!$AI5,Přehled_body!$A$3:$A$130,0),MATCH(Tabulka!U$2,Přehled_body!$E$1:$ED$1,0)),)))","v":0},{"$f":"IF(IFERROR(INDEX(Přehled_body!$E$3:$ED$130,MATCH(Tabulka!$AI5,Přehled_body!$A$3:$A$130,0),MATCH(Tabulka!V$2,Přehled_body!$E$1:$ED$1,0)),)=\"\",,IF(IFERROR(INDEX(Přehled_body!$E$3:$ED$130,MATCH(Tabulka!$AI5,Přehled_body!$A$3:$A$130,0),MATCH(Tabulka!V$2,Přehled_body!$E$1:$ED$1,0)),)=0,0.00000000001,IFERROR(INDEX(Přehled_body!$E$3:$ED$130,MATCH(Tabulka!$AI5,Přehled_body!$A$3:$A$130,0),MATCH(Tabulka!V$2,Přehled_body!$E$1:$ED$1,0)),)))","v":0},{"$f":"IF(IFERROR(INDEX(Přehled_body!$E$3:$ED$130,MATCH(Tabulka!$AI5,Přehled_body!$A$3:$A$130,0),MATCH(Tabulka!W$2,Přehled_body!$E$1:$ED$1,0)),)=\"\",,IF(IFERROR(INDEX(Přehled_body!$E$3:$ED$130,MATCH(Tabulka!$AI5,Přehled_body!$A$3:$A$130,0),MATCH(Tabulka!W$2,Přehled_body!$E$1:$ED$1,0)),)=0,0.00000000001,IFERROR(INDEX(Přehled_body!$E$3:$ED$130,MATCH(Tabulka!$AI5,Přehled_body!$A$3:$A$130,0),MATCH(Tabulka!W$2,Přehled_body!$E$1:$ED$1,0)),)))","v":0},{"$f":"IF(IFERROR(INDEX(Přehled_body!$E$3:$ED$130,MATCH(Tabulka!$AI5,Přehled_body!$A$3:$A$130,0),MATCH(Tabulka!X$2,Přehled_body!$E$1:$ED$1,0)),)=\"\",,IF(IFERROR(INDEX(Přehled_body!$E$3:$ED$130,MATCH(Tabulka!$AI5,Přehled_body!$A$3:$A$130,0),MATCH(Tabulka!X$2,Přehled_body!$E$1:$ED$1,0)),)=0,0.00000000001,IFERROR(INDEX(Přehled_body!$E$3:$ED$130,MATCH(Tabulka!$AI5,Přehled_body!$A$3:$A$130,0),MATCH(Tabulka!X$2,Přehled_body!$E$1:$ED$1,0)),)))","v":0},{"$f":"IF(IFERROR(INDEX(Přehled_body!$E$3:$ED$130,MATCH(Tabulka!$AI5,Přehled_body!$A$3:$A$130,0),MATCH(Tabulka!Y$2,Přehled_body!$E$1:$ED$1,0)),)=\"\",,IF(IFERROR(INDEX(Přehled_body!$E$3:$ED$130,MATCH(Tabulka!$AI5,Přehled_body!$A$3:$A$130,0),MATCH(Tabulka!Y$2,Přehled_body!$E$1:$ED$1,0)),)=0,0.00000000001,IFERROR(INDEX(Přehled_body!$E$3:$ED$130,MATCH(Tabulka!$AI5,Přehled_body!$A$3:$A$130,0),MATCH(Tabulka!Y$2,Přehled_body!$E$1:$ED$1,0)),)))","v":0},{"$f":"IF(IFERROR(INDEX(Přehled_body!$E$3:$ED$130,MATCH(Tabulka!$AI5,Přehled_body!$A$3:$A$130,0),MATCH(Tabulka!Z$2,Přehled_body!$E$1:$ED$1,0)),)=\"\",,IF(IFERROR(INDEX(Přehled_body!$E$3:$ED$130,MATCH(Tabulka!$AI5,Přehled_body!$A$3:$A$130,0),MATCH(Tabulka!Z$2,Přehled_body!$E$1:$ED$1,0)),)=0,0.00000000001,IFERROR(INDEX(Přehled_body!$E$3:$ED$130,MATCH(Tabulka!$AI5,Přehled_body!$A$3:$A$130,0),MATCH(Tabulka!Z$2,Přehled_body!$E$1:$ED$1,0)),)))","v":0},{"$f":"IF(IFERROR(INDEX(Přehled_body!$E$3:$ED$130,MATCH(Tabulka!$AI5,Přehled_body!$A$3:$A$130,0),MATCH(Tabulka!AA$2,Přehled_body!$E$1:$ED$1,0)),)=\"\",,IF(IFERROR(INDEX(Přehled_body!$E$3:$ED$130,MATCH(Tabulka!$AI5,Přehled_body!$A$3:$A$130,0),MATCH(Tabulka!AA$2,Přehled_body!$E$1:$ED$1,0)),)=0,0.00000000001,IFERROR(INDEX(Přehled_body!$E$3:$ED$130,MATCH(Tabulka!$AI5,Přehled_body!$A$3:$A$130,0),MATCH(Tabulka!AA$2,Přehled_body!$E$1:$ED$1,0)),)))","v":0},{"$f":"IF(IFERROR(INDEX(Přehled_body!$E$3:$ED$130,MATCH(Tabulka!$AI5,Přehled_body!$A$3:$A$130,0),MATCH(Tabulka!AB$2,Přehled_body!$E$1:$ED$1,0)),)=\"\",,IF(IFERROR(INDEX(Přehled_body!$E$3:$ED$130,MATCH(Tabulka!$AI5,Přehled_body!$A$3:$A$130,0),MATCH(Tabulka!AB$2,Přehled_body!$E$1:$ED$1,0)),)=0,0.00000000001,IFERROR(INDEX(Přehled_body!$E$3:$ED$130,MATCH(Tabulka!$AI5,Přehled_body!$A$3:$A$130,0),MATCH(Tabulka!AB$2,Přehled_body!$E$1:$ED$1,0)),)))","v":0},{"$f":"IF(IFERROR(INDEX(Přehled_body!$E$3:$ED$130,MATCH(Tabulka!$AI5,Přehled_body!$A$3:$A$130,0),MATCH(Tabulka!AC$2,Přehled_body!$E$1:$ED$1,0)),)=\"\",,IF(IFERROR(INDEX(Přehled_body!$E$3:$ED$130,MATCH(Tabulka!$AI5,Přehled_body!$A$3:$A$130,0),MATCH(Tabulka!AC$2,Přehled_body!$E$1:$ED$1,0)),)=0,0.00000000001,IFERROR(INDEX(Přehled_body!$E$3:$ED$130,MATCH(Tabulka!$AI5,Přehled_body!$A$3:$A$130,0),MATCH(Tabulka!AC$2,Přehled_body!$E$1:$ED$1,0)),)))","v":0},{"$f":"IF(IFERROR(INDEX(Přehled_body!$E$3:$ED$130,MATCH(Tabulka!$AI5,Přehled_body!$A$3:$A$130,0),MATCH(Tabulka!AD$2,Přehled_body!$E$1:$ED$1,0)),)=\"\",,IF(IFERROR(INDEX(Přehled_body!$E$3:$ED$130,MATCH(Tabulka!$AI5,Přehled_body!$A$3:$A$130,0),MATCH(Tabulka!AD$2,Přehled_body!$E$1:$ED$1,0)),)=0,0.00000000001,IFERROR(INDEX(Přehled_body!$E$3:$ED$130,MATCH(Tabulka!$AI5,Přehled_body!$A$3:$A$130,0),MATCH(Tabulka!AD$2,Přehled_body!$E$1:$ED$1,0)),)))","v":0},{"$f":"IF(SUM($D$4:$AD$8)<1,-90000,SUM(D5:AD5))","v":-90000},{"$f":"IF(AE8>0.9,SUM(AE4-AE5)+0.00000001,0)","v":0},null,null,{"$f":"CONCATENATE($B$5,\" \",$B$6,C5)","v":"Jiří FialaProhry"}]
[{"$f":"CONCATENATE(B6,\" \",B5)","v":"Fiala Jiří"},"Fiala","Placeno panáků",{"$f":"IF(IFERROR(INDEX(Přehled_body!$E$3:$ED$130,MATCH(Tabulka!$AI6,Přehled_body!$A$3:$A$130,0),MATCH(Tabulka!D$2,Přehled_body!$E$1:$ED$1,0)),)=\"\",,IF(IFERROR(INDEX(Přehled_body!$E$3:$ED$130,MATCH(Tabulka!$AI6,Přehled_body!$A$3:$A$130,0),MATCH(Tabulka!D$2,Přehled_body!$E$1:$ED$1,0)),)=0,0.00000000001,IFERROR(INDEX(Přehled_body!$E$3:$ED$130,MATCH(Tabulka!$AI6,Přehled_body!$A$3:$A$130,0),MATCH(Tabulka!D$2,Přehled_body!$E$1:$ED$1,0)),)))","v":0},{"$f":"IF(IFERROR(INDEX(Přehled_body!$E$3:$ED$130,MATCH(Tabulka!$AI6,Přehled_body!$A$3:$A$130,0),MATCH(Tabulka!E$2,Přehled_body!$E$1:$ED$1,0)),)=\"\",,IF(IFERROR(INDEX(Přehled_body!$E$3:$ED$130,MATCH(Tabulka!$AI6,Přehled_body!$A$3:$A$130,0),MATCH(Tabulka!E$2,Přehled_body!$E$1:$ED$1,0)),)=0,0.00000000001,IFERROR(INDEX(Přehled_body!$E$3:$ED$130,MATCH(Tabulka!$AI6,Přehled_body!$A$3:$A$130,0),MATCH(Tabulka!E$2,Přehled_body!$E$1:$ED$1,0)),)))","v":0},{"$f":"IF(IFERROR(INDEX(Přehled_body!$E$3:$ED$130,MATCH(Tabulka!$AI6,Přehled_body!$A$3:$A$130,0),MATCH(Tabulka!F$2,Přehled_body!$E$1:$ED$1,0)),)=\"\",,IF(IFERROR(INDEX(Přehled_body!$E$3:$ED$130,MATCH(Tabulka!$AI6,Přehled_body!$A$3:$A$130,0),MATCH(Tabulka!F$2,Přehled_body!$E$1:$ED$1,0)),)=0,0.00000000001,IFERROR(INDEX(Přehled_body!$E$3:$ED$130,MATCH(Tabulka!$AI6,Přehled_body!$A$3:$A$130,0),MATCH(Tabulka!F$2,Přehled_body!$E$1:$ED$1,0)),)))","v":0},{"$f":"IF(IFERROR(INDEX(Přehled_body!$E$3:$ED$130,MATCH(Tabulka!$AI6,Přehled_body!$A$3:$A$130,0),MATCH(Tabulka!G$2,Přehled_body!$E$1:$ED$1,0)),)=\"\",,IF(IFERROR(INDEX(Přehled_body!$E$3:$ED$130,MATCH(Tabulka!$AI6,Přehled_body!$A$3:$A$130,0),MATCH(Tabulka!G$2,Přehled_body!$E$1:$ED$1,0)),)=0,0.00000000001,IFERROR(INDEX(Přehled_body!$E$3:$ED$130,MATCH(Tabulka!$AI6,Přehled_body!$A$3:$A$130,0),MATCH(Tabulka!G$2,Přehled_body!$E$1:$ED$1,0)),)))","v":0},{"$f":"IF(IFERROR(INDEX(Přehled_body!$E$3:$ED$130,MATCH(Tabulka!$AI6,Přehled_body!$A$3:$A$130,0),MATCH(Tabulka!H$2,Přehled_body!$E$1:$ED$1,0)),)=\"\",,IF(IFERROR(INDEX(Přehled_body!$E$3:$ED$130,MATCH(Tabulka!$AI6,Přehled_body!$A$3:$A$130,0),MATCH(Tabulka!H$2,Přehled_body!$E$1:$ED$1,0)),)=0,0.00000000001,IFERROR(INDEX(Přehled_body!$E$3:$ED$130,MATCH(Tabulka!$AI6,Přehled_body!$A$3:$A$130,0),MATCH(Tabulka!H$2,Přehled_body!$E$1:$ED$1,0)),)))","v":0},{"$f":"IF(IFERROR(INDEX(Přehled_body!$E$3:$ED$130,MATCH(Tabulka!$AI6,Přehled_body!$A$3:$A$130,0),MATCH(Tabulka!I$2,Přehled_body!$E$1:$ED$1,0)),)=\"\",,IF(IFERROR(INDEX(Přehled_body!$E$3:$ED$130,MATCH(Tabulka!$AI6,Přehled_body!$A$3:$A$130,0),MATCH(Tabulka!I$2,Přehled_body!$E$1:$ED$1,0)),)=0,0.00000000001,IFERROR(INDEX(Přehled_body!$E$3:$ED$130,MATCH(Tabulka!$AI6,Přehled_body!$A$3:$A$130,0),MATCH(Tabulka!I$2,Přehled_body!$E$1:$ED$1,0)),)))","v":0},{"$f":"IF(IFERROR(INDEX(Přehled_body!$E$3:$ED$130,MATCH(Tabulka!$AI6,Přehled_body!$A$3:$A$130,0),MATCH(Tabulka!J$2,Přehled_body!$E$1:$ED$1,0)),)=\"\",,IF(IFERROR(INDEX(Přehled_body!$E$3:$ED$130,MATCH(Tabulka!$AI6,Přehled_body!$A$3:$A$130,0),MATCH(Tabulka!J$2,Přehled_body!$E$1:$ED$1,0)),)=0,0.00000000001,IFERROR(INDEX(Přehled_body!$E$3:$ED$130,MATCH(Tabulka!$AI6,Přehled_body!$A$3:$A$130,0),MATCH(Tabulka!J$2,Přehled_body!$E$1:$ED$1,0)),)))","v":0},{"$f":"IF(IFERROR(INDEX(Přehled_body!$E$3:$ED$130,MATCH(Tabulka!$AI6,Přehled_body!$A$3:$A$130,0),MATCH(Tabulka!K$2,Přehled_body!$E$1:$ED$1,0)),)=\"\",,IF(IFERROR(INDEX(Přehled_body!$E$3:$ED$130,MATCH(Tabulka!$AI6,Přehled_body!$A$3:$A$130,0),MATCH(Tabulka!K$2,Přehled_body!$E$1:$ED$1,0)),)=0,0.00000000001,IFERROR(INDEX(Přehled_body!$E$3:$ED$130,MATCH(Tabulka!$AI6,Přehled_body!$A$3:$A$130,0),MATCH(Tabulka!K$2,Přehled_body!$E$1:$ED$1,0)),)))","v":0},{"$f":"IF(IFERROR(INDEX(Přehled_body!$E$3:$ED$130,MATCH(Tabulka!$AI6,Přehled_body!$A$3:$A$130,0),MATCH(Tabulka!L$2,Přehled_body!$E$1:$ED$1,0)),)=\"\",,IF(IFERROR(INDEX(Přehled_body!$E$3:$ED$130,MATCH(Tabulka!$AI6,Přehled_body!$A$3:$A$130,0),MATCH(Tabulka!L$2,Přehled_body!$E$1:$ED$1,0)),)=0,0.00000000001,IFERROR(INDEX(Přehled_body!$E$3:$ED$130,MATCH(Tabulka!$AI6,Přehled_body!$A$3:$A$130,0),MATCH(Tabulka!L$2,Přehled_body!$E$1:$ED$1,0)),)))","v":0},{"$f":"IF(IFERROR(INDEX(Přehled_body!$E$3:$ED$130,MATCH(Tabulka!$AI6,Přehled_body!$A$3:$A$130,0),MATCH(Tabulka!M$2,Přehled_body!$E$1:$ED$1,0)),)=\"\",,IF(IFERROR(INDEX(Přehled_body!$E$3:$ED$130,MATCH(Tabulka!$AI6,Přehled_body!$A$3:$A$130,0),MATCH(Tabulka!M$2,Přehled_body!$E$1:$ED$1,0)),)=0,0.00000000001,IFERROR(INDEX(Přehled_body!$E$3:$ED$130,MATCH(Tabulka!$AI6,Přehled_body!$A$3:$A$130,0),MATCH(Tabulka!M$2,Přehled_body!$E$1:$ED$1,0)),)))","v":0},{"$f":"IF(IFERROR(INDEX(Přehled_body!$E$3:$ED$130,MATCH(Tabulka!$AI6,Přehled_body!$A$3:$A$130,0),MATCH(Tabulka!N$2,Přehled_body!$E$1:$ED$1,0)),)=\"\",,IF(IFERROR(INDEX(Přehled_body!$E$3:$ED$130,MATCH(Tabulka!$AI6,Přehled_body!$A$3:$A$130,0),MATCH(Tabulka!N$2,Přehled_body!$E$1:$ED$1,0)),)=0,0.00000000001,IFERROR(INDEX(Přehled_body!$E$3:$ED$130,MATCH(Tabulka!$AI6,Přehled_body!$A$3:$A$130,0),MATCH(Tabulka!N$2,Přehled_body!$E$1:$ED$1,0)),)))","v":0},{"$f":"IF(IFERROR(INDEX(Přehled_body!$E$3:$ED$130,MATCH(Tabulka!$AI6,Přehled_body!$A$3:$A$130,0),MATCH(Tabulka!O$2,Přehled_body!$E$1:$ED$1,0)),)=\"\",,IF(IFERROR(INDEX(Přehled_body!$E$3:$ED$130,MATCH(Tabulka!$AI6,Přehled_body!$A$3:$A$130,0),MATCH(Tabulka!O$2,Přehled_body!$E$1:$ED$1,0)),)=0,0.00000000001,IFERROR(INDEX(Přehled_body!$E$3:$ED$130,MATCH(Tabulka!$AI6,Přehled_body!$A$3:$A$130,0),MATCH(Tabulka!O$2,Přehled_body!$E$1:$ED$1,0)),)))","v":0},{"$f":"IF(IFERROR(INDEX(Přehled_body!$E$3:$ED$130,MATCH(Tabulka!$AI6,Přehled_body!$A$3:$A$130,0),MATCH(Tabulka!P$2,Přehled_body!$E$1:$ED$1,0)),)=\"\",,IF(IFERROR(INDEX(Přehled_body!$E$3:$ED$130,MATCH(Tabulka!$AI6,Přehled_body!$A$3:$A$130,0),MATCH(Tabulka!P$2,Přehled_body!$E$1:$ED$1,0)),)=0,0.00000000001,IFERROR(INDEX(Přehled_body!$E$3:$ED$130,MATCH(Tabulka!$AI6,Přehled_body!$A$3:$A$130,0),MATCH(Tabulka!P$2,Přehled_body!$E$1:$ED$1,0)),)))","v":0},{"$f":"IF(IFERROR(INDEX(Přehled_body!$E$3:$ED$130,MATCH(Tabulka!$AI6,Přehled_body!$A$3:$A$130,0),MATCH(Tabulka!Q$2,Přehled_body!$E$1:$ED$1,0)),)=\"\",,IF(IFERROR(INDEX(Přehled_body!$E$3:$ED$130,MATCH(Tabulka!$AI6,Přehled_body!$A$3:$A$130,0),MATCH(Tabulka!Q$2,Přehled_body!$E$1:$ED$1,0)),)=0,0.00000000001,IFERROR(INDEX(Přehled_body!$E$3:$ED$130,MATCH(Tabulka!$AI6,Přehled_body!$A$3:$A$130,0),MATCH(Tabulka!Q$2,Přehled_body!$E$1:$ED$1,0)),)))","v":0},{"$f":"IF(IFERROR(INDEX(Přehled_body!$E$3:$ED$130,MATCH(Tabulka!$AI6,Přehled_body!$A$3:$A$130,0),MATCH(Tabulka!R$2,Přehled_body!$E$1:$ED$1,0)),)=\"\",,IF(IFERROR(INDEX(Přehled_body!$E$3:$ED$130,MATCH(Tabulka!$AI6,Přehled_body!$A$3:$A$130,0),MATCH(Tabulka!R$2,Přehled_body!$E$1:$ED$1,0)),)=0,0.00000000001,IFERROR(INDEX(Přehled_body!$E$3:$ED$130,MATCH(Tabulka!$AI6,Přehled_body!$A$3:$A$130,0),MATCH(Tabulka!R$2,Přehled_body!$E$1:$ED$1,0)),)))","v":0},{"$f":"IF(IFERROR(INDEX(Přehled_body!$E$3:$ED$130,MATCH(Tabulka!$AI6,Přehled_body!$A$3:$A$130,0),MATCH(Tabulka!S$2,Přehled_body!$E$1:$ED$1,0)),)=\"\",,IF(IFERROR(INDEX(Přehled_body!$E$3:$ED$130,MATCH(Tabulka!$AI6,Přehled_body!$A$3:$A$130,0),MATCH(Tabulka!S$2,Přehled_body!$E$1:$ED$1,0)),)=0,0.00000000001,IFERROR(INDEX(Přehled_body!$E$3:$ED$130,MATCH(Tabulka!$AI6,Přehled_body!$A$3:$A$130,0),MATCH(Tabulka!S$2,Přehled_body!$E$1:$ED$1,0)),)))","v":0},{"$f":"IF(IFERROR(INDEX(Přehled_body!$E$3:$ED$130,MATCH(Tabulka!$AI6,Přehled_body!$A$3:$A$130,0),MATCH(Tabulka!T$2,Přehled_body!$E$1:$ED$1,0)),)=\"\",,IF(IFERROR(INDEX(Přehled_body!$E$3:$ED$130,MATCH(Tabulka!$AI6,Přehled_body!$A$3:$A$130,0),MATCH(Tabulka!T$2,Přehled_body!$E$1:$ED$1,0)),)=0,0.00000000001,IFERROR(INDEX(Přehled_body!$E$3:$ED$130,MATCH(Tabulka!$AI6,Přehled_body!$A$3:$A$130,0),MATCH(Tabulka!T$2,Přehled_body!$E$1:$ED$1,0)),)))","v":0},{"$f":"IF(IFERROR(INDEX(Přehled_body!$E$3:$ED$130,MATCH(Tabulka!$AI6,Přehled_body!$A$3:$A$130,0),MATCH(Tabulka!U$2,Přehled_body!$E$1:$ED$1,0)),)=\"\",,IF(IFERROR(INDEX(Přehled_body!$E$3:$ED$130,MATCH(Tabulka!$AI6,Přehled_body!$A$3:$A$130,0),MATCH(Tabulka!U$2,Přehled_body!$E$1:$ED$1,0)),)=0,0.00000000001,IFERROR(INDEX(Přehled_body!$E$3:$ED$130,MATCH(Tabulka!$AI6,Přehled_body!$A$3:$A$130,0),MATCH(Tabulka!U$2,Přehled_body!$E$1:$ED$1,0)),)))","v":0},{"$f":"IF(IFERROR(INDEX(Přehled_body!$E$3:$ED$130,MATCH(Tabulka!$AI6,Přehled_body!$A$3:$A$130,0),MATCH(Tabulka!V$2,Přehled_body!$E$1:$ED$1,0)),)=\"\",,IF(IFERROR(INDEX(Přehled_body!$E$3:$ED$130,MATCH(Tabulka!$AI6,Přehled_body!$A$3:$A$130,0),MATCH(Tabulka!V$2,Přehled_body!$E$1:$ED$1,0)),)=0,0.00000000001,IFERROR(INDEX(Přehled_body!$E$3:$ED$130,MATCH(Tabulka!$AI6,Přehled_body!$A$3:$A$130,0),MATCH(Tabulka!V$2,Přehled_body!$E$1:$ED$1,0)),)))","v":0},{"$f":"IF(IFERROR(INDEX(Přehled_body!$E$3:$ED$130,MATCH(Tabulka!$AI6,Přehled_body!$A$3:$A$130,0),MATCH(Tabulka!W$2,Přehled_body!$E$1:$ED$1,0)),)=\"\",,IF(IFERROR(INDEX(Přehled_body!$E$3:$ED$130,MATCH(Tabulka!$AI6,Přehled_body!$A$3:$A$130,0),MATCH(Tabulka!W$2,Přehled_body!$E$1:$ED$1,0)),)=0,0.00000000001,IFERROR(INDEX(Přehled_body!$E$3:$ED$130,MATCH(Tabulka!$AI6,Přehled_body!$A$3:$A$130,0),MATCH(Tabulka!W$2,Přehled_body!$E$1:$ED$1,0)),)))","v":0},{"$f":"IF(IFERROR(INDEX(Přehled_body!$E$3:$ED$130,MATCH(Tabulka!$AI6,Přehled_body!$A$3:$A$130,0),MATCH(Tabulka!X$2,Přehled_body!$E$1:$ED$1,0)),)=\"\",,IF(IFERROR(INDEX(Přehled_body!$E$3:$ED$130,MATCH(Tabulka!$AI6,Přehled_body!$A$3:$A$130,0),MATCH(Tabulka!X$2,Přehled_body!$E$1:$ED$1,0)),)=0,0.00000000001,IFERROR(INDEX(Přehled_body!$E$3:$ED$130,MATCH(Tabulka!$AI6,Přehled_body!$A$3:$A$130,0),MATCH(Tabulka!X$2,Přehled_body!$E$1:$ED$1,0)),)))","v":0},{"$f":"IF(IFERROR(INDEX(Přehled_body!$E$3:$ED$130,MATCH(Tabulka!$AI6,Přehled_body!$A$3:$A$130,0),MATCH(Tabulka!Y$2,Přehled_body!$E$1:$ED$1,0)),)=\"\",,IF(IFERROR(INDEX(Přehled_body!$E$3:$ED$130,MATCH(Tabulka!$AI6,Přehled_body!$A$3:$A$130,0),MATCH(Tabulka!Y$2,Přehled_body!$E$1:$ED$1,0)),)=0,0.00000000001,IFERROR(INDEX(Přehled_body!$E$3:$ED$130,MATCH(Tabulka!$AI6,Přehled_body!$A$3:$A$130,0),MATCH(Tabulka!Y$2,Přehled_body!$E$1:$ED$1,0)),)))","v":0},{"$f":"IF(IFERROR(INDEX(Přehled_body!$E$3:$ED$130,MATCH(Tabulka!$AI6,Přehled_body!$A$3:$A$130,0),MATCH(Tabulka!Z$2,Přehled_body!$E$1:$ED$1,0)),)=\"\",,IF(IFERROR(INDEX(Přehled_body!$E$3:$ED$130,MATCH(Tabulka!$AI6,Přehled_body!$A$3:$A$130,0),MATCH(Tabulka!Z$2,Přehled_body!$E$1:$ED$1,0)),)=0,0.00000000001,IFERROR(INDEX(Přehled_body!$E$3:$ED$130,MATCH(Tabulka!$AI6,Přehled_body!$A$3:$A$130,0),MATCH(Tabulka!Z$2,Přehled_body!$E$1:$ED$1,0)),)))","v":0},{"$f":"IF(IFERROR(INDEX(Přehled_body!$E$3:$ED$130,MATCH(Tabulka!$AI6,Přehled_body!$A$3:$A$130,0),MATCH(Tabulka!AA$2,Přehled_body!$E$1:$ED$1,0)),)=\"\",,IF(IFERROR(INDEX(Přehled_body!$E$3:$ED$130,MATCH(Tabulka!$AI6,Přehled_body!$A$3:$A$130,0),MATCH(Tabulka!AA$2,Přehled_body!$E$1:$ED$1,0)),)=0,0.00000000001,IFERROR(INDEX(Přehled_body!$E$3:$ED$130,MATCH(Tabulka!$AI6,Přehled_body!$A$3:$A$130,0),MATCH(Tabulka!AA$2,Přehled_body!$E$1:$ED$1,0)),)))","v":0},{"$f":"IF(IFERROR(INDEX(Přehled_body!$E$3:$ED$130,MATCH(Tabulka!$AI6,Přehled_body!$A$3:$A$130,0),MATCH(Tabulka!AB$2,Přehled_body!$E$1:$ED$1,0)),)=\"\",,IF(IFERROR(INDEX(Přehled_body!$E$3:$ED$130,MATCH(Tabulka!$AI6,Přehled_body!$A$3:$A$130,0),MATCH(Tabulka!AB$2,Přehled_body!$E$1:$ED$1,0)),)=0,0.00000000001,IFERROR(INDEX(Přehled_body!$E$3:$ED$130,MATCH(Tabulka!$AI6,Přehled_body!$A$3:$A$130,0),MATCH(Tabulka!AB$2,Přehled_body!$E$1:$ED$1,0)),)))","v":0},{"$f":"IF(IFERROR(INDEX(Přehled_body!$E$3:$ED$130,MATCH(Tabulka!$AI6,Přehled_body!$A$3:$A$130,0),MATCH(Tabulka!AC$2,Přehled_body!$E$1:$ED$1,0)),)=\"\",,IF(IFERROR(INDEX(Přehled_body!$E$3:$ED$130,MATCH(Tabulka!$AI6,Přehled_body!$A$3:$A$130,0),MATCH(Tabulka!AC$2,Přehled_body!$E$1:$ED$1,0)),)=0,0.00000000001,IFERROR(INDEX(Přehled_body!$E$3:$ED$130,MATCH(Tabulka!$AI6,Přehled_body!$A$3:$A$130,0),MATCH(Tabulka!AC$2,Přehled_body!$E$1:$ED$1,0)),)))","v":0},{"$f":"IF(IFERROR(INDEX(Přehled_body!$E$3:$ED$130,MATCH(Tabulka!$AI6,Přehled_body!$A$3:$A$130,0),MATCH(Tabulka!AD$2,Přehled_body!$E$1:$ED$1,0)),)=\"\",,IF(IFERROR(INDEX(Přehled_body!$E$3:$ED$130,MATCH(Tabulka!$AI6,Přehled_body!$A$3:$A$130,0),MATCH(Tabulka!AD$2,Přehled_body!$E$1:$ED$1,0)),)=0,0.00000000001,IFERROR(INDEX(Přehled_body!$E$3:$ED$130,MATCH(Tabulka!$AI6,Přehled_body!$A$3:$A$130,0),MATCH(Tabulka!AD$2,Přehled_body!$E$1:$ED$1,0)),)))","v":0},{"$f":"IF(SUM($D$4:$AD$8)<1,-90000,SUM(D6:AD6))","v":-90000},null,null,null,{"$f":"CONCATENATE($B$5,\" \",$B$6,C6)","v":"Jiří FialaPlaceno panáků"}]
[null,null,"Přehozy",{"$f":"IF(IFERROR(INDEX(Přehled_body!$E$3:$ED$130,MATCH(Tabulka!$AI7,Přehled_body!$A$3:$A$130,0),MATCH(Tabulka!D$2,Přehled_body!$E$1:$ED$1,0)),)=\"\",,IF(IFERROR(INDEX(Přehled_body!$E$3:$ED$130,MATCH(Tabulka!$AI7,Přehled_body!$A$3:$A$130,0),MATCH(Tabulka!D$2,Přehled_body!$E$1:$ED$1,0)),)=0,0.00000000001,IFERROR(INDEX(Přehled_body!$E$3:$ED$130,MATCH(Tabulka!$AI7,Přehled_body!$A$3:$A$130,0),MATCH(Tabulka!D$2,Přehled_body!$E$1:$ED$1,0)),)))","v":0},{"$f":"IF(IFERROR(INDEX(Přehled_body!$E$3:$ED$130,MATCH(Tabulka!$AI7,Přehled_body!$A$3:$A$130,0),MATCH(Tabulka!E$2,Přehled_body!$E$1:$ED$1,0)),)=\"\",,IF(IFERROR(INDEX(Přehled_body!$E$3:$ED$130,MATCH(Tabulka!$AI7,Přehled_body!$A$3:$A$130,0),MATCH(Tabulka!E$2,Přehled_body!$E$1:$ED$1,0)),)=0,0.00000000001,IFERROR(INDEX(Přehled_body!$E$3:$ED$130,MATCH(Tabulka!$AI7,Přehled_body!$A$3:$A$130,0),MATCH(Tabulka!E$2,Přehled_body!$E$1:$ED$1,0)),)))","v":0},{"$f":"IF(IFERROR(INDEX(Přehled_body!$E$3:$ED$130,MATCH(Tabulka!$AI7,Přehled_body!$A$3:$A$130,0),MATCH(Tabulka!F$2,Přehled_body!$E$1:$ED$1,0)),)=\"\",,IF(IFERROR(INDEX(Přehled_body!$E$3:$ED$130,MATCH(Tabulka!$AI7,Přehled_body!$A$3:$A$130,0),MATCH(Tabulka!F$2,Přehled_body!$E$1:$ED$1,0)),)=0,0.00000000001,IFERROR(INDEX(Přehled_body!$E$3:$ED$130,MATCH(Tabulka!$AI7,Přehled_body!$A$3:$A$130,0),MATCH(Tabulka!F$2,Přehled_body!$E$1:$ED$1,0)),)))","v":0},{"$f":"IF(IFERROR(INDEX(Přehled_body!$E$3:$ED$130,MATCH(Tabulka!$AI7,Přehled_body!$A$3:$A$130,0),MATCH(Tabulka!G$2,Přehled_body!$E$1:$ED$1,0)),)=\"\",,IF(IFERROR(INDEX(Přehled_body!$E$3:$ED$130,MATCH(Tabulka!$AI7,Přehled_body!$A$3:$A$130,0),MATCH(Tabulka!G$2,Přehled_body!$E$1:$ED$1,0)),)=0,0.00000000001,IFERROR(INDEX(Přehled_body!$E$3:$ED$130,MATCH(Tabulka!$AI7,Přehled_body!$A$3:$A$130,0),MATCH(Tabulka!G$2,Přehled_body!$E$1:$ED$1,0)),)))","v":0},{"$f":"IF(IFERROR(INDEX(Přehled_body!$E$3:$ED$130,MATCH(Tabulka!$AI7,Přehled_body!$A$3:$A$130,0),MATCH(Tabulka!H$2,Přehled_body!$E$1:$ED$1,0)),)=\"\",,IF(IFERROR(INDEX(Přehled_body!$E$3:$ED$130,MATCH(Tabulka!$AI7,Přehled_body!$A$3:$A$130,0),MATCH(Tabulka!H$2,Přehled_body!$E$1:$ED$1,0)),)=0,0.00000000001,IFERROR(INDEX(Přehled_body!$E$3:$ED$130,MATCH(Tabulka!$AI7,Přehled_body!$A$3:$A$130,0),MATCH(Tabulka!H$2,Přehled_body!$E$1:$ED$1,0)),)))","v":0},{"$f":"IF(IFERROR(INDEX(Přehled_body!$E$3:$ED$130,MATCH(Tabulka!$AI7,Přehled_body!$A$3:$A$130,0),MATCH(Tabulka!I$2,Přehled_body!$E$1:$ED$1,0)),)=\"\",,IF(IFERROR(INDEX(Přehled_body!$E$3:$ED$130,MATCH(Tabulka!$AI7,Přehled_body!$A$3:$A$130,0),MATCH(Tabulka!I$2,Přehled_body!$E$1:$ED$1,0)),)=0,0.00000000001,IFERROR(INDEX(Přehled_body!$E$3:$ED$130,MATCH(Tabulka!$AI7,Přehled_body!$A$3:$A$130,0),MATCH(Tabulka!I$2,Přehled_body!$E$1:$ED$1,0)),)))","v":0},{"$f":"IF(IFERROR(INDEX(Přehled_body!$E$3:$ED$130,MATCH(Tabulka!$AI7,Přehled_body!$A$3:$A$130,0),MATCH(Tabulka!J$2,Přehled_body!$E$1:$ED$1,0)),)=\"\",,IF(IFERROR(INDEX(Přehled_body!$E$3:$ED$130,MATCH(Tabulka!$AI7,Přehled_body!$A$3:$A$130,0),MATCH(Tabulka!J$2,Přehled_body!$E$1:$ED$1,0)),)=0,0.00000000001,IFERROR(INDEX(Přehled_body!$E$3:$ED$130,MATCH(Tabulka!$AI7,Přehled_body!$A$3:$A$130,0),MATCH(Tabulka!J$2,Přehled_body!$E$1:$ED$1,0)),)))","v":0},{"$f":"IF(IFERROR(INDEX(Přehled_body!$E$3:$ED$130,MATCH(Tabulka!$AI7,Přehled_body!$A$3:$A$130,0),MATCH(Tabulka!K$2,Přehled_body!$E$1:$ED$1,0)),)=\"\",,IF(IFERROR(INDEX(Přehled_body!$E$3:$ED$130,MATCH(Tabulka!$AI7,Přehled_body!$A$3:$A$130,0),MATCH(Tabulka!K$2,Přehled_body!$E$1:$ED$1,0)),)=0,0.00000000001,IFERROR(INDEX(Přehled_body!$E$3:$ED$130,MATCH(Tabulka!$AI7,Přehled_body!$A$3:$A$130,0),MATCH(Tabulka!K$2,Přehled_body!$E$1:$ED$1,0)),)))","v":0},{"$f":"IF(IFERROR(INDEX(Přehled_body!$E$3:$ED$130,MATCH(Tabulka!$AI7,Přehled_body!$A$3:$A$130,0),MATCH(Tabulka!L$2,Přehled_body!$E$1:$ED$1,0)),)=\"\",,IF(IFERROR(INDEX(Přehled_body!$E$3:$ED$130,MATCH(Tabulka!$AI7,Přehled_body!$A$3:$A$130,0),MATCH(Tabulka!L$2,Přehled_body!$E$1:$ED$1,0)),)=0,0.00000000001,IFERROR(INDEX(Přehled_body!$E$3:$ED$130,MATCH(Tabulka!$AI7,Přehled_body!$A$3:$A$130,0),MATCH(Tabulka!L$2,Přehled_body!$E$1:$ED$1,0)),)))","v":0},{"$f":"IF(IFERROR(INDEX(Přehled_body!$E$3:$ED$130,MATCH(Tabulka!$AI7,Přehled_body!$A$3:$A$130,0),MATCH(Tabulka!M$2,Přehled_body!$E$1:$ED$1,0)),)=\"\",,IF(IFERROR(INDEX(Přehled_body!$E$3:$ED$130,MATCH(Tabulka!$AI7,Přehled_body!$A$3:$A$130,0),MATCH(Tabulka!M$2,Přehled_body!$E$1:$ED$1,0)),)=0,0.00000000001,IFERROR(INDEX(Přehled_body!$E$3:$ED$130,MATCH(Tabulka!$AI7,Přehled_body!$A$3:$A$130,0),MATCH(Tabulka!M$2,Přehled_body!$E$1:$ED$1,0)),)))","v":0},{"$f":"IF(IFERROR(INDEX(Přehled_body!$E$3:$ED$130,MATCH(Tabulka!$AI7,Přehled_body!$A$3:$A$130,0),MATCH(Tabulka!N$2,Přehled_body!$E$1:$ED$1,0)),)=\"\",,IF(IFERROR(INDEX(Přehled_body!$E$3:$ED$130,MATCH(Tabulka!$AI7,Přehled_body!$A$3:$A$130,0),MATCH(Tabulka!N$2,Přehled_body!$E$1:$ED$1,0)),)=0,0.00000000001,IFERROR(INDEX(Přehled_body!$E$3:$ED$130,MATCH(Tabulka!$AI7,Přehled_body!$A$3:$A$130,0),MATCH(Tabulka!N$2,Přehled_body!$E$1:$ED$1,0)),)))","v":0},{"$f":"IF(IFERROR(INDEX(Přehled_body!$E$3:$ED$130,MATCH(Tabulka!$AI7,Přehled_body!$A$3:$A$130,0),MATCH(Tabulka!O$2,Přehled_body!$E$1:$ED$1,0)),)=\"\",,IF(IFERROR(INDEX(Přehled_body!$E$3:$ED$130,MATCH(Tabulka!$AI7,Přehled_body!$A$3:$A$130,0),MATCH(Tabulka!O$2,Přehled_body!$E$1:$ED$1,0)),)=0,0.00000000001,IFERROR(INDEX(Přehled_body!$E$3:$ED$130,MATCH(Tabulka!$AI7,Přehled_body!$A$3:$A$130,0),MATCH(Tabulka!O$2,Přehled_body!$E$1:$ED$1,0)),)))","v":0},{"$f":"IF(IFERROR(INDEX(Přehled_body!$E$3:$ED$130,MATCH(Tabulka!$AI7,Přehled_body!$A$3:$A$130,0),MATCH(Tabulka!P$2,Přehled_body!$E$1:$ED$1,0)),)=\"\",,IF(IFERROR(INDEX(Přehled_body!$E$3:$ED$130,MATCH(Tabulka!$AI7,Přehled_body!$A$3:$A$130,0),MATCH(Tabulka!P$2,Přehled_body!$E$1:$ED$1,0)),)=0,0.00000000001,IFERROR(INDEX(Přehled_body!$E$3:$ED$130,MATCH(Tabulka!$AI7,Přehled_body!$A$3:$A$130,0),MATCH(Tabulka!P$2,Přehled_body!$E$1:$ED$1,0)),)))","v":0},{"$f":"IF(IFERROR(INDEX(Přehled_body!$E$3:$ED$130,MATCH(Tabulka!$AI7,Přehled_body!$A$3:$A$130,0),MATCH(Tabulka!Q$2,Přehled_body!$E$1:$ED$1,0)),)=\"\",,IF(IFERROR(INDEX(Přehled_body!$E$3:$ED$130,MATCH(Tabulka!$AI7,Přehled_body!$A$3:$A$130,0),MATCH(Tabulka!Q$2,Přehled_body!$E$1:$ED$1,0)),)=0,0.00000000001,IFERROR(INDEX(Přehled_body!$E$3:$ED$130,MATCH(Tabulka!$AI7,Přehled_body!$A$3:$A$130,0),MATCH(Tabulka!Q$2,Přehled_body!$E$1:$ED$1,0)),)))","v":0},{"$f":"IF(IFERROR(INDEX(Přehled_body!$E$3:$ED$130,MATCH(Tabulka!$AI7,Přehled_body!$A$3:$A$130,0),MATCH(Tabulka!R$2,Přehled_body!$E$1:$ED$1,0)),)=\"\",,IF(IFERROR(INDEX(Přehled_body!$E$3:$ED$130,MATCH(Tabulka!$AI7,Přehled_body!$A$3:$A$130,0),MATCH(Tabulka!R$2,Přehled_body!$E$1:$ED$1,0)),)=0,0.00000000001,IFERROR(INDEX(Přehled_body!$E$3:$ED$130,MATCH(Tabulka!$AI7,Přehled_body!$A$3:$A$130,0),MATCH(Tabulka!R$2,Přehled_body!$E$1:$ED$1,0)),)))","v":0},{"$f":"IF(IFERROR(INDEX(Přehled_body!$E$3:$ED$130,MATCH(Tabulka!$AI7,Přehled_body!$A$3:$A$130,0),MATCH(Tabulka!S$2,Přehled_body!$E$1:$ED$1,0)),)=\"\",,IF(IFERROR(INDEX(Přehled_body!$E$3:$ED$130,MATCH(Tabulka!$AI7,Přehled_body!$A$3:$A$130,0),MATCH(Tabulka!S$2,Přehled_body!$E$1:$ED$1,0)),)=0,0.00000000001,IFERROR(INDEX(Přehled_body!$E$3:$ED$130,MATCH(Tabulka!$AI7,Přehled_body!$A$3:$A$130,0),MATCH(Tabulka!S$2,Přehled_body!$E$1:$ED$1,0)),)))","v":0},{"$f":"IF(IFERROR(INDEX(Přehled_body!$E$3:$ED$130,MATCH(Tabulka!$AI7,Přehled_body!$A$3:$A$130,0),MATCH(Tabulka!T$2,Přehled_body!$E$1:$ED$1,0)),)=\"\",,IF(IFERROR(INDEX(Přehled_body!$E$3:$ED$130,MATCH(Tabulka!$AI7,Přehled_body!$A$3:$A$130,0),MATCH(Tabulka!T$2,Přehled_body!$E$1:$ED$1,0)),)=0,0.00000000001,IFERROR(INDEX(Přehled_body!$E$3:$ED$130,MATCH(Tabulka!$AI7,Přehled_body!$A$3:$A$130,0),MATCH(Tabulka!T$2,Přehled_body!$E$1:$ED$1,0)),)))","v":0},{"$f":"IF(IFERROR(INDEX(Přehled_body!$E$3:$ED$130,MATCH(Tabulka!$AI7,Přehled_body!$A$3:$A$130,0),MATCH(Tabulka!U$2,Přehled_body!$E$1:$ED$1,0)),)=\"\",,IF(IFERROR(INDEX(Přehled_body!$E$3:$ED$130,MATCH(Tabulka!$AI7,Přehled_body!$A$3:$A$130,0),MATCH(Tabulka!U$2,Přehled_body!$E$1:$ED$1,0)),)=0,0.00000000001,IFERROR(INDEX(Přehled_body!$E$3:$ED$130,MATCH(Tabulka!$AI7,Přehled_body!$A$3:$A$130,0),MATCH(Tabulka!U$2,Přehled_body!$E$1:$ED$1,0)),)))","v":0},{"$f":"IF(IFERROR(INDEX(Přehled_body!$E$3:$ED$130,MATCH(Tabulka!$AI7,Přehled_body!$A$3:$A$130,0),MATCH(Tabulka!V$2,Přehled_body!$E$1:$ED$1,0)),)=\"\",,IF(IFERROR(INDEX(Přehled_body!$E$3:$ED$130,MATCH(Tabulka!$AI7,Přehled_body!$A$3:$A$130,0),MATCH(Tabulka!V$2,Přehled_body!$E$1:$ED$1,0)),)=0,0.00000000001,IFERROR(INDEX(Přehled_body!$E$3:$ED$130,MATCH(Tabulka!$AI7,Přehled_body!$A$3:$A$130,0),MATCH(Tabulka!V$2,Přehled_body!$E$1:$ED$1,0)),)))","v":0},{"$f":"IF(IFERROR(INDEX(Přehled_body!$E$3:$ED$130,MATCH(Tabulka!$AI7,Přehled_body!$A$3:$A$130,0),MATCH(Tabulka!W$2,Přehled_body!$E$1:$ED$1,0)),)=\"\",,IF(IFERROR(INDEX(Přehled_body!$E$3:$ED$130,MATCH(Tabulka!$AI7,Přehled_body!$A$3:$A$130,0),MATCH(Tabulka!W$2,Přehled_body!$E$1:$ED$1,0)),)=0,0.00000000001,IFERROR(INDEX(Přehled_body!$E$3:$ED$130,MATCH(Tabulka!$AI7,Přehled_body!$A$3:$A$130,0),MATCH(Tabulka!W$2,Přehled_body!$E$1:$ED$1,0)),)))","v":0},{"$f":"IF(IFERROR(INDEX(Přehled_body!$E$3:$ED$130,MATCH(Tabulka!$AI7,Přehled_body!$A$3:$A$130,0),MATCH(Tabulka!X$2,Přehled_body!$E$1:$ED$1,0)),)=\"\",,IF(IFERROR(INDEX(Přehled_body!$E$3:$ED$130,MATCH(Tabulka!$AI7,Přehled_body!$A$3:$A$130,0),MATCH(Tabulka!X$2,Přehled_body!$E$1:$ED$1,0)),)=0,0.00000000001,IFERROR(INDEX(Přehled_body!$E$3:$ED$130,MATCH(Tabulka!$AI7,Přehled_body!$A$3:$A$130,0),MATCH(Tabulka!X$2,Přehled_body!$E$1:$ED$1,0)),)))","v":0},{"$f":"IF(IFERROR(INDEX(Přehled_body!$E$3:$ED$130,MATCH(Tabulka!$AI7,Přehled_body!$A$3:$A$130,0),MATCH(Tabulka!Y$2,Přehled_body!$E$1:$ED$1,0)),)=\"\",,IF(IFERROR(INDEX(Přehled_body!$E$3:$ED$130,MATCH(Tabulka!$AI7,Přehled_body!$A$3:$A$130,0),MATCH(Tabulka!Y$2,Přehled_body!$E$1:$ED$1,0)),)=0,0.00000000001,IFERROR(INDEX(Přehled_body!$E$3:$ED$130,MATCH(Tabulka!$AI7,Přehled_body!$A$3:$A$130,0),MATCH(Tabulka!Y$2,Přehled_body!$E$1:$ED$1,0)),)))","v":0},{"$f":"IF(IFERROR(INDEX(Přehled_body!$E$3:$ED$130,MATCH(Tabulka!$AI7,Přehled_body!$A$3:$A$130,0),MATCH(Tabulka!Z$2,Přehled_body!$E$1:$ED$1,0)),)=\"\",,IF(IFERROR(INDEX(Přehled_body!$E$3:$ED$130,MATCH(Tabulka!$AI7,Přehled_body!$A$3:$A$130,0),MATCH(Tabulka!Z$2,Přehled_body!$E$1:$ED$1,0)),)=0,0.00000000001,IFERROR(INDEX(Přehled_body!$E$3:$ED$130,MATCH(Tabulka!$AI7,Přehled_body!$A$3:$A$130,0),MATCH(Tabulka!Z$2,Přehled_body!$E$1:$ED$1,0)),)))","v":0},{"$f":"IF(IFERROR(INDEX(Přehled_body!$E$3:$ED$130,MATCH(Tabulka!$AI7,Přehled_body!$A$3:$A$130,0),MATCH(Tabulka!AA$2,Přehled_body!$E$1:$ED$1,0)),)=\"\",,IF(IFERROR(INDEX(Přehled_body!$E$3:$ED$130,MATCH(Tabulka!$AI7,Přehled_body!$A$3:$A$130,0),MATCH(Tabulka!AA$2,Přehled_body!$E$1:$ED$1,0)),)=0,0.00000000001,IFERROR(INDEX(Přehled_body!$E$3:$ED$130,MATCH(Tabulka!$AI7,Přehled_body!$A$3:$A$130,0),MATCH(Tabulka!AA$2,Přehled_body!$E$1:$ED$1,0)),)))","v":0},{"$f":"IF(IFERROR(INDEX(Přehled_body!$E$3:$ED$130,MATCH(Tabulka!$AI7,Přehled_body!$A$3:$A$130,0),MATCH(Tabulka!AB$2,Přehled_body!$E$1:$ED$1,0)),)=\"\",,IF(IFERROR(INDEX(Přehled_body!$E$3:$ED$130,MATCH(Tabulka!$AI7,Přehled_body!$A$3:$A$130,0),MATCH(Tabulka!AB$2,Přehled_body!$E$1:$ED$1,0)),)=0,0.00000000001,IFERROR(INDEX(Přehled_body!$E$3:$ED$130,MATCH(Tabulka!$AI7,Přehled_body!$A$3:$A$130,0),MATCH(Tabulka!AB$2,Přehled_body!$E$1:$ED$1,0)),)))","v":0},{"$f":"IF(IFERROR(INDEX(Přehled_body!$E$3:$ED$130,MATCH(Tabulka!$AI7,Přehled_body!$A$3:$A$130,0),MATCH(Tabulka!AC$2,Přehled_body!$E$1:$ED$1,0)),)=\"\",,IF(IFERROR(INDEX(Přehled_body!$E$3:$ED$130,MATCH(Tabulka!$AI7,Přehled_body!$A$3:$A$130,0),MATCH(Tabulka!AC$2,Přehled_body!$E$1:$ED$1,0)),)=0,0.00000000001,IFERROR(INDEX(Přehled_body!$E$3:$ED$130,MATCH(Tabulka!$AI7,Přehled_body!$A$3:$A$130,0),MATCH(Tabulka!AC$2,Přehled_body!$E$1:$ED$1,0)),)))","v":0},{"$f":"IF(IFERROR(INDEX(Přehled_body!$E$3:$ED$130,MATCH(Tabulka!$AI7,Přehled_body!$A$3:$A$130,0),MATCH(Tabulka!AD$2,Přehled_body!$E$1:$ED$1,0)),)=\"\",,IF(IFERROR(INDEX(Přehled_body!$E$3:$ED$130,MATCH(Tabulka!$AI7,Přehled_body!$A$3:$A$130,0),MATCH(Tabulka!AD$2,Přehled_body!$E$1:$ED$1,0)),)=0,0.00000000001,IFERROR(INDEX(Přehled_body!$E$3:$ED$130,MATCH(Tabulka!$AI7,Přehled_body!$A$3:$A$130,0),MATCH(Tabulka!AD$2,Přehled_body!$E$1:$ED$1,0)),)))","v":0},{"$f":"IF(SUM($D$4:$AD$8)<1,-90000,SUM(D7:AD7))","v":-90000},null,null,null,{"$f":"CONCATENATE($B$5,\" \",$B$6,C7)","v":"Jiří FialaPřehozy"}]
[null,null,"Poč. kol",{"$f":"IF(IFERROR(INDEX(Přehled_body!$E$3:$ED$130,MATCH(Tabulka!$AI8,Přehled_body!$A$3:$A$130,0),MATCH(Tabulka!D$2,Přehled_body!$E$1:$ED$1,0)),)=\"\",,IF(IFERROR(INDEX(Přehled_body!$E$3:$ED$130,MATCH(Tabulka!$AI8,Přehled_body!$A$3:$A$130,0),MATCH(Tabulka!D$2,Přehled_body!$E$1:$ED$1,0)),)=0,0.00000000001,IFERROR(INDEX(Přehled_body!$E$3:$ED$130,MATCH(Tabulka!$AI8,Přehled_body!$A$3:$A$130,0),MATCH(Tabulka!D$2,Přehled_body!$E$1:$ED$1,0)),)))","v":0},{"$f":"IF(IFERROR(INDEX(Přehled_body!$E$3:$ED$130,MATCH(Tabulka!$AI8,Přehled_body!$A$3:$A$130,0),MATCH(Tabulka!E$2,Přehled_body!$E$1:$ED$1,0)),)=\"\",,IF(IFERROR(INDEX(Přehled_body!$E$3:$ED$130,MATCH(Tabulka!$AI8,Přehled_body!$A$3:$A$130,0),MATCH(Tabulka!E$2,Přehled_body!$E$1:$ED$1,0)),)=0,0.00000000001,IFERROR(INDEX(Přehled_body!$E$3:$ED$130,MATCH(Tabulka!$AI8,Přehled_body!$A$3:$A$130,0),MATCH(Tabulka!E$2,Přehled_body!$E$1:$ED$1,0)),)))","v":0},{"$f":"IF(IFERROR(INDEX(Přehled_body!$E$3:$ED$130,MATCH(Tabulka!$AI8,Přehled_body!$A$3:$A$130,0),MATCH(Tabulka!F$2,Přehled_body!$E$1:$ED$1,0)),)=\"\",,IF(IFERROR(INDEX(Přehled_body!$E$3:$ED$130,MATCH(Tabulka!$AI8,Přehled_body!$A$3:$A$130,0),MATCH(Tabulka!F$2,Přehled_body!$E$1:$ED$1,0)),)=0,0.00000000001,IFERROR(INDEX(Přehled_body!$E$3:$ED$130,MATCH(Tabulka!$AI8,Přehled_body!$A$3:$A$130,0),MATCH(Tabulka!F$2,Přehled_body!$E$1:$ED$1,0)),)))","v":0},{"$f":"IF(IFERROR(INDEX(Přehled_body!$E$3:$ED$130,MATCH(Tabulka!$AI8,Přehled_body!$A$3:$A$130,0),MATCH(Tabulka!G$2,Přehled_body!$E$1:$ED$1,0)),)=\"\",,IF(IFERROR(INDEX(Přehled_body!$E$3:$ED$130,MATCH(Tabulka!$AI8,Přehled_body!$A$3:$A$130,0),MATCH(Tabulka!G$2,Přehled_body!$E$1:$ED$1,0)),)=0,0.00000000001,IFERROR(INDEX(Přehled_body!$E$3:$ED$130,MATCH(Tabulka!$AI8,Přehled_body!$A$3:$A$130,0),MATCH(Tabulka!G$2,Přehled_body!$E$1:$ED$1,0)),)))","v":0},{"$f":"IF(IFERROR(INDEX(Přehled_body!$E$3:$ED$130,MATCH(Tabulka!$AI8,Přehled_body!$A$3:$A$130,0),MATCH(Tabulka!H$2,Přehled_body!$E$1:$ED$1,0)),)=\"\",,IF(IFERROR(INDEX(Přehled_body!$E$3:$ED$130,MATCH(Tabulka!$AI8,Přehled_body!$A$3:$A$130,0),MATCH(Tabulka!H$2,Přehled_body!$E$1:$ED$1,0)),)=0,0.00000000001,IFERROR(INDEX(Přehled_body!$E$3:$ED$130,MATCH(Tabulka!$AI8,Přehled_body!$A$3:$A$130,0),MATCH(Tabulka!H$2,Přehled_body!$E$1:$ED$1,0)),)))","v":0},{"$f":"IF(IFERROR(INDEX(Přehled_body!$E$3:$ED$130,MATCH(Tabulka!$AI8,Přehled_body!$A$3:$A$130,0),MATCH(Tabulka!I$2,Přehled_body!$E$1:$ED$1,0)),)=\"\",,IF(IFERROR(INDEX(Přehled_body!$E$3:$ED$130,MATCH(Tabulka!$AI8,Přehled_body!$A$3:$A$130,0),MATCH(Tabulka!I$2,Přehled_body!$E$1:$ED$1,0)),)=0,0.00000000001,IFERROR(INDEX(Přehled_body!$E$3:$ED$130,MATCH(Tabulka!$AI8,Přehled_body!$A$3:$A$130,0),MATCH(Tabulka!I$2,Přehled_body!$E$1:$ED$1,0)),)))","v":0},{"$f":"IF(IFERROR(INDEX(Přehled_body!$E$3:$ED$130,MATCH(Tabulka!$AI8,Přehled_body!$A$3:$A$130,0),MATCH(Tabulka!J$2,Přehled_body!$E$1:$ED$1,0)),)=\"\",,IF(IFERROR(INDEX(Přehled_body!$E$3:$ED$130,MATCH(Tabulka!$AI8,Přehled_body!$A$3:$A$130,0),MATCH(Tabulka!J$2,Přehled_body!$E$1:$ED$1,0)),)=0,0.00000000001,IFERROR(INDEX(Přehled_body!$E$3:$ED$130,MATCH(Tabulka!$AI8,Přehled_body!$A$3:$A$130,0),MATCH(Tabulka!J$2,Přehled_body!$E$1:$ED$1,0)),)))","v":0},{"$f":"IF(IFERROR(INDEX(Přehled_body!$E$3:$ED$130,MATCH(Tabulka!$AI8,Přehled_body!$A$3:$A$130,0),MATCH(Tabulka!K$2,Přehled_body!$E$1:$ED$1,0)),)=\"\",,IF(IFERROR(INDEX(Přehled_body!$E$3:$ED$130,MATCH(Tabulka!$AI8,Přehled_body!$A$3:$A$130,0),MATCH(Tabulka!K$2,Přehled_body!$E$1:$ED$1,0)),)=0,0.00000000001,IFERROR(INDEX(Přehled_body!$E$3:$ED$130,MATCH(Tabulka!$AI8,Přehled_body!$A$3:$A$130,0),MATCH(Tabulka!K$2,Přehled_body!$E$1:$ED$1,0)),)))","v":0},{"$f":"IF(IFERROR(INDEX(Přehled_body!$E$3:$ED$130,MATCH(Tabulka!$AI8,Přehled_body!$A$3:$A$130,0),MATCH(Tabulka!L$2,Přehled_body!$E$1:$ED$1,0)),)=\"\",,IF(IFERROR(INDEX(Přehled_body!$E$3:$ED$130,MATCH(Tabulka!$AI8,Přehled_body!$A$3:$A$130,0),MATCH(Tabulka!L$2,Přehled_body!$E$1:$ED$1,0)),)=0,0.00000000001,IFERROR(INDEX(Přehled_body!$E$3:$ED$130,MATCH(Tabulka!$AI8,Přehled_body!$A$3:$A$130,0),MATCH(Tabulka!L$2,Přehled_body!$E$1:$ED$1,0)),)))","v":0},{"$f":"IF(IFERROR(INDEX(Přehled_body!$E$3:$ED$130,MATCH(Tabulka!$AI8,Přehled_body!$A$3:$A$130,0),MATCH(Tabulka!M$2,Přehled_body!$E$1:$ED$1,0)),)=\"\",,IF(IFERROR(INDEX(Přehled_body!$E$3:$ED$130,MATCH(Tabulka!$AI8,Přehled_body!$A$3:$A$130,0),MATCH(Tabulka!M$2,Přehled_body!$E$1:$ED$1,0)),)=0,0.00000000001,IFERROR(INDEX(Přehled_body!$E$3:$ED$130,MATCH(Tabulka!$AI8,Přehled_body!$A$3:$A$130,0),MATCH(Tabulka!M$2,Přehled_body!$E$1:$ED$1,0)),)))","v":0},{"$f":"IF(IFERROR(INDEX(Přehled_body!$E$3:$ED$130,MATCH(Tabulka!$AI8,Přehled_body!$A$3:$A$130,0),MATCH(Tabulka!N$2,Přehled_body!$E$1:$ED$1,0)),)=\"\",,IF(IFERROR(INDEX(Přehled_body!$E$3:$ED$130,MATCH(Tabulka!$AI8,Přehled_body!$A$3:$A$130,0),MATCH(Tabulka!N$2,Přehled_body!$E$1:$ED$1,0)),)=0,0.00000000001,IFERROR(INDEX(Přehled_body!$E$3:$ED$130,MATCH(Tabulka!$AI8,Přehled_body!$A$3:$A$130,0),MATCH(Tabulka!N$2,Přehled_body!$E$1:$ED$1,0)),)))","v":0},{"$f":"IF(IFERROR(INDEX(Přehled_body!$E$3:$ED$130,MATCH(Tabulka!$AI8,Přehled_body!$A$3:$A$130,0),MATCH(Tabulka!O$2,Přehled_body!$E$1:$ED$1,0)),)=\"\",,IF(IFERROR(INDEX(Přehled_body!$E$3:$ED$130,MATCH(Tabulka!$AI8,Přehled_body!$A$3:$A$130,0),MATCH(Tabulka!O$2,Přehled_body!$E$1:$ED$1,0)),)=0,0.00000000001,IFERROR(INDEX(Přehled_body!$E$3:$ED$130,MATCH(Tabulka!$AI8,Přehled_body!$A$3:$A$130,0),MATCH(Tabulka!O$2,Přehled_body!$E$1:$ED$1,0)),)))","v":0},{"$f":"IF(IFERROR(INDEX(Přehled_body!$E$3:$ED$130,MATCH(Tabulka!$AI8,Přehled_body!$A$3:$A$130,0),MATCH(Tabulka!P$2,Přehled_body!$E$1:$ED$1,0)),)=\"\",,IF(IFERROR(INDEX(Přehled_body!$E$3:$ED$130,MATCH(Tabulka!$AI8,Přehled_body!$A$3:$A$130,0),MATCH(Tabulka!P$2,Přehled_body!$E$1:$ED$1,0)),)=0,0.00000000001,IFERROR(INDEX(Přehled_body!$E$3:$ED$130,MATCH(Tabulka!$AI8,Přehled_body!$A$3:$A$130,0),MATCH(Tabulka!P$2,Přehled_body!$E$1:$ED$1,0)),)))","v":0},{"$f":"IF(IFERROR(INDEX(Přehled_body!$E$3:$ED$130,MATCH(Tabulka!$AI8,Přehled_body!$A$3:$A$130,0),MATCH(Tabulka!Q$2,Přehled_body!$E$1:$ED$1,0)),)=\"\",,IF(IFERROR(INDEX(Přehled_body!$E$3:$ED$130,MATCH(Tabulka!$AI8,Přehled_body!$A$3:$A$130,0),MATCH(Tabulka!Q$2,Přehled_body!$E$1:$ED$1,0)),)=0,0.00000000001,IFERROR(INDEX(Přehled_body!$E$3:$ED$130,MATCH(Tabulka!$AI8,Přehled_body!$A$3:$A$130,0),MATCH(Tabulka!Q$2,Přehled_body!$E$1:$ED$1,0)),)))","v":0},{"$f":"IF(IFERROR(INDEX(Přehled_body!$E$3:$ED$130,MATCH(Tabulka!$AI8,Přehled_body!$A$3:$A$130,0),MATCH(Tabulka!R$2,Přehled_body!$E$1:$ED$1,0)),)=\"\",,IF(IFERROR(INDEX(Přehled_body!$E$3:$ED$130,MATCH(Tabulka!$AI8,Přehled_body!$A$3:$A$130,0),MATCH(Tabulka!R$2,Přehled_body!$E$1:$ED$1,0)),)=0,0.00000000001,IFERROR(INDEX(Přehled_body!$E$3:$ED$130,MATCH(Tabulka!$AI8,Přehled_body!$A$3:$A$130,0),MATCH(Tabulka!R$2,Přehled_body!$E$1:$ED$1,0)),)))","v":0},{"$f":"IF(IFERROR(INDEX(Přehled_body!$E$3:$ED$130,MATCH(Tabulka!$AI8,Přehled_body!$A$3:$A$130,0),MATCH(Tabulka!S$2,Přehled_body!$E$1:$ED$1,0)),)=\"\",,IF(IFERROR(INDEX(Přehled_body!$E$3:$ED$130,MATCH(Tabulka!$AI8,Přehled_body!$A$3:$A$130,0),MATCH(Tabulka!S$2,Přehled_body!$E$1:$ED$1,0)),)=0,0.00000000001,IFERROR(INDEX(Přehled_body!$E$3:$ED$130,MATCH(Tabulka!$AI8,Přehled_body!$A$3:$A$130,0),MATCH(Tabulka!S$2,Přehled_body!$E$1:$ED$1,0)),)))","v":0},{"$f":"IF(IFERROR(INDEX(Přehled_body!$E$3:$ED$130,MATCH(Tabulka!$AI8,Přehled_body!$A$3:$A$130,0),MATCH(Tabulka!T$2,Přehled_body!$E$1:$ED$1,0)),)=\"\",,IF(IFERROR(INDEX(Přehled_body!$E$3:$ED$130,MATCH(Tabulka!$AI8,Přehled_body!$A$3:$A$130,0),MATCH(Tabulka!T$2,Přehled_body!$E$1:$ED$1,0)),)=0,0.00000000001,IFERROR(INDEX(Přehled_body!$E$3:$ED$130,MATCH(Tabulka!$AI8,Přehled_body!$A$3:$A$130,0),MATCH(Tabulka!T$2,Přehled_body!$E$1:$ED$1,0)),)))","v":0},{"$f":"IF(IFERROR(INDEX(Přehled_body!$E$3:$ED$130,MATCH(Tabulka!$AI8,Přehled_body!$A$3:$A$130,0),MATCH(Tabulka!U$2,Přehled_body!$E$1:$ED$1,0)),)=\"\",,IF(IFERROR(INDEX(Přehled_body!$E$3:$ED$130,MATCH(Tabulka!$AI8,Přehled_body!$A$3:$A$130,0),MATCH(Tabulka!U$2,Přehled_body!$E$1:$ED$1,0)),)=0,0.00000000001,IFERROR(INDEX(Přehled_body!$E$3:$ED$130,MATCH(Tabulka!$AI8,Přehled_body!$A$3:$A$130,0),MATCH(Tabulka!U$2,Přehled_body!$E$1:$ED$1,0)),)))","v":0},{"$f":"IF(IFERROR(INDEX(Přehled_body!$E$3:$ED$130,MATCH(Tabulka!$AI8,Přehled_body!$A$3:$A$130,0),MATCH(Tabulka!V$2,Přehled_body!$E$1:$ED$1,0)),)=\"\",,IF(IFERROR(INDEX(Přehled_body!$E$3:$ED$130,MATCH(Tabulka!$AI8,Přehled_body!$A$3:$A$130,0),MATCH(Tabulka!V$2,Přehled_body!$E$1:$ED$1,0)),)=0,0.00000000001,IFERROR(INDEX(Přehled_body!$E$3:$ED$130,MATCH(Tabulka!$AI8,Přehled_body!$A$3:$A$130,0),MATCH(Tabulka!V$2,Přehled_body!$E$1:$ED$1,0)),)))","v":0},{"$f":"IF(IFERROR(INDEX(Přehled_body!$E$3:$ED$130,MATCH(Tabulka!$AI8,Přehled_body!$A$3:$A$130,0),MATCH(Tabulka!W$2,Přehled_body!$E$1:$ED$1,0)),)=\"\",,IF(IFERROR(INDEX(Přehled_body!$E$3:$ED$130,MATCH(Tabulka!$AI8,Přehled_body!$A$3:$A$130,0),MATCH(Tabulka!W$2,Přehled_body!$E$1:$ED$1,0)),)=0,0.00000000001,IFERROR(INDEX(Přehled_body!$E$3:$ED$130,MATCH(Tabulka!$AI8,Přehled_body!$A$3:$A$130,0),MATCH(Tabulka!W$2,Přehled_body!$E$1:$ED$1,0)),)))","v":0},{"$f":"IF(IFERROR(INDEX(Přehled_body!$E$3:$ED$130,MATCH(Tabulka!$AI8,Přehled_body!$A$3:$A$130,0),MATCH(Tabulka!X$2,Přehled_body!$E$1:$ED$1,0)),)=\"\",,IF(IFERROR(INDEX(Přehled_body!$E$3:$ED$130,MATCH(Tabulka!$AI8,Přehled_body!$A$3:$A$130,0),MATCH(Tabulka!X$2,Přehled_body!$E$1:$ED$1,0)),)=0,0.00000000001,IFERROR(INDEX(Přehled_body!$E$3:$ED$130,MATCH(Tabulka!$AI8,Přehled_body!$A$3:$A$130,0),MATCH(Tabulka!X$2,Přehled_body!$E$1:$ED$1,0)),)))","v":0},{"$f":"IF(IFERROR(INDEX(Přehled_body!$E$3:$ED$130,MATCH(Tabulka!$AI8,Přehled_body!$A$3:$A$130,0),MATCH(Tabulka!Y$2,Přehled_body!$E$1:$ED$1,0)),)=\"\",,IF(IFERROR(INDEX(Přehled_body!$E$3:$ED$130,MATCH(Tabulka!$AI8,Přehled_body!$A$3:$A$130,0),MATCH(Tabulka!Y$2,Přehled_body!$E$1:$ED$1,0)),)=0,0.00000000001,IFERROR(INDEX(Přehled_body!$E$3:$ED$130,MATCH(Tabulka!$AI8,Přehled_body!$A$3:$A$130,0),MATCH(Tabulka!Y$2,Přehled_body!$E$1:$ED$1,0)),)))","v":0},{"$f":"IF(IFERROR(INDEX(Přehled_body!$E$3:$ED$130,MATCH(Tabulka!$AI8,Přehled_body!$A$3:$A$130,0),MATCH(Tabulka!Z$2,Přehled_body!$E$1:$ED$1,0)),)=\"\",,IF(IFERROR(INDEX(Přehled_body!$E$3:$ED$130,MATCH(Tabulka!$AI8,Přehled_body!$A$3:$A$130,0),MATCH(Tabulka!Z$2,Přehled_body!$E$1:$ED$1,0)),)=0,0.00000000001,IFERROR(INDEX(Přehled_body!$E$3:$ED$130,MATCH(Tabulka!$AI8,Přehled_body!$A$3:$A$130,0),MATCH(Tabulka!Z$2,Přehled_body!$E$1:$ED$1,0)),)))","v":0},{"$f":"IF(IFERROR(INDEX(Přehled_body!$E$3:$ED$130,MATCH(Tabulka!$AI8,Přehled_body!$A$3:$A$130,0),MATCH(Tabulka!AA$2,Přehled_body!$E$1:$ED$1,0)),)=\"\",,IF(IFERROR(INDEX(Přehled_body!$E$3:$ED$130,MATCH(Tabulka!$AI8,Přehled_body!$A$3:$A$130,0),MATCH(Tabulka!AA$2,Přehled_body!$E$1:$ED$1,0)),)=0,0.00000000001,IFERROR(INDEX(Přehled_body!$E$3:$ED$130,MATCH(Tabulka!$AI8,Přehled_body!$A$3:$A$130,0),MATCH(Tabulka!AA$2,Přehled_body!$E$1:$ED$1,0)),)))","v":0},{"$f":"IF(IFERROR(INDEX(Přehled_body!$E$3:$ED$130,MATCH(Tabulka!$AI8,Přehled_body!$A$3:$A$130,0),MATCH(Tabulka!AB$2,Přehled_body!$E$1:$ED$1,0)),)=\"\",,IF(IFERROR(INDEX(Přehled_body!$E$3:$ED$130,MATCH(Tabulka!$AI8,Přehled_body!$A$3:$A$130,0),MATCH(Tabulka!AB$2,Přehled_body!$E$1:$ED$1,0)),)=0,0.00000000001,IFERROR(INDEX(Přehled_body!$E$3:$ED$130,MATCH(Tabulka!$AI8,Přehled_body!$A$3:$A$130,0),MATCH(Tabulka!AB$2,Přehled_body!$E$1:$ED$1,0)),)))","v":0},{"$f":"IF(IFERROR(INDEX(Přehled_body!$E$3:$ED$130,MATCH(Tabulka!$AI8,Přehled_body!$A$3:$A$130,0),MATCH(Tabulka!AC$2,Přehled_body!$E$1:$ED$1,0)),)=\"\",,IF(IFERROR(INDEX(Přehled_body!$E$3:$ED$130,MATCH(Tabulka!$AI8,Přehled_body!$A$3:$A$130,0),MATCH(Tabulka!AC$2,Přehled_body!$E$1:$ED$1,0)),)=0,0.00000000001,IFERROR(INDEX(Přehled_body!$E$3:$ED$130,MATCH(Tabulka!$AI8,Přehled_body!$A$3:$A$130,0),MATCH(Tabulka!AC$2,Přehled_body!$E$1:$ED$1,0)),)))","v":0},{"$f":"IF(IFERROR(INDEX(Přehled_body!$E$3:$ED$130,MATCH(Tabulka!$AI8,Přehled_body!$A$3:$A$130,0),MATCH(Tabulka!AD$2,Přehled_body!$E$1:$ED$1,0)),)=\"\",,IF(IFERROR(INDEX(Přehled_body!$E$3:$ED$130,MATCH(Tabulka!$AI8,Přehled_body!$A$3:$A$130,0),MATCH(Tabulka!AD$2,Přehled_body!$E$1:$ED$1,0)),)=0,0.00000000001,IFERROR(INDEX(Přehled_body!$E$3:$ED$130,MATCH(Tabulka!$AI8,Přehled_body!$A$3:$A$130,0),MATCH(Tabulka!AD$2,Přehled_body!$E$1:$ED$1,0)),)))","v":0},{"$f":"IF(SUM($D$4:$AD$8)<1,-90000,SUM(D8:AD8))","v":-90000},null,null,null,{"$f":"CONCATENATE($B$5,\" \",$B$6,C8)","v":"Jiří FialaPoč. kol"}]
[null,null,"Výhry",{"$f":"IF(IFERROR(INDEX(Přehled_body!$E$3:$ED$130,MATCH(Tabulka!$AI9,Přehled_body!$A$3:$A$130,0),MATCH(Tabulka!D$2,Přehled_body!$E$1:$ED$1,0)),)=\"\",,IF(IFERROR(INDEX(Přehled_body!$E$3:$ED$130,MATCH(Tabulka!$AI9,Přehled_body!$A$3:$A$130,0),MATCH(Tabulka!D$2,Přehled_body!$E$1:$ED$1,0)),)=0,0.00000000001,IFERROR(INDEX(Přehled_body!$E$3:$ED$130,MATCH(Tabulka!$AI9,Přehled_body!$A$3:$A$130,0),MATCH(Tabulka!D$2,Přehled_body!$E$1:$ED$1,0)),)))","v":1},{"$f":"IF(IFERROR(INDEX(Přehled_body!$E$3:$ED$130,MATCH(Tabulka!$AI9,Přehled_body!$A$3:$A$130,0),MATCH(Tabulka!E$2,Přehled_body!$E$1:$ED$1,0)),)=\"\",,IF(IFERROR(INDEX(Přehled_body!$E$3:$ED$130,MATCH(Tabulka!$AI9,Přehled_body!$A$3:$A$130,0),MATCH(Tabulka!E$2,Přehled_body!$E$1:$ED$1,0)),)=0,0.00000000001,IFERROR(INDEX(Přehled_body!$E$3:$ED$130,MATCH(Tabulka!$AI9,Přehled_body!$A$3:$A$130,0),MATCH(Tabulka!E$2,Přehled_body!$E$1:$ED$1,0)),)))","v":3},{"$f":"IF(IFERROR(INDEX(Přehled_body!$E$3:$ED$130,MATCH(Tabulka!$AI9,Přehled_body!$A$3:$A$130,0),MATCH(Tabulka!F$2,Přehled_body!$E$1:$ED$1,0)),)=\"\",,IF(IFERROR(INDEX(Přehled_body!$E$3:$ED$130,MATCH(Tabulka!$AI9,Přehled_body!$A$3:$A$130,0),MATCH(Tabulka!F$2,Přehled_body!$E$1:$ED$1,0)),)=0,0.00000000001,IFERROR(INDEX(Přehled_body!$E$3:$ED$130,MATCH(Tabulka!$AI9,Přehled_body!$A$3:$A$130,0),MATCH(Tabulka!F$2,Přehled_body!$E$1:$ED$1,0)),)))","v":1},{"$f":"IF(IFERROR(INDEX(Přehled_body!$E$3:$ED$130,MATCH(Tabulka!$AI9,Přehled_body!$A$3:$A$130,0),MATCH(Tabulka!G$2,Přehled_body!$E$1:$ED$1,0)),)=\"\",,IF(IFERROR(INDEX(Přehled_body!$E$3:$ED$130,MATCH(Tabulka!$AI9,Přehled_body!$A$3:$A$130,0),MATCH(Tabulka!G$2,Přehled_body!$E$1:$ED$1,0)),)=0,0.00000000001,IFERROR(INDEX(Přehled_body!$E$3:$ED$130,MATCH(Tabulka!$AI9,Přehled_body!$A$3:$A$130,0),MATCH(Tabulka!G$2,Přehled_body!$E$1:$ED$1,0)),)))","v":1},{"$f":"IF(IFERROR(INDEX(Přehled_body!$E$3:$ED$130,MATCH(Tabulka!$AI9,Přehled_body!$A$3:$A$130,0),MATCH(Tabulka!H$2,Přehled_body!$E$1:$ED$1,0)),)=\"\",,IF(IFERROR(INDEX(Přehled_body!$E$3:$ED$130,MATCH(Tabulka!$AI9,Přehled_body!$A$3:$A$130,0),MATCH(Tabulka!H$2,Přehled_body!$E$1:$ED$1,0)),)=0,0.00000000001,IFERROR(INDEX(Přehled_body!$E$3:$ED$130,MATCH(Tabulka!$AI9,Přehled_body!$A$3:$A$130,0),MATCH(Tabulka!H$2,Přehled_body!$E$1:$ED$1,0)),)))","v":9.9999999999999994E-12},{"$f":"IF(IFERROR(INDEX(Přehled_body!$E$3:$ED$130,MATCH(Tabulka!$AI9,Přehled_body!$A$3:$A$130,0),MATCH(Tabulka!I$2,Přehled_body!$E$1:$ED$1,0)),)=\"\",,IF(IFERROR(INDEX(Přehled_body!$E$3:$ED$130,MATCH(Tabulka!$AI9,Přehled_body!$A$3:$A$130,0),MATCH(Tabulka!I$2,Přehled_body!$E$1:$ED$1,0)),)=0,0.00000000001,IFERROR(INDEX(Přehled_body!$E$3:$ED$130,MATCH(Tabulka!$AI9,Přehled_body!$A$3:$A$130,0),MATCH(Tabulka!I$2,Přehled_body!$E$1:$ED$1,0)),)))","v":9.9999999999999994E-12},{"$f":"IF(IFERROR(INDEX(Přehled_body!$E$3:$ED$130,MATCH(Tabulka!$AI9,Přehled_body!$A$3:$A$130,0),MATCH(Tabulka!J$2,Přehled_body!$E$1:$ED$1,0)),)=\"\",,IF(IFERROR(INDEX(Přehled_body!$E$3:$ED$130,MATCH(Tabulka!$AI9,Přehled_body!$A$3:$A$130,0),MATCH(Tabulka!J$2,Přehled_body!$E$1:$ED$1,0)),)=0,0.00000000001,IFERROR(INDEX(Přehled_body!$E$3:$ED$130,MATCH(Tabulka!$AI9,Přehled_body!$A$3:$A$130,0),MATCH(Tabulka!J$2,Přehled_body!$E$1:$ED$1,0)),)))","v":1},{"$f":"IF(IFERROR(INDEX(Přehled_body!$E$3:$ED$130,MATCH(Tabulka!$AI9,Přehled_body!$A$3:$A$130,0),MATCH(Tabulka!K$2,Přehled_body!$E$1:$ED$1,0)),)=\"\",,IF(IFERROR(INDEX(Přehled_body!$E$3:$ED$130,MATCH(Tabulka!$AI9,Přehled_body!$A$3:$A$130,0),MATCH(Tabulka!K$2,Přehled_body!$E$1:$ED$1,0)),)=0,0.00000000001,IFERROR(INDEX(Přehled_body!$E$3:$ED$130,MATCH(Tabulka!$AI9,Přehled_body!$A$3:$A$130,0),MATCH(Tabulka!K$2,Přehled_body!$E$1:$ED$1,0)),)))","v":9.9999999999999994E-12},{"$f":"IF(IFERROR(INDEX(Přehled_body!$E$3:$ED$130,MATCH(Tabulka!$AI9,Přehled_body!$A$3:$A$130,0),MATCH(Tabulka!L$2,Přehled_body!$E$1:$ED$1,0)),)=\"\",,IF(IFERROR(INDEX(Přehled_body!$E$3:$ED$130,MATCH(Tabulka!$AI9,Přehled_body!$A$3:$A$130,0),MATCH(Tabulka!L$2,Přehled_body!$E$1:$ED$1,0)),)=0,0.00000000001,IFERROR(INDEX(Přehled_body!$E$3:$ED$130,MATCH(Tabulka!$AI9,Přehled_body!$A$3:$A$130,0),MATCH(Tabulka!L$2,Přehled_body!$E$1:$ED$1,0)),)))","v":1},{"$f":"IF(IFERROR(INDEX(Přehled_body!$E$3:$ED$130,MATCH(Tabulka!$AI9,Přehled_body!$A$3:$A$130,0),MATCH(Tabulka!M$2,Přehled_body!$E$1:$ED$1,0)),)=\"\",,IF(IFERROR(INDEX(Přehled_body!$E$3:$ED$130,MATCH(Tabulka!$AI9,Přehled_body!$A$3:$A$130,0),MATCH(Tabulka!M$2,Přehled_body!$E$1:$ED$1,0)),)=0,0.00000000001,IFERROR(INDEX(Přehled_body!$E$3:$ED$130,MATCH(Tabulka!$AI9,Přehled_body!$A$3:$A$130,0),MATCH(Tabulka!M$2,Přehled_body!$E$1:$ED$1,0)),)))","v":9.9999999999999994E-12},{"$f":"IF(IFERROR(INDEX(Přehled_body!$E$3:$ED$130,MATCH(Tabulka!$AI9,Přehled_body!$A$3:$A$130,0),MATCH(Tabulka!N$2,Přehled_body!$E$1:$ED$1,0)),)=\"\",,IF(IFERROR(INDEX(Přehled_body!$E$3:$ED$130,MATCH(Tabulka!$AI9,Přehled_body!$A$3:$A$130,0),MATCH(Tabulka!N$2,Přehled_body!$E$1:$ED$1,0)),)=0,0.00000000001,IFERROR(INDEX(Přehled_body!$E$3:$ED$130,MATCH(Tabulka!$AI9,Přehled_body!$A$3:$A$130,0),MATCH(Tabulka!N$2,Přehled_body!$E$1:$ED$1,0)),)))","v":0},{"$f":"IF(IFERROR(INDEX(Přehled_body!$E$3:$ED$130,MATCH(Tabulka!$AI9,Přehled_body!$A$3:$A$130,0),MATCH(Tabulka!O$2,Přehled_body!$E$1:$ED$1,0)),)=\"\",,IF(IFERROR(INDEX(Přehled_body!$E$3:$ED$130,MATCH(Tabulka!$AI9,Přehled_body!$A$3:$A$130,0),MATCH(Tabulka!O$2,Přehled_body!$E$1:$ED$1,0)),)=0,0.00000000001,IFERROR(INDEX(Přehled_body!$E$3:$ED$130,MATCH(Tabulka!$AI9,Přehled_body!$A$3:$A$130,0),MATCH(Tabulka!O$2,Přehled_body!$E$1:$ED$1,0)),)))","v":0},{"$f":"IF(IFERROR(INDEX(Přehled_body!$E$3:$ED$130,MATCH(Tabulka!$AI9,Přehled_body!$A$3:$A$130,0),MATCH(Tabulka!P$2,Přehled_body!$E$1:$ED$1,0)),)=\"\",,IF(IFERROR(INDEX(Přehled_body!$E$3:$ED$130,MATCH(Tabulka!$AI9,Přehled_body!$A$3:$A$130,0),MATCH(Tabulka!P$2,Přehled_body!$E$1:$ED$1,0)),)=0,0.00000000001,IFERROR(INDEX(Přehled_body!$E$3:$ED$130,MATCH(Tabulka!$AI9,Přehled_body!$A$3:$A$130,0),MATCH(Tabulka!P$2,Přehled_body!$E$1:$ED$1,0)),)))","v":0},{"$f":"IF(IFERROR(INDEX(Přehled_body!$E$3:$ED$130,MATCH(Tabulka!$AI9,Přehled_body!$A$3:$A$130,0),MATCH(Tabulka!Q$2,Přehled_body!$E$1:$ED$1,0)),)=\"\",,IF(IFERROR(INDEX(Přehled_body!$E$3:$ED$130,MATCH(Tabulka!$AI9,Přehled_body!$A$3:$A$130,0),MATCH(Tabulka!Q$2,Přehled_body!$E$1:$ED$1,0)),)=0,0.00000000001,IFERROR(INDEX(Přehled_body!$E$3:$ED$130,MATCH(Tabulka!$AI9,Přehled_body!$A$3:$A$130,0),MATCH(Tabulka!Q$2,Přehled_body!$E$1:$ED$1,0)),)))","v":0},{"$f":"IF(IFERROR(INDEX(Přehled_body!$E$3:$ED$130,MATCH(Tabulka!$AI9,Přehled_body!$A$3:$A$130,0),MATCH(Tabulka!R$2,Přehled_body!$E$1:$ED$1,0)),)=\"\",,IF(IFERROR(INDEX(Přehled_body!$E$3:$ED$130,MATCH(Tabulka!$AI9,Přehled_body!$A$3:$A$130,0),MATCH(Tabulka!R$2,Přehled_body!$E$1:$ED$1,0)),)=0,0.00000000001,IFERROR(INDEX(Přehled_body!$E$3:$ED$130,MATCH(Tabulka!$AI9,Přehled_body!$A$3:$A$130,0),MATCH(Tabulka!R$2,Přehled_body!$E$1:$ED$1,0)),)))","v":0},{"$f":"IF(IFERROR(INDEX(Přehled_body!$E$3:$ED$130,MATCH(Tabulka!$AI9,Přehled_body!$A$3:$A$130,0),MATCH(Tabulka!S$2,Přehled_body!$E$1:$ED$1,0)),)=\"\",,IF(IFERROR(INDEX(Přehled_body!$E$3:$ED$130,MATCH(Tabulka!$AI9,Přehled_body!$A$3:$A$130,0),MATCH(Tabulka!S$2,Přehled_body!$E$1:$ED$1,0)),)=0,0.00000000001,IFERROR(INDEX(Přehled_body!$E$3:$ED$130,MATCH(Tabulka!$AI9,Přehled_body!$A$3:$A$130,0),MATCH(Tabulka!S$2,Přehled_body!$E$1:$ED$1,0)),)))","v":0},{"$f":"IF(IFERROR(INDEX(Přehled_body!$E$3:$ED$130,MATCH(Tabulka!$AI9,Přehled_body!$A$3:$A$130,0),MATCH(Tabulka!T$2,Přehled_body!$E$1:$ED$1,0)),)=\"\",,IF(IFERROR(INDEX(Přehled_body!$E$3:$ED$130,MATCH(Tabulka!$AI9,Přehled_body!$A$3:$A$130,0),MATCH(Tabulka!T$2,Přehled_body!$E$1:$ED$1,0)),)=0,0.00000000001,IFERROR(INDEX(Přehled_body!$E$3:$ED$130,MATCH(Tabulka!$AI9,Přehled_body!$A$3:$A$130,0),MATCH(Tabulka!T$2,Přehled_body!$E$1:$ED$1,0)),)))","v":0},{"$f":"IF(IFERROR(INDEX(Přehled_body!$E$3:$ED$130,MATCH(Tabulka!$AI9,Přehled_body!$A$3:$A$130,0),MATCH(Tabulka!U$2,Přehled_body!$E$1:$ED$1,0)),)=\"\",,IF(IFERROR(INDEX(Přehled_body!$E$3:$ED$130,MATCH(Tabulka!$AI9,Přehled_body!$A$3:$A$130,0),MATCH(Tabulka!U$2,Přehled_body!$E$1:$ED$1,0)),)=0,0.00000000001,IFERROR(INDEX(Přehled_body!$E$3:$ED$130,MATCH(Tabulka!$AI9,Přehled_body!$A$3:$A$130,0),MATCH(Tabulka!U$2,Přehled_body!$E$1:$ED$1,0)),)))","v":0},{"$f":"IF(IFERROR(INDEX(Přehled_body!$E$3:$ED$130,MATCH(Tabulka!$AI9,Přehled_body!$A$3:$A$130,0),MATCH(Tabulka!V$2,Přehled_body!$E$1:$ED$1,0)),)=\"\",,IF(IFERROR(INDEX(Přehled_body!$E$3:$ED$130,MATCH(Tabulka!$AI9,Přehled_body!$A$3:$A$130,0),MATCH(Tabulka!V$2,Přehled_body!$E$1:$ED$1,0)),)=0,0.00000000001,IFERROR(INDEX(Přehled_body!$E$3:$ED$130,MATCH(Tabulka!$AI9,Přehled_body!$A$3:$A$130,0),MATCH(Tabulka!V$2,Přehled_body!$E$1:$ED$1,0)),)))","v":0},{"$f":"IF(IFERROR(INDEX(Přehled_body!$E$3:$ED$130,MATCH(Tabulka!$AI9,Přehled_body!$A$3:$A$130,0),MATCH(Tabulka!W$2,Přehled_body!$E$1:$ED$1,0)),)=\"\",,IF(IFERROR(INDEX(Přehled_body!$E$3:$ED$130,MATCH(Tabulka!$AI9,Přehled_body!$A$3:$A$130,0),MATCH(Tabulka!W$2,Přehled_body!$E$1:$ED$1,0)),)=0,0.00000000001,IFERROR(INDEX(Přehled_body!$E$3:$ED$130,MATCH(Tabulka!$AI9,Přehled_body!$A$3:$A$130,0),MATCH(Tabulka!W$2,Přehled_body!$E$1:$ED$1,0)),)))","v":0},{"$f":"IF(IFERROR(INDEX(Přehled_body!$E$3:$ED$130,MATCH(Tabulka!$AI9,Přehled_body!$A$3:$A$130,0),MATCH(Tabulka!X$2,Přehled_body!$E$1:$ED$1,0)),)=\"\",,IF(IFERROR(INDEX(Přehled_body!$E$3:$ED$130,MATCH(Tabulka!$AI9,Přehled_body!$A$3:$A$130,0),MATCH(Tabulka!X$2,Přehled_body!$E$1:$ED$1,0)),)=0,0.00000000001,IFERROR(INDEX(Přehled_body!$E$3:$ED$130,MATCH(Tabulka!$AI9,Přehled_body!$A$3:$A$130,0),MATCH(Tabulka!X$2,Přehled_body!$E$1:$ED$1,0)),)))","v":0},{"$f":"IF(IFERROR(INDEX(Přehled_body!$E$3:$ED$130,MATCH(Tabulka!$AI9,Přehled_body!$A$3:$A$130,0),MATCH(Tabulka!Y$2,Přehled_body!$E$1:$ED$1,0)),)=\"\",,IF(IFERROR(INDEX(Přehled_body!$E$3:$ED$130,MATCH(Tabulka!$AI9,Přehled_body!$A$3:$A$130,0),MATCH(Tabulka!Y$2,Přehled_body!$E$1:$ED$1,0)),)=0,0.00000000001,IFERROR(INDEX(Přehled_body!$E$3:$ED$130,MATCH(Tabulka!$AI9,Přehled_body!$A$3:$A$130,0),MATCH(Tabulka!Y$2,Přehled_body!$E$1:$ED$1,0)),)))","v":0},{"$f":"IF(IFERROR(INDEX(Přehled_body!$E$3:$ED$130,MATCH(Tabulka!$AI9,Přehled_body!$A$3:$A$130,0),MATCH(Tabulka!Z$2,Přehled_body!$E$1:$ED$1,0)),)=\"\",,IF(IFERROR(INDEX(Přehled_body!$E$3:$ED$130,MATCH(Tabulka!$AI9,Přehled_body!$A$3:$A$130,0),MATCH(Tabulka!Z$2,Přehled_body!$E$1:$ED$1,0)),)=0,0.00000000001,IFERROR(INDEX(Přehled_body!$E$3:$ED$130,MATCH(Tabulka!$AI9,Přehled_body!$A$3:$A$130,0),MATCH(Tabulka!Z$2,Přehled_body!$E$1:$ED$1,0)),)))","v":0},{"$f":"IF(IFERROR(INDEX(Přehled_body!$E$3:$ED$130,MATCH(Tabulka!$AI9,Přehled_body!$A$3:$A$130,0),MATCH(Tabulka!AA$2,Přehled_body!$E$1:$ED$1,0)),)=\"\",,IF(IFERROR(INDEX(Přehled_body!$E$3:$ED$130,MATCH(Tabulka!$AI9,Přehled_body!$A$3:$A$130,0),MATCH(Tabulka!AA$2,Přehled_body!$E$1:$ED$1,0)),)=0,0.00000000001,IFERROR(INDEX(Přehled_body!$E$3:$ED$130,MATCH(Tabulka!$AI9,Přehled_body!$A$3:$A$130,0),MATCH(Tabulka!AA$2,Přehled_body!$E$1:$ED$1,0)),)))","v":0},{"$f":"IF(IFERROR(INDEX(Přehled_body!$E$3:$ED$130,MATCH(Tabulka!$AI9,Přehled_body!$A$3:$A$130,0),MATCH(Tabulka!AB$2,Přehled_body!$E$1:$ED$1,0)),)=\"\",,IF(IFERROR(INDEX(Přehled_body!$E$3:$ED$130,MATCH(Tabulka!$AI9,Přehled_body!$A$3:$A$130,0),MATCH(Tabulka!AB$2,Přehled_body!$E$1:$ED$1,0)),)=0,0.00000000001,IFERROR(INDEX(Přehled_body!$E$3:$ED$130,MATCH(Tabulka!$AI9,Přehled_body!$A$3:$A$130,0),MATCH(Tabulka!AB$2,Přehled_body!$E$1:$ED$1,0)),)))","v":0},{"$f":"IF(IFERROR(INDEX(Přehled_body!$E$3:$ED$130,MATCH(Tabulka!$AI9,Přehled_body!$A$3:$A$130,0),MATCH(Tabulka!AC$2,Přehled_body!$E$1:$ED$1,0)),)=\"\",,IF(IFERROR(INDEX(Přehled_body!$E$3:$ED$130,MATCH(Tabulka!$AI9,Přehled_body!$A$3:$A$130,0),MATCH(Tabulka!AC$2,Přehled_body!$E$1:$ED$1,0)),)=0,0.00000000001,IFERROR(INDEX(Přehled_body!$E$3:$ED$130,MATCH(Tabulka!$AI9,Přehled_body!$A$3:$A$130,0),MATCH(Tabulka!AC$2,Přehled_body!$E$1:$ED$1,0)),)))","v":0},{"$f":"IF(IFERROR(INDEX(Přehled_body!$E$3:$ED$130,MATCH(Tabulka!$AI9,Přehled_body!$A$3:$A$130,0),MATCH(Tabulka!AD$2,Přehled_body!$E$1:$ED$1,0)),)=\"\",,IF(IFERROR(INDEX(Přehled_body!$E$3:$ED$130,MATCH(Tabulka!$AI9,Přehled_body!$A$3:$A$130,0),MATCH(Tabulka!AD$2,Přehled_body!$E$1:$ED$1,0)),)=0,0.00000000001,IFERROR(INDEX(Přehled_body!$E$3:$ED$130,MATCH(Tabulka!$AI9,Přehled_body!$A$3:$A$130,0),MATCH(Tabulka!AD$2,Přehled_body!$E$1:$ED$1,0)),)))","v":0},{"$f":"IF(SUM($D$9:$AD$13)<1,-90000,SUM(D9:AD9))","v":8.0000000000399982},null,{"$f":"COUNTIF(D9:AD9,\">0\")","v":10},null,{"$f":"CONCATENATE($B$10,\" \",$B$11,C9)","v":"Libor HruškaVýhry"}]
[{"$f":"CONCATENATE(B10,\" \",B11)","v":"Libor Hruška"},"Libor","Prohry",{"$f":"IF(IFERROR(INDEX(Přehled_body!$E$3:$ED$130,MATCH(Tabulka!$AI10,Přehled_body!$A$3:$A$130,0),MATCH(Tabulka!D$2,Přehled_body!$E$1:$ED$1,0)),)=\"\",,IF(IFERROR(INDEX(Přehled_body!$E$3:$ED$130,MATCH(Tabulka!$AI10,Přehled_body!$A$3:$A$130,0),MATCH(Tabulka!D$2,Přehled_body!$E$1:$ED$1,0)),)=0,0.00000000001,IFERROR(INDEX(Přehled_body!$E$3:$ED$130,MATCH(Tabulka!$AI10,Přehled_body!$A$3:$A$130,0),MATCH(Tabulka!D$2,Přehled_body!$E$1:$ED$1,0)),)))","v":9.9999999999999994E-12},{"$f":"IF(IFERROR(INDEX(Přehled_body!$E$3:$ED$130,MATCH(Tabulka!$AI10,Přehled_body!$A$3:$A$130,0),MATCH(Tabulka!E$2,Přehled_body!$E$1:$ED$1,0)),)=\"\",,IF(IFERROR(INDEX(Přehled_body!$E$3:$ED$130,MATCH(Tabulka!$AI10,Přehled_body!$A$3:$A$130,0),MATCH(Tabulka!E$2,Přehled_body!$E$1:$ED$1,0)),)=0,0.00000000001,IFERROR(INDEX(Přehled_body!$E$3:$ED$130,MATCH(Tabulka!$AI10,Přehled_body!$A$3:$A$130,0),MATCH(Tabulka!E$2,Přehled_body!$E$1:$ED$1,0)),)))","v":9.9999999999999994E-12},{"$f":"IF(IFERROR(INDEX(Přehled_body!$E$3:$ED$130,MATCH(Tabulka!$AI10,Přehled_body!$A$3:$A$130,0),MATCH(Tabulka!F$2,Přehled_body!$E$1:$ED$1,0)),)=\"\",,IF(IFERROR(INDEX(Přehled_body!$E$3:$ED$130,MATCH(Tabulka!$AI10,Přehled_body!$A$3:$A$130,0),MATCH(Tabulka!F$2,Přehled_body!$E$1:$ED$1,0)),)=0,0.00000000001,IFERROR(INDEX(Přehled_body!$E$3:$ED$130,MATCH(Tabulka!$AI10,Přehled_body!$A$3:$A$130,0),MATCH(Tabulka!F$2,Přehled_body!$E$1:$ED$1,0)),)))","v":9.9999999999999994E-12},{"$f":"IF(IFERROR(INDEX(Přehled_body!$E$3:$ED$130,MATCH(Tabulka!$AI10,Přehled_body!$A$3:$A$130,0),MATCH(Tabulka!G$2,Přehled_body!$E$1:$ED$1,0)),)=\"\",,IF(IFERROR(INDEX(Přehled_body!$E$3:$ED$130,MATCH(Tabulka!$AI10,Přehled_body!$A$3:$A$130,0),MATCH(Tabulka!G$2,Přehled_body!$E$1:$ED$1,0)),)=0,0.00000000001,IFERROR(INDEX(Přehled_body!$E$3:$ED$130,MATCH(Tabulka!$AI10,Přehled_body!$A$3:$A$130,0),MATCH(Tabulka!G$2,Přehled_body!$E$1:$ED$1,0)),)))","v":2},{"$f":"IF(IFERROR(INDEX(Přehled_body!$E$3:$ED$130,MATCH(Tabulka!$AI10,Přehled_body!$A$3:$A$130,0),MATCH(Tabulka!H$2,Přehled_body!$E$1:$ED$1,0)),)=\"\",,IF(IFERROR(INDEX(Přehled_body!$E$3:$ED$130,MATCH(Tabulka!$AI10,Přehled_body!$A$3:$A$130,0),MATCH(Tabulka!H$2,Přehled_body!$E$1:$ED$1,0)),)=0,0.00000000001,IFERROR(INDEX(Přehled_body!$E$3:$ED$130,MATCH(Tabulka!$AI10,Přehled_body!$A$3:$A$130,0),MATCH(Tabulka!H$2,Přehled_body!$E$1:$ED$1,0)),)))","v":9.9999999999999994E-12},{"$f":"IF(IFERROR(INDEX(Přehled_body!$E$3:$ED$130,MATCH(Tabulka!$AI10,Přehled_body!$A$3:$A$130,0),MATCH(Tabulka!I$2,Přehled_body!$E$1:$ED$1,0)),)=\"\",,IF(IFERROR(INDEX(Přehled_body!$E$3:$ED$130,MATCH(Tabulka!$AI10,Přehled_body!$A$3:$A$130,0),MATCH(Tabulka!I$2,Přehled_body!$E$1:$ED$1,0)),)=0,0.00000000001,IFERROR(INDEX(Přehled_body!$E$3:$ED$130,MATCH(Tabulka!$AI10,Přehled_body!$A$3:$A$130,0),MATCH(Tabulka!I$2,Přehled_body!$E$1:$ED$1,0)),)))","v":9.9999999999999994E-12},{"$f":"IF(IFERROR(INDEX(Přehled_body!$E$3:$ED$130,MATCH(Tabulka!$AI10,Přehled_body!$A$3:$A$130,0),MATCH(Tabulka!J$2,Přehled_body!$E$1:$ED$1,0)),)=\"\",,IF(IFERROR(INDEX(Přehled_body!$E$3:$ED$130,MATCH(Tabulka!$AI10,Přehled_body!$A$3:$A$130,0),MATCH(Tabulka!J$2,Přehled_body!$E$1:$ED$1,0)),)=0,0.00000000001,IFERROR(INDEX(Přehled_body!$E$3:$ED$130,MATCH(Tabulka!$AI10,Přehled_body!$A$3:$A$130,0),MATCH(Tabulka!J$2,Přehled_body!$E$1:$ED$1,0)),)))","v":9.9999999999999994E-12},{"$f":"IF(IFERROR(INDEX(Přehled_body!$E$3:$ED$130,MATCH(Tabulka!$AI10,Přehled_body!$A$3:$A$130,0),MATCH(Tabulka!K$2,Přehled_body!$E$1:$ED$1,0)),)=\"\",,IF(IFERROR(INDEX(Přehled_body!$E$3:$ED$130,MATCH(Tabulka!$AI10,Přehled_body!$A$3:$A$130,0),MATCH(Tabulka!K$2,Přehled_body!$E$1:$ED$1,0)),)=0,0.00000000001,IFERROR(INDEX(Přehled_body!$E$3:$ED$130,MATCH(Tabulka!$AI10,Přehled_body!$A$3:$A$130,0),MATCH(Tabulka!K$2,Přehled_body!$E$1:$ED$1,0)),)))","v":9.9999999999999994E-12},{"$f":"IF(IFERROR(INDEX(Přehled_body!$E$3:$ED$130,MATCH(Tabulka!$AI10,Přehled_body!$A$3:$A$130,0),MATCH(Tabulka!L$2,Přehled_body!$E$1:$ED$1,0)),)=\"\",,IF(IFERROR(INDEX(Přehled_body!$E$3:$ED$130,MATCH(Tabulka!$AI10,Přehled_body!$A$3:$A$130,0),MATCH(Tabulka!L$2,Přehled_body!$E$1:$ED$1,0)),)=0,0.00000000001,IFERROR(INDEX(Přehled_body!$E$3:$ED$130,MATCH(Tabulka!$AI10,Přehled_body!$A$3:$A$130,0),MATCH(Tabulka!L$2,Přehled_body!$E$1:$ED$1,0)),)))","v":9.9999999999999994E-12},{"$f":"IF(IFERROR(INDEX(Přehled_body!$E$3:$ED$130,MATCH(Tabulka!$AI10,Přehled_body!$A$3:$A$130,0),MATCH(Tabulka!M$2,Přehled_body!$E$1:$ED$1,0)),)=\"\",,IF(IFERROR(INDEX(Přehled_body!$E$3:$ED$130,MATCH(Tabulka!$AI10,Přehled_body!$A$3:$A$130,0),MATCH(Tabulka!M$2,Přehled_body!$E$1:$ED$1,0)),)=0,0.00000000001,IFERROR(INDEX(Přehled_body!$E$3:$ED$130,MATCH(Tabulka!$AI10,Přehled_body!$A$3:$A$130,0),MATCH(Tabulka!M$2,Přehled_body!$E$1:$ED$1,0)),)))","v":9.9999999999999994E-12},{"$f":"IF(IFERROR(INDEX(Přehled_body!$E$3:$ED$130,MATCH(Tabulka!$AI10,Přehled_body!$A$3:$A$130,0),MATCH(Tabulka!N$2,Přehled_body!$E$1:$ED$1,0)),)=\"\",,IF(IFERROR(INDEX(Přehled_body!$E$3:$ED$130,MATCH(Tabulka!$AI10,Přehled_body!$A$3:$A$130,0),MATCH(Tabulka!N$2,Přehled_body!$E$1:$ED$1,0)),)=0,0.00000000001,IFERROR(INDEX(Přehled_body!$E$3:$ED$130,MATCH(Tabulka!$AI10,Přehled_body!$A$3:$A$130,0),MATCH(Tabulka!N$2,Přehled_body!$E$1:$ED$1,0)),)))","v":0},{"$f":"IF(IFERROR(INDEX(Přehled_body!$E$3:$ED$130,MATCH(Tabulka!$AI10,Přehled_body!$A$3:$A$130,0),MATCH(Tabulka!O$2,Přehled_body!$E$1:$ED$1,0)),)=\"\",,IF(IFERROR(INDEX(Přehled_body!$E$3:$ED$130,MATCH(Tabulka!$AI10,Přehled_body!$A$3:$A$130,0),MATCH(Tabulka!O$2,Přehled_body!$E$1:$ED$1,0)),)=0,0.00000000001,IFERROR(INDEX(Přehled_body!$E$3:$ED$130,MATCH(Tabulka!$AI10,Přehled_body!$A$3:$A$130,0),MATCH(Tabulka!O$2,Přehled_body!$E$1:$ED$1,0)),)))","v":0},{"$f":"IF(IFERROR(INDEX(Přehled_body!$E$3:$ED$130,MATCH(Tabulka!$AI10,Přehled_body!$A$3:$A$130,0),MATCH(Tabulka!P$2,Přehled_body!$E$1:$ED$1,0)),)=\"\",,IF(IFERROR(INDEX(Přehled_body!$E$3:$ED$130,MATCH(Tabulka!$AI10,Přehled_body!$A$3:$A$130,0),MATCH(Tabulka!P$2,Přehled_body!$E$1:$ED$1,0)),)=0,0.00000000001,IFERROR(INDEX(Přehled_body!$E$3:$ED$130,MATCH(Tabulka!$AI10,Přehled_body!$A$3:$A$130,0),MATCH(Tabulka!P$2,Přehled_body!$E$1:$ED$1,0)),)))","v":0},{"$f":"IF(IFERROR(INDEX(Přehled_body!$E$3:$ED$130,MATCH(Tabulka!$AI10,Přehled_body!$A$3:$A$130,0),MATCH(Tabulka!Q$2,Přehled_body!$E$1:$ED$1,0)),)=\"\",,IF(IFERROR(INDEX(Přehled_body!$E$3:$ED$130,MATCH(Tabulka!$AI10,Přehled_body!$A$3:$A$130,0),MATCH(Tabulka!Q$2,Přehled_body!$E$1:$ED$1,0)),)=0,0.00000000001,IFERROR(INDEX(Přehled_body!$E$3:$ED$130,MATCH(Tabulka!$AI10,Přehled_body!$A$3:$A$130,0),MATCH(Tabulka!Q$2,Přehled_body!$E$1:$ED$1,0)),)))","v":0},{"$f":"IF(IFERROR(INDEX(Přehled_body!$E$3:$ED$130,MATCH(Tabulka!$AI10,Přehled_body!$A$3:$A$130,0),MATCH(Tabulka!R$2,Přehled_body!$E$1:$ED$1,0)),)=\"\",,IF(IFERROR(INDEX(Přehled_body!$E$3:$ED$130,MATCH(Tabulka!$AI10,Přehled_body!$A$3:$A$130,0),MATCH(Tabulka!R$2,Přehled_body!$E$1:$ED$1,0)),)=0,0.00000000001,IFERROR(INDEX(Přehled_body!$E$3:$ED$130,MATCH(Tabulka!$AI10,Přehled_body!$A$3:$A$130,0),MATCH(Tabulka!R$2,Přehled_body!$E$1:$ED$1,0)),)))","v":0},{"$f":"IF(IFERROR(INDEX(Přehled_body!$E$3:$ED$130,MATCH(Tabulka!$AI10,Přehled_body!$A$3:$A$130,0),MATCH(Tabulka!S$2,Přehled_body!$E$1:$ED$1,0)),)=\"\",,IF(IFERROR(INDEX(Přehled_body!$E$3:$ED$130,MATCH(Tabulka!$AI10,Přehled_body!$A$3:$A$130,0),MATCH(Tabulka!S$2,Přehled_body!$E$1:$ED$1,0)),)=0,0.00000000001,IFERROR(INDEX(Přehled_body!$E$3:$ED$130,MATCH(Tabulka!$AI10,Přehled_body!$A$3:$A$130,0),MATCH(Tabulka!S$2,Přehled_body!$E$1:$ED$1,0)),)))","v":0},{"$f":"IF(IFERROR(INDEX(Přehled_body!$E$3:$ED$130,MATCH(Tabulka!$AI10,Přehled_body!$A$3:$A$130,0),MATCH(Tabulka!T$2,Přehled_body!$E$1:$ED$1,0)),)=\"\",,IF(IFERROR(INDEX(Přehled_body!$E$3:$ED$130,MATCH(Tabulka!$AI10,Přehled_body!$A$3:$A$130,0),MATCH(Tabulka!T$2,Přehled_body!$E$1:$ED$1,0)),)=0,0.00000000001,IFERROR(INDEX(Přehled_body!$E$3:$ED$130,MATCH(Tabulka!$AI10,Přehled_body!$A$3:$A$130,0),MATCH(Tabulka!T$2,Přehled_body!$E$1:$ED$1,0)),)))","v":0},{"$f":"IF(IFERROR(INDEX(Přehled_body!$E$3:$ED$130,MATCH(Tabulka!$AI10,Přehled_body!$A$3:$A$130,0),MATCH(Tabulka!U$2,Přehled_body!$E$1:$ED$1,0)),)=\"\",,IF(IFERROR(INDEX(Přehled_body!$E$3:$ED$130,MATCH(Tabulka!$AI10,Přehled_body!$A$3:$A$130,0),MATCH(Tabulka!U$2,Přehled_body!$E$1:$ED$1,0)),)=0,0.00000000001,IFERROR(INDEX(Přehled_body!$E$3:$ED$130,MATCH(Tabulka!$AI10,Přehled_body!$A$3:$A$130,0),MATCH(Tabulka!U$2,Přehled_body!$E$1:$ED$1,0)),)))","v":0},{"$f":"IF(IFERROR(INDEX(Přehled_body!$E$3:$ED$130,MATCH(Tabulka!$AI10,Přehled_body!$A$3:$A$130,0),MATCH(Tabulka!V$2,Přehled_body!$E$1:$ED$1,0)),)=\"\",,IF(IFERROR(INDEX(Přehled_body!$E$3:$ED$130,MATCH(Tabulka!$AI10,Přehled_body!$A$3:$A$130,0),MATCH(Tabulka!V$2,Přehled_body!$E$1:$ED$1,0)),)=0,0.00000000001,IFERROR(INDEX(Přehled_body!$E$3:$ED$130,MATCH(Tabulka!$AI10,Přehled_body!$A$3:$A$130,0),MATCH(Tabulka!V$2,Přehled_body!$E$1:$ED$1,0)),)))","v":0},{"$f":"IF(IFERROR(INDEX(Přehled_body!$E$3:$ED$130,MATCH(Tabulka!$AI10,Přehled_body!$A$3:$A$130,0),MATCH(Tabulka!W$2,Přehled_body!$E$1:$ED$1,0)),)=\"\",,IF(IFERROR(INDEX(Přehled_body!$E$3:$ED$130,MATCH(Tabulka!$AI10,Přehled_body!$A$3:$A$130,0),MATCH(Tabulka!W$2,Přehled_body!$E$1:$ED$1,0)),)=0,0.00000000001,IFERROR(INDEX(Přehled_body!$E$3:$ED$130,MATCH(Tabulka!$AI10,Přehled_body!$A$3:$A$130,0),MATCH(Tabulka!W$2,Přehled_body!$E$1:$ED$1,0)),)))","v":0},{"$f":"IF(IFERROR(INDEX(Přehled_body!$E$3:$ED$130,MATCH(Tabulka!$AI10,Přehled_body!$A$3:$A$130,0),MATCH(Tabulka!X$2,Přehled_body!$E$1:$ED$1,0)),)=\"\",,IF(IFERROR(INDEX(Přehled_body!$E$3:$ED$130,MATCH(Tabulka!$AI10,Přehled_body!$A$3:$A$130,0),MATCH(Tabulka!X$2,Přehled_body!$E$1:$ED$1,0)),)=0,0.00000000001,IFERROR(INDEX(Přehled_body!$E$3:$ED$130,MATCH(Tabulka!$AI10,Přehled_body!$A$3:$A$130,0),MATCH(Tabulka!X$2,Přehled_body!$E$1:$ED$1,0)),)))","v":0},{"$f":"IF(IFERROR(INDEX(Přehled_body!$E$3:$ED$130,MATCH(Tabulka!$AI10,Přehled_body!$A$3:$A$130,0),MATCH(Tabulka!Y$2,Přehled_body!$E$1:$ED$1,0)),)=\"\",,IF(IFERROR(INDEX(Přehled_body!$E$3:$ED$130,MATCH(Tabulka!$AI10,Přehled_body!$A$3:$A$130,0),MATCH(Tabulka!Y$2,Přehled_body!$E$1:$ED$1,0)),)=0,0.00000000001,IFERROR(INDEX(Přehled_body!$E$3:$ED$130,MATCH(Tabulka!$AI10,Přehled_body!$A$3:$A$130,0),MATCH(Tabulka!Y$2,Přehled_body!$E$1:$ED$1,0)),)))","v":0},{"$f":"IF(IFERROR(INDEX(Přehled_body!$E$3:$ED$130,MATCH(Tabulka!$AI10,Přehled_body!$A$3:$A$130,0),MATCH(Tabulka!Z$2,Přehled_body!$E$1:$ED$1,0)),)=\"\",,IF(IFERROR(INDEX(Přehled_body!$E$3:$ED$130,MATCH(Tabulka!$AI10,Přehled_body!$A$3:$A$130,0),MATCH(Tabulka!Z$2,Přehled_body!$E$1:$ED$1,0)),)=0,0.00000000001,IFERROR(INDEX(Přehled_body!$E$3:$ED$130,MATCH(Tabulka!$AI10,Přehled_body!$A$3:$A$130,0),MATCH(Tabulka!Z$2,Přehled_body!$E$1:$ED$1,0)),)))","v":0},{"$f":"IF(IFERROR(INDEX(Přehled_body!$E$3:$ED$130,MATCH(Tabulka!$AI10,Přehled_body!$A$3:$A$130,0),MATCH(Tabulka!AA$2,Přehled_body!$E$1:$ED$1,0)),)=\"\",,IF(IFERROR(INDEX(Přehled_body!$E$3:$ED$130,MATCH(Tabulka!$AI10,Přehled_body!$A$3:$A$130,0),MATCH(Tabulka!AA$2,Přehled_body!$E$1:$ED$1,0)),)=0,0.00000000001,IFERROR(INDEX(Přehled_body!$E$3:$ED$130,MATCH(Tabulka!$AI10,Přehled_body!$A$3:$A$130,0),MATCH(Tabulka!AA$2,Přehled_body!$E$1:$ED$1,0)),)))","v":0},{"$f":"IF(IFERROR(INDEX(Přehled_body!$E$3:$ED$130,MATCH(Tabulka!$AI10,Přehled_body!$A$3:$A$130,0),MATCH(Tabulka!AB$2,Přehled_body!$E$1:$ED$1,0)),)=\"\",,IF(IFERROR(INDEX(Přehled_body!$E$3:$ED$130,MATCH(Tabulka!$AI10,Přehled_body!$A$3:$A$130,0),MATCH(Tabulka!AB$2,Přehled_body!$E$1:$ED$1,0)),)=0,0.00000000001,IFERROR(INDEX(Přehled_body!$E$3:$ED$130,MATCH(Tabulka!$AI10,Přehled_body!$A$3:$A$130,0),MATCH(Tabulka!AB$2,Přehled_body!$E$1:$ED$1,0)),)))","v":0},{"$f":"IF(IFERROR(INDEX(Přehled_body!$E$3:$ED$130,MATCH(Tabulka!$AI10,Přehled_body!$A$3:$A$130,0),MATCH(Tabulka!AC$2,Přehled_body!$E$1:$ED$1,0)),)=\"\",,IF(IFERROR(INDEX(Přehled_body!$E$3:$ED$130,MATCH(Tabulka!$AI10,Přehled_body!$A$3:$A$130,0),MATCH(Tabulka!AC$2,Přehled_body!$E$1:$ED$1,0)),)=0,0.00000000001,IFERROR(INDEX(Přehled_body!$E$3:$ED$130,MATCH(Tabulka!$AI10,Přehled_body!$A$3:$A$130,0),MATCH(Tabulka!AC$2,Přehled_body!$E$1:$ED$1,0)),)))","v":0},{"$f":"IF(IFERROR(INDEX(Přehled_body!$E$3:$ED$130,MATCH(Tabulka!$AI10,Přehled_body!$A$3:$A$130,0),MATCH(Tabulka!AD$2,Přehled_body!$E$1:$ED$1,0)),)=\"\",,IF(IFERROR(INDEX(Přehled_body!$E$3:$ED$130,MATCH(Tabulka!$AI10,Přehled_body!$A$3:$A$130,0),MATCH(Tabulka!AD$2,Přehled_body!$E$1:$ED$1,0)),)=0,0.00000000001,IFERROR(INDEX(Přehled_body!$E$3:$ED$130,MATCH(Tabulka!$AI10,Přehled_body!$A$3:$A$130,0),MATCH(Tabulka!AD$2,Přehled_body!$E$1:$ED$1,0)),)))","v":0},{"$f":"IF(SUM($D$9:$AD$13)<1,-90000,SUM(D10:AD10))","v":2.00000000009},{"$f":"IF(AE13>0.9,SUM(AE9-AE10)+0.00000001,0)","v":6.0000000099499982},null,null,{"$f":"CONCATENATE($B$10,\" \",$B$11,C10)","v":"Libor HruškaProhry"}]
[{"$f":"CONCATENATE(B11,\" \",B10)","v":"Hruška Libor"},"Hruška","Placeno panáků",{"$f":"IF(IFERROR(INDEX(Přehled_body!$E$3:$ED$130,MATCH(Tabulka!$AI11,Přehled_body!$A$3:$A$130,0),MATCH(Tabulka!D$2,Přehled_body!$E$1:$ED$1,0)),)=\"\",,IF(IFERROR(INDEX(Přehled_body!$E$3:$ED$130,MATCH(Tabulka!$AI11,Přehled_body!$A$3:$A$130,0),MATCH(Tabulka!D$2,Přehled_body!$E$1:$ED$1,0)),)=0,0.00000000001,IFERROR(INDEX(Přehled_body!$E$3:$ED$130,MATCH(Tabulka!$AI11,Přehled_body!$A$3:$A$130,0),MATCH(Tabulka!D$2,Přehled_body!$E$1:$ED$1,0)),)))","v":9.9999999999999994E-12},{"$f":"IF(IFERROR(INDEX(Přehled_body!$E$3:$ED$130,MATCH(Tabulka!$AI11,Přehled_body!$A$3:$A$130,0),MATCH(Tabulka!E$2,Přehled_body!$E$1:$ED$1,0)),)=\"\",,IF(IFERROR(INDEX(Přehled_body!$E$3:$ED$130,MATCH(Tabulka!$AI11,Přehled_body!$A$3:$A$130,0),MATCH(Tabulka!E$2,Přehled_body!$E$1:$ED$1,0)),)=0,0.00000000001,IFERROR(INDEX(Přehled_body!$E$3:$ED$130,MATCH(Tabulka!$AI11,Přehled_body!$A$3:$A$130,0),MATCH(Tabulka!E$2,Přehled_body!$E$1:$ED$1,0)),)))","v":9.9999999999999994E-12},{"$f":"IF(IFERROR(INDEX(Přehled_body!$E$3:$ED$130,MATCH(Tabulka!$AI11,Přehled_body!$A$3:$A$130,0),MATCH(Tabulka!F$2,Přehled_body!$E$1:$ED$1,0)),)=\"\",,IF(IFERROR(INDEX(Přehled_body!$E$3:$ED$130,MATCH(Tabulka!$AI11,Přehled_body!$A$3:$A$130,0),MATCH(Tabulka!F$2,Přehled_body!$E$1:$ED$1,0)),)=0,0.00000000001,IFERROR(INDEX(Přehled_body!$E$3:$ED$130,MATCH(Tabulka!$AI11,Přehled_body!$A$3:$A$130,0),MATCH(Tabulka!F$2,Přehled_body!$E$1:$ED$1,0)),)))","v":9.9999999999999994E-12},{"$f":"IF(IFERROR(INDEX(Přehled_body!$E$3:$ED$130,MATCH(Tabulka!$AI11,Přehled_body!$A$3:$A$130,0),MATCH(Tabulka!G$2,Přehled_body!$E$1:$ED$1,0)),)=\"\",,IF(IFERROR(INDEX(Přehled_body!$E$3:$ED$130,MATCH(Tabulka!$AI11,Přehled_body!$A$3:$A$130,0),MATCH(Tabulka!G$2,Přehled_body!$E$1:$ED$1,0)),)=0,0.00000000001,IFERROR(INDEX(Přehled_body!$E$3:$ED$130,MATCH(Tabulka!$AI11,Přehled_body!$A$3:$A$130,0),MATCH(Tabulka!G$2,Přehled_body!$E$1:$ED$1,0)),)))","v":2},{"$f":"IF(IFERROR(INDEX(Přehled_body!$E$3:$ED$130,MATCH(Tabulka!$AI11,Přehled_body!$A$3:$A$130,0),MATCH(Tabulka!H$2,Přehled_body!$E$1:$ED$1,0)),)=\"\",,IF(IFERROR(INDEX(Přehled_body!$E$3:$ED$130,MATCH(Tabulka!$AI11,Přehled_body!$A$3:$A$130,0),MATCH(Tabulka!H$2,Přehled_body!$E$1:$ED$1,0)),)=0,0.00000000001,IFERROR(INDEX(Přehled_body!$E$3:$ED$130,MATCH(Tabulka!$AI11,Přehled_body!$A$3:$A$130,0),MATCH(Tabulka!H$2,Přehled_body!$E$1:$ED$1,0)),)))","v":9.9999999999999994E-12},{"$f":"IF(IFERROR(INDEX(Přehled_body!$E$3:$ED$130,MATCH(Tabulka!$AI11,Přehled_body!$A$3:$A$130,0),MATCH(Tabulka!I$2,Přehled_body!$E$1:$ED$1,0)),)=\"\",,IF(IFERROR(INDEX(Přehled_body!$E$3:$ED$130,MATCH(Tabulka!$AI11,Přehled_body!$A$3:$A$130,0),MATCH(Tabulka!I$2,Přehled_body!$E$1:$ED$1,0)),)=0,0.00000000001,IFERROR(INDEX(Přehled_body!$E$3:$ED$130,MATCH(Tabulka!$AI11,Přehled_body!$A$3:$A$130,0),MATCH(Tabulka!I$2,Přehled_body!$E$1:$ED$1,0)),)))","v":9.9999999999999994E-12},{"$f":"IF(IFERROR(INDEX(Přehled_body!$E$3:$ED$130,MATCH(Tabulka!$AI11,Přehled_body!$A$3:$A$130,0),MATCH(Tabulka!J$2,Přehled_body!$E$1:$ED$1,0)),)=\"\",,IF(IFERROR(INDEX(Přehled_body!$E$3:$ED$130,MATCH(Tabulka!$AI11,Přehled_body!$A$3:$A$130,0),MATCH(Tabulka!J$2,Přehled_body!$E$1:$ED$1,0)),)=0,0.00000000001,IFERROR(INDEX(Přehled_body!$E$3:$ED$130,MATCH(Tabulka!$AI11,Přehled_body!$A$3:$A$130,0),MATCH(Tabulka!J$2,Přehled_body!$E$1:$ED$1,0)),)))","v":9.9999999999999994E-12},{"$f":"IF(IFERROR(INDEX(Přehled_body!$E$3:$ED$130,MATCH(Tabulka!$AI11,Přehled_body!$A$3:$A$130,0),MATCH(Tabulka!K$2,Přehled_body!$E$1:$ED$1,0)),)=\"\",,IF(IFERROR(INDEX(Přehled_body!$E$3:$ED$130,MATCH(Tabulka!$AI11,Přehled_body!$A$3:$A$130,0),MATCH(Tabulka!K$2,Přehled_body!$E$1:$ED$1,0)),)=0,0.00000000001,IFERROR(INDEX(Přehled_body!$E$3:$ED$130,MATCH(Tabulka!$AI11,Přehled_body!$A$3:$A$130,0),MATCH(Tabulka!K$2,Přehled_body!$E$1:$ED$1,0)),)))","v":9.9999999999999994E-12},{"$f":"IF(IFERROR(INDEX(Přehled_body!$E$3:$ED$130,MATCH(Tabulka!$AI11,Přehled_body!$A$3:$A$130,0),MATCH(Tabulka!L$2,Přehled_body!$E$1:$ED$1,0)),)=\"\",,IF(IFERROR(INDEX(Přehled_body!$E$3:$ED$130,MATCH(Tabulka!$AI11,Přehled_body!$A$3:$A$130,0),MATCH(Tabulka!L$2,Přehled_body!$E$1:$ED$1,0)),)=0,0.00000000001,IFERROR(INDEX(Přehled_body!$E$3:$ED$130,MATCH(Tabulka!$AI11,Přehled_body!$A$3:$A$130,0),MATCH(Tabulka!L$2,Přehled_body!$E$1:$ED$1,0)),)))","v":9.9999999999999994E-12},{"$f":"IF(IFERROR(INDEX(Přehled_body!$E$3:$ED$130,MATCH(Tabulka!$AI11,Přehled_body!$A$3:$A$130,0),MATCH(Tabulka!M$2,Přehled_body!$E$1:$ED$1,0)),)=\"\",,IF(IFERROR(INDEX(Přehled_body!$E$3:$ED$130,MATCH(Tabulka!$AI11,Přehled_body!$A$3:$A$130,0),MATCH(Tabulka!M$2,Přehled_body!$E$1:$ED$1,0)),)=0,0.00000000001,IFERROR(INDEX(Přehled_body!$E$3:$ED$130,MATCH(Tabulka!$AI11,Přehled_body!$A$3:$A$130,0),MATCH(Tabulka!M$2,Přehled_body!$E$1:$ED$1,0)),)))","v":9.9999999999999994E-12},{"$f":"IF(IFERROR(INDEX(Přehled_body!$E$3:$ED$130,MATCH(Tabulka!$AI11,Přehled_body!$A$3:$A$130,0),MATCH(Tabulka!N$2,Přehled_body!$E$1:$ED$1,0)),)=\"\",,IF(IFERROR(INDEX(Přehled_body!$E$3:$ED$130,MATCH(Tabulka!$AI11,Přehled_body!$A$3:$A$130,0),MATCH(Tabulka!N$2,Přehled_body!$E$1:$ED$1,0)),)=0,0.00000000001,IFERROR(INDEX(Přehled_body!$E$3:$ED$130,MATCH(Tabulka!$AI11,Přehled_body!$A$3:$A$130,0),MATCH(Tabulka!N$2,Přehled_body!$E$1:$ED$1,0)),)))","v":0},{"$f":"IF(IFERROR(INDEX(Přehled_body!$E$3:$ED$130,MATCH(Tabulka!$AI11,Přehled_body!$A$3:$A$130,0),MATCH(Tabulka!O$2,Přehled_body!$E$1:$ED$1,0)),)=\"\",,IF(IFERROR(INDEX(Přehled_body!$E$3:$ED$130,MATCH(Tabulka!$AI11,Přehled_body!$A$3:$A$130,0),MATCH(Tabulka!O$2,Přehled_body!$E$1:$ED$1,0)),)=0,0.00000000001,IFERROR(INDEX(Přehled_body!$E$3:$ED$130,MATCH(Tabulka!$AI11,Přehled_body!$A$3:$A$130,0),MATCH(Tabulka!O$2,Přehled_body!$E$1:$ED$1,0)),)))","v":0},{"$f":"IF(IFERROR(INDEX(Přehled_body!$E$3:$ED$130,MATCH(Tabulka!$AI11,Přehled_body!$A$3:$A$130,0),MATCH(Tabulka!P$2,Přehled_body!$E$1:$ED$1,0)),)=\"\",,IF(IFERROR(INDEX(Přehled_body!$E$3:$ED$130,MATCH(Tabulka!$AI11,Přehled_body!$A$3:$A$130,0),MATCH(Tabulka!P$2,Přehled_body!$E$1:$ED$1,0)),)=0,0.00000000001,IFERROR(INDEX(Přehled_body!$E$3:$ED$130,MATCH(Tabulka!$AI11,Přehled_body!$A$3:$A$130,0),MATCH(Tabulka!P$2,Přehled_body!$E$1:$ED$1,0)),)))","v":0},{"$f":"IF(IFERROR(INDEX(Přehled_body!$E$3:$ED$130,MATCH(Tabulka!$AI11,Přehled_body!$A$3:$A$130,0),MATCH(Tabulka!Q$2,Přehled_body!$E$1:$ED$1,0)),)=\"\",,IF(IFERROR(INDEX(Přehled_body!$E$3:$ED$130,MATCH(Tabulka!$AI11,Přehled_body!$A$3:$A$130,0),MATCH(Tabulka!Q$2,Přehled_body!$E$1:$ED$1,0)),)=0,0.00000000001,IFERROR(INDEX(Přehled_body!$E$3:$ED$130,MATCH(Tabulka!$AI11,Přehled_body!$A$3:$A$130,0),MATCH(Tabulka!Q$2,Přehled_body!$E$1:$ED$1,0)),)))","v":0},{"$f":"IF(IFERROR(INDEX(Přehled_body!$E$3:$ED$130,MATCH(Tabulka!$AI11,Přehled_body!$A$3:$A$130,0),MATCH(Tabulka!R$2,Přehled_body!$E$1:$ED$1,0)),)=\"\",,IF(IFERROR(INDEX(Přehled_body!$E$3:$ED$130,MATCH(Tabulka!$AI11,Přehled_body!$A$3:$A$130,0),MATCH(Tabulka!R$2,Přehled_body!$E$1:$ED$1,0)),)=0,0.00000000001,IFERROR(INDEX(Přehled_body!$E$3:$ED$130,MATCH(Tabulka!$AI11,Přehled_body!$A$3:$A$130,0),MATCH(Tabulka!R$2,Přehled_body!$E$1:$ED$1,0)),)))","v":0},{"$f":"IF(IFERROR(INDEX(Přehled_body!$E$3:$ED$130,MATCH(Tabulka!$AI11,Přehled_body!$A$3:$A$130,0),MATCH(Tabulka!S$2,Přehled_body!$E$1:$ED$1,0)),)=\"\",,IF(IFERROR(INDEX(Přehled_body!$E$3:$ED$130,MATCH(Tabulka!$AI11,Přehled_body!$A$3:$A$130,0),MATCH(Tabulka!S$2,Přehled_body!$E$1:$ED$1,0)),)=0,0.00000000001,IFERROR(INDEX(Přehled_body!$E$3:$ED$130,MATCH(Tabulka!$AI11,Přehled_body!$A$3:$A$130,0),MATCH(Tabulka!S$2,Přehled_body!$E$1:$ED$1,0)),)))","v":0},{"$f":"IF(IFERROR(INDEX(Přehled_body!$E$3:$ED$130,MATCH(Tabulka!$AI11,Přehled_body!$A$3:$A$130,0),MATCH(Tabulka!T$2,Přehled_body!$E$1:$ED$1,0)),)=\"\",,IF(IFERROR(INDEX(Přehled_body!$E$3:$ED$130,MATCH(Tabulka!$AI11,Přehled_body!$A$3:$A$130,0),MATCH(Tabulka!T$2,Přehled_body!$E$1:$ED$1,0)),)=0,0.00000000001,IFERROR(INDEX(Přehled_body!$E$3:$ED$130,MATCH(Tabulka!$AI11,Přehled_body!$A$3:$A$130,0),MATCH(Tabulka!T$2,Přehled_body!$E$1:$ED$1,0)),)))","v":0},{"$f":"IF(IFERROR(INDEX(Přehled_body!$E$3:$ED$130,MATCH(Tabulka!$AI11,Přehled_body!$A$3:$A$130,0),MATCH(Tabulka!U$2,Přehled_body!$E$1:$ED$1,0)),)=\"\",,IF(IFERROR(INDEX(Přehled_body!$E$3:$ED$130,MATCH(Tabulka!$AI11,Přehled_body!$A$3:$A$130,0),MATCH(Tabulka!U$2,Přehled_body!$E$1:$ED$1,0)),)=0,0.00000000001,IFERROR(INDEX(Přehled_body!$E$3:$ED$130,MATCH(Tabulka!$AI11,Přehled_body!$A$3:$A$130,0),MATCH(Tabulka!U$2,Přehled_body!$E$1:$ED$1,0)),)))","v":0},{"$f":"IF(IFERROR(INDEX(Přehled_body!$E$3:$ED$130,MATCH(Tabulka!$AI11,Přehled_body!$A$3:$A$130,0),MATCH(Tabulka!V$2,Přehled_body!$E$1:$ED$1,0)),)=\"\",,IF(IFERROR(INDEX(Přehled_body!$E$3:$ED$130,MATCH(Tabulka!$AI11,Přehled_body!$A$3:$A$130,0),MATCH(Tabulka!V$2,Přehled_body!$E$1:$ED$1,0)),)=0,0.00000000001,IFERROR(INDEX(Přehled_body!$E$3:$ED$130,MATCH(Tabulka!$AI11,Přehled_body!$A$3:$A$130,0),MATCH(Tabulka!V$2,Přehled_body!$E$1:$ED$1,0)),)))","v":0},{"$f":"IF(IFERROR(INDEX(Přehled_body!$E$3:$ED$130,MATCH(Tabulka!$AI11,Přehled_body!$A$3:$A$130,0),MATCH(Tabulka!W$2,Přehled_body!$E$1:$ED$1,0)),)=\"\",,IF(IFERROR(INDEX(Přehled_body!$E$3:$ED$130,MATCH(Tabulka!$AI11,Přehled_body!$A$3:$A$130,0),MATCH(Tabulka!W$2,Přehled_body!$E$1:$ED$1,0)),)=0,0.00000000001,IFERROR(INDEX(Přehled_body!$E$3:$ED$130,MATCH(Tabulka!$AI11,Přehled_body!$A$3:$A$130,0),MATCH(Tabulka!W$2,Přehled_body!$E$1:$ED$1,0)),)))","v":0},{"$f":"IF(IFERROR(INDEX(Přehled_body!$E$3:$ED$130,MATCH(Tabulka!$AI11,Přehled_body!$A$3:$A$130,0),MATCH(Tabulka!X$2,Přehled_body!$E$1:$ED$1,0)),)=\"\",,IF(IFERROR(INDEX(Přehled_body!$E$3:$ED$130,MATCH(Tabulka!$AI11,Přehled_body!$A$3:$A$130,0),MATCH(Tabulka!X$2,Přehled_body!$E$1:$ED$1,0)),)=0,0.00000000001,IFERROR(INDEX(Přehled_body!$E$3:$ED$130,MATCH(Tabulka!$AI11,Přehled_body!$A$3:$A$130,0),MATCH(Tabulka!X$2,Přehled_body!$E$1:$ED$1,0)),)))","v":0},{"$f":"IF(IFERROR(INDEX(Přehled_body!$E$3:$ED$130,MATCH(Tabulka!$AI11,Přehled_body!$A$3:$A$130,0),MATCH(Tabulka!Y$2,Přehled_body!$E$1:$ED$1,0)),)=\"\",,IF(IFERROR(INDEX(Přehled_body!$E$3:$ED$130,MATCH(Tabulka!$AI11,Přehled_body!$A$3:$A$130,0),MATCH(Tabulka!Y$2,Přehled_body!$E$1:$ED$1,0)),)=0,0.00000000001,IFERROR(INDEX(Přehled_body!$E$3:$ED$130,MATCH(Tabulka!$AI11,Přehled_body!$A$3:$A$130,0),MATCH(Tabulka!Y$2,Přehled_body!$E$1:$ED$1,0)),)))","v":0},{"$f":"IF(IFERROR(INDEX(Přehled_body!$E$3:$ED$130,MATCH(Tabulka!$AI11,Přehled_body!$A$3:$A$130,0),MATCH(Tabulka!Z$2,Přehled_body!$E$1:$ED$1,0)),)=\"\",,IF(IFERROR(INDEX(Přehled_body!$E$3:$ED$130,MATCH(Tabulka!$AI11,Přehled_body!$A$3:$A$130,0),MATCH(Tabulka!Z$2,Přehled_body!$E$1:$ED$1,0)),)=0,0.00000000001,IFERROR(INDEX(Přehled_body!$E$3:$ED$130,MATCH(Tabulka!$AI11,Přehled_body!$A$3:$A$130,0),MATCH(Tabulka!Z$2,Přehled_body!$E$1:$ED$1,0)),)))","v":0},{"$f":"IF(IFERROR(INDEX(Přehled_body!$E$3:$ED$130,MATCH(Tabulka!$AI11,Přehled_body!$A$3:$A$130,0),MATCH(Tabulka!AA$2,Přehled_body!$E$1:$ED$1,0)),)=\"\",,IF(IFERROR(INDEX(Přehled_body!$E$3:$ED$130,MATCH(Tabulka!$AI11,Přehled_body!$A$3:$A$130,0),MATCH(Tabulka!AA$2,Přehled_body!$E$1:$ED$1,0)),)=0,0.00000000001,IFERROR(INDEX(Přehled_body!$E$3:$ED$130,MATCH(Tabulka!$AI11,Přehled_body!$A$3:$A$130,0),MATCH(Tabulka!AA$2,Přehled_body!$E$1:$ED$1,0)),)))","v":0},{"$f":"IF(IFERROR(INDEX(Přehled_body!$E$3:$ED$130,MATCH(Tabulka!$AI11,Přehled_body!$A$3:$A$130,0),MATCH(Tabulka!AB$2,Přehled_body!$E$1:$ED$1,0)),)=\"\",,IF(IFERROR(INDEX(Přehled_body!$E$3:$ED$130,MATCH(Tabulka!$AI11,Přehled_body!$A$3:$A$130,0),MATCH(Tabulka!AB$2,Přehled_body!$E$1:$ED$1,0)),)=0,0.00000000001,IFERROR(INDEX(Přehled_body!$E$3:$ED$130,MATCH(Tabulka!$AI11,Přehled_body!$A$3:$A$130,0),MATCH(Tabulka!AB$2,Přehled_body!$E$1:$ED$1,0)),)))","v":0},{"$f":"IF(IFERROR(INDEX(Přehled_body!$E$3:$ED$130,MATCH(Tabulka!$AI11,Přehled_body!$A$3:$A$130,0),MATCH(Tabulka!AC$2,Přehled_body!$E$1:$ED$1,0)),)=\"\",,IF(IFERROR(INDEX(Přehled_body!$E$3:$ED$130,MATCH(Tabulka!$AI11,Přehled_body!$A$3:$A$130,0),MATCH(Tabulka!AC$2,Přehled_body!$E$1:$ED$1,0)),)=0,0.00000000001,IFERROR(INDEX(Přehled_body!$E$3:$ED$130,MATCH(Tabulka!$AI11,Přehled_body!$A$3:$A$130,0),MATCH(Tabulka!AC$2,Přehled_body!$E$1:$ED$1,0)),)))","v":0},{"$f":"IF(IFERROR(INDEX(Přehled_body!$E$3:$ED$130,MATCH(Tabulka!$AI11,Přehled_body!$A$3:$A$130,0),MATCH(Tabulka!AD$2,Přehled_body!$E$1:$ED$1,0)),)=\"\",,IF(IFERROR(INDEX(Přehled_body!$E$3:$ED$130,MATCH(Tabulka!$AI11,Přehled_body!$A$3:$A$130,0),MATCH(Tabulka!AD$2,Přehled_body!$E$1:$ED$1,0)),)=0,0.00000000001,IFERROR(INDEX(Přehled_body!$E$3:$ED$130,MATCH(Tabulka!$AI11,Přehled_body!$A$3:$A$130,0),MATCH(Tabulka!AD$2,Přehled_body!$E$1:$ED$1,0)),)))","v":0},{"$f":"IF(SUM($D$9:$AD$13)<1,-90000,SUM(D11:AD11))","v":2.00000000009},null,null,null,{"$f":"CONCATENATE($B$10,\" \",$B$11,C11)","v":"Libor HruškaPlaceno panáků"}]
[null,null,"Přehozy",{"$f":"IF(IFERROR(INDEX(Přehled_body!$E$3:$ED$130,MATCH(Tabulka!$AI12,Přehled_body!$A$3:$A$130,0),MATCH(Tabulka!D$2,Přehled_body!$E$1:$ED$1,0)),)=\"\",,IF(IFERROR(INDEX(Přehled_body!$E$3:$ED$130,MATCH(Tabulka!$AI12,Přehled_body!$A$3:$A$130,0),MATCH(Tabulka!D$2,Přehled_body!$E$1:$ED$1,0)),)=0,0.00000000001,IFERROR(INDEX(Přehled_body!$E$3:$ED$130,MATCH(Tabulka!$AI12,Přehled_body!$A$3:$A$130,0),MATCH(Tabulka!D$2,Přehled_body!$E$1:$ED$1,0)),)))","v":1},{"$f":"IF(IFERROR(INDEX(Přehled_body!$E$3:$ED$130,MATCH(Tabulka!$AI12,Přehled_body!$A$3:$A$130,0),MATCH(Tabulka!E$2,Přehled_body!$E$1:$ED$1,0)),)=\"\",,IF(IFERROR(INDEX(Přehled_body!$E$3:$ED$130,MATCH(Tabulka!$AI12,Přehled_body!$A$3:$A$130,0),MATCH(Tabulka!E$2,Přehled_body!$E$1:$ED$1,0)),)=0,0.00000000001,IFERROR(INDEX(Přehled_body!$E$3:$ED$130,MATCH(Tabulka!$AI12,Přehled_body!$A$3:$A$130,0),MATCH(Tabulka!E$2,Přehled_body!$E$1:$ED$1,0)),)))","v":2},{"$f":"IF(IFERROR(INDEX(Přehled_body!$E$3:$ED$130,MATCH(Tabulka!$AI12,Přehled_body!$A$3:$A$130,0),MATCH(Tabulka!F$2,Přehled_body!$E$1:$ED$1,0)),)=\"\",,IF(IFERROR(INDEX(Přehled_body!$E$3:$ED$130,MATCH(Tabulka!$AI12,Přehled_body!$A$3:$A$130,0),MATCH(Tabulka!F$2,Přehled_body!$E$1:$ED$1,0)),)=0,0.00000000001,IFERROR(INDEX(Přehled_body!$E$3:$ED$130,MATCH(Tabulka!$AI12,Přehled_body!$A$3:$A$130,0),MATCH(Tabulka!F$2,Přehled_body!$E$1:$ED$1,0)),)))","v":9.9999999999999994E-12},{"$f":"IF(IFERROR(INDEX(Přehled_body!$E$3:$ED$130,MATCH(Tabulka!$AI12,Přehled_body!$A$3:$A$130,0),MATCH(Tabulka!G$2,Přehled_body!$E$1:$ED$1,0)),)=\"\",,IF(IFERROR(INDEX(Přehled_body!$E$3:$ED$130,MATCH(Tabulka!$AI12,Přehled_body!$A$3:$A$130,0),MATCH(Tabulka!G$2,Přehled_body!$E$1:$ED$1,0)),)=0,0.00000000001,IFERROR(INDEX(Přehled_body!$E$3:$ED$130,MATCH(Tabulka!$AI12,Přehled_body!$A$3:$A$130,0),MATCH(Tabulka!G$2,Přehled_body!$E$1:$ED$1,0)),)))","v":1},{"$f":"IF(IFERROR(INDEX(Přehled_body!$E$3:$ED$130,MATCH(Tabulka!$AI12,Přehled_body!$A$3:$A$130,0),MATCH(Tabulka!H$2,Přehled_body!$E$1:$ED$1,0)),)=\"\",,IF(IFERROR(INDEX(Přehled_body!$E$3:$ED$130,MATCH(Tabulka!$AI12,Přehled_body!$A$3:$A$130,0),MATCH(Tabulka!H$2,Přehled_body!$E$1:$ED$1,0)),)=0,0.00000000001,IFERROR(INDEX(Přehled_body!$E$3:$ED$130,MATCH(Tabulka!$AI12,Přehled_body!$A$3:$A$130,0),MATCH(Tabulka!H$2,Přehled_body!$E$1:$ED$1,0)),)))","v":1},{"$f":"IF(IFERROR(INDEX(Přehled_body!$E$3:$ED$130,MATCH(Tabulka!$AI12,Přehled_body!$A$3:$A$130,0),MATCH(Tabulka!I$2,Přehled_body!$E$1:$ED$1,0)),)=\"\",,IF(IFERROR(INDEX(Přehled_body!$E$3:$ED$130,MATCH(Tabulka!$AI12,Přehled_body!$A$3:$A$130,0),MATCH(Tabulka!I$2,Přehled_body!$E$1:$ED$1,0)),)=0,0.00000000001,IFERROR(INDEX(Přehled_body!$E$3:$ED$130,MATCH(Tabulka!$AI12,Přehled_body!$A$3:$A$130,0),MATCH(Tabulka!I$2,Přehled_body!$E$1:$ED$1,0)),)))","v":3},{"$f":"IF(IFERROR(INDEX(Přehled_body!$E$3:$ED$130,MATCH(Tabulka!$AI12,Přehled_body!$A$3:$A$130,0),MATCH(Tabulka!J$2,Přehled_body!$E$1:$ED$1,0)),)=\"\",,IF(IFERROR(INDEX(Přehled_body!$E$3:$ED$130,MATCH(Tabulka!$AI12,Přehled_body!$A$3:$A$130,0),MATCH(Tabulka!J$2,Přehled_body!$E$1:$ED$1,0)),)=0,0.00000000001,IFERROR(INDEX(Přehled_body!$E$3:$ED$130,MATCH(Tabulka!$AI12,Přehled_body!$A$3:$A$130,0),MATCH(Tabulka!J$2,Přehled_body!$E$1:$ED$1,0)),)))","v":9.9999999999999994E-12},{"$f":"IF(IFERROR(INDEX(Přehled_body!$E$3:$ED$130,MATCH(Tabulka!$AI12,Přehled_body!$A$3:$A$130,0),MATCH(Tabulka!K$2,Přehled_body!$E$1:$ED$1,0)),)=\"\",,IF(IFERROR(INDEX(Přehled_body!$E$3:$ED$130,MATCH(Tabulka!$AI12,Přehled_body!$A$3:$A$130,0),MATCH(Tabulka!K$2,Přehled_body!$E$1:$ED$1,0)),)=0,0.00000000001,IFERROR(INDEX(Přehled_body!$E$3:$ED$130,MATCH(Tabulka!$AI12,Přehled_body!$A$3:$A$130,0),MATCH(Tabulka!K$2,Přehled_body!$E$1:$ED$1,0)),)))","v":9.9999999999999994E-12},{"$f":"IF(IFERROR(INDEX(Přehled_body!$E$3:$ED$130,MATCH(Tabulka!$AI12,Přehled_body!$A$3:$A$130,0),MATCH(Tabulka!L$2,Přehled_body!$E$1:$ED$1,0)),)=\"\",,IF(IFERROR(INDEX(Přehled_body!$E$3:$ED$130,MATCH(Tabulka!$AI12,Přehled_body!$A$3:$A$130,0),MATCH(Tabulka!L$2,Přehled_body!$E$1:$ED$1,0)),)=0,0.00000000001,IFERROR(INDEX(Přehled_body!$E$3:$ED$130,MATCH(Tabulka!$AI12,Přehled_body!$A$3:$A$130,0),MATCH(Tabulka!L$2,Přehled_body!$E$1:$ED$1,0)),)))","v":9.9999999999999994E-12},{"$f":"IF(IFERROR(INDEX(Přehled_body!$E$3:$ED$130,MATCH(Tabulka!$AI12,Přehled_body!$A$3:$A$130,0),MATCH(Tabulka!M$2,Přehled_body!$E$1:$ED$1,0)),)=\"\",,IF(IFERROR(INDEX(Přehled_body!$E$3:$ED$130,MATCH(Tabulka!$AI12,Přehled_body!$A$3:$A$130,0),MATCH(Tabulka!M$2,Přehled_body!$E$1:$ED$1,0)),)=0,0.00000000001,IFERROR(INDEX(Přehled_body!$E$3:$ED$130,MATCH(Tabulka!$AI12,Přehled_body!$A$3:$A$130,0),MATCH(Tabulka!M$2,Přehled_body!$E$1:$ED$1,0)),)))","v":2},{"$f":"IF(IFERROR(INDEX(Přehled_body!$E$3:$ED$130,MATCH(Tabulka!$AI12,Přehled_body!$A$3:$A$130,0),MATCH(Tabulka!N$2,Přehled_body!$E$1:$ED$1,0)),)=\"\",,IF(IFERROR(INDEX(Přehled_body!$E$3:$ED$130,MATCH(Tabulka!$AI12,Přehled_body!$A$3:$A$130,0),MATCH(Tabulka!N$2,Přehled_body!$E$1:$ED$1,0)),)=0,0.00000000001,IFERROR(INDEX(Přehled_body!$E$3:$ED$130,MATCH(Tabulka!$AI12,Přehled_body!$A$3:$A$130,0),MATCH(Tabulka!N$2,Přehled_body!$E$1:$ED$1,0)),)))","v":0},{"$f":"IF(IFERROR(INDEX(Přehled_body!$E$3:$ED$130,MATCH(Tabulka!$AI12,Přehled_body!$A$3:$A$130,0),MATCH(Tabulka!O$2,Přehled_body!$E$1:$ED$1,0)),)=\"\",,IF(IFERROR(INDEX(Přehled_body!$E$3:$ED$130,MATCH(Tabulka!$AI12,Přehled_body!$A$3:$A$130,0),MATCH(Tabulka!O$2,Přehled_body!$E$1:$ED$1,0)),)=0,0.00000000001,IFERROR(INDEX(Přehled_body!$E$3:$ED$130,MATCH(Tabulka!$AI12,Přehled_body!$A$3:$A$130,0),MATCH(Tabulka!O$2,Přehled_body!$E$1:$ED$1,0)),)))","v":0},{"$f":"IF(IFERROR(INDEX(Přehled_body!$E$3:$ED$130,MATCH(Tabulka!$AI12,Přehled_body!$A$3:$A$130,0),MATCH(Tabulka!P$2,Přehled_body!$E$1:$ED$1,0)),)=\"\",,IF(IFERROR(INDEX(Přehled_body!$E$3:$ED$130,MATCH(Tabulka!$AI12,Přehled_body!$A$3:$A$130,0),MATCH(Tabulka!P$2,Přehled_body!$E$1:$ED$1,0)),)=0,0.00000000001,IFERROR(INDEX(Přehled_body!$E$3:$ED$130,MATCH(Tabulka!$AI12,Přehled_body!$A$3:$A$130,0),MATCH(Tabulka!P$2,Přehled_body!$E$1:$ED$1,0)),)))","v":0},{"$f":"IF(IFERROR(INDEX(Přehled_body!$E$3:$ED$130,MATCH(Tabulka!$AI12,Přehled_body!$A$3:$A$130,0),MATCH(Tabulka!Q$2,Přehled_body!$E$1:$ED$1,0)),)=\"\",,IF(IFERROR(INDEX(Přehled_body!$E$3:$ED$130,MATCH(Tabulka!$AI12,Přehled_body!$A$3:$A$130,0),MATCH(Tabulka!Q$2,Přehled_body!$E$1:$ED$1,0)),)=0,0.00000000001,IFERROR(INDEX(Přehled_body!$E$3:$ED$130,MATCH(Tabulka!$AI12,Přehled_body!$A$3:$A$130,0),MATCH(Tabulka!Q$2,Přehled_body!$E$1:$ED$1,0)),)))","v":0},{"$f":"IF(IFERROR(INDEX(Přehled_body!$E$3:$ED$130,MATCH(Tabulka!$AI12,Přehled_body!$A$3:$A$130,0),MATCH(Tabulka!R$2,Přehled_body!$E$1:$ED$1,0)),)=\"\",,IF(IFERROR(INDEX(Přehled_body!$E$3:$ED$130,MATCH(Tabulka!$AI12,Přehled_body!$A$3:$A$130,0),MATCH(Tabulka!R$2,Přehled_body!$E$1:$ED$1,0)),)=0,0.00000000001,IFERROR(INDEX(Přehled_body!$E$3:$ED$130,MATCH(Tabulka!$AI12,Přehled_body!$A$3:$A$130,0),MATCH(Tabulka!R$2,Přehled_body!$E$1:$ED$1,0)),)))","v":0},{"$f":"IF(IFERROR(INDEX(Přehled_body!$E$3:$ED$130,MATCH(Tabulka!$AI12,Přehled_body!$A$3:$A$130,0),MATCH(Tabulka!S$2,Přehled_body!$E$1:$ED$1,0)),)=\"\",,IF(IFERROR(INDEX(Přehled_body!$E$3:$ED$130,MATCH(Tabulka!$AI12,Přehled_body!$A$3:$A$130,0),MATCH(Tabulka!S$2,Přehled_body!$E$1:$ED$1,0)),)=0,0.00000000001,IFERROR(INDEX(Přehled_body!$E$3:$ED$130,MATCH(Tabulka!$AI12,Přehled_body!$A$3:$A$130,0),MATCH(Tabulka!S$2,Přehled_body!$E$1:$ED$1,0)),)))","v":0},{"$f":"IF(IFERROR(INDEX(Přehled_body!$E$3:$ED$130,MATCH(Tabulka!$AI12,Přehled_body!$A$3:$A$130,0),MATCH(Tabulka!T$2,Přehled_body!$E$1:$ED$1,0)),)=\"\",,IF(IFERROR(INDEX(Přehled_body!$E$3:$ED$130,MATCH(Tabulka!$AI12,Přehled_body!$A$3:$A$130,0),MATCH(Tabulka!T$2,Přehled_body!$E$1:$ED$1,0)),)=0,0.00000000001,IFERROR(INDEX(Přehled_body!$E$3:$ED$130,MATCH(Tabulka!$AI12,Přehled_body!$A$3:$A$130,0),MATCH(Tabulka!T$2,Přehled_body!$E$1:$ED$1,0)),)))","v":0},{"$f":"IF(IFERROR(INDEX(Přehled_body!$E$3:$ED$130,MATCH(Tabulka!$AI12,Přehled_body!$A$3:$A$130,0),MATCH(Tabulka!U$2,Přehled_body!$E$1:$ED$1,0)),)=\"\",,IF(IFERROR(INDEX(Přehled_body!$E$3:$ED$130,MATCH(Tabulka!$AI12,Přehled_body!$A$3:$A$130,0),MATCH(Tabulka!U$2,Přehled_body!$E$1:$ED$1,0)),)=0,0.00000000001,IFERROR(INDEX(Přehled_body!$E$3:$ED$130,MATCH(Tabulka!$AI12,Přehled_body!$A$3:$A$130,0),MATCH(Tabulka!U$2,Přehled_body!$E$1:$ED$1,0)),)))","v":0},{"$f":"IF(IFERROR(INDEX(Přehled_body!$E$3:$ED$130,MATCH(Tabulka!$AI12,Přehled_body!$A$3:$A$130,0),MATCH(Tabulka!V$2,Přehled_body!$E$1:$ED$1,0)),)=\"\",,IF(IFERROR(INDEX(Přehled_body!$E$3:$ED$130,MATCH(Tabulka!$AI12,Přehled_body!$A$3:$A$130,0),MATCH(Tabulka!V$2,Přehled_body!$E$1:$ED$1,0)),)=0,0.00000000001,IFERROR(INDEX(Přehled_body!$E$3:$ED$130,MATCH(Tabulka!$AI12,Přehled_body!$A$3:$A$130,0),MATCH(Tabulka!V$2,Přehled_body!$E$1:$ED$1,0)),)))","v":0},{"$f":"IF(IFERROR(INDEX(Přehled_body!$E$3:$ED$130,MATCH(Tabulka!$AI12,Přehled_body!$A$3:$A$130,0),MATCH(Tabulka!W$2,Přehled_body!$E$1:$ED$1,0)),)=\"\",,IF(IFERROR(INDEX(Přehled_body!$E$3:$ED$130,MATCH(Tabulka!$AI12,Přehled_body!$A$3:$A$130,0),MATCH(Tabulka!W$2,Přehled_body!$E$1:$ED$1,0)),)=0,0.00000000001,IFERROR(INDEX(Přehled_body!$E$3:$ED$130,MATCH(Tabulka!$AI12,Přehled_body!$A$3:$A$130,0),MATCH(Tabulka!W$2,Přehled_body!$E$1:$ED$1,0)),)))","v":0},{"$f":"IF(IFERROR(INDEX(Přehled_body!$E$3:$ED$130,MATCH(Tabulka!$AI12,Přehled_body!$A$3:$A$130,0),MATCH(Tabulka!X$2,Přehled_body!$E$1:$ED$1,0)),)=\"\",,IF(IFERROR(INDEX(Přehled_body!$E$3:$ED$130,MATCH(Tabulka!$AI12,Přehled_body!$A$3:$A$130,0),MATCH(Tabulka!X$2,Přehled_body!$E$1:$ED$1,0)),)=0,0.00000000001,IFERROR(INDEX(Přehled_body!$E$3:$ED$130,MATCH(Tabulka!$AI12,Přehled_body!$A$3:$A$130,0),MATCH(Tabulka!X$2,Přehled_body!$E$1:$ED$1,0)),)))","v":0},{"$f":"IF(IFERROR(INDEX(Přehled_body!$E$3:$ED$130,MATCH(Tabulka!$AI12,Přehled_body!$A$3:$A$130,0),MATCH(Tabulka!Y$2,Přehled_body!$E$1:$ED$1,0)),)=\"\",,IF(IFERROR(INDEX(Přehled_body!$E$3:$ED$130,MATCH(Tabulka!$AI12,Přehled_body!$A$3:$A$130,0),MATCH(Tabulka!Y$2,Přehled_body!$E$1:$ED$1,0)),)=0,0.00000000001,IFERROR(INDEX(Přehled_body!$E$3:$ED$130,MATCH(Tabulka!$AI12,Přehled_body!$A$3:$A$130,0),MATCH(Tabulka!Y$2,Přehled_body!$E$1:$ED$1,0)),)))","v":0},{"$f":"IF(IFERROR(INDEX(Přehled_body!$E$3:$ED$130,MATCH(Tabulka!$AI12,Přehled_body!$A$3:$A$130,0),MATCH(Tabulka!Z$2,Přehled_body!$E$1:$ED$1,0)),)=\"\",,IF(IFERROR(INDEX(Přehled_body!$E$3:$ED$130,MATCH(Tabulka!$AI12,Přehled_body!$A$3:$A$130,0),MATCH(Tabulka!Z$2,Přehled_body!$E$1:$ED$1,0)),)=0,0.00000000001,IFERROR(INDEX(Přehled_body!$E$3:$ED$130,MATCH(Tabulka!$AI12,Přehled_body!$A$3:$A$130,0),MATCH(Tabulka!Z$2,Přehled_body!$E$1:$ED$1,0)),)))","v":0},{"$f":"IF(IFERROR(INDEX(Přehled_body!$E$3:$ED$130,MATCH(Tabulka!$AI12,Přehled_body!$A$3:$A$130,0),MATCH(Tabulka!AA$2,Přehled_body!$E$1:$ED$1,0)),)=\"\",,IF(IFERROR(INDEX(Přehled_body!$E$3:$ED$130,MATCH(Tabulka!$AI12,Přehled_body!$A$3:$A$130,0),MATCH(Tabulka!AA$2,Přehled_body!$E$1:$ED$1,0)),)=0,0.00000000001,IFERROR(INDEX(Přehled_body!$E$3:$ED$130,MATCH(Tabulka!$AI12,Přehled_body!$A$3:$A$130,0),MATCH(Tabulka!AA$2,Přehled_body!$E$1:$ED$1,0)),)))","v":0},{"$f":"IF(IFERROR(INDEX(Přehled_body!$E$3:$ED$130,MATCH(Tabulka!$AI12,Přehled_body!$A$3:$A$130,0),MATCH(Tabulka!AB$2,Přehled_body!$E$1:$ED$1,0)),)=\"\",,IF(IFERROR(INDEX(Přehled_body!$E$3:$ED$130,MATCH(Tabulka!$AI12,Přehled_body!$A$3:$A$130,0),MATCH(Tabulka!AB$2,Přehled_body!$E$1:$ED$1,0)),)=0,0.00000000001,IFERROR(INDEX(Přehled_body!$E$3:$ED$130,MATCH(Tabulka!$AI12,Přehled_body!$A$3:$A$130,0),MATCH(Tabulka!AB$2,Přehled_body!$E$1:$ED$1,0)),)))","v":0},{"$f":"IF(IFERROR(INDEX(Přehled_body!$E$3:$ED$130,MATCH(Tabulka!$AI12,Přehled_body!$A$3:$A$130,0),MATCH(Tabulka!AC$2,Přehled_body!$E$1:$ED$1,0)),)=\"\",,IF(IFERROR(INDEX(Přehled_body!$E$3:$ED$130,MATCH(Tabulka!$AI12,Přehled_body!$A$3:$A$130,0),MATCH(Tabulka!AC$2,Přehled_body!$E$1:$ED$1,0)),)=0,0.00000000001,IFERROR(INDEX(Přehled_body!$E$3:$ED$130,MATCH(Tabulka!$AI12,Přehled_body!$A$3:$A$130,0),MATCH(Tabulka!AC$2,Přehled_body!$E$1:$ED$1,0)),)))","v":0},{"$f":"IF(IFERROR(INDEX(Přehled_body!$E$3:$ED$130,MATCH(Tabulka!$AI12,Přehled_body!$A$3:$A$130,0),MATCH(Tabulka!AD$2,Přehled_body!$E$1:$ED$1,0)),)=\"\",,IF(IFERROR(INDEX(Přehled_body!$E$3:$ED$130,MATCH(Tabulka!$AI12,Přehled_body!$A$3:$A$130,0),MATCH(Tabulka!AD$2,Přehled_body!$E$1:$ED$1,0)),)=0,0.00000000001,IFERROR(INDEX(Přehled_body!$E$3:$ED$130,MATCH(Tabulka!$AI12,Přehled_body!$A$3:$A$130,0),MATCH(Tabulka!AD$2,Přehled_body!$E$1:$ED$1,0)),)))","v":0},{"$f":"IF(SUM($D$9:$AD$13)<1,-90000,SUM(D12:AD12))","v":10.000000000039998},null,null,null,{"$f":"CONCATENATE($B$10,\" \",$B$11,C12)","v":"Libor HruškaPřehozy"}]
[null,null,"Poč. kol",{"$f":"IF(IFERROR(INDEX(Přehled_body!$E$3:$ED$130,MATCH(Tabulka!$AI13,Přehled_body!$A$3:$A$130,0),MATCH(Tabulka!D$2,Přehled_body!$E$1:$ED$1,0)),)=\"\",,IF(IFERROR(INDEX(Přehled_body!$E$3:$ED$130,MATCH(Tabulka!$AI13,Přehled_body!$A$3:$A$130,0),MATCH(Tabulka!D$2,Přehled_body!$E$1:$ED$1,0)),)=0,0.00000000001,IFERROR(INDEX(Přehled_body!$E$3:$ED$130,MATCH(Tabulka!$AI13,Přehled_body!$A$3:$A$130,0),MATCH(Tabulka!D$2,Přehled_body!$E$1:$ED$1,0)),)))","v":4},{"$f":"IF(IFERROR(INDEX(Přehled_body!$E$3:$ED$130,MATCH(Tabulka!$AI13,Přehled_body!$A$3:$A$130,0),MATCH(Tabulka!E$2,Přehled_body!$E$1:$ED$1,0)),)=\"\",,IF(IFERROR(INDEX(Přehled_body!$E$3:$ED$130,MATCH(Tabulka!$AI13,Přehled_body!$A$3:$A$130,0),MATCH(Tabulka!E$2,Přehled_body!$E$1:$ED$1,0)),)=0,0.00000000001,IFERROR(INDEX(Přehled_body!$E$3:$ED$130,MATCH(Tabulka!$AI13,Přehled_body!$A$3:$A$130,0),MATCH(Tabulka!E$2,Přehled_body!$E$1:$ED$1,0)),)))","v":4},{"$f":"IF(IFERROR(INDEX(Přehled_body!$E$3:$ED$130,MATCH(Tabulka!$AI13,Přehled_body!$A$3:$A$130,0),MATCH(Tabulka!F$2,Přehled_body!$E$1:$ED$1,0)),)=\"\",,IF(IFERROR(INDEX(Přehled_body!$E$3:$ED$130,MATCH(Tabulka!$AI13,Přehled_body!$A$3:$A$130,0),MATCH(Tabulka!F$2,Přehled_body!$E$1:$ED$1,0)),)=0,0.00000000001,IFERROR(INDEX(Přehled_body!$E$3:$ED$130,MATCH(Tabulka!$AI13,Přehled_body!$A$3:$A$130,0),MATCH(Tabulka!F$2,Přehled_body!$E$1:$ED$1,0)),)))","v":4},{"$f":"IF(IFERROR(INDEX(Přehled_body!$E$3:$ED$130,MATCH(Tabulka!$AI13,Přehled_body!$A$3:$A$130,0),MATCH(Tabulka!G$2,Přehled_body!$E$1:$ED$1,0)),)=\"\",,IF(IFERROR(INDEX(Přehled_body!$E$3:$ED$130,MATCH(Tabulka!$AI13,Přehled_body!$A$3:$A$130,0),MATCH(Tabulka!G$2,Přehled_body!$E$1:$ED$1,0)),)=0,0.00000000001,IFERROR(INDEX(Přehled_body!$E$3:$ED$130,MATCH(Tabulka!$AI13,Přehled_body!$A$3:$A$130,0),MATCH(Tabulka!G$2,Přehled_body!$E$1:$ED$1,0)),)))","v":4},{"$f":"IF(IFERROR(INDEX(Přehled_body!$E$3:$ED$130,MATCH(Tabulka!$AI13,Přehled_body!$A$3:$A$130,0),MATCH(Tabulka!H$2,Přehled_body!$E$1:$ED$1,0)),)=\"\",,IF(IFERROR(INDEX(Přehled_body!$E$3:$ED$130,MATCH(Tabulka!$AI13,Přehled_body!$A$3:$A$130,0),MATCH(Tabulka!H$2,Přehled_body!$E$1:$ED$1,0)),)=0,0.00000000001,IFERROR(INDEX(Přehled_body!$E$3:$ED$130,MATCH(Tabulka!$AI13,Přehled_body!$A$3:$A$130,0),MATCH(Tabulka!H$2,Přehled_body!$E$1:$ED$1,0)),)))","v":4},{"$f":"IF(IFERROR(INDEX(Přehled_body!$E$3:$ED$130,MATCH(Tabulka!$AI13,Přehled_body!$A$3:$A$130,0),MATCH(Tabulka!I$2,Přehled_body!$E$1:$ED$1,0)),)=\"\",,IF(IFERROR(INDEX(Přehled_body!$E$3:$ED$130,MATCH(Tabulka!$AI13,Přehled_body!$A$3:$A$130,0),MATCH(Tabulka!I$2,Přehled_body!$E$1:$ED$1,0)),)=0,0.00000000001,IFERROR(INDEX(Přehled_body!$E$3:$ED$130,MATCH(Tabulka!$AI13,Přehled_body!$A$3:$A$130,0),MATCH(Tabulka!I$2,Přehled_body!$E$1:$ED$1,0)),)))","v":4},{"$f":"IF(IFERROR(INDEX(Přehled_body!$E$3:$ED$130,MATCH(Tabulka!$AI13,Přehled_body!$A$3:$A$130,0),MATCH(Tabulka!J$2,Přehled_body!$E$1:$ED$1,0)),)=\"\",,IF(IFERROR(INDEX(Přehled_body!$E$3:$ED$130,MATCH(Tabulka!$AI13,Přehled_body!$A$3:$A$130,0),MATCH(Tabulka!J$2,Přehled_body!$E$1:$ED$1,0)),)=0,0.00000000001,IFERROR(INDEX(Přehled_body!$E$3:$ED$130,MATCH(Tabulka!$AI13,Přehled_body!$A$3:$A$130,0),MATCH(Tabulka!J$2,Přehled_body!$E$1:$ED$1,0)),)))","v":4},{"$f":"IF(IFERROR(INDEX(Přehled_body!$E$3:$ED$130,MATCH(Tabulka!$AI13,Přehled_body!$A$3:$A$130,0),MATCH(Tabulka!K$2,Přehled_body!$E$1:$ED$1,0)),)=\"\",,IF(IFERROR(INDEX(Přehled_body!$E$3:$ED$130,MATCH(Tabulka!$AI13,Přehled_body!$A$3:$A$130,0),MATCH(Tabulka!K$2,Přehled_body!$E$1:$ED$1,0)),)=0,0.00000000001,IFERROR(INDEX(Přehled_body!$E$3:$ED$130,MATCH(Tabulka!$AI13,Přehled_body!$A$3:$A$130,0),MATCH(Tabulka!K$2,Přehled_body!$E$1:$ED$1,0)),)))","v":4},{"$f":"IF(IFERROR(INDEX(Přehled_body!$E$3:$ED$130,MATCH(Tabulka!$AI13,Přehled_body!$A$3:$A$130,0),MATCH(Tabulka!L$2,Přehled_body!$E$1:$ED$1,0)),)=\"\",,IF(IFERROR(INDEX(Přehled_body!$E$3:$ED$130,MATCH(Tabulka!$AI13,Přehled_body!$A$3:$A$130,0),MATCH(Tabulka!L$2,Přehled_body!$E$1:$ED$1,0)),)=0,0.00000000001,IFERROR(INDEX(Přehled_body!$E$3:$ED$130,MATCH(Tabulka!$AI13,Přehled_body!$A$3:$A$130,0),MATCH(Tabulka!L$2,Přehled_body!$E$1:$ED$1,0)),)))","v":3},{"$f":"IF(IFERROR(INDEX(Přehled_body!$E$3:$ED$130,MATCH(Tabulka!$AI13,Přehled_body!$A$3:$A$130,0),MATCH(Tabulka!M$2,Přehled_body!$E$1:$ED$1,0)),)=\"\",,IF(IFERROR(INDEX(Přehled_body!$E$3:$ED$130,MATCH(Tabulka!$AI13,Přehled_body!$A$3:$A$130,0),MATCH(Tabulka!M$2,Přehled_body!$E$1:$ED$1,0)),)=0,0.00000000001,IFERROR(INDEX(Přehled_body!$E$3:$ED$130,MATCH(Tabulka!$AI13,Přehled_body!$A$3:$A$130,0),MATCH(Tabulka!M$2,Přehled_body!$E$1:$ED$1,0)),)))","v":4},{"$f":"IF(IFERROR(INDEX(Přehled_body!$E$3:$ED$130,MATCH(Tabulka!$AI13,Přehled_body!$A$3:$A$130,0),MATCH(Tabulka!N$2,Přehled_body!$E$1:$ED$1,0)),)=\"\",,IF(IFERROR(INDEX(Přehled_body!$E$3:$ED$130,MATCH(Tabulka!$AI13,Přehled_body!$A$3:$A$130,0),MATCH(Tabulka!N$2,Přehled_body!$E$1:$ED$1,0)),)=0,0.00000000001,IFERROR(INDEX(Přehled_body!$E$3:$ED$130,MATCH(Tabulka!$AI13,Přehled_body!$A$3:$A$130,0),MATCH(Tabulka!N$2,Přehled_body!$E$1:$ED$1,0)),)))","v":0},{"$f":"IF(IFERROR(INDEX(Přehled_body!$E$3:$ED$130,MATCH(Tabulka!$AI13,Přehled_body!$A$3:$A$130,0),MATCH(Tabulka!O$2,Přehled_body!$E$1:$ED$1,0)),)=\"\",,IF(IFERROR(INDEX(Přehled_body!$E$3:$ED$130,MATCH(Tabulka!$AI13,Přehled_body!$A$3:$A$130,0),MATCH(Tabulka!O$2,Přehled_body!$E$1:$ED$1,0)),)=0,0.00000000001,IFERROR(INDEX(Přehled_body!$E$3:$ED$130,MATCH(Tabulka!$AI13,Přehled_body!$A$3:$A$130,0),MATCH(Tabulka!O$2,Přehled_body!$E$1:$ED$1,0)),)))","v":0},{"$f":"IF(IFERROR(INDEX(Přehled_body!$E$3:$ED$130,MATCH(Tabulka!$AI13,Přehled_body!$A$3:$A$130,0),MATCH(Tabulka!P$2,Přehled_body!$E$1:$ED$1,0)),)=\"\",,IF(IFERROR(INDEX(Přehled_body!$E$3:$ED$130,MATCH(Tabulka!$AI13,Přehled_body!$A$3:$A$130,0),MATCH(Tabulka!P$2,Přehled_body!$E$1:$ED$1,0)),)=0,0.00000000001,IFERROR(INDEX(Přehled_body!$E$3:$ED$130,MATCH(Tabulka!$AI13,Přehled_body!$A$3:$A$130,0),MATCH(Tabulka!P$2,Přehled_body!$E$1:$ED$1,0)),)))","v":0},{"$f":"IF(IFERROR(INDEX(Přehled_body!$E$3:$ED$130,MATCH(Tabulka!$AI13,Přehled_body!$A$3:$A$130,0),MATCH(Tabulka!Q$2,Přehled_body!$E$1:$ED$1,0)),)=\"\",,IF(IFERROR(INDEX(Přehled_body!$E$3:$ED$130,MATCH(Tabulka!$AI13,Přehled_body!$A$3:$A$130,0),MATCH(Tabulka!Q$2,Přehled_body!$E$1:$ED$1,0)),)=0,0.00000000001,IFERROR(INDEX(Přehled_body!$E$3:$ED$130,MATCH(Tabulka!$AI13,Přehled_body!$A$3:$A$130,0),MATCH(Tabulka!Q$2,Přehled_body!$E$1:$ED$1,0)),)))","v":0},{"$f":"IF(IFERROR(INDEX(Přehled_body!$E$3:$ED$130,MATCH(Tabulka!$AI13,Přehled_body!$A$3:$A$130,0),MATCH(Tabulka!R$2,Přehled_body!$E$1:$ED$1,0)),)=\"\",,IF(IFERROR(INDEX(Přehled_body!$E$3:$ED$130,MATCH(Tabulka!$AI13,Přehled_body!$A$3:$A$130,0),MATCH(Tabulka!R$2,Přehled_body!$E$1:$ED$1,0)),)=0,0.00000000001,IFERROR(INDEX(Přehled_body!$E$3:$ED$130,MATCH(Tabulka!$AI13,Přehled_body!$A$3:$A$130,0),MATCH(Tabulka!R$2,Přehled_body!$E$1:$ED$1,0)),)))","v":0},{"$f":"IF(IFERROR(INDEX(Přehled_body!$E$3:$ED$130,MATCH(Tabulka!$AI13,Přehled_body!$A$3:$A$130,0),MATCH(Tabulka!S$2,Přehled_body!$E$1:$ED$1,0)),)=\"\",,IF(IFERROR(INDEX(Přehled_body!$E$3:$ED$130,MATCH(Tabulka!$AI13,Přehled_body!$A$3:$A$130,0),MATCH(Tabulka!S$2,Přehled_body!$E$1:$ED$1,0)),)=0,0.00000000001,IFERROR(INDEX(Přehled_body!$E$3:$ED$130,MATCH(Tabulka!$AI13,Přehled_body!$A$3:$A$130,0),MATCH(Tabulka!S$2,Přehled_body!$E$1:$ED$1,0)),)))","v":0},{"$f":"IF(IFERROR(INDEX(Přehled_body!$E$3:$ED$130,MATCH(Tabulka!$AI13,Přehled_body!$A$3:$A$130,0),MATCH(Tabulka!T$2,Přehled_body!$E$1:$ED$1,0)),)=\"\",,IF(IFERROR(INDEX(Přehled_body!$E$3:$ED$130,MATCH(Tabulka!$AI13,Přehled_body!$A$3:$A$130,0),MATCH(Tabulka!T$2,Přehled_body!$E$1:$ED$1,0)),)=0,0.00000000001,IFERROR(INDEX(Přehled_body!$E$3:$ED$130,MATCH(Tabulka!$AI13,Přehled_body!$A$3:$A$130,0),MATCH(Tabulka!T$2,Přehled_body!$E$1:$ED$1,0)),)))","v":0},{"$f":"IF(IFERROR(INDEX(Přehled_body!$E$3:$ED$130,MATCH(Tabulka!$AI13,Přehled_body!$A$3:$A$130,0),MATCH(Tabulka!U$2,Přehled_body!$E$1:$ED$1,0)),)=\"\",,IF(IFERROR(INDEX(Přehled_body!$E$3:$ED$130,MATCH(Tabulka!$AI13,Přehled_body!$A$3:$A$130,0),MATCH(Tabulka!U$2,Přehled_body!$E$1:$ED$1,0)),)=0,0.00000000001,IFERROR(INDEX(Přehled_body!$E$3:$ED$130,MATCH(Tabulka!$AI13,Přehled_body!$A$3:$A$130,0),MATCH(Tabulka!U$2,Přehled_body!$E$1:$ED$1,0)),)))","v":0},{"$f":"IF(IFERROR(INDEX(Přehled_body!$E$3:$ED$130,MATCH(Tabulka!$AI13,Přehled_body!$A$3:$A$130,0),MATCH(Tabulka!V$2,Přehled_body!$E$1:$ED$1,0)),)=\"\",,IF(IFERROR(INDEX(Přehled_body!$E$3:$ED$130,MATCH(Tabulka!$AI13,Přehled_body!$A$3:$A$130,0),MATCH(Tabulka!V$2,Přehled_body!$E$1:$ED$1,0)),)=0,0.00000000001,IFERROR(INDEX(Přehled_body!$E$3:$ED$130,MATCH(Tabulka!$AI13,Přehled_body!$A$3:$A$130,0),MATCH(Tabulka!V$2,Přehled_body!$E$1:$ED$1,0)),)))","v":0},{"$f":"IF(IFERROR(INDEX(Přehled_body!$E$3:$ED$130,MATCH(Tabulka!$AI13,Přehled_body!$A$3:$A$130,0),MATCH(Tabulka!W$2,Přehled_body!$E$1:$ED$1,0)),)=\"\",,IF(IFERROR(INDEX(Přehled_body!$E$3:$ED$130,MATCH(Tabulka!$AI13,Přehled_body!$A$3:$A$130,0),MATCH(Tabulka!W$2,Přehled_body!$E$1:$ED$1,0)),)=0,0.00000000001,IFERROR(INDEX(Přehled_body!$E$3:$ED$130,MATCH(Tabulka!$AI13,Přehled_body!$A$3:$A$130,0),MATCH(Tabulka!W$2,Přehled_body!$E$1:$ED$1,0)),)))","v":0},{"$f":"IF(IFERROR(INDEX(Přehled_body!$E$3:$ED$130,MATCH(Tabulka!$AI13,Přehled_body!$A$3:$A$130,0),MATCH(Tabulka!X$2,Přehled_body!$E$1:$ED$1,0)),)=\"\",,IF(IFERROR(INDEX(Přehled_body!$E$3:$ED$130,MATCH(Tabulka!$AI13,Přehled_body!$A$3:$A$130,0),MATCH(Tabulka!X$2,Přehled_body!$E$1:$ED$1,0)),)=0,0.00000000001,IFERROR(INDEX(Přehled_body!$E$3:$ED$130,MATCH(Tabulka!$AI13,Přehled_body!$A$3:$A$130,0),MATCH(Tabulka!X$2,Přehled_body!$E$1:$ED$1,0)),)))","v":0},{"$f":"IF(IFERROR(INDEX(Přehled_body!$E$3:$ED$130,MATCH(Tabulka!$AI13,Přehled_body!$A$3:$A$130,0),MATCH(Tabulka!Y$2,Přehled_body!$E$1:$ED$1,0)),)=\"\",,IF(IFERROR(INDEX(Přehled_body!$E$3:$ED$130,MATCH(Tabulka!$AI13,Přehled_body!$A$3:$A$130,0),MATCH(Tabulka!Y$2,Přehled_body!$E$1:$ED$1,0)),)=0,0.00000000001,IFERROR(INDEX(Přehled_body!$E$3:$ED$130,MATCH(Tabulka!$AI13,Přehled_body!$A$3:$A$130,0),MATCH(Tabulka!Y$2,Přehled_body!$E$1:$ED$1,0)),)))","v":0},{"$f":"IF(IFERROR(INDEX(Přehled_body!$E$3:$ED$130,MATCH(Tabulka!$AI13,Přehled_body!$A$3:$A$130,0),MATCH(Tabulka!Z$2,Přehled_body!$E$1:$ED$1,0)),)=\"\",,IF(IFERROR(INDEX(Přehled_body!$E$3:$ED$130,MATCH(Tabulka!$AI13,Přehled_body!$A$3:$A$130,0),MATCH(Tabulka!Z$2,Přehled_body!$E$1:$ED$1,0)),)=0,0.00000000001,IFERROR(INDEX(Přehled_body!$E$3:$ED$130,MATCH(Tabulka!$AI13,Přehled_body!$A$3:$A$130,0),MATCH(Tabulka!Z$2,Přehled_body!$E$1:$ED$1,0)),)))","v":0},{"$f":"IF(IFERROR(INDEX(Přehled_body!$E$3:$ED$130,MATCH(Tabulka!$AI13,Přehled_body!$A$3:$A$130,0),MATCH(Tabulka!AA$2,Přehled_body!$E$1:$ED$1,0)),)=\"\",,IF(IFERROR(INDEX(Přehled_body!$E$3:$ED$130,MATCH(Tabulka!$AI13,Přehled_body!$A$3:$A$130,0),MATCH(Tabulka!AA$2,Přehled_body!$E$1:$ED$1,0)),)=0,0.00000000001,IFERROR(INDEX(Přehled_body!$E$3:$ED$130,MATCH(Tabulka!$AI13,Přehled_body!$A$3:$A$130,0),MATCH(Tabulka!AA$2,Přehled_body!$E$1:$ED$1,0)),)))","v":0},{"$f":"IF(IFERROR(INDEX(Přehled_body!$E$3:$ED$130,MATCH(Tabulka!$AI13,Přehled_body!$A$3:$A$130,0),MATCH(Tabulka!AB$2,Přehled_body!$E$1:$ED$1,0)),)=\"\",,IF(IFERROR(INDEX(Přehled_body!$E$3:$ED$130,MATCH(Tabulka!$AI13,Přehled_body!$A$3:$A$130,0),MATCH(Tabulka!AB$2,Přehled_body!$E$1:$ED$1,0)),)=0,0.00000000001,IFERROR(INDEX(Přehled_body!$E$3:$ED$130,MATCH(Tabulka!$AI13,Přehled_body!$A$3:$A$130,0),MATCH(Tabulka!AB$2,Přehled_body!$E$1:$ED$1,0)),)))","v":0},{"$f":"IF(IFERROR(INDEX(Přehled_body!$E$3:$ED$130,MATCH(Tabulka!$AI13,Přehled_body!$A$3:$A$130,0),MATCH(Tabulka!AC$2,Přehled_body!$E$1:$ED$1,0)),)=\"\",,IF(IFERROR(INDEX(Přehled_body!$E$3:$ED$130,MATCH(Tabulka!$AI13,Přehled_body!$A$3:$A$130,0),MATCH(Tabulka!AC$2,Přehled_body!$E$1:$ED$1,0)),)=0,0.00000000001,IFERROR(INDEX(Přehled_body!$E$3:$ED$130,MATCH(Tabulka!$AI13,Přehled_body!$A$3:$A$130,0),MATCH(Tabulka!AC$2,Přehled_body!$E$1:$ED$1,0)),)))","v":0},{"$f":"IF(IFERROR(INDEX(Přehled_body!$E$3:$ED$130,MATCH(Tabulka!$AI13,Přehled_body!$A$3:$A$130,0),MATCH(Tabulka!AD$2,Přehled_body!$E$1:$ED$1,0)),)=\"\",,IF(IFERROR(INDEX(Přehled_body!$E$3:$ED$130,MATCH(Tabulka!$AI13,Přehled_body!$A$3:$A$130,0),MATCH(Tabulka!AD$2,Přehled_body!$E$1:$ED$1,0)),)=0,0.00000000001,IFERROR(INDEX(Přehled_body!$E$3:$ED$130,MATCH(Tabulka!$AI13,Přehled_body!$A$3:$A$130,0),MATCH(Tabulka!AD$2,Přehled_body!$E$1:$ED$1,0)),)))","v":0},{"$f":"IF(SUM($D$9:$AD$13)<1,-90000,SUM(D13:AD13))","v":39},null,null,null,{"$f":"CONCATENATE($B$10,\" \",$B$11,C13)","v":"Libor HruškaPoč. kol"}]
[null,null,"Výhry",{"$f":"IF(IFERROR(INDEX(Přehled_body!$E$3:$ED$130,MATCH(Tabulka!$AI14,Přehled_body!$A$3:$A$130,0),MATCH(Tabulka!D$2,Přehled_body!$E$1:$ED$1,0)),)=\"\",,IF(IFERROR(INDEX(Přehled_body!$E$3:$ED$130,MATCH(Tabulka!$AI14,Přehled_body!$A$3:$A$130,0),MATCH(Tabulka!D$2,Přehled_body!$E$1:$ED$1,0)),)=0,0.00000000001,IFERROR(INDEX(Přehled_body!$E$3:$ED$130,MATCH(Tabulka!$AI14,Přehled_body!$A$3:$A$130,0),MATCH(Tabulka!D$2,Přehled_body!$E$1:$ED$1,0)),)))","v":0},{"$f":"IF(IFERROR(INDEX(Přehled_body!$E$3:$ED$130,MATCH(Tabulka!$AI14,Přehled_body!$A$3:$A$130,0),MATCH(Tabulka!E$2,Přehled_body!$E$1:$ED$1,0)),)=\"\",,IF(IFERROR(INDEX(Přehled_body!$E$3:$ED$130,MATCH(Tabulka!$AI14,Přehled_body!$A$3:$A$130,0),MATCH(Tabulka!E$2,Přehled_body!$E$1:$ED$1,0)),)=0,0.00000000001,IFERROR(INDEX(Přehled_body!$E$3:$ED$130,MATCH(Tabulka!$AI14,Přehled_body!$A$3:$A$130,0),MATCH(Tabulka!E$2,Přehled_body!$E$1:$ED$1,0)),)))","v":0},{"$f":"IF(IFERROR(INDEX(Přehled_body!$E$3:$ED$130,MATCH(Tabulka!$AI14,Přehled_body!$A$3:$A$130,0),MATCH(Tabulka!F$2,Přehled_body!$E$1:$ED$1,0)),)=\"\",,IF(IFERROR(INDEX(Přehled_body!$E$3:$ED$130,MATCH(Tabulka!$AI14,Přehled_body!$A$3:$A$130,0),MATCH(Tabulka!F$2,Přehled_body!$E$1:$ED$1,0)),)=0,0.00000000001,IFERROR(INDEX(Přehled_body!$E$3:$ED$130,MATCH(Tabulka!$AI14,Přehled_body!$A$3:$A$130,0),MATCH(Tabulka!F$2,Přehled_body!$E$1:$ED$1,0)),)))","v":0},{"$f":"IF(IFERROR(INDEX(Přehled_body!$E$3:$ED$130,MATCH(Tabulka!$AI14,Přehled_body!$A$3:$A$130,0),MATCH(Tabulka!G$2,Přehled_body!$E$1:$ED$1,0)),)=\"\",,IF(IFERROR(INDEX(Přehled_body!$E$3:$ED$130,MATCH(Tabulka!$AI14,Přehled_body!$A$3:$A$130,0),MATCH(Tabulka!G$2,Přehled_body!$E$1:$ED$1,0)),)=0,0.00000000001,IFERROR(INDEX(Přehled_body!$E$3:$ED$130,MATCH(Tabulka!$AI14,Přehled_body!$A$3:$A$130,0),MATCH(Tabulka!G$2,Přehled_body!$E$1:$ED$1,0)),)))","v":0},{"$f":"IF(IFERROR(INDEX(Přehled_body!$E$3:$ED$130,MATCH(Tabulka!$AI14,Přehled_body!$A$3:$A$130,0),MATCH(Tabulka!H$2,Přehled_body!$E$1:$ED$1,0)),)=\"\",,IF(IFERROR(INDEX(Přehled_body!$E$3:$ED$130,MATCH(Tabulka!$AI14,Přehled_body!$A$3:$A$130,0),MATCH(Tabulka!H$2,Přehled_body!$E$1:$ED$1,0)),)=0,0.00000000001,IFERROR(INDEX(Přehled_body!$E$3:$ED$130,MATCH(Tabulka!$AI14,Přehled_body!$A$3:$A$130,0),MATCH(Tabulka!H$2,Přehled_body!$E$1:$ED$1,0)),)))","v":0},{"$f":"IF(IFERROR(INDEX(Přehled_body!$E$3:$ED$130,MATCH(Tabulka!$AI14,Přehled_body!$A$3:$A$130,0),MATCH(Tabulka!I$2,Přehled_body!$E$1:$ED$1,0)),)=\"\",,IF(IFERROR(INDEX(Přehled_body!$E$3:$ED$130,MATCH(Tabulka!$AI14,Přehled_body!$A$3:$A$130,0),MATCH(Tabulka!I$2,Přehled_body!$E$1:$ED$1,0)),)=0,0.00000000001,IFERROR(INDEX(Přehled_body!$E$3:$ED$130,MATCH(Tabulka!$AI14,Přehled_body!$A$3:$A$130,0),MATCH(Tabulka!I$2,Přehled_body!$E$1:$ED$1,0)),)))","v":0},{"$f":"IF(IFERROR(INDEX(Přehled_body!$E$3:$ED$130,MATCH(Tabulka!$AI14,Přehled_body!$A$3:$A$130,0),MATCH(Tabulka!J$2,Přehled_body!$E$1:$ED$1,0)),)=\"\",,IF(IFERROR(INDEX(Přehled_body!$E$3:$ED$130,MATCH(Tabulka!$AI14,Přehled_body!$A$3:$A$130,0),MATCH(Tabulka!J$2,Přehled_body!$E$1:$ED$1,0)),)=0,0.00000000001,IFERROR(INDEX(Přehled_body!$E$3:$ED$130,MATCH(Tabulka!$AI14,Přehled_body!$A$3:$A$130,0),MATCH(Tabulka!J$2,Přehled_body!$E$1:$ED$1,0)),)))","v":0},{"$f":"IF(IFERROR(INDEX(Přehled_body!$E$3:$ED$130,MATCH(Tabulka!$AI14,Přehled_body!$A$3:$A$130,0),MATCH(Tabulka!K$2,Přehled_body!$E$1:$ED$1,0)),)=\"\",,IF(IFERROR(INDEX(Přehled_body!$E$3:$ED$130,MATCH(Tabulka!$AI14,Přehled_body!$A$3:$A$130,0),MATCH(Tabulka!K$2,Přehled_body!$E$1:$ED$1,0)),)=0,0.00000000001,IFERROR(INDEX(Přehled_body!$E$3:$ED$130,MATCH(Tabulka!$AI14,Přehled_body!$A$3:$A$130,0),MATCH(Tabulka!K$2,Přehled_body!$E$1:$ED$1,0)),)))","v":0},{"$f":"IF(IFERROR(INDEX(Přehled_body!$E$3:$ED$130,MATCH(Tabulka!$AI14,Přehled_body!$A$3:$A$130,0),MATCH(Tabulka!L$2,Přehled_body!$E$1:$ED$1,0)),)=\"\",,IF(IFERROR(INDEX(Přehled_body!$E$3:$ED$130,MATCH(Tabulka!$AI14,Přehled_body!$A$3:$A$130,0),MATCH(Tabulka!L$2,Přehled_body!$E$1:$ED$1,0)),)=0,0.00000000001,IFERROR(INDEX(Přehled_body!$E$3:$ED$130,MATCH(Tabulka!$AI14,Přehled_body!$A$3:$A$130,0),MATCH(Tabulka!L$2,Přehled_body!$E$1:$ED$1,0)),)))","v":0},{"$f":"IF(IFERROR(INDEX(Přehled_body!$E$3:$ED$130,MATCH(Tabulka!$AI14,Přehled_body!$A$3:$A$130,0),MATCH(Tabulka!M$2,Přehled_body!$E$1:$ED$1,0)),)=\"\",,IF(IFERROR(INDEX(Přehled_body!$E$3:$ED$130,MATCH(Tabulka!$AI14,Přehled_body!$A$3:$A$130,0),MATCH(Tabulka!M$2,Přehled_body!$E$1:$ED$1,0)),)=0,0.00000000001,IFERROR(INDEX(Přehled_body!$E$3:$ED$130,MATCH(Tabulka!$AI14,Přehled_body!$A$3:$A$130,0),MATCH(Tabulka!M$2,Přehled_body!$E$1:$ED$1,0)),)))","v":0},{"$f":"IF(IFERROR(INDEX(Přehled_body!$E$3:$ED$130,MATCH(Tabulka!$AI14,Přehled_body!$A$3:$A$130,0),MATCH(Tabulka!N$2,Přehled_body!$E$1:$ED$1,0)),)=\"\",,IF(IFERROR(INDEX(Přehled_body!$E$3:$ED$130,MATCH(Tabulka!$AI14,Přehled_body!$A$3:$A$130,0),MATCH(Tabulka!N$2,Přehled_body!$E$1:$ED$1,0)),)=0,0.00000000001,IFERROR(INDEX(Přehled_body!$E$3:$ED$130,MATCH(Tabulka!$AI14,Přehled_body!$A$3:$A$130,0),MATCH(Tabulka!N$2,Přehled_body!$E$1:$ED$1,0)),)))","v":0},{"$f":"IF(IFERROR(INDEX(Přehled_body!$E$3:$ED$130,MATCH(Tabulka!$AI14,Přehled_body!$A$3:$A$130,0),MATCH(Tabulka!O$2,Přehled_body!$E$1:$ED$1,0)),)=\"\",,IF(IFERROR(INDEX(Přehled_body!$E$3:$ED$130,MATCH(Tabulka!$AI14,Přehled_body!$A$3:$A$130,0),MATCH(Tabulka!O$2,Přehled_body!$E$1:$ED$1,0)),)=0,0.00000000001,IFERROR(INDEX(Přehled_body!$E$3:$ED$130,MATCH(Tabulka!$AI14,Přehled_body!$A$3:$A$130,0),MATCH(Tabulka!O$2,Přehled_body!$E$1:$ED$1,0)),)))","v":0},{"$f":"IF(IFERROR(INDEX(Přehled_body!$E$3:$ED$130,MATCH(Tabulka!$AI14,Přehled_body!$A$3:$A$130,0),MATCH(Tabulka!P$2,Přehled_body!$E$1:$ED$1,0)),)=\"\",,IF(IFERROR(INDEX(Přehled_body!$E$3:$ED$130,MATCH(Tabulka!$AI14,Přehled_body!$A$3:$A$130,0),MATCH(Tabulka!P$2,Přehled_body!$E$1:$ED$1,0)),)=0,0.00000000001,IFERROR(INDEX(Přehled_body!$E$3:$ED$130,MATCH(Tabulka!$AI14,Přehled_body!$A$3:$A$130,0),MATCH(Tabulka!P$2,Přehled_body!$E$1:$ED$1,0)),)))","v":0},{"$f":"IF(IFERROR(INDEX(Přehled_body!$E$3:$ED$130,MATCH(Tabulka!$AI14,Přehled_body!$A$3:$A$130,0),MATCH(Tabulka!Q$2,Přehled_body!$E$1:$ED$1,0)),)=\"\",,IF(IFERROR(INDEX(Přehled_body!$E$3:$ED$130,MATCH(Tabulka!$AI14,Přehled_body!$A$3:$A$130,0),MATCH(Tabulka!Q$2,Přehled_body!$E$1:$ED$1,0)),)=0,0.00000000001,IFERROR(INDEX(Přehled_body!$E$3:$ED$130,MATCH(Tabulka!$AI14,Přehled_body!$A$3:$A$130,0),MATCH(Tabulka!Q$2,Přehled_body!$E$1:$ED$1,0)),)))","v":0},{"$f":"IF(IFERROR(INDEX(Přehled_body!$E$3:$ED$130,MATCH(Tabulka!$AI14,Přehled_body!$A$3:$A$130,0),MATCH(Tabulka!R$2,Přehled_body!$E$1:$ED$1,0)),)=\"\",,IF(IFERROR(INDEX(Přehled_body!$E$3:$ED$130,MATCH(Tabulka!$AI14,Přehled_body!$A$3:$A$130,0),MATCH(Tabulka!R$2,Přehled_body!$E$1:$ED$1,0)),)=0,0.00000000001,IFERROR(INDEX(Přehled_body!$E$3:$ED$130,MATCH(Tabulka!$AI14,Přehled_body!$A$3:$A$130,0),MATCH(Tabulka!R$2,Přehled_body!$E$1:$ED$1,0)),)))","v":0},{"$f":"IF(IFERROR(INDEX(Přehled_body!$E$3:$ED$130,MATCH(Tabulka!$AI14,Přehled_body!$A$3:$A$130,0),MATCH(Tabulka!S$2,Přehled_body!$E$1:$ED$1,0)),)=\"\",,IF(IFERROR(INDEX(Přehled_body!$E$3:$ED$130,MATCH(Tabulka!$AI14,Přehled_body!$A$3:$A$130,0),MATCH(Tabulka!S$2,Přehled_body!$E$1:$ED$1,0)),)=0,0.00000000001,IFERROR(INDEX(Přehled_body!$E$3:$ED$130,MATCH(Tabulka!$AI14,Přehled_body!$A$3:$A$130,0),MATCH(Tabulka!S$2,Přehled_body!$E$1:$ED$1,0)),)))","v":0},{"$f":"IF(IFERROR(INDEX(Přehled_body!$E$3:$ED$130,MATCH(Tabulka!$AI14,Přehled_body!$A$3:$A$130,0),MATCH(Tabulka!T$2,Přehled_body!$E$1:$ED$1,0)),)=\"\",,IF(IFERROR(INDEX(Přehled_body!$E$3:$ED$130,MATCH(Tabulka!$AI14,Přehled_body!$A$3:$A$130,0),MATCH(Tabulka!T$2,Přehled_body!$E$1:$ED$1,0)),)=0,0.00000000001,IFERROR(INDEX(Přehled_body!$E$3:$ED$130,MATCH(Tabulka!$AI14,Přehled_body!$A$3:$A$130,0),MATCH(Tabulka!T$2,Přehled_body!$E$1:$ED$1,0)),)))","v":0},{"$f":"IF(IFERROR(INDEX(Přehled_body!$E$3:$ED$130,MATCH(Tabulka!$AI14,Přehled_body!$A$3:$A$130,0),MATCH(Tabulka!U$2,Přehled_body!$E$1:$ED$1,0)),)=\"\",,IF(IFERROR(INDEX(Přehled_body!$E$3:$ED$130,MATCH(Tabulka!$AI14,Přehled_body!$A$3:$A$130,0),MATCH(Tabulka!U$2,Přehled_body!$E$1:$ED$1,0)),)=0,0.00000000001,IFERROR(INDEX(Přehled_body!$E$3:$ED$130,MATCH(Tabulka!$AI14,Přehled_body!$A$3:$A$130,0),MATCH(Tabulka!U$2,Přehled_body!$E$1:$ED$1,0)),)))","v":0},{"$f":"IF(IFERROR(INDEX(Přehled_body!$E$3:$ED$130,MATCH(Tabulka!$AI14,Přehled_body!$A$3:$A$130,0),MATCH(Tabulka!V$2,Přehled_body!$E$1:$ED$1,0)),)=\"\",,IF(IFERROR(INDEX(Přehled_body!$E$3:$ED$130,MATCH(Tabulka!$AI14,Přehled_body!$A$3:$A$130,0),MATCH(Tabulka!V$2,Přehled_body!$E$1:$ED$1,0)),)=0,0.00000000001,IFERROR(INDEX(Přehled_body!$E$3:$ED$130,MATCH(Tabulka!$AI14,Přehled_body!$A$3:$A$130,0),MATCH(Tabulka!V$2,Přehled_body!$E$1:$ED$1,0)),)))","v":0},{"$f":"IF(IFERROR(INDEX(Přehled_body!$E$3:$ED$130,MATCH(Tabulka!$AI14,Přehled_body!$A$3:$A$130,0),MATCH(Tabulka!W$2,Přehled_body!$E$1:$ED$1,0)),)=\"\",,IF(IFERROR(INDEX(Přehled_body!$E$3:$ED$130,MATCH(Tabulka!$AI14,Přehled_body!$A$3:$A$130,0),MATCH(Tabulka!W$2,Přehled_body!$E$1:$ED$1,0)),)=0,0.00000000001,IFERROR(INDEX(Přehled_body!$E$3:$ED$130,MATCH(Tabulka!$AI14,Přehled_body!$A$3:$A$130,0),MATCH(Tabulka!W$2,Přehled_body!$E$1:$ED$1,0)),)))","v":0},{"$f":"IF(IFERROR(INDEX(Přehled_body!$E$3:$ED$130,MATCH(Tabulka!$AI14,Přehled_body!$A$3:$A$130,0),MATCH(Tabulka!X$2,Přehled_body!$E$1:$ED$1,0)),)=\"\",,IF(IFERROR(INDEX(Přehled_body!$E$3:$ED$130,MATCH(Tabulka!$AI14,Přehled_body!$A$3:$A$130,0),MATCH(Tabulka!X$2,Přehled_body!$E$1:$ED$1,0)),)=0,0.00000000001,IFERROR(INDEX(Přehled_body!$E$3:$ED$130,MATCH(Tabulka!$AI14,Přehled_body!$A$3:$A$130,0),MATCH(Tabulka!X$2,Přehled_body!$E$1:$ED$1,0)),)))","v":0},{"$f":"IF(IFERROR(INDEX(Přehled_body!$E$3:$ED$130,MATCH(Tabulka!$AI14,Přehled_body!$A$3:$A$130,0),MATCH(Tabulka!Y$2,Přehled_body!$E$1:$ED$1,0)),)=\"\",,IF(IFERROR(INDEX(Přehled_body!$E$3:$ED$130,MATCH(Tabulka!$AI14,Přehled_body!$A$3:$A$130,0),MATCH(Tabulka!Y$2,Přehled_body!$E$1:$ED$1,0)),)=0,0.00000000001,IFERROR(INDEX(Přehled_body!$E$3:$ED$130,MATCH(Tabulka!$AI14,Přehled_body!$A$3:$A$130,0),MATCH(Tabulka!Y$2,Přehled_body!$E$1:$ED$1,0)),)))","v":0},{"$f":"IF(IFERROR(INDEX(Přehled_body!$E$3:$ED$130,MATCH(Tabulka!$AI14,Přehled_body!$A$3:$A$130,0),MATCH(Tabulka!Z$2,Přehled_body!$E$1:$ED$1,0)),)=\"\",,IF(IFERROR(INDEX(Přehled_body!$E$3:$ED$130,MATCH(Tabulka!$AI14,Přehled_body!$A$3:$A$130,0),MATCH(Tabulka!Z$2,Přehled_body!$E$1:$ED$1,0)),)=0,0.00000000001,IFERROR(INDEX(Přehled_body!$E$3:$ED$130,MATCH(Tabulka!$AI14,Přehled_body!$A$3:$A$130,0),MATCH(Tabulka!Z$2,Přehled_body!$E$1:$ED$1,0)),)))","v":0},{"$f":"IF(IFERROR(INDEX(Přehled_body!$E$3:$ED$130,MATCH(Tabulka!$AI14,Přehled_body!$A$3:$A$130,0),MATCH(Tabulka!AA$2,Přehled_body!$E$1:$ED$1,0)),)=\"\",,IF(IFERROR(INDEX(Přehled_body!$E$3:$ED$130,MATCH(Tabulka!$AI14,Přehled_body!$A$3:$A$130,0),MATCH(Tabulka!AA$2,Přehled_body!$E$1:$ED$1,0)),)=0,0.00000000001,IFERROR(INDEX(Přehled_body!$E$3:$ED$130,MATCH(Tabulka!$AI14,Přehled_body!$A$3:$A$130,0),MATCH(Tabulka!AA$2,Přehled_body!$E$1:$ED$1,0)),)))","v":0},{"$f":"IF(IFERROR(INDEX(Přehled_body!$E$3:$ED$130,MATCH(Tabulka!$AI14,Přehled_body!$A$3:$A$130,0),MATCH(Tabulka!AB$2,Přehled_body!$E$1:$ED$1,0)),)=\"\",,IF(IFERROR(INDEX(Přehled_body!$E$3:$ED$130,MATCH(Tabulka!$AI14,Přehled_body!$A$3:$A$130,0),MATCH(Tabulka!AB$2,Přehled_body!$E$1:$ED$1,0)),)=0,0.00000000001,IFERROR(INDEX(Přehled_body!$E$3:$ED$130,MATCH(Tabulka!$AI14,Přehled_body!$A$3:$A$130,0),MATCH(Tabulka!AB$2,Přehled_body!$E$1:$ED$1,0)),)))","v":0},{"$f":"IF(IFERROR(INDEX(Přehled_body!$E$3:$ED$130,MATCH(Tabulka!$AI14,Přehled_body!$A$3:$A$130,0),MATCH(Tabulka!AC$2,Přehled_body!$E$1:$ED$1,0)),)=\"\",,IF(IFERROR(INDEX(Přehled_body!$E$3:$ED$130,MATCH(Tabulka!$AI14,Přehled_body!$A$3:$A$130,0),MATCH(Tabulka!AC$2,Přehled_body!$E$1:$ED$1,0)),)=0,0.00000000001,IFERROR(INDEX(Přehled_body!$E$3:$ED$130,MATCH(Tabulka!$AI14,Přehled_body!$A$3:$A$130,0),MATCH(Tabulka!AC$2,Přehled_body!$E$1:$ED$1,0)),)))","v":0},{"$f":"IF(IFERROR(INDEX(Přehled_body!$E$3:$ED$130,MATCH(Tabulka!$AI14,Přehled_body!$A$3:$A$130,0),MATCH(Tabulka!AD$2,Přehled_body!$E$1:$ED$1,0)),)=\"\",,IF(IFERROR(INDEX(Přehled_body!$E$3:$ED$130,MATCH(Tabulka!$AI14,Přehled_body!$A$3:$A$130,0),MATCH(Tabulka!AD$2,Přehled_body!$E$1:$ED$1,0)),)=0,0.00000000001,IFERROR(INDEX(Přehled_body!$E$3:$ED$130,MATCH(Tabulka!$AI14,Přehled_body!$A$3:$A$130,0),MATCH(Tabulka!AD$2,Přehled_body!$E$1:$ED$1,0)),)))","v":0},{"$f":"IF(SUM($D$14:$AD$18)<1,-90000,SUM(D14:AD14))","v":-90000},null,{"$f":"COUNTIF(D14:AD14,\">0\")","v":0},null,{"$f":"CONCATENATE($B$15,\" \",$B$16,C14)","v":"Petr WeinerVýhry"}]
[{"$f":"CONCATENATE(B15,\" \",B16)","v":"Petr Weiner"},"Petr","Prohry",{"$f":"IF(IFERROR(INDEX(Přehled_body!$E$3:$ED$130,MATCH(Tabulka!$AI15,Přehled_body!$A$3:$A$130,0),MATCH(Tabulka!D$2,Přehled_body!$E$1:$ED$1,0)),)=\"\",,IF(IFERROR(INDEX(Přehled_body!$E$3:$ED$130,MATCH(Tabulka!$AI15,Přehled_body!$A$3:$A$130,0),MATCH(Tabulka!D$2,Přehled_body!$E$1:$ED$1,0)),)=0,0.00000000001,IFERROR(INDEX(Přehled_body!$E$3:$ED$130,MATCH(Tabulka!$AI15,Přehled_body!$A$3:$A$130,0),MATCH(Tabulka!D$2,Přehled_body!$E$1:$ED$1,0)),)))","v":0},{"$f":"IF(IFERROR(INDEX(Přehled_body!$E$3:$ED$130,MATCH(Tabulka!$AI15,Přehled_body!$A$3:$A$130,0),MATCH(Tabulka!E$2,Přehled_body!$E$1:$ED$1,0)),)=\"\",,IF(IFERROR(INDEX(Přehled_body!$E$3:$ED$130,MATCH(Tabulka!$AI15,Přehled_body!$A$3:$A$130,0),MATCH(Tabulka!E$2,Přehled_body!$E$1:$ED$1,0)),)=0,0.00000000001,IFERROR(INDEX(Přehled_body!$E$3:$ED$130,MATCH(Tabulka!$AI15,Přehled_body!$A$3:$A$130,0),MATCH(Tabulka!E$2,Přehled_body!$E$1:$ED$1,0)),)))","v":0},{"$f":"IF(IFERROR(INDEX(Přehled_body!$E$3:$ED$130,MATCH(Tabulka!$AI15,Přehled_body!$A$3:$A$130,0),MATCH(Tabulka!F$2,Přehled_body!$E$1:$ED$1,0)),)=\"\",,IF(IFERROR(INDEX(Přehled_body!$E$3:$ED$130,MATCH(Tabulka!$AI15,Přehled_body!$A$3:$A$130,0),MATCH(Tabulka!F$2,Přehled_body!$E$1:$ED$1,0)),)=0,0.00000000001,IFERROR(INDEX(Přehled_body!$E$3:$ED$130,MATCH(Tabulka!$AI15,Přehled_body!$A$3:$A$130,0),MATCH(Tabulka!F$2,Přehled_body!$E$1:$ED$1,0)),)))","v":0},{"$f":"IF(IFERROR(INDEX(Přehled_body!$E$3:$ED$130,MATCH(Tabulka!$AI15,Přehled_body!$A$3:$A$130,0),MATCH(Tabulka!G$2,Přehled_body!$E$1:$ED$1,0)),)=\"\",,IF(IFERROR(INDEX(Přehled_body!$E$3:$ED$130,MATCH(Tabulka!$AI15,Přehled_body!$A$3:$A$130,0),MATCH(Tabulka!G$2,Přehled_body!$E$1:$ED$1,0)),)=0,0.00000000001,IFERROR(INDEX(Přehled_body!$E$3:$ED$130,MATCH(Tabulka!$AI15,Přehled_body!$A$3:$A$130,0),MATCH(Tabulka!G$2,Přehled_body!$E$1:$ED$1,0)),)))","v":0},{"$f":"IF(IFERROR(INDEX(Přehled_body!$E$3:$ED$130,MATCH(Tabulka!$AI15,Přehled_body!$A$3:$A$130,0),MATCH(Tabulka!H$2,Přehled_body!$E$1:$ED$1,0)),)=\"\",,IF(IFERROR(INDEX(Přehled_body!$E$3:$ED$130,MATCH(Tabulka!$AI15,Přehled_body!$A$3:$A$130,0),MATCH(Tabulka!H$2,Přehled_body!$E$1:$ED$1,0)),)=0,0.00000000001,IFERROR(INDEX(Přehled_body!$E$3:$ED$130,MATCH(Tabulka!$AI15,Přehled_body!$A$3:$A$130,0),MATCH(Tabulka!H$2,Přehled_body!$E$1:$ED$1,0)),)))","v":0},{"$f":"IF(IFERROR(INDEX(Přehled_body!$E$3:$ED$130,MATCH(Tabulka!$AI15,Přehled_body!$A$3:$A$130,0),MATCH(Tabulka!I$2,Přehled_body!$E$1:$ED$1,0)),)=\"\",,IF(IFERROR(INDEX(Přehled_body!$E$3:$ED$130,MATCH(Tabulka!$AI15,Přehled_body!$A$3:$A$130,0),MATCH(Tabulka!I$2,Přehled_body!$E$1:$ED$1,0)),)=0,0.00000000001,IFERROR(INDEX(Přehled_body!$E$3:$ED$130,MATCH(Tabulka!$AI15,Přehled_body!$A$3:$A$130,0),MATCH(Tabulka!I$2,Přehled_body!$E$1:$ED$1,0)),)))","v":0},{"$f":"IF(IFERROR(INDEX(Přehled_body!$E$3:$ED$130,MATCH(Tabulka!$AI15,Přehled_body!$A$3:$A$130,0),MATCH(Tabulka!J$2,Přehled_body!$E$1:$ED$1,0)),)=\"\",,IF(IFERROR(INDEX(Přehled_body!$E$3:$ED$130,MATCH(Tabulka!$AI15,Přehled_body!$A$3:$A$130,0),MATCH(Tabulka!J$2,Přehled_body!$E$1:$ED$1,0)),)=0,0.00000000001,IFERROR(INDEX(Přehled_body!$E$3:$ED$130,MATCH(Tabulka!$AI15,Přehled_body!$A$3:$A$130,0),MATCH(Tabulka!J$2,Přehled_body!$E$1:$ED$1,0)),)))","v":0},{"$f":"IF(IFERROR(INDEX(Přehled_body!$E$3:$ED$130,MATCH(Tabulka!$AI15,Přehled_body!$A$3:$A$130,0),MATCH(Tabulka!K$2,Přehled_body!$E$1:$ED$1,0)),)=\"\",,IF(IFERROR(INDEX(Přehled_body!$E$3:$ED$130,MATCH(Tabulka!$AI15,Přehled_body!$A$3:$A$130,0),MATCH(Tabulka!K$2,Přehled_body!$E$1:$ED$1,0)),)=0,0.00000000001,IFERROR(INDEX(Přehled_body!$E$3:$ED$130,MATCH(Tabulka!$AI15,Přehled_body!$A$3:$A$130,0),MATCH(Tabulka!K$2,Přehled_body!$E$1:$ED$1,0)),)))","v":0},{"$f":"IF(IFERROR(INDEX(Přehled_body!$E$3:$ED$130,MATCH(Tabulka!$AI15,Přehled_body!$A$3:$A$130,0),MATCH(Tabulka!L$2,Přehled_body!$E$1:$ED$1,0)),)=\"\",,IF(IFERROR(INDEX(Přehled_body!$E$3:$ED$130,MATCH(Tabulka!$AI15,Přehled_body!$A$3:$A$130,0),MATCH(Tabulka!L$2,Přehled_body!$E$1:$ED$1,0)),)=0,0.00000000001,IFERROR(INDEX(Přehled_body!$E$3:$ED$130,MATCH(Tabulka!$AI15,Přehled_body!$A$3:$A$130,0),MATCH(Tabulka!L$2,Přehled_body!$E$1:$ED$1,0)),)))","v":0},{"$f":"IF(IFERROR(INDEX(Přehled_body!$E$3:$ED$130,MATCH(Tabulka!$AI15,Přehled_body!$A$3:$A$130,0),MATCH(Tabulka!M$2,Přehled_body!$E$1:$ED$1,0)),)=\"\",,IF(IFERROR(INDEX(Přehled_body!$E$3:$ED$130,MATCH(Tabulka!$AI15,Přehled_body!$A$3:$A$130,0),MATCH(Tabulka!M$2,Přehled_body!$E$1:$ED$1,0)),)=0,0.00000000001,IFERROR(INDEX(Přehled_body!$E$3:$ED$130,MATCH(Tabulka!$AI15,Přehled_body!$A$3:$A$130,0),MATCH(Tabulka!M$2,Přehled_body!$E$1:$ED$1,0)),)))","v":0},{"$f":"IF(IFERROR(INDEX(Přehled_body!$E$3:$ED$130,MATCH(Tabulka!$AI15,Přehled_body!$A$3:$A$130,0),MATCH(Tabulka!N$2,Přehled_body!$E$1:$ED$1,0)),)=\"\",,IF(IFERROR(INDEX(Přehled_body!$E$3:$ED$130,MATCH(Tabulka!$AI15,Přehled_body!$A$3:$A$130,0),MATCH(Tabulka!N$2,Přehled_body!$E$1:$ED$1,0)),)=0,0.00000000001,IFERROR(INDEX(Přehled_body!$E$3:$ED$130,MATCH(Tabulka!$AI15,Přehled_body!$A$3:$A$130,0),MATCH(Tabulka!N$2,Přehled_body!$E$1:$ED$1,0)),)))","v":0},{"$f":"IF(IFERROR(INDEX(Přehled_body!$E$3:$ED$130,MATCH(Tabulka!$AI15,Přehled_body!$A$3:$A$130,0),MATCH(Tabulka!O$2,Přehled_body!$E$1:$ED$1,0)),)=\"\",,IF(IFERROR(INDEX(Přehled_body!$E$3:$ED$130,MATCH(Tabulka!$AI15,Přehled_body!$A$3:$A$130,0),MATCH(Tabulka!O$2,Přehled_body!$E$1:$ED$1,0)),)=0,0.00000000001,IFERROR(INDEX(Přehled_body!$E$3:$ED$130,MATCH(Tabulka!$AI15,Přehled_body!$A$3:$A$130,0),MATCH(Tabulka!O$2,Přehled_body!$E$1:$ED$1,0)),)))","v":0},{"$f":"IF(IFERROR(INDEX(Přehled_body!$E$3:$ED$130,MATCH(Tabulka!$AI15,Přehled_body!$A$3:$A$130,0),MATCH(Tabulka!P$2,Přehled_body!$E$1:$ED$1,0)),)=\"\",,IF(IFERROR(INDEX(Přehled_body!$E$3:$ED$130,MATCH(Tabulka!$AI15,Přehled_body!$A$3:$A$130,0),MATCH(Tabulka!P$2,Přehled_body!$E$1:$ED$1,0)),)=0,0.00000000001,IFERROR(INDEX(Přehled_body!$E$3:$ED$130,MATCH(Tabulka!$AI15,Přehled_body!$A$3:$A$130,0),MATCH(Tabulka!P$2,Přehled_body!$E$1:$ED$1,0)),)))","v":0},{"$f":"IF(IFERROR(INDEX(Přehled_body!$E$3:$ED$130,MATCH(Tabulka!$AI15,Přehled_body!$A$3:$A$130,0),MATCH(Tabulka!Q$2,Přehled_body!$E$1:$ED$1,0)),)=\"\",,IF(IFERROR(INDEX(Přehled_body!$E$3:$ED$130,MATCH(Tabulka!$AI15,Přehled_body!$A$3:$A$130,0),MATCH(Tabulka!Q$2,Přehled_body!$E$1:$ED$1,0)),)=0,0.00000000001,IFERROR(INDEX(Přehled_body!$E$3:$ED$130,MATCH(Tabulka!$AI15,Přehled_body!$A$3:$A$130,0),MATCH(Tabulka!Q$2,Přehled_body!$E$1:$ED$1,0)),)))","v":0},{"$f":"IF(IFERROR(INDEX(Přehled_body!$E$3:$ED$130,MATCH(Tabulka!$AI15,Přehled_body!$A$3:$A$130,0),MATCH(Tabulka!R$2,Přehled_body!$E$1:$ED$1,0)),)=\"\",,IF(IFERROR(INDEX(Přehled_body!$E$3:$ED$130,MATCH(Tabulka!$AI15,Přehled_body!$A$3:$A$130,0),MATCH(Tabulka!R$2,Přehled_body!$E$1:$ED$1,0)),)=0,0.00000000001,IFERROR(INDEX(Přehled_body!$E$3:$ED$130,MATCH(Tabulka!$AI15,Přehled_body!$A$3:$A$130,0),MATCH(Tabulka!R$2,Přehled_body!$E$1:$ED$1,0)),)))","v":0},{"$f":"IF(IFERROR(INDEX(Přehled_body!$E$3:$ED$130,MATCH(Tabulka!$AI15,Přehled_body!$A$3:$A$130,0),MATCH(Tabulka!S$2,Přehled_body!$E$1:$ED$1,0)),)=\"\",,IF(IFERROR(INDEX(Přehled_body!$E$3:$ED$130,MATCH(Tabulka!$AI15,Přehled_body!$A$3:$A$130,0),MATCH(Tabulka!S$2,Přehled_body!$E$1:$ED$1,0)),)=0,0.00000000001,IFERROR(INDEX(Přehled_body!$E$3:$ED$130,MATCH(Tabulka!$AI15,Přehled_body!$A$3:$A$130,0),MATCH(Tabulka!S$2,Přehled_body!$E$1:$ED$1,0)),)))","v":0},{"$f":"IF(IFERROR(INDEX(Přehled_body!$E$3:$ED$130,MATCH(Tabulka!$AI15,Přehled_body!$A$3:$A$130,0),MATCH(Tabulka!T$2,Přehled_body!$E$1:$ED$1,0)),)=\"\",,IF(IFERROR(INDEX(Přehled_body!$E$3:$ED$130,MATCH(Tabulka!$AI15,Přehled_body!$A$3:$A$130,0),MATCH(Tabulka!T$2,Přehled_body!$E$1:$ED$1,0)),)=0,0.00000000001,IFERROR(INDEX(Přehled_body!$E$3:$ED$130,MATCH(Tabulka!$AI15,Přehled_body!$A$3:$A$130,0),MATCH(Tabulka!T$2,Přehled_body!$E$1:$ED$1,0)),)))","v":0},{"$f":"IF(IFERROR(INDEX(Přehled_body!$E$3:$ED$130,MATCH(Tabulka!$AI15,Přehled_body!$A$3:$A$130,0),MATCH(Tabulka!U$2,Přehled_body!$E$1:$ED$1,0)),)=\"\",,IF(IFERROR(INDEX(Přehled_body!$E$3:$ED$130,MATCH(Tabulka!$AI15,Přehled_body!$A$3:$A$130,0),MATCH(Tabulka!U$2,Přehled_body!$E$1:$ED$1,0)),)=0,0.00000000001,IFERROR(INDEX(Přehled_body!$E$3:$ED$130,MATCH(Tabulka!$AI15,Přehled_body!$A$3:$A$130,0),MATCH(Tabulka!U$2,Přehled_body!$E$1:$ED$1,0)),)))","v":0},{"$f":"IF(IFERROR(INDEX(Přehled_body!$E$3:$ED$130,MATCH(Tabulka!$AI15,Přehled_body!$A$3:$A$130,0),MATCH(Tabulka!V$2,Přehled_body!$E$1:$ED$1,0)),)=\"\",,IF(IFERROR(INDEX(Přehled_body!$E$3:$ED$130,MATCH(Tabulka!$AI15,Přehled_body!$A$3:$A$130,0),MATCH(Tabulka!V$2,Přehled_body!$E$1:$ED$1,0)),)=0,0.00000000001,IFERROR(INDEX(Přehled_body!$E$3:$ED$130,MATCH(Tabulka!$AI15,Přehled_body!$A$3:$A$130,0),MATCH(Tabulka!V$2,Přehled_body!$E$1:$ED$1,0)),)))","v":0},{"$f":"IF(IFERROR(INDEX(Přehled_body!$E$3:$ED$130,MATCH(Tabulka!$AI15,Přehled_body!$A$3:$A$130,0),MATCH(Tabulka!W$2,Přehled_body!$E$1:$ED$1,0)),)=\"\",,IF(IFERROR(INDEX(Přehled_body!$E$3:$ED$130,MATCH(Tabulka!$AI15,Přehled_body!$A$3:$A$130,0),MATCH(Tabulka!W$2,Přehled_body!$E$1:$ED$1,0)),)=0,0.00000000001,IFERROR(INDEX(Přehled_body!$E$3:$ED$130,MATCH(Tabulka!$AI15,Přehled_body!$A$3:$A$130,0),MATCH(Tabulka!W$2,Přehled_body!$E$1:$ED$1,0)),)))","v":0},{"$f":"IF(IFERROR(INDEX(Přehled_body!$E$3:$ED$130,MATCH(Tabulka!$AI15,Přehled_body!$A$3:$A$130,0),MATCH(Tabulka!X$2,Přehled_body!$E$1:$ED$1,0)),)=\"\",,IF(IFERROR(INDEX(Přehled_body!$E$3:$ED$130,MATCH(Tabulka!$AI15,Přehled_body!$A$3:$A$130,0),MATCH(Tabulka!X$2,Přehled_body!$E$1:$ED$1,0)),)=0,0.00000000001,IFERROR(INDEX(Přehled_body!$E$3:$ED$130,MATCH(Tabulka!$AI15,Přehled_body!$A$3:$A$130,0),MATCH(Tabulka!X$2,Přehled_body!$E$1:$ED$1,0)),)))","v":0},{"$f":"IF(IFERROR(INDEX(Přehled_body!$E$3:$ED$130,MATCH(Tabulka!$AI15,Přehled_body!$A$3:$A$130,0),MATCH(Tabulka!Y$2,Přehled_body!$E$1:$ED$1,0)),)=\"\",,IF(IFERROR(INDEX(Přehled_body!$E$3:$ED$130,MATCH(Tabulka!$AI15,Přehled_body!$A$3:$A$130,0),MATCH(Tabulka!Y$2,Přehled_body!$E$1:$ED$1,0)),)=0,0.00000000001,IFERROR(INDEX(Přehled_body!$E$3:$ED$130,MATCH(Tabulka!$AI15,Přehled_body!$A$3:$A$130,0),MATCH(Tabulka!Y$2,Přehled_body!$E$1:$ED$1,0)),)))","v":0},{"$f":"IF(IFERROR(INDEX(Přehled_body!$E$3:$ED$130,MATCH(Tabulka!$AI15,Přehled_body!$A$3:$A$130,0),MATCH(Tabulka!Z$2,Přehled_body!$E$1:$ED$1,0)),)=\"\",,IF(IFERROR(INDEX(Přehled_body!$E$3:$ED$130,MATCH(Tabulka!$AI15,Přehled_body!$A$3:$A$130,0),MATCH(Tabulka!Z$2,Přehled_body!$E$1:$ED$1,0)),)=0,0.00000000001,IFERROR(INDEX(Přehled_body!$E$3:$ED$130,MATCH(Tabulka!$AI15,Přehled_body!$A$3:$A$130,0),MATCH(Tabulka!Z$2,Přehled_body!$E$1:$ED$1,0)),)))","v":0},{"$f":"IF(IFERROR(INDEX(Přehled_body!$E$3:$ED$130,MATCH(Tabulka!$AI15,Přehled_body!$A$3:$A$130,0),MATCH(Tabulka!AA$2,Přehled_body!$E$1:$ED$1,0)),)=\"\",,IF(IFERROR(INDEX(Přehled_body!$E$3:$ED$130,MATCH(Tabulka!$AI15,Přehled_body!$A$3:$A$130,0),MATCH(Tabulka!AA$2,Přehled_body!$E$1:$ED$1,0)),)=0,0.00000000001,IFERROR(INDEX(Přehled_body!$E$3:$ED$130,MATCH(Tabulka!$AI15,Přehled_body!$A$3:$A$130,0),MATCH(Tabulka!AA$2,Přehled_body!$E$1:$ED$1,0)),)))","v":0},{"$f":"IF(IFERROR(INDEX(Přehled_body!$E$3:$ED$130,MATCH(Tabulka!$AI15,Přehled_body!$A$3:$A$130,0),MATCH(Tabulka!AB$2,Přehled_body!$E$1:$ED$1,0)),)=\"\",,IF(IFERROR(INDEX(Přehled_body!$E$3:$ED$130,MATCH(Tabulka!$AI15,Přehled_body!$A$3:$A$130,0),MATCH(Tabulka!AB$2,Přehled_body!$E$1:$ED$1,0)),)=0,0.00000000001,IFERROR(INDEX(Přehled_body!$E$3:$ED$130,MATCH(Tabulka!$AI15,Přehled_body!$A$3:$A$130,0),MATCH(Tabulka!AB$2,Přehled_body!$E$1:$ED$1,0)),)))","v":0},{"$f":"IF(IFERROR(INDEX(Přehled_body!$E$3:$ED$130,MATCH(Tabulka!$AI15,Přehled_body!$A$3:$A$130,0),MATCH(Tabulka!AC$2,Přehled_body!$E$1:$ED$1,0)),)=\"\",,IF(IFERROR(INDEX(Přehled_body!$E$3:$ED$130,MATCH(Tabulka!$AI15,Přehled_body!$A$3:$A$130,0),MATCH(Tabulka!AC$2,Přehled_body!$E$1:$ED$1,0)),)=0,0.00000000001,IFERROR(INDEX(Přehled_body!$E$3:$ED$130,MATCH(Tabulka!$AI15,Přehled_body!$A$3:$A$130,0),MATCH(Tabulka!AC$2,Přehled_body!$E$1:$ED$1,0)),)))","v":0},{"$f":"IF(IFERROR(INDEX(Přehled_body!$E$3:$ED$130,MATCH(Tabulka!$AI15,Přehled_body!$A$3:$A$130,0),MATCH(Tabulka!AD$2,Přehled_body!$E$1:$ED$1,0)),)=\"\",,IF(IFERROR(INDEX(Přehled_body!$E$3:$ED$130,MATCH(Tabulka!$AI15,Přehled_body!$A$3:$A$130,0),MATCH(Tabulka!AD$2,Přehled_body!$E$1:$ED$1,0)),)=0,0.00000000001,IFERROR(INDEX(Přehled_body!$E$3:$ED$130,MATCH(Tabulka!$AI15,Přehled_body!$A$3:$A$130,0),MATCH(Tabulka!AD$2,Přehled_body!$E$1:$ED$1,0)),)))","v":0},{"$f":"IF(SUM($D$14:$AD$18)<1,-90000,SUM(D15:AD15))","v":-90000},{"$f":"IF(AE18>0.9,SUM(AE14-AE15)+0.00000001,0)","v":0},null,null,{"$f":"CONCATENATE($B$15,\" \",$B$16,C15)","v":"Petr WeinerProhry"}]
[{"$f":"CONCATENATE(B16,\" \",B15)","v":"Weiner Petr"},"Weiner","Placeno panáků",{"$f":"IF(IFERROR(INDEX(Přehled_body!$E$3:$ED$130,MATCH(Tabulka!$AI16,Přehled_body!$A$3:$A$130,0),MATCH(Tabulka!D$2,Přehled_body!$E$1:$ED$1,0)),)=\"\",,IF(IFERROR(INDEX(Přehled_body!$E$3:$ED$130,MATCH(Tabulka!$AI16,Přehled_body!$A$3:$A$130,0),MATCH(Tabulka!D$2,Přehled_body!$E$1:$ED$1,0)),)=0,0.00000000001,IFERROR(INDEX(Přehled_body!$E$3:$ED$130,MATCH(Tabulka!$AI16,Přehled_body!$A$3:$A$130,0),MATCH(Tabulka!D$2,Přehled_body!$E$1:$ED$1,0)),)))","v":0},{"$f":"IF(IFERROR(INDEX(Přehled_body!$E$3:$ED$130,MATCH(Tabulka!$AI16,Přehled_body!$A$3:$A$130,0),MATCH(Tabulka!E$2,Přehled_body!$E$1:$ED$1,0)),)=\"\",,IF(IFERROR(INDEX(Přehled_body!$E$3:$ED$130,MATCH(Tabulka!$AI16,Přehled_body!$A$3:$A$130,0),MATCH(Tabulka!E$2,Přehled_body!$E$1:$ED$1,0)),)=0,0.00000000001,IFERROR(INDEX(Přehled_body!$E$3:$ED$130,MATCH(Tabulka!$AI16,Přehled_body!$A$3:$A$130,0),MATCH(Tabulka!E$2,Přehled_body!$E$1:$ED$1,0)),)))","v":0},{"$f":"IF(IFERROR(INDEX(Přehled_body!$E$3:$ED$130,MATCH(Tabulka!$AI16,Přehled_body!$A$3:$A$130,0),MATCH(Tabulka!F$2,Přehled_body!$E$1:$ED$1,0)),)=\"\",,IF(IFERROR(INDEX(Přehled_body!$E$3:$ED$130,MATCH(Tabulka!$AI16,Přehled_body!$A$3:$A$130,0),MATCH(Tabulka!F$2,Přehled_body!$E$1:$ED$1,0)),)=0,0.00000000001,IFERROR(INDEX(Přehled_body!$E$3:$ED$130,MATCH(Tabulka!$AI16,Přehled_body!$A$3:$A$130,0),MATCH(Tabulka!F$2,Přehled_body!$E$1:$ED$1,0)),)))","v":0},{"$f":"IF(IFERROR(INDEX(Přehled_body!$E$3:$ED$130,MATCH(Tabulka!$AI16,Přehled_body!$A$3:$A$130,0),MATCH(Tabulka!G$2,Přehled_body!$E$1:$ED$1,0)),)=\"\",,IF(IFERROR(INDEX(Přehled_body!$E$3:$ED$130,MATCH(Tabulka!$AI16,Přehled_body!$A$3:$A$130,0),MATCH(Tabulka!G$2,Přehled_body!$E$1:$ED$1,0)),)=0,0.00000000001,IFERROR(INDEX(Přehled_body!$E$3:$ED$130,MATCH(Tabulka!$AI16,Přehled_body!$A$3:$A$130,0),MATCH(Tabulka!G$2,Přehled_body!$E$1:$ED$1,0)),)))","v":0},{"$f":"IF(IFERROR(INDEX(Přehled_body!$E$3:$ED$130,MATCH(Tabulka!$AI16,Přehled_body!$A$3:$A$130,0),MATCH(Tabulka!H$2,Přehled_body!$E$1:$ED$1,0)),)=\"\",,IF(IFERROR(INDEX(Přehled_body!$E$3:$ED$130,MATCH(Tabulka!$AI16,Přehled_body!$A$3:$A$130,0),MATCH(Tabulka!H$2,Přehled_body!$E$1:$ED$1,0)),)=0,0.00000000001,IFERROR(INDEX(Přehled_body!$E$3:$ED$130,MATCH(Tabulka!$AI16,Přehled_body!$A$3:$A$130,0),MATCH(Tabulka!H$2,Přehled_body!$E$1:$ED$1,0)),)))","v":0},{"$f":"IF(IFERROR(INDEX(Přehled_body!$E$3:$ED$130,MATCH(Tabulka!$AI16,Přehled_body!$A$3:$A$130,0),MATCH(Tabulka!I$2,Přehled_body!$E$1:$ED$1,0)),)=\"\",,IF(IFERROR(INDEX(Přehled_body!$E$3:$ED$130,MATCH(Tabulka!$AI16,Přehled_body!$A$3:$A$130,0),MATCH(Tabulka!I$2,Přehled_body!$E$1:$ED$1,0)),)=0,0.00000000001,IFERROR(INDEX(Přehled_body!$E$3:$ED$130,MATCH(Tabulka!$AI16,Přehled_body!$A$3:$A$130,0),MATCH(Tabulka!I$2,Přehled_body!$E$1:$ED$1,0)),)))","v":0},{"$f":"IF(IFERROR(INDEX(Přehled_body!$E$3:$ED$130,MATCH(Tabulka!$AI16,Přehled_body!$A$3:$A$130,0),MATCH(Tabulka!J$2,Přehled_body!$E$1:$ED$1,0)),)=\"\",,IF(IFERROR(INDEX(Přehled_body!$E$3:$ED$130,MATCH(Tabulka!$AI16,Přehled_body!$A$3:$A$130,0),MATCH(Tabulka!J$2,Přehled_body!$E$1:$ED$1,0)),)=0,0.00000000001,IFERROR(INDEX(Přehled_body!$E$3:$ED$130,MATCH(Tabulka!$AI16,Přehled_body!$A$3:$A$130,0),MATCH(Tabulka!J$2,Přehled_body!$E$1:$ED$1,0)),)))","v":0},{"$f":"IF(IFERROR(INDEX(Přehled_body!$E$3:$ED$130,MATCH(Tabulka!$AI16,Přehled_body!$A$3:$A$130,0),MATCH(Tabulka!K$2,Přehled_body!$E$1:$ED$1,0)),)=\"\",,IF(IFERROR(INDEX(Přehled_body!$E$3:$ED$130,MATCH(Tabulka!$AI16,Přehled_body!$A$3:$A$130,0),MATCH(Tabulka!K$2,Přehled_body!$E$1:$ED$1,0)),)=0,0.00000000001,IFERROR(INDEX(Přehled_body!$E$3:$ED$130,MATCH(Tabulka!$AI16,Přehled_body!$A$3:$A$130,0),MATCH(Tabulka!K$2,Přehled_body!$E$1:$ED$1,0)),)))","v":0},{"$f":"IF(IFERROR(INDEX(Přehled_body!$E$3:$ED$130,MATCH(Tabulka!$AI16,Přehled_body!$A$3:$A$130,0),MATCH(Tabulka!L$2,Přehled_body!$E$1:$ED$1,0)),)=\"\",,IF(IFERROR(INDEX(Přehled_body!$E$3:$ED$130,MATCH(Tabulka!$AI16,Přehled_body!$A$3:$A$130,0),MATCH(Tabulka!L$2,Přehled_body!$E$1:$ED$1,0)),)=0,0.00000000001,IFERROR(INDEX(Přehled_body!$E$3:$ED$130,MATCH(Tabulka!$AI16,Přehled_body!$A$3:$A$130,0),MATCH(Tabulka!L$2,Přehled_body!$E$1:$ED$1,0)),)))","v":0},{"$f":"IF(IFERROR(INDEX(Přehled_body!$E$3:$ED$130,MATCH(Tabulka!$AI16,Přehled_body!$A$3:$A$130,0),MATCH(Tabulka!M$2,Přehled_body!$E$1:$ED$1,0)),)=\"\",,IF(IFERROR(INDEX(Přehled_body!$E$3:$ED$130,MATCH(Tabulka!$AI16,Přehled_body!$A$3:$A$130,0),MATCH(Tabulka!M$2,Přehled_body!$E$1:$ED$1,0)),)=0,0.00000000001,IFERROR(INDEX(Přehled_body!$E$3:$ED$130,MATCH(Tabulka!$AI16,Přehled_body!$A$3:$A$130,0),MATCH(Tabulka!M$2,Přehled_body!$E$1:$ED$1,0)),)))","v":0},{"$f":"IF(IFERROR(INDEX(Přehled_body!$E$3:$ED$130,MATCH(Tabulka!$AI16,Přehled_body!$A$3:$A$130,0),MATCH(Tabulka!N$2,Přehled_body!$E$1:$ED$1,0)),)=\"\",,IF(IFERROR(INDEX(Přehled_body!$E$3:$ED$130,MATCH(Tabulka!$AI16,Přehled_body!$A$3:$A$130,0),MATCH(Tabulka!N$2,Přehled_body!$E$1:$ED$1,0)),)=0,0.00000000001,IFERROR(INDEX(Přehled_body!$E$3:$ED$130,MATCH(Tabulka!$AI16,Přehled_body!$A$3:$A$130,0),MATCH(Tabulka!N$2,Přehled_body!$E$1:$ED$1,0)),)))","v":0},{"$f":"IF(IFERROR(INDEX(Přehled_body!$E$3:$ED$130,MATCH(Tabulka!$AI16,Přehled_body!$A$3:$A$130,0),MATCH(Tabulka!O$2,Přehled_body!$E$1:$ED$1,0)),)=\"\",,IF(IFERROR(INDEX(Přehled_body!$E$3:$ED$130,MATCH(Tabulka!$AI16,Přehled_body!$A$3:$A$130,0),MATCH(Tabulka!O$2,Přehled_body!$E$1:$ED$1,0)),)=0,0.00000000001,IFERROR(INDEX(Přehled_body!$E$3:$ED$130,MATCH(Tabulka!$AI16,Přehled_body!$A$3:$A$130,0),MATCH(Tabulka!O$2,Přehled_body!$E$1:$ED$1,0)),)))","v":0},{"$f":"IF(IFERROR(INDEX(Přehled_body!$E$3:$ED$130,MATCH(Tabulka!$AI16,Přehled_body!$A$3:$A$130,0),MATCH(Tabulka!P$2,Přehled_body!$E$1:$ED$1,0)),)=\"\",,IF(IFERROR(INDEX(Přehled_body!$E$3:$ED$130,MATCH(Tabulka!$AI16,Přehled_body!$A$3:$A$130,0),MATCH(Tabulka!P$2,Přehled_body!$E$1:$ED$1,0)),)=0,0.00000000001,IFERROR(INDEX(Přehled_body!$E$3:$ED$130,MATCH(Tabulka!$AI16,Přehled_body!$A$3:$A$130,0),MATCH(Tabulka!P$2,Přehled_body!$E$1:$ED$1,0)),)))","v":0},{"$f":"IF(IFERROR(INDEX(Přehled_body!$E$3:$ED$130,MATCH(Tabulka!$AI16,Přehled_body!$A$3:$A$130,0),MATCH(Tabulka!Q$2,Přehled_body!$E$1:$ED$1,0)),)=\"\",,IF(IFERROR(INDEX(Přehled_body!$E$3:$ED$130,MATCH(Tabulka!$AI16,Přehled_body!$A$3:$A$130,0),MATCH(Tabulka!Q$2,Přehled_body!$E$1:$ED$1,0)),)=0,0.00000000001,IFERROR(INDEX(Přehled_body!$E$3:$ED$130,MATCH(Tabulka!$AI16,Přehled_body!$A$3:$A$130,0),MATCH(Tabulka!Q$2,Přehled_body!$E$1:$ED$1,0)),)))","v":0},{"$f":"IF(IFERROR(INDEX(Přehled_body!$E$3:$ED$130,MATCH(Tabulka!$AI16,Přehled_body!$A$3:$A$130,0),MATCH(Tabulka!R$2,Přehled_body!$E$1:$ED$1,0)),)=\"\",,IF(IFERROR(INDEX(Přehled_body!$E$3:$ED$130,MATCH(Tabulka!$AI16,Přehled_body!$A$3:$A$130,0),MATCH(Tabulka!R$2,Přehled_body!$E$1:$ED$1,0)),)=0,0.00000000001,IFERROR(INDEX(Přehled_body!$E$3:$ED$130,MATCH(Tabulka!$AI16,Přehled_body!$A$3:$A$130,0),MATCH(Tabulka!R$2,Přehled_body!$E$1:$ED$1,0)),)))","v":0},{"$f":"IF(IFERROR(INDEX(Přehled_body!$E$3:$ED$130,MATCH(Tabulka!$AI16,Přehled_body!$A$3:$A$130,0),MATCH(Tabulka!S$2,Přehled_body!$E$1:$ED$1,0)),)=\"\",,IF(IFERROR(INDEX(Přehled_body!$E$3:$ED$130,MATCH(Tabulka!$AI16,Přehled_body!$A$3:$A$130,0),MATCH(Tabulka!S$2,Přehled_body!$E$1:$ED$1,0)),)=0,0.00000000001,IFERROR(INDEX(Přehled_body!$E$3:$ED$130,MATCH(Tabulka!$AI16,Přehled_body!$A$3:$A$130,0),MATCH(Tabulka!S$2,Přehled_body!$E$1:$ED$1,0)),)))","v":0},{"$f":"IF(IFERROR(INDEX(Přehled_body!$E$3:$ED$130,MATCH(Tabulka!$AI16,Přehled_body!$A$3:$A$130,0),MATCH(Tabulka!T$2,Přehled_body!$E$1:$ED$1,0)),)=\"\",,IF(IFERROR(INDEX(Přehled_body!$E$3:$ED$130,MATCH(Tabulka!$AI16,Přehled_body!$A$3:$A$130,0),MATCH(Tabulka!T$2,Přehled_body!$E$1:$ED$1,0)),)=0,0.00000000001,IFERROR(INDEX(Přehled_body!$E$3:$ED$130,MATCH(Tabulka!$AI16,Přehled_body!$A$3:$A$130,0),MATCH(Tabulka!T$2,Přehled_body!$E$1:$ED$1,0)),)))","v":0},{"$f":"IF(IFERROR(INDEX(Přehled_body!$E$3:$ED$130,MATCH(Tabulka!$AI16,Přehled_body!$A$3:$A$130,0),MATCH(Tabulka!U$2,Přehled_body!$E$1:$ED$1,0)),)=\"\",,IF(IFERROR(INDEX(Přehled_body!$E$3:$ED$130,MATCH(Tabulka!$AI16,Přehled_body!$A$3:$A$130,0),MATCH(Tabulka!U$2,Přehled_body!$E$1:$ED$1,0)),)=0,0.00000000001,IFERROR(INDEX(Přehled_body!$E$3:$ED$130,MATCH(Tabulka!$AI16,Přehled_body!$A$3:$A$130,0),MATCH(Tabulka!U$2,Přehled_body!$E$1:$ED$1,0)),)))","v":0},{"$f":"IF(IFERROR(INDEX(Přehled_body!$E$3:$ED$130,MATCH(Tabulka!$AI16,Přehled_body!$A$3:$A$130,0),MATCH(Tabulka!V$2,Přehled_body!$E$1:$ED$1,0)),)=\"\",,IF(IFERROR(INDEX(Přehled_body!$E$3:$ED$130,MATCH(Tabulka!$AI16,Přehled_body!$A$3:$A$130,0),MATCH(Tabulka!V$2,Přehled_body!$E$1:$ED$1,0)),)=0,0.00000000001,IFERROR(INDEX(Přehled_body!$E$3:$ED$130,MATCH(Tabulka!$AI16,Přehled_body!$A$3:$A$130,0),MATCH(Tabulka!V$2,Přehled_body!$E$1:$ED$1,0)),)))","v":0},{"$f":"IF(IFERROR(INDEX(Přehled_body!$E$3:$ED$130,MATCH(Tabulka!$AI16,Přehled_body!$A$3:$A$130,0),MATCH(Tabulka!W$2,Přehled_body!$E$1:$ED$1,0)),)=\"\",,IF(IFERROR(INDEX(Přehled_body!$E$3:$ED$130,MATCH(Tabulka!$AI16,Přehled_body!$A$3:$A$130,0),MATCH(Tabulka!W$2,Přehled_body!$E$1:$ED$1,0)),)=0,0.00000000001,IFERROR(INDEX(Přehled_body!$E$3:$ED$130,MATCH(Tabulka!$AI16,Přehled_body!$A$3:$A$130,0),MATCH(Tabulka!W$2,Přehled_body!$E$1:$ED$1,0)),)))","v":0},{"$f":"IF(IFERROR(INDEX(Přehled_body!$E$3:$ED$130,MATCH(Tabulka!$AI16,Přehled_body!$A$3:$A$130,0),MATCH(Tabulka!X$2,Přehled_body!$E$1:$ED$1,0)),)=\"\",,IF(IFERROR(INDEX(Přehled_body!$E$3:$ED$130,MATCH(Tabulka!$AI16,Přehled_body!$A$3:$A$130,0),MATCH(Tabulka!X$2,Přehled_body!$E$1:$ED$1,0)),)=0,0.00000000001,IFERROR(INDEX(Přehled_body!$E$3:$ED$130,MATCH(Tabulka!$AI16,Přehled_body!$A$3:$A$130,0),MATCH(Tabulka!X$2,Přehled_body!$E$1:$ED$1,0)),)))","v":0},{"$f":"IF(IFERROR(INDEX(Přehled_body!$E$3:$ED$130,MATCH(Tabulka!$AI16,Přehled_body!$A$3:$A$130,0),MATCH(Tabulka!Y$2,Přehled_body!$E$1:$ED$1,0)),)=\"\",,IF(IFERROR(INDEX(Přehled_body!$E$3:$ED$130,MATCH(Tabulka!$AI16,Přehled_body!$A$3:$A$130,0),MATCH(Tabulka!Y$2,Přehled_body!$E$1:$ED$1,0)),)=0,0.00000000001,IFERROR(INDEX(Přehled_body!$E$3:$ED$130,MATCH(Tabulka!$AI16,Přehled_body!$A$3:$A$130,0),MATCH(Tabulka!Y$2,Přehled_body!$E$1:$ED$1,0)),)))","v":0},{"$f":"IF(IFERROR(INDEX(Přehled_body!$E$3:$ED$130,MATCH(Tabulka!$AI16,Přehled_body!$A$3:$A$130,0),MATCH(Tabulka!Z$2,Přehled_body!$E$1:$ED$1,0)),)=\"\",,IF(IFERROR(INDEX(Přehled_body!$E$3:$ED$130,MATCH(Tabulka!$AI16,Přehled_body!$A$3:$A$130,0),MATCH(Tabulka!Z$2,Přehled_body!$E$1:$ED$1,0)),)=0,0.00000000001,IFERROR(INDEX(Přehled_body!$E$3:$ED$130,MATCH(Tabulka!$AI16,Přehled_body!$A$3:$A$130,0),MATCH(Tabulka!Z$2,Přehled_body!$E$1:$ED$1,0)),)))","v":0},{"$f":"IF(IFERROR(INDEX(Přehled_body!$E$3:$ED$130,MATCH(Tabulka!$AI16,Přehled_body!$A$3:$A$130,0),MATCH(Tabulka!AA$2,Přehled_body!$E$1:$ED$1,0)),)=\"\",,IF(IFERROR(INDEX(Přehled_body!$E$3:$ED$130,MATCH(Tabulka!$AI16,Přehled_body!$A$3:$A$130,0),MATCH(Tabulka!AA$2,Přehled_body!$E$1:$ED$1,0)),)=0,0.00000000001,IFERROR(INDEX(Přehled_body!$E$3:$ED$130,MATCH(Tabulka!$AI16,Přehled_body!$A$3:$A$130,0),MATCH(Tabulka!AA$2,Přehled_body!$E$1:$ED$1,0)),)))","v":0},{"$f":"IF(IFERROR(INDEX(Přehled_body!$E$3:$ED$130,MATCH(Tabulka!$AI16,Přehled_body!$A$3:$A$130,0),MATCH(Tabulka!AB$2,Přehled_body!$E$1:$ED$1,0)),)=\"\",,IF(IFERROR(INDEX(Přehled_body!$E$3:$ED$130,MATCH(Tabulka!$AI16,Přehled_body!$A$3:$A$130,0),MATCH(Tabulka!AB$2,Přehled_body!$E$1:$ED$1,0)),)=0,0.00000000001,IFERROR(INDEX(Přehled_body!$E$3:$ED$130,MATCH(Tabulka!$AI16,Přehled_body!$A$3:$A$130,0),MATCH(Tabulka!AB$2,Přehled_body!$E$1:$ED$1,0)),)))","v":0},{"$f":"IF(IFERROR(INDEX(Přehled_body!$E$3:$ED$130,MATCH(Tabulka!$AI16,Přehled_body!$A$3:$A$130,0),MATCH(Tabulka!AC$2,Přehled_body!$E$1:$ED$1,0)),)=\"\",,IF(IFERROR(INDEX(Přehled_body!$E$3:$ED$130,MATCH(Tabulka!$AI16,Přehled_body!$A$3:$A$130,0),MATCH(Tabulka!AC$2,Přehled_body!$E$1:$ED$1,0)),)=0,0.00000000001,IFERROR(INDEX(Přehled_body!$E$3:$ED$130,MATCH(Tabulka!$AI16,Přehled_body!$A$3:$A$130,0),MATCH(Tabulka!AC$2,Přehled_body!$E$1:$ED$1,0)),)))","v":0},{"$f":"IF(IFERROR(INDEX(Přehled_body!$E$3:$ED$130,MATCH(Tabulka!$AI16,Přehled_body!$A$3:$A$130,0),MATCH(Tabulka!AD$2,Přehled_body!$E$1:$ED$1,0)),)=\"\",,IF(IFERROR(INDEX(Přehled_body!$E$3:$ED$130,MATCH(Tabulka!$AI16,Přehled_body!$A$3:$A$130,0),MATCH(Tabulka!AD$2,Přehled_body!$E$1:$ED$1,0)),)=0,0.00000000001,IFERROR(INDEX(Přehled_body!$E$3:$ED$130,MATCH(Tabulka!$AI16,Přehled_body!$A$3:$A$130,0),MATCH(Tabulka!AD$2,Přehled_body!$E$1:$ED$1,0)),)))","v":0},{"$f":"IF(SUM($D$14:$AD$18)<1,-90000,SUM(D16:AD16))","v":-90000},null,null,null,{"$f":"CONCATENATE($B$15,\" \",$B$16,C16)","v":"Petr WeinerPlaceno panáků"}]
[null,null,"Přehozy",{"$f":"IF(IFERROR(INDEX(Přehled_body!$E$3:$ED$130,MATCH(Tabulka!$AI17,Přehled_body!$A$3:$A$130,0),MATCH(Tabulka!D$2,Přehled_body!$E$1:$ED$1,0)),)=\"\",,IF(IFERROR(INDEX(Přehled_body!$E$3:$ED$130,MATCH(Tabulka!$AI17,Přehled_body!$A$3:$A$130,0),MATCH(Tabulka!D$2,Přehled_body!$E$1:$ED$1,0)),)=0,0.00000000001,IFERROR(INDEX(Přehled_body!$E$3:$ED$130,MATCH(Tabulka!$AI17,Přehled_body!$A$3:$A$130,0),MATCH(Tabulka!D$2,Přehled_body!$E$1:$ED$1,0)),)))","v":0},{"$f":"IF(IFERROR(INDEX(Přehled_body!$E$3:$ED$130,MATCH(Tabulka!$AI17,Přehled_body!$A$3:$A$130,0),MATCH(Tabulka!E$2,Přehled_body!$E$1:$ED$1,0)),)=\"\",,IF(IFERROR(INDEX(Přehled_body!$E$3:$ED$130,MATCH(Tabulka!$AI17,Přehled_body!$A$3:$A$130,0),MATCH(Tabulka!E$2,Přehled_body!$E$1:$ED$1,0)),)=0,0.00000000001,IFERROR(INDEX(Přehled_body!$E$3:$ED$130,MATCH(Tabulka!$AI17,Přehled_body!$A$3:$A$130,0),MATCH(Tabulka!E$2,Přehled_body!$E$1:$ED$1,0)),)))","v":0},{"$f":"IF(IFERROR(INDEX(Přehled_body!$E$3:$ED$130,MATCH(Tabulka!$AI17,Přehled_body!$A$3:$A$130,0),MATCH(Tabulka!F$2,Přehled_body!$E$1:$ED$1,0)),)=\"\",,IF(IFERROR(INDEX(Přehled_body!$E$3:$ED$130,MATCH(Tabulka!$AI17,Přehled_body!$A$3:$A$130,0),MATCH(Tabulka!F$2,Přehled_body!$E$1:$ED$1,0)),)=0,0.00000000001,IFERROR(INDEX(Přehled_body!$E$3:$ED$130,MATCH(Tabulka!$AI17,Přehled_body!$A$3:$A$130,0),MATCH(Tabulka!F$2,Přehled_body!$E$1:$ED$1,0)),)))","v":0},{"$f":"IF(IFERROR(INDEX(Přehled_body!$E$3:$ED$130,MATCH(Tabulka!$AI17,Přehled_body!$A$3:$A$130,0),MATCH(Tabulka!G$2,Přehled_body!$E$1:$ED$1,0)),)=\"\",,IF(IFERROR(INDEX(Přehled_body!$E$3:$ED$130,MATCH(Tabulka!$AI17,Přehled_body!$A$3:$A$130,0),MATCH(Tabulka!G$2,Přehled_body!$E$1:$ED$1,0)),)=0,0.00000000001,IFERROR(INDEX(Přehled_body!$E$3:$ED$130,MATCH(Tabulka!$AI17,Přehled_body!$A$3:$A$130,0),MATCH(Tabulka!G$2,Přehled_body!$E$1:$ED$1,0)),)))","v":0},{"$f":"IF(IFERROR(INDEX(Přehled_body!$E$3:$ED$130,MATCH(Tabulka!$AI17,Přehled_body!$A$3:$A$130,0),MATCH(Tabulka!H$2,Přehled_body!$E$1:$ED$1,0)),)=\"\",,IF(IFERROR(INDEX(Přehled_body!$E$3:$ED$130,MATCH(Tabulka!$AI17,Přehled_body!$A$3:$A$130,0),MATCH(Tabulka!H$2,Přehled_body!$E$1:$ED$1,0)),)=0,0.00000000001,IFERROR(INDEX(Přehled_body!$E$3:$ED$130,MATCH(Tabulka!$AI17,Přehled_body!$A$3:$A$130,0),MATCH(Tabulka!H$2,Přehled_body!$E$1:$ED$1,0)),)))","v":0},{"$f":"IF(IFERROR(INDEX(Přehled_body!$E$3:$ED$130,MATCH(Tabulka!$AI17,Přehled_body!$A$3:$A$130,0),MATCH(Tabulka!I$2,Přehled_body!$E$1:$ED$1,0)),)=\"\",,IF(IFERROR(INDEX(Přehled_body!$E$3:$ED$130,MATCH(Tabulka!$AI17,Přehled_body!$A$3:$A$130,0),MATCH(Tabulka!I$2,Přehled_body!$E$1:$ED$1,0)),)=0,0.00000000001,IFERROR(INDEX(Přehled_body!$E$3:$ED$130,MATCH(Tabulka!$AI17,Přehled_body!$A$3:$A$130,0),MATCH(Tabulka!I$2,Přehled_body!$E$1:$ED$1,0)),)))","v":0},{"$f":"IF(IFERROR(INDEX(Přehled_body!$E$3:$ED$130,MATCH(Tabulka!$AI17,Přehled_body!$A$3:$A$130,0),MATCH(Tabulka!J$2,Přehled_body!$E$1:$ED$1,0)),)=\"\",,IF(IFERROR(INDEX(Přehled_body!$E$3:$ED$130,MATCH(Tabulka!$AI17,Přehled_body!$A$3:$A$130,0),MATCH(Tabulka!J$2,Přehled_body!$E$1:$ED$1,0)),)=0,0.00000000001,IFERROR(INDEX(Přehled_body!$E$3:$ED$130,MATCH(Tabulka!$AI17,Přehled_body!$A$3:$A$130,0),MATCH(Tabulka!J$2,Přehled_body!$E$1:$ED$1,0)),)))","v":0},{"$f":"IF(IFERROR(INDEX(Přehled_body!$E$3:$ED$130,MATCH(Tabulka!$AI17,Přehled_body!$A$3:$A$130,0),MATCH(Tabulka!K$2,Přehled_body!$E$1:$ED$1,0)),)=\"\",,IF(IFERROR(INDEX(Přehled_body!$E$3:$ED$130,MATCH(Tabulka!$AI17,Přehled_body!$A$3:$A$130,0),MATCH(Tabulka!K$2,Přehled_body!$E$1:$ED$1,0)),)=0,0.00000000001,IFERROR(INDEX(Přehled_body!$E$3:$ED$130,MATCH(Tabulka!$AI17,Přehled_body!$A$3:$A$130,0),MATCH(Tabulka!K$2,Přehled_body!$E$1:$ED$1,0)),)))","v":0},{"$f":"IF(IFERROR(INDEX(Přehled_body!$E$3:$ED$130,MATCH(Tabulka!$AI17,Přehled_body!$A$3:$A$130,0),MATCH(Tabulka!L$2,Přehled_body!$E$1:$ED$1,0)),)=\"\",,IF(IFERROR(INDEX(Přehled_body!$E$3:$ED$130,MATCH(Tabulka!$AI17,Přehled_body!$A$3:$A$130,0),MATCH(Tabulka!L$2,Přehled_body!$E$1:$ED$1,0)),)=0,0.00000000001,IFERROR(INDEX(Přehled_body!$E$3:$ED$130,MATCH(Tabulka!$AI17,Přehled_body!$A$3:$A$130,0),MATCH(Tabulka!L$2,Přehled_body!$E$1:$ED$1,0)),)))","v":0},{"$f":"IF(IFERROR(INDEX(Přehled_body!$E$3:$ED$130,MATCH(Tabulka!$AI17,Přehled_body!$A$3:$A$130,0),MATCH(Tabulka!M$2,Přehled_body!$E$1:$ED$1,0)),)=\"\",,IF(IFERROR(INDEX(Přehled_body!$E$3:$ED$130,MATCH(Tabulka!$AI17,Přehled_body!$A$3:$A$130,0),MATCH(Tabulka!M$2,Přehled_body!$E$1:$ED$1,0)),)=0,0.00000000001,IFERROR(INDEX(Přehled_body!$E$3:$ED$130,MATCH(Tabulka!$AI17,Přehled_body!$A$3:$A$130,0),MATCH(Tabulka!M$2,Přehled_body!$E$1:$ED$1,0)),)))","v":0},{"$f":"IF(IFERROR(INDEX(Přehled_body!$E$3:$ED$130,MATCH(Tabulka!$AI17,Přehled_body!$A$3:$A$130,0),MATCH(Tabulka!N$2,Přehled_body!$E$1:$ED$1,0)),)=\"\",,IF(IFERROR(INDEX(Přehled_body!$E$3:$ED$130,MATCH(Tabulka!$AI17,Přehled_body!$A$3:$A$130,0),MATCH(Tabulka!N$2,Přehled_body!$E$1:$ED$1,0)),)=0,0.00000000001,IFERROR(INDEX(Přehled_body!$E$3:$ED$130,MATCH(Tabulka!$AI17,Přehled_body!$A$3:$A$130,0),MATCH(Tabulka!N$2,Přehled_body!$E$1:$ED$1,0)),)))","v":0},{"$f":"IF(IFERROR(INDEX(Přehled_body!$E$3:$ED$130,MATCH(Tabulka!$AI17,Přehled_body!$A$3:$A$130,0),MATCH(Tabulka!O$2,Přehled_body!$E$1:$ED$1,0)),)=\"\",,IF(IFERROR(INDEX(Přehled_body!$E$3:$ED$130,MATCH(Tabulka!$AI17,Přehled_body!$A$3:$A$130,0),MATCH(Tabulka!O$2,Přehled_body!$E$1:$ED$1,0)),)=0,0.00000000001,IFERROR(INDEX(Přehled_body!$E$3:$ED$130,MATCH(Tabulka!$AI17,Přehled_body!$A$3:$A$130,0),MATCH(Tabulka!O$2,Přehled_body!$E$1:$ED$1,0)),)))","v":0},{"$f":"IF(IFERROR(INDEX(Přehled_body!$E$3:$ED$130,MATCH(Tabulka!$AI17,Přehled_body!$A$3:$A$130,0),MATCH(Tabulka!P$2,Přehled_body!$E$1:$ED$1,0)),)=\"\",,IF(IFERROR(INDEX(Přehled_body!$E$3:$ED$130,MATCH(Tabulka!$AI17,Přehled_body!$A$3:$A$130,0),MATCH(Tabulka!P$2,Přehled_body!$E$1:$ED$1,0)),)=0,0.00000000001,IFERROR(INDEX(Přehled_body!$E$3:$ED$130,MATCH(Tabulka!$AI17,Přehled_body!$A$3:$A$130,0),MATCH(Tabulka!P$2,Přehled_body!$E$1:$ED$1,0)),)))","v":0},{"$f":"IF(IFERROR(INDEX(Přehled_body!$E$3:$ED$130,MATCH(Tabulka!$AI17,Přehled_body!$A$3:$A$130,0),MATCH(Tabulka!Q$2,Přehled_body!$E$1:$ED$1,0)),)=\"\",,IF(IFERROR(INDEX(Přehled_body!$E$3:$ED$130,MATCH(Tabulka!$AI17,Přehled_body!$A$3:$A$130,0),MATCH(Tabulka!Q$2,Přehled_body!$E$1:$ED$1,0)),)=0,0.00000000001,IFERROR(INDEX(Přehled_body!$E$3:$ED$130,MATCH(Tabulka!$AI17,Přehled_body!$A$3:$A$130,0),MATCH(Tabulka!Q$2,Přehled_body!$E$1:$ED$1,0)),)))","v":0},{"$f":"IF(IFERROR(INDEX(Přehled_body!$E$3:$ED$130,MATCH(Tabulka!$AI17,Přehled_body!$A$3:$A$130,0),MATCH(Tabulka!R$2,Přehled_body!$E$1:$ED$1,0)),)=\"\",,IF(IFERROR(INDEX(Přehled_body!$E$3:$ED$130,MATCH(Tabulka!$AI17,Přehled_body!$A$3:$A$130,0),MATCH(Tabulka!R$2,Přehled_body!$E$1:$ED$1,0)),)=0,0.00000000001,IFERROR(INDEX(Přehled_body!$E$3:$ED$130,MATCH(Tabulka!$AI17,Přehled_body!$A$3:$A$130,0),MATCH(Tabulka!R$2,Přehled_body!$E$1:$ED$1,0)),)))","v":0},{"$f":"IF(IFERROR(INDEX(Přehled_body!$E$3:$ED$130,MATCH(Tabulka!$AI17,Přehled_body!$A$3:$A$130,0),MATCH(Tabulka!S$2,Přehled_body!$E$1:$ED$1,0)),)=\"\",,IF(IFERROR(INDEX(Přehled_body!$E$3:$ED$130,MATCH(Tabulka!$AI17,Přehled_body!$A$3:$A$130,0),MATCH(Tabulka!S$2,Přehled_body!$E$1:$ED$1,0)),)=0,0.00000000001,IFERROR(INDEX(Přehled_body!$E$3:$ED$130,MATCH(Tabulka!$AI17,Přehled_body!$A$3:$A$130,0),MATCH(Tabulka!S$2,Přehled_body!$E$1:$ED$1,0)),)))","v":0},{"$f":"IF(IFERROR(INDEX(Přehled_body!$E$3:$ED$130,MATCH(Tabulka!$AI17,Přehled_body!$A$3:$A$130,0),MATCH(Tabulka!T$2,Přehled_body!$E$1:$ED$1,0)),)=\"\",,IF(IFERROR(INDEX(Přehled_body!$E$3:$ED$130,MATCH(Tabulka!$AI17,Přehled_body!$A$3:$A$130,0),MATCH(Tabulka!T$2,Přehled_body!$E$1:$ED$1,0)),)=0,0.00000000001,IFERROR(INDEX(Přehled_body!$E$3:$ED$130,MATCH(Tabulka!$AI17,Přehled_body!$A$3:$A$130,0),MATCH(Tabulka!T$2,Přehled_body!$E$1:$ED$1,0)),)))","v":0},{"$f":"IF(IFERROR(INDEX(Přehled_body!$E$3:$ED$130,MATCH(Tabulka!$AI17,Přehled_body!$A$3:$A$130,0),MATCH(Tabulka!U$2,Přehled_body!$E$1:$ED$1,0)),)=\"\",,IF(IFERROR(INDEX(Přehled_body!$E$3:$ED$130,MATCH(Tabulka!$AI17,Přehled_body!$A$3:$A$130,0),MATCH(Tabulka!U$2,Přehled_body!$E$1:$ED$1,0)),)=0,0.00000000001,IFERROR(INDEX(Přehled_body!$E$3:$ED$130,MATCH(Tabulka!$AI17,Přehled_body!$A$3:$A$130,0),MATCH(Tabulka!U$2,Přehled_body!$E$1:$ED$1,0)),)))","v":0},{"$f":"IF(IFERROR(INDEX(Přehled_body!$E$3:$ED$130,MATCH(Tabulka!$AI17,Přehled_body!$A$3:$A$130,0),MATCH(Tabulka!V$2,Přehled_body!$E$1:$ED$1,0)),)=\"\",,IF(IFERROR(INDEX(Přehled_body!$E$3:$ED$130,MATCH(Tabulka!$AI17,Přehled_body!$A$3:$A$130,0),MATCH(Tabulka!V$2,Přehled_body!$E$1:$ED$1,0)),)=0,0.00000000001,IFERROR(INDEX(Přehled_body!$E$3:$ED$130,MATCH(Tabulka!$AI17,Přehled_body!$A$3:$A$130,0),MATCH(Tabulka!V$2,Přehled_body!$E$1:$ED$1,0)),)))","v":0},{"$f":"IF(IFERROR(INDEX(Přehled_body!$E$3:$ED$130,MATCH(Tabulka!$AI17,Přehled_body!$A$3:$A$130,0),MATCH(Tabulka!W$2,Přehled_body!$E$1:$ED$1,0)),)=\"\",,IF(IFERROR(INDEX(Přehled_body!$E$3:$ED$130,MATCH(Tabulka!$AI17,Přehled_body!$A$3:$A$130,0),MATCH(Tabulka!W$2,Přehled_body!$E$1:$ED$1,0)),)=0,0.00000000001,IFERROR(INDEX(Přehled_body!$E$3:$ED$130,MATCH(Tabulka!$AI17,Přehled_body!$A$3:$A$130,0),MATCH(Tabulka!W$2,Přehled_body!$E$1:$ED$1,0)),)))","v":0},{"$f":"IF(IFERROR(INDEX(Přehled_body!$E$3:$ED$130,MATCH(Tabulka!$AI17,Přehled_body!$A$3:$A$130,0),MATCH(Tabulka!X$2,Přehled_body!$E$1:$ED$1,0)),)=\"\",,IF(IFERROR(INDEX(Přehled_body!$E$3:$ED$130,MATCH(Tabulka!$AI17,Přehled_body!$A$3:$A$130,0),MATCH(Tabulka!X$2,Přehled_body!$E$1:$ED$1,0)),)=0,0.00000000001,IFERROR(INDEX(Přehled_body!$E$3:$ED$130,MATCH(Tabulka!$AI17,Přehled_body!$A$3:$A$130,0),MATCH(Tabulka!X$2,Přehled_body!$E$1:$ED$1,0)),)))","v":0},{"$f":"IF(IFERROR(INDEX(Přehled_body!$E$3:$ED$130,MATCH(Tabulka!$AI17,Přehled_body!$A$3:$A$130,0),MATCH(Tabulka!Y$2,Přehled_body!$E$1:$ED$1,0)),)=\"\",,IF(IFERROR(INDEX(Přehled_body!$E$3:$ED$130,MATCH(Tabulka!$AI17,Přehled_body!$A$3:$A$130,0),MATCH(Tabulka!Y$2,Přehled_body!$E$1:$ED$1,0)),)=0,0.00000000001,IFERROR(INDEX(Přehled_body!$E$3:$ED$130,MATCH(Tabulka!$AI17,Přehled_body!$A$3:$A$130,0),MATCH(Tabulka!Y$2,Přehled_body!$E$1:$ED$1,0)),)))","v":0},{"$f":"IF(IFERROR(INDEX(Přehled_body!$E$3:$ED$130,MATCH(Tabulka!$AI17,Přehled_body!$A$3:$A$130,0),MATCH(Tabulka!Z$2,Přehled_body!$E$1:$ED$1,0)),)=\"\",,IF(IFERROR(INDEX(Přehled_body!$E$3:$ED$130,MATCH(Tabulka!$AI17,Přehled_body!$A$3:$A$130,0),MATCH(Tabulka!Z$2,Přehled_body!$E$1:$ED$1,0)),)=0,0.00000000001,IFERROR(INDEX(Přehled_body!$E$3:$ED$130,MATCH(Tabulka!$AI17,Přehled_body!$A$3:$A$130,0),MATCH(Tabulka!Z$2,Přehled_body!$E$1:$ED$1,0)),)))","v":0},{"$f":"IF(IFERROR(INDEX(Přehled_body!$E$3:$ED$130,MATCH(Tabulka!$AI17,Přehled_body!$A$3:$A$130,0),MATCH(Tabulka!AA$2,Přehled_body!$E$1:$ED$1,0)),)=\"\",,IF(IFERROR(INDEX(Přehled_body!$E$3:$ED$130,MATCH(Tabulka!$AI17,Přehled_body!$A$3:$A$130,0),MATCH(Tabulka!AA$2,Přehled_body!$E$1:$ED$1,0)),)=0,0.00000000001,IFERROR(INDEX(Přehled_body!$E$3:$ED$130,MATCH(Tabulka!$AI17,Přehled_body!$A$3:$A$130,0),MATCH(Tabulka!AA$2,Přehled_body!$E$1:$ED$1,0)),)))","v":0},{"$f":"IF(IFERROR(INDEX(Přehled_body!$E$3:$ED$130,MATCH(Tabulka!$AI17,Přehled_body!$A$3:$A$130,0),MATCH(Tabulka!AB$2,Přehled_body!$E$1:$ED$1,0)),)=\"\",,IF(IFERROR(INDEX(Přehled_body!$E$3:$ED$130,MATCH(Tabulka!$AI17,Přehled_body!$A$3:$A$130,0),MATCH(Tabulka!AB$2,Přehled_body!$E$1:$ED$1,0)),)=0,0.00000000001,IFERROR(INDEX(Přehled_body!$E$3:$ED$130,MATCH(Tabulka!$AI17,Přehled_body!$A$3:$A$130,0),MATCH(Tabulka!AB$2,Přehled_body!$E$1:$ED$1,0)),)))","v":0},{"$f":"IF(IFERROR(INDEX(Přehled_body!$E$3:$ED$130,MATCH(Tabulka!$AI17,Přehled_body!$A$3:$A$130,0),MATCH(Tabulka!AC$2,Přehled_body!$E$1:$ED$1,0)),)=\"\",,IF(IFERROR(INDEX(Přehled_body!$E$3:$ED$130,MATCH(Tabulka!$AI17,Přehled_body!$A$3:$A$130,0),MATCH(Tabulka!AC$2,Přehled_body!$E$1:$ED$1,0)),)=0,0.00000000001,IFERROR(INDEX(Přehled_body!$E$3:$ED$130,MATCH(Tabulka!$AI17,Přehled_body!$A$3:$A$130,0),MATCH(Tabulka!AC$2,Přehled_body!$E$1:$ED$1,0)),)))","v":0},{"$f":"IF(IFERROR(INDEX(Přehled_body!$E$3:$ED$130,MATCH(Tabulka!$AI17,Přehled_body!$A$3:$A$130,0),MATCH(Tabulka!AD$2,Přehled_body!$E$1:$ED$1,0)),)=\"\",,IF(IFERROR(INDEX(Přehled_body!$E$3:$ED$130,MATCH(Tabulka!$AI17,Přehled_body!$A$3:$A$130,0),MATCH(Tabulka!AD$2,Přehled_body!$E$1:$ED$1,0)),)=0,0.00000000001,IFERROR(INDEX(Přehled_body!$E$3:$ED$130,MATCH(Tabulka!$AI17,Přehled_body!$A$3:$A$130,0),MATCH(Tabulka!AD$2,Přehled_body!$E$1:$ED$1,0)),)))","v":0},{"$f":"IF(SUM($D$14:$AD$18)<1,-90000,SUM(D17:AD17))","v":-90000},null,null,null,{"$f":"CONCATENATE($B$15,\" \",$B$16,C17)","v":"Petr WeinerPřehozy"}]
[null,null,"Poč. kol",{"$f":"IF(IFERROR(INDEX(Přehled_body!$E$3:$ED$130,MATCH(Tabulka!$AI18,Přehled_body!$A$3:$A$130,0),MATCH(Tabulka!D$2,Přehled_body!$E$1:$ED$1,0)),)=\"\",,IF(IFERROR(INDEX(Přehled_body!$E$3:$ED$130,MATCH(Tabulka!$AI18,Přehled_body!$A$3:$A$130,0),MATCH(Tabulka!D$2,Přehled_body!$E$1:$ED$1,0)),)=0,0.00000000001,IFERROR(INDEX(Přehled_body!$E$3:$ED$130,MATCH(Tabulka!$AI18,Přehled_body!$A$3:$A$130,0),MATCH(Tabulka!D$2,Přehled_body!$E$1:$ED$1,0)),)))","v":0},{"$f":"IF(IFERROR(INDEX(Přehled_body!$E$3:$ED$130,MATCH(Tabulka!$AI18,Přehled_body!$A$3:$A$130,0),MATCH(Tabulka!E$2,Přehled_body!$E$1:$ED$1,0)),)=\"\",,IF(IFERROR(INDEX(Přehled_body!$E$3:$ED$130,MATCH(Tabulka!$AI18,Přehled_body!$A$3:$A$130,0),MATCH(Tabulka!E$2,Přehled_body!$E$1:$ED$1,0)),)=0,0.00000000001,IFERROR(INDEX(Přehled_body!$E$3:$ED$130,MATCH(Tabulka!$AI18,Přehled_body!$A$3:$A$130,0),MATCH(Tabulka!E$2,Přehled_body!$E$1:$ED$1,0)),)))","v":0},{"$f":"IF(IFERROR(INDEX(Přehled_body!$E$3:$ED$130,MATCH(Tabulka!$AI18,Přehled_body!$A$3:$A$130,0),MATCH(Tabulka!F$2,Přehled_body!$E$1:$ED$1,0)),)=\"\",,IF(IFERROR(INDEX(Přehled_body!$E$3:$ED$130,MATCH(Tabulka!$AI18,Přehled_body!$A$3:$A$130,0),MATCH(Tabulka!F$2,Přehled_body!$E$1:$ED$1,0)),)=0,0.00000000001,IFERROR(INDEX(Přehled_body!$E$3:$ED$130,MATCH(Tabulka!$AI18,Přehled_body!$A$3:$A$130,0),MATCH(Tabulka!F$2,Přehled_body!$E$1:$ED$1,0)),)))","v":0},{"$f":"IF(IFERROR(INDEX(Přehled_body!$E$3:$ED$130,MATCH(Tabulka!$AI18,Přehled_body!$A$3:$A$130,0),MATCH(Tabulka!G$2,Přehled_body!$E$1:$ED$1,0)),)=\"\",,IF(IFERROR(INDEX(Přehled_body!$E$3:$ED$130,MATCH(Tabulka!$AI18,Přehled_body!$A$3:$A$130,0),MATCH(Tabulka!G$2,Přehled_body!$E$1:$ED$1,0)),)=0,0.00000000001,IFERROR(INDEX(Přehled_body!$E$3:$ED$130,MATCH(Tabulka!$AI18,Přehled_body!$A$3:$A$130,0),MATCH(Tabulka!G$2,Přehled_body!$E$1:$ED$1,0)),)))","v":0},{"$f":"IF(IFERROR(INDEX(Přehled_body!$E$3:$ED$130,MATCH(Tabulka!$AI18,Přehled_body!$A$3:$A$130,0),MATCH(Tabulka!H$2,Přehled_body!$E$1:$ED$1,0)),)=\"\",,IF(IFERROR(INDEX(Přehled_body!$E$3:$ED$130,MATCH(Tabulka!$AI18,Přehled_body!$A$3:$A$130,0),MATCH(Tabulka!H$2,Přehled_body!$E$1:$ED$1,0)),)=0,0.00000000001,IFERROR(INDEX(Přehled_body!$E$3:$ED$130,MATCH(Tabulka!$AI18,Přehled_body!$A$3:$A$130,0),MATCH(Tabulka!H$2,Přehled_body!$E$1:$ED$1,0)),)))","v":0},{"$f":"IF(IFERROR(INDEX(Přehled_body!$E$3:$ED$130,MATCH(Tabulka!$AI18,Přehled_body!$A$3:$A$130,0),MATCH(Tabulka!I$2,Přehled_body!$E$1:$ED$1,0)),)=\"\",,IF(IFERROR(INDEX(Přehled_body!$E$3:$ED$130,MATCH(Tabulka!$AI18,Přehled_body!$A$3:$A$130,0),MATCH(Tabulka!I$2,Přehled_body!$E$1:$ED$1,0)),)=0,0.00000000001,IFERROR(INDEX(Přehled_body!$E$3:$ED$130,MATCH(Tabulka!$AI18,Přehled_body!$A$3:$A$130,0),MATCH(Tabulka!I$2,Přehled_body!$E$1:$ED$1,0)),)))","v":0},{"$f":"IF(IFERROR(INDEX(Přehled_body!$E$3:$ED$130,MATCH(Tabulka!$AI18,Přehled_body!$A$3:$A$130,0),MATCH(Tabulka!J$2,Přehled_body!$E$1:$ED$1,0)),)=\"\",,IF(IFERROR(INDEX(Přehled_body!$E$3:$ED$130,MATCH(Tabulka!$AI18,Přehled_body!$A$3:$A$130,0),MATCH(Tabulka!J$2,Přehled_body!$E$1:$ED$1,0)),)=0,0.00000000001,IFERROR(INDEX(Přehled_body!$E$3:$ED$130,MATCH(Tabulka!$AI18,Přehled_body!$A$3:$A$130,0),MATCH(Tabulka!J$2,Přehled_body!$E$1:$ED$1,0)),)))","v":0},{"$f":"IF(IFERROR(INDEX(Přehled_body!$E$3:$ED$130,MATCH(Tabulka!$AI18,Přehled_body!$A$3:$A$130,0),MATCH(Tabulka!K$2,Přehled_body!$E$1:$ED$1,0)),)=\"\",,IF(IFERROR(INDEX(Přehled_body!$E$3:$ED$130,MATCH(Tabulka!$AI18,Přehled_body!$A$3:$A$130,0),MATCH(Tabulka!K$2,Přehled_body!$E$1:$ED$1,0)),)=0,0.00000000001,IFERROR(INDEX(Přehled_body!$E$3:$ED$130,MATCH(Tabulka!$AI18,Přehled_body!$A$3:$A$130,0),MATCH(Tabulka!K$2,Přehled_body!$E$1:$ED$1,0)),)))","v":0},{"$f":"IF(IFERROR(INDEX(Přehled_body!$E$3:$ED$130,MATCH(Tabulka!$AI18,Přehled_body!$A$3:$A$130,0),MATCH(Tabulka!L$2,Přehled_body!$E$1:$ED$1,0)),)=\"\",,IF(IFERROR(INDEX(Přehled_body!$E$3:$ED$130,MATCH(Tabulka!$AI18,Přehled_body!$A$3:$A$130,0),MATCH(Tabulka!L$2,Přehled_body!$E$1:$ED$1,0)),)=0,0.00000000001,IFERROR(INDEX(Přehled_body!$E$3:$ED$130,MATCH(Tabulka!$AI18,Přehled_body!$A$3:$A$130,0),MATCH(Tabulka!L$2,Přehled_body!$E$1:$ED$1,0)),)))","v":0},{"$f":"IF(IFERROR(INDEX(Přehled_body!$E$3:$ED$130,MATCH(Tabulka!$AI18,Přehled_body!$A$3:$A$130,0),MATCH(Tabulka!M$2,Přehled_body!$E$1:$ED$1,0)),)=\"\",,IF(IFERROR(INDEX(Přehled_body!$E$3:$ED$130,MATCH(Tabulka!$AI18,Přehled_body!$A$3:$A$130,0),MATCH(Tabulka!M$2,Přehled_body!$E$1:$ED$1,0)),)=0,0.00000000001,IFERROR(INDEX(Přehled_body!$E$3:$ED$130,MATCH(Tabulka!$AI18,Přehled_body!$A$3:$A$130,0),MATCH(Tabulka!M$2,Přehled_body!$E$1:$ED$1,0)),)))","v":0},{"$f":"IF(IFERROR(INDEX(Přehled_body!$E$3:$ED$130,MATCH(Tabulka!$AI18,Přehled_body!$A$3:$A$130,0),MATCH(Tabulka!N$2,Přehled_body!$E$1:$ED$1,0)),)=\"\",,IF(IFERROR(INDEX(Přehled_body!$E$3:$ED$130,MATCH(Tabulka!$AI18,Přehled_body!$A$3:$A$130,0),MATCH(Tabulka!N$2,Přehled_body!$E$1:$ED$1,0)),)=0,0.00000000001,IFERROR(INDEX(Přehled_body!$E$3:$ED$130,MATCH(Tabulka!$AI18,Přehled_body!$A$3:$A$130,0),MATCH(Tabulka!N$2,Přehled_body!$E$1:$ED$1,0)),)))","v":0},{"$f":"IF(IFERROR(INDEX(Přehled_body!$E$3:$ED$130,MATCH(Tabulka!$AI18,Přehled_body!$A$3:$A$130,0),MATCH(Tabulka!O$2,Přehled_body!$E$1:$ED$1,0)),)=\"\",,IF(IFERROR(INDEX(Přehled_body!$E$3:$ED$130,MATCH(Tabulka!$AI18,Přehled_body!$A$3:$A$130,0),MATCH(Tabulka!O$2,Přehled_body!$E$1:$ED$1,0)),)=0,0.00000000001,IFERROR(INDEX(Přehled_body!$E$3:$ED$130,MATCH(Tabulka!$AI18,Přehled_body!$A$3:$A$130,0),MATCH(Tabulka!O$2,Přehled_body!$E$1:$ED$1,0)),)))","v":0},{"$f":"IF(IFERROR(INDEX(Přehled_body!$E$3:$ED$130,MATCH(Tabulka!$AI18,Přehled_body!$A$3:$A$130,0),MATCH(Tabulka!P$2,Přehled_body!$E$1:$ED$1,0)),)=\"\",,IF(IFERROR(INDEX(Přehled_body!$E$3:$ED$130,MATCH(Tabulka!$AI18,Přehled_body!$A$3:$A$130,0),MATCH(Tabulka!P$2,Přehled_body!$E$1:$ED$1,0)),)=0,0.00000000001,IFERROR(INDEX(Přehled_body!$E$3:$ED$130,MATCH(Tabulka!$AI18,Přehled_body!$A$3:$A$130,0),MATCH(Tabulka!P$2,Přehled_body!$E$1:$ED$1,0)),)))","v":0},{"$f":"IF(IFERROR(INDEX(Přehled_body!$E$3:$ED$130,MATCH(Tabulka!$AI18,Přehled_body!$A$3:$A$130,0),MATCH(Tabulka!Q$2,Přehled_body!$E$1:$ED$1,0)),)=\"\",,IF(IFERROR(INDEX(Přehled_body!$E$3:$ED$130,MATCH(Tabulka!$AI18,Přehled_body!$A$3:$A$130,0),MATCH(Tabulka!Q$2,Přehled_body!$E$1:$ED$1,0)),)=0,0.00000000001,IFERROR(INDEX(Přehled_body!$E$3:$ED$130,MATCH(Tabulka!$AI18,Přehled_body!$A$3:$A$130,0),MATCH(Tabulka!Q$2,Přehled_body!$E$1:$ED$1,0)),)))","v":0},{"$f":"IF(IFERROR(INDEX(Přehled_body!$E$3:$ED$130,MATCH(Tabulka!$AI18,Přehled_body!$A$3:$A$130,0),MATCH(Tabulka!R$2,Přehled_body!$E$1:$ED$1,0)),)=\"\",,IF(IFERROR(INDEX(Přehled_body!$E$3:$ED$130,MATCH(Tabulka!$AI18,Přehled_body!$A$3:$A$130,0),MATCH(Tabulka!R$2,Přehled_body!$E$1:$ED$1,0)),)=0,0.00000000001,IFERROR(INDEX(Přehled_body!$E$3:$ED$130,MATCH(Tabulka!$AI18,Přehled_body!$A$3:$A$130,0),MATCH(Tabulka!R$2,Přehled_body!$E$1:$ED$1,0)),)))","v":0},{"$f":"IF(IFERROR(INDEX(Přehled_body!$E$3:$ED$130,MATCH(Tabulka!$AI18,Přehled_body!$A$3:$A$130,0),MATCH(Tabulka!S$2,Přehled_body!$E$1:$ED$1,0)),)=\"\",,IF(IFERROR(INDEX(Přehled_body!$E$3:$ED$130,MATCH(Tabulka!$AI18,Přehled_body!$A$3:$A$130,0),MATCH(Tabulka!S$2,Přehled_body!$E$1:$ED$1,0)),)=0,0.00000000001,IFERROR(INDEX(Přehled_body!$E$3:$ED$130,MATCH(Tabulka!$AI18,Přehled_body!$A$3:$A$130,0),MATCH(Tabulka!S$2,Přehled_body!$E$1:$ED$1,0)),)))","v":0},{"$f":"IF(IFERROR(INDEX(Přehled_body!$E$3:$ED$130,MATCH(Tabulka!$AI18,Přehled_body!$A$3:$A$130,0),MATCH(Tabulka!T$2,Přehled_body!$E$1:$ED$1,0)),)=\"\",,IF(IFERROR(INDEX(Přehled_body!$E$3:$ED$130,MATCH(Tabulka!$AI18,Přehled_body!$A$3:$A$130,0),MATCH(Tabulka!T$2,Přehled_body!$E$1:$ED$1,0)),)=0,0.00000000001,IFERROR(INDEX(Přehled_body!$E$3:$ED$130,MATCH(Tabulka!$AI18,Přehled_body!$A$3:$A$130,0),MATCH(Tabulka!T$2,Přehled_body!$E$1:$ED$1,0)),)))","v":0},{"$f":"IF(IFERROR(INDEX(Přehled_body!$E$3:$ED$130,MATCH(Tabulka!$AI18,Přehled_body!$A$3:$A$130,0),MATCH(Tabulka!U$2,Přehled_body!$E$1:$ED$1,0)),)=\"\",,IF(IFERROR(INDEX(Přehled_body!$E$3:$ED$130,MATCH(Tabulka!$AI18,Přehled_body!$A$3:$A$130,0),MATCH(Tabulka!U$2,Přehled_body!$E$1:$ED$1,0)),)=0,0.00000000001,IFERROR(INDEX(Přehled_body!$E$3:$ED$130,MATCH(Tabulka!$AI18,Přehled_body!$A$3:$A$130,0),MATCH(Tabulka!U$2,Přehled_body!$E$1:$ED$1,0)),)))","v":0},{"$f":"IF(IFERROR(INDEX(Přehled_body!$E$3:$ED$130,MATCH(Tabulka!$AI18,Přehled_body!$A$3:$A$130,0),MATCH(Tabulka!V$2,Přehled_body!$E$1:$ED$1,0)),)=\"\",,IF(IFERROR(INDEX(Přehled_body!$E$3:$ED$130,MATCH(Tabulka!$AI18,Přehled_body!$A$3:$A$130,0),MATCH(Tabulka!V$2,Přehled_body!$E$1:$ED$1,0)),)=0,0.00000000001,IFERROR(INDEX(Přehled_body!$E$3:$ED$130,MATCH(Tabulka!$AI18,Přehled_body!$A$3:$A$130,0),MATCH(Tabulka!V$2,Přehled_body!$E$1:$ED$1,0)),)))","v":0},{"$f":"IF(IFERROR(INDEX(Přehled_body!$E$3:$ED$130,MATCH(Tabulka!$AI18,Přehled_body!$A$3:$A$130,0),MATCH(Tabulka!W$2,Přehled_body!$E$1:$ED$1,0)),)=\"\",,IF(IFERROR(INDEX(Přehled_body!$E$3:$ED$130,MATCH(Tabulka!$AI18,Přehled_body!$A$3:$A$130,0),MATCH(Tabulka!W$2,Přehled_body!$E$1:$ED$1,0)),)=0,0.00000000001,IFERROR(INDEX(Přehled_body!$E$3:$ED$130,MATCH(Tabulka!$AI18,Přehled_body!$A$3:$A$130,0),MATCH(Tabulka!W$2,Přehled_body!$E$1:$ED$1,0)),)))","v":0},{"$f":"IF(IFERROR(INDEX(Přehled_body!$E$3:$ED$130,MATCH(Tabulka!$AI18,Přehled_body!$A$3:$A$130,0),MATCH(Tabulka!X$2,Přehled_body!$E$1:$ED$1,0)),)=\"\",,IF(IFERROR(INDEX(Přehled_body!$E$3:$ED$130,MATCH(Tabulka!$AI18,Přehled_body!$A$3:$A$130,0),MATCH(Tabulka!X$2,Přehled_body!$E$1:$ED$1,0)),)=0,0.00000000001,IFERROR(INDEX(Přehled_body!$E$3:$ED$130,MATCH(Tabulka!$AI18,Přehled_body!$A$3:$A$130,0),MATCH(Tabulka!X$2,Přehled_body!$E$1:$ED$1,0)),)))","v":0},{"$f":"IF(IFERROR(INDEX(Přehled_body!$E$3:$ED$130,MATCH(Tabulka!$AI18,Přehled_body!$A$3:$A$130,0),MATCH(Tabulka!Y$2,Přehled_body!$E$1:$ED$1,0)),)=\"\",,IF(IFERROR(INDEX(Přehled_body!$E$3:$ED$130,MATCH(Tabulka!$AI18,Přehled_body!$A$3:$A$130,0),MATCH(Tabulka!Y$2,Přehled_body!$E$1:$ED$1,0)),)=0,0.00000000001,IFERROR(INDEX(Přehled_body!$E$3:$ED$130,MATCH(Tabulka!$AI18,Přehled_body!$A$3:$A$130,0),MATCH(Tabulka!Y$2,Přehled_body!$E$1:$ED$1,0)),)))","v":0},{"$f":"IF(IFERROR(INDEX(Přehled_body!$E$3:$ED$130,MATCH(Tabulka!$AI18,Přehled_body!$A$3:$A$130,0),MATCH(Tabulka!Z$2,Přehled_body!$E$1:$ED$1,0)),)=\"\",,IF(IFERROR(INDEX(Přehled_body!$E$3:$ED$130,MATCH(Tabulka!$AI18,Přehled_body!$A$3:$A$130,0),MATCH(Tabulka!Z$2,Přehled_body!$E$1:$ED$1,0)),)=0,0.00000000001,IFERROR(INDEX(Přehled_body!$E$3:$ED$130,MATCH(Tabulka!$AI18,Přehled_body!$A$3:$A$130,0),MATCH(Tabulka!Z$2,Přehled_body!$E$1:$ED$1,0)),)))","v":0},{"$f":"IF(IFERROR(INDEX(Přehled_body!$E$3:$ED$130,MATCH(Tabulka!$AI18,Přehled_body!$A$3:$A$130,0),MATCH(Tabulka!AA$2,Přehled_body!$E$1:$ED$1,0)),)=\"\",,IF(IFERROR(INDEX(Přehled_body!$E$3:$ED$130,MATCH(Tabulka!$AI18,Přehled_body!$A$3:$A$130,0),MATCH(Tabulka!AA$2,Přehled_body!$E$1:$ED$1,0)),)=0,0.00000000001,IFERROR(INDEX(Přehled_body!$E$3:$ED$130,MATCH(Tabulka!$AI18,Přehled_body!$A$3:$A$130,0),MATCH(Tabulka!AA$2,Přehled_body!$E$1:$ED$1,0)),)))","v":0},{"$f":"IF(IFERROR(INDEX(Přehled_body!$E$3:$ED$130,MATCH(Tabulka!$AI18,Přehled_body!$A$3:$A$130,0),MATCH(Tabulka!AB$2,Přehled_body!$E$1:$ED$1,0)),)=\"\",,IF(IFERROR(INDEX(Přehled_body!$E$3:$ED$130,MATCH(Tabulka!$AI18,Přehled_body!$A$3:$A$130,0),MATCH(Tabulka!AB$2,Přehled_body!$E$1:$ED$1,0)),)=0,0.00000000001,IFERROR(INDEX(Přehled_body!$E$3:$ED$130,MATCH(Tabulka!$AI18,Přehled_body!$A$3:$A$130,0),MATCH(Tabulka!AB$2,Přehled_body!$E$1:$ED$1,0)),)))","v":0},{"$f":"IF(IFERROR(INDEX(Přehled_body!$E$3:$ED$130,MATCH(Tabulka!$AI18,Přehled_body!$A$3:$A$130,0),MATCH(Tabulka!AC$2,Přehled_body!$E$1:$ED$1,0)),)=\"\",,IF(IFERROR(INDEX(Přehled_body!$E$3:$ED$130,MATCH(Tabulka!$AI18,Přehled_body!$A$3:$A$130,0),MATCH(Tabulka!AC$2,Přehled_body!$E$1:$ED$1,0)),)=0,0.00000000001,IFERROR(INDEX(Přehled_body!$E$3:$ED$130,MATCH(Tabulka!$AI18,Přehled_body!$A$3:$A$130,0),MATCH(Tabulka!AC$2,Přehled_body!$E$1:$ED$1,0)),)))","v":0},{"$f":"IF(IFERROR(INDEX(Přehled_body!$E$3:$ED$130,MATCH(Tabulka!$AI18,Přehled_body!$A$3:$A$130,0),MATCH(Tabulka!AD$2,Přehled_body!$E$1:$ED$1,0)),)=\"\",,IF(IFERROR(INDEX(Přehled_body!$E$3:$ED$130,MATCH(Tabulka!$AI18,Přehled_body!$A$3:$A$130,0),MATCH(Tabulka!AD$2,Přehled_body!$E$1:$ED$1,0)),)=0,0.00000000001,IFERROR(INDEX(Přehled_body!$E$3:$ED$130,MATCH(Tabulka!$AI18,Přehled_body!$A$3:$A$130,0),MATCH(Tabulka!AD$2,Přehled_body!$E$1:$ED$1,0)),)))","v":0},{"$f":"IF(SUM($D$14:$AD$18)<1,-90000,SUM(D18:AD18))","v":-90000},null,null,null,{"$f":"CONCATENATE($B$15,\" \",$B$16,C18)","v":"Petr WeinerPoč. kol"}]
[null,null,"Výhry",{"$f":"IF(IFERROR(INDEX(Přehled_body!$E$3:$ED$130,MATCH(Tabulka!$AI19,Přehled_body!$A$3:$A$130,0),MATCH(Tabulka!D$2,Přehled_body!$E$1:$ED$1,0)),)=\"\",,IF(IFERROR(INDEX(Přehled_body!$E$3:$ED$130,MATCH(Tabulka!$AI19,Přehled_body!$A$3:$A$130,0),MATCH(Tabulka!D$2,Přehled_body!$E$1:$ED$1,0)),)=0,0.00000000001,IFERROR(INDEX(Přehled_body!$E$3:$ED$130,MATCH(Tabulka!$AI19,Přehled_body!$A$3:$A$130,0),MATCH(Tabulka!D$2,Přehled_body!$E$1:$ED$1,0)),)))","v":0},{"$f":"IF(IFERROR(INDEX(Přehled_body!$E$3:$ED$130,MATCH(Tabulka!$AI19,Přehled_body!$A$3:$A$130,0),MATCH(Tabulka!E$2,Přehled_body!$E$1:$ED$1,0)),)=\"\",,IF(IFERROR(INDEX(Přehled_body!$E$3:$ED$130,MATCH(Tabulka!$AI19,Přehled_body!$A$3:$A$130,0),MATCH(Tabulka!E$2,Přehled_body!$E$1:$ED$1,0)),)=0,0.00000000001,IFERROR(INDEX(Přehled_body!$E$3:$ED$130,MATCH(Tabulka!$AI19,Přehled_body!$A$3:$A$130,0),MATCH(Tabulka!E$2,Přehled_body!$E$1:$ED$1,0)),)))","v":0},{"$f":"IF(IFERROR(INDEX(Přehled_body!$E$3:$ED$130,MATCH(Tabulka!$AI19,Přehled_body!$A$3:$A$130,0),MATCH(Tabulka!F$2,Přehled_body!$E$1:$ED$1,0)),)=\"\",,IF(IFERROR(INDEX(Přehled_body!$E$3:$ED$130,MATCH(Tabulka!$AI19,Přehled_body!$A$3:$A$130,0),MATCH(Tabulka!F$2,Přehled_body!$E$1:$ED$1,0)),)=0,0.00000000001,IFERROR(INDEX(Přehled_body!$E$3:$ED$130,MATCH(Tabulka!$AI19,Přehled_body!$A$3:$A$130,0),MATCH(Tabulka!F$2,Přehled_body!$E$1:$ED$1,0)),)))","v":0},{"$f":"IF(IFERROR(INDEX(Přehled_body!$E$3:$ED$130,MATCH(Tabulka!$AI19,Přehled_body!$A$3:$A$130,0),MATCH(Tabulka!G$2,Přehled_body!$E$1:$ED$1,0)),)=\"\",,IF(IFERROR(INDEX(Přehled_body!$E$3:$ED$130,MATCH(Tabulka!$AI19,Přehled_body!$A$3:$A$130,0),MATCH(Tabulka!G$2,Přehled_body!$E$1:$ED$1,0)),)=0,0.00000000001,IFERROR(INDEX(Přehled_body!$E$3:$ED$130,MATCH(Tabulka!$AI19,Přehled_body!$A$3:$A$130,0),MATCH(Tabulka!G$2,Přehled_body!$E$1:$ED$1,0)),)))","v":0},{"$f":"IF(IFERROR(INDEX(Přehled_body!$E$3:$ED$130,MATCH(Tabulka!$AI19,Přehled_body!$A$3:$A$130,0),MATCH(Tabulka!H$2,Přehled_body!$E$1:$ED$1,0)),)=\"\",,IF(IFERROR(INDEX(Přehled_body!$E$3:$ED$130,MATCH(Tabulka!$AI19,Přehled_body!$A$3:$A$130,0),MATCH(Tabulka!H$2,Přehled_body!$E$1:$ED$1,0)),)=0,0.00000000001,IFERROR(INDEX(Přehled_body!$E$3:$ED$130,MATCH(Tabulka!$AI19,Přehled_body!$A$3:$A$130,0),MATCH(Tabulka!H$2,Přehled_body!$E$1:$ED$1,0)),)))","v":0},{"$f":"IF(IFERROR(INDEX(Přehled_body!$E$3:$ED$130,MATCH(Tabulka!$AI19,Přehled_body!$A$3:$A$130,0),MATCH(Tabulka!I$2,Přehled_body!$E$1:$ED$1,0)),)=\"\",,IF(IFERROR(INDEX(Přehled_body!$E$3:$ED$130,MATCH(Tabulka!$AI19,Přehled_body!$A$3:$A$130,0),MATCH(Tabulka!I$2,Přehled_body!$E$1:$ED$1,0)),)=0,0.00000000001,IFERROR(INDEX(Přehled_body!$E$3:$ED$130,MATCH(Tabulka!$AI19,Přehled_body!$A$3:$A$130,0),MATCH(Tabulka!I$2,Přehled_body!$E$1:$ED$1,0)),)))","v":0},{"$f":"IF(IFERROR(INDEX(Přehled_body!$E$3:$ED$130,MATCH(Tabulka!$AI19,Přehled_body!$A$3:$A$130,0),MATCH(Tabulka!J$2,Přehled_body!$E$1:$ED$1,0)),)=\"\",,IF(IFERROR(INDEX(Přehled_body!$E$3:$ED$130,MATCH(Tabulka!$AI19,Přehled_body!$A$3:$A$130,0),MATCH(Tabulka!J$2,Přehled_body!$E$1:$ED$1,0)),)=0,0.00000000001,IFERROR(INDEX(Přehled_body!$E$3:$ED$130,MATCH(Tabulka!$AI19,Přehled_body!$A$3:$A$130,0),MATCH(Tabulka!J$2,Přehled_body!$E$1:$ED$1,0)),)))","v":0},{"$f":"IF(IFERROR(INDEX(Přehled_body!$E$3:$ED$130,MATCH(Tabulka!$AI19,Přehled_body!$A$3:$A$130,0),MATCH(Tabulka!K$2,Přehled_body!$E$1:$ED$1,0)),)=\"\",,IF(IFERROR(INDEX(Přehled_body!$E$3:$ED$130,MATCH(Tabulka!$AI19,Přehled_body!$A$3:$A$130,0),MATCH(Tabulka!K$2,Přehled_body!$E$1:$ED$1,0)),)=0,0.00000000001,IFERROR(INDEX(Přehled_body!$E$3:$ED$130,MATCH(Tabulka!$AI19,Přehled_body!$A$3:$A$130,0),MATCH(Tabulka!K$2,Přehled_body!$E$1:$ED$1,0)),)))","v":0},{"$f":"IF(IFERROR(INDEX(Přehled_body!$E$3:$ED$130,MATCH(Tabulka!$AI19,Přehled_body!$A$3:$A$130,0),MATCH(Tabulka!L$2,Přehled_body!$E$1:$ED$1,0)),)=\"\",,IF(IFERROR(INDEX(Přehled_body!$E$3:$ED$130,MATCH(Tabulka!$AI19,Přehled_body!$A$3:$A$130,0),MATCH(Tabulka!L$2,Přehled_body!$E$1:$ED$1,0)),)=0,0.00000000001,IFERROR(INDEX(Přehled_body!$E$3:$ED$130,MATCH(Tabulka!$AI19,Přehled_body!$A$3:$A$130,0),MATCH(Tabulka!L$2,Přehled_body!$E$1:$ED$1,0)),)))","v":0},{"$f":"IF(IFERROR(INDEX(Přehled_body!$E$3:$ED$130,MATCH(Tabulka!$AI19,Přehled_body!$A$3:$A$130,0),MATCH(Tabulka!M$2,Přehled_body!$E$1:$ED$1,0)),)=\"\",,IF(IFERROR(INDEX(Přehled_body!$E$3:$ED$130,MATCH(Tabulka!$AI19,Přehled_body!$A$3:$A$130,0),MATCH(Tabulka!M$2,Přehled_body!$E$1:$ED$1,0)),)=0,0.00000000001,IFERROR(INDEX(Přehled_body!$E$3:$ED$130,MATCH(Tabulka!$AI19,Přehled_body!$A$3:$A$130,0),MATCH(Tabulka!M$2,Přehled_body!$E$1:$ED$1,0)),)))","v":0},{"$f":"IF(IFERROR(INDEX(Přehled_body!$E$3:$ED$130,MATCH(Tabulka!$AI19,Přehled_body!$A$3:$A$130,0),MATCH(Tabulka!N$2,Přehled_body!$E$1:$ED$1,0)),)=\"\",,IF(IFERROR(INDEX(Přehled_body!$E$3:$ED$130,MATCH(Tabulka!$AI19,Přehled_body!$A$3:$A$130,0),MATCH(Tabulka!N$2,Přehled_body!$E$1:$ED$1,0)),)=0,0.00000000001,IFERROR(INDEX(Přehled_body!$E$3:$ED$130,MATCH(Tabulka!$AI19,Přehled_body!$A$3:$A$130,0),MATCH(Tabulka!N$2,Přehled_body!$E$1:$ED$1,0)),)))","v":0},{"$f":"IF(IFERROR(INDEX(Přehled_body!$E$3:$ED$130,MATCH(Tabulka!$AI19,Přehled_body!$A$3:$A$130,0),MATCH(Tabulka!O$2,Přehled_body!$E$1:$ED$1,0)),)=\"\",,IF(IFERROR(INDEX(Přehled_body!$E$3:$ED$130,MATCH(Tabulka!$AI19,Přehled_body!$A$3:$A$130,0),MATCH(Tabulka!O$2,Přehled_body!$E$1:$ED$1,0)),)=0,0.00000000001,IFERROR(INDEX(Přehled_body!$E$3:$ED$130,MATCH(Tabulka!$AI19,Přehled_body!$A$3:$A$130,0),MATCH(Tabulka!O$2,Přehled_body!$E$1:$ED$1,0)),)))","v":0},{"$f":"IF(IFERROR(INDEX(Přehled_body!$E$3:$ED$130,MATCH(Tabulka!$AI19,Přehled_body!$A$3:$A$130,0),MATCH(Tabulka!P$2,Přehled_body!$E$1:$ED$1,0)),)=\"\",,IF(IFERROR(INDEX(Přehled_body!$E$3:$ED$130,MATCH(Tabulka!$AI19,Přehled_body!$A$3:$A$130,0),MATCH(Tabulka!P$2,Přehled_body!$E$1:$ED$1,0)),)=0,0.00000000001,IFERROR(INDEX(Přehled_body!$E$3:$ED$130,MATCH(Tabulka!$AI19,Přehled_body!$A$3:$A$130,0),MATCH(Tabulka!P$2,Přehled_body!$E$1:$ED$1,0)),)))","v":0},{"$f":"IF(IFERROR(INDEX(Přehled_body!$E$3:$ED$130,MATCH(Tabulka!$AI19,Přehled_body!$A$3:$A$130,0),MATCH(Tabulka!Q$2,Přehled_body!$E$1:$ED$1,0)),)=\"\",,IF(IFERROR(INDEX(Přehled_body!$E$3:$ED$130,MATCH(Tabulka!$AI19,Přehled_body!$A$3:$A$130,0),MATCH(Tabulka!Q$2,Přehled_body!$E$1:$ED$1,0)),)=0,0.00000000001,IFERROR(INDEX(Přehled_body!$E$3:$ED$130,MATCH(Tabulka!$AI19,Přehled_body!$A$3:$A$130,0),MATCH(Tabulka!Q$2,Přehled_body!$E$1:$ED$1,0)),)))","v":0},{"$f":"IF(IFERROR(INDEX(Přehled_body!$E$3:$ED$130,MATCH(Tabulka!$AI19,Přehled_body!$A$3:$A$130,0),MATCH(Tabulka!R$2,Přehled_body!$E$1:$ED$1,0)),)=\"\",,IF(IFERROR(INDEX(Přehled_body!$E$3:$ED$130,MATCH(Tabulka!$AI19,Přehled_body!$A$3:$A$130,0),MATCH(Tabulka!R$2,Přehled_body!$E$1:$ED$1,0)),)=0,0.00000000001,IFERROR(INDEX(Přehled_body!$E$3:$ED$130,MATCH(Tabulka!$AI19,Přehled_body!$A$3:$A$130,0),MATCH(Tabulka!R$2,Přehled_body!$E$1:$ED$1,0)),)))","v":0},{"$f":"IF(IFERROR(INDEX(Přehled_body!$E$3:$ED$130,MATCH(Tabulka!$AI19,Přehled_body!$A$3:$A$130,0),MATCH(Tabulka!S$2,Přehled_body!$E$1:$ED$1,0)),)=\"\",,IF(IFERROR(INDEX(Přehled_body!$E$3:$ED$130,MATCH(Tabulka!$AI19,Přehled_body!$A$3:$A$130,0),MATCH(Tabulka!S$2,Přehled_body!$E$1:$ED$1,0)),)=0,0.00000000001,IFERROR(INDEX(Přehled_body!$E$3:$ED$130,MATCH(Tabulka!$AI19,Přehled_body!$A$3:$A$130,0),MATCH(Tabulka!S$2,Přehled_body!$E$1:$ED$1,0)),)))","v":0},{"$f":"IF(IFERROR(INDEX(Přehled_body!$E$3:$ED$130,MATCH(Tabulka!$AI19,Přehled_body!$A$3:$A$130,0),MATCH(Tabulka!T$2,Přehled_body!$E$1:$ED$1,0)),)=\"\",,IF(IFERROR(INDEX(Přehled_body!$E$3:$ED$130,MATCH(Tabulka!$AI19,Přehled_body!$A$3:$A$130,0),MATCH(Tabulka!T$2,Přehled_body!$E$1:$ED$1,0)),)=0,0.00000000001,IFERROR(INDEX(Přehled_body!$E$3:$ED$130,MATCH(Tabulka!$AI19,Přehled_body!$A$3:$A$130,0),MATCH(Tabulka!T$2,Přehled_body!$E$1:$ED$1,0)),)))","v":0},{"$f":"IF(IFERROR(INDEX(Přehled_body!$E$3:$ED$130,MATCH(Tabulka!$AI19,Přehled_body!$A$3:$A$130,0),MATCH(Tabulka!U$2,Přehled_body!$E$1:$ED$1,0)),)=\"\",,IF(IFERROR(INDEX(Přehled_body!$E$3:$ED$130,MATCH(Tabulka!$AI19,Přehled_body!$A$3:$A$130,0),MATCH(Tabulka!U$2,Přehled_body!$E$1:$ED$1,0)),)=0,0.00000000001,IFERROR(INDEX(Přehled_body!$E$3:$ED$130,MATCH(Tabulka!$AI19,Přehled_body!$A$3:$A$130,0),MATCH(Tabulka!U$2,Přehled_body!$E$1:$ED$1,0)),)))","v":0},{"$f":"IF(IFERROR(INDEX(Přehled_body!$E$3:$ED$130,MATCH(Tabulka!$AI19,Přehled_body!$A$3:$A$130,0),MATCH(Tabulka!V$2,Přehled_body!$E$1:$ED$1,0)),)=\"\",,IF(IFERROR(INDEX(Přehled_body!$E$3:$ED$130,MATCH(Tabulka!$AI19,Přehled_body!$A$3:$A$130,0),MATCH(Tabulka!V$2,Přehled_body!$E$1:$ED$1,0)),)=0,0.00000000001,IFERROR(INDEX(Přehled_body!$E$3:$ED$130,MATCH(Tabulka!$AI19,Přehled_body!$A$3:$A$130,0),MATCH(Tabulka!V$2,Přehled_body!$E$1:$ED$1,0)),)))","v":0},{"$f":"IF(IFERROR(INDEX(Přehled_body!$E$3:$ED$130,MATCH(Tabulka!$AI19,Přehled_body!$A$3:$A$130,0),MATCH(Tabulka!W$2,Přehled_body!$E$1:$ED$1,0)),)=\"\",,IF(IFERROR(INDEX(Přehled_body!$E$3:$ED$130,MATCH(Tabulka!$AI19,Přehled_body!$A$3:$A$130,0),MATCH(Tabulka!W$2,Přehled_body!$E$1:$ED$1,0)),)=0,0.00000000001,IFERROR(INDEX(Přehled_body!$E$3:$ED$130,MATCH(Tabulka!$AI19,Přehled_body!$A$3:$A$130,0),MATCH(Tabulka!W$2,Přehled_body!$E$1:$ED$1,0)),)))","v":0},{"$f":"IF(IFERROR(INDEX(Přehled_body!$E$3:$ED$130,MATCH(Tabulka!$AI19,Přehled_body!$A$3:$A$130,0),MATCH(Tabulka!X$2,Přehled_body!$E$1:$ED$1,0)),)=\"\",,IF(IFERROR(INDEX(Přehled_body!$E$3:$ED$130,MATCH(Tabulka!$AI19,Přehled_body!$A$3:$A$130,0),MATCH(Tabulka!X$2,Přehled_body!$E$1:$ED$1,0)),)=0,0.00000000001,IFERROR(INDEX(Přehled_body!$E$3:$ED$130,MATCH(Tabulka!$AI19,Přehled_body!$A$3:$A$130,0),MATCH(Tabulka!X$2,Přehled_body!$E$1:$ED$1,0)),)))","v":0},{"$f":"IF(IFERROR(INDEX(Přehled_body!$E$3:$ED$130,MATCH(Tabulka!$AI19,Přehled_body!$A$3:$A$130,0),MATCH(Tabulka!Y$2,Přehled_body!$E$1:$ED$1,0)),)=\"\",,IF(IFERROR(INDEX(Přehled_body!$E$3:$ED$130,MATCH(Tabulka!$AI19,Přehled_body!$A$3:$A$130,0),MATCH(Tabulka!Y$2,Přehled_body!$E$1:$ED$1,0)),)=0,0.00000000001,IFERROR(INDEX(Přehled_body!$E$3:$ED$130,MATCH(Tabulka!$AI19,Přehled_body!$A$3:$A$130,0),MATCH(Tabulka!Y$2,Přehled_body!$E$1:$ED$1,0)),)))","v":0},{"$f":"IF(IFERROR(INDEX(Přehled_body!$E$3:$ED$130,MATCH(Tabulka!$AI19,Přehled_body!$A$3:$A$130,0),MATCH(Tabulka!Z$2,Přehled_body!$E$1:$ED$1,0)),)=\"\",,IF(IFERROR(INDEX(Přehled_body!$E$3:$ED$130,MATCH(Tabulka!$AI19,Přehled_body!$A$3:$A$130,0),MATCH(Tabulka!Z$2,Přehled_body!$E$1:$ED$1,0)),)=0,0.00000000001,IFERROR(INDEX(Přehled_body!$E$3:$ED$130,MATCH(Tabulka!$AI19,Přehled_body!$A$3:$A$130,0),MATCH(Tabulka!Z$2,Přehled_body!$E$1:$ED$1,0)),)))","v":0},{"$f":"IF(IFERROR(INDEX(Přehled_body!$E$3:$ED$130,MATCH(Tabulka!$AI19,Přehled_body!$A$3:$A$130,0),MATCH(Tabulka!AA$2,Přehled_body!$E$1:$ED$1,0)),)=\"\",,IF(IFERROR(INDEX(Přehled_body!$E$3:$ED$130,MATCH(Tabulka!$AI19,Přehled_body!$A$3:$A$130,0),MATCH(Tabulka!AA$2,Přehled_body!$E$1:$ED$1,0)),)=0,0.00000000001,IFERROR(INDEX(Přehled_body!$E$3:$ED$130,MATCH(Tabulka!$AI19,Přehled_body!$A$3:$A$130,0),MATCH(Tabulka!AA$2,Přehled_body!$E$1:$ED$1,0)),)))","v":0},{"$f":"IF(IFERROR(INDEX(Přehled_body!$E$3:$ED$130,MATCH(Tabulka!$AI19,Přehled_body!$A$3:$A$130,0),MATCH(Tabulka!AB$2,Přehled_body!$E$1:$ED$1,0)),)=\"\",,IF(IFERROR(INDEX(Přehled_body!$E$3:$ED$130,MATCH(Tabulka!$AI19,Přehled_body!$A$3:$A$130,0),MATCH(Tabulka!AB$2,Přehled_body!$E$1:$ED$1,0)),)=0,0.00000000001,IFERROR(INDEX(Přehled_body!$E$3:$ED$130,MATCH(Tabulka!$AI19,Přehled_body!$A$3:$A$130,0),MATCH(Tabulka!AB$2,Přehled_body!$E$1:$ED$1,0)),)))","v":0},{"$f":"IF(IFERROR(INDEX(Přehled_body!$E$3:$ED$130,MATCH(Tabulka!$AI19,Přehled_body!$A$3:$A$130,0),MATCH(Tabulka!AC$2,Přehled_body!$E$1:$ED$1,0)),)=\"\",,IF(IFERROR(INDEX(Přehled_body!$E$3:$ED$130,MATCH(Tabulka!$AI19,Přehled_body!$A$3:$A$130,0),MATCH(Tabulka!AC$2,Přehled_body!$E$1:$ED$1,0)),)=0,0.00000000001,IFERROR(INDEX(Přehled_body!$E$3:$ED$130,MATCH(Tabulka!$AI19,Přehled_body!$A$3:$A$130,0),MATCH(Tabulka!AC$2,Přehled_body!$E$1:$ED$1,0)),)))","v":0},{"$f":"IF(IFERROR(INDEX(Přehled_body!$E$3:$ED$130,MATCH(Tabulka!$AI19,Přehled_body!$A$3:$A$130,0),MATCH(Tabulka!AD$2,Přehled_body!$E$1:$ED$1,0)),)=\"\",,IF(IFERROR(INDEX(Přehled_body!$E$3:$ED$130,MATCH(Tabulka!$AI19,Přehled_body!$A$3:$A$130,0),MATCH(Tabulka!AD$2,Přehled_body!$E$1:$ED$1,0)),)=0,0.00000000001,IFERROR(INDEX(Přehled_body!$E$3:$ED$130,MATCH(Tabulka!$AI19,Přehled_body!$A$3:$A$130,0),MATCH(Tabulka!AD$2,Přehled_body!$E$1:$ED$1,0)),)))","v":0},{"$f":"IF(SUM($D$19:$AD$23)<1,-90000,SUM(D19:AD19))","v":-90000},null,{"$f":"COUNTIF(D19:AD19,\">0\")","v":0},null,{"$f":"CONCATENATE($B$20,\" \",$B$21,C19)","v":"Pavel PernekrVýhry"}]
[{"$f":"CONCATENATE(B20,\" \",B21)","v":"Pavel Pernekr"},"Pavel","Prohry",{"$f":"IF(IFERROR(INDEX(Přehled_body!$E$3:$ED$130,MATCH(Tabulka!$AI20,Přehled_body!$A$3:$A$130,0),MATCH(Tabulka!D$2,Přehled_body!$E$1:$ED$1,0)),)=\"\",,IF(IFERROR(INDEX(Přehled_body!$E$3:$ED$130,MATCH(Tabulka!$AI20,Přehled_body!$A$3:$A$130,0),MATCH(Tabulka!D$2,Přehled_body!$E$1:$ED$1,0)),)=0,0.00000000001,IFERROR(INDEX(Přehled_body!$E$3:$ED$130,MATCH(Tabulka!$AI20,Přehled_body!$A$3:$A$130,0),MATCH(Tabulka!D$2,Přehled_body!$E$1:$ED$1,0)),)))","v":0},{"$f":"IF(IFERROR(INDEX(Přehled_body!$E$3:$ED$130,MATCH(Tabulka!$AI20,Přehled_body!$A$3:$A$130,0),MATCH(Tabulka!E$2,Přehled_body!$E$1:$ED$1,0)),)=\"\",,IF(IFERROR(INDEX(Přehled_body!$E$3:$ED$130,MATCH(Tabulka!$AI20,Přehled_body!$A$3:$A$130,0),MATCH(Tabulka!E$2,Přehled_body!$E$1:$ED$1,0)),)=0,0.00000000001,IFERROR(INDEX(Přehled_body!$E$3:$ED$130,MATCH(Tabulka!$AI20,Přehled_body!$A$3:$A$130,0),MATCH(Tabulka!E$2,Přehled_body!$E$1:$ED$1,0)),)))","v":0},{"$f":"IF(IFERROR(INDEX(Přehled_body!$E$3:$ED$130,MATCH(Tabulka!$AI20,Přehled_body!$A$3:$A$130,0),MATCH(Tabulka!F$2,Přehled_body!$E$1:$ED$1,0)),)=\"\",,IF(IFERROR(INDEX(Přehled_body!$E$3:$ED$130,MATCH(Tabulka!$AI20,Přehled_body!$A$3:$A$130,0),MATCH(Tabulka!F$2,Přehled_body!$E$1:$ED$1,0)),)=0,0.00000000001,IFERROR(INDEX(Přehled_body!$E$3:$ED$130,MATCH(Tabulka!$AI20,Přehled_body!$A$3:$A$130,0),MATCH(Tabulka!F$2,Přehled_body!$E$1:$ED$1,0)),)))","v":0},{"$f":"IF(IFERROR(INDEX(Přehled_body!$E$3:$ED$130,MATCH(Tabulka!$AI20,Přehled_body!$A$3:$A$130,0),MATCH(Tabulka!G$2,Přehled_body!$E$1:$ED$1,0)),)=\"\",,IF(IFERROR(INDEX(Přehled_body!$E$3:$ED$130,MATCH(Tabulka!$AI20,Přehled_body!$A$3:$A$130,0),MATCH(Tabulka!G$2,Přehled_body!$E$1:$ED$1,0)),)=0,0.00000000001,IFERROR(INDEX(Přehled_body!$E$3:$ED$130,MATCH(Tabulka!$AI20,Přehled_body!$A$3:$A$130,0),MATCH(Tabulka!G$2,Přehled_body!$E$1:$ED$1,0)),)))","v":0},{"$f":"IF(IFERROR(INDEX(Přehled_body!$E$3:$ED$130,MATCH(Tabulka!$AI20,Přehled_body!$A$3:$A$130,0),MATCH(Tabulka!H$2,Přehled_body!$E$1:$ED$1,0)),)=\"\",,IF(IFERROR(INDEX(Přehled_body!$E$3:$ED$130,MATCH(Tabulka!$AI20,Přehled_body!$A$3:$A$130,0),MATCH(Tabulka!H$2,Přehled_body!$E$1:$ED$1,0)),)=0,0.00000000001,IFERROR(INDEX(Přehled_body!$E$3:$ED$130,MATCH(Tabulka!$AI20,Přehled_body!$A$3:$A$130,0),MATCH(Tabulka!H$2,Přehled_body!$E$1:$ED$1,0)),)))","v":0},{"$f":"IF(IFERROR(INDEX(Přehled_body!$E$3:$ED$130,MATCH(Tabulka!$AI20,Přehled_body!$A$3:$A$130,0),MATCH(Tabulka!I$2,Přehled_body!$E$1:$ED$1,0)),)=\"\",,IF(IFERROR(INDEX(Přehled_body!$E$3:$ED$130,MATCH(Tabulka!$AI20,Přehled_body!$A$3:$A$130,0),MATCH(Tabulka!I$2,Přehled_body!$E$1:$ED$1,0)),)=0,0.00000000001,IFERROR(INDEX(Přehled_body!$E$3:$ED$130,MATCH(Tabulka!$AI20,Přehled_body!$A$3:$A$130,0),MATCH(Tabulka!I$2,Přehled_body!$E$1:$ED$1,0)),)))","v":0},{"$f":"IF(IFERROR(INDEX(Přehled_body!$E$3:$ED$130,MATCH(Tabulka!$AI20,Přehled_body!$A$3:$A$130,0),MATCH(Tabulka!J$2,Přehled_body!$E$1:$ED$1,0)),)=\"\",,IF(IFERROR(INDEX(Přehled_body!$E$3:$ED$130,MATCH(Tabulka!$AI20,Přehled_body!$A$3:$A$130,0),MATCH(Tabulka!J$2,Přehled_body!$E$1:$ED$1,0)),)=0,0.00000000001,IFERROR(INDEX(Přehled_body!$E$3:$ED$130,MATCH(Tabulka!$AI20,Přehled_body!$A$3:$A$130,0),MATCH(Tabulka!J$2,Přehled_body!$E$1:$ED$1,0)),)))","v":0},{"$f":"IF(IFERROR(INDEX(Přehled_body!$E$3:$ED$130,MATCH(Tabulka!$AI20,Přehled_body!$A$3:$A$130,0),MATCH(Tabulka!K$2,Přehled_body!$E$1:$ED$1,0)),)=\"\",,IF(IFERROR(INDEX(Přehled_body!$E$3:$ED$130,MATCH(Tabulka!$AI20,Přehled_body!$A$3:$A$130,0),MATCH(Tabulka!K$2,Přehled_body!$E$1:$ED$1,0)),)=0,0.00000000001,IFERROR(INDEX(Přehled_body!$E$3:$ED$130,MATCH(Tabulka!$AI20,Přehled_body!$A$3:$A$130,0),MATCH(Tabulka!K$2,Přehled_body!$E$1:$ED$1,0)),)))","v":0},{"$f":"IF(IFERROR(INDEX(Přehled_body!$E$3:$ED$130,MATCH(Tabulka!$AI20,Přehled_body!$A$3:$A$130,0),MATCH(Tabulka!L$2,Přehled_body!$E$1:$ED$1,0)),)=\"\",,IF(IFERROR(INDEX(Přehled_body!$E$3:$ED$130,MATCH(Tabulka!$AI20,Přehled_body!$A$3:$A$130,0),MATCH(Tabulka!L$2,Přehled_body!$E$1:$ED$1,0)),)=0,0.00000000001,IFERROR(INDEX(Přehled_body!$E$3:$ED$130,MATCH(Tabulka!$AI20,Přehled_body!$A$3:$A$130,0),MATCH(Tabulka!L$2,Přehled_body!$E$1:$ED$1,0)),)))","v":0},{"$f":"IF(IFERROR(INDEX(Přehled_body!$E$3:$ED$130,MATCH(Tabulka!$AI20,Přehled_body!$A$3:$A$130,0),MATCH(Tabulka!M$2,Přehled_body!$E$1:$ED$1,0)),)=\"\",,IF(IFERROR(INDEX(Přehled_body!$E$3:$ED$130,MATCH(Tabulka!$AI20,Přehled_body!$A$3:$A$130,0),MATCH(Tabulka!M$2,Přehled_body!$E$1:$ED$1,0)),)=0,0.00000000001,IFERROR(INDEX(Přehled_body!$E$3:$ED$130,MATCH(Tabulka!$AI20,Přehled_body!$A$3:$A$130,0),MATCH(Tabulka!M$2,Přehled_body!$E$1:$ED$1,0)),)))","v":0},{"$f":"IF(IFERROR(INDEX(Přehled_body!$E$3:$ED$130,MATCH(Tabulka!$AI20,Přehled_body!$A$3:$A$130,0),MATCH(Tabulka!N$2,Přehled_body!$E$1:$ED$1,0)),)=\"\",,IF(IFERROR(INDEX(Přehled_body!$E$3:$ED$130,MATCH(Tabulka!$AI20,Přehled_body!$A$3:$A$130,0),MATCH(Tabulka!N$2,Přehled_body!$E$1:$ED$1,0)),)=0,0.00000000001,IFERROR(INDEX(Přehled_body!$E$3:$ED$130,MATCH(Tabulka!$AI20,Přehled_body!$A$3:$A$130,0),MATCH(Tabulka!N$2,Přehled_body!$E$1:$ED$1,0)),)))","v":0},{"$f":"IF(IFERROR(INDEX(Přehled_body!$E$3:$ED$130,MATCH(Tabulka!$AI20,Přehled_body!$A$3:$A$130,0),MATCH(Tabulka!O$2,Přehled_body!$E$1:$ED$1,0)),)=\"\",,IF(IFERROR(INDEX(Přehled_body!$E$3:$ED$130,MATCH(Tabulka!$AI20,Přehled_body!$A$3:$A$130,0),MATCH(Tabulka!O$2,Přehled_body!$E$1:$ED$1,0)),)=0,0.00000000001,IFERROR(INDEX(Přehled_body!$E$3:$ED$130,MATCH(Tabulka!$AI20,Přehled_body!$A$3:$A$130,0),MATCH(Tabulka!O$2,Přehled_body!$E$1:$ED$1,0)),)))","v":0},{"$f":"IF(IFERROR(INDEX(Přehled_body!$E$3:$ED$130,MATCH(Tabulka!$AI20,Přehled_body!$A$3:$A$130,0),MATCH(Tabulka!P$2,Přehled_body!$E$1:$ED$1,0)),)=\"\",,IF(IFERROR(INDEX(Přehled_body!$E$3:$ED$130,MATCH(Tabulka!$AI20,Přehled_body!$A$3:$A$130,0),MATCH(Tabulka!P$2,Přehled_body!$E$1:$ED$1,0)),)=0,0.00000000001,IFERROR(INDEX(Přehled_body!$E$3:$ED$130,MATCH(Tabulka!$AI20,Přehled_body!$A$3:$A$130,0),MATCH(Tabulka!P$2,Přehled_body!$E$1:$ED$1,0)),)))","v":0},{"$f":"IF(IFERROR(INDEX(Přehled_body!$E$3:$ED$130,MATCH(Tabulka!$AI20,Přehled_body!$A$3:$A$130,0),MATCH(Tabulka!Q$2,Přehled_body!$E$1:$ED$1,0)),)=\"\",,IF(IFERROR(INDEX(Přehled_body!$E$3:$ED$130,MATCH(Tabulka!$AI20,Přehled_body!$A$3:$A$130,0),MATCH(Tabulka!Q$2,Přehled_body!$E$1:$ED$1,0)),)=0,0.00000000001,IFERROR(INDEX(Přehled_body!$E$3:$ED$130,MATCH(Tabulka!$AI20,Přehled_body!$A$3:$A$130,0),MATCH(Tabulka!Q$2,Přehled_body!$E$1:$ED$1,0)),)))","v":0},{"$f":"IF(IFERROR(INDEX(Přehled_body!$E$3:$ED$130,MATCH(Tabulka!$AI20,Přehled_body!$A$3:$A$130,0),MATCH(Tabulka!R$2,Přehled_body!$E$1:$ED$1,0)),)=\"\",,IF(IFERROR(INDEX(Přehled_body!$E$3:$ED$130,MATCH(Tabulka!$AI20,Přehled_body!$A$3:$A$130,0),MATCH(Tabulka!R$2,Přehled_body!$E$1:$ED$1,0)),)=0,0.00000000001,IFERROR(INDEX(Přehled_body!$E$3:$ED$130,MATCH(Tabulka!$AI20,Přehled_body!$A$3:$A$130,0),MATCH(Tabulka!R$2,Přehled_body!$E$1:$ED$1,0)),)))","v":0},{"$f":"IF(IFERROR(INDEX(Přehled_body!$E$3:$ED$130,MATCH(Tabulka!$AI20,Přehled_body!$A$3:$A$130,0),MATCH(Tabulka!S$2,Přehled_body!$E$1:$ED$1,0)),)=\"\",,IF(IFERROR(INDEX(Přehled_body!$E$3:$ED$130,MATCH(Tabulka!$AI20,Přehled_body!$A$3:$A$130,0),MATCH(Tabulka!S$2,Přehled_body!$E$1:$ED$1,0)),)=0,0.00000000001,IFERROR(INDEX(Přehled_body!$E$3:$ED$130,MATCH(Tabulka!$AI20,Přehled_body!$A$3:$A$130,0),MATCH(Tabulka!S$2,Přehled_body!$E$1:$ED$1,0)),)))","v":0},{"$f":"IF(IFERROR(INDEX(Přehled_body!$E$3:$ED$130,MATCH(Tabulka!$AI20,Přehled_body!$A$3:$A$130,0),MATCH(Tabulka!T$2,Přehled_body!$E$1:$ED$1,0)),)=\"\",,IF(IFERROR(INDEX(Přehled_body!$E$3:$ED$130,MATCH(Tabulka!$AI20,Přehled_body!$A$3:$A$130,0),MATCH(Tabulka!T$2,Přehled_body!$E$1:$ED$1,0)),)=0,0.00000000001,IFERROR(INDEX(Přehled_body!$E$3:$ED$130,MATCH(Tabulka!$AI20,Přehled_body!$A$3:$A$130,0),MATCH(Tabulka!T$2,Přehled_body!$E$1:$ED$1,0)),)))","v":0},{"$f":"IF(IFERROR(INDEX(Přehled_body!$E$3:$ED$130,MATCH(Tabulka!$AI20,Přehled_body!$A$3:$A$130,0),MATCH(Tabulka!U$2,Přehled_body!$E$1:$ED$1,0)),)=\"\",,IF(IFERROR(INDEX(Přehled_body!$E$3:$ED$130,MATCH(Tabulka!$AI20,Přehled_body!$A$3:$A$130,0),MATCH(Tabulka!U$2,Přehled_body!$E$1:$ED$1,0)),)=0,0.00000000001,IFERROR(INDEX(Přehled_body!$E$3:$ED$130,MATCH(Tabulka!$AI20,Přehled_body!$A$3:$A$130,0),MATCH(Tabulka!U$2,Přehled_body!$E$1:$ED$1,0)),)))","v":0},{"$f":"IF(IFERROR(INDEX(Přehled_body!$E$3:$ED$130,MATCH(Tabulka!$AI20,Přehled_body!$A$3:$A$130,0),MATCH(Tabulka!V$2,Přehled_body!$E$1:$ED$1,0)),)=\"\",,IF(IFERROR(INDEX(Přehled_body!$E$3:$ED$130,MATCH(Tabulka!$AI20,Přehled_body!$A$3:$A$130,0),MATCH(Tabulka!V$2,Přehled_body!$E$1:$ED$1,0)),)=0,0.00000000001,IFERROR(INDEX(Přehled_body!$E$3:$ED$130,MATCH(Tabulka!$AI20,Přehled_body!$A$3:$A$130,0),MATCH(Tabulka!V$2,Přehled_body!$E$1:$ED$1,0)),)))","v":0},{"$f":"IF(IFERROR(INDEX(Přehled_body!$E$3:$ED$130,MATCH(Tabulka!$AI20,Přehled_body!$A$3:$A$130,0),MATCH(Tabulka!W$2,Přehled_body!$E$1:$ED$1,0)),)=\"\",,IF(IFERROR(INDEX(Přehled_body!$E$3:$ED$130,MATCH(Tabulka!$AI20,Přehled_body!$A$3:$A$130,0),MATCH(Tabulka!W$2,Přehled_body!$E$1:$ED$1,0)),)=0,0.00000000001,IFERROR(INDEX(Přehled_body!$E$3:$ED$130,MATCH(Tabulka!$AI20,Přehled_body!$A$3:$A$130,0),MATCH(Tabulka!W$2,Přehled_body!$E$1:$ED$1,0)),)))","v":0},{"$f":"IF(IFERROR(INDEX(Přehled_body!$E$3:$ED$130,MATCH(Tabulka!$AI20,Přehled_body!$A$3:$A$130,0),MATCH(Tabulka!X$2,Přehled_body!$E$1:$ED$1,0)),)=\"\",,IF(IFERROR(INDEX(Přehled_body!$E$3:$ED$130,MATCH(Tabulka!$AI20,Přehled_body!$A$3:$A$130,0),MATCH(Tabulka!X$2,Přehled_body!$E$1:$ED$1,0)),)=0,0.00000000001,IFERROR(INDEX(Přehled_body!$E$3:$ED$130,MATCH(Tabulka!$AI20,Přehled_body!$A$3:$A$130,0),MATCH(Tabulka!X$2,Přehled_body!$E$1:$ED$1,0)),)))","v":0},{"$f":"IF(IFERROR(INDEX(Přehled_body!$E$3:$ED$130,MATCH(Tabulka!$AI20,Přehled_body!$A$3:$A$130,0),MATCH(Tabulka!Y$2,Přehled_body!$E$1:$ED$1,0)),)=\"\",,IF(IFERROR(INDEX(Přehled_body!$E$3:$ED$130,MATCH(Tabulka!$AI20,Přehled_body!$A$3:$A$130,0),MATCH(Tabulka!Y$2,Přehled_body!$E$1:$ED$1,0)),)=0,0.00000000001,IFERROR(INDEX(Přehled_body!$E$3:$ED$130,MATCH(Tabulka!$AI20,Přehled_body!$A$3:$A$130,0),MATCH(Tabulka!Y$2,Přehled_body!$E$1:$ED$1,0)),)))","v":0},{"$f":"IF(IFERROR(INDEX(Přehled_body!$E$3:$ED$130,MATCH(Tabulka!$AI20,Přehled_body!$A$3:$A$130,0),MATCH(Tabulka!Z$2,Přehled_body!$E$1:$ED$1,0)),)=\"\",,IF(IFERROR(INDEX(Přehled_body!$E$3:$ED$130,MATCH(Tabulka!$AI20,Přehled_body!$A$3:$A$130,0),MATCH(Tabulka!Z$2,Přehled_body!$E$1:$ED$1,0)),)=0,0.00000000001,IFERROR(INDEX(Přehled_body!$E$3:$ED$130,MATCH(Tabulka!$AI20,Přehled_body!$A$3:$A$130,0),MATCH(Tabulka!Z$2,Přehled_body!$E$1:$ED$1,0)),)))","v":0},{"$f":"IF(IFERROR(INDEX(Přehled_body!$E$3:$ED$130,MATCH(Tabulka!$AI20,Přehled_body!$A$3:$A$130,0),MATCH(Tabulka!AA$2,Přehled_body!$E$1:$ED$1,0)),)=\"\",,IF(IFERROR(INDEX(Přehled_body!$E$3:$ED$130,MATCH(Tabulka!$AI20,Přehled_body!$A$3:$A$130,0),MATCH(Tabulka!AA$2,Přehled_body!$E$1:$ED$1,0)),)=0,0.00000000001,IFERROR(INDEX(Přehled_body!$E$3:$ED$130,MATCH(Tabulka!$AI20,Přehled_body!$A$3:$A$130,0),MATCH(Tabulka!AA$2,Přehled_body!$E$1:$ED$1,0)),)))","v":0},{"$f":"IF(IFERROR(INDEX(Přehled_body!$E$3:$ED$130,MATCH(Tabulka!$AI20,Přehled_body!$A$3:$A$130,0),MATCH(Tabulka!AB$2,Přehled_body!$E$1:$ED$1,0)),)=\"\",,IF(IFERROR(INDEX(Přehled_body!$E$3:$ED$130,MATCH(Tabulka!$AI20,Přehled_body!$A$3:$A$130,0),MATCH(Tabulka!AB$2,Přehled_body!$E$1:$ED$1,0)),)=0,0.00000000001,IFERROR(INDEX(Přehled_body!$E$3:$ED$130,MATCH(Tabulka!$AI20,Přehled_body!$A$3:$A$130,0),MATCH(Tabulka!AB$2,Přehled_body!$E$1:$ED$1,0)),)))","v":0},{"$f":"IF(IFERROR(INDEX(Přehled_body!$E$3:$ED$130,MATCH(Tabulka!$AI20,Přehled_body!$A$3:$A$130,0),MATCH(Tabulka!AC$2,Přehled_body!$E$1:$ED$1,0)),)=\"\",,IF(IFERROR(INDEX(Přehled_body!$E$3:$ED$130,MATCH(Tabulka!$AI20,Přehled_body!$A$3:$A$130,0),MATCH(Tabulka!AC$2,Přehled_body!$E$1:$ED$1,0)),)=0,0.00000000001,IFERROR(INDEX(Přehled_body!$E$3:$ED$130,MATCH(Tabulka!$AI20,Přehled_body!$A$3:$A$130,0),MATCH(Tabulka!AC$2,Přehled_body!$E$1:$ED$1,0)),)))","v":0},{"$f":"IF(IFERROR(INDEX(Přehled_body!$E$3:$ED$130,MATCH(Tabulka!$AI20,Přehled_body!$A$3:$A$130,0),MATCH(Tabulka!AD$2,Přehled_body!$E$1:$ED$1,0)),)=\"\",,IF(IFERROR(INDEX(Přehled_body!$E$3:$ED$130,MATCH(Tabulka!$AI20,Přehled_body!$A$3:$A$130,0),MATCH(Tabulka!AD$2,Přehled_body!$E$1:$ED$1,0)),)=0,0.00000000001,IFERROR(INDEX(Přehled_body!$E$3:$ED$130,MATCH(Tabulka!$AI20,Přehled_body!$A$3:$A$130,0),MATCH(Tabulka!AD$2,Přehled_body!$E$1:$ED$1,0)),)))","v":0},{"$f":"IF(SUM($D$19:$AD$23)<1,-90000,SUM(D20:AD20))","v":-90000},{"$f":"IF(AE23>0.9,SUM(AE19-AE20)+0.00000001,0)","v":0},null,null,{"$f":"CONCATENATE($B$20,\" \",$B$21,C20)","v":"Pavel PernekrProhry"}]
[{"$f":"CONCATENATE(B21,\" \",B20)","v":"Pernekr Pavel"},"Pernekr","Placeno panáků",{"$f":"IF(IFERROR(INDEX(Přehled_body!$E$3:$ED$130,MATCH(Tabulka!$AI21,Přehled_body!$A$3:$A$130,0),MATCH(Tabulka!D$2,Přehled_body!$E$1:$ED$1,0)),)=\"\",,IF(IFERROR(INDEX(Přehled_body!$E$3:$ED$130,MATCH(Tabulka!$AI21,Přehled_body!$A$3:$A$130,0),MATCH(Tabulka!D$2,Přehled_body!$E$1:$ED$1,0)),)=0,0.00000000001,IFERROR(INDEX(Přehled_body!$E$3:$ED$130,MATCH(Tabulka!$AI21,Přehled_body!$A$3:$A$130,0),MATCH(Tabulka!D$2,Přehled_body!$E$1:$ED$1,0)),)))","v":0},{"$f":"IF(IFERROR(INDEX(Přehled_body!$E$3:$ED$130,MATCH(Tabulka!$AI21,Přehled_body!$A$3:$A$130,0),MATCH(Tabulka!E$2,Přehled_body!$E$1:$ED$1,0)),)=\"\",,IF(IFERROR(INDEX(Přehled_body!$E$3:$ED$130,MATCH(Tabulka!$AI21,Přehled_body!$A$3:$A$130,0),MATCH(Tabulka!E$2,Přehled_body!$E$1:$ED$1,0)),)=0,0.00000000001,IFERROR(INDEX(Přehled_body!$E$3:$ED$130,MATCH(Tabulka!$AI21,Přehled_body!$A$3:$A$130,0),MATCH(Tabulka!E$2,Přehled_body!$E$1:$ED$1,0)),)))","v":0},{"$f":"IF(IFERROR(INDEX(Přehled_body!$E$3:$ED$130,MATCH(Tabulka!$AI21,Přehled_body!$A$3:$A$130,0),MATCH(Tabulka!F$2,Přehled_body!$E$1:$ED$1,0)),)=\"\",,IF(IFERROR(INDEX(Přehled_body!$E$3:$ED$130,MATCH(Tabulka!$AI21,Přehled_body!$A$3:$A$130,0),MATCH(Tabulka!F$2,Přehled_body!$E$1:$ED$1,0)),)=0,0.00000000001,IFERROR(INDEX(Přehled_body!$E$3:$ED$130,MATCH(Tabulka!$AI21,Přehled_body!$A$3:$A$130,0),MATCH(Tabulka!F$2,Přehled_body!$E$1:$ED$1,0)),)))","v":0},{"$f":"IF(IFERROR(INDEX(Přehled_body!$E$3:$ED$130,MATCH(Tabulka!$AI21,Přehled_body!$A$3:$A$130,0),MATCH(Tabulka!G$2,Přehled_body!$E$1:$ED$1,0)),)=\"\",,IF(IFERROR(INDEX(Přehled_body!$E$3:$ED$130,MATCH(Tabulka!$AI21,Přehled_body!$A$3:$A$130,0),MATCH(Tabulka!G$2,Přehled_body!$E$1:$ED$1,0)),)=0,0.00000000001,IFERROR(INDEX(Přehled_body!$E$3:$ED$130,MATCH(Tabulka!$AI21,Přehled_body!$A$3:$A$130,0),MATCH(Tabulka!G$2,Přehled_body!$E$1:$ED$1,0)),)))","v":0},{"$f":"IF(IFERROR(INDEX(Přehled_body!$E$3:$ED$130,MATCH(Tabulka!$AI21,Přehled_body!$A$3:$A$130,0),MATCH(Tabulka!H$2,Přehled_body!$E$1:$ED$1,0)),)=\"\",,IF(IFERROR(INDEX(Přehled_body!$E$3:$ED$130,MATCH(Tabulka!$AI21,Přehled_body!$A$3:$A$130,0),MATCH(Tabulka!H$2,Přehled_body!$E$1:$ED$1,0)),)=0,0.00000000001,IFERROR(INDEX(Přehled_body!$E$3:$ED$130,MATCH(Tabulka!$AI21,Přehled_body!$A$3:$A$130,0),MATCH(Tabulka!H$2,Přehled_body!$E$1:$ED$1,0)),)))","v":0},{"$f":"IF(IFERROR(INDEX(Přehled_body!$E$3:$ED$130,MATCH(Tabulka!$AI21,Přehled_body!$A$3:$A$130,0),MATCH(Tabulka!I$2,Přehled_body!$E$1:$ED$1,0)),)=\"\",,IF(IFERROR(INDEX(Přehled_body!$E$3:$ED$130,MATCH(Tabulka!$AI21,Přehled_body!$A$3:$A$130,0),MATCH(Tabulka!I$2,Přehled_body!$E$1:$ED$1,0)),)=0,0.00000000001,IFERROR(INDEX(Přehled_body!$E$3:$ED$130,MATCH(Tabulka!$AI21,Přehled_body!$A$3:$A$130,0),MATCH(Tabulka!I$2,Přehled_body!$E$1:$ED$1,0)),)))","v":0},{"$f":"IF(IFERROR(INDEX(Přehled_body!$E$3:$ED$130,MATCH(Tabulka!$AI21,Přehled_body!$A$3:$A$130,0),MATCH(Tabulka!J$2,Přehled_body!$E$1:$ED$1,0)),)=\"\",,IF(IFERROR(INDEX(Přehled_body!$E$3:$ED$130,MATCH(Tabulka!$AI21,Přehled_body!$A$3:$A$130,0),MATCH(Tabulka!J$2,Přehled_body!$E$1:$ED$1,0)),)=0,0.00000000001,IFERROR(INDEX(Přehled_body!$E$3:$ED$130,MATCH(Tabulka!$AI21,Přehled_body!$A$3:$A$130,0),MATCH(Tabulka!J$2,Přehled_body!$E$1:$ED$1,0)),)))","v":0},{"$f":"IF(IFERROR(INDEX(Přehled_body!$E$3:$ED$130,MATCH(Tabulka!$AI21,Přehled_body!$A$3:$A$130,0),MATCH(Tabulka!K$2,Přehled_body!$E$1:$ED$1,0)),)=\"\",,IF(IFERROR(INDEX(Přehled_body!$E$3:$ED$130,MATCH(Tabulka!$AI21,Přehled_body!$A$3:$A$130,0),MATCH(Tabulka!K$2,Přehled_body!$E$1:$ED$1,0)),)=0,0.00000000001,IFERROR(INDEX(Přehled_body!$E$3:$ED$130,MATCH(Tabulka!$AI21,Přehled_body!$A$3:$A$130,0),MATCH(Tabulka!K$2,Přehled_body!$E$1:$ED$1,0)),)))","v":0},{"$f":"IF(IFERROR(INDEX(Přehled_body!$E$3:$ED$130,MATCH(Tabulka!$AI21,Přehled_body!$A$3:$A$130,0),MATCH(Tabulka!L$2,Přehled_body!$E$1:$ED$1,0)),)=\"\",,IF(IFERROR(INDEX(Přehled_body!$E$3:$ED$130,MATCH(Tabulka!$AI21,Přehled_body!$A$3:$A$130,0),MATCH(Tabulka!L$2,Přehled_body!$E$1:$ED$1,0)),)=0,0.00000000001,IFERROR(INDEX(Přehled_body!$E$3:$ED$130,MATCH(Tabulka!$AI21,Přehled_body!$A$3:$A$130,0),MATCH(Tabulka!L$2,Přehled_body!$E$1:$ED$1,0)),)))","v":0},{"$f":"IF(IFERROR(INDEX(Přehled_body!$E$3:$ED$130,MATCH(Tabulka!$AI21,Přehled_body!$A$3:$A$130,0),MATCH(Tabulka!M$2,Přehled_body!$E$1:$ED$1,0)),)=\"\",,IF(IFERROR(INDEX(Přehled_body!$E$3:$ED$130,MATCH(Tabulka!$AI21,Přehled_body!$A$3:$A$130,0),MATCH(Tabulka!M$2,Přehled_body!$E$1:$ED$1,0)),)=0,0.00000000001,IFERROR(INDEX(Přehled_body!$E$3:$ED$130,MATCH(Tabulka!$AI21,Přehled_body!$A$3:$A$130,0),MATCH(Tabulka!M$2,Přehled_body!$E$1:$ED$1,0)),)))","v":0},{"$f":"IF(IFERROR(INDEX(Přehled_body!$E$3:$ED$130,MATCH(Tabulka!$AI21,Přehled_body!$A$3:$A$130,0),MATCH(Tabulka!N$2,Přehled_body!$E$1:$ED$1,0)),)=\"\",,IF(IFERROR(INDEX(Přehled_body!$E$3:$ED$130,MATCH(Tabulka!$AI21,Přehled_body!$A$3:$A$130,0),MATCH(Tabulka!N$2,Přehled_body!$E$1:$ED$1,0)),)=0,0.00000000001,IFERROR(INDEX(Přehled_body!$E$3:$ED$130,MATCH(Tabulka!$AI21,Přehled_body!$A$3:$A$130,0),MATCH(Tabulka!N$2,Přehled_body!$E$1:$ED$1,0)),)))","v":0},{"$f":"IF(IFERROR(INDEX(Přehled_body!$E$3:$ED$130,MATCH(Tabulka!$AI21,Přehled_body!$A$3:$A$130,0),MATCH(Tabulka!O$2,Přehled_body!$E$1:$ED$1,0)),)=\"\",,IF(IFERROR(INDEX(Přehled_body!$E$3:$ED$130,MATCH(Tabulka!$AI21,Přehled_body!$A$3:$A$130,0),MATCH(Tabulka!O$2,Přehled_body!$E$1:$ED$1,0)),)=0,0.00000000001,IFERROR(INDEX(Přehled_body!$E$3:$ED$130,MATCH(Tabulka!$AI21,Přehled_body!$A$3:$A$130,0),MATCH(Tabulka!O$2,Přehled_body!$E$1:$ED$1,0)),)))","v":0},{"$f":"IF(IFERROR(INDEX(Přehled_body!$E$3:$ED$130,MATCH(Tabulka!$AI21,Přehled_body!$A$3:$A$130,0),MATCH(Tabulka!P$2,Přehled_body!$E$1:$ED$1,0)),)=\"\",,IF(IFERROR(INDEX(Přehled_body!$E$3:$ED$130,MATCH(Tabulka!$AI21,Přehled_body!$A$3:$A$130,0),MATCH(Tabulka!P$2,Přehled_body!$E$1:$ED$1,0)),)=0,0.00000000001,IFERROR(INDEX(Přehled_body!$E$3:$ED$130,MATCH(Tabulka!$AI21,Přehled_body!$A$3:$A$130,0),MATCH(Tabulka!P$2,Přehled_body!$E$1:$ED$1,0)),)))","v":0},{"$f":"IF(IFERROR(INDEX(Přehled_body!$E$3:$ED$130,MATCH(Tabulka!$AI21,Přehled_body!$A$3:$A$130,0),MATCH(Tabulka!Q$2,Přehled_body!$E$1:$ED$1,0)),)=\"\",,IF(IFERROR(INDEX(Přehled_body!$E$3:$ED$130,MATCH(Tabulka!$AI21,Přehled_body!$A$3:$A$130,0),MATCH(Tabulka!Q$2,Přehled_body!$E$1:$ED$1,0)),)=0,0.00000000001,IFERROR(INDEX(Přehled_body!$E$3:$ED$130,MATCH(Tabulka!$AI21,Přehled_body!$A$3:$A$130,0),MATCH(Tabulka!Q$2,Přehled_body!$E$1:$ED$1,0)),)))","v":0},{"$f":"IF(IFERROR(INDEX(Přehled_body!$E$3:$ED$130,MATCH(Tabulka!$AI21,Přehled_body!$A$3:$A$130,0),MATCH(Tabulka!R$2,Přehled_body!$E$1:$ED$1,0)),)=\"\",,IF(IFERROR(INDEX(Přehled_body!$E$3:$ED$130,MATCH(Tabulka!$AI21,Přehled_body!$A$3:$A$130,0),MATCH(Tabulka!R$2,Přehled_body!$E$1:$ED$1,0)),)=0,0.00000000001,IFERROR(INDEX(Přehled_body!$E$3:$ED$130,MATCH(Tabulka!$AI21,Přehled_body!$A$3:$A$130,0),MATCH(Tabulka!R$2,Přehled_body!$E$1:$ED$1,0)),)))","v":0},{"$f":"IF(IFERROR(INDEX(Přehled_body!$E$3:$ED$130,MATCH(Tabulka!$AI21,Přehled_body!$A$3:$A$130,0),MATCH(Tabulka!S$2,Přehled_body!$E$1:$ED$1,0)),)=\"\",,IF(IFERROR(INDEX(Přehled_body!$E$3:$ED$130,MATCH(Tabulka!$AI21,Přehled_body!$A$3:$A$130,0),MATCH(Tabulka!S$2,Přehled_body!$E$1:$ED$1,0)),)=0,0.00000000001,IFERROR(INDEX(Přehled_body!$E$3:$ED$130,MATCH(Tabulka!$AI21,Přehled_body!$A$3:$A$130,0),MATCH(Tabulka!S$2,Přehled_body!$E$1:$ED$1,0)),)))","v":0},{"$f":"IF(IFERROR(INDEX(Přehled_body!$E$3:$ED$130,MATCH(Tabulka!$AI21,Přehled_body!$A$3:$A$130,0),MATCH(Tabulka!T$2,Přehled_body!$E$1:$ED$1,0)),)=\"\",,IF(IFERROR(INDEX(Přehled_body!$E$3:$ED$130,MATCH(Tabulka!$AI21,Přehled_body!$A$3:$A$130,0),MATCH(Tabulka!T$2,Přehled_body!$E$1:$ED$1,0)),)=0,0.00000000001,IFERROR(INDEX(Přehled_body!$E$3:$ED$130,MATCH(Tabulka!$AI21,Přehled_body!$A$3:$A$130,0),MATCH(Tabulka!T$2,Přehled_body!$E$1:$ED$1,0)),)))","v":0},{"$f":"IF(IFERROR(INDEX(Přehled_body!$E$3:$ED$130,MATCH(Tabulka!$AI21,Přehled_body!$A$3:$A$130,0),MATCH(Tabulka!U$2,Přehled_body!$E$1:$ED$1,0)),)=\"\",,IF(IFERROR(INDEX(Přehled_body!$E$3:$ED$130,MATCH(Tabulka!$AI21,Přehled_body!$A$3:$A$130,0),MATCH(Tabulka!U$2,Přehled_body!$E$1:$ED$1,0)),)=0,0.00000000001,IFERROR(INDEX(Přehled_body!$E$3:$ED$130,MATCH(Tabulka!$AI21,Přehled_body!$A$3:$A$130,0),MATCH(Tabulka!U$2,Přehled_body!$E$1:$ED$1,0)),)))","v":0},{"$f":"IF(IFERROR(INDEX(Přehled_body!$E$3:$ED$130,MATCH(Tabulka!$AI21,Přehled_body!$A$3:$A$130,0),MATCH(Tabulka!V$2,Přehled_body!$E$1:$ED$1,0)),)=\"\",,IF(IFERROR(INDEX(Přehled_body!$E$3:$ED$130,MATCH(Tabulka!$AI21,Přehled_body!$A$3:$A$130,0),MATCH(Tabulka!V$2,Přehled_body!$E$1:$ED$1,0)),)=0,0.00000000001,IFERROR(INDEX(Přehled_body!$E$3:$ED$130,MATCH(Tabulka!$AI21,Přehled_body!$A$3:$A$130,0),MATCH(Tabulka!V$2,Přehled_body!$E$1:$ED$1,0)),)))","v":0},{"$f":"IF(IFERROR(INDEX(Přehled_body!$E$3:$ED$130,MATCH(Tabulka!$AI21,Přehled_body!$A$3:$A$130,0),MATCH(Tabulka!W$2,Přehled_body!$E$1:$ED$1,0)),)=\"\",,IF(IFERROR(INDEX(Přehled_body!$E$3:$ED$130,MATCH(Tabulka!$AI21,Přehled_body!$A$3:$A$130,0),MATCH(Tabulka!W$2,Přehled_body!$E$1:$ED$1,0)),)=0,0.00000000001,IFERROR(INDEX(Přehled_body!$E$3:$ED$130,MATCH(Tabulka!$AI21,Přehled_body!$A$3:$A$130,0),MATCH(Tabulka!W$2,Přehled_body!$E$1:$ED$1,0)),)))","v":0},{"$f":"IF(IFERROR(INDEX(Přehled_body!$E$3:$ED$130,MATCH(Tabulka!$AI21,Přehled_body!$A$3:$A$130,0),MATCH(Tabulka!X$2,Přehled_body!$E$1:$ED$1,0)),)=\"\",,IF(IFERROR(INDEX(Přehled_body!$E$3:$ED$130,MATCH(Tabulka!$AI21,Přehled_body!$A$3:$A$130,0),MATCH(Tabulka!X$2,Přehled_body!$E$1:$ED$1,0)),)=0,0.00000000001,IFERROR(INDEX(Přehled_body!$E$3:$ED$130,MATCH(Tabulka!$AI21,Přehled_body!$A$3:$A$130,0),MATCH(Tabulka!X$2,Přehled_body!$E$1:$ED$1,0)),)))","v":0},{"$f":"IF(IFERROR(INDEX(Přehled_body!$E$3:$ED$130,MATCH(Tabulka!$AI21,Přehled_body!$A$3:$A$130,0),MATCH(Tabulka!Y$2,Přehled_body!$E$1:$ED$1,0)),)=\"\",,IF(IFERROR(INDEX(Přehled_body!$E$3:$ED$130,MATCH(Tabulka!$AI21,Přehled_body!$A$3:$A$130,0),MATCH(Tabulka!Y$2,Přehled_body!$E$1:$ED$1,0)),)=0,0.00000000001,IFERROR(INDEX(Přehled_body!$E$3:$ED$130,MATCH(Tabulka!$AI21,Přehled_body!$A$3:$A$130,0),MATCH(Tabulka!Y$2,Přehled_body!$E$1:$ED$1,0)),)))","v":0},{"$f":"IF(IFERROR(INDEX(Přehled_body!$E$3:$ED$130,MATCH(Tabulka!$AI21,Přehled_body!$A$3:$A$130,0),MATCH(Tabulka!Z$2,Přehled_body!$E$1:$ED$1,0)),)=\"\",,IF(IFERROR(INDEX(Přehled_body!$E$3:$ED$130,MATCH(Tabulka!$AI21,Přehled_body!$A$3:$A$130,0),MATCH(Tabulka!Z$2,Přehled_body!$E$1:$ED$1,0)),)=0,0.00000000001,IFERROR(INDEX(Přehled_body!$E$3:$ED$130,MATCH(Tabulka!$AI21,Přehled_body!$A$3:$A$130,0),MATCH(Tabulka!Z$2,Přehled_body!$E$1:$ED$1,0)),)))","v":0},{"$f":"IF(IFERROR(INDEX(Přehled_body!$E$3:$ED$130,MATCH(Tabulka!$AI21,Přehled_body!$A$3:$A$130,0),MATCH(Tabulka!AA$2,Přehled_body!$E$1:$ED$1,0)),)=\"\",,IF(IFERROR(INDEX(Přehled_body!$E$3:$ED$130,MATCH(Tabulka!$AI21,Přehled_body!$A$3:$A$130,0),MATCH(Tabulka!AA$2,Přehled_body!$E$1:$ED$1,0)),)=0,0.00000000001,IFERROR(INDEX(Přehled_body!$E$3:$ED$130,MATCH(Tabulka!$AI21,Přehled_body!$A$3:$A$130,0),MATCH(Tabulka!AA$2,Přehled_body!$E$1:$ED$1,0)),)))","v":0},{"$f":"IF(IFERROR(INDEX(Přehled_body!$E$3:$ED$130,MATCH(Tabulka!$AI21,Přehled_body!$A$3:$A$130,0),MATCH(Tabulka!AB$2,Přehled_body!$E$1:$ED$1,0)),)=\"\",,IF(IFERROR(INDEX(Přehled_body!$E$3:$ED$130,MATCH(Tabulka!$AI21,Přehled_body!$A$3:$A$130,0),MATCH(Tabulka!AB$2,Přehled_body!$E$1:$ED$1,0)),)=0,0.00000000001,IFERROR(INDEX(Přehled_body!$E$3:$ED$130,MATCH(Tabulka!$AI21,Přehled_body!$A$3:$A$130,0),MATCH(Tabulka!AB$2,Přehled_body!$E$1:$ED$1,0)),)))","v":0},{"$f":"IF(IFERROR(INDEX(Přehled_body!$E$3:$ED$130,MATCH(Tabulka!$AI21,Přehled_body!$A$3:$A$130,0),MATCH(Tabulka!AC$2,Přehled_body!$E$1:$ED$1,0)),)=\"\",,IF(IFERROR(INDEX(Přehled_body!$E$3:$ED$130,MATCH(Tabulka!$AI21,Přehled_body!$A$3:$A$130,0),MATCH(Tabulka!AC$2,Přehled_body!$E$1:$ED$1,0)),)=0,0.00000000001,IFERROR(INDEX(Přehled_body!$E$3:$ED$130,MATCH(Tabulka!$AI21,Přehled_body!$A$3:$A$130,0),MATCH(Tabulka!AC$2,Přehled_body!$E$1:$ED$1,0)),)))","v":0},{"$f":"IF(IFERROR(INDEX(Přehled_body!$E$3:$ED$130,MATCH(Tabulka!$AI21,Přehled_body!$A$3:$A$130,0),MATCH(Tabulka!AD$2,Přehled_body!$E$1:$ED$1,0)),)=\"\",,IF(IFERROR(INDEX(Přehled_body!$E$3:$ED$130,MATCH(Tabulka!$AI21,Přehled_body!$A$3:$A$130,0),MATCH(Tabulka!AD$2,Přehled_body!$E$1:$ED$1,0)),)=0,0.00000000001,IFERROR(INDEX(Přehled_body!$E$3:$ED$130,MATCH(Tabulka!$AI21,Přehled_body!$A$3:$A$130,0),MATCH(Tabulka!AD$2,Přehled_body!$E$1:$ED$1,0)),)))","v":0},{"$f":"IF(SUM($D$19:$AD$23)<1,-90000,SUM(D21:AD21))","v":-90000},null,null,null,{"$f":"CONCATENATE($B$20,\" \",$B$21,C21)","v":"Pavel PernekrPlaceno panáků"}]
[null,null,"Přehozy",{"$f":"IF(IFERROR(INDEX(Přehled_body!$E$3:$ED$130,MATCH(Tabulka!$AI22,Přehled_body!$A$3:$A$130,0),MATCH(Tabulka!D$2,Přehled_body!$E$1:$ED$1,0)),)=\"\",,IF(IFERROR(INDEX(Přehled_body!$E$3:$ED$130,MATCH(Tabulka!$AI22,Přehled_body!$A$3:$A$130,0),MATCH(Tabulka!D$2,Přehled_body!$E$1:$ED$1,0)),)=0,0.00000000001,IFERROR(INDEX(Přehled_body!$E$3:$ED$130,MATCH(Tabulka!$AI22,Přehled_body!$A$3:$A$130,0),MATCH(Tabulka!D$2,Přehled_body!$E$1:$ED$1,0)),)))","v":0},{"$f":"IF(IFERROR(INDEX(Přehled_body!$E$3:$ED$130,MATCH(Tabulka!$AI22,Přehled_body!$A$3:$A$130,0),MATCH(Tabulka!E$2,Přehled_body!$E$1:$ED$1,0)),)=\"\",,IF(IFERROR(INDEX(Přehled_body!$E$3:$ED$130,MATCH(Tabulka!$AI22,Přehled_body!$A$3:$A$130,0),MATCH(Tabulka!E$2,Přehled_body!$E$1:$ED$1,0)),)=0,0.00000000001,IFERROR(INDEX(Přehled_body!$E$3:$ED$130,MATCH(Tabulka!$AI22,Přehled_body!$A$3:$A$130,0),MATCH(Tabulka!E$2,Přehled_body!$E$1:$ED$1,0)),)))","v":0},{"$f":"IF(IFERROR(INDEX(Přehled_body!$E$3:$ED$130,MATCH(Tabulka!$AI22,Přehled_body!$A$3:$A$130,0),MATCH(Tabulka!F$2,Přehled_body!$E$1:$ED$1,0)),)=\"\",,IF(IFERROR(INDEX(Přehled_body!$E$3:$ED$130,MATCH(Tabulka!$AI22,Přehled_body!$A$3:$A$130,0),MATCH(Tabulka!F$2,Přehled_body!$E$1:$ED$1,0)),)=0,0.00000000001,IFERROR(INDEX(Přehled_body!$E$3:$ED$130,MATCH(Tabulka!$AI22,Přehled_body!$A$3:$A$130,0),MATCH(Tabulka!F$2,Přehled_body!$E$1:$ED$1,0)),)))","v":0},{"$f":"IF(IFERROR(INDEX(Přehled_body!$E$3:$ED$130,MATCH(Tabulka!$AI22,Přehled_body!$A$3:$A$130,0),MATCH(Tabulka!G$2,Přehled_body!$E$1:$ED$1,0)),)=\"\",,IF(IFERROR(INDEX(Přehled_body!$E$3:$ED$130,MATCH(Tabulka!$AI22,Přehled_body!$A$3:$A$130,0),MATCH(Tabulka!G$2,Přehled_body!$E$1:$ED$1,0)),)=0,0.00000000001,IFERROR(INDEX(Přehled_body!$E$3:$ED$130,MATCH(Tabulka!$AI22,Přehled_body!$A$3:$A$130,0),MATCH(Tabulka!G$2,Přehled_body!$E$1:$ED$1,0)),)))","v":0},{"$f":"IF(IFERROR(INDEX(Přehled_body!$E$3:$ED$130,MATCH(Tabulka!$AI22,Přehled_body!$A$3:$A$130,0),MATCH(Tabulka!H$2,Přehled_body!$E$1:$ED$1,0)),)=\"\",,IF(IFERROR(INDEX(Přehled_body!$E$3:$ED$130,MATCH(Tabulka!$AI22,Přehled_body!$A$3:$A$130,0),MATCH(Tabulka!H$2,Přehled_body!$E$1:$ED$1,0)),)=0,0.00000000001,IFERROR(INDEX(Přehled_body!$E$3:$ED$130,MATCH(Tabulka!$AI22,Přehled_body!$A$3:$A$130,0),MATCH(Tabulka!H$2,Přehled_body!$E$1:$ED$1,0)),)))","v":0},{"$f":"IF(IFERROR(INDEX(Přehled_body!$E$3:$ED$130,MATCH(Tabulka!$AI22,Přehled_body!$A$3:$A$130,0),MATCH(Tabulka!I$2,Přehled_body!$E$1:$ED$1,0)),)=\"\",,IF(IFERROR(INDEX(Přehled_body!$E$3:$ED$130,MATCH(Tabulka!$AI22,Přehled_body!$A$3:$A$130,0),MATCH(Tabulka!I$2,Přehled_body!$E$1:$ED$1,0)),)=0,0.00000000001,IFERROR(INDEX(Přehled_body!$E$3:$ED$130,MATCH(Tabulka!$AI22,Přehled_body!$A$3:$A$130,0),MATCH(Tabulka!I$2,Přehled_body!$E$1:$ED$1,0)),)))","v":0},{"$f":"IF(IFERROR(INDEX(Přehled_body!$E$3:$ED$130,MATCH(Tabulka!$AI22,Přehled_body!$A$3:$A$130,0),MATCH(Tabulka!J$2,Přehled_body!$E$1:$ED$1,0)),)=\"\",,IF(IFERROR(INDEX(Přehled_body!$E$3:$ED$130,MATCH(Tabulka!$AI22,Přehled_body!$A$3:$A$130,0),MATCH(Tabulka!J$2,Přehled_body!$E$1:$ED$1,0)),)=0,0.00000000001,IFERROR(INDEX(Přehled_body!$E$3:$ED$130,MATCH(Tabulka!$AI22,Přehled_body!$A$3:$A$130,0),MATCH(Tabulka!J$2,Přehled_body!$E$1:$ED$1,0)),)))","v":0},{"$f":"IF(IFERROR(INDEX(Přehled_body!$E$3:$ED$130,MATCH(Tabulka!$AI22,Přehled_body!$A$3:$A$130,0),MATCH(Tabulka!K$2,Přehled_body!$E$1:$ED$1,0)),)=\"\",,IF(IFERROR(INDEX(Přehled_body!$E$3:$ED$130,MATCH(Tabulka!$AI22,Přehled_body!$A$3:$A$130,0),MATCH(Tabulka!K$2,Přehled_body!$E$1:$ED$1,0)),)=0,0.00000000001,IFERROR(INDEX(Přehled_body!$E$3:$ED$130,MATCH(Tabulka!$AI22,Přehled_body!$A$3:$A$130,0),MATCH(Tabulka!K$2,Přehled_body!$E$1:$ED$1,0)),)))","v":0},{"$f":"IF(IFERROR(INDEX(Přehled_body!$E$3:$ED$130,MATCH(Tabulka!$AI22,Přehled_body!$A$3:$A$130,0),MATCH(Tabulka!L$2,Přehled_body!$E$1:$ED$1,0)),)=\"\",,IF(IFERROR(INDEX(Přehled_body!$E$3:$ED$130,MATCH(Tabulka!$AI22,Přehled_body!$A$3:$A$130,0),MATCH(Tabulka!L$2,Přehled_body!$E$1:$ED$1,0)),)=0,0.00000000001,IFERROR(INDEX(Přehled_body!$E$3:$ED$130,MATCH(Tabulka!$AI22,Přehled_body!$A$3:$A$130,0),MATCH(Tabulka!L$2,Přehled_body!$E$1:$ED$1,0)),)))","v":0},{"$f":"IF(IFERROR(INDEX(Přehled_body!$E$3:$ED$130,MATCH(Tabulka!$AI22,Přehled_body!$A$3:$A$130,0),MATCH(Tabulka!M$2,Přehled_body!$E$1:$ED$1,0)),)=\"\",,IF(IFERROR(INDEX(Přehled_body!$E$3:$ED$130,MATCH(Tabulka!$AI22,Přehled_body!$A$3:$A$130,0),MATCH(Tabulka!M$2,Přehled_body!$E$1:$ED$1,0)),)=0,0.00000000001,IFERROR(INDEX(Přehled_body!$E$3:$ED$130,MATCH(Tabulka!$AI22,Přehled_body!$A$3:$A$130,0),MATCH(Tabulka!M$2,Přehled_body!$E$1:$ED$1,0)),)))","v":0},{"$f":"IF(IFERROR(INDEX(Přehled_body!$E$3:$ED$130,MATCH(Tabulka!$AI22,Přehled_body!$A$3:$A$130,0),MATCH(Tabulka!N$2,Přehled_body!$E$1:$ED$1,0)),)=\"\",,IF(IFERROR(INDEX(Přehled_body!$E$3:$ED$130,MATCH(Tabulka!$AI22,Přehled_body!$A$3:$A$130,0),MATCH(Tabulka!N$2,Přehled_body!$E$1:$ED$1,0)),)=0,0.00000000001,IFERROR(INDEX(Přehled_body!$E$3:$ED$130,MATCH(Tabulka!$AI22,Přehled_body!$A$3:$A$130,0),MATCH(Tabulka!N$2,Přehled_body!$E$1:$ED$1,0)),)))","v":0},{"$f":"IF(IFERROR(INDEX(Přehled_body!$E$3:$ED$130,MATCH(Tabulka!$AI22,Přehled_body!$A$3:$A$130,0),MATCH(Tabulka!O$2,Přehled_body!$E$1:$ED$1,0)),)=\"\",,IF(IFERROR(INDEX(Přehled_body!$E$3:$ED$130,MATCH(Tabulka!$AI22,Přehled_body!$A$3:$A$130,0),MATCH(Tabulka!O$2,Přehled_body!$E$1:$ED$1,0)),)=0,0.00000000001,IFERROR(INDEX(Přehled_body!$E$3:$ED$130,MATCH(Tabulka!$AI22,Přehled_body!$A$3:$A$130,0),MATCH(Tabulka!O$2,Přehled_body!$E$1:$ED$1,0)),)))","v":0},{"$f":"IF(IFERROR(INDEX(Přehled_body!$E$3:$ED$130,MATCH(Tabulka!$AI22,Přehled_body!$A$3:$A$130,0),MATCH(Tabulka!P$2,Přehled_body!$E$1:$ED$1,0)),)=\"\",,IF(IFERROR(INDEX(Přehled_body!$E$3:$ED$130,MATCH(Tabulka!$AI22,Přehled_body!$A$3:$A$130,0),MATCH(Tabulka!P$2,Přehled_body!$E$1:$ED$1,0)),)=0,0.00000000001,IFERROR(INDEX(Přehled_body!$E$3:$ED$130,MATCH(Tabulka!$AI22,Přehled_body!$A$3:$A$130,0),MATCH(Tabulka!P$2,Přehled_body!$E$1:$ED$1,0)),)))","v":0},{"$f":"IF(IFERROR(INDEX(Přehled_body!$E$3:$ED$130,MATCH(Tabulka!$AI22,Přehled_body!$A$3:$A$130,0),MATCH(Tabulka!Q$2,Přehled_body!$E$1:$ED$1,0)),)=\"\",,IF(IFERROR(INDEX(Přehled_body!$E$3:$ED$130,MATCH(Tabulka!$AI22,Přehled_body!$A$3:$A$130,0),MATCH(Tabulka!Q$2,Přehled_body!$E$1:$ED$1,0)),)=0,0.00000000001,IFERROR(INDEX(Přehled_body!$E$3:$ED$130,MATCH(Tabulka!$AI22,Přehled_body!$A$3:$A$130,0),MATCH(Tabulka!Q$2,Přehled_body!$E$1:$ED$1,0)),)))","v":0},{"$f":"IF(IFERROR(INDEX(Přehled_body!$E$3:$ED$130,MATCH(Tabulka!$AI22,Přehled_body!$A$3:$A$130,0),MATCH(Tabulka!R$2,Přehled_body!$E$1:$ED$1,0)),)=\"\",,IF(IFERROR(INDEX(Přehled_body!$E$3:$ED$130,MATCH(Tabulka!$AI22,Přehled_body!$A$3:$A$130,0),MATCH(Tabulka!R$2,Přehled_body!$E$1:$ED$1,0)),)=0,0.00000000001,IFERROR(INDEX(Přehled_body!$E$3:$ED$130,MATCH(Tabulka!$AI22,Přehled_body!$A$3:$A$130,0),MATCH(Tabulka!R$2,Přehled_body!$E$1:$ED$1,0)),)))","v":0},{"$f":"IF(IFERROR(INDEX(Přehled_body!$E$3:$ED$130,MATCH(Tabulka!$AI22,Přehled_body!$A$3:$A$130,0),MATCH(Tabulka!S$2,Přehled_body!$E$1:$ED$1,0)),)=\"\",,IF(IFERROR(INDEX(Přehled_body!$E$3:$ED$130,MATCH(Tabulka!$AI22,Přehled_body!$A$3:$A$130,0),MATCH(Tabulka!S$2,Přehled_body!$E$1:$ED$1,0)),)=0,0.00000000001,IFERROR(INDEX(Přehled_body!$E$3:$ED$130,MATCH(Tabulka!$AI22,Přehled_body!$A$3:$A$130,0),MATCH(Tabulka!S$2,Přehled_body!$E$1:$ED$1,0)),)))","v":0},{"$f":"IF(IFERROR(INDEX(Přehled_body!$E$3:$ED$130,MATCH(Tabulka!$AI22,Přehled_body!$A$3:$A$130,0),MATCH(Tabulka!T$2,Přehled_body!$E$1:$ED$1,0)),)=\"\",,IF(IFERROR(INDEX(Přehled_body!$E$3:$ED$130,MATCH(Tabulka!$AI22,Přehled_body!$A$3:$A$130,0),MATCH(Tabulka!T$2,Přehled_body!$E$1:$ED$1,0)),)=0,0.00000000001,IFERROR(INDEX(Přehled_body!$E$3:$ED$130,MATCH(Tabulka!$AI22,Přehled_body!$A$3:$A$130,0),MATCH(Tabulka!T$2,Přehled_body!$E$1:$ED$1,0)),)))","v":0},{"$f":"IF(IFERROR(INDEX(Přehled_body!$E$3:$ED$130,MATCH(Tabulka!$AI22,Přehled_body!$A$3:$A$130,0),MATCH(Tabulka!U$2,Přehled_body!$E$1:$ED$1,0)),)=\"\",,IF(IFERROR(INDEX(Přehled_body!$E$3:$ED$130,MATCH(Tabulka!$AI22,Přehled_body!$A$3:$A$130,0),MATCH(Tabulka!U$2,Přehled_body!$E$1:$ED$1,0)),)=0,0.00000000001,IFERROR(INDEX(Přehled_body!$E$3:$ED$130,MATCH(Tabulka!$AI22,Přehled_body!$A$3:$A$130,0),MATCH(Tabulka!U$2,Přehled_body!$E$1:$ED$1,0)),)))","v":0},{"$f":"IF(IFERROR(INDEX(Přehled_body!$E$3:$ED$130,MATCH(Tabulka!$AI22,Přehled_body!$A$3:$A$130,0),MATCH(Tabulka!V$2,Přehled_body!$E$1:$ED$1,0)),)=\"\",,IF(IFERROR(INDEX(Přehled_body!$E$3:$ED$130,MATCH(Tabulka!$AI22,Přehled_body!$A$3:$A$130,0),MATCH(Tabulka!V$2,Přehled_body!$E$1:$ED$1,0)),)=0,0.00000000001,IFERROR(INDEX(Přehled_body!$E$3:$ED$130,MATCH(Tabulka!$AI22,Přehled_body!$A$3:$A$130,0),MATCH(Tabulka!V$2,Přehled_body!$E$1:$ED$1,0)),)))","v":0},{"$f":"IF(IFERROR(INDEX(Přehled_body!$E$3:$ED$130,MATCH(Tabulka!$AI22,Přehled_body!$A$3:$A$130,0),MATCH(Tabulka!W$2,Přehled_body!$E$1:$ED$1,0)),)=\"\",,IF(IFERROR(INDEX(Přehled_body!$E$3:$ED$130,MATCH(Tabulka!$AI22,Přehled_body!$A$3:$A$130,0),MATCH(Tabulka!W$2,Přehled_body!$E$1:$ED$1,0)),)=0,0.00000000001,IFERROR(INDEX(Přehled_body!$E$3:$ED$130,MATCH(Tabulka!$AI22,Přehled_body!$A$3:$A$130,0),MATCH(Tabulka!W$2,Přehled_body!$E$1:$ED$1,0)),)))","v":0},{"$f":"IF(IFERROR(INDEX(Přehled_body!$E$3:$ED$130,MATCH(Tabulka!$AI22,Přehled_body!$A$3:$A$130,0),MATCH(Tabulka!X$2,Přehled_body!$E$1:$ED$1,0)),)=\"\",,IF(IFERROR(INDEX(Přehled_body!$E$3:$ED$130,MATCH(Tabulka!$AI22,Přehled_body!$A$3:$A$130,0),MATCH(Tabulka!X$2,Přehled_body!$E$1:$ED$1,0)),)=0,0.00000000001,IFERROR(INDEX(Přehled_body!$E$3:$ED$130,MATCH(Tabulka!$AI22,Přehled_body!$A$3:$A$130,0),MATCH(Tabulka!X$2,Přehled_body!$E$1:$ED$1,0)),)))","v":0},{"$f":"IF(IFERROR(INDEX(Přehled_body!$E$3:$ED$130,MATCH(Tabulka!$AI22,Přehled_body!$A$3:$A$130,0),MATCH(Tabulka!Y$2,Přehled_body!$E$1:$ED$1,0)),)=\"\",,IF(IFERROR(INDEX(Přehled_body!$E$3:$ED$130,MATCH(Tabulka!$AI22,Přehled_body!$A$3:$A$130,0),MATCH(Tabulka!Y$2,Přehled_body!$E$1:$ED$1,0)),)=0,0.00000000001,IFERROR(INDEX(Přehled_body!$E$3:$ED$130,MATCH(Tabulka!$AI22,Přehled_body!$A$3:$A$130,0),MATCH(Tabulka!Y$2,Přehled_body!$E$1:$ED$1,0)),)))","v":0},{"$f":"IF(IFERROR(INDEX(Přehled_body!$E$3:$ED$130,MATCH(Tabulka!$AI22,Přehled_body!$A$3:$A$130,0),MATCH(Tabulka!Z$2,Přehled_body!$E$1:$ED$1,0)),)=\"\",,IF(IFERROR(INDEX(Přehled_body!$E$3:$ED$130,MATCH(Tabulka!$AI22,Přehled_body!$A$3:$A$130,0),MATCH(Tabulka!Z$2,Přehled_body!$E$1:$ED$1,0)),)=0,0.00000000001,IFERROR(INDEX(Přehled_body!$E$3:$ED$130,MATCH(Tabulka!$AI22,Přehled_body!$A$3:$A$130,0),MATCH(Tabulka!Z$2,Přehled_body!$E$1:$ED$1,0)),)))","v":0},{"$f":"IF(IFERROR(INDEX(Přehled_body!$E$3:$ED$130,MATCH(Tabulka!$AI22,Přehled_body!$A$3:$A$130,0),MATCH(Tabulka!AA$2,Přehled_body!$E$1:$ED$1,0)),)=\"\",,IF(IFERROR(INDEX(Přehled_body!$E$3:$ED$130,MATCH(Tabulka!$AI22,Přehled_body!$A$3:$A$130,0),MATCH(Tabulka!AA$2,Přehled_body!$E$1:$ED$1,0)),)=0,0.00000000001,IFERROR(INDEX(Přehled_body!$E$3:$ED$130,MATCH(Tabulka!$AI22,Přehled_body!$A$3:$A$130,0),MATCH(Tabulka!AA$2,Přehled_body!$E$1:$ED$1,0)),)))","v":0},{"$f":"IF(IFERROR(INDEX(Přehled_body!$E$3:$ED$130,MATCH(Tabulka!$AI22,Přehled_body!$A$3:$A$130,0),MATCH(Tabulka!AB$2,Přehled_body!$E$1:$ED$1,0)),)=\"\",,IF(IFERROR(INDEX(Přehled_body!$E$3:$ED$130,MATCH(Tabulka!$AI22,Přehled_body!$A$3:$A$130,0),MATCH(Tabulka!AB$2,Přehled_body!$E$1:$ED$1,0)),)=0,0.00000000001,IFERROR(INDEX(Přehled_body!$E$3:$ED$130,MATCH(Tabulka!$AI22,Přehled_body!$A$3:$A$130,0),MATCH(Tabulka!AB$2,Přehled_body!$E$1:$ED$1,0)),)))","v":0},{"$f":"IF(IFERROR(INDEX(Přehled_body!$E$3:$ED$130,MATCH(Tabulka!$AI22,Přehled_body!$A$3:$A$130,0),MATCH(Tabulka!AC$2,Přehled_body!$E$1:$ED$1,0)),)=\"\",,IF(IFERROR(INDEX(Přehled_body!$E$3:$ED$130,MATCH(Tabulka!$AI22,Přehled_body!$A$3:$A$130,0),MATCH(Tabulka!AC$2,Přehled_body!$E$1:$ED$1,0)),)=0,0.00000000001,IFERROR(INDEX(Přehled_body!$E$3:$ED$130,MATCH(Tabulka!$AI22,Přehled_body!$A$3:$A$130,0),MATCH(Tabulka!AC$2,Přehled_body!$E$1:$ED$1,0)),)))","v":0},{"$f":"IF(IFERROR(INDEX(Přehled_body!$E$3:$ED$130,MATCH(Tabulka!$AI22,Přehled_body!$A$3:$A$130,0),MATCH(Tabulka!AD$2,Přehled_body!$E$1:$ED$1,0)),)=\"\",,IF(IFERROR(INDEX(Přehled_body!$E$3:$ED$130,MATCH(Tabulka!$AI22,Přehled_body!$A$3:$A$130,0),MATCH(Tabulka!AD$2,Přehled_body!$E$1:$ED$1,0)),)=0,0.00000000001,IFERROR(INDEX(Přehled_body!$E$3:$ED$130,MATCH(Tabulka!$AI22,Přehled_body!$A$3:$A$130,0),MATCH(Tabulka!AD$2,Přehled_body!$E$1:$ED$1,0)),)))","v":0},{"$f":"IF(SUM($D$19:$AD$23)<1,-90000,SUM(D22:AD22))","v":-90000},null,null,null,{"$f":"CONCATENATE($B$20,\" \",$B$21,C22)","v":"Pavel PernekrPřehozy"}]
[null,null,"Poč. kol",{"$f":"IF(IFERROR(INDEX(Přehled_body!$E$3:$ED$130,MATCH(Tabulka!$AI23,Přehled_body!$A$3:$A$130,0),MATCH(Tabulka!D$2,Přehled_body!$E$1:$ED$1,0)),)=\"\",,IF(IFERROR(INDEX(Přehled_body!$E$3:$ED$130,MATCH(Tabulka!$AI23,Přehled_body!$A$3:$A$130,0),MATCH(Tabulka!D$2,Přehled_body!$E$1:$ED$1,0)),)=0,0.00000000001,IFERROR(INDEX(Přehled_body!$E$3:$ED$130,MATCH(Tabulka!$AI23,Přehled_body!$A$3:$A$130,0),MATCH(Tabulka!D$2,Přehled_body!$E$1:$ED$1,0)),)))","v":0},{"$f":"IF(IFERROR(INDEX(Přehled_body!$E$3:$ED$130,MATCH(Tabulka!$AI23,Přehled_body!$A$3:$A$130,0),MATCH(Tabulka!E$2,Přehled_body!$E$1:$ED$1,0)),)=\"\",,IF(IFERROR(INDEX(Přehled_body!$E$3:$ED$130,MATCH(Tabulka!$AI23,Přehled_body!$A$3:$A$130,0),MATCH(Tabulka!E$2,Přehled_body!$E$1:$ED$1,0)),)=0,0.00000000001,IFERROR(INDEX(Přehled_body!$E$3:$ED$130,MATCH(Tabulka!$AI23,Přehled_body!$A$3:$A$130,0),MATCH(Tabulka!E$2,Přehled_body!$E$1:$ED$1,0)),)))","v":0},{"$f":"IF(IFERROR(INDEX(Přehled_body!$E$3:$ED$130,MATCH(Tabulka!$AI23,Přehled_body!$A$3:$A$130,0),MATCH(Tabulka!F$2,Přehled_body!$E$1:$ED$1,0)),)=\"\",,IF(IFERROR(INDEX(Přehled_body!$E$3:$ED$130,MATCH(Tabulka!$AI23,Přehled_body!$A$3:$A$130,0),MATCH(Tabulka!F$2,Přehled_body!$E$1:$ED$1,0)),)=0,0.00000000001,IFERROR(INDEX(Přehled_body!$E$3:$ED$130,MATCH(Tabulka!$AI23,Přehled_body!$A$3:$A$130,0),MATCH(Tabulka!F$2,Přehled_body!$E$1:$ED$1,0)),)))","v":0},{"$f":"IF(IFERROR(INDEX(Přehled_body!$E$3:$ED$130,MATCH(Tabulka!$AI23,Přehled_body!$A$3:$A$130,0),MATCH(Tabulka!G$2,Přehled_body!$E$1:$ED$1,0)),)=\"\",,IF(IFERROR(INDEX(Přehled_body!$E$3:$ED$130,MATCH(Tabulka!$AI23,Přehled_body!$A$3:$A$130,0),MATCH(Tabulka!G$2,Přehled_body!$E$1:$ED$1,0)),)=0,0.00000000001,IFERROR(INDEX(Přehled_body!$E$3:$ED$130,MATCH(Tabulka!$AI23,Přehled_body!$A$3:$A$130,0),MATCH(Tabulka!G$2,Přehled_body!$E$1:$ED$1,0)),)))","v":0},{"$f":"IF(IFERROR(INDEX(Přehled_body!$E$3:$ED$130,MATCH(Tabulka!$AI23,Přehled_body!$A$3:$A$130,0),MATCH(Tabulka!H$2,Přehled_body!$E$1:$ED$1,0)),)=\"\",,IF(IFERROR(INDEX(Přehled_body!$E$3:$ED$130,MATCH(Tabulka!$AI23,Přehled_body!$A$3:$A$130,0),MATCH(Tabulka!H$2,Přehled_body!$E$1:$ED$1,0)),)=0,0.00000000001,IFERROR(INDEX(Přehled_body!$E$3:$ED$130,MATCH(Tabulka!$AI23,Přehled_body!$A$3:$A$130,0),MATCH(Tabulka!H$2,Přehled_body!$E$1:$ED$1,0)),)))","v":0},{"$f":"IF(IFERROR(INDEX(Přehled_body!$E$3:$ED$130,MATCH(Tabulka!$AI23,Přehled_body!$A$3:$A$130,0),MATCH(Tabulka!I$2,Přehled_body!$E$1:$ED$1,0)),)=\"\",,IF(IFERROR(INDEX(Přehled_body!$E$3:$ED$130,MATCH(Tabulka!$AI23,Přehled_body!$A$3:$A$130,0),MATCH(Tabulka!I$2,Přehled_body!$E$1:$ED$1,0)),)=0,0.00000000001,IFERROR(INDEX(Přehled_body!$E$3:$ED$130,MATCH(Tabulka!$AI23,Přehled_body!$A$3:$A$130,0),MATCH(Tabulka!I$2,Přehled_body!$E$1:$ED$1,0)),)))","v":0},{"$f":"IF(IFERROR(INDEX(Přehled_body!$E$3:$ED$130,MATCH(Tabulka!$AI23,Přehled_body!$A$3:$A$130,0),MATCH(Tabulka!J$2,Přehled_body!$E$1:$ED$1,0)),)=\"\",,IF(IFERROR(INDEX(Přehled_body!$E$3:$ED$130,MATCH(Tabulka!$AI23,Přehled_body!$A$3:$A$130,0),MATCH(Tabulka!J$2,Přehled_body!$E$1:$ED$1,0)),)=0,0.00000000001,IFERROR(INDEX(Přehled_body!$E$3:$ED$130,MATCH(Tabulka!$AI23,Přehled_body!$A$3:$A$130,0),MATCH(Tabulka!J$2,Přehled_body!$E$1:$ED$1,0)),)))","v":0},{"$f":"IF(IFERROR(INDEX(Přehled_body!$E$3:$ED$130,MATCH(Tabulka!$AI23,Přehled_body!$A$3:$A$130,0),MATCH(Tabulka!K$2,Přehled_body!$E$1:$ED$1,0)),)=\"\",,IF(IFERROR(INDEX(Přehled_body!$E$3:$ED$130,MATCH(Tabulka!$AI23,Přehled_body!$A$3:$A$130,0),MATCH(Tabulka!K$2,Přehled_body!$E$1:$ED$1,0)),)=0,0.00000000001,IFERROR(INDEX(Přehled_body!$E$3:$ED$130,MATCH(Tabulka!$AI23,Přehled_body!$A$3:$A$130,0),MATCH(Tabulka!K$2,Přehled_body!$E$1:$ED$1,0)),)))","v":0},{"$f":"IF(IFERROR(INDEX(Přehled_body!$E$3:$ED$130,MATCH(Tabulka!$AI23,Přehled_body!$A$3:$A$130,0),MATCH(Tabulka!L$2,Přehled_body!$E$1:$ED$1,0)),)=\"\",,IF(IFERROR(INDEX(Přehled_body!$E$3:$ED$130,MATCH(Tabulka!$AI23,Přehled_body!$A$3:$A$130,0),MATCH(Tabulka!L$2,Přehled_body!$E$1:$ED$1,0)),)=0,0.00000000001,IFERROR(INDEX(Přehled_body!$E$3:$ED$130,MATCH(Tabulka!$AI23,Přehled_body!$A$3:$A$130,0),MATCH(Tabulka!L$2,Přehled_body!$E$1:$ED$1,0)),)))","v":0},{"$f":"IF(IFERROR(INDEX(Přehled_body!$E$3:$ED$130,MATCH(Tabulka!$AI23,Přehled_body!$A$3:$A$130,0),MATCH(Tabulka!M$2,Přehled_body!$E$1:$ED$1,0)),)=\"\",,IF(IFERROR(INDEX(Přehled_body!$E$3:$ED$130,MATCH(Tabulka!$AI23,Přehled_body!$A$3:$A$130,0),MATCH(Tabulka!M$2,Přehled_body!$E$1:$ED$1,0)),)=0,0.00000000001,IFERROR(INDEX(Přehled_body!$E$3:$ED$130,MATCH(Tabulka!$AI23,Přehled_body!$A$3:$A$130,0),MATCH(Tabulka!M$2,Přehled_body!$E$1:$ED$1,0)),)))","v":0},{"$f":"IF(IFERROR(INDEX(Přehled_body!$E$3:$ED$130,MATCH(Tabulka!$AI23,Přehled_body!$A$3:$A$130,0),MATCH(Tabulka!N$2,Přehled_body!$E$1:$ED$1,0)),)=\"\",,IF(IFERROR(INDEX(Přehled_body!$E$3:$ED$130,MATCH(Tabulka!$AI23,Přehled_body!$A$3:$A$130,0),MATCH(Tabulka!N$2,Přehled_body!$E$1:$ED$1,0)),)=0,0.00000000001,IFERROR(INDEX(Přehled_body!$E$3:$ED$130,MATCH(Tabulka!$AI23,Přehled_body!$A$3:$A$130,0),MATCH(Tabulka!N$2,Přehled_body!$E$1:$ED$1,0)),)))","v":0},{"$f":"IF(IFERROR(INDEX(Přehled_body!$E$3:$ED$130,MATCH(Tabulka!$AI23,Přehled_body!$A$3:$A$130,0),MATCH(Tabulka!O$2,Přehled_body!$E$1:$ED$1,0)),)=\"\",,IF(IFERROR(INDEX(Přehled_body!$E$3:$ED$130,MATCH(Tabulka!$AI23,Přehled_body!$A$3:$A$130,0),MATCH(Tabulka!O$2,Přehled_body!$E$1:$ED$1,0)),)=0,0.00000000001,IFERROR(INDEX(Přehled_body!$E$3:$ED$130,MATCH(Tabulka!$AI23,Přehled_body!$A$3:$A$130,0),MATCH(Tabulka!O$2,Přehled_body!$E$1:$ED$1,0)),)))","v":0},{"$f":"IF(IFERROR(INDEX(Přehled_body!$E$3:$ED$130,MATCH(Tabulka!$AI23,Přehled_body!$A$3:$A$130,0),MATCH(Tabulka!P$2,Přehled_body!$E$1:$ED$1,0)),)=\"\",,IF(IFERROR(INDEX(Přehled_body!$E$3:$ED$130,MATCH(Tabulka!$AI23,Přehled_body!$A$3:$A$130,0),MATCH(Tabulka!P$2,Přehled_body!$E$1:$ED$1,0)),)=0,0.00000000001,IFERROR(INDEX(Přehled_body!$E$3:$ED$130,MATCH(Tabulka!$AI23,Přehled_body!$A$3:$A$130,0),MATCH(Tabulka!P$2,Přehled_body!$E$1:$ED$1,0)),)))","v":0},{"$f":"IF(IFERROR(INDEX(Přehled_body!$E$3:$ED$130,MATCH(Tabulka!$AI23,Přehled_body!$A$3:$A$130,0),MATCH(Tabulka!Q$2,Přehled_body!$E$1:$ED$1,0)),)=\"\",,IF(IFERROR(INDEX(Přehled_body!$E$3:$ED$130,MATCH(Tabulka!$AI23,Přehled_body!$A$3:$A$130,0),MATCH(Tabulka!Q$2,Přehled_body!$E$1:$ED$1,0)),)=0,0.00000000001,IFERROR(INDEX(Přehled_body!$E$3:$ED$130,MATCH(Tabulka!$AI23,Přehled_body!$A$3:$A$130,0),MATCH(Tabulka!Q$2,Přehled_body!$E$1:$ED$1,0)),)))","v":0},{"$f":"IF(IFERROR(INDEX(Přehled_body!$E$3:$ED$130,MATCH(Tabulka!$AI23,Přehled_body!$A$3:$A$130,0),MATCH(Tabulka!R$2,Přehled_body!$E$1:$ED$1,0)),)=\"\",,IF(IFERROR(INDEX(Přehled_body!$E$3:$ED$130,MATCH(Tabulka!$AI23,Přehled_body!$A$3:$A$130,0),MATCH(Tabulka!R$2,Přehled_body!$E$1:$ED$1,0)),)=0,0.00000000001,IFERROR(INDEX(Přehled_body!$E$3:$ED$130,MATCH(Tabulka!$AI23,Přehled_body!$A$3:$A$130,0),MATCH(Tabulka!R$2,Přehled_body!$E$1:$ED$1,0)),)))","v":0},{"$f":"IF(IFERROR(INDEX(Přehled_body!$E$3:$ED$130,MATCH(Tabulka!$AI23,Přehled_body!$A$3:$A$130,0),MATCH(Tabulka!S$2,Přehled_body!$E$1:$ED$1,0)),)=\"\",,IF(IFERROR(INDEX(Přehled_body!$E$3:$ED$130,MATCH(Tabulka!$AI23,Přehled_body!$A$3:$A$130,0),MATCH(Tabulka!S$2,Přehled_body!$E$1:$ED$1,0)),)=0,0.00000000001,IFERROR(INDEX(Přehled_body!$E$3:$ED$130,MATCH(Tabulka!$AI23,Přehled_body!$A$3:$A$130,0),MATCH(Tabulka!S$2,Přehled_body!$E$1:$ED$1,0)),)))","v":0},{"$f":"IF(IFERROR(INDEX(Přehled_body!$E$3:$ED$130,MATCH(Tabulka!$AI23,Přehled_body!$A$3:$A$130,0),MATCH(Tabulka!T$2,Přehled_body!$E$1:$ED$1,0)),)=\"\",,IF(IFERROR(INDEX(Přehled_body!$E$3:$ED$130,MATCH(Tabulka!$AI23,Přehled_body!$A$3:$A$130,0),MATCH(Tabulka!T$2,Přehled_body!$E$1:$ED$1,0)),)=0,0.00000000001,IFERROR(INDEX(Přehled_body!$E$3:$ED$130,MATCH(Tabulka!$AI23,Přehled_body!$A$3:$A$130,0),MATCH(Tabulka!T$2,Přehled_body!$E$1:$ED$1,0)),)))","v":0},{"$f":"IF(IFERROR(INDEX(Přehled_body!$E$3:$ED$130,MATCH(Tabulka!$AI23,Přehled_body!$A$3:$A$130,0),MATCH(Tabulka!U$2,Přehled_body!$E$1:$ED$1,0)),)=\"\",,IF(IFERROR(INDEX(Přehled_body!$E$3:$ED$130,MATCH(Tabulka!$AI23,Přehled_body!$A$3:$A$130,0),MATCH(Tabulka!U$2,Přehled_body!$E$1:$ED$1,0)),)=0,0.00000000001,IFERROR(INDEX(Přehled_body!$E$3:$ED$130,MATCH(Tabulka!$AI23,Přehled_body!$A$3:$A$130,0),MATCH(Tabulka!U$2,Přehled_body!$E$1:$ED$1,0)),)))","v":0},{"$f":"IF(IFERROR(INDEX(Přehled_body!$E$3:$ED$130,MATCH(Tabulka!$AI23,Přehled_body!$A$3:$A$130,0),MATCH(Tabulka!V$2,Přehled_body!$E$1:$ED$1,0)),)=\"\",,IF(IFERROR(INDEX(Přehled_body!$E$3:$ED$130,MATCH(Tabulka!$AI23,Přehled_body!$A$3:$A$130,0),MATCH(Tabulka!V$2,Přehled_body!$E$1:$ED$1,0)),)=0,0.00000000001,IFERROR(INDEX(Přehled_body!$E$3:$ED$130,MATCH(Tabulka!$AI23,Přehled_body!$A$3:$A$130,0),MATCH(Tabulka!V$2,Přehled_body!$E$1:$ED$1,0)),)))","v":0},{"$f":"IF(IFERROR(INDEX(Přehled_body!$E$3:$ED$130,MATCH(Tabulka!$AI23,Přehled_body!$A$3:$A$130,0),MATCH(Tabulka!W$2,Přehled_body!$E$1:$ED$1,0)),)=\"\",,IF(IFERROR(INDEX(Přehled_body!$E$3:$ED$130,MATCH(Tabulka!$AI23,Přehled_body!$A$3:$A$130,0),MATCH(Tabulka!W$2,Přehled_body!$E$1:$ED$1,0)),)=0,0.00000000001,IFERROR(INDEX(Přehled_body!$E$3:$ED$130,MATCH(Tabulka!$AI23,Přehled_body!$A$3:$A$130,0),MATCH(Tabulka!W$2,Přehled_body!$E$1:$ED$1,0)),)))","v":0},{"$f":"IF(IFERROR(INDEX(Přehled_body!$E$3:$ED$130,MATCH(Tabulka!$AI23,Přehled_body!$A$3:$A$130,0),MATCH(Tabulka!X$2,Přehled_body!$E$1:$ED$1,0)),)=\"\",,IF(IFERROR(INDEX(Přehled_body!$E$3:$ED$130,MATCH(Tabulka!$AI23,Přehled_body!$A$3:$A$130,0),MATCH(Tabulka!X$2,Přehled_body!$E$1:$ED$1,0)),)=0,0.00000000001,IFERROR(INDEX(Přehled_body!$E$3:$ED$130,MATCH(Tabulka!$AI23,Přehled_body!$A$3:$A$130,0),MATCH(Tabulka!X$2,Přehled_body!$E$1:$ED$1,0)),)))","v":0},{"$f":"IF(IFERROR(INDEX(Přehled_body!$E$3:$ED$130,MATCH(Tabulka!$AI23,Přehled_body!$A$3:$A$130,0),MATCH(Tabulka!Y$2,Přehled_body!$E$1:$ED$1,0)),)=\"\",,IF(IFERROR(INDEX(Přehled_body!$E$3:$ED$130,MATCH(Tabulka!$AI23,Přehled_body!$A$3:$A$130,0),MATCH(Tabulka!Y$2,Přehled_body!$E$1:$ED$1,0)),)=0,0.00000000001,IFERROR(INDEX(Přehled_body!$E$3:$ED$130,MATCH(Tabulka!$AI23,Přehled_body!$A$3:$A$130,0),MATCH(Tabulka!Y$2,Přehled_body!$E$1:$ED$1,0)),)))","v":0},{"$f":"IF(IFERROR(INDEX(Přehled_body!$E$3:$ED$130,MATCH(Tabulka!$AI23,Přehled_body!$A$3:$A$130,0),MATCH(Tabulka!Z$2,Přehled_body!$E$1:$ED$1,0)),)=\"\",,IF(IFERROR(INDEX(Přehled_body!$E$3:$ED$130,MATCH(Tabulka!$AI23,Přehled_body!$A$3:$A$130,0),MATCH(Tabulka!Z$2,Přehled_body!$E$1:$ED$1,0)),)=0,0.00000000001,IFERROR(INDEX(Přehled_body!$E$3:$ED$130,MATCH(Tabulka!$AI23,Přehled_body!$A$3:$A$130,0),MATCH(Tabulka!Z$2,Přehled_body!$E$1:$ED$1,0)),)))","v":0},{"$f":"IF(IFERROR(INDEX(Přehled_body!$E$3:$ED$130,MATCH(Tabulka!$AI23,Přehled_body!$A$3:$A$130,0),MATCH(Tabulka!AA$2,Přehled_body!$E$1:$ED$1,0)),)=\"\",,IF(IFERROR(INDEX(Přehled_body!$E$3:$ED$130,MATCH(Tabulka!$AI23,Přehled_body!$A$3:$A$130,0),MATCH(Tabulka!AA$2,Přehled_body!$E$1:$ED$1,0)),)=0,0.00000000001,IFERROR(INDEX(Přehled_body!$E$3:$ED$130,MATCH(Tabulka!$AI23,Přehled_body!$A$3:$A$130,0),MATCH(Tabulka!AA$2,Přehled_body!$E$1:$ED$1,0)),)))","v":0},{"$f":"IF(IFERROR(INDEX(Přehled_body!$E$3:$ED$130,MATCH(Tabulka!$AI23,Přehled_body!$A$3:$A$130,0),MATCH(Tabulka!AB$2,Přehled_body!$E$1:$ED$1,0)),)=\"\",,IF(IFERROR(INDEX(Přehled_body!$E$3:$ED$130,MATCH(Tabulka!$AI23,Přehled_body!$A$3:$A$130,0),MATCH(Tabulka!AB$2,Přehled_body!$E$1:$ED$1,0)),)=0,0.00000000001,IFERROR(INDEX(Přehled_body!$E$3:$ED$130,MATCH(Tabulka!$AI23,Přehled_body!$A$3:$A$130,0),MATCH(Tabulka!AB$2,Přehled_body!$E$1:$ED$1,0)),)))","v":0},{"$f":"IF(IFERROR(INDEX(Přehled_body!$E$3:$ED$130,MATCH(Tabulka!$AI23,Přehled_body!$A$3:$A$130,0),MATCH(Tabulka!AC$2,Přehled_body!$E$1:$ED$1,0)),)=\"\",,IF(IFERROR(INDEX(Přehled_body!$E$3:$ED$130,MATCH(Tabulka!$AI23,Přehled_body!$A$3:$A$130,0),MATCH(Tabulka!AC$2,Přehled_body!$E$1:$ED$1,0)),)=0,0.00000000001,IFERROR(INDEX(Přehled_body!$E$3:$ED$130,MATCH(Tabulka!$AI23,Přehled_body!$A$3:$A$130,0),MATCH(Tabulka!AC$2,Přehled_body!$E$1:$ED$1,0)),)))","v":0},{"$f":"IF(IFERROR(INDEX(Přehled_body!$E$3:$ED$130,MATCH(Tabulka!$AI23,Přehled_body!$A$3:$A$130,0),MATCH(Tabulka!AD$2,Přehled_body!$E$1:$ED$1,0)),)=\"\",,IF(IFERROR(INDEX(Přehled_body!$E$3:$ED$130,MATCH(Tabulka!$AI23,Přehled_body!$A$3:$A$130,0),MATCH(Tabulka!AD$2,Přehled_body!$E$1:$ED$1,0)),)=0,0.00000000001,IFERROR(INDEX(Přehled_body!$E$3:$ED$130,MATCH(Tabulka!$AI23,Přehled_body!$A$3:$A$130,0),MATCH(Tabulka!AD$2,Přehled_body!$E$1:$ED$1,0)),)))","v":0},{"$f":"IF(SUM($D$19:$AD$23)<1,-90000,SUM(D23:AD23))","v":-90000},null,null,null,{"$f":"CONCATENATE($B$20,\" \",$B$21,C23)","v":"Pavel PernekrPoč. kol"}]
[null,null,"Výhry",{"$f":"IF(IFERROR(INDEX(Přehled_body!$E$3:$ED$130,MATCH(Tabulka!$AI24,Přehled_body!$A$3:$A$130,0),MATCH(Tabulka!D$2,Přehled_body!$E$1:$ED$1,0)),)=\"\",,IF(IFERROR(INDEX(Přehled_body!$E$3:$ED$130,MATCH(Tabulka!$AI24,Přehled_body!$A$3:$A$130,0),MATCH(Tabulka!D$2,Přehled_body!$E$1:$ED$1,0)),)=0,0.00000000001,IFERROR(INDEX(Přehled_body!$E$3:$ED$130,MATCH(Tabulka!$AI24,Přehled_body!$A$3:$A$130,0),MATCH(Tabulka!D$2,Přehled_body!$E$1:$ED$1,0)),)))","v":1},{"$f":"IF(IFERROR(INDEX(Přehled_body!$E$3:$ED$130,MATCH(Tabulka!$AI24,Přehled_body!$A$3:$A$130,0),MATCH(Tabulka!E$2,Přehled_body!$E$1:$ED$1,0)),)=\"\",,IF(IFERROR(INDEX(Přehled_body!$E$3:$ED$130,MATCH(Tabulka!$AI24,Přehled_body!$A$3:$A$130,0),MATCH(Tabulka!E$2,Přehled_body!$E$1:$ED$1,0)),)=0,0.00000000001,IFERROR(INDEX(Přehled_body!$E$3:$ED$130,MATCH(Tabulka!$AI24,Přehled_body!$A$3:$A$130,0),MATCH(Tabulka!E$2,Přehled_body!$E$1:$ED$1,0)),)))","v":3},{"$f":"IF(IFERROR(INDEX(Přehled_body!$E$3:$ED$130,MATCH(Tabulka!$AI24,Přehled_body!$A$3:$A$130,0),MATCH(Tabulka!F$2,Přehled_body!$E$1:$ED$1,0)),)=\"\",,IF(IFERROR(INDEX(Přehled_body!$E$3:$ED$130,MATCH(Tabulka!$AI24,Přehled_body!$A$3:$A$130,0),MATCH(Tabulka!F$2,Přehled_body!$E$1:$ED$1,0)),)=0,0.00000000001,IFERROR(INDEX(Přehled_body!$E$3:$ED$130,MATCH(Tabulka!$AI24,Přehled_body!$A$3:$A$130,0),MATCH(Tabulka!F$2,Přehled_body!$E$1:$ED$1,0)),)))","v":2},{"$f":"IF(IFERROR(INDEX(Přehled_body!$E$3:$ED$130,MATCH(Tabulka!$AI24,Přehled_body!$A$3:$A$130,0),MATCH(Tabulka!G$2,Přehled_body!$E$1:$ED$1,0)),)=\"\",,IF(IFERROR(INDEX(Přehled_body!$E$3:$ED$130,MATCH(Tabulka!$AI24,Přehled_body!$A$3:$A$130,0),MATCH(Tabulka!G$2,Přehled_body!$E$1:$ED$1,0)),)=0,0.00000000001,IFERROR(INDEX(Přehled_body!$E$3:$ED$130,MATCH(Tabulka!$AI24,Přehled_body!$A$3:$A$130,0),MATCH(Tabulka!G$2,Přehled_body!$E$1:$ED$1,0)),)))","v":1},{"$f":"IF(IFERROR(INDEX(Přehled_body!$E$3:$ED$130,MATCH(Tabulka!$AI24,Přehled_body!$A$3:$A$130,0),MATCH(Tabulka!H$2,Přehled_body!$E$1:$ED$1,0)),)=\"\",,IF(IFERROR(INDEX(Přehled_body!$E$3:$ED$130,MATCH(Tabulka!$AI24,Přehled_body!$A$3:$A$130,0),MATCH(Tabulka!H$2,Přehled_body!$E$1:$ED$1,0)),)=0,0.00000000001,IFERROR(INDEX(Přehled_body!$E$3:$ED$130,MATCH(Tabulka!$AI24,Přehled_body!$A$3:$A$130,0),MATCH(Tabulka!H$2,Přehled_body!$E$1:$ED$1,0)),)))","v":2},{"$f":"IF(IFERROR(INDEX(Přehled_body!$E$3:$ED$130,MATCH(Tabulka!$AI24,Přehled_body!$A$3:$A$130,0),MATCH(Tabulka!I$2,Přehled_body!$E$1:$ED$1,0)),)=\"\",,IF(IFERROR(INDEX(Přehled_body!$E$3:$ED$130,MATCH(Tabulka!$AI24,Přehled_body!$A$3:$A$130,0),MATCH(Tabulka!I$2,Přehled_body!$E$1:$ED$1,0)),)=0,0.00000000001,IFERROR(INDEX(Přehled_body!$E$3:$ED$130,MATCH(Tabulka!$AI24,Přehled_body!$A$3:$A$130,0),MATCH(Tabulka!I$2,Přehled_body!$E$1:$ED$1,0)),)))","v":2},{"$f":"IF(IFERROR(INDEX(Přehled_body!$E$3:$ED$130,MATCH(Tabulka!$AI24,Přehled_body!$A$3:$A$130,0),MATCH(Tabulka!J$2,Přehled_body!$E$1:$ED$1,0)),)=\"\",,IF(IFERROR(INDEX(Přehled_body!$E$3:$ED$130,MATCH(Tabulka!$AI24,Přehled_body!$A$3:$A$130,0),MATCH(Tabulka!J$2,Přehled_body!$E$1:$ED$1,0)),)=0,0.00000000001,IFERROR(INDEX(Přehled_body!$E$3:$ED$130,MATCH(Tabulka!$AI24,Přehled_body!$A$3:$A$130,0),MATCH(Tabulka!J$2,Přehled_body!$E$1:$ED$1,0)),)))","v":2},{"$f":"IF(IFERROR(INDEX(Přehled_body!$E$3:$ED$130,MATCH(Tabulka!$AI24,Přehled_body!$A$3:$A$130,0),MATCH(Tabulka!K$2,Přehled_body!$E$1:$ED$1,0)),)=\"\",,IF(IFERROR(INDEX(Přehled_body!$E$3:$ED$130,MATCH(Tabulka!$AI24,Přehled_body!$A$3:$A$130,0),MATCH(Tabulka!K$2,Přehled_body!$E$1:$ED$1,0)),)=0,0.00000000001,IFERROR(INDEX(Přehled_body!$E$3:$ED$130,MATCH(Tabulka!$AI24,Přehled_body!$A$3:$A$130,0),MATCH(Tabulka!K$2,Přehled_body!$E$1:$ED$1,0)),)))","v":2},{"$f":"IF(IFERROR(INDEX(Přehled_body!$E$3:$ED$130,MATCH(Tabulka!$AI24,Přehled_body!$A$3:$A$130,0),MATCH(Tabulka!L$2,Přehled_body!$E$1:$ED$1,0)),)=\"\",,IF(IFERROR(INDEX(Přehled_body!$E$3:$ED$130,MATCH(Tabulka!$AI24,Přehled_body!$A$3:$A$130,0),MATCH(Tabulka!L$2,Přehled_body!$E$1:$ED$1,0)),)=0,0.00000000001,IFERROR(INDEX(Přehled_body!$E$3:$ED$130,MATCH(Tabulka!$AI24,Přehled_body!$A$3:$A$130,0),MATCH(Tabulka!L$2,Přehled_body!$E$1:$ED$1,0)),)))","v":1},{"$f":"IF(IFERROR(INDEX(Přehled_body!$E$3:$ED$130,MATCH(Tabulka!$AI24,Přehled_body!$A$3:$A$130,0),MATCH(Tabulka!M$2,Přehled_body!$E$1:$ED$1,0)),)=\"\",,IF(IFERROR(INDEX(Přehled_body!$E$3:$ED$130,MATCH(Tabulka!$AI24,Přehled_body!$A$3:$A$130,0),MATCH(Tabulka!M$2,Přehled_body!$E$1:$ED$1,0)),)=0,0.00000000001,IFERROR(INDEX(Přehled_body!$E$3:$ED$130,MATCH(Tabulka!$AI24,Přehled_body!$A$3:$A$130,0),MATCH(Tabulka!M$2,Přehled_body!$E$1:$ED$1,0)),)))","v":2},{"$f":"IF(IFERROR(INDEX(Přehled_body!$E$3:$ED$130,MATCH(Tabulka!$AI24,Přehled_body!$A$3:$A$130,0),MATCH(Tabulka!N$2,Přehled_body!$E$1:$ED$1,0)),)=\"\",,IF(IFERROR(INDEX(Přehled_body!$E$3:$ED$130,MATCH(Tabulka!$AI24,Přehled_body!$A$3:$A$130,0),MATCH(Tabulka!N$2,Přehled_body!$E$1:$ED$1,0)),)=0,0.00000000001,IFERROR(INDEX(Přehled_body!$E$3:$ED$130,MATCH(Tabulka!$AI24,Přehled_body!$A$3:$A$130,0),MATCH(Tabulka!N$2,Přehled_body!$E$1:$ED$1,0)),)))","v":0},{"$f":"IF(IFERROR(INDEX(Přehled_body!$E$3:$ED$130,MATCH(Tabulka!$AI24,Přehled_body!$A$3:$A$130,0),MATCH(Tabulka!O$2,Přehled_body!$E$1:$ED$1,0)),)=\"\",,IF(IFERROR(INDEX(Přehled_body!$E$3:$ED$130,MATCH(Tabulka!$AI24,Přehled_body!$A$3:$A$130,0),MATCH(Tabulka!O$2,Přehled_body!$E$1:$ED$1,0)),)=0,0.00000000001,IFERROR(INDEX(Přehled_body!$E$3:$ED$130,MATCH(Tabulka!$AI24,Přehled_body!$A$3:$A$130,0),MATCH(Tabulka!O$2,Přehled_body!$E$1:$ED$1,0)),)))","v":0},{"$f":"IF(IFERROR(INDEX(Přehled_body!$E$3:$ED$130,MATCH(Tabulka!$AI24,Přehled_body!$A$3:$A$130,0),MATCH(Tabulka!P$2,Přehled_body!$E$1:$ED$1,0)),)=\"\",,IF(IFERROR(INDEX(Přehled_body!$E$3:$ED$130,MATCH(Tabulka!$AI24,Přehled_body!$A$3:$A$130,0),MATCH(Tabulka!P$2,Přehled_body!$E$1:$ED$1,0)),)=0,0.00000000001,IFERROR(INDEX(Přehled_body!$E$3:$ED$130,MATCH(Tabulka!$AI24,Přehled_body!$A$3:$A$130,0),MATCH(Tabulka!P$2,Přehled_body!$E$1:$ED$1,0)),)))","v":0},{"$f":"IF(IFERROR(INDEX(Přehled_body!$E$3:$ED$130,MATCH(Tabulka!$AI24,Přehled_body!$A$3:$A$130,0),MATCH(Tabulka!Q$2,Přehled_body!$E$1:$ED$1,0)),)=\"\",,IF(IFERROR(INDEX(Přehled_body!$E$3:$ED$130,MATCH(Tabulka!$AI24,Přehled_body!$A$3:$A$130,0),MATCH(Tabulka!Q$2,Přehled_body!$E$1:$ED$1,0)),)=0,0.00000000001,IFERROR(INDEX(Přehled_body!$E$3:$ED$130,MATCH(Tabulka!$AI24,Přehled_body!$A$3:$A$130,0),MATCH(Tabulka!Q$2,Přehled_body!$E$1:$ED$1,0)),)))","v":0},{"$f":"IF(IFERROR(INDEX(Přehled_body!$E$3:$ED$130,MATCH(Tabulka!$AI24,Přehled_body!$A$3:$A$130,0),MATCH(Tabulka!R$2,Přehled_body!$E$1:$ED$1,0)),)=\"\",,IF(IFERROR(INDEX(Přehled_body!$E$3:$ED$130,MATCH(Tabulka!$AI24,Přehled_body!$A$3:$A$130,0),MATCH(Tabulka!R$2,Přehled_body!$E$1:$ED$1,0)),)=0,0.00000000001,IFERROR(INDEX(Přehled_body!$E$3:$ED$130,MATCH(Tabulka!$AI24,Přehled_body!$A$3:$A$130,0),MATCH(Tabulka!R$2,Přehled_body!$E$1:$ED$1,0)),)))","v":0},{"$f":"IF(IFERROR(INDEX(Přehled_body!$E$3:$ED$130,MATCH(Tabulka!$AI24,Přehled_body!$A$3:$A$130,0),MATCH(Tabulka!S$2,Přehled_body!$E$1:$ED$1,0)),)=\"\",,IF(IFERROR(INDEX(Přehled_body!$E$3:$ED$130,MATCH(Tabulka!$AI24,Přehled_body!$A$3:$A$130,0),MATCH(Tabulka!S$2,Přehled_body!$E$1:$ED$1,0)),)=0,0.00000000001,IFERROR(INDEX(Přehled_body!$E$3:$ED$130,MATCH(Tabulka!$AI24,Přehled_body!$A$3:$A$130,0),MATCH(Tabulka!S$2,Přehled_body!$E$1:$ED$1,0)),)))","v":0},{"$f":"IF(IFERROR(INDEX(Přehled_body!$E$3:$ED$130,MATCH(Tabulka!$AI24,Přehled_body!$A$3:$A$130,0),MATCH(Tabulka!T$2,Přehled_body!$E$1:$ED$1,0)),)=\"\",,IF(IFERROR(INDEX(Přehled_body!$E$3:$ED$130,MATCH(Tabulka!$AI24,Přehled_body!$A$3:$A$130,0),MATCH(Tabulka!T$2,Přehled_body!$E$1:$ED$1,0)),)=0,0.00000000001,IFERROR(INDEX(Přehled_body!$E$3:$ED$130,MATCH(Tabulka!$AI24,Přehled_body!$A$3:$A$130,0),MATCH(Tabulka!T$2,Přehled_body!$E$1:$ED$1,0)),)))","v":0},{"$f":"IF(IFERROR(INDEX(Přehled_body!$E$3:$ED$130,MATCH(Tabulka!$AI24,Přehled_body!$A$3:$A$130,0),MATCH(Tabulka!U$2,Přehled_body!$E$1:$ED$1,0)),)=\"\",,IF(IFERROR(INDEX(Přehled_body!$E$3:$ED$130,MATCH(Tabulka!$AI24,Přehled_body!$A$3:$A$130,0),MATCH(Tabulka!U$2,Přehled_body!$E$1:$ED$1,0)),)=0,0.00000000001,IFERROR(INDEX(Přehled_body!$E$3:$ED$130,MATCH(Tabulka!$AI24,Přehled_body!$A$3:$A$130,0),MATCH(Tabulka!U$2,Přehled_body!$E$1:$ED$1,0)),)))","v":0},{"$f":"IF(IFERROR(INDEX(Přehled_body!$E$3:$ED$130,MATCH(Tabulka!$AI24,Přehled_body!$A$3:$A$130,0),MATCH(Tabulka!V$2,Přehled_body!$E$1:$ED$1,0)),)=\"\",,IF(IFERROR(INDEX(Přehled_body!$E$3:$ED$130,MATCH(Tabulka!$AI24,Přehled_body!$A$3:$A$130,0),MATCH(Tabulka!V$2,Přehled_body!$E$1:$ED$1,0)),)=0,0.00000000001,IFERROR(INDEX(Přehled_body!$E$3:$ED$130,MATCH(Tabulka!$AI24,Přehled_body!$A$3:$A$130,0),MATCH(Tabulka!V$2,Přehled_body!$E$1:$ED$1,0)),)))","v":0},{"$f":"IF(IFERROR(INDEX(Přehled_body!$E$3:$ED$130,MATCH(Tabulka!$AI24,Přehled_body!$A$3:$A$130,0),MATCH(Tabulka!W$2,Přehled_body!$E$1:$ED$1,0)),)=\"\",,IF(IFERROR(INDEX(Přehled_body!$E$3:$ED$130,MATCH(Tabulka!$AI24,Přehled_body!$A$3:$A$130,0),MATCH(Tabulka!W$2,Přehled_body!$E$1:$ED$1,0)),)=0,0.00000000001,IFERROR(INDEX(Přehled_body!$E$3:$ED$130,MATCH(Tabulka!$AI24,Přehled_body!$A$3:$A$130,0),MATCH(Tabulka!W$2,Přehled_body!$E$1:$ED$1,0)),)))","v":0},{"$f":"IF(IFERROR(INDEX(Přehled_body!$E$3:$ED$130,MATCH(Tabulka!$AI24,Přehled_body!$A$3:$A$130,0),MATCH(Tabulka!X$2,Přehled_body!$E$1:$ED$1,0)),)=\"\",,IF(IFERROR(INDEX(Přehled_body!$E$3:$ED$130,MATCH(Tabulka!$AI24,Přehled_body!$A$3:$A$130,0),MATCH(Tabulka!X$2,Přehled_body!$E$1:$ED$1,0)),)=0,0.00000000001,IFERROR(INDEX(Přehled_body!$E$3:$ED$130,MATCH(Tabulka!$AI24,Přehled_body!$A$3:$A$130,0),MATCH(Tabulka!X$2,Přehled_body!$E$1:$ED$1,0)),)))","v":0},{"$f":"IF(IFERROR(INDEX(Přehled_body!$E$3:$ED$130,MATCH(Tabulka!$AI24,Přehled_body!$A$3:$A$130,0),MATCH(Tabulka!Y$2,Přehled_body!$E$1:$ED$1,0)),)=\"\",,IF(IFERROR(INDEX(Přehled_body!$E$3:$ED$130,MATCH(Tabulka!$AI24,Přehled_body!$A$3:$A$130,0),MATCH(Tabulka!Y$2,Přehled_body!$E$1:$ED$1,0)),)=0,0.00000000001,IFERROR(INDEX(Přehled_body!$E$3:$ED$130,MATCH(Tabulka!$AI24,Přehled_body!$A$3:$A$130,0),MATCH(Tabulka!Y$2,Přehled_body!$E$1:$ED$1,0)),)))","v":0},{"$f":"IF(IFERROR(INDEX(Přehled_body!$E$3:$ED$130,MATCH(Tabulka!$AI24,Přehled_body!$A$3:$A$130,0),MATCH(Tabulka!Z$2,Přehled_body!$E$1:$ED$1,0)),)=\"\",,IF(IFERROR(INDEX(Přehled_body!$E$3:$ED$130,MATCH(Tabulka!$AI24,Přehled_body!$A$3:$A$130,0),MATCH(Tabulka!Z$2,Přehled_body!$E$1:$ED$1,0)),)=0,0.00000000001,IFERROR(INDEX(Přehled_body!$E$3:$ED$130,MATCH(Tabulka!$AI24,Přehled_body!$A$3:$A$130,0),MATCH(Tabulka!Z$2,Přehled_body!$E$1:$ED$1,0)),)))","v":0},{"$f":"IF(IFERROR(INDEX(Přehled_body!$E$3:$ED$130,MATCH(Tabulka!$AI24,Přehled_body!$A$3:$A$130,0),MATCH(Tabulka!AA$2,Přehled_body!$E$1:$ED$1,0)),)=\"\",,IF(IFERROR(INDEX(Přehled_body!$E$3:$ED$130,MATCH(Tabulka!$AI24,Přehled_body!$A$3:$A$130,0),MATCH(Tabulka!AA$2,Přehled_body!$E$1:$ED$1,0)),)=0,0.00000000001,IFERROR(INDEX(Přehled_body!$E$3:$ED$130,MATCH(Tabulka!$AI24,Přehled_body!$A$3:$A$130,0),MATCH(Tabulka!AA$2,Přehled_body!$E$1:$ED$1,0)),)))","v":0},{"$f":"IF(IFERROR(INDEX(Přehled_body!$E$3:$ED$130,MATCH(Tabulka!$AI24,Přehled_body!$A$3:$A$130,0),MATCH(Tabulka!AB$2,Přehled_body!$E$1:$ED$1,0)),)=\"\",,IF(IFERROR(INDEX(Přehled_body!$E$3:$ED$130,MATCH(Tabulka!$AI24,Přehled_body!$A$3:$A$130,0),MATCH(Tabulka!AB$2,Přehled_body!$E$1:$ED$1,0)),)=0,0.00000000001,IFERROR(INDEX(Přehled_body!$E$3:$ED$130,MATCH(Tabulka!$AI24,Přehled_body!$A$3:$A$130,0),MATCH(Tabulka!AB$2,Přehled_body!$E$1:$ED$1,0)),)))","v":0},{"$f":"IF(IFERROR(INDEX(Přehled_body!$E$3:$ED$130,MATCH(Tabulka!$AI24,Přehled_body!$A$3:$A$130,0),MATCH(Tabulka!AC$2,Přehled_body!$E$1:$ED$1,0)),)=\"\",,IF(IFERROR(INDEX(Přehled_body!$E$3:$ED$130,MATCH(Tabulka!$AI24,Přehled_body!$A$3:$A$130,0),MATCH(Tabulka!AC$2,Přehled_body!$E$1:$ED$1,0)),)=0,0.00000000001,IFERROR(INDEX(Přehled_body!$E$3:$ED$130,MATCH(Tabulka!$AI24,Přehled_body!$A$3:$A$130,0),MATCH(Tabulka!AC$2,Přehled_body!$E$1:$ED$1,0)),)))","v":0},{"$f":"IF(IFERROR(INDEX(Přehled_body!$E$3:$ED$130,MATCH(Tabulka!$AI24,Přehled_body!$A$3:$A$130,0),MATCH(Tabulka!AD$2,Přehled_body!$E$1:$ED$1,0)),)=\"\",,IF(IFERROR(INDEX(Přehled_body!$E$3:$ED$130,MATCH(Tabulka!$AI24,Přehled_body!$A$3:$A$130,0),MATCH(Tabulka!AD$2,Přehled_body!$E$1:$ED$1,0)),)=0,0.00000000001,IFERROR(INDEX(Přehled_body!$E$3:$ED$130,MATCH(Tabulka!$AI24,Přehled_body!$A$3:$A$130,0),MATCH(Tabulka!AD$2,Přehled_body!$E$1:$ED$1,0)),)))","v":0},{"$f":"IF(SUM($D$24:$AD$28)<1,-90000,SUM(D24:AD24))","v":18},null,{"$f":"COUNTIF(D24:AD24,\">0\")","v":10},null,{"$f":"CONCATENATE($B$25,\" \",$B$26,C24)","v":"Milan VeselýVýhry"}]
[{"$f":"CONCATENATE(B25,\" \",B26)","v":"Milan Veselý"},"Milan","Prohry",{"$f":"IF(IFERROR(INDEX(Přehled_body!$E$3:$ED$130,MATCH(Tabulka!$AI25,Přehled_body!$A$3:$A$130,0),MATCH(Tabulka!D$2,Přehled_body!$E$1:$ED$1,0)),)=\"\",,IF(IFERROR(INDEX(Přehled_body!$E$3:$ED$130,MATCH(Tabulka!$AI25,Přehled_body!$A$3:$A$130,0),MATCH(Tabulka!D$2,Přehled_body!$E$1:$ED$1,0)),)=0,0.00000000001,IFERROR(INDEX(Přehled_body!$E$3:$ED$130,MATCH(Tabulka!$AI25,Přehled_body!$A$3:$A$130,0),MATCH(Tabulka!D$2,Přehled_body!$E$1:$ED$1,0)),)))","v":1},{"$f":"IF(IFERROR(INDEX(Přehled_body!$E$3:$ED$130,MATCH(Tabulka!$AI25,Přehled_body!$A$3:$A$130,0),MATCH(Tabulka!E$2,Přehled_body!$E$1:$ED$1,0)),)=\"\",,IF(IFERROR(INDEX(Přehled_body!$E$3:$ED$130,MATCH(Tabulka!$AI25,Přehled_body!$A$3:$A$130,0),MATCH(Tabulka!E$2,Přehled_body!$E$1:$ED$1,0)),)=0,0.00000000001,IFERROR(INDEX(Přehled_body!$E$3:$ED$130,MATCH(Tabulka!$AI25,Přehled_body!$A$3:$A$130,0),MATCH(Tabulka!E$2,Přehled_body!$E$1:$ED$1,0)),)))","v":9.9999999999999994E-12},{"$f":"IF(IFERROR(INDEX(Přehled_body!$E$3:$ED$130,MATCH(Tabulka!$AI25,Přehled_body!$A$3:$A$130,0),MATCH(Tabulka!F$2,Přehled_body!$E$1:$ED$1,0)),)=\"\",,IF(IFERROR(INDEX(Přehled_body!$E$3:$ED$130,MATCH(Tabulka!$AI25,Přehled_body!$A$3:$A$130,0),MATCH(Tabulka!F$2,Přehled_body!$E$1:$ED$1,0)),)=0,0.00000000001,IFERROR(INDEX(Přehled_body!$E$3:$ED$130,MATCH(Tabulka!$AI25,Přehled_body!$A$3:$A$130,0),MATCH(Tabulka!F$2,Přehled_body!$E$1:$ED$1,0)),)))","v":1},{"$f":"IF(IFERROR(INDEX(Přehled_body!$E$3:$ED$130,MATCH(Tabulka!$AI25,Přehled_body!$A$3:$A$130,0),MATCH(Tabulka!G$2,Přehled_body!$E$1:$ED$1,0)),)=\"\",,IF(IFERROR(INDEX(Přehled_body!$E$3:$ED$130,MATCH(Tabulka!$AI25,Přehled_body!$A$3:$A$130,0),MATCH(Tabulka!G$2,Přehled_body!$E$1:$ED$1,0)),)=0,0.00000000001,IFERROR(INDEX(Přehled_body!$E$3:$ED$130,MATCH(Tabulka!$AI25,Přehled_body!$A$3:$A$130,0),MATCH(Tabulka!G$2,Přehled_body!$E$1:$ED$1,0)),)))","v":1},{"$f":"IF(IFERROR(INDEX(Přehled_body!$E$3:$ED$130,MATCH(Tabulka!$AI25,Přehled_body!$A$3:$A$130,0),MATCH(Tabulka!H$2,Přehled_body!$E$1:$ED$1,0)),)=\"\",,IF(IFERROR(INDEX(Přehled_body!$E$3:$ED$130,MATCH(Tabulka!$AI25,Přehled_body!$A$3:$A$130,0),MATCH(Tabulka!H$2,Přehled_body!$E$1:$ED$1,0)),)=0,0.00000000001,IFERROR(INDEX(Přehled_body!$E$3:$ED$130,MATCH(Tabulka!$AI25,Přehled_body!$A$3:$A$130,0),MATCH(Tabulka!H$2,Přehled_body!$E$1:$ED$1,0)),)))","v":9.9999999999999994E-12},{"$f":"IF(IFERROR(INDEX(Přehled_body!$E$3:$ED$130,MATCH(Tabulka!$AI25,Přehled_body!$A$3:$A$130,0),MATCH(Tabulka!I$2,Přehled_body!$E$1:$ED$1,0)),)=\"\",,IF(IFERROR(INDEX(Přehled_body!$E$3:$ED$130,MATCH(Tabulka!$AI25,Přehled_body!$A$3:$A$130,0),MATCH(Tabulka!I$2,Přehled_body!$E$1:$ED$1,0)),)=0,0.00000000001,IFERROR(INDEX(Přehled_body!$E$3:$ED$130,MATCH(Tabulka!$AI25,Přehled_body!$A$3:$A$130,0),MATCH(Tabulka!I$2,Přehled_body!$E$1:$ED$1,0)),)))","v":1},{"$f":"IF(IFERROR(INDEX(Přehled_body!$E$3:$ED$130,MATCH(Tabulka!$AI25,Přehled_body!$A$3:$A$130,0),MATCH(Tabulka!J$2,Přehled_body!$E$1:$ED$1,0)),)=\"\",,IF(IFERROR(INDEX(Přehled_body!$E$3:$ED$130,MATCH(Tabulka!$AI25,Přehled_body!$A$3:$A$130,0),MATCH(Tabulka!J$2,Přehled_body!$E$1:$ED$1,0)),)=0,0.00000000001,IFERROR(INDEX(Přehled_body!$E$3:$ED$130,MATCH(Tabulka!$AI25,Přehled_body!$A$3:$A$130,0),MATCH(Tabulka!J$2,Přehled_body!$E$1:$ED$1,0)),)))","v":9.9999999999999994E-12},{"$f":"IF(IFERROR(INDEX(Přehled_body!$E$3:$ED$130,MATCH(Tabulka!$AI25,Přehled_body!$A$3:$A$130,0),MATCH(Tabulka!K$2,Přehled_body!$E$1:$ED$1,0)),)=\"\",,IF(IFERROR(INDEX(Přehled_body!$E$3:$ED$130,MATCH(Tabulka!$AI25,Přehled_body!$A$3:$A$130,0),MATCH(Tabulka!K$2,Přehled_body!$E$1:$ED$1,0)),)=0,0.00000000001,IFERROR(INDEX(Přehled_body!$E$3:$ED$130,MATCH(Tabulka!$AI25,Přehled_body!$A$3:$A$130,0),MATCH(Tabulka!K$2,Přehled_body!$E$1:$ED$1,0)),)))","v":9.9999999999999994E-12},{"$f":"IF(IFERROR(INDEX(Přehled_body!$E$3:$ED$130,MATCH(Tabulka!$AI25,Přehled_body!$A$3:$A$130,0),MATCH(Tabulka!L$2,Přehled_body!$E$1:$ED$1,0)),)=\"\",,IF(IFERROR(INDEX(Přehled_body!$E$3:$ED$130,MATCH(Tabulka!$AI25,Přehled_body!$A$3:$A$130,0),MATCH(Tabulka!L$2,Přehled_body!$E$1:$ED$1,0)),)=0,0.00000000001,IFERROR(INDEX(Přehled_body!$E$3:$ED$130,MATCH(Tabulka!$AI25,Přehled_body!$A$3:$A$130,0),MATCH(Tabulka!L$2,Přehled_body!$E$1:$ED$1,0)),)))","v":9.9999999999999994E-12},{"$f":"IF(IFERROR(INDEX(Přehled_body!$E$3:$ED$130,MATCH(Tabulka!$AI25,Přehled_body!$A$3:$A$130,0),MATCH(Tabulka!M$2,Přehled_body!$E$1:$ED$1,0)),)=\"\",,IF(IFERROR(INDEX(Přehled_body!$E$3:$ED$130,MATCH(Tabulka!$AI25,Přehled_body!$A$3:$A$130,0),MATCH(Tabulka!M$2,Přehled_body!$E$1:$ED$1,0)),)=0,0.00000000001,IFERROR(INDEX(Přehled_body!$E$3:$ED$130,MATCH(Tabulka!$AI25,Přehled_body!$A$3:$A$130,0),MATCH(Tabulka!M$2,Přehled_body!$E$1:$ED$1,0)),)))","v":1},{"$f":"IF(IFERROR(INDEX(Přehled_body!$E$3:$ED$130,MATCH(Tabulka!$AI25,Přehled_body!$A$3:$A$130,0),MATCH(Tabulka!N$2,Přehled_body!$E$1:$ED$1,0)),)=\"\",,IF(IFERROR(INDEX(Přehled_body!$E$3:$ED$130,MATCH(Tabulka!$AI25,Přehled_body!$A$3:$A$130,0),MATCH(Tabulka!N$2,Přehled_body!$E$1:$ED$1,0)),)=0,0.00000000001,IFERROR(INDEX(Přehled_body!$E$3:$ED$130,MATCH(Tabulka!$AI25,Přehled_body!$A$3:$A$130,0),MATCH(Tabulka!N$2,Přehled_body!$E$1:$ED$1,0)),)))","v":0},{"$f":"IF(IFERROR(INDEX(Přehled_body!$E$3:$ED$130,MATCH(Tabulka!$AI25,Přehled_body!$A$3:$A$130,0),MATCH(Tabulka!O$2,Přehled_body!$E$1:$ED$1,0)),)=\"\",,IF(IFERROR(INDEX(Přehled_body!$E$3:$ED$130,MATCH(Tabulka!$AI25,Přehled_body!$A$3:$A$130,0),MATCH(Tabulka!O$2,Přehled_body!$E$1:$ED$1,0)),)=0,0.00000000001,IFERROR(INDEX(Přehled_body!$E$3:$ED$130,MATCH(Tabulka!$AI25,Přehled_body!$A$3:$A$130,0),MATCH(Tabulka!O$2,Přehled_body!$E$1:$ED$1,0)),)))","v":0},{"$f":"IF(IFERROR(INDEX(Přehled_body!$E$3:$ED$130,MATCH(Tabulka!$AI25,Přehled_body!$A$3:$A$130,0),MATCH(Tabulka!P$2,Přehled_body!$E$1:$ED$1,0)),)=\"\",,IF(IFERROR(INDEX(Přehled_body!$E$3:$ED$130,MATCH(Tabulka!$AI25,Přehled_body!$A$3:$A$130,0),MATCH(Tabulka!P$2,Přehled_body!$E$1:$ED$1,0)),)=0,0.00000000001,IFERROR(INDEX(Přehled_body!$E$3:$ED$130,MATCH(Tabulka!$AI25,Přehled_body!$A$3:$A$130,0),MATCH(Tabulka!P$2,Přehled_body!$E$1:$ED$1,0)),)))","v":0},{"$f":"IF(IFERROR(INDEX(Přehled_body!$E$3:$ED$130,MATCH(Tabulka!$AI25,Přehled_body!$A$3:$A$130,0),MATCH(Tabulka!Q$2,Přehled_body!$E$1:$ED$1,0)),)=\"\",,IF(IFERROR(INDEX(Přehled_body!$E$3:$ED$130,MATCH(Tabulka!$AI25,Přehled_body!$A$3:$A$130,0),MATCH(Tabulka!Q$2,Přehled_body!$E$1:$ED$1,0)),)=0,0.00000000001,IFERROR(INDEX(Přehled_body!$E$3:$ED$130,MATCH(Tabulka!$AI25,Přehled_body!$A$3:$A$130,0),MATCH(Tabulka!Q$2,Přehled_body!$E$1:$ED$1,0)),)))","v":0},{"$f":"IF(IFERROR(INDEX(Přehled_body!$E$3:$ED$130,MATCH(Tabulka!$AI25,Přehled_body!$A$3:$A$130,0),MATCH(Tabulka!R$2,Přehled_body!$E$1:$ED$1,0)),)=\"\",,IF(IFERROR(INDEX(Přehled_body!$E$3:$ED$130,MATCH(Tabulka!$AI25,Přehled_body!$A$3:$A$130,0),MATCH(Tabulka!R$2,Přehled_body!$E$1:$ED$1,0)),)=0,0.00000000001,IFERROR(INDEX(Přehled_body!$E$3:$ED$130,MATCH(Tabulka!$AI25,Přehled_body!$A$3:$A$130,0),MATCH(Tabulka!R$2,Přehled_body!$E$1:$ED$1,0)),)))","v":0},{"$f":"IF(IFERROR(INDEX(Přehled_body!$E$3:$ED$130,MATCH(Tabulka!$AI25,Přehled_body!$A$3:$A$130,0),MATCH(Tabulka!S$2,Přehled_body!$E$1:$ED$1,0)),)=\"\",,IF(IFERROR(INDEX(Přehled_body!$E$3:$ED$130,MATCH(Tabulka!$AI25,Přehled_body!$A$3:$A$130,0),MATCH(Tabulka!S$2,Přehled_body!$E$1:$ED$1,0)),)=0,0.00000000001,IFERROR(INDEX(Přehled_body!$E$3:$ED$130,MATCH(Tabulka!$AI25,Přehled_body!$A$3:$A$130,0),MATCH(Tabulka!S$2,Přehled_body!$E$1:$ED$1,0)),)))","v":0},{"$f":"IF(IFERROR(INDEX(Přehled_body!$E$3:$ED$130,MATCH(Tabulka!$AI25,Přehled_body!$A$3:$A$130,0),MATCH(Tabulka!T$2,Přehled_body!$E$1:$ED$1,0)),)=\"\",,IF(IFERROR(INDEX(Přehled_body!$E$3:$ED$130,MATCH(Tabulka!$AI25,Přehled_body!$A$3:$A$130,0),MATCH(Tabulka!T$2,Přehled_body!$E$1:$ED$1,0)),)=0,0.00000000001,IFERROR(INDEX(Přehled_body!$E$3:$ED$130,MATCH(Tabulka!$AI25,Přehled_body!$A$3:$A$130,0),MATCH(Tabulka!T$2,Přehled_body!$E$1:$ED$1,0)),)))","v":0},{"$f":"IF(IFERROR(INDEX(Přehled_body!$E$3:$ED$130,MATCH(Tabulka!$AI25,Přehled_body!$A$3:$A$130,0),MATCH(Tabulka!U$2,Přehled_body!$E$1:$ED$1,0)),)=\"\",,IF(IFERROR(INDEX(Přehled_body!$E$3:$ED$130,MATCH(Tabulka!$AI25,Přehled_body!$A$3:$A$130,0),MATCH(Tabulka!U$2,Přehled_body!$E$1:$ED$1,0)),)=0,0.00000000001,IFERROR(INDEX(Přehled_body!$E$3:$ED$130,MATCH(Tabulka!$AI25,Přehled_body!$A$3:$A$130,0),MATCH(Tabulka!U$2,Přehled_body!$E$1:$ED$1,0)),)))","v":0},{"$f":"IF(IFERROR(INDEX(Přehled_body!$E$3:$ED$130,MATCH(Tabulka!$AI25,Přehled_body!$A$3:$A$130,0),MATCH(Tabulka!V$2,Přehled_body!$E$1:$ED$1,0)),)=\"\",,IF(IFERROR(INDEX(Přehled_body!$E$3:$ED$130,MATCH(Tabulka!$AI25,Přehled_body!$A$3:$A$130,0),MATCH(Tabulka!V$2,Přehled_body!$E$1:$ED$1,0)),)=0,0.00000000001,IFERROR(INDEX(Přehled_body!$E$3:$ED$130,MATCH(Tabulka!$AI25,Přehled_body!$A$3:$A$130,0),MATCH(Tabulka!V$2,Přehled_body!$E$1:$ED$1,0)),)))","v":0},{"$f":"IF(IFERROR(INDEX(Přehled_body!$E$3:$ED$130,MATCH(Tabulka!$AI25,Přehled_body!$A$3:$A$130,0),MATCH(Tabulka!W$2,Přehled_body!$E$1:$ED$1,0)),)=\"\",,IF(IFERROR(INDEX(Přehled_body!$E$3:$ED$130,MATCH(Tabulka!$AI25,Přehled_body!$A$3:$A$130,0),MATCH(Tabulka!W$2,Přehled_body!$E$1:$ED$1,0)),)=0,0.00000000001,IFERROR(INDEX(Přehled_body!$E$3:$ED$130,MATCH(Tabulka!$AI25,Přehled_body!$A$3:$A$130,0),MATCH(Tabulka!W$2,Přehled_body!$E$1:$ED$1,0)),)))","v":0},{"$f":"IF(IFERROR(INDEX(Přehled_body!$E$3:$ED$130,MATCH(Tabulka!$AI25,Přehled_body!$A$3:$A$130,0),MATCH(Tabulka!X$2,Přehled_body!$E$1:$ED$1,0)),)=\"\",,IF(IFERROR(INDEX(Přehled_body!$E$3:$ED$130,MATCH(Tabulka!$AI25,Přehled_body!$A$3:$A$130,0),MATCH(Tabulka!X$2,Přehled_body!$E$1:$ED$1,0)),)=0,0.00000000001,IFERROR(INDEX(Přehled_body!$E$3:$ED$130,MATCH(Tabulka!$AI25,Přehled_body!$A$3:$A$130,0),MATCH(Tabulka!X$2,Přehled_body!$E$1:$ED$1,0)),)))","v":0},{"$f":"IF(IFERROR(INDEX(Přehled_body!$E$3:$ED$130,MATCH(Tabulka!$AI25,Přehled_body!$A$3:$A$130,0),MATCH(Tabulka!Y$2,Přehled_body!$E$1:$ED$1,0)),)=\"\",,IF(IFERROR(INDEX(Přehled_body!$E$3:$ED$130,MATCH(Tabulka!$AI25,Přehled_body!$A$3:$A$130,0),MATCH(Tabulka!Y$2,Přehled_body!$E$1:$ED$1,0)),)=0,0.00000000001,IFERROR(INDEX(Přehled_body!$E$3:$ED$130,MATCH(Tabulka!$AI25,Přehled_body!$A$3:$A$130,0),MATCH(Tabulka!Y$2,Přehled_body!$E$1:$ED$1,0)),)))","v":0},{"$f":"IF(IFERROR(INDEX(Přehled_body!$E$3:$ED$130,MATCH(Tabulka!$AI25,Přehled_body!$A$3:$A$130,0),MATCH(Tabulka!Z$2,Přehled_body!$E$1:$ED$1,0)),)=\"\",,IF(IFERROR(INDEX(Přehled_body!$E$3:$ED$130,MATCH(Tabulka!$AI25,Přehled_body!$A$3:$A$130,0),MATCH(Tabulka!Z$2,Přehled_body!$E$1:$ED$1,0)),)=0,0.00000000001,IFERROR(INDEX(Přehled_body!$E$3:$ED$130,MATCH(Tabulka!$AI25,Přehled_body!$A$3:$A$130,0),MATCH(Tabulka!Z$2,Přehled_body!$E$1:$ED$1,0)),)))","v":0},{"$f":"IF(IFERROR(INDEX(Přehled_body!$E$3:$ED$130,MATCH(Tabulka!$AI25,Přehled_body!$A$3:$A$130,0),MATCH(Tabulka!AA$2,Přehled_body!$E$1:$ED$1,0)),)=\"\",,IF(IFERROR(INDEX(Přehled_body!$E$3:$ED$130,MATCH(Tabulka!$AI25,Přehled_body!$A$3:$A$130,0),MATCH(Tabulka!AA$2,Přehled_body!$E$1:$ED$1,0)),)=0,0.00000000001,IFERROR(INDEX(Přehled_body!$E$3:$ED$130,MATCH(Tabulka!$AI25,Přehled_body!$A$3:$A$130,0),MATCH(Tabulka!AA$2,Přehled_body!$E$1:$ED$1,0)),)))","v":0},{"$f":"IF(IFERROR(INDEX(Přehled_body!$E$3:$ED$130,MATCH(Tabulka!$AI25,Přehled_body!$A$3:$A$130,0),MATCH(Tabulka!AB$2,Přehled_body!$E$1:$ED$1,0)),)=\"\",,IF(IFERROR(INDEX(Přehled_body!$E$3:$ED$130,MATCH(Tabulka!$AI25,Přehled_body!$A$3:$A$130,0),MATCH(Tabulka!AB$2,Přehled_body!$E$1:$ED$1,0)),)=0,0.00000000001,IFERROR(INDEX(Přehled_body!$E$3:$ED$130,MATCH(Tabulka!$AI25,Přehled_body!$A$3:$A$130,0),MATCH(Tabulka!AB$2,Přehled_body!$E$1:$ED$1,0)),)))","v":0},{"$f":"IF(IFERROR(INDEX(Přehled_body!$E$3:$ED$130,MATCH(Tabulka!$AI25,Přehled_body!$A$3:$A$130,0),MATCH(Tabulka!AC$2,Přehled_body!$E$1:$ED$1,0)),)=\"\",,IF(IFERROR(INDEX(Přehled_body!$E$3:$ED$130,MATCH(Tabulka!$AI25,Přehled_body!$A$3:$A$130,0),MATCH(Tabulka!AC$2,Přehled_body!$E$1:$ED$1,0)),)=0,0.00000000001,IFERROR(INDEX(Přehled_body!$E$3:$ED$130,MATCH(Tabulka!$AI25,Přehled_body!$A$3:$A$130,0),MATCH(Tabulka!AC$2,Přehled_body!$E$1:$ED$1,0)),)))","v":0},{"$f":"IF(IFERROR(INDEX(Přehled_body!$E$3:$ED$130,MATCH(Tabulka!$AI25,Přehled_body!$A$3:$A$130,0),MATCH(Tabulka!AD$2,Přehled_body!$E$1:$ED$1,0)),)=\"\",,IF(IFERROR(INDEX(Přehled_body!$E$3:$ED$130,MATCH(Tabulka!$AI25,Přehled_body!$A$3:$A$130,0),MATCH(Tabulka!AD$2,Přehled_body!$E$1:$ED$1,0)),)=0,0.00000000001,IFERROR(INDEX(Přehled_body!$E$3:$ED$130,MATCH(Tabulka!$AI25,Přehled_body!$A$3:$A$130,0),MATCH(Tabulka!AD$2,Přehled_body!$E$1:$ED$1,0)),)))","v":0},{"$f":"IF(SUM($D$24:$AD$28)<1,-90000,SUM(D25:AD25))","v":5.00000000005},{"$f":"IF(AE28>0.9,SUM(AE24-AE25)+0.00000001,0)","v":13.00000000995},null,null,{"$f":"CONCATENATE($B$25,\" \",$B$26,C25)","v":"Milan VeselýProhry"}]
[{"$f":"CONCATENATE(B26,\" \",B25)","v":"Veselý Milan"},"Veselý","Placeno panáků",{"$f":"IF(IFERROR(INDEX(Přehled_body!$E$3:$ED$130,MATCH(Tabulka!$AI26,Přehled_body!$A$3:$A$130,0),MATCH(Tabulka!D$2,Přehled_body!$E$1:$ED$1,0)),)=\"\",,IF(IFERROR(INDEX(Přehled_body!$E$3:$ED$130,MATCH(Tabulka!$AI26,Přehled_body!$A$3:$A$130,0),MATCH(Tabulka!D$2,Přehled_body!$E$1:$ED$1,0)),)=0,0.00000000001,IFERROR(INDEX(Přehled_body!$E$3:$ED$130,MATCH(Tabulka!$AI26,Přehled_body!$A$3:$A$130,0),MATCH(Tabulka!D$2,Přehled_body!$E$1:$ED$1,0)),)))","v":1},{"$f":"IF(IFERROR(INDEX(Přehled_body!$E$3:$ED$130,MATCH(Tabulka!$AI26,Přehled_body!$A$3:$A$130,0),MATCH(Tabulka!E$2,Přehled_body!$E$1:$ED$1,0)),)=\"\",,IF(IFERROR(INDEX(Přehled_body!$E$3:$ED$130,MATCH(Tabulka!$AI26,Přehled_body!$A$3:$A$130,0),MATCH(Tabulka!E$2,Přehled_body!$E$1:$ED$1,0)),)=0,0.00000000001,IFERROR(INDEX(Přehled_body!$E$3:$ED$130,MATCH(Tabulka!$AI26,Přehled_body!$A$3:$A$130,0),MATCH(Tabulka!E$2,Přehled_body!$E$1:$ED$1,0)),)))","v":9.9999999999999994E-12},{"$f":"IF(IFERROR(INDEX(Přehled_body!$E$3:$ED$130,MATCH(Tabulka!$AI26,Přehled_body!$A$3:$A$130,0),MATCH(Tabulka!F$2,Přehled_body!$E$1:$ED$1,0)),)=\"\",,IF(IFERROR(INDEX(Přehled_body!$E$3:$ED$130,MATCH(Tabulka!$AI26,Přehled_body!$A$3:$A$130,0),MATCH(Tabulka!F$2,Přehled_body!$E$1:$ED$1,0)),)=0,0.00000000001,IFERROR(INDEX(Přehled_body!$E$3:$ED$130,MATCH(Tabulka!$AI26,Přehled_body!$A$3:$A$130,0),MATCH(Tabulka!F$2,Přehled_body!$E$1:$ED$1,0)),)))","v":1},{"$f":"IF(IFERROR(INDEX(Přehled_body!$E$3:$ED$130,MATCH(Tabulka!$AI26,Přehled_body!$A$3:$A$130,0),MATCH(Tabulka!G$2,Přehled_body!$E$1:$ED$1,0)),)=\"\",,IF(IFERROR(INDEX(Přehled_body!$E$3:$ED$130,MATCH(Tabulka!$AI26,Přehled_body!$A$3:$A$130,0),MATCH(Tabulka!G$2,Přehled_body!$E$1:$ED$1,0)),)=0,0.00000000001,IFERROR(INDEX(Přehled_body!$E$3:$ED$130,MATCH(Tabulka!$AI26,Přehled_body!$A$3:$A$130,0),MATCH(Tabulka!G$2,Přehled_body!$E$1:$ED$1,0)),)))","v":2},{"$f":"IF(IFERROR(INDEX(Přehled_body!$E$3:$ED$130,MATCH(Tabulka!$AI26,Přehled_body!$A$3:$A$130,0),MATCH(Tabulka!H$2,Přehled_body!$E$1:$ED$1,0)),)=\"\",,IF(IFERROR(INDEX(Přehled_body!$E$3:$ED$130,MATCH(Tabulka!$AI26,Přehled_body!$A$3:$A$130,0),MATCH(Tabulka!H$2,Přehled_body!$E$1:$ED$1,0)),)=0,0.00000000001,IFERROR(INDEX(Přehled_body!$E$3:$ED$130,MATCH(Tabulka!$AI26,Přehled_body!$A$3:$A$130,0),MATCH(Tabulka!H$2,Přehled_body!$E$1:$ED$1,0)),)))","v":9.9999999999999994E-12},{"$f":"IF(IFERROR(INDEX(Přehled_body!$E$3:$ED$130,MATCH(Tabulka!$AI26,Přehled_body!$A$3:$A$130,0),MATCH(Tabulka!I$2,Přehled_body!$E$1:$ED$1,0)),)=\"\",,IF(IFERROR(INDEX(Přehled_body!$E$3:$ED$130,MATCH(Tabulka!$AI26,Přehled_body!$A$3:$A$130,0),MATCH(Tabulka!I$2,Přehled_body!$E$1:$ED$1,0)),)=0,0.00000000001,IFERROR(INDEX(Přehled_body!$E$3:$ED$130,MATCH(Tabulka!$AI26,Přehled_body!$A$3:$A$130,0),MATCH(Tabulka!I$2,Přehled_body!$E$1:$ED$1,0)),)))","v":1},{"$f":"IF(IFERROR(INDEX(Přehled_body!$E$3:$ED$130,MATCH(Tabulka!$AI26,Přehled_body!$A$3:$A$130,0),MATCH(Tabulka!J$2,Přehled_body!$E$1:$ED$1,0)),)=\"\",,IF(IFERROR(INDEX(Přehled_body!$E$3:$ED$130,MATCH(Tabulka!$AI26,Přehled_body!$A$3:$A$130,0),MATCH(Tabulka!J$2,Přehled_body!$E$1:$ED$1,0)),)=0,0.00000000001,IFERROR(INDEX(Přehled_body!$E$3:$ED$130,MATCH(Tabulka!$AI26,Přehled_body!$A$3:$A$130,0),MATCH(Tabulka!J$2,Přehled_body!$E$1:$ED$1,0)),)))","v":9.9999999999999994E-12},{"$f":"IF(IFERROR(INDEX(Přehled_body!$E$3:$ED$130,MATCH(Tabulka!$AI26,Přehled_body!$A$3:$A$130,0),MATCH(Tabulka!K$2,Přehled_body!$E$1:$ED$1,0)),)=\"\",,IF(IFERROR(INDEX(Přehled_body!$E$3:$ED$130,MATCH(Tabulka!$AI26,Přehled_body!$A$3:$A$130,0),MATCH(Tabulka!K$2,Přehled_body!$E$1:$ED$1,0)),)=0,0.00000000001,IFERROR(INDEX(Přehled_body!$E$3:$ED$130,MATCH(Tabulka!$AI26,Přehled_body!$A$3:$A$130,0),MATCH(Tabulka!K$2,Přehled_body!$E$1:$ED$1,0)),)))","v":9.9999999999999994E-12},{"$f":"IF(IFERROR(INDEX(Přehled_body!$E$3:$ED$130,MATCH(Tabulka!$AI26,Přehled_body!$A$3:$A$130,0),MATCH(Tabulka!L$2,Přehled_body!$E$1:$ED$1,0)),)=\"\",,IF(IFERROR(INDEX(Přehled_body!$E$3:$ED$130,MATCH(Tabulka!$AI26,Přehled_body!$A$3:$A$130,0),MATCH(Tabulka!L$2,Přehled_body!$E$1:$ED$1,0)),)=0,0.00000000001,IFERROR(INDEX(Přehled_body!$E$3:$ED$130,MATCH(Tabulka!$AI26,Přehled_body!$A$3:$A$130,0),MATCH(Tabulka!L$2,Přehled_body!$E$1:$ED$1,0)),)))","v":9.9999999999999994E-12},{"$f":"IF(IFERROR(INDEX(Přehled_body!$E$3:$ED$130,MATCH(Tabulka!$AI26,Přehled_body!$A$3:$A$130,0),MATCH(Tabulka!M$2,Přehled_body!$E$1:$ED$1,0)),)=\"\",,IF(IFERROR(INDEX(Přehled_body!$E$3:$ED$130,MATCH(Tabulka!$AI26,Přehled_body!$A$3:$A$130,0),MATCH(Tabulka!M$2,Přehled_body!$E$1:$ED$1,0)),)=0,0.00000000001,IFERROR(INDEX(Přehled_body!$E$3:$ED$130,MATCH(Tabulka!$AI26,Přehled_body!$A$3:$A$130,0),MATCH(Tabulka!M$2,Přehled_body!$E$1:$ED$1,0)),)))","v":1},{"$f":"IF(IFERROR(INDEX(Přehled_body!$E$3:$ED$130,MATCH(Tabulka!$AI26,Přehled_body!$A$3:$A$130,0),MATCH(Tabulka!N$2,Přehled_body!$E$1:$ED$1,0)),)=\"\",,IF(IFERROR(INDEX(Přehled_body!$E$3:$ED$130,MATCH(Tabulka!$AI26,Přehled_body!$A$3:$A$130,0),MATCH(Tabulka!N$2,Přehled_body!$E$1:$ED$1,0)),)=0,0.00000000001,IFERROR(INDEX(Přehled_body!$E$3:$ED$130,MATCH(Tabulka!$AI26,Přehled_body!$A$3:$A$130,0),MATCH(Tabulka!N$2,Přehled_body!$E$1:$ED$1,0)),)))","v":0},{"$f":"IF(IFERROR(INDEX(Přehled_body!$E$3:$ED$130,MATCH(Tabulka!$AI26,Přehled_body!$A$3:$A$130,0),MATCH(Tabulka!O$2,Přehled_body!$E$1:$ED$1,0)),)=\"\",,IF(IFERROR(INDEX(Přehled_body!$E$3:$ED$130,MATCH(Tabulka!$AI26,Přehled_body!$A$3:$A$130,0),MATCH(Tabulka!O$2,Přehled_body!$E$1:$ED$1,0)),)=0,0.00000000001,IFERROR(INDEX(Přehled_body!$E$3:$ED$130,MATCH(Tabulka!$AI26,Přehled_body!$A$3:$A$130,0),MATCH(Tabulka!O$2,Přehled_body!$E$1:$ED$1,0)),)))","v":0},{"$f":"IF(IFERROR(INDEX(Přehled_body!$E$3:$ED$130,MATCH(Tabulka!$AI26,Přehled_body!$A$3:$A$130,0),MATCH(Tabulka!P$2,Přehled_body!$E$1:$ED$1,0)),)=\"\",,IF(IFERROR(INDEX(Přehled_body!$E$3:$ED$130,MATCH(Tabulka!$AI26,Přehled_body!$A$3:$A$130,0),MATCH(Tabulka!P$2,Přehled_body!$E$1:$ED$1,0)),)=0,0.00000000001,IFERROR(INDEX(Přehled_body!$E$3:$ED$130,MATCH(Tabulka!$AI26,Přehled_body!$A$3:$A$130,0),MATCH(Tabulka!P$2,Přehled_body!$E$1:$ED$1,0)),)))","v":0},{"$f":"IF(IFERROR(INDEX(Přehled_body!$E$3:$ED$130,MATCH(Tabulka!$AI26,Přehled_body!$A$3:$A$130,0),MATCH(Tabulka!Q$2,Přehled_body!$E$1:$ED$1,0)),)=\"\",,IF(IFERROR(INDEX(Přehled_body!$E$3:$ED$130,MATCH(Tabulka!$AI26,Přehled_body!$A$3:$A$130,0),MATCH(Tabulka!Q$2,Přehled_body!$E$1:$ED$1,0)),)=0,0.00000000001,IFERROR(INDEX(Přehled_body!$E$3:$ED$130,MATCH(Tabulka!$AI26,Přehled_body!$A$3:$A$130,0),MATCH(Tabulka!Q$2,Přehled_body!$E$1:$ED$1,0)),)))","v":0},{"$f":"IF(IFERROR(INDEX(Přehled_body!$E$3:$ED$130,MATCH(Tabulka!$AI26,Přehled_body!$A$3:$A$130,0),MATCH(Tabulka!R$2,Přehled_body!$E$1:$ED$1,0)),)=\"\",,IF(IFERROR(INDEX(Přehled_body!$E$3:$ED$130,MATCH(Tabulka!$AI26,Přehled_body!$A$3:$A$130,0),MATCH(Tabulka!R$2,Přehled_body!$E$1:$ED$1,0)),)=0,0.00000000001,IFERROR(INDEX(Přehled_body!$E$3:$ED$130,MATCH(Tabulka!$AI26,Přehled_body!$A$3:$A$130,0),MATCH(Tabulka!R$2,Přehled_body!$E$1:$ED$1,0)),)))","v":0},{"$f":"IF(IFERROR(INDEX(Přehled_body!$E$3:$ED$130,MATCH(Tabulka!$AI26,Přehled_body!$A$3:$A$130,0),MATCH(Tabulka!S$2,Přehled_body!$E$1:$ED$1,0)),)=\"\",,IF(IFERROR(INDEX(Přehled_body!$E$3:$ED$130,MATCH(Tabulka!$AI26,Přehled_body!$A$3:$A$130,0),MATCH(Tabulka!S$2,Přehled_body!$E$1:$ED$1,0)),)=0,0.00000000001,IFERROR(INDEX(Přehled_body!$E$3:$ED$130,MATCH(Tabulka!$AI26,Přehled_body!$A$3:$A$130,0),MATCH(Tabulka!S$2,Přehled_body!$E$1:$ED$1,0)),)))","v":0},{"$f":"IF(IFERROR(INDEX(Přehled_body!$E$3:$ED$130,MATCH(Tabulka!$AI26,Přehled_body!$A$3:$A$130,0),MATCH(Tabulka!T$2,Přehled_body!$E$1:$ED$1,0)),)=\"\",,IF(IFERROR(INDEX(Přehled_body!$E$3:$ED$130,MATCH(Tabulka!$AI26,Přehled_body!$A$3:$A$130,0),MATCH(Tabulka!T$2,Přehled_body!$E$1:$ED$1,0)),)=0,0.00000000001,IFERROR(INDEX(Přehled_body!$E$3:$ED$130,MATCH(Tabulka!$AI26,Přehled_body!$A$3:$A$130,0),MATCH(Tabulka!T$2,Přehled_body!$E$1:$ED$1,0)),)))","v":0},{"$f":"IF(IFERROR(INDEX(Přehled_body!$E$3:$ED$130,MATCH(Tabulka!$AI26,Přehled_body!$A$3:$A$130,0),MATCH(Tabulka!U$2,Přehled_body!$E$1:$ED$1,0)),)=\"\",,IF(IFERROR(INDEX(Přehled_body!$E$3:$ED$130,MATCH(Tabulka!$AI26,Přehled_body!$A$3:$A$130,0),MATCH(Tabulka!U$2,Přehled_body!$E$1:$ED$1,0)),)=0,0.00000000001,IFERROR(INDEX(Přehled_body!$E$3:$ED$130,MATCH(Tabulka!$AI26,Přehled_body!$A$3:$A$130,0),MATCH(Tabulka!U$2,Přehled_body!$E$1:$ED$1,0)),)))","v":0},{"$f":"IF(IFERROR(INDEX(Přehled_body!$E$3:$ED$130,MATCH(Tabulka!$AI26,Přehled_body!$A$3:$A$130,0),MATCH(Tabulka!V$2,Přehled_body!$E$1:$ED$1,0)),)=\"\",,IF(IFERROR(INDEX(Přehled_body!$E$3:$ED$130,MATCH(Tabulka!$AI26,Přehled_body!$A$3:$A$130,0),MATCH(Tabulka!V$2,Přehled_body!$E$1:$ED$1,0)),)=0,0.00000000001,IFERROR(INDEX(Přehled_body!$E$3:$ED$130,MATCH(Tabulka!$AI26,Přehled_body!$A$3:$A$130,0),MATCH(Tabulka!V$2,Přehled_body!$E$1:$ED$1,0)),)))","v":0},{"$f":"IF(IFERROR(INDEX(Přehled_body!$E$3:$ED$130,MATCH(Tabulka!$AI26,Přehled_body!$A$3:$A$130,0),MATCH(Tabulka!W$2,Přehled_body!$E$1:$ED$1,0)),)=\"\",,IF(IFERROR(INDEX(Přehled_body!$E$3:$ED$130,MATCH(Tabulka!$AI26,Přehled_body!$A$3:$A$130,0),MATCH(Tabulka!W$2,Přehled_body!$E$1:$ED$1,0)),)=0,0.00000000001,IFERROR(INDEX(Přehled_body!$E$3:$ED$130,MATCH(Tabulka!$AI26,Přehled_body!$A$3:$A$130,0),MATCH(Tabulka!W$2,Přehled_body!$E$1:$ED$1,0)),)))","v":0},{"$f":"IF(IFERROR(INDEX(Přehled_body!$E$3:$ED$130,MATCH(Tabulka!$AI26,Přehled_body!$A$3:$A$130,0),MATCH(Tabulka!X$2,Přehled_body!$E$1:$ED$1,0)),)=\"\",,IF(IFERROR(INDEX(Přehled_body!$E$3:$ED$130,MATCH(Tabulka!$AI26,Přehled_body!$A$3:$A$130,0),MATCH(Tabulka!X$2,Přehled_body!$E$1:$ED$1,0)),)=0,0.00000000001,IFERROR(INDEX(Přehled_body!$E$3:$ED$130,MATCH(Tabulka!$AI26,Přehled_body!$A$3:$A$130,0),MATCH(Tabulka!X$2,Přehled_body!$E$1:$ED$1,0)),)))","v":0},{"$f":"IF(IFERROR(INDEX(Přehled_body!$E$3:$ED$130,MATCH(Tabulka!$AI26,Přehled_body!$A$3:$A$130,0),MATCH(Tabulka!Y$2,Přehled_body!$E$1:$ED$1,0)),)=\"\",,IF(IFERROR(INDEX(Přehled_body!$E$3:$ED$130,MATCH(Tabulka!$AI26,Přehled_body!$A$3:$A$130,0),MATCH(Tabulka!Y$2,Přehled_body!$E$1:$ED$1,0)),)=0,0.00000000001,IFERROR(INDEX(Přehled_body!$E$3:$ED$130,MATCH(Tabulka!$AI26,Přehled_body!$A$3:$A$130,0),MATCH(Tabulka!Y$2,Přehled_body!$E$1:$ED$1,0)),)))","v":0},{"$f":"IF(IFERROR(INDEX(Přehled_body!$E$3:$ED$130,MATCH(Tabulka!$AI26,Přehled_body!$A$3:$A$130,0),MATCH(Tabulka!Z$2,Přehled_body!$E$1:$ED$1,0)),)=\"\",,IF(IFERROR(INDEX(Přehled_body!$E$3:$ED$130,MATCH(Tabulka!$AI26,Přehled_body!$A$3:$A$130,0),MATCH(Tabulka!Z$2,Přehled_body!$E$1:$ED$1,0)),)=0,0.00000000001,IFERROR(INDEX(Přehled_body!$E$3:$ED$130,MATCH(Tabulka!$AI26,Přehled_body!$A$3:$A$130,0),MATCH(Tabulka!Z$2,Přehled_body!$E$1:$ED$1,0)),)))","v":0},{"$f":"IF(IFERROR(INDEX(Přehled_body!$E$3:$ED$130,MATCH(Tabulka!$AI26,Přehled_body!$A$3:$A$130,0),MATCH(Tabulka!AA$2,Přehled_body!$E$1:$ED$1,0)),)=\"\",,IF(IFERROR(INDEX(Přehled_body!$E$3:$ED$130,MATCH(Tabulka!$AI26,Přehled_body!$A$3:$A$130,0),MATCH(Tabulka!AA$2,Přehled_body!$E$1:$ED$1,0)),)=0,0.00000000001,IFERROR(INDEX(Přehled_body!$E$3:$ED$130,MATCH(Tabulka!$AI26,Přehled_body!$A$3:$A$130,0),MATCH(Tabulka!AA$2,Přehled_body!$E$1:$ED$1,0)),)))","v":0},{"$f":"IF(IFERROR(INDEX(Přehled_body!$E$3:$ED$130,MATCH(Tabulka!$AI26,Přehled_body!$A$3:$A$130,0),MATCH(Tabulka!AB$2,Přehled_body!$E$1:$ED$1,0)),)=\"\",,IF(IFERROR(INDEX(Přehled_body!$E$3:$ED$130,MATCH(Tabulka!$AI26,Přehled_body!$A$3:$A$130,0),MATCH(Tabulka!AB$2,Přehled_body!$E$1:$ED$1,0)),)=0,0.00000000001,IFERROR(INDEX(Přehled_body!$E$3:$ED$130,MATCH(Tabulka!$AI26,Přehled_body!$A$3:$A$130,0),MATCH(Tabulka!AB$2,Přehled_body!$E$1:$ED$1,0)),)))","v":0},{"$f":"IF(IFERROR(INDEX(Přehled_body!$E$3:$ED$130,MATCH(Tabulka!$AI26,Přehled_body!$A$3:$A$130,0),MATCH(Tabulka!AC$2,Přehled_body!$E$1:$ED$1,0)),)=\"\",,IF(IFERROR(INDEX(Přehled_body!$E$3:$ED$130,MATCH(Tabulka!$AI26,Přehled_body!$A$3:$A$130,0),MATCH(Tabulka!AC$2,Přehled_body!$E$1:$ED$1,0)),)=0,0.00000000001,IFERROR(INDEX(Přehled_body!$E$3:$ED$130,MATCH(Tabulka!$AI26,Přehled_body!$A$3:$A$130,0),MATCH(Tabulka!AC$2,Přehled_body!$E$1:$ED$1,0)),)))","v":0},{"$f":"IF(IFERROR(INDEX(Přehled_body!$E$3:$ED$130,MATCH(Tabulka!$AI26,Přehled_body!$A$3:$A$130,0),MATCH(Tabulka!AD$2,Přehled_body!$E$1:$ED$1,0)),)=\"\",,IF(IFERROR(INDEX(Přehled_body!$E$3:$ED$130,MATCH(Tabulka!$AI26,Přehled_body!$A$3:$A$130,0),MATCH(Tabulka!AD$2,Přehled_body!$E$1:$ED$1,0)),)=0,0.00000000001,IFERROR(INDEX(Přehled_body!$E$3:$ED$130,MATCH(Tabulka!$AI26,Přehled_body!$A$3:$A$130,0),MATCH(Tabulka!AD$2,Přehled_body!$E$1:$ED$1,0)),)))","v":0},{"$f":"IF(SUM($D$24:$AD$28)<1,-90000,SUM(D26:AD26))","v":6.00000000005},null,null,null,{"$f":"CONCATENATE($B$25,\" \",$B$26,C26)","v":"Milan VeselýPlaceno panáků"}]
[null,null,"Přehozy",{"$f":"IF(IFERROR(INDEX(Přehled_body!$E$3:$ED$130,MATCH(Tabulka!$AI27,Přehled_body!$A$3:$A$130,0),MATCH(Tabulka!D$2,Přehled_body!$E$1:$ED$1,0)),)=\"\",,IF(IFERROR(INDEX(Přehled_body!$E$3:$ED$130,MATCH(Tabulka!$AI27,Přehled_body!$A$3:$A$130,0),MATCH(Tabulka!D$2,Přehled_body!$E$1:$ED$1,0)),)=0,0.00000000001,IFERROR(INDEX(Přehled_body!$E$3:$ED$130,MATCH(Tabulka!$AI27,Přehled_body!$A$3:$A$130,0),MATCH(Tabulka!D$2,Přehled_body!$E$1:$ED$1,0)),)))","v":9.9999999999999994E-12},{"$f":"IF(IFERROR(INDEX(Přehled_body!$E$3:$ED$130,MATCH(Tabulka!$AI27,Přehled_body!$A$3:$A$130,0),MATCH(Tabulka!E$2,Přehled_body!$E$1:$ED$1,0)),)=\"\",,IF(IFERROR(INDEX(Přehled_body!$E$3:$ED$130,MATCH(Tabulka!$AI27,Přehled_body!$A$3:$A$130,0),MATCH(Tabulka!E$2,Přehled_body!$E$1:$ED$1,0)),)=0,0.00000000001,IFERROR(INDEX(Přehled_body!$E$3:$ED$130,MATCH(Tabulka!$AI27,Přehled_body!$A$3:$A$130,0),MATCH(Tabulka!E$2,Přehled_body!$E$1:$ED$1,0)),)))","v":3},{"$f":"IF(IFERROR(INDEX(Přehled_body!$E$3:$ED$130,MATCH(Tabulka!$AI27,Přehled_body!$A$3:$A$130,0),MATCH(Tabulka!F$2,Přehled_body!$E$1:$ED$1,0)),)=\"\",,IF(IFERROR(INDEX(Přehled_body!$E$3:$ED$130,MATCH(Tabulka!$AI27,Přehled_body!$A$3:$A$130,0),MATCH(Tabulka!F$2,Přehled_body!$E$1:$ED$1,0)),)=0,0.00000000001,IFERROR(INDEX(Přehled_body!$E$3:$ED$130,MATCH(Tabulka!$AI27,Přehled_body!$A$3:$A$130,0),MATCH(Tabulka!F$2,Přehled_body!$E$1:$ED$1,0)),)))","v":9.9999999999999994E-12},{"$f":"IF(IFERROR(INDEX(Přehled_body!$E$3:$ED$130,MATCH(Tabulka!$AI27,Přehled_body!$A$3:$A$130,0),MATCH(Tabulka!G$2,Přehled_body!$E$1:$ED$1,0)),)=\"\",,IF(IFERROR(INDEX(Přehled_body!$E$3:$ED$130,MATCH(Tabulka!$AI27,Přehled_body!$A$3:$A$130,0),MATCH(Tabulka!G$2,Přehled_body!$E$1:$ED$1,0)),)=0,0.00000000001,IFERROR(INDEX(Přehled_body!$E$3:$ED$130,MATCH(Tabulka!$AI27,Přehled_body!$A$3:$A$130,0),MATCH(Tabulka!G$2,Přehled_body!$E$1:$ED$1,0)),)))","v":1},{"$f":"IF(IFERROR(INDEX(Přehled_body!$E$3:$ED$130,MATCH(Tabulka!$AI27,Přehled_body!$A$3:$A$130,0),MATCH(Tabulka!H$2,Přehled_body!$E$1:$ED$1,0)),)=\"\",,IF(IFERROR(INDEX(Přehled_body!$E$3:$ED$130,MATCH(Tabulka!$AI27,Přehled_body!$A$3:$A$130,0),MATCH(Tabulka!H$2,Přehled_body!$E$1:$ED$1,0)),)=0,0.00000000001,IFERROR(INDEX(Přehled_body!$E$3:$ED$130,MATCH(Tabulka!$AI27,Přehled_body!$A$3:$A$130,0),MATCH(Tabulka!H$2,Přehled_body!$E$1:$ED$1,0)),)))","v":1},{"$f":"IF(IFERROR(INDEX(Přehled_body!$E$3:$ED$130,MATCH(Tabulka!$AI27,Přehled_body!$A$3:$A$130,0),MATCH(Tabulka!I$2,Přehled_body!$E$1:$ED$1,0)),)=\"\",,IF(IFERROR(INDEX(Přehled_body!$E$3:$ED$130,MATCH(Tabulka!$AI27,Přehled_body!$A$3:$A$130,0),MATCH(Tabulka!I$2,Přehled_body!$E$1:$ED$1,0)),)=0,0.00000000001,IFERROR(INDEX(Přehled_body!$E$3:$ED$130,MATCH(Tabulka!$AI27,Přehled_body!$A$3:$A$130,0),MATCH(Tabulka!I$2,Přehled_body!$E$1:$ED$1,0)),)))","v":9.9999999999999994E-12},{"$f":"IF(IFERROR(INDEX(Přehled_body!$E$3:$ED$130,MATCH(Tabulka!$AI27,Přehled_body!$A$3:$A$130,0),MATCH(Tabulka!J$2,Přehled_body!$E$1:$ED$1,0)),)=\"\",,IF(IFERROR(INDEX(Přehled_body!$E$3:$ED$130,MATCH(Tabulka!$AI27,Přehled_body!$A$3:$A$130,0),MATCH(Tabulka!J$2,Přehled_body!$E$1:$ED$1,0)),)=0,0.00000000001,IFERROR(INDEX(Přehled_body!$E$3:$ED$130,MATCH(Tabulka!$AI27,Přehled_body!$A$3:$A$130,0),MATCH(Tabulka!J$2,Přehled_body!$E$1:$ED$1,0)),)))","v":9.9999999999999994E-12},{"$f":"IF(IFERROR(INDEX(Přehled_body!$E$3:$ED$130,MATCH(Tabulka!$AI27,Přehled_body!$A$3:$A$130,0),MATCH(Tabulka!K$2,Přehled_body!$E$1:$ED$1,0)),)=\"\",,IF(IFERROR(INDEX(Přehled_body!$E$3:$ED$130,MATCH(Tabulka!$AI27,Přehled_body!$A$3:$A$130,0),MATCH(Tabulka!K$2,Přehled_body!$E$1:$ED$1,0)),)=0,0.00000000001,IFERROR(INDEX(Přehled_body!$E$3:$ED$130,MATCH(Tabulka!$AI27,Přehled_body!$A$3:$A$130,0),MATCH(Tabulka!K$2,Přehled_body!$E$1:$ED$1,0)),)))","v":1},{"$f":"IF(IFERROR(INDEX(Přehled_body!$E$3:$ED$130,MATCH(Tabulka!$AI27,Přehled_body!$A$3:$A$130,0),MATCH(Tabulka!L$2,Přehled_body!$E$1:$ED$1,0)),)=\"\",,IF(IFERROR(INDEX(Přehled_body!$E$3:$ED$130,MATCH(Tabulka!$AI27,Přehled_body!$A$3:$A$130,0),MATCH(Tabulka!L$2,Přehled_body!$E$1:$ED$1,0)),)=0,0.00000000001,IFERROR(INDEX(Přehled_body!$E$3:$ED$130,MATCH(Tabulka!$AI27,Přehled_body!$A$3:$A$130,0),MATCH(Tabulka!L$2,Přehled_body!$E$1:$ED$1,0)),)))","v":1},{"$f":"IF(IFERROR(INDEX(Přehled_body!$E$3:$ED$130,MATCH(Tabulka!$AI27,Přehled_body!$A$3:$A$130,0),MATCH(Tabulka!M$2,Přehled_body!$E$1:$ED$1,0)),)=\"\",,IF(IFERROR(INDEX(Přehled_body!$E$3:$ED$130,MATCH(Tabulka!$AI27,Přehled_body!$A$3:$A$130,0),MATCH(Tabulka!M$2,Přehled_body!$E$1:$ED$1,0)),)=0,0.00000000001,IFERROR(INDEX(Přehled_body!$E$3:$ED$130,MATCH(Tabulka!$AI27,Přehled_body!$A$3:$A$130,0),MATCH(Tabulka!M$2,Přehled_body!$E$1:$ED$1,0)),)))","v":3},{"$f":"IF(IFERROR(INDEX(Přehled_body!$E$3:$ED$130,MATCH(Tabulka!$AI27,Přehled_body!$A$3:$A$130,0),MATCH(Tabulka!N$2,Přehled_body!$E$1:$ED$1,0)),)=\"\",,IF(IFERROR(INDEX(Přehled_body!$E$3:$ED$130,MATCH(Tabulka!$AI27,Přehled_body!$A$3:$A$130,0),MATCH(Tabulka!N$2,Přehled_body!$E$1:$ED$1,0)),)=0,0.00000000001,IFERROR(INDEX(Přehled_body!$E$3:$ED$130,MATCH(Tabulka!$AI27,Přehled_body!$A$3:$A$130,0),MATCH(Tabulka!N$2,Přehled_body!$E$1:$ED$1,0)),)))","v":0},{"$f":"IF(IFERROR(INDEX(Přehled_body!$E$3:$ED$130,MATCH(Tabulka!$AI27,Přehled_body!$A$3:$A$130,0),MATCH(Tabulka!O$2,Přehled_body!$E$1:$ED$1,0)),)=\"\",,IF(IFERROR(INDEX(Přehled_body!$E$3:$ED$130,MATCH(Tabulka!$AI27,Přehled_body!$A$3:$A$130,0),MATCH(Tabulka!O$2,Přehled_body!$E$1:$ED$1,0)),)=0,0.00000000001,IFERROR(INDEX(Přehled_body!$E$3:$ED$130,MATCH(Tabulka!$AI27,Přehled_body!$A$3:$A$130,0),MATCH(Tabulka!O$2,Přehled_body!$E$1:$ED$1,0)),)))","v":0},{"$f":"IF(IFERROR(INDEX(Přehled_body!$E$3:$ED$130,MATCH(Tabulka!$AI27,Přehled_body!$A$3:$A$130,0),MATCH(Tabulka!P$2,Přehled_body!$E$1:$ED$1,0)),)=\"\",,IF(IFERROR(INDEX(Přehled_body!$E$3:$ED$130,MATCH(Tabulka!$AI27,Přehled_body!$A$3:$A$130,0),MATCH(Tabulka!P$2,Přehled_body!$E$1:$ED$1,0)),)=0,0.00000000001,IFERROR(INDEX(Přehled_body!$E$3:$ED$130,MATCH(Tabulka!$AI27,Přehled_body!$A$3:$A$130,0),MATCH(Tabulka!P$2,Přehled_body!$E$1:$ED$1,0)),)))","v":0},{"$f":"IF(IFERROR(INDEX(Přehled_body!$E$3:$ED$130,MATCH(Tabulka!$AI27,Přehled_body!$A$3:$A$130,0),MATCH(Tabulka!Q$2,Přehled_body!$E$1:$ED$1,0)),)=\"\",,IF(IFERROR(INDEX(Přehled_body!$E$3:$ED$130,MATCH(Tabulka!$AI27,Přehled_body!$A$3:$A$130,0),MATCH(Tabulka!Q$2,Přehled_body!$E$1:$ED$1,0)),)=0,0.00000000001,IFERROR(INDEX(Přehled_body!$E$3:$ED$130,MATCH(Tabulka!$AI27,Přehled_body!$A$3:$A$130,0),MATCH(Tabulka!Q$2,Přehled_body!$E$1:$ED$1,0)),)))","v":0},{"$f":"IF(IFERROR(INDEX(Přehled_body!$E$3:$ED$130,MATCH(Tabulka!$AI27,Přehled_body!$A$3:$A$130,0),MATCH(Tabulka!R$2,Přehled_body!$E$1:$ED$1,0)),)=\"\",,IF(IFERROR(INDEX(Přehled_body!$E$3:$ED$130,MATCH(Tabulka!$AI27,Přehled_body!$A$3:$A$130,0),MATCH(Tabulka!R$2,Přehled_body!$E$1:$ED$1,0)),)=0,0.00000000001,IFERROR(INDEX(Přehled_body!$E$3:$ED$130,MATCH(Tabulka!$AI27,Přehled_body!$A$3:$A$130,0),MATCH(Tabulka!R$2,Přehled_body!$E$1:$ED$1,0)),)))","v":0},{"$f":"IF(IFERROR(INDEX(Přehled_body!$E$3:$ED$130,MATCH(Tabulka!$AI27,Přehled_body!$A$3:$A$130,0),MATCH(Tabulka!S$2,Přehled_body!$E$1:$ED$1,0)),)=\"\",,IF(IFERROR(INDEX(Přehled_body!$E$3:$ED$130,MATCH(Tabulka!$AI27,Přehled_body!$A$3:$A$130,0),MATCH(Tabulka!S$2,Přehled_body!$E$1:$ED$1,0)),)=0,0.00000000001,IFERROR(INDEX(Přehled_body!$E$3:$ED$130,MATCH(Tabulka!$AI27,Přehled_body!$A$3:$A$130,0),MATCH(Tabulka!S$2,Přehled_body!$E$1:$ED$1,0)),)))","v":0},{"$f":"IF(IFERROR(INDEX(Přehled_body!$E$3:$ED$130,MATCH(Tabulka!$AI27,Přehled_body!$A$3:$A$130,0),MATCH(Tabulka!T$2,Přehled_body!$E$1:$ED$1,0)),)=\"\",,IF(IFERROR(INDEX(Přehled_body!$E$3:$ED$130,MATCH(Tabulka!$AI27,Přehled_body!$A$3:$A$130,0),MATCH(Tabulka!T$2,Přehled_body!$E$1:$ED$1,0)),)=0,0.00000000001,IFERROR(INDEX(Přehled_body!$E$3:$ED$130,MATCH(Tabulka!$AI27,Přehled_body!$A$3:$A$130,0),MATCH(Tabulka!T$2,Přehled_body!$E$1:$ED$1,0)),)))","v":0},{"$f":"IF(IFERROR(INDEX(Přehled_body!$E$3:$ED$130,MATCH(Tabulka!$AI27,Přehled_body!$A$3:$A$130,0),MATCH(Tabulka!U$2,Přehled_body!$E$1:$ED$1,0)),)=\"\",,IF(IFERROR(INDEX(Přehled_body!$E$3:$ED$130,MATCH(Tabulka!$AI27,Přehled_body!$A$3:$A$130,0),MATCH(Tabulka!U$2,Přehled_body!$E$1:$ED$1,0)),)=0,0.00000000001,IFERROR(INDEX(Přehled_body!$E$3:$ED$130,MATCH(Tabulka!$AI27,Přehled_body!$A$3:$A$130,0),MATCH(Tabulka!U$2,Přehled_body!$E$1:$ED$1,0)),)))","v":0},{"$f":"IF(IFERROR(INDEX(Přehled_body!$E$3:$ED$130,MATCH(Tabulka!$AI27,Přehled_body!$A$3:$A$130,0),MATCH(Tabulka!V$2,Přehled_body!$E$1:$ED$1,0)),)=\"\",,IF(IFERROR(INDEX(Přehled_body!$E$3:$ED$130,MATCH(Tabulka!$AI27,Přehled_body!$A$3:$A$130,0),MATCH(Tabulka!V$2,Přehled_body!$E$1:$ED$1,0)),)=0,0.00000000001,IFERROR(INDEX(Přehled_body!$E$3:$ED$130,MATCH(Tabulka!$AI27,Přehled_body!$A$3:$A$130,0),MATCH(Tabulka!V$2,Přehled_body!$E$1:$ED$1,0)),)))","v":0},{"$f":"IF(IFERROR(INDEX(Přehled_body!$E$3:$ED$130,MATCH(Tabulka!$AI27,Přehled_body!$A$3:$A$130,0),MATCH(Tabulka!W$2,Přehled_body!$E$1:$ED$1,0)),)=\"\",,IF(IFERROR(INDEX(Přehled_body!$E$3:$ED$130,MATCH(Tabulka!$AI27,Přehled_body!$A$3:$A$130,0),MATCH(Tabulka!W$2,Přehled_body!$E$1:$ED$1,0)),)=0,0.00000000001,IFERROR(INDEX(Přehled_body!$E$3:$ED$130,MATCH(Tabulka!$AI27,Přehled_body!$A$3:$A$130,0),MATCH(Tabulka!W$2,Přehled_body!$E$1:$ED$1,0)),)))","v":0},{"$f":"IF(IFERROR(INDEX(Přehled_body!$E$3:$ED$130,MATCH(Tabulka!$AI27,Přehled_body!$A$3:$A$130,0),MATCH(Tabulka!X$2,Přehled_body!$E$1:$ED$1,0)),)=\"\",,IF(IFERROR(INDEX(Přehled_body!$E$3:$ED$130,MATCH(Tabulka!$AI27,Přehled_body!$A$3:$A$130,0),MATCH(Tabulka!X$2,Přehled_body!$E$1:$ED$1,0)),)=0,0.00000000001,IFERROR(INDEX(Přehled_body!$E$3:$ED$130,MATCH(Tabulka!$AI27,Přehled_body!$A$3:$A$130,0),MATCH(Tabulka!X$2,Přehled_body!$E$1:$ED$1,0)),)))","v":0},{"$f":"IF(IFERROR(INDEX(Přehled_body!$E$3:$ED$130,MATCH(Tabulka!$AI27,Přehled_body!$A$3:$A$130,0),MATCH(Tabulka!Y$2,Přehled_body!$E$1:$ED$1,0)),)=\"\",,IF(IFERROR(INDEX(Přehled_body!$E$3:$ED$130,MATCH(Tabulka!$AI27,Přehled_body!$A$3:$A$130,0),MATCH(Tabulka!Y$2,Přehled_body!$E$1:$ED$1,0)),)=0,0.00000000001,IFERROR(INDEX(Přehled_body!$E$3:$ED$130,MATCH(Tabulka!$AI27,Přehled_body!$A$3:$A$130,0),MATCH(Tabulka!Y$2,Přehled_body!$E$1:$ED$1,0)),)))","v":0},{"$f":"IF(IFERROR(INDEX(Přehled_body!$E$3:$ED$130,MATCH(Tabulka!$AI27,Přehled_body!$A$3:$A$130,0),MATCH(Tabulka!Z$2,Přehled_body!$E$1:$ED$1,0)),)=\"\",,IF(IFERROR(INDEX(Přehled_body!$E$3:$ED$130,MATCH(Tabulka!$AI27,Přehled_body!$A$3:$A$130,0),MATCH(Tabulka!Z$2,Přehled_body!$E$1:$ED$1,0)),)=0,0.00000000001,IFERROR(INDEX(Přehled_body!$E$3:$ED$130,MATCH(Tabulka!$AI27,Přehled_body!$A$3:$A$130,0),MATCH(Tabulka!Z$2,Přehled_body!$E$1:$ED$1,0)),)))","v":0},{"$f":"IF(IFERROR(INDEX(Přehled_body!$E$3:$ED$130,MATCH(Tabulka!$AI27,Přehled_body!$A$3:$A$130,0),MATCH(Tabulka!AA$2,Přehled_body!$E$1:$ED$1,0)),)=\"\",,IF(IFERROR(INDEX(Přehled_body!$E$3:$ED$130,MATCH(Tabulka!$AI27,Přehled_body!$A$3:$A$130,0),MATCH(Tabulka!AA$2,Přehled_body!$E$1:$ED$1,0)),)=0,0.00000000001,IFERROR(INDEX(Přehled_body!$E$3:$ED$130,MATCH(Tabulka!$AI27,Přehled_body!$A$3:$A$130,0),MATCH(Tabulka!AA$2,Přehled_body!$E$1:$ED$1,0)),)))","v":0},{"$f":"IF(IFERROR(INDEX(Přehled_body!$E$3:$ED$130,MATCH(Tabulka!$AI27,Přehled_body!$A$3:$A$130,0),MATCH(Tabulka!AB$2,Přehled_body!$E$1:$ED$1,0)),)=\"\",,IF(IFERROR(INDEX(Přehled_body!$E$3:$ED$130,MATCH(Tabulka!$AI27,Přehled_body!$A$3:$A$130,0),MATCH(Tabulka!AB$2,Přehled_body!$E$1:$ED$1,0)),)=0,0.00000000001,IFERROR(INDEX(Přehled_body!$E$3:$ED$130,MATCH(Tabulka!$AI27,Přehled_body!$A$3:$A$130,0),MATCH(Tabulka!AB$2,Přehled_body!$E$1:$ED$1,0)),)))","v":0},{"$f":"IF(IFERROR(INDEX(Přehled_body!$E$3:$ED$130,MATCH(Tabulka!$AI27,Přehled_body!$A$3:$A$130,0),MATCH(Tabulka!AC$2,Přehled_body!$E$1:$ED$1,0)),)=\"\",,IF(IFERROR(INDEX(Přehled_body!$E$3:$ED$130,MATCH(Tabulka!$AI27,Přehled_body!$A$3:$A$130,0),MATCH(Tabulka!AC$2,Přehled_body!$E$1:$ED$1,0)),)=0,0.00000000001,IFERROR(INDEX(Přehled_body!$E$3:$ED$130,MATCH(Tabulka!$AI27,Přehled_body!$A$3:$A$130,0),MATCH(Tabulka!AC$2,Přehled_body!$E$1:$ED$1,0)),)))","v":0},{"$f":"IF(IFERROR(INDEX(Přehled_body!$E$3:$ED$130,MATCH(Tabulka!$AI27,Přehled_body!$A$3:$A$130,0),MATCH(Tabulka!AD$2,Přehled_body!$E$1:$ED$1,0)),)=\"\",,IF(IFERROR(INDEX(Přehled_body!$E$3:$ED$130,MATCH(Tabulka!$AI27,Přehled_body!$A$3:$A$130,0),MATCH(Tabulka!AD$2,Přehled_body!$E$1:$ED$1,0)),)=0,0.00000000001,IFERROR(INDEX(Přehled_body!$E$3:$ED$130,MATCH(Tabulka!$AI27,Přehled_body!$A$3:$A$130,0),MATCH(Tabulka!AD$2,Přehled_body!$E$1:$ED$1,0)),)))","v":0},{"$f":"IF(SUM($D$24:$AD$28)<1,-90000,SUM(D27:AD27))","v":10.00000000004},null,null,null,{"$f":"CONCATENATE($B$25,\" \",$B$26,C27)","v":"Milan VeselýPřehozy"}]
[null,null,"Poč. kol",{"$f":"IF(IFERROR(INDEX(Přehled_body!$E$3:$ED$130,MATCH(Tabulka!$AI28,Přehled_body!$A$3:$A$130,0),MATCH(Tabulka!D$2,Přehled_body!$E$1:$ED$1,0)),)=\"\",,IF(IFERROR(INDEX(Přehled_body!$E$3:$ED$130,MATCH(Tabulka!$AI28,Přehled_body!$A$3:$A$130,0),MATCH(Tabulka!D$2,Přehled_body!$E$1:$ED$1,0)),)=0,0.00000000001,IFERROR(INDEX(Přehled_body!$E$3:$ED$130,MATCH(Tabulka!$AI28,Přehled_body!$A$3:$A$130,0),MATCH(Tabulka!D$2,Přehled_body!$E$1:$ED$1,0)),)))","v":4},{"$f":"IF(IFERROR(INDEX(Přehled_body!$E$3:$ED$130,MATCH(Tabulka!$AI28,Přehled_body!$A$3:$A$130,0),MATCH(Tabulka!E$2,Přehled_body!$E$1:$ED$1,0)),)=\"\",,IF(IFERROR(INDEX(Přehled_body!$E$3:$ED$130,MATCH(Tabulka!$AI28,Přehled_body!$A$3:$A$130,0),MATCH(Tabulka!E$2,Přehled_body!$E$1:$ED$1,0)),)=0,0.00000000001,IFERROR(INDEX(Přehled_body!$E$3:$ED$130,MATCH(Tabulka!$AI28,Přehled_body!$A$3:$A$130,0),MATCH(Tabulka!E$2,Přehled_body!$E$1:$ED$1,0)),)))","v":4},{"$f":"IF(IFERROR(INDEX(Přehled_body!$E$3:$ED$130,MATCH(Tabulka!$AI28,Přehled_body!$A$3:$A$130,0),MATCH(Tabulka!F$2,Přehled_body!$E$1:$ED$1,0)),)=\"\",,IF(IFERROR(INDEX(Přehled_body!$E$3:$ED$130,MATCH(Tabulka!$AI28,Přehled_body!$A$3:$A$130,0),MATCH(Tabulka!F$2,Přehled_body!$E$1:$ED$1,0)),)=0,0.00000000001,IFERROR(INDEX(Přehled_body!$E$3:$ED$130,MATCH(Tabulka!$AI28,Přehled_body!$A$3:$A$130,0),MATCH(Tabulka!F$2,Přehled_body!$E$1:$ED$1,0)),)))","v":4},{"$f":"IF(IFERROR(INDEX(Přehled_body!$E$3:$ED$130,MATCH(Tabulka!$AI28,Přehled_body!$A$3:$A$130,0),MATCH(Tabulka!G$2,Přehled_body!$E$1:$ED$1,0)),)=\"\",,IF(IFERROR(INDEX(Přehled_body!$E$3:$ED$130,MATCH(Tabulka!$AI28,Přehled_body!$A$3:$A$130,0),MATCH(Tabulka!G$2,Přehled_body!$E$1:$ED$1,0)),)=0,0.00000000001,IFERROR(INDEX(Přehled_body!$E$3:$ED$130,MATCH(Tabulka!$AI28,Přehled_body!$A$3:$A$130,0),MATCH(Tabulka!G$2,Přehled_body!$E$1:$ED$1,0)),)))","v":4},{"$f":"IF(IFERROR(INDEX(Přehled_body!$E$3:$ED$130,MATCH(Tabulka!$AI28,Přehled_body!$A$3:$A$130,0),MATCH(Tabulka!H$2,Přehled_body!$E$1:$ED$1,0)),)=\"\",,IF(IFERROR(INDEX(Přehled_body!$E$3:$ED$130,MATCH(Tabulka!$AI28,Přehled_body!$A$3:$A$130,0),MATCH(Tabulka!H$2,Přehled_body!$E$1:$ED$1,0)),)=0,0.00000000001,IFERROR(INDEX(Přehled_body!$E$3:$ED$130,MATCH(Tabulka!$AI28,Přehled_body!$A$3:$A$130,0),MATCH(Tabulka!H$2,Přehled_body!$E$1:$ED$1,0)),)))","v":4},{"$f":"IF(IFERROR(INDEX(Přehled_body!$E$3:$ED$130,MATCH(Tabulka!$AI28,Přehled_body!$A$3:$A$130,0),MATCH(Tabulka!I$2,Přehled_body!$E$1:$ED$1,0)),)=\"\",,IF(IFERROR(INDEX(Přehled_body!$E$3:$ED$130,MATCH(Tabulka!$AI28,Přehled_body!$A$3:$A$130,0),MATCH(Tabulka!I$2,Přehled_body!$E$1:$ED$1,0)),)=0,0.00000000001,IFERROR(INDEX(Přehled_body!$E$3:$ED$130,MATCH(Tabulka!$AI28,Přehled_body!$A$3:$A$130,0),MATCH(Tabulka!I$2,Přehled_body!$E$1:$ED$1,0)),)))","v":4},{"$f":"IF(IFERROR(INDEX(Přehled_body!$E$3:$ED$130,MATCH(Tabulka!$AI28,Přehled_body!$A$3:$A$130,0),MATCH(Tabulka!J$2,Přehled_body!$E$1:$ED$1,0)),)=\"\",,IF(IFERROR(INDEX(Přehled_body!$E$3:$ED$130,MATCH(Tabulka!$AI28,Přehled_body!$A$3:$A$130,0),MATCH(Tabulka!J$2,Přehled_body!$E$1:$ED$1,0)),)=0,0.00000000001,IFERROR(INDEX(Přehled_body!$E$3:$ED$130,MATCH(Tabulka!$AI28,Přehled_body!$A$3:$A$130,0),MATCH(Tabulka!J$2,Přehled_body!$E$1:$ED$1,0)),)))","v":4},{"$f":"IF(IFERROR(INDEX(Přehled_body!$E$3:$ED$130,MATCH(Tabulka!$AI28,Přehled_body!$A$3:$A$130,0),MATCH(Tabulka!K$2,Přehled_body!$E$1:$ED$1,0)),)=\"\",,IF(IFERROR(INDEX(Přehled_body!$E$3:$ED$130,MATCH(Tabulka!$AI28,Přehled_body!$A$3:$A$130,0),MATCH(Tabulka!K$2,Přehled_body!$E$1:$ED$1,0)),)=0,0.00000000001,IFERROR(INDEX(Přehled_body!$E$3:$ED$130,MATCH(Tabulka!$AI28,Přehled_body!$A$3:$A$130,0),MATCH(Tabulka!K$2,Přehled_body!$E$1:$ED$1,0)),)))","v":4},{"$f":"IF(IFERROR(INDEX(Přehled_body!$E$3:$ED$130,MATCH(Tabulka!$AI28,Přehled_body!$A$3:$A$130,0),MATCH(Tabulka!L$2,Přehled_body!$E$1:$ED$1,0)),)=\"\",,IF(IFERROR(INDEX(Přehled_body!$E$3:$ED$130,MATCH(Tabulka!$AI28,Přehled_body!$A$3:$A$130,0),MATCH(Tabulka!L$2,Přehled_body!$E$1:$ED$1,0)),)=0,0.00000000001,IFERROR(INDEX(Přehled_body!$E$3:$ED$130,MATCH(Tabulka!$AI28,Přehled_body!$A$3:$A$130,0),MATCH(Tabulka!L$2,Přehled_body!$E$1:$ED$1,0)),)))","v":3},{"$f":"IF(IFERROR(INDEX(Přehled_body!$E$3:$ED$130,MATCH(Tabulka!$AI28,Přehled_body!$A$3:$A$130,0),MATCH(Tabulka!M$2,Přehled_body!$E$1:$ED$1,0)),)=\"\",,IF(IFERROR(INDEX(Přehled_body!$E$3:$ED$130,MATCH(Tabulka!$AI28,Přehled_body!$A$3:$A$130,0),MATCH(Tabulka!M$2,Přehled_body!$E$1:$ED$1,0)),)=0,0.00000000001,IFERROR(INDEX(Přehled_body!$E$3:$ED$130,MATCH(Tabulka!$AI28,Přehled_body!$A$3:$A$130,0),MATCH(Tabulka!M$2,Přehled_body!$E$1:$ED$1,0)),)))","v":4},{"$f":"IF(IFERROR(INDEX(Přehled_body!$E$3:$ED$130,MATCH(Tabulka!$AI28,Přehled_body!$A$3:$A$130,0),MATCH(Tabulka!N$2,Přehled_body!$E$1:$ED$1,0)),)=\"\",,IF(IFERROR(INDEX(Přehled_body!$E$3:$ED$130,MATCH(Tabulka!$AI28,Přehled_body!$A$3:$A$130,0),MATCH(Tabulka!N$2,Přehled_body!$E$1:$ED$1,0)),)=0,0.00000000001,IFERROR(INDEX(Přehled_body!$E$3:$ED$130,MATCH(Tabulka!$AI28,Přehled_body!$A$3:$A$130,0),MATCH(Tabulka!N$2,Přehled_body!$E$1:$ED$1,0)),)))","v":0},{"$f":"IF(IFERROR(INDEX(Přehled_body!$E$3:$ED$130,MATCH(Tabulka!$AI28,Přehled_body!$A$3:$A$130,0),MATCH(Tabulka!O$2,Přehled_body!$E$1:$ED$1,0)),)=\"\",,IF(IFERROR(INDEX(Přehled_body!$E$3:$ED$130,MATCH(Tabulka!$AI28,Přehled_body!$A$3:$A$130,0),MATCH(Tabulka!O$2,Přehled_body!$E$1:$ED$1,0)),)=0,0.00000000001,IFERROR(INDEX(Přehled_body!$E$3:$ED$130,MATCH(Tabulka!$AI28,Přehled_body!$A$3:$A$130,0),MATCH(Tabulka!O$2,Přehled_body!$E$1:$ED$1,0)),)))","v":0},{"$f":"IF(IFERROR(INDEX(Přehled_body!$E$3:$ED$130,MATCH(Tabulka!$AI28,Přehled_body!$A$3:$A$130,0),MATCH(Tabulka!P$2,Přehled_body!$E$1:$ED$1,0)),)=\"\",,IF(IFERROR(INDEX(Přehled_body!$E$3:$ED$130,MATCH(Tabulka!$AI28,Přehled_body!$A$3:$A$130,0),MATCH(Tabulka!P$2,Přehled_body!$E$1:$ED$1,0)),)=0,0.00000000001,IFERROR(INDEX(Přehled_body!$E$3:$ED$130,MATCH(Tabulka!$AI28,Přehled_body!$A$3:$A$130,0),MATCH(Tabulka!P$2,Přehled_body!$E$1:$ED$1,0)),)))","v":0},{"$f":"IF(IFERROR(INDEX(Přehled_body!$E$3:$ED$130,MATCH(Tabulka!$AI28,Přehled_body!$A$3:$A$130,0),MATCH(Tabulka!Q$2,Přehled_body!$E$1:$ED$1,0)),)=\"\",,IF(IFERROR(INDEX(Přehled_body!$E$3:$ED$130,MATCH(Tabulka!$AI28,Přehled_body!$A$3:$A$130,0),MATCH(Tabulka!Q$2,Přehled_body!$E$1:$ED$1,0)),)=0,0.00000000001,IFERROR(INDEX(Přehled_body!$E$3:$ED$130,MATCH(Tabulka!$AI28,Přehled_body!$A$3:$A$130,0),MATCH(Tabulka!Q$2,Přehled_body!$E$1:$ED$1,0)),)))","v":0},{"$f":"IF(IFERROR(INDEX(Přehled_body!$E$3:$ED$130,MATCH(Tabulka!$AI28,Přehled_body!$A$3:$A$130,0),MATCH(Tabulka!R$2,Přehled_body!$E$1:$ED$1,0)),)=\"\",,IF(IFERROR(INDEX(Přehled_body!$E$3:$ED$130,MATCH(Tabulka!$AI28,Přehled_body!$A$3:$A$130,0),MATCH(Tabulka!R$2,Přehled_body!$E$1:$ED$1,0)),)=0,0.00000000001,IFERROR(INDEX(Přehled_body!$E$3:$ED$130,MATCH(Tabulka!$AI28,Přehled_body!$A$3:$A$130,0),MATCH(Tabulka!R$2,Přehled_body!$E$1:$ED$1,0)),)))","v":0},{"$f":"IF(IFERROR(INDEX(Přehled_body!$E$3:$ED$130,MATCH(Tabulka!$AI28,Přehled_body!$A$3:$A$130,0),MATCH(Tabulka!S$2,Přehled_body!$E$1:$ED$1,0)),)=\"\",,IF(IFERROR(INDEX(Přehled_body!$E$3:$ED$130,MATCH(Tabulka!$AI28,Přehled_body!$A$3:$A$130,0),MATCH(Tabulka!S$2,Přehled_body!$E$1:$ED$1,0)),)=0,0.00000000001,IFERROR(INDEX(Přehled_body!$E$3:$ED$130,MATCH(Tabulka!$AI28,Přehled_body!$A$3:$A$130,0),MATCH(Tabulka!S$2,Přehled_body!$E$1:$ED$1,0)),)))","v":0},{"$f":"IF(IFERROR(INDEX(Přehled_body!$E$3:$ED$130,MATCH(Tabulka!$AI28,Přehled_body!$A$3:$A$130,0),MATCH(Tabulka!T$2,Přehled_body!$E$1:$ED$1,0)),)=\"\",,IF(IFERROR(INDEX(Přehled_body!$E$3:$ED$130,MATCH(Tabulka!$AI28,Přehled_body!$A$3:$A$130,0),MATCH(Tabulka!T$2,Přehled_body!$E$1:$ED$1,0)),)=0,0.00000000001,IFERROR(INDEX(Přehled_body!$E$3:$ED$130,MATCH(Tabulka!$AI28,Přehled_body!$A$3:$A$130,0),MATCH(Tabulka!T$2,Přehled_body!$E$1:$ED$1,0)),)))","v":0},{"$f":"IF(IFERROR(INDEX(Přehled_body!$E$3:$ED$130,MATCH(Tabulka!$AI28,Přehled_body!$A$3:$A$130,0),MATCH(Tabulka!U$2,Přehled_body!$E$1:$ED$1,0)),)=\"\",,IF(IFERROR(INDEX(Přehled_body!$E$3:$ED$130,MATCH(Tabulka!$AI28,Přehled_body!$A$3:$A$130,0),MATCH(Tabulka!U$2,Přehled_body!$E$1:$ED$1,0)),)=0,0.00000000001,IFERROR(INDEX(Přehled_body!$E$3:$ED$130,MATCH(Tabulka!$AI28,Přehled_body!$A$3:$A$130,0),MATCH(Tabulka!U$2,Přehled_body!$E$1:$ED$1,0)),)))","v":0},{"$f":"IF(IFERROR(INDEX(Přehled_body!$E$3:$ED$130,MATCH(Tabulka!$AI28,Přehled_body!$A$3:$A$130,0),MATCH(Tabulka!V$2,Přehled_body!$E$1:$ED$1,0)),)=\"\",,IF(IFERROR(INDEX(Přehled_body!$E$3:$ED$130,MATCH(Tabulka!$AI28,Přehled_body!$A$3:$A$130,0),MATCH(Tabulka!V$2,Přehled_body!$E$1:$ED$1,0)),)=0,0.00000000001,IFERROR(INDEX(Přehled_body!$E$3:$ED$130,MATCH(Tabulka!$AI28,Přehled_body!$A$3:$A$130,0),MATCH(Tabulka!V$2,Přehled_body!$E$1:$ED$1,0)),)))","v":0},{"$f":"IF(IFERROR(INDEX(Přehled_body!$E$3:$ED$130,MATCH(Tabulka!$AI28,Přehled_body!$A$3:$A$130,0),MATCH(Tabulka!W$2,Přehled_body!$E$1:$ED$1,0)),)=\"\",,IF(IFERROR(INDEX(Přehled_body!$E$3:$ED$130,MATCH(Tabulka!$AI28,Přehled_body!$A$3:$A$130,0),MATCH(Tabulka!W$2,Přehled_body!$E$1:$ED$1,0)),)=0,0.00000000001,IFERROR(INDEX(Přehled_body!$E$3:$ED$130,MATCH(Tabulka!$AI28,Přehled_body!$A$3:$A$130,0),MATCH(Tabulka!W$2,Přehled_body!$E$1:$ED$1,0)),)))","v":0},{"$f":"IF(IFERROR(INDEX(Přehled_body!$E$3:$ED$130,MATCH(Tabulka!$AI28,Přehled_body!$A$3:$A$130,0),MATCH(Tabulka!X$2,Přehled_body!$E$1:$ED$1,0)),)=\"\",,IF(IFERROR(INDEX(Přehled_body!$E$3:$ED$130,MATCH(Tabulka!$AI28,Přehled_body!$A$3:$A$130,0),MATCH(Tabulka!X$2,Přehled_body!$E$1:$ED$1,0)),)=0,0.00000000001,IFERROR(INDEX(Přehled_body!$E$3:$ED$130,MATCH(Tabulka!$AI28,Přehled_body!$A$3:$A$130,0),MATCH(Tabulka!X$2,Přehled_body!$E$1:$ED$1,0)),)))","v":0},{"$f":"IF(IFERROR(INDEX(Přehled_body!$E$3:$ED$130,MATCH(Tabulka!$AI28,Přehled_body!$A$3:$A$130,0),MATCH(Tabulka!Y$2,Přehled_body!$E$1:$ED$1,0)),)=\"\",,IF(IFERROR(INDEX(Přehled_body!$E$3:$ED$130,MATCH(Tabulka!$AI28,Přehled_body!$A$3:$A$130,0),MATCH(Tabulka!Y$2,Přehled_body!$E$1:$ED$1,0)),)=0,0.00000000001,IFERROR(INDEX(Přehled_body!$E$3:$ED$130,MATCH(Tabulka!$AI28,Přehled_body!$A$3:$A$130,0),MATCH(Tabulka!Y$2,Přehled_body!$E$1:$ED$1,0)),)))","v":0},{"$f":"IF(IFERROR(INDEX(Přehled_body!$E$3:$ED$130,MATCH(Tabulka!$AI28,Přehled_body!$A$3:$A$130,0),MATCH(Tabulka!Z$2,Přehled_body!$E$1:$ED$1,0)),)=\"\",,IF(IFERROR(INDEX(Přehled_body!$E$3:$ED$130,MATCH(Tabulka!$AI28,Přehled_body!$A$3:$A$130,0),MATCH(Tabulka!Z$2,Přehled_body!$E$1:$ED$1,0)),)=0,0.00000000001,IFERROR(INDEX(Přehled_body!$E$3:$ED$130,MATCH(Tabulka!$AI28,Přehled_body!$A$3:$A$130,0),MATCH(Tabulka!Z$2,Přehled_body!$E$1:$ED$1,0)),)))","v":0},{"$f":"IF(IFERROR(INDEX(Přehled_body!$E$3:$ED$130,MATCH(Tabulka!$AI28,Přehled_body!$A$3:$A$130,0),MATCH(Tabulka!AA$2,Přehled_body!$E$1:$ED$1,0)),)=\"\",,IF(IFERROR(INDEX(Přehled_body!$E$3:$ED$130,MATCH(Tabulka!$AI28,Přehled_body!$A$3:$A$130,0),MATCH(Tabulka!AA$2,Přehled_body!$E$1:$ED$1,0)),)=0,0.00000000001,IFERROR(INDEX(Přehled_body!$E$3:$ED$130,MATCH(Tabulka!$AI28,Přehled_body!$A$3:$A$130,0),MATCH(Tabulka!AA$2,Přehled_body!$E$1:$ED$1,0)),)))","v":0},{"$f":"IF(IFERROR(INDEX(Přehled_body!$E$3:$ED$130,MATCH(Tabulka!$AI28,Přehled_body!$A$3:$A$130,0),MATCH(Tabulka!AB$2,Přehled_body!$E$1:$ED$1,0)),)=\"\",,IF(IFERROR(INDEX(Přehled_body!$E$3:$ED$130,MATCH(Tabulka!$AI28,Přehled_body!$A$3:$A$130,0),MATCH(Tabulka!AB$2,Přehled_body!$E$1:$ED$1,0)),)=0,0.00000000001,IFERROR(INDEX(Přehled_body!$E$3:$ED$130,MATCH(Tabulka!$AI28,Přehled_body!$A$3:$A$130,0),MATCH(Tabulka!AB$2,Přehled_body!$E$1:$ED$1,0)),)))","v":0},{"$f":"IF(IFERROR(INDEX(Přehled_body!$E$3:$ED$130,MATCH(Tabulka!$AI28,Přehled_body!$A$3:$A$130,0),MATCH(Tabulka!AC$2,Přehled_body!$E$1:$ED$1,0)),)=\"\",,IF(IFERROR(INDEX(Přehled_body!$E$3:$ED$130,MATCH(Tabulka!$AI28,Přehled_body!$A$3:$A$130,0),MATCH(Tabulka!AC$2,Přehled_body!$E$1:$ED$1,0)),)=0,0.00000000001,IFERROR(INDEX(Přehled_body!$E$3:$ED$130,MATCH(Tabulka!$AI28,Přehled_body!$A$3:$A$130,0),MATCH(Tabulka!AC$2,Přehled_body!$E$1:$ED$1,0)),)))","v":0},{"$f":"IF(IFERROR(INDEX(Přehled_body!$E$3:$ED$130,MATCH(Tabulka!$AI28,Přehled_body!$A$3:$A$130,0),MATCH(Tabulka!AD$2,Přehled_body!$E$1:$ED$1,0)),)=\"\",,IF(IFERROR(INDEX(Přehled_body!$E$3:$ED$130,MATCH(Tabulka!$AI28,Přehled_body!$A$3:$A$130,0),MATCH(Tabulka!AD$2,Přehled_body!$E$1:$ED$1,0)),)=0,0.00000000001,IFERROR(INDEX(Přehled_body!$E$3:$ED$130,MATCH(Tabulka!$AI28,Přehled_body!$A$3:$A$130,0),MATCH(Tabulka!AD$2,Přehled_body!$E$1:$ED$1,0)),)))","v":0},{"$f":"IF(SUM($D$24:$AD$28)<1,-90000,SUM(D28:AD28))","v":39},null,null,null,{"$f":"CONCATENATE($B$25,\" \",$B$26,C28)","v":"Milan VeselýPoč. kol"}]
[null,null,"Výhry",{"$f":"IF(IFERROR(INDEX(Přehled_body!$E$3:$ED$130,MATCH(Tabulka!$AI29,Přehled_body!$A$3:$A$130,0),MATCH(Tabulka!D$2,Přehled_body!$E$1:$ED$1,0)),)=\"\",,IF(IFERROR(INDEX(Přehled_body!$E$3:$ED$130,MATCH(Tabulka!$AI29,Přehled_body!$A$3:$A$130,0),MATCH(Tabulka!D$2,Přehled_body!$E$1:$ED$1,0)),)=0,0.00000000001,IFERROR(INDEX(Přehled_body!$E$3:$ED$130,MATCH(Tabulka!$AI29,Přehled_body!$A$3:$A$130,0),MATCH(Tabulka!D$2,Přehled_body!$E$1:$ED$1,0)),)))","v":0},{"$f":"IF(IFERROR(INDEX(Přehled_body!$E$3:$ED$130,MATCH(Tabulka!$AI29,Přehled_body!$A$3:$A$130,0),MATCH(Tabulka!E$2,Přehled_body!$E$1:$ED$1,0)),)=\"\",,IF(IFERROR(INDEX(Přehled_body!$E$3:$ED$130,MATCH(Tabulka!$AI29,Přehled_body!$A$3:$A$130,0),MATCH(Tabulka!E$2,Přehled_body!$E$1:$ED$1,0)),)=0,0.00000000001,IFERROR(INDEX(Přehled_body!$E$3:$ED$130,MATCH(Tabulka!$AI29,Přehled_body!$A$3:$A$130,0),MATCH(Tabulka!E$2,Přehled_body!$E$1:$ED$1,0)),)))","v":0},{"$f":"IF(IFERROR(INDEX(Přehled_body!$E$3:$ED$130,MATCH(Tabulka!$AI29,Přehled_body!$A$3:$A$130,0),MATCH(Tabulka!F$2,Přehled_body!$E$1:$ED$1,0)),)=\"\",,IF(IFERROR(INDEX(Přehled_body!$E$3:$ED$130,MATCH(Tabulka!$AI29,Přehled_body!$A$3:$A$130,0),MATCH(Tabulka!F$2,Přehled_body!$E$1:$ED$1,0)),)=0,0.00000000001,IFERROR(INDEX(Přehled_body!$E$3:$ED$130,MATCH(Tabulka!$AI29,Přehled_body!$A$3:$A$130,0),MATCH(Tabulka!F$2,Přehled_body!$E$1:$ED$1,0)),)))","v":9.9999999999999994E-12},{"$f":"IF(IFERROR(INDEX(Přehled_body!$E$3:$ED$130,MATCH(Tabulka!$AI29,Přehled_body!$A$3:$A$130,0),MATCH(Tabulka!G$2,Přehled_body!$E$1:$ED$1,0)),)=\"\",,IF(IFERROR(INDEX(Přehled_body!$E$3:$ED$130,MATCH(Tabulka!$AI29,Přehled_body!$A$3:$A$130,0),MATCH(Tabulka!G$2,Přehled_body!$E$1:$ED$1,0)),)=0,0.00000000001,IFERROR(INDEX(Přehled_body!$E$3:$ED$130,MATCH(Tabulka!$AI29,Přehled_body!$A$3:$A$130,0),MATCH(Tabulka!G$2,Přehled_body!$E$1:$ED$1,0)),)))","v":9.9999999999999994E-12},{"$f":"IF(IFERROR(INDEX(Přehled_body!$E$3:$ED$130,MATCH(Tabulka!$AI29,Přehled_body!$A$3:$A$130,0),MATCH(Tabulka!H$2,Přehled_body!$E$1:$ED$1,0)),)=\"\",,IF(IFERROR(INDEX(Přehled_body!$E$3:$ED$130,MATCH(Tabulka!$AI29,Přehled_body!$A$3:$A$130,0),MATCH(Tabulka!H$2,Přehled_body!$E$1:$ED$1,0)),)=0,0.00000000001,IFERROR(INDEX(Přehled_body!$E$3:$ED$130,MATCH(Tabulka!$AI29,Přehled_body!$A$3:$A$130,0),MATCH(Tabulka!H$2,Přehled_body!$E$1:$ED$1,0)),)))","v":0},{"$f":"IF(IFERROR(INDEX(Přehled_body!$E$3:$ED$130,MATCH(Tabulka!$AI29,Přehled_body!$A$3:$A$130,0),MATCH(Tabulka!I$2,Přehled_body!$E$1:$ED$1,0)),)=\"\",,IF(IFERROR(INDEX(Přehled_body!$E$3:$ED$130,MATCH(Tabulka!$AI29,Přehled_body!$A$3:$A$130,0),MATCH(Tabulka!I$2,Přehled_body!$E$1:$ED$1,0)),)=0,0.00000000001,IFERROR(INDEX(Přehled_body!$E$3:$ED$130,MATCH(Tabulka!$AI29,Přehled_body!$A$3:$A$130,0),MATCH(Tabulka!I$2,Přehled_body!$E$1:$ED$1,0)),)))","v":9.9999999999999994E-12},{"$f":"IF(IFERROR(INDEX(Přehled_body!$E$3:$ED$130,MATCH(Tabulka!$AI29,Přehled_body!$A$3:$A$130,0),MATCH(Tabulka!J$2,Přehled_body!$E$1:$ED$1,0)),)=\"\",,IF(IFERROR(INDEX(Přehled_body!$E$3:$ED$130,MATCH(Tabulka!$AI29,Přehled_body!$A$3:$A$130,0),MATCH(Tabulka!J$2,Přehled_body!$E$1:$ED$1,0)),)=0,0.00000000001,IFERROR(INDEX(Přehled_body!$E$3:$ED$130,MATCH(Tabulka!$AI29,Přehled_body!$A$3:$A$130,0),MATCH(Tabulka!J$2,Přehled_body!$E$1:$ED$1,0)),)))","v":9.9999999999999994E-12},{"$f":"IF(IFERROR(INDEX(Přehled_body!$E$3:$ED$130,MATCH(Tabulka!$AI29,Přehled_body!$A$3:$A$130,0),MATCH(Tabulka!K$2,Přehled_body!$E$1:$ED$1,0)),)=\"\",,IF(IFERROR(INDEX(Přehled_body!$E$3:$ED$130,MATCH(Tabulka!$AI29,Přehled_body!$A$3:$A$130,0),MATCH(Tabulka!K$2,Přehled_body!$E$1:$ED$1,0)),)=0,0.00000000001,IFERROR(INDEX(Přehled_body!$E$3:$ED$130,MATCH(Tabulka!$AI29,Přehled_body!$A$3:$A$130,0),MATCH(Tabulka!K$2,Přehled_body!$E$1:$ED$1,0)),)))","v":9.9999999999999994E-12},{"$f":"IF(IFERROR(INDEX(Přehled_body!$E$3:$ED$130,MATCH(Tabulka!$AI29,Přehled_body!$A$3:$A$130,0),MATCH(Tabulka!L$2,Přehled_body!$E$1:$ED$1,0)),)=\"\",,IF(IFERROR(INDEX(Přehled_body!$E$3:$ED$130,MATCH(Tabulka!$AI29,Přehled_body!$A$3:$A$130,0),MATCH(Tabulka!L$2,Přehled_body!$E$1:$ED$1,0)),)=0,0.00000000001,IFERROR(INDEX(Přehled_body!$E$3:$ED$130,MATCH(Tabulka!$AI29,Přehled_body!$A$3:$A$130,0),MATCH(Tabulka!L$2,Přehled_body!$E$1:$ED$1,0)),)))","v":0},{"$f":"IF(IFERROR(INDEX(Přehled_body!$E$3:$ED$130,MATCH(Tabulka!$AI29,Přehled_body!$A$3:$A$130,0),MATCH(Tabulka!M$2,Přehled_body!$E$1:$ED$1,0)),)=\"\",,IF(IFERROR(INDEX(Přehled_body!$E$3:$ED$130,MATCH(Tabulka!$AI29,Přehled_body!$A$3:$A$130,0),MATCH(Tabulka!M$2,Přehled_body!$E$1:$ED$1,0)),)=0,0.00000000001,IFERROR(INDEX(Přehled_body!$E$3:$ED$130,MATCH(Tabulka!$AI29,Přehled_body!$A$3:$A$130,0),MATCH(Tabulka!M$2,Přehled_body!$E$1:$ED$1,0)),)))","v":0},{"$f":"IF(IFERROR(INDEX(Přehled_body!$E$3:$ED$130,MATCH(Tabulka!$AI29,Přehled_body!$A$3:$A$130,0),MATCH(Tabulka!N$2,Přehled_body!$E$1:$ED$1,0)),)=\"\",,IF(IFERROR(INDEX(Přehled_body!$E$3:$ED$130,MATCH(Tabulka!$AI29,Přehled_body!$A$3:$A$130,0),MATCH(Tabulka!N$2,Přehled_body!$E$1:$ED$1,0)),)=0,0.00000000001,IFERROR(INDEX(Přehled_body!$E$3:$ED$130,MATCH(Tabulka!$AI29,Přehled_body!$A$3:$A$130,0),MATCH(Tabulka!N$2,Přehled_body!$E$1:$ED$1,0)),)))","v":0},{"$f":"IF(IFERROR(INDEX(Přehled_body!$E$3:$ED$130,MATCH(Tabulka!$AI29,Přehled_body!$A$3:$A$130,0),MATCH(Tabulka!O$2,Přehled_body!$E$1:$ED$1,0)),)=\"\",,IF(IFERROR(INDEX(Přehled_body!$E$3:$ED$130,MATCH(Tabulka!$AI29,Přehled_body!$A$3:$A$130,0),MATCH(Tabulka!O$2,Přehled_body!$E$1:$ED$1,0)),)=0,0.00000000001,IFERROR(INDEX(Přehled_body!$E$3:$ED$130,MATCH(Tabulka!$AI29,Přehled_body!$A$3:$A$130,0),MATCH(Tabulka!O$2,Přehled_body!$E$1:$ED$1,0)),)))","v":0},{"$f":"IF(IFERROR(INDEX(Přehled_body!$E$3:$ED$130,MATCH(Tabulka!$AI29,Přehled_body!$A$3:$A$130,0),MATCH(Tabulka!P$2,Přehled_body!$E$1:$ED$1,0)),)=\"\",,IF(IFERROR(INDEX(Přehled_body!$E$3:$ED$130,MATCH(Tabulka!$AI29,Přehled_body!$A$3:$A$130,0),MATCH(Tabulka!P$2,Přehled_body!$E$1:$ED$1,0)),)=0,0.00000000001,IFERROR(INDEX(Přehled_body!$E$3:$ED$130,MATCH(Tabulka!$AI29,Přehled_body!$A$3:$A$130,0),MATCH(Tabulka!P$2,Přehled_body!$E$1:$ED$1,0)),)))","v":0},{"$f":"IF(IFERROR(INDEX(Přehled_body!$E$3:$ED$130,MATCH(Tabulka!$AI29,Přehled_body!$A$3:$A$130,0),MATCH(Tabulka!Q$2,Přehled_body!$E$1:$ED$1,0)),)=\"\",,IF(IFERROR(INDEX(Přehled_body!$E$3:$ED$130,MATCH(Tabulka!$AI29,Přehled_body!$A$3:$A$130,0),MATCH(Tabulka!Q$2,Přehled_body!$E$1:$ED$1,0)),)=0,0.00000000001,IFERROR(INDEX(Přehled_body!$E$3:$ED$130,MATCH(Tabulka!$AI29,Přehled_body!$A$3:$A$130,0),MATCH(Tabulka!Q$2,Přehled_body!$E$1:$ED$1,0)),)))","v":0},{"$f":"IF(IFERROR(INDEX(Přehled_body!$E$3:$ED$130,MATCH(Tabulka!$AI29,Přehled_body!$A$3:$A$130,0),MATCH(Tabulka!R$2,Přehled_body!$E$1:$ED$1,0)),)=\"\",,IF(IFERROR(INDEX(Přehled_body!$E$3:$ED$130,MATCH(Tabulka!$AI29,Přehled_body!$A$3:$A$130,0),MATCH(Tabulka!R$2,Přehled_body!$E$1:$ED$1,0)),)=0,0.00000000001,IFERROR(INDEX(Přehled_body!$E$3:$ED$130,MATCH(Tabulka!$AI29,Přehled_body!$A$3:$A$130,0),MATCH(Tabulka!R$2,Přehled_body!$E$1:$ED$1,0)),)))","v":0},{"$f":"IF(IFERROR(INDEX(Přehled_body!$E$3:$ED$130,MATCH(Tabulka!$AI29,Přehled_body!$A$3:$A$130,0),MATCH(Tabulka!S$2,Přehled_body!$E$1:$ED$1,0)),)=\"\",,IF(IFERROR(INDEX(Přehled_body!$E$3:$ED$130,MATCH(Tabulka!$AI29,Přehled_body!$A$3:$A$130,0),MATCH(Tabulka!S$2,Přehled_body!$E$1:$ED$1,0)),)=0,0.00000000001,IFERROR(INDEX(Přehled_body!$E$3:$ED$130,MATCH(Tabulka!$AI29,Přehled_body!$A$3:$A$130,0),MATCH(Tabulka!S$2,Přehled_body!$E$1:$ED$1,0)),)))","v":0},{"$f":"IF(IFERROR(INDEX(Přehled_body!$E$3:$ED$130,MATCH(Tabulka!$AI29,Přehled_body!$A$3:$A$130,0),MATCH(Tabulka!T$2,Přehled_body!$E$1:$ED$1,0)),)=\"\",,IF(IFERROR(INDEX(Přehled_body!$E$3:$ED$130,MATCH(Tabulka!$AI29,Přehled_body!$A$3:$A$130,0),MATCH(Tabulka!T$2,Přehled_body!$E$1:$ED$1,0)),)=0,0.00000000001,IFERROR(INDEX(Přehled_body!$E$3:$ED$130,MATCH(Tabulka!$AI29,Přehled_body!$A$3:$A$130,0),MATCH(Tabulka!T$2,Přehled_body!$E$1:$ED$1,0)),)))","v":0},{"$f":"IF(IFERROR(INDEX(Přehled_body!$E$3:$ED$130,MATCH(Tabulka!$AI29,Přehled_body!$A$3:$A$130,0),MATCH(Tabulka!U$2,Přehled_body!$E$1:$ED$1,0)),)=\"\",,IF(IFERROR(INDEX(Přehled_body!$E$3:$ED$130,MATCH(Tabulka!$AI29,Přehled_body!$A$3:$A$130,0),MATCH(Tabulka!U$2,Přehled_body!$E$1:$ED$1,0)),)=0,0.00000000001,IFERROR(INDEX(Přehled_body!$E$3:$ED$130,MATCH(Tabulka!$AI29,Přehled_body!$A$3:$A$130,0),MATCH(Tabulka!U$2,Přehled_body!$E$1:$ED$1,0)),)))","v":0},{"$f":"IF(IFERROR(INDEX(Přehled_body!$E$3:$ED$130,MATCH(Tabulka!$AI29,Přehled_body!$A$3:$A$130,0),MATCH(Tabulka!V$2,Přehled_body!$E$1:$ED$1,0)),)=\"\",,IF(IFERROR(INDEX(Přehled_body!$E$3:$ED$130,MATCH(Tabulka!$AI29,Přehled_body!$A$3:$A$130,0),MATCH(Tabulka!V$2,Přehled_body!$E$1:$ED$1,0)),)=0,0.00000000001,IFERROR(INDEX(Přehled_body!$E$3:$ED$130,MATCH(Tabulka!$AI29,Přehled_body!$A$3:$A$130,0),MATCH(Tabulka!V$2,Přehled_body!$E$1:$ED$1,0)),)))","v":0},{"$f":"IF(IFERROR(INDEX(Přehled_body!$E$3:$ED$130,MATCH(Tabulka!$AI29,Přehled_body!$A$3:$A$130,0),MATCH(Tabulka!W$2,Přehled_body!$E$1:$ED$1,0)),)=\"\",,IF(IFERROR(INDEX(Přehled_body!$E$3:$ED$130,MATCH(Tabulka!$AI29,Přehled_body!$A$3:$A$130,0),MATCH(Tabulka!W$2,Přehled_body!$E$1:$ED$1,0)),)=0,0.00000000001,IFERROR(INDEX(Přehled_body!$E$3:$ED$130,MATCH(Tabulka!$AI29,Přehled_body!$A$3:$A$130,0),MATCH(Tabulka!W$2,Přehled_body!$E$1:$ED$1,0)),)))","v":0},{"$f":"IF(IFERROR(INDEX(Přehled_body!$E$3:$ED$130,MATCH(Tabulka!$AI29,Přehled_body!$A$3:$A$130,0),MATCH(Tabulka!X$2,Přehled_body!$E$1:$ED$1,0)),)=\"\",,IF(IFERROR(INDEX(Přehled_body!$E$3:$ED$130,MATCH(Tabulka!$AI29,Přehled_body!$A$3:$A$130,0),MATCH(Tabulka!X$2,Přehled_body!$E$1:$ED$1,0)),)=0,0.00000000001,IFERROR(INDEX(Přehled_body!$E$3:$ED$130,MATCH(Tabulka!$AI29,Přehled_body!$A$3:$A$130,0),MATCH(Tabulka!X$2,Přehled_body!$E$1:$ED$1,0)),)))","v":0},{"$f":"IF(IFERROR(INDEX(Přehled_body!$E$3:$ED$130,MATCH(Tabulka!$AI29,Přehled_body!$A$3:$A$130,0),MATCH(Tabulka!Y$2,Přehled_body!$E$1:$ED$1,0)),)=\"\",,IF(IFERROR(INDEX(Přehled_body!$E$3:$ED$130,MATCH(Tabulka!$AI29,Přehled_body!$A$3:$A$130,0),MATCH(Tabulka!Y$2,Přehled_body!$E$1:$ED$1,0)),)=0,0.00000000001,IFERROR(INDEX(Přehled_body!$E$3:$ED$130,MATCH(Tabulka!$AI29,Přehled_body!$A$3:$A$130,0),MATCH(Tabulka!Y$2,Přehled_body!$E$1:$ED$1,0)),)))","v":0},{"$f":"IF(IFERROR(INDEX(Přehled_body!$E$3:$ED$130,MATCH(Tabulka!$AI29,Přehled_body!$A$3:$A$130,0),MATCH(Tabulka!Z$2,Přehled_body!$E$1:$ED$1,0)),)=\"\",,IF(IFERROR(INDEX(Přehled_body!$E$3:$ED$130,MATCH(Tabulka!$AI29,Přehled_body!$A$3:$A$130,0),MATCH(Tabulka!Z$2,Přehled_body!$E$1:$ED$1,0)),)=0,0.00000000001,IFERROR(INDEX(Přehled_body!$E$3:$ED$130,MATCH(Tabulka!$AI29,Přehled_body!$A$3:$A$130,0),MATCH(Tabulka!Z$2,Přehled_body!$E$1:$ED$1,0)),)))","v":0},{"$f":"IF(IFERROR(INDEX(Přehled_body!$E$3:$ED$130,MATCH(Tabulka!$AI29,Přehled_body!$A$3:$A$130,0),MATCH(Tabulka!AA$2,Přehled_body!$E$1:$ED$1,0)),)=\"\",,IF(IFERROR(INDEX(Přehled_body!$E$3:$ED$130,MATCH(Tabulka!$AI29,Přehled_body!$A$3:$A$130,0),MATCH(Tabulka!AA$2,Přehled_body!$E$1:$ED$1,0)),)=0,0.00000000001,IFERROR(INDEX(Přehled_body!$E$3:$ED$130,MATCH(Tabulka!$AI29,Přehled_body!$A$3:$A$130,0),MATCH(Tabulka!AA$2,Přehled_body!$E$1:$ED$1,0)),)))","v":0},{"$f":"IF(IFERROR(INDEX(Přehled_body!$E$3:$ED$130,MATCH(Tabulka!$AI29,Přehled_body!$A$3:$A$130,0),MATCH(Tabulka!AB$2,Přehled_body!$E$1:$ED$1,0)),)=\"\",,IF(IFERROR(INDEX(Přehled_body!$E$3:$ED$130,MATCH(Tabulka!$AI29,Přehled_body!$A$3:$A$130,0),MATCH(Tabulka!AB$2,Přehled_body!$E$1:$ED$1,0)),)=0,0.00000000001,IFERROR(INDEX(Přehled_body!$E$3:$ED$130,MATCH(Tabulka!$AI29,Přehled_body!$A$3:$A$130,0),MATCH(Tabulka!AB$2,Přehled_body!$E$1:$ED$1,0)),)))","v":0},{"$f":"IF(IFERROR(INDEX(Přehled_body!$E$3:$ED$130,MATCH(Tabulka!$AI29,Přehled_body!$A$3:$A$130,0),MATCH(Tabulka!AC$2,Přehled_body!$E$1:$ED$1,0)),)=\"\",,IF(IFERROR(INDEX(Přehled_body!$E$3:$ED$130,MATCH(Tabulka!$AI29,Přehled_body!$A$3:$A$130,0),MATCH(Tabulka!AC$2,Přehled_body!$E$1:$ED$1,0)),)=0,0.00000000001,IFERROR(INDEX(Přehled_body!$E$3:$ED$130,MATCH(Tabulka!$AI29,Přehled_body!$A$3:$A$130,0),MATCH(Tabulka!AC$2,Přehled_body!$E$1:$ED$1,0)),)))","v":0},{"$f":"IF(IFERROR(INDEX(Přehled_body!$E$3:$ED$130,MATCH(Tabulka!$AI29,Přehled_body!$A$3:$A$130,0),MATCH(Tabulka!AD$2,Přehled_body!$E$1:$ED$1,0)),)=\"\",,IF(IFERROR(INDEX(Přehled_body!$E$3:$ED$130,MATCH(Tabulka!$AI29,Přehled_body!$A$3:$A$130,0),MATCH(Tabulka!AD$2,Přehled_body!$E$1:$ED$1,0)),)=0,0.00000000001,IFERROR(INDEX(Přehled_body!$E$3:$ED$130,MATCH(Tabulka!$AI29,Přehled_body!$A$3:$A$130,0),MATCH(Tabulka!AD$2,Přehled_body!$E$1:$ED$1,0)),)))","v":0},{"$f":"IF(SUM($D$29:$AD$33)<1,-90000,SUM(D29:AD29))","v":4.9999999999999995E-11},null,{"$f":"COUNTIF(D29:AD29,\">0\")","v":5},null,{"$f":"CONCATENATE($B$30,\" \",$B$31,C29)","v":"Míra ŠedivýVýhry"}]
[{"$f":"CONCATENATE(B30,\" \",B31)","v":"Míra Šedivý"},"Míra","Prohry",{"$f":"IF(IFERROR(INDEX(Přehled_body!$E$3:$ED$130,MATCH(Tabulka!$AI30,Přehled_body!$A$3:$A$130,0),MATCH(Tabulka!D$2,Přehled_body!$E$1:$ED$1,0)),)=\"\",,IF(IFERROR(INDEX(Přehled_body!$E$3:$ED$130,MATCH(Tabulka!$AI30,Přehled_body!$A$3:$A$130,0),MATCH(Tabulka!D$2,Přehled_body!$E$1:$ED$1,0)),)=0,0.00000000001,IFERROR(INDEX(Přehled_body!$E$3:$ED$130,MATCH(Tabulka!$AI30,Přehled_body!$A$3:$A$130,0),MATCH(Tabulka!D$2,Přehled_body!$E$1:$ED$1,0)),)))","v":0},{"$f":"IF(IFERROR(INDEX(Přehled_body!$E$3:$ED$130,MATCH(Tabulka!$AI30,Přehled_body!$A$3:$A$130,0),MATCH(Tabulka!E$2,Přehled_body!$E$1:$ED$1,0)),)=\"\",,IF(IFERROR(INDEX(Přehled_body!$E$3:$ED$130,MATCH(Tabulka!$AI30,Přehled_body!$A$3:$A$130,0),MATCH(Tabulka!E$2,Přehled_body!$E$1:$ED$1,0)),)=0,0.00000000001,IFERROR(INDEX(Přehled_body!$E$3:$ED$130,MATCH(Tabulka!$AI30,Přehled_body!$A$3:$A$130,0),MATCH(Tabulka!E$2,Přehled_body!$E$1:$ED$1,0)),)))","v":0},{"$f":"IF(IFERROR(INDEX(Přehled_body!$E$3:$ED$130,MATCH(Tabulka!$AI30,Přehled_body!$A$3:$A$130,0),MATCH(Tabulka!F$2,Přehled_body!$E$1:$ED$1,0)),)=\"\",,IF(IFERROR(INDEX(Přehled_body!$E$3:$ED$130,MATCH(Tabulka!$AI30,Přehled_body!$A$3:$A$130,0),MATCH(Tabulka!F$2,Přehled_body!$E$1:$ED$1,0)),)=0,0.00000000001,IFERROR(INDEX(Přehled_body!$E$3:$ED$130,MATCH(Tabulka!$AI30,Přehled_body!$A$3:$A$130,0),MATCH(Tabulka!F$2,Přehled_body!$E$1:$ED$1,0)),)))","v":9.9999999999999994E-12},{"$f":"IF(IFERROR(INDEX(Přehled_body!$E$3:$ED$130,MATCH(Tabulka!$AI30,Přehled_body!$A$3:$A$130,0),MATCH(Tabulka!G$2,Přehled_body!$E$1:$ED$1,0)),)=\"\",,IF(IFERROR(INDEX(Přehled_body!$E$3:$ED$130,MATCH(Tabulka!$AI30,Přehled_body!$A$3:$A$130,0),MATCH(Tabulka!G$2,Přehled_body!$E$1:$ED$1,0)),)=0,0.00000000001,IFERROR(INDEX(Přehled_body!$E$3:$ED$130,MATCH(Tabulka!$AI30,Přehled_body!$A$3:$A$130,0),MATCH(Tabulka!G$2,Přehled_body!$E$1:$ED$1,0)),)))","v":9.9999999999999994E-12},{"$f":"IF(IFERROR(INDEX(Přehled_body!$E$3:$ED$130,MATCH(Tabulka!$AI30,Přehled_body!$A$3:$A$130,0),MATCH(Tabulka!H$2,Přehled_body!$E$1:$ED$1,0)),)=\"\",,IF(IFERROR(INDEX(Přehled_body!$E$3:$ED$130,MATCH(Tabulka!$AI30,Přehled_body!$A$3:$A$130,0),MATCH(Tabulka!H$2,Přehled_body!$E$1:$ED$1,0)),)=0,0.00000000001,IFERROR(INDEX(Přehled_body!$E$3:$ED$130,MATCH(Tabulka!$AI30,Přehled_body!$A$3:$A$130,0),MATCH(Tabulka!H$2,Přehled_body!$E$1:$ED$1,0)),)))","v":0},{"$f":"IF(IFERROR(INDEX(Přehled_body!$E$3:$ED$130,MATCH(Tabulka!$AI30,Přehled_body!$A$3:$A$130,0),MATCH(Tabulka!I$2,Přehled_body!$E$1:$ED$1,0)),)=\"\",,IF(IFERROR(INDEX(Přehled_body!$E$3:$ED$130,MATCH(Tabulka!$AI30,Přehled_body!$A$3:$A$130,0),MATCH(Tabulka!I$2,Přehled_body!$E$1:$ED$1,0)),)=0,0.00000000001,IFERROR(INDEX(Přehled_body!$E$3:$ED$130,MATCH(Tabulka!$AI30,Přehled_body!$A$3:$A$130,0),MATCH(Tabulka!I$2,Přehled_body!$E$1:$ED$1,0)),)))","v":1},{"$f":"IF(IFERROR(INDEX(Přehled_body!$E$3:$ED$130,MATCH(Tabulka!$AI30,Přehled_body!$A$3:$A$130,0),MATCH(Tabulka!J$2,Přehled_body!$E$1:$ED$1,0)),)=\"\",,IF(IFERROR(INDEX(Přehled_body!$E$3:$ED$130,MATCH(Tabulka!$AI30,Přehled_body!$A$3:$A$130,0),MATCH(Tabulka!J$2,Přehled_body!$E$1:$ED$1,0)),)=0,0.00000000001,IFERROR(INDEX(Přehled_body!$E$3:$ED$130,MATCH(Tabulka!$AI30,Přehled_body!$A$3:$A$130,0),MATCH(Tabulka!J$2,Přehled_body!$E$1:$ED$1,0)),)))","v":2},{"$f":"IF(IFERROR(INDEX(Přehled_body!$E$3:$ED$130,MATCH(Tabulka!$AI30,Přehled_body!$A$3:$A$130,0),MATCH(Tabulka!K$2,Přehled_body!$E$1:$ED$1,0)),)=\"\",,IF(IFERROR(INDEX(Přehled_body!$E$3:$ED$130,MATCH(Tabulka!$AI30,Přehled_body!$A$3:$A$130,0),MATCH(Tabulka!K$2,Přehled_body!$E$1:$ED$1,0)),)=0,0.00000000001,IFERROR(INDEX(Přehled_body!$E$3:$ED$130,MATCH(Tabulka!$AI30,Přehled_body!$A$3:$A$130,0),MATCH(Tabulka!K$2,Přehled_body!$E$1:$ED$1,0)),)))","v":1},{"$f":"IF(IFERROR(INDEX(Přehled_body!$E$3:$ED$130,MATCH(Tabulka!$AI30,Přehled_body!$A$3:$A$130,0),MATCH(Tabulka!L$2,Přehled_body!$E$1:$ED$1,0)),)=\"\",,IF(IFERROR(INDEX(Přehled_body!$E$3:$ED$130,MATCH(Tabulka!$AI30,Přehled_body!$A$3:$A$130,0),MATCH(Tabulka!L$2,Přehled_body!$E$1:$ED$1,0)),)=0,0.00000000001,IFERROR(INDEX(Přehled_body!$E$3:$ED$130,MATCH(Tabulka!$AI30,Přehled_body!$A$3:$A$130,0),MATCH(Tabulka!L$2,Přehled_body!$E$1:$ED$1,0)),)))","v":0},{"$f":"IF(IFERROR(INDEX(Přehled_body!$E$3:$ED$130,MATCH(Tabulka!$AI30,Přehled_body!$A$3:$A$130,0),MATCH(Tabulka!M$2,Přehled_body!$E$1:$ED$1,0)),)=\"\",,IF(IFERROR(INDEX(Přehled_body!$E$3:$ED$130,MATCH(Tabulka!$AI30,Přehled_body!$A$3:$A$130,0),MATCH(Tabulka!M$2,Přehled_body!$E$1:$ED$1,0)),)=0,0.00000000001,IFERROR(INDEX(Přehled_body!$E$3:$ED$130,MATCH(Tabulka!$AI30,Přehled_body!$A$3:$A$130,0),MATCH(Tabulka!M$2,Přehled_body!$E$1:$ED$1,0)),)))","v":0},{"$f":"IF(IFERROR(INDEX(Přehled_body!$E$3:$ED$130,MATCH(Tabulka!$AI30,Přehled_body!$A$3:$A$130,0),MATCH(Tabulka!N$2,Přehled_body!$E$1:$ED$1,0)),)=\"\",,IF(IFERROR(INDEX(Přehled_body!$E$3:$ED$130,MATCH(Tabulka!$AI30,Přehled_body!$A$3:$A$130,0),MATCH(Tabulka!N$2,Přehled_body!$E$1:$ED$1,0)),)=0,0.00000000001,IFERROR(INDEX(Přehled_body!$E$3:$ED$130,MATCH(Tabulka!$AI30,Přehled_body!$A$3:$A$130,0),MATCH(Tabulka!N$2,Přehled_body!$E$1:$ED$1,0)),)))","v":0},{"$f":"IF(IFERROR(INDEX(Přehled_body!$E$3:$ED$130,MATCH(Tabulka!$AI30,Přehled_body!$A$3:$A$130,0),MATCH(Tabulka!O$2,Přehled_body!$E$1:$ED$1,0)),)=\"\",,IF(IFERROR(INDEX(Přehled_body!$E$3:$ED$130,MATCH(Tabulka!$AI30,Přehled_body!$A$3:$A$130,0),MATCH(Tabulka!O$2,Přehled_body!$E$1:$ED$1,0)),)=0,0.00000000001,IFERROR(INDEX(Přehled_body!$E$3:$ED$130,MATCH(Tabulka!$AI30,Přehled_body!$A$3:$A$130,0),MATCH(Tabulka!O$2,Přehled_body!$E$1:$ED$1,0)),)))","v":0},{"$f":"IF(IFERROR(INDEX(Přehled_body!$E$3:$ED$130,MATCH(Tabulka!$AI30,Přehled_body!$A$3:$A$130,0),MATCH(Tabulka!P$2,Přehled_body!$E$1:$ED$1,0)),)=\"\",,IF(IFERROR(INDEX(Přehled_body!$E$3:$ED$130,MATCH(Tabulka!$AI30,Přehled_body!$A$3:$A$130,0),MATCH(Tabulka!P$2,Přehled_body!$E$1:$ED$1,0)),)=0,0.00000000001,IFERROR(INDEX(Přehled_body!$E$3:$ED$130,MATCH(Tabulka!$AI30,Přehled_body!$A$3:$A$130,0),MATCH(Tabulka!P$2,Přehled_body!$E$1:$ED$1,0)),)))","v":0},{"$f":"IF(IFERROR(INDEX(Přehled_body!$E$3:$ED$130,MATCH(Tabulka!$AI30,Přehled_body!$A$3:$A$130,0),MATCH(Tabulka!Q$2,Přehled_body!$E$1:$ED$1,0)),)=\"\",,IF(IFERROR(INDEX(Přehled_body!$E$3:$ED$130,MATCH(Tabulka!$AI30,Přehled_body!$A$3:$A$130,0),MATCH(Tabulka!Q$2,Přehled_body!$E$1:$ED$1,0)),)=0,0.00000000001,IFERROR(INDEX(Přehled_body!$E$3:$ED$130,MATCH(Tabulka!$AI30,Přehled_body!$A$3:$A$130,0),MATCH(Tabulka!Q$2,Přehled_body!$E$1:$ED$1,0)),)))","v":0},{"$f":"IF(IFERROR(INDEX(Přehled_body!$E$3:$ED$130,MATCH(Tabulka!$AI30,Přehled_body!$A$3:$A$130,0),MATCH(Tabulka!R$2,Přehled_body!$E$1:$ED$1,0)),)=\"\",,IF(IFERROR(INDEX(Přehled_body!$E$3:$ED$130,MATCH(Tabulka!$AI30,Přehled_body!$A$3:$A$130,0),MATCH(Tabulka!R$2,Přehled_body!$E$1:$ED$1,0)),)=0,0.00000000001,IFERROR(INDEX(Přehled_body!$E$3:$ED$130,MATCH(Tabulka!$AI30,Přehled_body!$A$3:$A$130,0),MATCH(Tabulka!R$2,Přehled_body!$E$1:$ED$1,0)),)))","v":0},{"$f":"IF(IFERROR(INDEX(Přehled_body!$E$3:$ED$130,MATCH(Tabulka!$AI30,Přehled_body!$A$3:$A$130,0),MATCH(Tabulka!S$2,Přehled_body!$E$1:$ED$1,0)),)=\"\",,IF(IFERROR(INDEX(Přehled_body!$E$3:$ED$130,MATCH(Tabulka!$AI30,Přehled_body!$A$3:$A$130,0),MATCH(Tabulka!S$2,Přehled_body!$E$1:$ED$1,0)),)=0,0.00000000001,IFERROR(INDEX(Přehled_body!$E$3:$ED$130,MATCH(Tabulka!$AI30,Přehled_body!$A$3:$A$130,0),MATCH(Tabulka!S$2,Přehled_body!$E$1:$ED$1,0)),)))","v":0},{"$f":"IF(IFERROR(INDEX(Přehled_body!$E$3:$ED$130,MATCH(Tabulka!$AI30,Přehled_body!$A$3:$A$130,0),MATCH(Tabulka!T$2,Přehled_body!$E$1:$ED$1,0)),)=\"\",,IF(IFERROR(INDEX(Přehled_body!$E$3:$ED$130,MATCH(Tabulka!$AI30,Přehled_body!$A$3:$A$130,0),MATCH(Tabulka!T$2,Přehled_body!$E$1:$ED$1,0)),)=0,0.00000000001,IFERROR(INDEX(Přehled_body!$E$3:$ED$130,MATCH(Tabulka!$AI30,Přehled_body!$A$3:$A$130,0),MATCH(Tabulka!T$2,Přehled_body!$E$1:$ED$1,0)),)))","v":0},{"$f":"IF(IFERROR(INDEX(Přehled_body!$E$3:$ED$130,MATCH(Tabulka!$AI30,Přehled_body!$A$3:$A$130,0),MATCH(Tabulka!U$2,Přehled_body!$E$1:$ED$1,0)),)=\"\",,IF(IFERROR(INDEX(Přehled_body!$E$3:$ED$130,MATCH(Tabulka!$AI30,Přehled_body!$A$3:$A$130,0),MATCH(Tabulka!U$2,Přehled_body!$E$1:$ED$1,0)),)=0,0.00000000001,IFERROR(INDEX(Přehled_body!$E$3:$ED$130,MATCH(Tabulka!$AI30,Přehled_body!$A$3:$A$130,0),MATCH(Tabulka!U$2,Přehled_body!$E$1:$ED$1,0)),)))","v":0},{"$f":"IF(IFERROR(INDEX(Přehled_body!$E$3:$ED$130,MATCH(Tabulka!$AI30,Přehled_body!$A$3:$A$130,0),MATCH(Tabulka!V$2,Přehled_body!$E$1:$ED$1,0)),)=\"\",,IF(IFERROR(INDEX(Přehled_body!$E$3:$ED$130,MATCH(Tabulka!$AI30,Přehled_body!$A$3:$A$130,0),MATCH(Tabulka!V$2,Přehled_body!$E$1:$ED$1,0)),)=0,0.00000000001,IFERROR(INDEX(Přehled_body!$E$3:$ED$130,MATCH(Tabulka!$AI30,Přehled_body!$A$3:$A$130,0),MATCH(Tabulka!V$2,Přehled_body!$E$1:$ED$1,0)),)))","v":0},{"$f":"IF(IFERROR(INDEX(Přehled_body!$E$3:$ED$130,MATCH(Tabulka!$AI30,Přehled_body!$A$3:$A$130,0),MATCH(Tabulka!W$2,Přehled_body!$E$1:$ED$1,0)),)=\"\",,IF(IFERROR(INDEX(Přehled_body!$E$3:$ED$130,MATCH(Tabulka!$AI30,Přehled_body!$A$3:$A$130,0),MATCH(Tabulka!W$2,Přehled_body!$E$1:$ED$1,0)),)=0,0.00000000001,IFERROR(INDEX(Přehled_body!$E$3:$ED$130,MATCH(Tabulka!$AI30,Přehled_body!$A$3:$A$130,0),MATCH(Tabulka!W$2,Přehled_body!$E$1:$ED$1,0)),)))","v":0},{"$f":"IF(IFERROR(INDEX(Přehled_body!$E$3:$ED$130,MATCH(Tabulka!$AI30,Přehled_body!$A$3:$A$130,0),MATCH(Tabulka!X$2,Přehled_body!$E$1:$ED$1,0)),)=\"\",,IF(IFERROR(INDEX(Přehled_body!$E$3:$ED$130,MATCH(Tabulka!$AI30,Přehled_body!$A$3:$A$130,0),MATCH(Tabulka!X$2,Přehled_body!$E$1:$ED$1,0)),)=0,0.00000000001,IFERROR(INDEX(Přehled_body!$E$3:$ED$130,MATCH(Tabulka!$AI30,Přehled_body!$A$3:$A$130,0),MATCH(Tabulka!X$2,Přehled_body!$E$1:$ED$1,0)),)))","v":0},{"$f":"IF(IFERROR(INDEX(Přehled_body!$E$3:$ED$130,MATCH(Tabulka!$AI30,Přehled_body!$A$3:$A$130,0),MATCH(Tabulka!Y$2,Přehled_body!$E$1:$ED$1,0)),)=\"\",,IF(IFERROR(INDEX(Přehled_body!$E$3:$ED$130,MATCH(Tabulka!$AI30,Přehled_body!$A$3:$A$130,0),MATCH(Tabulka!Y$2,Přehled_body!$E$1:$ED$1,0)),)=0,0.00000000001,IFERROR(INDEX(Přehled_body!$E$3:$ED$130,MATCH(Tabulka!$AI30,Přehled_body!$A$3:$A$130,0),MATCH(Tabulka!Y$2,Přehled_body!$E$1:$ED$1,0)),)))","v":0},{"$f":"IF(IFERROR(INDEX(Přehled_body!$E$3:$ED$130,MATCH(Tabulka!$AI30,Přehled_body!$A$3:$A$130,0),MATCH(Tabulka!Z$2,Přehled_body!$E$1:$ED$1,0)),)=\"\",,IF(IFERROR(INDEX(Přehled_body!$E$3:$ED$130,MATCH(Tabulka!$AI30,Přehled_body!$A$3:$A$130,0),MATCH(Tabulka!Z$2,Přehled_body!$E$1:$ED$1,0)),)=0,0.00000000001,IFERROR(INDEX(Přehled_body!$E$3:$ED$130,MATCH(Tabulka!$AI30,Přehled_body!$A$3:$A$130,0),MATCH(Tabulka!Z$2,Přehled_body!$E$1:$ED$1,0)),)))","v":0},{"$f":"IF(IFERROR(INDEX(Přehled_body!$E$3:$ED$130,MATCH(Tabulka!$AI30,Přehled_body!$A$3:$A$130,0),MATCH(Tabulka!AA$2,Přehled_body!$E$1:$ED$1,0)),)=\"\",,IF(IFERROR(INDEX(Přehled_body!$E$3:$ED$130,MATCH(Tabulka!$AI30,Přehled_body!$A$3:$A$130,0),MATCH(Tabulka!AA$2,Přehled_body!$E$1:$ED$1,0)),)=0,0.00000000001,IFERROR(INDEX(Přehled_body!$E$3:$ED$130,MATCH(Tabulka!$AI30,Přehled_body!$A$3:$A$130,0),MATCH(Tabulka!AA$2,Přehled_body!$E$1:$ED$1,0)),)))","v":0},{"$f":"IF(IFERROR(INDEX(Přehled_body!$E$3:$ED$130,MATCH(Tabulka!$AI30,Přehled_body!$A$3:$A$130,0),MATCH(Tabulka!AB$2,Přehled_body!$E$1:$ED$1,0)),)=\"\",,IF(IFERROR(INDEX(Přehled_body!$E$3:$ED$130,MATCH(Tabulka!$AI30,Přehled_body!$A$3:$A$130,0),MATCH(Tabulka!AB$2,Přehled_body!$E$1:$ED$1,0)),)=0,0.00000000001,IFERROR(INDEX(Přehled_body!$E$3:$ED$130,MATCH(Tabulka!$AI30,Přehled_body!$A$3:$A$130,0),MATCH(Tabulka!AB$2,Přehled_body!$E$1:$ED$1,0)),)))","v":0},{"$f":"IF(IFERROR(INDEX(Přehled_body!$E$3:$ED$130,MATCH(Tabulka!$AI30,Přehled_body!$A$3:$A$130,0),MATCH(Tabulka!AC$2,Přehled_body!$E$1:$ED$1,0)),)=\"\",,IF(IFERROR(INDEX(Přehled_body!$E$3:$ED$130,MATCH(Tabulka!$AI30,Přehled_body!$A$3:$A$130,0),MATCH(Tabulka!AC$2,Přehled_body!$E$1:$ED$1,0)),)=0,0.00000000001,IFERROR(INDEX(Přehled_body!$E$3:$ED$130,MATCH(Tabulka!$AI30,Přehled_body!$A$3:$A$130,0),MATCH(Tabulka!AC$2,Přehled_body!$E$1:$ED$1,0)),)))","v":0},{"$f":"IF(IFERROR(INDEX(Přehled_body!$E$3:$ED$130,MATCH(Tabulka!$AI30,Přehled_body!$A$3:$A$130,0),MATCH(Tabulka!AD$2,Přehled_body!$E$1:$ED$1,0)),)=\"\",,IF(IFERROR(INDEX(Přehled_body!$E$3:$ED$130,MATCH(Tabulka!$AI30,Přehled_body!$A$3:$A$130,0),MATCH(Tabulka!AD$2,Přehled_body!$E$1:$ED$1,0)),)=0,0.00000000001,IFERROR(INDEX(Přehled_body!$E$3:$ED$130,MATCH(Tabulka!$AI30,Přehled_body!$A$3:$A$130,0),MATCH(Tabulka!AD$2,Přehled_body!$E$1:$ED$1,0)),)))","v":0},{"$f":"IF(SUM($D$29:$AD$33)<1,-90000,SUM(D30:AD30))","v":4.00000000002},{"$f":"IF(AE33>0.9,SUM(AE29-AE30)+0.00000001,0)","v":-3.9999999899700001},null,null,{"$f":"CONCATENATE($B$30,\" \",$B$31,C30)","v":"Míra ŠedivýProhry"}]
[{"$f":"CONCATENATE(B31,\" \",B30)","v":"Šedivý Míra"},"Šedivý","Placeno panáků",{"$f":"IF(IFERROR(INDEX(Přehled_body!$E$3:$ED$130,MATCH(Tabulka!$AI31,Přehled_body!$A$3:$A$130,0),MATCH(Tabulka!D$2,Přehled_body!$E$1:$ED$1,0)),)=\"\",,IF(IFERROR(INDEX(Přehled_body!$E$3:$ED$130,MATCH(Tabulka!$AI31,Přehled_body!$A$3:$A$130,0),MATCH(Tabulka!D$2,Přehled_body!$E$1:$ED$1,0)),)=0,0.00000000001,IFERROR(INDEX(Přehled_body!$E$3:$ED$130,MATCH(Tabulka!$AI31,Přehled_body!$A$3:$A$130,0),MATCH(Tabulka!D$2,Přehled_body!$E$1:$ED$1,0)),)))","v":0},{"$f":"IF(IFERROR(INDEX(Přehled_body!$E$3:$ED$130,MATCH(Tabulka!$AI31,Přehled_body!$A$3:$A$130,0),MATCH(Tabulka!E$2,Přehled_body!$E$1:$ED$1,0)),)=\"\",,IF(IFERROR(INDEX(Přehled_body!$E$3:$ED$130,MATCH(Tabulka!$AI31,Přehled_body!$A$3:$A$130,0),MATCH(Tabulka!E$2,Přehled_body!$E$1:$ED$1,0)),)=0,0.00000000001,IFERROR(INDEX(Přehled_body!$E$3:$ED$130,MATCH(Tabulka!$AI31,Přehled_body!$A$3:$A$130,0),MATCH(Tabulka!E$2,Přehled_body!$E$1:$ED$1,0)),)))","v":0},{"$f":"IF(IFERROR(INDEX(Přehled_body!$E$3:$ED$130,MATCH(Tabulka!$AI31,Přehled_body!$A$3:$A$130,0),MATCH(Tabulka!F$2,Přehled_body!$E$1:$ED$1,0)),)=\"\",,IF(IFERROR(INDEX(Přehled_body!$E$3:$ED$130,MATCH(Tabulka!$AI31,Přehled_body!$A$3:$A$130,0),MATCH(Tabulka!F$2,Přehled_body!$E$1:$ED$1,0)),)=0,0.00000000001,IFERROR(INDEX(Přehled_body!$E$3:$ED$130,MATCH(Tabulka!$AI31,Přehled_body!$A$3:$A$130,0),MATCH(Tabulka!F$2,Přehled_body!$E$1:$ED$1,0)),)))","v":9.9999999999999994E-12},{"$f":"IF(IFERROR(INDEX(Přehled_body!$E$3:$ED$130,MATCH(Tabulka!$AI31,Přehled_body!$A$3:$A$130,0),MATCH(Tabulka!G$2,Přehled_body!$E$1:$ED$1,0)),)=\"\",,IF(IFERROR(INDEX(Přehled_body!$E$3:$ED$130,MATCH(Tabulka!$AI31,Přehled_body!$A$3:$A$130,0),MATCH(Tabulka!G$2,Přehled_body!$E$1:$ED$1,0)),)=0,0.00000000001,IFERROR(INDEX(Přehled_body!$E$3:$ED$130,MATCH(Tabulka!$AI31,Přehled_body!$A$3:$A$130,0),MATCH(Tabulka!G$2,Přehled_body!$E$1:$ED$1,0)),)))","v":9.9999999999999994E-12},{"$f":"IF(IFERROR(INDEX(Přehled_body!$E$3:$ED$130,MATCH(Tabulka!$AI31,Přehled_body!$A$3:$A$130,0),MATCH(Tabulka!H$2,Přehled_body!$E$1:$ED$1,0)),)=\"\",,IF(IFERROR(INDEX(Přehled_body!$E$3:$ED$130,MATCH(Tabulka!$AI31,Přehled_body!$A$3:$A$130,0),MATCH(Tabulka!H$2,Přehled_body!$E$1:$ED$1,0)),)=0,0.00000000001,IFERROR(INDEX(Přehled_body!$E$3:$ED$130,MATCH(Tabulka!$AI31,Přehled_body!$A$3:$A$130,0),MATCH(Tabulka!H$2,Přehled_body!$E$1:$ED$1,0)),)))","v":0},{"$f":"IF(IFERROR(INDEX(Přehled_body!$E$3:$ED$130,MATCH(Tabulka!$AI31,Přehled_body!$A$3:$A$130,0),MATCH(Tabulka!I$2,Přehled_body!$E$1:$ED$1,0)),)=\"\",,IF(IFERROR(INDEX(Přehled_body!$E$3:$ED$130,MATCH(Tabulka!$AI31,Přehled_body!$A$3:$A$130,0),MATCH(Tabulka!I$2,Přehled_body!$E$1:$ED$1,0)),)=0,0.00000000001,IFERROR(INDEX(Přehled_body!$E$3:$ED$130,MATCH(Tabulka!$AI31,Přehled_body!$A$3:$A$130,0),MATCH(Tabulka!I$2,Přehled_body!$E$1:$ED$1,0)),)))","v":1},{"$f":"IF(IFERROR(INDEX(Přehled_body!$E$3:$ED$130,MATCH(Tabulka!$AI31,Přehled_body!$A$3:$A$130,0),MATCH(Tabulka!J$2,Přehled_body!$E$1:$ED$1,0)),)=\"\",,IF(IFERROR(INDEX(Přehled_body!$E$3:$ED$130,MATCH(Tabulka!$AI31,Přehled_body!$A$3:$A$130,0),MATCH(Tabulka!J$2,Přehled_body!$E$1:$ED$1,0)),)=0,0.00000000001,IFERROR(INDEX(Přehled_body!$E$3:$ED$130,MATCH(Tabulka!$AI31,Přehled_body!$A$3:$A$130,0),MATCH(Tabulka!J$2,Přehled_body!$E$1:$ED$1,0)),)))","v":2},{"$f":"IF(IFERROR(INDEX(Přehled_body!$E$3:$ED$130,MATCH(Tabulka!$AI31,Přehled_body!$A$3:$A$130,0),MATCH(Tabulka!K$2,Přehled_body!$E$1:$ED$1,0)),)=\"\",,IF(IFERROR(INDEX(Přehled_body!$E$3:$ED$130,MATCH(Tabulka!$AI31,Přehled_body!$A$3:$A$130,0),MATCH(Tabulka!K$2,Přehled_body!$E$1:$ED$1,0)),)=0,0.00000000001,IFERROR(INDEX(Přehled_body!$E$3:$ED$130,MATCH(Tabulka!$AI31,Přehled_body!$A$3:$A$130,0),MATCH(Tabulka!K$2,Přehled_body!$E$1:$ED$1,0)),)))","v":1},{"$f":"IF(IFERROR(INDEX(Přehled_body!$E$3:$ED$130,MATCH(Tabulka!$AI31,Přehled_body!$A$3:$A$130,0),MATCH(Tabulka!L$2,Přehled_body!$E$1:$ED$1,0)),)=\"\",,IF(IFERROR(INDEX(Přehled_body!$E$3:$ED$130,MATCH(Tabulka!$AI31,Přehled_body!$A$3:$A$130,0),MATCH(Tabulka!L$2,Přehled_body!$E$1:$ED$1,0)),)=0,0.00000000001,IFERROR(INDEX(Přehled_body!$E$3:$ED$130,MATCH(Tabulka!$AI31,Přehled_body!$A$3:$A$130,0),MATCH(Tabulka!L$2,Přehled_body!$E$1:$ED$1,0)),)))","v":0},{"$f":"IF(IFERROR(INDEX(Přehled_body!$E$3:$ED$130,MATCH(Tabulka!$AI31,Přehled_body!$A$3:$A$130,0),MATCH(Tabulka!M$2,Přehled_body!$E$1:$ED$1,0)),)=\"\",,IF(IFERROR(INDEX(Přehled_body!$E$3:$ED$130,MATCH(Tabulka!$AI31,Přehled_body!$A$3:$A$130,0),MATCH(Tabulka!M$2,Přehled_body!$E$1:$ED$1,0)),)=0,0.00000000001,IFERROR(INDEX(Přehled_body!$E$3:$ED$130,MATCH(Tabulka!$AI31,Přehled_body!$A$3:$A$130,0),MATCH(Tabulka!M$2,Přehled_body!$E$1:$ED$1,0)),)))","v":0},{"$f":"IF(IFERROR(INDEX(Přehled_body!$E$3:$ED$130,MATCH(Tabulka!$AI31,Přehled_body!$A$3:$A$130,0),MATCH(Tabulka!N$2,Přehled_body!$E$1:$ED$1,0)),)=\"\",,IF(IFERROR(INDEX(Přehled_body!$E$3:$ED$130,MATCH(Tabulka!$AI31,Přehled_body!$A$3:$A$130,0),MATCH(Tabulka!N$2,Přehled_body!$E$1:$ED$1,0)),)=0,0.00000000001,IFERROR(INDEX(Přehled_body!$E$3:$ED$130,MATCH(Tabulka!$AI31,Přehled_body!$A$3:$A$130,0),MATCH(Tabulka!N$2,Přehled_body!$E$1:$ED$1,0)),)))","v":0},{"$f":"IF(IFERROR(INDEX(Přehled_body!$E$3:$ED$130,MATCH(Tabulka!$AI31,Přehled_body!$A$3:$A$130,0),MATCH(Tabulka!O$2,Přehled_body!$E$1:$ED$1,0)),)=\"\",,IF(IFERROR(INDEX(Přehled_body!$E$3:$ED$130,MATCH(Tabulka!$AI31,Přehled_body!$A$3:$A$130,0),MATCH(Tabulka!O$2,Přehled_body!$E$1:$ED$1,0)),)=0,0.00000000001,IFERROR(INDEX(Přehled_body!$E$3:$ED$130,MATCH(Tabulka!$AI31,Přehled_body!$A$3:$A$130,0),MATCH(Tabulka!O$2,Přehled_body!$E$1:$ED$1,0)),)))","v":0},{"$f":"IF(IFERROR(INDEX(Přehled_body!$E$3:$ED$130,MATCH(Tabulka!$AI31,Přehled_body!$A$3:$A$130,0),MATCH(Tabulka!P$2,Přehled_body!$E$1:$ED$1,0)),)=\"\",,IF(IFERROR(INDEX(Přehled_body!$E$3:$ED$130,MATCH(Tabulka!$AI31,Přehled_body!$A$3:$A$130,0),MATCH(Tabulka!P$2,Přehled_body!$E$1:$ED$1,0)),)=0,0.00000000001,IFERROR(INDEX(Přehled_body!$E$3:$ED$130,MATCH(Tabulka!$AI31,Přehled_body!$A$3:$A$130,0),MATCH(Tabulka!P$2,Přehled_body!$E$1:$ED$1,0)),)))","v":0},{"$f":"IF(IFERROR(INDEX(Přehled_body!$E$3:$ED$130,MATCH(Tabulka!$AI31,Přehled_body!$A$3:$A$130,0),MATCH(Tabulka!Q$2,Přehled_body!$E$1:$ED$1,0)),)=\"\",,IF(IFERROR(INDEX(Přehled_body!$E$3:$ED$130,MATCH(Tabulka!$AI31,Přehled_body!$A$3:$A$130,0),MATCH(Tabulka!Q$2,Přehled_body!$E$1:$ED$1,0)),)=0,0.00000000001,IFERROR(INDEX(Přehled_body!$E$3:$ED$130,MATCH(Tabulka!$AI31,Přehled_body!$A$3:$A$130,0),MATCH(Tabulka!Q$2,Přehled_body!$E$1:$ED$1,0)),)))","v":0},{"$f":"IF(IFERROR(INDEX(Přehled_body!$E$3:$ED$130,MATCH(Tabulka!$AI31,Přehled_body!$A$3:$A$130,0),MATCH(Tabulka!R$2,Přehled_body!$E$1:$ED$1,0)),)=\"\",,IF(IFERROR(INDEX(Přehled_body!$E$3:$ED$130,MATCH(Tabulka!$AI31,Přehled_body!$A$3:$A$130,0),MATCH(Tabulka!R$2,Přehled_body!$E$1:$ED$1,0)),)=0,0.00000000001,IFERROR(INDEX(Přehled_body!$E$3:$ED$130,MATCH(Tabulka!$AI31,Přehled_body!$A$3:$A$130,0),MATCH(Tabulka!R$2,Přehled_body!$E$1:$ED$1,0)),)))","v":0},{"$f":"IF(IFERROR(INDEX(Přehled_body!$E$3:$ED$130,MATCH(Tabulka!$AI31,Přehled_body!$A$3:$A$130,0),MATCH(Tabulka!S$2,Přehled_body!$E$1:$ED$1,0)),)=\"\",,IF(IFERROR(INDEX(Přehled_body!$E$3:$ED$130,MATCH(Tabulka!$AI31,Přehled_body!$A$3:$A$130,0),MATCH(Tabulka!S$2,Přehled_body!$E$1:$ED$1,0)),)=0,0.00000000001,IFERROR(INDEX(Přehled_body!$E$3:$ED$130,MATCH(Tabulka!$AI31,Přehled_body!$A$3:$A$130,0),MATCH(Tabulka!S$2,Přehled_body!$E$1:$ED$1,0)),)))","v":0},{"$f":"IF(IFERROR(INDEX(Přehled_body!$E$3:$ED$130,MATCH(Tabulka!$AI31,Přehled_body!$A$3:$A$130,0),MATCH(Tabulka!T$2,Přehled_body!$E$1:$ED$1,0)),)=\"\",,IF(IFERROR(INDEX(Přehled_body!$E$3:$ED$130,MATCH(Tabulka!$AI31,Přehled_body!$A$3:$A$130,0),MATCH(Tabulka!T$2,Přehled_body!$E$1:$ED$1,0)),)=0,0.00000000001,IFERROR(INDEX(Přehled_body!$E$3:$ED$130,MATCH(Tabulka!$AI31,Přehled_body!$A$3:$A$130,0),MATCH(Tabulka!T$2,Přehled_body!$E$1:$ED$1,0)),)))","v":0},{"$f":"IF(IFERROR(INDEX(Přehled_body!$E$3:$ED$130,MATCH(Tabulka!$AI31,Přehled_body!$A$3:$A$130,0),MATCH(Tabulka!U$2,Přehled_body!$E$1:$ED$1,0)),)=\"\",,IF(IFERROR(INDEX(Přehled_body!$E$3:$ED$130,MATCH(Tabulka!$AI31,Přehled_body!$A$3:$A$130,0),MATCH(Tabulka!U$2,Přehled_body!$E$1:$ED$1,0)),)=0,0.00000000001,IFERROR(INDEX(Přehled_body!$E$3:$ED$130,MATCH(Tabulka!$AI31,Přehled_body!$A$3:$A$130,0),MATCH(Tabulka!U$2,Přehled_body!$E$1:$ED$1,0)),)))","v":0},{"$f":"IF(IFERROR(INDEX(Přehled_body!$E$3:$ED$130,MATCH(Tabulka!$AI31,Přehled_body!$A$3:$A$130,0),MATCH(Tabulka!V$2,Přehled_body!$E$1:$ED$1,0)),)=\"\",,IF(IFERROR(INDEX(Přehled_body!$E$3:$ED$130,MATCH(Tabulka!$AI31,Přehled_body!$A$3:$A$130,0),MATCH(Tabulka!V$2,Přehled_body!$E$1:$ED$1,0)),)=0,0.00000000001,IFERROR(INDEX(Přehled_body!$E$3:$ED$130,MATCH(Tabulka!$AI31,Přehled_body!$A$3:$A$130,0),MATCH(Tabulka!V$2,Přehled_body!$E$1:$ED$1,0)),)))","v":0},{"$f":"IF(IFERROR(INDEX(Přehled_body!$E$3:$ED$130,MATCH(Tabulka!$AI31,Přehled_body!$A$3:$A$130,0),MATCH(Tabulka!W$2,Přehled_body!$E$1:$ED$1,0)),)=\"\",,IF(IFERROR(INDEX(Přehled_body!$E$3:$ED$130,MATCH(Tabulka!$AI31,Přehled_body!$A$3:$A$130,0),MATCH(Tabulka!W$2,Přehled_body!$E$1:$ED$1,0)),)=0,0.00000000001,IFERROR(INDEX(Přehled_body!$E$3:$ED$130,MATCH(Tabulka!$AI31,Přehled_body!$A$3:$A$130,0),MATCH(Tabulka!W$2,Přehled_body!$E$1:$ED$1,0)),)))","v":0},{"$f":"IF(IFERROR(INDEX(Přehled_body!$E$3:$ED$130,MATCH(Tabulka!$AI31,Přehled_body!$A$3:$A$130,0),MATCH(Tabulka!X$2,Přehled_body!$E$1:$ED$1,0)),)=\"\",,IF(IFERROR(INDEX(Přehled_body!$E$3:$ED$130,MATCH(Tabulka!$AI31,Přehled_body!$A$3:$A$130,0),MATCH(Tabulka!X$2,Přehled_body!$E$1:$ED$1,0)),)=0,0.00000000001,IFERROR(INDEX(Přehled_body!$E$3:$ED$130,MATCH(Tabulka!$AI31,Přehled_body!$A$3:$A$130,0),MATCH(Tabulka!X$2,Přehled_body!$E$1:$ED$1,0)),)))","v":0},{"$f":"IF(IFERROR(INDEX(Přehled_body!$E$3:$ED$130,MATCH(Tabulka!$AI31,Přehled_body!$A$3:$A$130,0),MATCH(Tabulka!Y$2,Přehled_body!$E$1:$ED$1,0)),)=\"\",,IF(IFERROR(INDEX(Přehled_body!$E$3:$ED$130,MATCH(Tabulka!$AI31,Přehled_body!$A$3:$A$130,0),MATCH(Tabulka!Y$2,Přehled_body!$E$1:$ED$1,0)),)=0,0.00000000001,IFERROR(INDEX(Přehled_body!$E$3:$ED$130,MATCH(Tabulka!$AI31,Přehled_body!$A$3:$A$130,0),MATCH(Tabulka!Y$2,Přehled_body!$E$1:$ED$1,0)),)))","v":0},{"$f":"IF(IFERROR(INDEX(Přehled_body!$E$3:$ED$130,MATCH(Tabulka!$AI31,Přehled_body!$A$3:$A$130,0),MATCH(Tabulka!Z$2,Přehled_body!$E$1:$ED$1,0)),)=\"\",,IF(IFERROR(INDEX(Přehled_body!$E$3:$ED$130,MATCH(Tabulka!$AI31,Přehled_body!$A$3:$A$130,0),MATCH(Tabulka!Z$2,Přehled_body!$E$1:$ED$1,0)),)=0,0.00000000001,IFERROR(INDEX(Přehled_body!$E$3:$ED$130,MATCH(Tabulka!$AI31,Přehled_body!$A$3:$A$130,0),MATCH(Tabulka!Z$2,Přehled_body!$E$1:$ED$1,0)),)))","v":0},{"$f":"IF(IFERROR(INDEX(Přehled_body!$E$3:$ED$130,MATCH(Tabulka!$AI31,Přehled_body!$A$3:$A$130,0),MATCH(Tabulka!AA$2,Přehled_body!$E$1:$ED$1,0)),)=\"\",,IF(IFERROR(INDEX(Přehled_body!$E$3:$ED$130,MATCH(Tabulka!$AI31,Přehled_body!$A$3:$A$130,0),MATCH(Tabulka!AA$2,Přehled_body!$E$1:$ED$1,0)),)=0,0.00000000001,IFERROR(INDEX(Přehled_body!$E$3:$ED$130,MATCH(Tabulka!$AI31,Přehled_body!$A$3:$A$130,0),MATCH(Tabulka!AA$2,Přehled_body!$E$1:$ED$1,0)),)))","v":0},{"$f":"IF(IFERROR(INDEX(Přehled_body!$E$3:$ED$130,MATCH(Tabulka!$AI31,Přehled_body!$A$3:$A$130,0),MATCH(Tabulka!AB$2,Přehled_body!$E$1:$ED$1,0)),)=\"\",,IF(IFERROR(INDEX(Přehled_body!$E$3:$ED$130,MATCH(Tabulka!$AI31,Přehled_body!$A$3:$A$130,0),MATCH(Tabulka!AB$2,Přehled_body!$E$1:$ED$1,0)),)=0,0.00000000001,IFERROR(INDEX(Přehled_body!$E$3:$ED$130,MATCH(Tabulka!$AI31,Přehled_body!$A$3:$A$130,0),MATCH(Tabulka!AB$2,Přehled_body!$E$1:$ED$1,0)),)))","v":0},{"$f":"IF(IFERROR(INDEX(Přehled_body!$E$3:$ED$130,MATCH(Tabulka!$AI31,Přehled_body!$A$3:$A$130,0),MATCH(Tabulka!AC$2,Přehled_body!$E$1:$ED$1,0)),)=\"\",,IF(IFERROR(INDEX(Přehled_body!$E$3:$ED$130,MATCH(Tabulka!$AI31,Přehled_body!$A$3:$A$130,0),MATCH(Tabulka!AC$2,Přehled_body!$E$1:$ED$1,0)),)=0,0.00000000001,IFERROR(INDEX(Přehled_body!$E$3:$ED$130,MATCH(Tabulka!$AI31,Přehled_body!$A$3:$A$130,0),MATCH(Tabulka!AC$2,Přehled_body!$E$1:$ED$1,0)),)))","v":0},{"$f":"IF(IFERROR(INDEX(Přehled_body!$E$3:$ED$130,MATCH(Tabulka!$AI31,Přehled_body!$A$3:$A$130,0),MATCH(Tabulka!AD$2,Přehled_body!$E$1:$ED$1,0)),)=\"\",,IF(IFERROR(INDEX(Přehled_body!$E$3:$ED$130,MATCH(Tabulka!$AI31,Přehled_body!$A$3:$A$130,0),MATCH(Tabulka!AD$2,Přehled_body!$E$1:$ED$1,0)),)=0,0.00000000001,IFERROR(INDEX(Přehled_body!$E$3:$ED$130,MATCH(Tabulka!$AI31,Přehled_body!$A$3:$A$130,0),MATCH(Tabulka!AD$2,Přehled_body!$E$1:$ED$1,0)),)))","v":0},{"$f":"IF(SUM($D$29:$AD$33)<1,-90000,SUM(D31:AD31))","v":4.00000000002},null,null,null,{"$f":"CONCATENATE($B$30,\" \",$B$31,C31)","v":"Míra ŠedivýPlaceno panáků"}]
[null,null,"Přehozy",{"$f":"IF(IFERROR(INDEX(Přehled_body!$E$3:$ED$130,MATCH(Tabulka!$AI32,Přehled_body!$A$3:$A$130,0),MATCH(Tabulka!D$2,Přehled_body!$E$1:$ED$1,0)),)=\"\",,IF(IFERROR(INDEX(Přehled_body!$E$3:$ED$130,MATCH(Tabulka!$AI32,Přehled_body!$A$3:$A$130,0),MATCH(Tabulka!D$2,Přehled_body!$E$1:$ED$1,0)),)=0,0.00000000001,IFERROR(INDEX(Přehled_body!$E$3:$ED$130,MATCH(Tabulka!$AI32,Přehled_body!$A$3:$A$130,0),MATCH(Tabulka!D$2,Přehled_body!$E$1:$ED$1,0)),)))","v":0},{"$f":"IF(IFERROR(INDEX(Přehled_body!$E$3:$ED$130,MATCH(Tabulka!$AI32,Přehled_body!$A$3:$A$130,0),MATCH(Tabulka!E$2,Přehled_body!$E$1:$ED$1,0)),)=\"\",,IF(IFERROR(INDEX(Přehled_body!$E$3:$ED$130,MATCH(Tabulka!$AI32,Přehled_body!$A$3:$A$130,0),MATCH(Tabulka!E$2,Přehled_body!$E$1:$ED$1,0)),)=0,0.00000000001,IFERROR(INDEX(Přehled_body!$E$3:$ED$130,MATCH(Tabulka!$AI32,Přehled_body!$A$3:$A$130,0),MATCH(Tabulka!E$2,Přehled_body!$E$1:$ED$1,0)),)))","v":0},{"$f":"IF(IFERROR(INDEX(Přehled_body!$E$3:$ED$130,MATCH(Tabulka!$AI32,Přehled_body!$A$3:$A$130,0),MATCH(Tabulka!F$2,Přehled_body!$E$1:$ED$1,0)),)=\"\",,IF(IFERROR(INDEX(Přehled_body!$E$3:$ED$130,MATCH(Tabulka!$AI32,Přehled_body!$A$3:$A$130,0),MATCH(Tabulka!F$2,Přehled_body!$E$1:$ED$1,0)),)=0,0.00000000001,IFERROR(INDEX(Přehled_body!$E$3:$ED$130,MATCH(Tabulka!$AI32,Přehled_body!$A$3:$A$130,0),MATCH(Tabulka!F$2,Přehled_body!$E$1:$ED$1,0)),)))","v":9.9999999999999994E-12},{"$f":"IF(IFERROR(INDEX(Přehled_body!$E$3:$ED$130,MATCH(Tabulka!$AI32,Přehled_body!$A$3:$A$130,0),MATCH(Tabulka!G$2,Přehled_body!$E$1:$ED$1,0)),)=\"\",,IF(IFERROR(INDEX(Přehled_body!$E$3:$ED$130,MATCH(Tabulka!$AI32,Přehled_body!$A$3:$A$130,0),MATCH(Tabulka!G$2,Přehled_body!$E$1:$ED$1,0)),)=0,0.00000000001,IFERROR(INDEX(Přehled_body!$E$3:$ED$130,MATCH(Tabulka!$AI32,Přehled_body!$A$3:$A$130,0),MATCH(Tabulka!G$2,Přehled_body!$E$1:$ED$1,0)),)))","v":9.9999999999999994E-12},{"$f":"IF(IFERROR(INDEX(Přehled_body!$E$3:$ED$130,MATCH(Tabulka!$AI32,Přehled_body!$A$3:$A$130,0),MATCH(Tabulka!H$2,Přehled_body!$E$1:$ED$1,0)),)=\"\",,IF(IFERROR(INDEX(Přehled_body!$E$3:$ED$130,MATCH(Tabulka!$AI32,Přehled_body!$A$3:$A$130,0),MATCH(Tabulka!H$2,Přehled_body!$E$1:$ED$1,0)),)=0,0.00000000001,IFERROR(INDEX(Přehled_body!$E$3:$ED$130,MATCH(Tabulka!$AI32,Přehled_body!$A$3:$A$130,0),MATCH(Tabulka!H$2,Přehled_body!$E$1:$ED$1,0)),)))","v":0},{"$f":"IF(IFERROR(INDEX(Přehled_body!$E$3:$ED$130,MATCH(Tabulka!$AI32,Přehled_body!$A$3:$A$130,0),MATCH(Tabulka!I$2,Přehled_body!$E$1:$ED$1,0)),)=\"\",,IF(IFERROR(INDEX(Přehled_body!$E$3:$ED$130,MATCH(Tabulka!$AI32,Přehled_body!$A$3:$A$130,0),MATCH(Tabulka!I$2,Přehled_body!$E$1:$ED$1,0)),)=0,0.00000000001,IFERROR(INDEX(Přehled_body!$E$3:$ED$130,MATCH(Tabulka!$AI32,Přehled_body!$A$3:$A$130,0),MATCH(Tabulka!I$2,Přehled_body!$E$1:$ED$1,0)),)))","v":9.9999999999999994E-12},{"$f":"IF(IFERROR(INDEX(Přehled_body!$E$3:$ED$130,MATCH(Tabulka!$AI32,Přehled_body!$A$3:$A$130,0),MATCH(Tabulka!J$2,Přehled_body!$E$1:$ED$1,0)),)=\"\",,IF(IFERROR(INDEX(Přehled_body!$E$3:$ED$130,MATCH(Tabulka!$AI32,Přehled_body!$A$3:$A$130,0),MATCH(Tabulka!J$2,Přehled_body!$E$1:$ED$1,0)),)=0,0.00000000001,IFERROR(INDEX(Přehled_body!$E$3:$ED$130,MATCH(Tabulka!$AI32,Přehled_body!$A$3:$A$130,0),MATCH(Tabulka!J$2,Přehled_body!$E$1:$ED$1,0)),)))","v":9.9999999999999994E-12},{"$f":"IF(IFERROR(INDEX(Přehled_body!$E$3:$ED$130,MATCH(Tabulka!$AI32,Přehled_body!$A$3:$A$130,0),MATCH(Tabulka!K$2,Přehled_body!$E$1:$ED$1,0)),)=\"\",,IF(IFERROR(INDEX(Přehled_body!$E$3:$ED$130,MATCH(Tabulka!$AI32,Přehled_body!$A$3:$A$130,0),MATCH(Tabulka!K$2,Přehled_body!$E$1:$ED$1,0)),)=0,0.00000000001,IFERROR(INDEX(Přehled_body!$E$3:$ED$130,MATCH(Tabulka!$AI32,Přehled_body!$A$3:$A$130,0),MATCH(Tabulka!K$2,Přehled_body!$E$1:$ED$1,0)),)))","v":9.9999999999999994E-12},{"$f":"IF(IFERROR(INDEX(Přehled_body!$E$3:$ED$130,MATCH(Tabulka!$AI32,Přehled_body!$A$3:$A$130,0),MATCH(Tabulka!L$2,Přehled_body!$E$1:$ED$1,0)),)=\"\",,IF(IFERROR(INDEX(Přehled_body!$E$3:$ED$130,MATCH(Tabulka!$AI32,Přehled_body!$A$3:$A$130,0),MATCH(Tabulka!L$2,Přehled_body!$E$1:$ED$1,0)),)=0,0.00000000001,IFERROR(INDEX(Přehled_body!$E$3:$ED$130,MATCH(Tabulka!$AI32,Přehled_body!$A$3:$A$130,0),MATCH(Tabulka!L$2,Přehled_body!$E$1:$ED$1,0)),)))","v":0},{"$f":"IF(IFERROR(INDEX(Přehled_body!$E$3:$ED$130,MATCH(Tabulka!$AI32,Přehled_body!$A$3:$A$130,0),MATCH(Tabulka!M$2,Přehled_body!$E$1:$ED$1,0)),)=\"\",,IF(IFERROR(INDEX(Přehled_body!$E$3:$ED$130,MATCH(Tabulka!$AI32,Přehled_body!$A$3:$A$130,0),MATCH(Tabulka!M$2,Přehled_body!$E$1:$ED$1,0)),)=0,0.00000000001,IFERROR(INDEX(Přehled_body!$E$3:$ED$130,MATCH(Tabulka!$AI32,Přehled_body!$A$3:$A$130,0),MATCH(Tabulka!M$2,Přehled_body!$E$1:$ED$1,0)),)))","v":0},{"$f":"IF(IFERROR(INDEX(Přehled_body!$E$3:$ED$130,MATCH(Tabulka!$AI32,Přehled_body!$A$3:$A$130,0),MATCH(Tabulka!N$2,Přehled_body!$E$1:$ED$1,0)),)=\"\",,IF(IFERROR(INDEX(Přehled_body!$E$3:$ED$130,MATCH(Tabulka!$AI32,Přehled_body!$A$3:$A$130,0),MATCH(Tabulka!N$2,Přehled_body!$E$1:$ED$1,0)),)=0,0.00000000001,IFERROR(INDEX(Přehled_body!$E$3:$ED$130,MATCH(Tabulka!$AI32,Přehled_body!$A$3:$A$130,0),MATCH(Tabulka!N$2,Přehled_body!$E$1:$ED$1,0)),)))","v":0},{"$f":"IF(IFERROR(INDEX(Přehled_body!$E$3:$ED$130,MATCH(Tabulka!$AI32,Přehled_body!$A$3:$A$130,0),MATCH(Tabulka!O$2,Přehled_body!$E$1:$ED$1,0)),)=\"\",,IF(IFERROR(INDEX(Přehled_body!$E$3:$ED$130,MATCH(Tabulka!$AI32,Přehled_body!$A$3:$A$130,0),MATCH(Tabulka!O$2,Přehled_body!$E$1:$ED$1,0)),)=0,0.00000000001,IFERROR(INDEX(Přehled_body!$E$3:$ED$130,MATCH(Tabulka!$AI32,Přehled_body!$A$3:$A$130,0),MATCH(Tabulka!O$2,Přehled_body!$E$1:$ED$1,0)),)))","v":0},{"$f":"IF(IFERROR(INDEX(Přehled_body!$E$3:$ED$130,MATCH(Tabulka!$AI32,Přehled_body!$A$3:$A$130,0),MATCH(Tabulka!P$2,Přehled_body!$E$1:$ED$1,0)),)=\"\",,IF(IFERROR(INDEX(Přehled_body!$E$3:$ED$130,MATCH(Tabulka!$AI32,Přehled_body!$A$3:$A$130,0),MATCH(Tabulka!P$2,Přehled_body!$E$1:$ED$1,0)),)=0,0.00000000001,IFERROR(INDEX(Přehled_body!$E$3:$ED$130,MATCH(Tabulka!$AI32,Přehled_body!$A$3:$A$130,0),MATCH(Tabulka!P$2,Přehled_body!$E$1:$ED$1,0)),)))","v":0},{"$f":"IF(IFERROR(INDEX(Přehled_body!$E$3:$ED$130,MATCH(Tabulka!$AI32,Přehled_body!$A$3:$A$130,0),MATCH(Tabulka!Q$2,Přehled_body!$E$1:$ED$1,0)),)=\"\",,IF(IFERROR(INDEX(Přehled_body!$E$3:$ED$130,MATCH(Tabulka!$AI32,Přehled_body!$A$3:$A$130,0),MATCH(Tabulka!Q$2,Přehled_body!$E$1:$ED$1,0)),)=0,0.00000000001,IFERROR(INDEX(Přehled_body!$E$3:$ED$130,MATCH(Tabulka!$AI32,Přehled_body!$A$3:$A$130,0),MATCH(Tabulka!Q$2,Přehled_body!$E$1:$ED$1,0)),)))","v":0},{"$f":"IF(IFERROR(INDEX(Přehled_body!$E$3:$ED$130,MATCH(Tabulka!$AI32,Přehled_body!$A$3:$A$130,0),MATCH(Tabulka!R$2,Přehled_body!$E$1:$ED$1,0)),)=\"\",,IF(IFERROR(INDEX(Přehled_body!$E$3:$ED$130,MATCH(Tabulka!$AI32,Přehled_body!$A$3:$A$130,0),MATCH(Tabulka!R$2,Přehled_body!$E$1:$ED$1,0)),)=0,0.00000000001,IFERROR(INDEX(Přehled_body!$E$3:$ED$130,MATCH(Tabulka!$AI32,Přehled_body!$A$3:$A$130,0),MATCH(Tabulka!R$2,Přehled_body!$E$1:$ED$1,0)),)))","v":0},{"$f":"IF(IFERROR(INDEX(Přehled_body!$E$3:$ED$130,MATCH(Tabulka!$AI32,Přehled_body!$A$3:$A$130,0),MATCH(Tabulka!S$2,Přehled_body!$E$1:$ED$1,0)),)=\"\",,IF(IFERROR(INDEX(Přehled_body!$E$3:$ED$130,MATCH(Tabulka!$AI32,Přehled_body!$A$3:$A$130,0),MATCH(Tabulka!S$2,Přehled_body!$E$1:$ED$1,0)),)=0,0.00000000001,IFERROR(INDEX(Přehled_body!$E$3:$ED$130,MATCH(Tabulka!$AI32,Přehled_body!$A$3:$A$130,0),MATCH(Tabulka!S$2,Přehled_body!$E$1:$ED$1,0)),)))","v":0},{"$f":"IF(IFERROR(INDEX(Přehled_body!$E$3:$ED$130,MATCH(Tabulka!$AI32,Přehled_body!$A$3:$A$130,0),MATCH(Tabulka!T$2,Přehled_body!$E$1:$ED$1,0)),)=\"\",,IF(IFERROR(INDEX(Přehled_body!$E$3:$ED$130,MATCH(Tabulka!$AI32,Přehled_body!$A$3:$A$130,0),MATCH(Tabulka!T$2,Přehled_body!$E$1:$ED$1,0)),)=0,0.00000000001,IFERROR(INDEX(Přehled_body!$E$3:$ED$130,MATCH(Tabulka!$AI32,Přehled_body!$A$3:$A$130,0),MATCH(Tabulka!T$2,Přehled_body!$E$1:$ED$1,0)),)))","v":0},{"$f":"IF(IFERROR(INDEX(Přehled_body!$E$3:$ED$130,MATCH(Tabulka!$AI32,Přehled_body!$A$3:$A$130,0),MATCH(Tabulka!U$2,Přehled_body!$E$1:$ED$1,0)),)=\"\",,IF(IFERROR(INDEX(Přehled_body!$E$3:$ED$130,MATCH(Tabulka!$AI32,Přehled_body!$A$3:$A$130,0),MATCH(Tabulka!U$2,Přehled_body!$E$1:$ED$1,0)),)=0,0.00000000001,IFERROR(INDEX(Přehled_body!$E$3:$ED$130,MATCH(Tabulka!$AI32,Přehled_body!$A$3:$A$130,0),MATCH(Tabulka!U$2,Přehled_body!$E$1:$ED$1,0)),)))","v":0},{"$f":"IF(IFERROR(INDEX(Přehled_body!$E$3:$ED$130,MATCH(Tabulka!$AI32,Přehled_body!$A$3:$A$130,0),MATCH(Tabulka!V$2,Přehled_body!$E$1:$ED$1,0)),)=\"\",,IF(IFERROR(INDEX(Přehled_body!$E$3:$ED$130,MATCH(Tabulka!$AI32,Přehled_body!$A$3:$A$130,0),MATCH(Tabulka!V$2,Přehled_body!$E$1:$ED$1,0)),)=0,0.00000000001,IFERROR(INDEX(Přehled_body!$E$3:$ED$130,MATCH(Tabulka!$AI32,Přehled_body!$A$3:$A$130,0),MATCH(Tabulka!V$2,Přehled_body!$E$1:$ED$1,0)),)))","v":0},{"$f":"IF(IFERROR(INDEX(Přehled_body!$E$3:$ED$130,MATCH(Tabulka!$AI32,Přehled_body!$A$3:$A$130,0),MATCH(Tabulka!W$2,Přehled_body!$E$1:$ED$1,0)),)=\"\",,IF(IFERROR(INDEX(Přehled_body!$E$3:$ED$130,MATCH(Tabulka!$AI32,Přehled_body!$A$3:$A$130,0),MATCH(Tabulka!W$2,Přehled_body!$E$1:$ED$1,0)),)=0,0.00000000001,IFERROR(INDEX(Přehled_body!$E$3:$ED$130,MATCH(Tabulka!$AI32,Přehled_body!$A$3:$A$130,0),MATCH(Tabulka!W$2,Přehled_body!$E$1:$ED$1,0)),)))","v":0},{"$f":"IF(IFERROR(INDEX(Přehled_body!$E$3:$ED$130,MATCH(Tabulka!$AI32,Přehled_body!$A$3:$A$130,0),MATCH(Tabulka!X$2,Přehled_body!$E$1:$ED$1,0)),)=\"\",,IF(IFERROR(INDEX(Přehled_body!$E$3:$ED$130,MATCH(Tabulka!$AI32,Přehled_body!$A$3:$A$130,0),MATCH(Tabulka!X$2,Přehled_body!$E$1:$ED$1,0)),)=0,0.00000000001,IFERROR(INDEX(Přehled_body!$E$3:$ED$130,MATCH(Tabulka!$AI32,Přehled_body!$A$3:$A$130,0),MATCH(Tabulka!X$2,Přehled_body!$E$1:$ED$1,0)),)))","v":0},{"$f":"IF(IFERROR(INDEX(Přehled_body!$E$3:$ED$130,MATCH(Tabulka!$AI32,Přehled_body!$A$3:$A$130,0),MATCH(Tabulka!Y$2,Přehled_body!$E$1:$ED$1,0)),)=\"\",,IF(IFERROR(INDEX(Přehled_body!$E$3:$ED$130,MATCH(Tabulka!$AI32,Přehled_body!$A$3:$A$130,0),MATCH(Tabulka!Y$2,Přehled_body!$E$1:$ED$1,0)),)=0,0.00000000001,IFERROR(INDEX(Přehled_body!$E$3:$ED$130,MATCH(Tabulka!$AI32,Přehled_body!$A$3:$A$130,0),MATCH(Tabulka!Y$2,Přehled_body!$E$1:$ED$1,0)),)))","v":0},{"$f":"IF(IFERROR(INDEX(Přehled_body!$E$3:$ED$130,MATCH(Tabulka!$AI32,Přehled_body!$A$3:$A$130,0),MATCH(Tabulka!Z$2,Přehled_body!$E$1:$ED$1,0)),)=\"\",,IF(IFERROR(INDEX(Přehled_body!$E$3:$ED$130,MATCH(Tabulka!$AI32,Přehled_body!$A$3:$A$130,0),MATCH(Tabulka!Z$2,Přehled_body!$E$1:$ED$1,0)),)=0,0.00000000001,IFERROR(INDEX(Přehled_body!$E$3:$ED$130,MATCH(Tabulka!$AI32,Přehled_body!$A$3:$A$130,0),MATCH(Tabulka!Z$2,Přehled_body!$E$1:$ED$1,0)),)))","v":0},{"$f":"IF(IFERROR(INDEX(Přehled_body!$E$3:$ED$130,MATCH(Tabulka!$AI32,Přehled_body!$A$3:$A$130,0),MATCH(Tabulka!AA$2,Přehled_body!$E$1:$ED$1,0)),)=\"\",,IF(IFERROR(INDEX(Přehled_body!$E$3:$ED$130,MATCH(Tabulka!$AI32,Přehled_body!$A$3:$A$130,0),MATCH(Tabulka!AA$2,Přehled_body!$E$1:$ED$1,0)),)=0,0.00000000001,IFERROR(INDEX(Přehled_body!$E$3:$ED$130,MATCH(Tabulka!$AI32,Přehled_body!$A$3:$A$130,0),MATCH(Tabulka!AA$2,Přehled_body!$E$1:$ED$1,0)),)))","v":0},{"$f":"IF(IFERROR(INDEX(Přehled_body!$E$3:$ED$130,MATCH(Tabulka!$AI32,Přehled_body!$A$3:$A$130,0),MATCH(Tabulka!AB$2,Přehled_body!$E$1:$ED$1,0)),)=\"\",,IF(IFERROR(INDEX(Přehled_body!$E$3:$ED$130,MATCH(Tabulka!$AI32,Přehled_body!$A$3:$A$130,0),MATCH(Tabulka!AB$2,Přehled_body!$E$1:$ED$1,0)),)=0,0.00000000001,IFERROR(INDEX(Přehled_body!$E$3:$ED$130,MATCH(Tabulka!$AI32,Přehled_body!$A$3:$A$130,0),MATCH(Tabulka!AB$2,Přehled_body!$E$1:$ED$1,0)),)))","v":0},{"$f":"IF(IFERROR(INDEX(Přehled_body!$E$3:$ED$130,MATCH(Tabulka!$AI32,Přehled_body!$A$3:$A$130,0),MATCH(Tabulka!AC$2,Přehled_body!$E$1:$ED$1,0)),)=\"\",,IF(IFERROR(INDEX(Přehled_body!$E$3:$ED$130,MATCH(Tabulka!$AI32,Přehled_body!$A$3:$A$130,0),MATCH(Tabulka!AC$2,Přehled_body!$E$1:$ED$1,0)),)=0,0.00000000001,IFERROR(INDEX(Přehled_body!$E$3:$ED$130,MATCH(Tabulka!$AI32,Přehled_body!$A$3:$A$130,0),MATCH(Tabulka!AC$2,Přehled_body!$E$1:$ED$1,0)),)))","v":0},{"$f":"IF(IFERROR(INDEX(Přehled_body!$E$3:$ED$130,MATCH(Tabulka!$AI32,Přehled_body!$A$3:$A$130,0),MATCH(Tabulka!AD$2,Přehled_body!$E$1:$ED$1,0)),)=\"\",,IF(IFERROR(INDEX(Přehled_body!$E$3:$ED$130,MATCH(Tabulka!$AI32,Přehled_body!$A$3:$A$130,0),MATCH(Tabulka!AD$2,Přehled_body!$E$1:$ED$1,0)),)=0,0.00000000001,IFERROR(INDEX(Přehled_body!$E$3:$ED$130,MATCH(Tabulka!$AI32,Přehled_body!$A$3:$A$130,0),MATCH(Tabulka!AD$2,Přehled_body!$E$1:$ED$1,0)),)))","v":0},{"$f":"IF(SUM($D$29:$AD$33)<1,-90000,SUM(D32:AD32))","v":4.9999999999999995E-11},null,null,null,{"$f":"CONCATENATE($B$30,\" \",$B$31,C32)","v":"Míra ŠedivýPřehozy"}]
[null,null,"Poč. kol",{"$f":"IF(IFERROR(INDEX(Přehled_body!$E$3:$ED$130,MATCH(Tabulka!$AI33,Přehled_body!$A$3:$A$130,0),MATCH(Tabulka!D$2,Přehled_body!$E$1:$ED$1,0)),)=\"\",,IF(IFERROR(INDEX(Přehled_body!$E$3:$ED$130,MATCH(Tabulka!$AI33,Přehled_body!$A$3:$A$130,0),MATCH(Tabulka!D$2,Přehled_body!$E$1:$ED$1,0)),)=0,0.00000000001,IFERROR(INDEX(Přehled_body!$E$3:$ED$130,MATCH(Tabulka!$AI33,Přehled_body!$A$3:$A$130,0),MATCH(Tabulka!D$2,Přehled_body!$E$1:$ED$1,0)),)))","v":0},{"$f":"IF(IFERROR(INDEX(Přehled_body!$E$3:$ED$130,MATCH(Tabulka!$AI33,Přehled_body!$A$3:$A$130,0),MATCH(Tabulka!E$2,Přehled_body!$E$1:$ED$1,0)),)=\"\",,IF(IFERROR(INDEX(Přehled_body!$E$3:$ED$130,MATCH(Tabulka!$AI33,Přehled_body!$A$3:$A$130,0),MATCH(Tabulka!E$2,Přehled_body!$E$1:$ED$1,0)),)=0,0.00000000001,IFERROR(INDEX(Přehled_body!$E$3:$ED$130,MATCH(Tabulka!$AI33,Přehled_body!$A$3:$A$130,0),MATCH(Tabulka!E$2,Přehled_body!$E$1:$ED$1,0)),)))","v":0},{"$f":"IF(IFERROR(INDEX(Přehled_body!$E$3:$ED$130,MATCH(Tabulka!$AI33,Přehled_body!$A$3:$A$130,0),MATCH(Tabulka!F$2,Přehled_body!$E$1:$ED$1,0)),)=\"\",,IF(IFERROR(INDEX(Přehled_body!$E$3:$ED$130,MATCH(Tabulka!$AI33,Přehled_body!$A$3:$A$130,0),MATCH(Tabulka!F$2,Přehled_body!$E$1:$ED$1,0)),)=0,0.00000000001,IFERROR(INDEX(Přehled_body!$E$3:$ED$130,MATCH(Tabulka!$AI33,Přehled_body!$A$3:$A$130,0),MATCH(Tabulka!F$2,Přehled_body!$E$1:$ED$1,0)),)))","v":4},{"$f":"IF(IFERROR(INDEX(Přehled_body!$E$3:$ED$130,MATCH(Tabulka!$AI33,Přehled_body!$A$3:$A$130,0),MATCH(Tabulka!G$2,Přehled_body!$E$1:$ED$1,0)),)=\"\",,IF(IFERROR(INDEX(Přehled_body!$E$3:$ED$130,MATCH(Tabulka!$AI33,Přehled_body!$A$3:$A$130,0),MATCH(Tabulka!G$2,Přehled_body!$E$1:$ED$1,0)),)=0,0.00000000001,IFERROR(INDEX(Přehled_body!$E$3:$ED$130,MATCH(Tabulka!$AI33,Přehled_body!$A$3:$A$130,0),MATCH(Tabulka!G$2,Přehled_body!$E$1:$ED$1,0)),)))","v":4},{"$f":"IF(IFERROR(INDEX(Přehled_body!$E$3:$ED$130,MATCH(Tabulka!$AI33,Přehled_body!$A$3:$A$130,0),MATCH(Tabulka!H$2,Přehled_body!$E$1:$ED$1,0)),)=\"\",,IF(IFERROR(INDEX(Přehled_body!$E$3:$ED$130,MATCH(Tabulka!$AI33,Přehled_body!$A$3:$A$130,0),MATCH(Tabulka!H$2,Přehled_body!$E$1:$ED$1,0)),)=0,0.00000000001,IFERROR(INDEX(Přehled_body!$E$3:$ED$130,MATCH(Tabulka!$AI33,Přehled_body!$A$3:$A$130,0),MATCH(Tabulka!H$2,Přehled_body!$E$1:$ED$1,0)),)))","v":0},{"$f":"IF(IFERROR(INDEX(Přehled_body!$E$3:$ED$130,MATCH(Tabulka!$AI33,Přehled_body!$A$3:$A$130,0),MATCH(Tabulka!I$2,Přehled_body!$E$1:$ED$1,0)),)=\"\",,IF(IFERROR(INDEX(Přehled_body!$E$3:$ED$130,MATCH(Tabulka!$AI33,Přehled_body!$A$3:$A$130,0),MATCH(Tabulka!I$2,Přehled_body!$E$1:$ED$1,0)),)=0,0.00000000001,IFERROR(INDEX(Přehled_body!$E$3:$ED$130,MATCH(Tabulka!$AI33,Přehled_body!$A$3:$A$130,0),MATCH(Tabulka!I$2,Přehled_body!$E$1:$ED$1,0)),)))","v":4},{"$f":"IF(IFERROR(INDEX(Přehled_body!$E$3:$ED$130,MATCH(Tabulka!$AI33,Přehled_body!$A$3:$A$130,0),MATCH(Tabulka!J$2,Přehled_body!$E$1:$ED$1,0)),)=\"\",,IF(IFERROR(INDEX(Přehled_body!$E$3:$ED$130,MATCH(Tabulka!$AI33,Přehled_body!$A$3:$A$130,0),MATCH(Tabulka!J$2,Přehled_body!$E$1:$ED$1,0)),)=0,0.00000000001,IFERROR(INDEX(Přehled_body!$E$3:$ED$130,MATCH(Tabulka!$AI33,Přehled_body!$A$3:$A$130,0),MATCH(Tabulka!J$2,Přehled_body!$E$1:$ED$1,0)),)))","v":4},{"$f":"IF(IFERROR(INDEX(Přehled_body!$E$3:$ED$130,MATCH(Tabulka!$AI33,Přehled_body!$A$3:$A$130,0),MATCH(Tabulka!K$2,Přehled_body!$E$1:$ED$1,0)),)=\"\",,IF(IFERROR(INDEX(Přehled_body!$E$3:$ED$130,MATCH(Tabulka!$AI33,Přehled_body!$A$3:$A$130,0),MATCH(Tabulka!K$2,Přehled_body!$E$1:$ED$1,0)),)=0,0.00000000001,IFERROR(INDEX(Přehled_body!$E$3:$ED$130,MATCH(Tabulka!$AI33,Přehled_body!$A$3:$A$130,0),MATCH(Tabulka!K$2,Přehled_body!$E$1:$ED$1,0)),)))","v":4},{"$f":"IF(IFERROR(INDEX(Přehled_body!$E$3:$ED$130,MATCH(Tabulka!$AI33,Přehled_body!$A$3:$A$130,0),MATCH(Tabulka!L$2,Přehled_body!$E$1:$ED$1,0)),)=\"\",,IF(IFERROR(INDEX(Přehled_body!$E$3:$ED$130,MATCH(Tabulka!$AI33,Přehled_body!$A$3:$A$130,0),MATCH(Tabulka!L$2,Přehled_body!$E$1:$ED$1,0)),)=0,0.00000000001,IFERROR(INDEX(Přehled_body!$E$3:$ED$130,MATCH(Tabulka!$AI33,Přehled_body!$A$3:$A$130,0),MATCH(Tabulka!L$2,Přehled_body!$E$1:$ED$1,0)),)))","v":0},{"$f":"IF(IFERROR(INDEX(Přehled_body!$E$3:$ED$130,MATCH(Tabulka!$AI33,Přehled_body!$A$3:$A$130,0),MATCH(Tabulka!M$2,Přehled_body!$E$1:$ED$1,0)),)=\"\",,IF(IFERROR(INDEX(Přehled_body!$E$3:$ED$130,MATCH(Tabulka!$AI33,Přehled_body!$A$3:$A$130,0),MATCH(Tabulka!M$2,Přehled_body!$E$1:$ED$1,0)),)=0,0.00000000001,IFERROR(INDEX(Přehled_body!$E$3:$ED$130,MATCH(Tabulka!$AI33,Přehled_body!$A$3:$A$130,0),MATCH(Tabulka!M$2,Přehled_body!$E$1:$ED$1,0)),)))","v":0},{"$f":"IF(IFERROR(INDEX(Přehled_body!$E$3:$ED$130,MATCH(Tabulka!$AI33,Přehled_body!$A$3:$A$130,0),MATCH(Tabulka!N$2,Přehled_body!$E$1:$ED$1,0)),)=\"\",,IF(IFERROR(INDEX(Přehled_body!$E$3:$ED$130,MATCH(Tabulka!$AI33,Přehled_body!$A$3:$A$130,0),MATCH(Tabulka!N$2,Přehled_body!$E$1:$ED$1,0)),)=0,0.00000000001,IFERROR(INDEX(Přehled_body!$E$3:$ED$130,MATCH(Tabulka!$AI33,Přehled_body!$A$3:$A$130,0),MATCH(Tabulka!N$2,Přehled_body!$E$1:$ED$1,0)),)))","v":0},{"$f":"IF(IFERROR(INDEX(Přehled_body!$E$3:$ED$130,MATCH(Tabulka!$AI33,Přehled_body!$A$3:$A$130,0),MATCH(Tabulka!O$2,Přehled_body!$E$1:$ED$1,0)),)=\"\",,IF(IFERROR(INDEX(Přehled_body!$E$3:$ED$130,MATCH(Tabulka!$AI33,Přehled_body!$A$3:$A$130,0),MATCH(Tabulka!O$2,Přehled_body!$E$1:$ED$1,0)),)=0,0.00000000001,IFERROR(INDEX(Přehled_body!$E$3:$ED$130,MATCH(Tabulka!$AI33,Přehled_body!$A$3:$A$130,0),MATCH(Tabulka!O$2,Přehled_body!$E$1:$ED$1,0)),)))","v":0},{"$f":"IF(IFERROR(INDEX(Přehled_body!$E$3:$ED$130,MATCH(Tabulka!$AI33,Přehled_body!$A$3:$A$130,0),MATCH(Tabulka!P$2,Přehled_body!$E$1:$ED$1,0)),)=\"\",,IF(IFERROR(INDEX(Přehled_body!$E$3:$ED$130,MATCH(Tabulka!$AI33,Přehled_body!$A$3:$A$130,0),MATCH(Tabulka!P$2,Přehled_body!$E$1:$ED$1,0)),)=0,0.00000000001,IFERROR(INDEX(Přehled_body!$E$3:$ED$130,MATCH(Tabulka!$AI33,Přehled_body!$A$3:$A$130,0),MATCH(Tabulka!P$2,Přehled_body!$E$1:$ED$1,0)),)))","v":0},{"$f":"IF(IFERROR(INDEX(Přehled_body!$E$3:$ED$130,MATCH(Tabulka!$AI33,Přehled_body!$A$3:$A$130,0),MATCH(Tabulka!Q$2,Přehled_body!$E$1:$ED$1,0)),)=\"\",,IF(IFERROR(INDEX(Přehled_body!$E$3:$ED$130,MATCH(Tabulka!$AI33,Přehled_body!$A$3:$A$130,0),MATCH(Tabulka!Q$2,Přehled_body!$E$1:$ED$1,0)),)=0,0.00000000001,IFERROR(INDEX(Přehled_body!$E$3:$ED$130,MATCH(Tabulka!$AI33,Přehled_body!$A$3:$A$130,0),MATCH(Tabulka!Q$2,Přehled_body!$E$1:$ED$1,0)),)))","v":0},{"$f":"IF(IFERROR(INDEX(Přehled_body!$E$3:$ED$130,MATCH(Tabulka!$AI33,Přehled_body!$A$3:$A$130,0),MATCH(Tabulka!R$2,Přehled_body!$E$1:$ED$1,0)),)=\"\",,IF(IFERROR(INDEX(Přehled_body!$E$3:$ED$130,MATCH(Tabulka!$AI33,Přehled_body!$A$3:$A$130,0),MATCH(Tabulka!R$2,Přehled_body!$E$1:$ED$1,0)),)=0,0.00000000001,IFERROR(INDEX(Přehled_body!$E$3:$ED$130,MATCH(Tabulka!$AI33,Přehled_body!$A$3:$A$130,0),MATCH(Tabulka!R$2,Přehled_body!$E$1:$ED$1,0)),)))","v":0},{"$f":"IF(IFERROR(INDEX(Přehled_body!$E$3:$ED$130,MATCH(Tabulka!$AI33,Přehled_body!$A$3:$A$130,0),MATCH(Tabulka!S$2,Přehled_body!$E$1:$ED$1,0)),)=\"\",,IF(IFERROR(INDEX(Přehled_body!$E$3:$ED$130,MATCH(Tabulka!$AI33,Přehled_body!$A$3:$A$130,0),MATCH(Tabulka!S$2,Přehled_body!$E$1:$ED$1,0)),)=0,0.00000000001,IFERROR(INDEX(Přehled_body!$E$3:$ED$130,MATCH(Tabulka!$AI33,Přehled_body!$A$3:$A$130,0),MATCH(Tabulka!S$2,Přehled_body!$E$1:$ED$1,0)),)))","v":0},{"$f":"IF(IFERROR(INDEX(Přehled_body!$E$3:$ED$130,MATCH(Tabulka!$AI33,Přehled_body!$A$3:$A$130,0),MATCH(Tabulka!T$2,Přehled_body!$E$1:$ED$1,0)),)=\"\",,IF(IFERROR(INDEX(Přehled_body!$E$3:$ED$130,MATCH(Tabulka!$AI33,Přehled_body!$A$3:$A$130,0),MATCH(Tabulka!T$2,Přehled_body!$E$1:$ED$1,0)),)=0,0.00000000001,IFERROR(INDEX(Přehled_body!$E$3:$ED$130,MATCH(Tabulka!$AI33,Přehled_body!$A$3:$A$130,0),MATCH(Tabulka!T$2,Přehled_body!$E$1:$ED$1,0)),)))","v":0},{"$f":"IF(IFERROR(INDEX(Přehled_body!$E$3:$ED$130,MATCH(Tabulka!$AI33,Přehled_body!$A$3:$A$130,0),MATCH(Tabulka!U$2,Přehled_body!$E$1:$ED$1,0)),)=\"\",,IF(IFERROR(INDEX(Přehled_body!$E$3:$ED$130,MATCH(Tabulka!$AI33,Přehled_body!$A$3:$A$130,0),MATCH(Tabulka!U$2,Přehled_body!$E$1:$ED$1,0)),)=0,0.00000000001,IFERROR(INDEX(Přehled_body!$E$3:$ED$130,MATCH(Tabulka!$AI33,Přehled_body!$A$3:$A$130,0),MATCH(Tabulka!U$2,Přehled_body!$E$1:$ED$1,0)),)))","v":0},{"$f":"IF(IFERROR(INDEX(Přehled_body!$E$3:$ED$130,MATCH(Tabulka!$AI33,Přehled_body!$A$3:$A$130,0),MATCH(Tabulka!V$2,Přehled_body!$E$1:$ED$1,0)),)=\"\",,IF(IFERROR(INDEX(Přehled_body!$E$3:$ED$130,MATCH(Tabulka!$AI33,Přehled_body!$A$3:$A$130,0),MATCH(Tabulka!V$2,Přehled_body!$E$1:$ED$1,0)),)=0,0.00000000001,IFERROR(INDEX(Přehled_body!$E$3:$ED$130,MATCH(Tabulka!$AI33,Přehled_body!$A$3:$A$130,0),MATCH(Tabulka!V$2,Přehled_body!$E$1:$ED$1,0)),)))","v":0},{"$f":"IF(IFERROR(INDEX(Přehled_body!$E$3:$ED$130,MATCH(Tabulka!$AI33,Přehled_body!$A$3:$A$130,0),MATCH(Tabulka!W$2,Přehled_body!$E$1:$ED$1,0)),)=\"\",,IF(IFERROR(INDEX(Přehled_body!$E$3:$ED$130,MATCH(Tabulka!$AI33,Přehled_body!$A$3:$A$130,0),MATCH(Tabulka!W$2,Přehled_body!$E$1:$ED$1,0)),)=0,0.00000000001,IFERROR(INDEX(Přehled_body!$E$3:$ED$130,MATCH(Tabulka!$AI33,Přehled_body!$A$3:$A$130,0),MATCH(Tabulka!W$2,Přehled_body!$E$1:$ED$1,0)),)))","v":0},{"$f":"IF(IFERROR(INDEX(Přehled_body!$E$3:$ED$130,MATCH(Tabulka!$AI33,Přehled_body!$A$3:$A$130,0),MATCH(Tabulka!X$2,Přehled_body!$E$1:$ED$1,0)),)=\"\",,IF(IFERROR(INDEX(Přehled_body!$E$3:$ED$130,MATCH(Tabulka!$AI33,Přehled_body!$A$3:$A$130,0),MATCH(Tabulka!X$2,Přehled_body!$E$1:$ED$1,0)),)=0,0.00000000001,IFERROR(INDEX(Přehled_body!$E$3:$ED$130,MATCH(Tabulka!$AI33,Přehled_body!$A$3:$A$130,0),MATCH(Tabulka!X$2,Přehled_body!$E$1:$ED$1,0)),)))","v":0},{"$f":"IF(IFERROR(INDEX(Přehled_body!$E$3:$ED$130,MATCH(Tabulka!$AI33,Přehled_body!$A$3:$A$130,0),MATCH(Tabulka!Y$2,Přehled_body!$E$1:$ED$1,0)),)=\"\",,IF(IFERROR(INDEX(Přehled_body!$E$3:$ED$130,MATCH(Tabulka!$AI33,Přehled_body!$A$3:$A$130,0),MATCH(Tabulka!Y$2,Přehled_body!$E$1:$ED$1,0)),)=0,0.00000000001,IFERROR(INDEX(Přehled_body!$E$3:$ED$130,MATCH(Tabulka!$AI33,Přehled_body!$A$3:$A$130,0),MATCH(Tabulka!Y$2,Přehled_body!$E$1:$ED$1,0)),)))","v":0},{"$f":"IF(IFERROR(INDEX(Přehled_body!$E$3:$ED$130,MATCH(Tabulka!$AI33,Přehled_body!$A$3:$A$130,0),MATCH(Tabulka!Z$2,Přehled_body!$E$1:$ED$1,0)),)=\"\",,IF(IFERROR(INDEX(Přehled_body!$E$3:$ED$130,MATCH(Tabulka!$AI33,Přehled_body!$A$3:$A$130,0),MATCH(Tabulka!Z$2,Přehled_body!$E$1:$ED$1,0)),)=0,0.00000000001,IFERROR(INDEX(Přehled_body!$E$3:$ED$130,MATCH(Tabulka!$AI33,Přehled_body!$A$3:$A$130,0),MATCH(Tabulka!Z$2,Přehled_body!$E$1:$ED$1,0)),)))","v":0},{"$f":"IF(IFERROR(INDEX(Přehled_body!$E$3:$ED$130,MATCH(Tabulka!$AI33,Přehled_body!$A$3:$A$130,0),MATCH(Tabulka!AA$2,Přehled_body!$E$1:$ED$1,0)),)=\"\",,IF(IFERROR(INDEX(Přehled_body!$E$3:$ED$130,MATCH(Tabulka!$AI33,Přehled_body!$A$3:$A$130,0),MATCH(Tabulka!AA$2,Přehled_body!$E$1:$ED$1,0)),)=0,0.00000000001,IFERROR(INDEX(Přehled_body!$E$3:$ED$130,MATCH(Tabulka!$AI33,Přehled_body!$A$3:$A$130,0),MATCH(Tabulka!AA$2,Přehled_body!$E$1:$ED$1,0)),)))","v":0},{"$f":"IF(IFERROR(INDEX(Přehled_body!$E$3:$ED$130,MATCH(Tabulka!$AI33,Přehled_body!$A$3:$A$130,0),MATCH(Tabulka!AB$2,Přehled_body!$E$1:$ED$1,0)),)=\"\",,IF(IFERROR(INDEX(Přehled_body!$E$3:$ED$130,MATCH(Tabulka!$AI33,Přehled_body!$A$3:$A$130,0),MATCH(Tabulka!AB$2,Přehled_body!$E$1:$ED$1,0)),)=0,0.00000000001,IFERROR(INDEX(Přehled_body!$E$3:$ED$130,MATCH(Tabulka!$AI33,Přehled_body!$A$3:$A$130,0),MATCH(Tabulka!AB$2,Přehled_body!$E$1:$ED$1,0)),)))","v":0},{"$f":"IF(IFERROR(INDEX(Přehled_body!$E$3:$ED$130,MATCH(Tabulka!$AI33,Přehled_body!$A$3:$A$130,0),MATCH(Tabulka!AC$2,Přehled_body!$E$1:$ED$1,0)),)=\"\",,IF(IFERROR(INDEX(Přehled_body!$E$3:$ED$130,MATCH(Tabulka!$AI33,Přehled_body!$A$3:$A$130,0),MATCH(Tabulka!AC$2,Přehled_body!$E$1:$ED$1,0)),)=0,0.00000000001,IFERROR(INDEX(Přehled_body!$E$3:$ED$130,MATCH(Tabulka!$AI33,Přehled_body!$A$3:$A$130,0),MATCH(Tabulka!AC$2,Přehled_body!$E$1:$ED$1,0)),)))","v":0},{"$f":"IF(IFERROR(INDEX(Přehled_body!$E$3:$ED$130,MATCH(Tabulka!$AI33,Přehled_body!$A$3:$A$130,0),MATCH(Tabulka!AD$2,Přehled_body!$E$1:$ED$1,0)),)=\"\",,IF(IFERROR(INDEX(Přehled_body!$E$3:$ED$130,MATCH(Tabulka!$AI33,Přehled_body!$A$3:$A$130,0),MATCH(Tabulka!AD$2,Přehled_body!$E$1:$ED$1,0)),)=0,0.00000000001,IFERROR(INDEX(Přehled_body!$E$3:$ED$130,MATCH(Tabulka!$AI33,Přehled_body!$A$3:$A$130,0),MATCH(Tabulka!AD$2,Přehled_body!$E$1:$ED$1,0)),)))","v":0},{"$f":"IF(SUM($D$29:$AD$33)<1,-90000,SUM(D33:AD33))","v":20},null,null,null,{"$f":"CONCATENATE($B$30,\" \",$B$31,C33)","v":"Míra ŠedivýPoč. kol"}]
[null,null,"Výhry",{"$f":"IF(IFERROR(INDEX(Přehled_body!$E$3:$ED$130,MATCH(Tabulka!$AI34,Přehled_body!$A$3:$A$130,0),MATCH(Tabulka!D$2,Přehled_body!$E$1:$ED$1,0)),)=\"\",,IF(IFERROR(INDEX(Přehled_body!$E$3:$ED$130,MATCH(Tabulka!$AI34,Přehled_body!$A$3:$A$130,0),MATCH(Tabulka!D$2,Přehled_body!$E$1:$ED$1,0)),)=0,0.00000000001,IFERROR(INDEX(Přehled_body!$E$3:$ED$130,MATCH(Tabulka!$AI34,Přehled_body!$A$3:$A$130,0),MATCH(Tabulka!D$2,Přehled_body!$E$1:$ED$1,0)),)))","v":1},{"$f":"IF(IFERROR(INDEX(Přehled_body!$E$3:$ED$130,MATCH(Tabulka!$AI34,Přehled_body!$A$3:$A$130,0),MATCH(Tabulka!E$2,Přehled_body!$E$1:$ED$1,0)),)=\"\",,IF(IFERROR(INDEX(Přehled_body!$E$3:$ED$130,MATCH(Tabulka!$AI34,Přehled_body!$A$3:$A$130,0),MATCH(Tabulka!E$2,Přehled_body!$E$1:$ED$1,0)),)=0,0.00000000001,IFERROR(INDEX(Přehled_body!$E$3:$ED$130,MATCH(Tabulka!$AI34,Přehled_body!$A$3:$A$130,0),MATCH(Tabulka!E$2,Přehled_body!$E$1:$ED$1,0)),)))","v":9.9999999999999994E-12},{"$f":"IF(IFERROR(INDEX(Přehled_body!$E$3:$ED$130,MATCH(Tabulka!$AI34,Přehled_body!$A$3:$A$130,0),MATCH(Tabulka!F$2,Přehled_body!$E$1:$ED$1,0)),)=\"\",,IF(IFERROR(INDEX(Přehled_body!$E$3:$ED$130,MATCH(Tabulka!$AI34,Přehled_body!$A$3:$A$130,0),MATCH(Tabulka!F$2,Přehled_body!$E$1:$ED$1,0)),)=0,0.00000000001,IFERROR(INDEX(Přehled_body!$E$3:$ED$130,MATCH(Tabulka!$AI34,Přehled_body!$A$3:$A$130,0),MATCH(Tabulka!F$2,Přehled_body!$E$1:$ED$1,0)),)))","v":9.9999999999999994E-12},{"$f":"IF(IFERROR(INDEX(Přehled_body!$E$3:$ED$130,MATCH(Tabulka!$AI34,Přehled_body!$A$3:$A$130,0),MATCH(Tabulka!G$2,Přehled_body!$E$1:$ED$1,0)),)=\"\",,IF(IFERROR(INDEX(Přehled_body!$E$3:$ED$130,MATCH(Tabulka!$AI34,Přehled_body!$A$3:$A$130,0),MATCH(Tabulka!G$2,Přehled_body!$E$1:$ED$1,0)),)=0,0.00000000001,IFERROR(INDEX(Přehled_body!$E$3:$ED$130,MATCH(Tabulka!$AI34,Přehled_body!$A$3:$A$130,0),MATCH(Tabulka!G$2,Přehled_body!$E$1:$ED$1,0)),)))","v":9.9999999999999994E-12},{"$f":"IF(IFERROR(INDEX(Přehled_body!$E$3:$ED$130,MATCH(Tabulka!$AI34,Přehled_body!$A$3:$A$130,0),MATCH(Tabulka!H$2,Přehled_body!$E$1:$ED$1,0)),)=\"\",,IF(IFERROR(INDEX(Přehled_body!$E$3:$ED$130,MATCH(Tabulka!$AI34,Přehled_body!$A$3:$A$130,0),MATCH(Tabulka!H$2,Přehled_body!$E$1:$ED$1,0)),)=0,0.00000000001,IFERROR(INDEX(Přehled_body!$E$3:$ED$130,MATCH(Tabulka!$AI34,Přehled_body!$A$3:$A$130,0),MATCH(Tabulka!H$2,Přehled_body!$E$1:$ED$1,0)),)))","v":9.9999999999999994E-12},{"$f":"IF(IFERROR(INDEX(Přehled_body!$E$3:$ED$130,MATCH(Tabulka!$AI34,Přehled_body!$A$3:$A$130,0),MATCH(Tabulka!I$2,Přehled_body!$E$1:$ED$1,0)),)=\"\",,IF(IFERROR(INDEX(Přehled_body!$E$3:$ED$130,MATCH(Tabulka!$AI34,Přehled_body!$A$3:$A$130,0),MATCH(Tabulka!I$2,Přehled_body!$E$1:$ED$1,0)),)=0,0.00000000001,IFERROR(INDEX(Přehled_body!$E$3:$ED$130,MATCH(Tabulka!$AI34,Přehled_body!$A$3:$A$130,0),MATCH(Tabulka!I$2,Přehled_body!$E$1:$ED$1,0)),)))","v":9.9999999999999994E-12},{"$f":"IF(IFERROR(INDEX(Přehled_body!$E$3:$ED$130,MATCH(Tabulka!$AI34,Přehled_body!$A$3:$A$130,0),MATCH(Tabulka!J$2,Přehled_body!$E$1:$ED$1,0)),)=\"\",,IF(IFERROR(INDEX(Přehled_body!$E$3:$ED$130,MATCH(Tabulka!$AI34,Přehled_body!$A$3:$A$130,0),MATCH(Tabulka!J$2,Přehled_body!$E$1:$ED$1,0)),)=0,0.00000000001,IFERROR(INDEX(Přehled_body!$E$3:$ED$130,MATCH(Tabulka!$AI34,Přehled_body!$A$3:$A$130,0),MATCH(Tabulka!J$2,Přehled_body!$E$1:$ED$1,0)),)))","v":9.9999999999999994E-12},{"$f":"IF(IFERROR(INDEX(Přehled_body!$E$3:$ED$130,MATCH(Tabulka!$AI34,Přehled_body!$A$3:$A$130,0),MATCH(Tabulka!K$2,Přehled_body!$E$1:$ED$1,0)),)=\"\",,IF(IFERROR(INDEX(Přehled_body!$E$3:$ED$130,MATCH(Tabulka!$AI34,Přehled_body!$A$3:$A$130,0),MATCH(Tabulka!K$2,Přehled_body!$E$1:$ED$1,0)),)=0,0.00000000001,IFERROR(INDEX(Přehled_body!$E$3:$ED$130,MATCH(Tabulka!$AI34,Přehled_body!$A$3:$A$130,0),MATCH(Tabulka!K$2,Přehled_body!$E$1:$ED$1,0)),)))","v":1},{"$f":"IF(IFERROR(INDEX(Přehled_body!$E$3:$ED$130,MATCH(Tabulka!$AI34,Přehled_body!$A$3:$A$130,0),MATCH(Tabulka!L$2,Přehled_body!$E$1:$ED$1,0)),)=\"\",,IF(IFERROR(INDEX(Přehled_body!$E$3:$ED$130,MATCH(Tabulka!$AI34,Přehled_body!$A$3:$A$130,0),MATCH(Tabulka!L$2,Přehled_body!$E$1:$ED$1,0)),)=0,0.00000000001,IFERROR(INDEX(Přehled_body!$E$3:$ED$130,MATCH(Tabulka!$AI34,Přehled_body!$A$3:$A$130,0),MATCH(Tabulka!L$2,Přehled_body!$E$1:$ED$1,0)),)))","v":9.9999999999999994E-12},{"$f":"IF(IFERROR(INDEX(Přehled_body!$E$3:$ED$130,MATCH(Tabulka!$AI34,Přehled_body!$A$3:$A$130,0),MATCH(Tabulka!M$2,Přehled_body!$E$1:$ED$1,0)),)=\"\",,IF(IFERROR(INDEX(Přehled_body!$E$3:$ED$130,MATCH(Tabulka!$AI34,Přehled_body!$A$3:$A$130,0),MATCH(Tabulka!M$2,Přehled_body!$E$1:$ED$1,0)),)=0,0.00000000001,IFERROR(INDEX(Přehled_body!$E$3:$ED$130,MATCH(Tabulka!$AI34,Přehled_body!$A$3:$A$130,0),MATCH(Tabulka!M$2,Přehled_body!$E$1:$ED$1,0)),)))","v":1},{"$f":"IF(IFERROR(INDEX(Přehled_body!$E$3:$ED$130,MATCH(Tabulka!$AI34,Přehled_body!$A$3:$A$130,0),MATCH(Tabulka!N$2,Přehled_body!$E$1:$ED$1,0)),)=\"\",,IF(IFERROR(INDEX(Přehled_body!$E$3:$ED$130,MATCH(Tabulka!$AI34,Přehled_body!$A$3:$A$130,0),MATCH(Tabulka!N$2,Přehled_body!$E$1:$ED$1,0)),)=0,0.00000000001,IFERROR(INDEX(Přehled_body!$E$3:$ED$130,MATCH(Tabulka!$AI34,Přehled_body!$A$3:$A$130,0),MATCH(Tabulka!N$2,Přehled_body!$E$1:$ED$1,0)),)))","v":0},{"$f":"IF(IFERROR(INDEX(Přehled_body!$E$3:$ED$130,MATCH(Tabulka!$AI34,Přehled_body!$A$3:$A$130,0),MATCH(Tabulka!O$2,Přehled_body!$E$1:$ED$1,0)),)=\"\",,IF(IFERROR(INDEX(Přehled_body!$E$3:$ED$130,MATCH(Tabulka!$AI34,Přehled_body!$A$3:$A$130,0),MATCH(Tabulka!O$2,Přehled_body!$E$1:$ED$1,0)),)=0,0.00000000001,IFERROR(INDEX(Přehled_body!$E$3:$ED$130,MATCH(Tabulka!$AI34,Přehled_body!$A$3:$A$130,0),MATCH(Tabulka!O$2,Přehled_body!$E$1:$ED$1,0)),)))","v":0},{"$f":"IF(IFERROR(INDEX(Přehled_body!$E$3:$ED$130,MATCH(Tabulka!$AI34,Přehled_body!$A$3:$A$130,0),MATCH(Tabulka!P$2,Přehled_body!$E$1:$ED$1,0)),)=\"\",,IF(IFERROR(INDEX(Přehled_body!$E$3:$ED$130,MATCH(Tabulka!$AI34,Přehled_body!$A$3:$A$130,0),MATCH(Tabulka!P$2,Přehled_body!$E$1:$ED$1,0)),)=0,0.00000000001,IFERROR(INDEX(Přehled_body!$E$3:$ED$130,MATCH(Tabulka!$AI34,Přehled_body!$A$3:$A$130,0),MATCH(Tabulka!P$2,Přehled_body!$E$1:$ED$1,0)),)))","v":0},{"$f":"IF(IFERROR(INDEX(Přehled_body!$E$3:$ED$130,MATCH(Tabulka!$AI34,Přehled_body!$A$3:$A$130,0),MATCH(Tabulka!Q$2,Přehled_body!$E$1:$ED$1,0)),)=\"\",,IF(IFERROR(INDEX(Přehled_body!$E$3:$ED$130,MATCH(Tabulka!$AI34,Přehled_body!$A$3:$A$130,0),MATCH(Tabulka!Q$2,Přehled_body!$E$1:$ED$1,0)),)=0,0.00000000001,IFERROR(INDEX(Přehled_body!$E$3:$ED$130,MATCH(Tabulka!$AI34,Přehled_body!$A$3:$A$130,0),MATCH(Tabulka!Q$2,Přehled_body!$E$1:$ED$1,0)),)))","v":0},{"$f":"IF(IFERROR(INDEX(Přehled_body!$E$3:$ED$130,MATCH(Tabulka!$AI34,Přehled_body!$A$3:$A$130,0),MATCH(Tabulka!R$2,Přehled_body!$E$1:$ED$1,0)),)=\"\",,IF(IFERROR(INDEX(Přehled_body!$E$3:$ED$130,MATCH(Tabulka!$AI34,Přehled_body!$A$3:$A$130,0),MATCH(Tabulka!R$2,Přehled_body!$E$1:$ED$1,0)),)=0,0.00000000001,IFERROR(INDEX(Přehled_body!$E$3:$ED$130,MATCH(Tabulka!$AI34,Přehled_body!$A$3:$A$130,0),MATCH(Tabulka!R$2,Přehled_body!$E$1:$ED$1,0)),)))","v":0},{"$f":"IF(IFERROR(INDEX(Přehled_body!$E$3:$ED$130,MATCH(Tabulka!$AI34,Přehled_body!$A$3:$A$130,0),MATCH(Tabulka!S$2,Přehled_body!$E$1:$ED$1,0)),)=\"\",,IF(IFERROR(INDEX(Přehled_body!$E$3:$ED$130,MATCH(Tabulka!$AI34,Přehled_body!$A$3:$A$130,0),MATCH(Tabulka!S$2,Přehled_body!$E$1:$ED$1,0)),)=0,0.00000000001,IFERROR(INDEX(Přehled_body!$E$3:$ED$130,MATCH(Tabulka!$AI34,Přehled_body!$A$3:$A$130,0),MATCH(Tabulka!S$2,Přehled_body!$E$1:$ED$1,0)),)))","v":0},{"$f":"IF(IFERROR(INDEX(Přehled_body!$E$3:$ED$130,MATCH(Tabulka!$AI34,Přehled_body!$A$3:$A$130,0),MATCH(Tabulka!T$2,Přehled_body!$E$1:$ED$1,0)),)=\"\",,IF(IFERROR(INDEX(Přehled_body!$E$3:$ED$130,MATCH(Tabulka!$AI34,Přehled_body!$A$3:$A$130,0),MATCH(Tabulka!T$2,Přehled_body!$E$1:$ED$1,0)),)=0,0.00000000001,IFERROR(INDEX(Přehled_body!$E$3:$ED$130,MATCH(Tabulka!$AI34,Přehled_body!$A$3:$A$130,0),MATCH(Tabulka!T$2,Přehled_body!$E$1:$ED$1,0)),)))","v":0},{"$f":"IF(IFERROR(INDEX(Přehled_body!$E$3:$ED$130,MATCH(Tabulka!$AI34,Přehled_body!$A$3:$A$130,0),MATCH(Tabulka!U$2,Přehled_body!$E$1:$ED$1,0)),)=\"\",,IF(IFERROR(INDEX(Přehled_body!$E$3:$ED$130,MATCH(Tabulka!$AI34,Přehled_body!$A$3:$A$130,0),MATCH(Tabulka!U$2,Přehled_body!$E$1:$ED$1,0)),)=0,0.00000000001,IFERROR(INDEX(Přehled_body!$E$3:$ED$130,MATCH(Tabulka!$AI34,Přehled_body!$A$3:$A$130,0),MATCH(Tabulka!U$2,Přehled_body!$E$1:$ED$1,0)),)))","v":0},{"$f":"IF(IFERROR(INDEX(Přehled_body!$E$3:$ED$130,MATCH(Tabulka!$AI34,Přehled_body!$A$3:$A$130,0),MATCH(Tabulka!V$2,Přehled_body!$E$1:$ED$1,0)),)=\"\",,IF(IFERROR(INDEX(Přehled_body!$E$3:$ED$130,MATCH(Tabulka!$AI34,Přehled_body!$A$3:$A$130,0),MATCH(Tabulka!V$2,Přehled_body!$E$1:$ED$1,0)),)=0,0.00000000001,IFERROR(INDEX(Přehled_body!$E$3:$ED$130,MATCH(Tabulka!$AI34,Přehled_body!$A$3:$A$130,0),MATCH(Tabulka!V$2,Přehled_body!$E$1:$ED$1,0)),)))","v":0},{"$f":"IF(IFERROR(INDEX(Přehled_body!$E$3:$ED$130,MATCH(Tabulka!$AI34,Přehled_body!$A$3:$A$130,0),MATCH(Tabulka!W$2,Přehled_body!$E$1:$ED$1,0)),)=\"\",,IF(IFERROR(INDEX(Přehled_body!$E$3:$ED$130,MATCH(Tabulka!$AI34,Přehled_body!$A$3:$A$130,0),MATCH(Tabulka!W$2,Přehled_body!$E$1:$ED$1,0)),)=0,0.00000000001,IFERROR(INDEX(Přehled_body!$E$3:$ED$130,MATCH(Tabulka!$AI34,Přehled_body!$A$3:$A$130,0),MATCH(Tabulka!W$2,Přehled_body!$E$1:$ED$1,0)),)))","v":0},{"$f":"IF(IFERROR(INDEX(Přehled_body!$E$3:$ED$130,MATCH(Tabulka!$AI34,Přehled_body!$A$3:$A$130,0),MATCH(Tabulka!X$2,Přehled_body!$E$1:$ED$1,0)),)=\"\",,IF(IFERROR(INDEX(Přehled_body!$E$3:$ED$130,MATCH(Tabulka!$AI34,Přehled_body!$A$3:$A$130,0),MATCH(Tabulka!X$2,Přehled_body!$E$1:$ED$1,0)),)=0,0.00000000001,IFERROR(INDEX(Přehled_body!$E$3:$ED$130,MATCH(Tabulka!$AI34,Přehled_body!$A$3:$A$130,0),MATCH(Tabulka!X$2,Přehled_body!$E$1:$ED$1,0)),)))","v":0},{"$f":"IF(IFERROR(INDEX(Přehled_body!$E$3:$ED$130,MATCH(Tabulka!$AI34,Přehled_body!$A$3:$A$130,0),MATCH(Tabulka!Y$2,Přehled_body!$E$1:$ED$1,0)),)=\"\",,IF(IFERROR(INDEX(Přehled_body!$E$3:$ED$130,MATCH(Tabulka!$AI34,Přehled_body!$A$3:$A$130,0),MATCH(Tabulka!Y$2,Přehled_body!$E$1:$ED$1,0)),)=0,0.00000000001,IFERROR(INDEX(Přehled_body!$E$3:$ED$130,MATCH(Tabulka!$AI34,Přehled_body!$A$3:$A$130,0),MATCH(Tabulka!Y$2,Přehled_body!$E$1:$ED$1,0)),)))","v":0},{"$f":"IF(IFERROR(INDEX(Přehled_body!$E$3:$ED$130,MATCH(Tabulka!$AI34,Přehled_body!$A$3:$A$130,0),MATCH(Tabulka!Z$2,Přehled_body!$E$1:$ED$1,0)),)=\"\",,IF(IFERROR(INDEX(Přehled_body!$E$3:$ED$130,MATCH(Tabulka!$AI34,Přehled_body!$A$3:$A$130,0),MATCH(Tabulka!Z$2,Přehled_body!$E$1:$ED$1,0)),)=0,0.00000000001,IFERROR(INDEX(Přehled_body!$E$3:$ED$130,MATCH(Tabulka!$AI34,Přehled_body!$A$3:$A$130,0),MATCH(Tabulka!Z$2,Přehled_body!$E$1:$ED$1,0)),)))","v":0},{"$f":"IF(IFERROR(INDEX(Přehled_body!$E$3:$ED$130,MATCH(Tabulka!$AI34,Přehled_body!$A$3:$A$130,0),MATCH(Tabulka!AA$2,Přehled_body!$E$1:$ED$1,0)),)=\"\",,IF(IFERROR(INDEX(Přehled_body!$E$3:$ED$130,MATCH(Tabulka!$AI34,Přehled_body!$A$3:$A$130,0),MATCH(Tabulka!AA$2,Přehled_body!$E$1:$ED$1,0)),)=0,0.00000000001,IFERROR(INDEX(Přehled_body!$E$3:$ED$130,MATCH(Tabulka!$AI34,Přehled_body!$A$3:$A$130,0),MATCH(Tabulka!AA$2,Přehled_body!$E$1:$ED$1,0)),)))","v":0},{"$f":"IF(IFERROR(INDEX(Přehled_body!$E$3:$ED$130,MATCH(Tabulka!$AI34,Přehled_body!$A$3:$A$130,0),MATCH(Tabulka!AB$2,Přehled_body!$E$1:$ED$1,0)),)=\"\",,IF(IFERROR(INDEX(Přehled_body!$E$3:$ED$130,MATCH(Tabulka!$AI34,Přehled_body!$A$3:$A$130,0),MATCH(Tabulka!AB$2,Přehled_body!$E$1:$ED$1,0)),)=0,0.00000000001,IFERROR(INDEX(Přehled_body!$E$3:$ED$130,MATCH(Tabulka!$AI34,Přehled_body!$A$3:$A$130,0),MATCH(Tabulka!AB$2,Přehled_body!$E$1:$ED$1,0)),)))","v":0},{"$f":"IF(IFERROR(INDEX(Přehled_body!$E$3:$ED$130,MATCH(Tabulka!$AI34,Přehled_body!$A$3:$A$130,0),MATCH(Tabulka!AC$2,Přehled_body!$E$1:$ED$1,0)),)=\"\",,IF(IFERROR(INDEX(Přehled_body!$E$3:$ED$130,MATCH(Tabulka!$AI34,Přehled_body!$A$3:$A$130,0),MATCH(Tabulka!AC$2,Přehled_body!$E$1:$ED$1,0)),)=0,0.00000000001,IFERROR(INDEX(Přehled_body!$E$3:$ED$130,MATCH(Tabulka!$AI34,Přehled_body!$A$3:$A$130,0),MATCH(Tabulka!AC$2,Přehled_body!$E$1:$ED$1,0)),)))","v":0},{"$f":"IF(IFERROR(INDEX(Přehled_body!$E$3:$ED$130,MATCH(Tabulka!$AI34,Přehled_body!$A$3:$A$130,0),MATCH(Tabulka!AD$2,Přehled_body!$E$1:$ED$1,0)),)=\"\",,IF(IFERROR(INDEX(Přehled_body!$E$3:$ED$130,MATCH(Tabulka!$AI34,Přehled_body!$A$3:$A$130,0),MATCH(Tabulka!AD$2,Přehled_body!$E$1:$ED$1,0)),)=0,0.00000000001,IFERROR(INDEX(Přehled_body!$E$3:$ED$130,MATCH(Tabulka!$AI34,Přehled_body!$A$3:$A$130,0),MATCH(Tabulka!AD$2,Přehled_body!$E$1:$ED$1,0)),)))","v":0},{"$f":"IF(SUM($D$34:$AD$38)<1,-90000,SUM(D34:AD34))","v":3.00000000007},null,{"$f":"COUNTIF(D34:AD34,\">0\")","v":10},null,{"$f":"CONCATENATE($B$35,\" \",$B$36,C34)","v":"Jiří BlínVýhry"}]
[{"$f":"CONCATENATE(B35,\" \",B36)","v":"Jiří Blín"},"Jiří","Prohry",{"$f":"IF(IFERROR(INDEX(Přehled_body!$E$3:$ED$130,MATCH(Tabulka!$AI35,Přehled_body!$A$3:$A$130,0),MATCH(Tabulka!D$2,Přehled_body!$E$1:$ED$1,0)),)=\"\",,IF(IFERROR(INDEX(Přehled_body!$E$3:$ED$130,MATCH(Tabulka!$AI35,Přehled_body!$A$3:$A$130,0),MATCH(Tabulka!D$2,Přehled_body!$E$1:$ED$1,0)),)=0,0.00000000001,IFERROR(INDEX(Přehled_body!$E$3:$ED$130,MATCH(Tabulka!$AI35,Přehled_body!$A$3:$A$130,0),MATCH(Tabulka!D$2,Přehled_body!$E$1:$ED$1,0)),)))","v":1},{"$f":"IF(IFERROR(INDEX(Přehled_body!$E$3:$ED$130,MATCH(Tabulka!$AI35,Přehled_body!$A$3:$A$130,0),MATCH(Tabulka!E$2,Přehled_body!$E$1:$ED$1,0)),)=\"\",,IF(IFERROR(INDEX(Přehled_body!$E$3:$ED$130,MATCH(Tabulka!$AI35,Přehled_body!$A$3:$A$130,0),MATCH(Tabulka!E$2,Přehled_body!$E$1:$ED$1,0)),)=0,0.00000000001,IFERROR(INDEX(Přehled_body!$E$3:$ED$130,MATCH(Tabulka!$AI35,Přehled_body!$A$3:$A$130,0),MATCH(Tabulka!E$2,Přehled_body!$E$1:$ED$1,0)),)))","v":2},{"$f":"IF(IFERROR(INDEX(Přehled_body!$E$3:$ED$130,MATCH(Tabulka!$AI35,Přehled_body!$A$3:$A$130,0),MATCH(Tabulka!F$2,Přehled_body!$E$1:$ED$1,0)),)=\"\",,IF(IFERROR(INDEX(Přehled_body!$E$3:$ED$130,MATCH(Tabulka!$AI35,Přehled_body!$A$3:$A$130,0),MATCH(Tabulka!F$2,Přehled_body!$E$1:$ED$1,0)),)=0,0.00000000001,IFERROR(INDEX(Přehled_body!$E$3:$ED$130,MATCH(Tabulka!$AI35,Přehled_body!$A$3:$A$130,0),MATCH(Tabulka!F$2,Přehled_body!$E$1:$ED$1,0)),)))","v":3},{"$f":"IF(IFERROR(INDEX(Přehled_body!$E$3:$ED$130,MATCH(Tabulka!$AI35,Přehled_body!$A$3:$A$130,0),MATCH(Tabulka!G$2,Přehled_body!$E$1:$ED$1,0)),)=\"\",,IF(IFERROR(INDEX(Přehled_body!$E$3:$ED$130,MATCH(Tabulka!$AI35,Přehled_body!$A$3:$A$130,0),MATCH(Tabulka!G$2,Přehled_body!$E$1:$ED$1,0)),)=0,0.00000000001,IFERROR(INDEX(Přehled_body!$E$3:$ED$130,MATCH(Tabulka!$AI35,Přehled_body!$A$3:$A$130,0),MATCH(Tabulka!G$2,Přehled_body!$E$1:$ED$1,0)),)))","v":9.9999999999999994E-12},{"$f":"IF(IFERROR(INDEX(Přehled_body!$E$3:$ED$130,MATCH(Tabulka!$AI35,Přehled_body!$A$3:$A$130,0),MATCH(Tabulka!H$2,Přehled_body!$E$1:$ED$1,0)),)=\"\",,IF(IFERROR(INDEX(Přehled_body!$E$3:$ED$130,MATCH(Tabulka!$AI35,Přehled_body!$A$3:$A$130,0),MATCH(Tabulka!H$2,Přehled_body!$E$1:$ED$1,0)),)=0,0.00000000001,IFERROR(INDEX(Přehled_body!$E$3:$ED$130,MATCH(Tabulka!$AI35,Přehled_body!$A$3:$A$130,0),MATCH(Tabulka!H$2,Přehled_body!$E$1:$ED$1,0)),)))","v":9.9999999999999994E-12},{"$f":"IF(IFERROR(INDEX(Přehled_body!$E$3:$ED$130,MATCH(Tabulka!$AI35,Přehled_body!$A$3:$A$130,0),MATCH(Tabulka!I$2,Přehled_body!$E$1:$ED$1,0)),)=\"\",,IF(IFERROR(INDEX(Přehled_body!$E$3:$ED$130,MATCH(Tabulka!$AI35,Přehled_body!$A$3:$A$130,0),MATCH(Tabulka!I$2,Přehled_body!$E$1:$ED$1,0)),)=0,0.00000000001,IFERROR(INDEX(Přehled_body!$E$3:$ED$130,MATCH(Tabulka!$AI35,Přehled_body!$A$3:$A$130,0),MATCH(Tabulka!I$2,Přehled_body!$E$1:$ED$1,0)),)))","v":1},{"$f":"IF(IFERROR(INDEX(Přehled_body!$E$3:$ED$130,MATCH(Tabulka!$AI35,Přehled_body!$A$3:$A$130,0),MATCH(Tabulka!J$2,Přehled_body!$E$1:$ED$1,0)),)=\"\",,IF(IFERROR(INDEX(Přehled_body!$E$3:$ED$130,MATCH(Tabulka!$AI35,Přehled_body!$A$3:$A$130,0),MATCH(Tabulka!J$2,Přehled_body!$E$1:$ED$1,0)),)=0,0.00000000001,IFERROR(INDEX(Přehled_body!$E$3:$ED$130,MATCH(Tabulka!$AI35,Přehled_body!$A$3:$A$130,0),MATCH(Tabulka!J$2,Přehled_body!$E$1:$ED$1,0)),)))","v":1},{"$f":"IF(IFERROR(INDEX(Přehled_body!$E$3:$ED$130,MATCH(Tabulka!$AI35,Přehled_body!$A$3:$A$130,0),MATCH(Tabulka!K$2,Přehled_body!$E$1:$ED$1,0)),)=\"\",,IF(IFERROR(INDEX(Přehled_body!$E$3:$ED$130,MATCH(Tabulka!$AI35,Přehled_body!$A$3:$A$130,0),MATCH(Tabulka!K$2,Přehled_body!$E$1:$ED$1,0)),)=0,0.00000000001,IFERROR(INDEX(Přehled_body!$E$3:$ED$130,MATCH(Tabulka!$AI35,Přehled_body!$A$3:$A$130,0),MATCH(Tabulka!K$2,Přehled_body!$E$1:$ED$1,0)),)))","v":2},{"$f":"IF(IFERROR(INDEX(Přehled_body!$E$3:$ED$130,MATCH(Tabulka!$AI35,Přehled_body!$A$3:$A$130,0),MATCH(Tabulka!L$2,Přehled_body!$E$1:$ED$1,0)),)=\"\",,IF(IFERROR(INDEX(Přehled_body!$E$3:$ED$130,MATCH(Tabulka!$AI35,Přehled_body!$A$3:$A$130,0),MATCH(Tabulka!L$2,Přehled_body!$E$1:$ED$1,0)),)=0,0.00000000001,IFERROR(INDEX(Přehled_body!$E$3:$ED$130,MATCH(Tabulka!$AI35,Přehled_body!$A$3:$A$130,0),MATCH(Tabulka!L$2,Přehled_body!$E$1:$ED$1,0)),)))","v":1},{"$f":"IF(IFERROR(INDEX(Přehled_body!$E$3:$ED$130,MATCH(Tabulka!$AI35,Přehled_body!$A$3:$A$130,0),MATCH(Tabulka!M$2,Přehled_body!$E$1:$ED$1,0)),)=\"\",,IF(IFERROR(INDEX(Přehled_body!$E$3:$ED$130,MATCH(Tabulka!$AI35,Přehled_body!$A$3:$A$130,0),MATCH(Tabulka!M$2,Přehled_body!$E$1:$ED$1,0)),)=0,0.00000000001,IFERROR(INDEX(Přehled_body!$E$3:$ED$130,MATCH(Tabulka!$AI35,Přehled_body!$A$3:$A$130,0),MATCH(Tabulka!M$2,Přehled_body!$E$1:$ED$1,0)),)))","v":9.9999999999999994E-12},{"$f":"IF(IFERROR(INDEX(Přehled_body!$E$3:$ED$130,MATCH(Tabulka!$AI35,Přehled_body!$A$3:$A$130,0),MATCH(Tabulka!N$2,Přehled_body!$E$1:$ED$1,0)),)=\"\",,IF(IFERROR(INDEX(Přehled_body!$E$3:$ED$130,MATCH(Tabulka!$AI35,Přehled_body!$A$3:$A$130,0),MATCH(Tabulka!N$2,Přehled_body!$E$1:$ED$1,0)),)=0,0.00000000001,IFERROR(INDEX(Přehled_body!$E$3:$ED$130,MATCH(Tabulka!$AI35,Přehled_body!$A$3:$A$130,0),MATCH(Tabulka!N$2,Přehled_body!$E$1:$ED$1,0)),)))","v":0},{"$f":"IF(IFERROR(INDEX(Přehled_body!$E$3:$ED$130,MATCH(Tabulka!$AI35,Přehled_body!$A$3:$A$130,0),MATCH(Tabulka!O$2,Přehled_body!$E$1:$ED$1,0)),)=\"\",,IF(IFERROR(INDEX(Přehled_body!$E$3:$ED$130,MATCH(Tabulka!$AI35,Přehled_body!$A$3:$A$130,0),MATCH(Tabulka!O$2,Přehled_body!$E$1:$ED$1,0)),)=0,0.00000000001,IFERROR(INDEX(Přehled_body!$E$3:$ED$130,MATCH(Tabulka!$AI35,Přehled_body!$A$3:$A$130,0),MATCH(Tabulka!O$2,Přehled_body!$E$1:$ED$1,0)),)))","v":0},{"$f":"IF(IFERROR(INDEX(Přehled_body!$E$3:$ED$130,MATCH(Tabulka!$AI35,Přehled_body!$A$3:$A$130,0),MATCH(Tabulka!P$2,Přehled_body!$E$1:$ED$1,0)),)=\"\",,IF(IFERROR(INDEX(Přehled_body!$E$3:$ED$130,MATCH(Tabulka!$AI35,Přehled_body!$A$3:$A$130,0),MATCH(Tabulka!P$2,Přehled_body!$E$1:$ED$1,0)),)=0,0.00000000001,IFERROR(INDEX(Přehled_body!$E$3:$ED$130,MATCH(Tabulka!$AI35,Přehled_body!$A$3:$A$130,0),MATCH(Tabulka!P$2,Přehled_body!$E$1:$ED$1,0)),)))","v":0},{"$f":"IF(IFERROR(INDEX(Přehled_body!$E$3:$ED$130,MATCH(Tabulka!$AI35,Přehled_body!$A$3:$A$130,0),MATCH(Tabulka!Q$2,Přehled_body!$E$1:$ED$1,0)),)=\"\",,IF(IFERROR(INDEX(Přehled_body!$E$3:$ED$130,MATCH(Tabulka!$AI35,Přehled_body!$A$3:$A$130,0),MATCH(Tabulka!Q$2,Přehled_body!$E$1:$ED$1,0)),)=0,0.00000000001,IFERROR(INDEX(Přehled_body!$E$3:$ED$130,MATCH(Tabulka!$AI35,Přehled_body!$A$3:$A$130,0),MATCH(Tabulka!Q$2,Přehled_body!$E$1:$ED$1,0)),)))","v":0},{"$f":"IF(IFERROR(INDEX(Přehled_body!$E$3:$ED$130,MATCH(Tabulka!$AI35,Přehled_body!$A$3:$A$130,0),MATCH(Tabulka!R$2,Přehled_body!$E$1:$ED$1,0)),)=\"\",,IF(IFERROR(INDEX(Přehled_body!$E$3:$ED$130,MATCH(Tabulka!$AI35,Přehled_body!$A$3:$A$130,0),MATCH(Tabulka!R$2,Přehled_body!$E$1:$ED$1,0)),)=0,0.00000000001,IFERROR(INDEX(Přehled_body!$E$3:$ED$130,MATCH(Tabulka!$AI35,Přehled_body!$A$3:$A$130,0),MATCH(Tabulka!R$2,Přehled_body!$E$1:$ED$1,0)),)))","v":0},{"$f":"IF(IFERROR(INDEX(Přehled_body!$E$3:$ED$130,MATCH(Tabulka!$AI35,Přehled_body!$A$3:$A$130,0),MATCH(Tabulka!S$2,Přehled_body!$E$1:$ED$1,0)),)=\"\",,IF(IFERROR(INDEX(Přehled_body!$E$3:$ED$130,MATCH(Tabulka!$AI35,Přehled_body!$A$3:$A$130,0),MATCH(Tabulka!S$2,Přehled_body!$E$1:$ED$1,0)),)=0,0.00000000001,IFERROR(INDEX(Přehled_body!$E$3:$ED$130,MATCH(Tabulka!$AI35,Přehled_body!$A$3:$A$130,0),MATCH(Tabulka!S$2,Přehled_body!$E$1:$ED$1,0)),)))","v":0},{"$f":"IF(IFERROR(INDEX(Přehled_body!$E$3:$ED$130,MATCH(Tabulka!$AI35,Přehled_body!$A$3:$A$130,0),MATCH(Tabulka!T$2,Přehled_body!$E$1:$ED$1,0)),)=\"\",,IF(IFERROR(INDEX(Přehled_body!$E$3:$ED$130,MATCH(Tabulka!$AI35,Přehled_body!$A$3:$A$130,0),MATCH(Tabulka!T$2,Přehled_body!$E$1:$ED$1,0)),)=0,0.00000000001,IFERROR(INDEX(Přehled_body!$E$3:$ED$130,MATCH(Tabulka!$AI35,Přehled_body!$A$3:$A$130,0),MATCH(Tabulka!T$2,Přehled_body!$E$1:$ED$1,0)),)))","v":0},{"$f":"IF(IFERROR(INDEX(Přehled_body!$E$3:$ED$130,MATCH(Tabulka!$AI35,Přehled_body!$A$3:$A$130,0),MATCH(Tabulka!U$2,Přehled_body!$E$1:$ED$1,0)),)=\"\",,IF(IFERROR(INDEX(Přehled_body!$E$3:$ED$130,MATCH(Tabulka!$AI35,Přehled_body!$A$3:$A$130,0),MATCH(Tabulka!U$2,Přehled_body!$E$1:$ED$1,0)),)=0,0.00000000001,IFERROR(INDEX(Přehled_body!$E$3:$ED$130,MATCH(Tabulka!$AI35,Přehled_body!$A$3:$A$130,0),MATCH(Tabulka!U$2,Přehled_body!$E$1:$ED$1,0)),)))","v":0},{"$f":"IF(IFERROR(INDEX(Přehled_body!$E$3:$ED$130,MATCH(Tabulka!$AI35,Přehled_body!$A$3:$A$130,0),MATCH(Tabulka!V$2,Přehled_body!$E$1:$ED$1,0)),)=\"\",,IF(IFERROR(INDEX(Přehled_body!$E$3:$ED$130,MATCH(Tabulka!$AI35,Přehled_body!$A$3:$A$130,0),MATCH(Tabulka!V$2,Přehled_body!$E$1:$ED$1,0)),)=0,0.00000000001,IFERROR(INDEX(Přehled_body!$E$3:$ED$130,MATCH(Tabulka!$AI35,Přehled_body!$A$3:$A$130,0),MATCH(Tabulka!V$2,Přehled_body!$E$1:$ED$1,0)),)))","v":0},{"$f":"IF(IFERROR(INDEX(Přehled_body!$E$3:$ED$130,MATCH(Tabulka!$AI35,Přehled_body!$A$3:$A$130,0),MATCH(Tabulka!W$2,Přehled_body!$E$1:$ED$1,0)),)=\"\",,IF(IFERROR(INDEX(Přehled_body!$E$3:$ED$130,MATCH(Tabulka!$AI35,Přehled_body!$A$3:$A$130,0),MATCH(Tabulka!W$2,Přehled_body!$E$1:$ED$1,0)),)=0,0.00000000001,IFERROR(INDEX(Přehled_body!$E$3:$ED$130,MATCH(Tabulka!$AI35,Přehled_body!$A$3:$A$130,0),MATCH(Tabulka!W$2,Přehled_body!$E$1:$ED$1,0)),)))","v":0},{"$f":"IF(IFERROR(INDEX(Přehled_body!$E$3:$ED$130,MATCH(Tabulka!$AI35,Přehled_body!$A$3:$A$130,0),MATCH(Tabulka!X$2,Přehled_body!$E$1:$ED$1,0)),)=\"\",,IF(IFERROR(INDEX(Přehled_body!$E$3:$ED$130,MATCH(Tabulka!$AI35,Přehled_body!$A$3:$A$130,0),MATCH(Tabulka!X$2,Přehled_body!$E$1:$ED$1,0)),)=0,0.00000000001,IFERROR(INDEX(Přehled_body!$E$3:$ED$130,MATCH(Tabulka!$AI35,Přehled_body!$A$3:$A$130,0),MATCH(Tabulka!X$2,Přehled_body!$E$1:$ED$1,0)),)))","v":0},{"$f":"IF(IFERROR(INDEX(Přehled_body!$E$3:$ED$130,MATCH(Tabulka!$AI35,Přehled_body!$A$3:$A$130,0),MATCH(Tabulka!Y$2,Přehled_body!$E$1:$ED$1,0)),)=\"\",,IF(IFERROR(INDEX(Přehled_body!$E$3:$ED$130,MATCH(Tabulka!$AI35,Přehled_body!$A$3:$A$130,0),MATCH(Tabulka!Y$2,Přehled_body!$E$1:$ED$1,0)),)=0,0.00000000001,IFERROR(INDEX(Přehled_body!$E$3:$ED$130,MATCH(Tabulka!$AI35,Přehled_body!$A$3:$A$130,0),MATCH(Tabulka!Y$2,Přehled_body!$E$1:$ED$1,0)),)))","v":0},{"$f":"IF(IFERROR(INDEX(Přehled_body!$E$3:$ED$130,MATCH(Tabulka!$AI35,Přehled_body!$A$3:$A$130,0),MATCH(Tabulka!Z$2,Přehled_body!$E$1:$ED$1,0)),)=\"\",,IF(IFERROR(INDEX(Přehled_body!$E$3:$ED$130,MATCH(Tabulka!$AI35,Přehled_body!$A$3:$A$130,0),MATCH(Tabulka!Z$2,Přehled_body!$E$1:$ED$1,0)),)=0,0.00000000001,IFERROR(INDEX(Přehled_body!$E$3:$ED$130,MATCH(Tabulka!$AI35,Přehled_body!$A$3:$A$130,0),MATCH(Tabulka!Z$2,Přehled_body!$E$1:$ED$1,0)),)))","v":0},{"$f":"IF(IFERROR(INDEX(Přehled_body!$E$3:$ED$130,MATCH(Tabulka!$AI35,Přehled_body!$A$3:$A$130,0),MATCH(Tabulka!AA$2,Přehled_body!$E$1:$ED$1,0)),)=\"\",,IF(IFERROR(INDEX(Přehled_body!$E$3:$ED$130,MATCH(Tabulka!$AI35,Přehled_body!$A$3:$A$130,0),MATCH(Tabulka!AA$2,Přehled_body!$E$1:$ED$1,0)),)=0,0.00000000001,IFERROR(INDEX(Přehled_body!$E$3:$ED$130,MATCH(Tabulka!$AI35,Přehled_body!$A$3:$A$130,0),MATCH(Tabulka!AA$2,Přehled_body!$E$1:$ED$1,0)),)))","v":0},{"$f":"IF(IFERROR(INDEX(Přehled_body!$E$3:$ED$130,MATCH(Tabulka!$AI35,Přehled_body!$A$3:$A$130,0),MATCH(Tabulka!AB$2,Přehled_body!$E$1:$ED$1,0)),)=\"\",,IF(IFERROR(INDEX(Přehled_body!$E$3:$ED$130,MATCH(Tabulka!$AI35,Přehled_body!$A$3:$A$130,0),MATCH(Tabulka!AB$2,Přehled_body!$E$1:$ED$1,0)),)=0,0.00000000001,IFERROR(INDEX(Přehled_body!$E$3:$ED$130,MATCH(Tabulka!$AI35,Přehled_body!$A$3:$A$130,0),MATCH(Tabulka!AB$2,Přehled_body!$E$1:$ED$1,0)),)))","v":0},{"$f":"IF(IFERROR(INDEX(Přehled_body!$E$3:$ED$130,MATCH(Tabulka!$AI35,Přehled_body!$A$3:$A$130,0),MATCH(Tabulka!AC$2,Přehled_body!$E$1:$ED$1,0)),)=\"\",,IF(IFERROR(INDEX(Přehled_body!$E$3:$ED$130,MATCH(Tabulka!$AI35,Přehled_body!$A$3:$A$130,0),MATCH(Tabulka!AC$2,Přehled_body!$E$1:$ED$1,0)),)=0,0.00000000001,IFERROR(INDEX(Přehled_body!$E$3:$ED$130,MATCH(Tabulka!$AI35,Přehled_body!$A$3:$A$130,0),MATCH(Tabulka!AC$2,Přehled_body!$E$1:$ED$1,0)),)))","v":0},{"$f":"IF(IFERROR(INDEX(Přehled_body!$E$3:$ED$130,MATCH(Tabulka!$AI35,Přehled_body!$A$3:$A$130,0),MATCH(Tabulka!AD$2,Přehled_body!$E$1:$ED$1,0)),)=\"\",,IF(IFERROR(INDEX(Přehled_body!$E$3:$ED$130,MATCH(Tabulka!$AI35,Přehled_body!$A$3:$A$130,0),MATCH(Tabulka!AD$2,Přehled_body!$E$1:$ED$1,0)),)=0,0.00000000001,IFERROR(INDEX(Přehled_body!$E$3:$ED$130,MATCH(Tabulka!$AI35,Přehled_body!$A$3:$A$130,0),MATCH(Tabulka!AD$2,Přehled_body!$E$1:$ED$1,0)),)))","v":0},{"$f":"IF(SUM($D$34:$AD$38)<1,-90000,SUM(D35:AD35))","v":11.000000000029999},{"$f":"IF(AE38>0.9,SUM(AE34-AE35)+0.00000001,0)","v":-7.9999999899599992},null,null,{"$f":"CONCATENATE($B$35,\" \",$B$36,C35)","v":"Jiří BlínProhry"}]
[{"$f":"CONCATENATE(B36,\" \",B35)","v":"Blín Jiří"},"Blín","Placeno panáků",{"$f":"IF(IFERROR(INDEX(Přehled_body!$E$3:$ED$130,MATCH(Tabulka!$AI36,Přehled_body!$A$3:$A$130,0),MATCH(Tabulka!D$2,Přehled_body!$E$1:$ED$1,0)),)=\"\",,IF(IFERROR(INDEX(Přehled_body!$E$3:$ED$130,MATCH(Tabulka!$AI36,Přehled_body!$A$3:$A$130,0),MATCH(Tabulka!D$2,Přehled_body!$E$1:$ED$1,0)),)=0,0.00000000001,IFERROR(INDEX(Přehled_body!$E$3:$ED$130,MATCH(Tabulka!$AI36,Přehled_body!$A$3:$A$130,0),MATCH(Tabulka!D$2,Přehled_body!$E$1:$ED$1,0)),)))","v":2},{"$f":"IF(IFERROR(INDEX(Přehled_body!$E$3:$ED$130,MATCH(Tabulka!$AI36,Přehled_body!$A$3:$A$130,0),MATCH(Tabulka!E$2,Přehled_body!$E$1:$ED$1,0)),)=\"\",,IF(IFERROR(INDEX(Přehled_body!$E$3:$ED$130,MATCH(Tabulka!$AI36,Přehled_body!$A$3:$A$130,0),MATCH(Tabulka!E$2,Přehled_body!$E$1:$ED$1,0)),)=0,0.00000000001,IFERROR(INDEX(Přehled_body!$E$3:$ED$130,MATCH(Tabulka!$AI36,Přehled_body!$A$3:$A$130,0),MATCH(Tabulka!E$2,Přehled_body!$E$1:$ED$1,0)),)))","v":4},{"$f":"IF(IFERROR(INDEX(Přehled_body!$E$3:$ED$130,MATCH(Tabulka!$AI36,Přehled_body!$A$3:$A$130,0),MATCH(Tabulka!F$2,Přehled_body!$E$1:$ED$1,0)),)=\"\",,IF(IFERROR(INDEX(Přehled_body!$E$3:$ED$130,MATCH(Tabulka!$AI36,Přehled_body!$A$3:$A$130,0),MATCH(Tabulka!F$2,Přehled_body!$E$1:$ED$1,0)),)=0,0.00000000001,IFERROR(INDEX(Přehled_body!$E$3:$ED$130,MATCH(Tabulka!$AI36,Přehled_body!$A$3:$A$130,0),MATCH(Tabulka!F$2,Přehled_body!$E$1:$ED$1,0)),)))","v":4},{"$f":"IF(IFERROR(INDEX(Přehled_body!$E$3:$ED$130,MATCH(Tabulka!$AI36,Přehled_body!$A$3:$A$130,0),MATCH(Tabulka!G$2,Přehled_body!$E$1:$ED$1,0)),)=\"\",,IF(IFERROR(INDEX(Přehled_body!$E$3:$ED$130,MATCH(Tabulka!$AI36,Přehled_body!$A$3:$A$130,0),MATCH(Tabulka!G$2,Přehled_body!$E$1:$ED$1,0)),)=0,0.00000000001,IFERROR(INDEX(Přehled_body!$E$3:$ED$130,MATCH(Tabulka!$AI36,Přehled_body!$A$3:$A$130,0),MATCH(Tabulka!G$2,Přehled_body!$E$1:$ED$1,0)),)))","v":9.9999999999999994E-12},{"$f":"IF(IFERROR(INDEX(Přehled_body!$E$3:$ED$130,MATCH(Tabulka!$AI36,Přehled_body!$A$3:$A$130,0),MATCH(Tabulka!H$2,Přehled_body!$E$1:$ED$1,0)),)=\"\",,IF(IFERROR(INDEX(Přehled_body!$E$3:$ED$130,MATCH(Tabulka!$AI36,Přehled_body!$A$3:$A$130,0),MATCH(Tabulka!H$2,Přehled_body!$E$1:$ED$1,0)),)=0,0.00000000001,IFERROR(INDEX(Přehled_body!$E$3:$ED$130,MATCH(Tabulka!$AI36,Přehled_body!$A$3:$A$130,0),MATCH(Tabulka!H$2,Přehled_body!$E$1:$ED$1,0)),)))","v":9.9999999999999994E-12},{"$f":"IF(IFERROR(INDEX(Přehled_body!$E$3:$ED$130,MATCH(Tabulka!$AI36,Přehled_body!$A$3:$A$130,0),MATCH(Tabulka!I$2,Přehled_body!$E$1:$ED$1,0)),)=\"\",,IF(IFERROR(INDEX(Přehled_body!$E$3:$ED$130,MATCH(Tabulka!$AI36,Přehled_body!$A$3:$A$130,0),MATCH(Tabulka!I$2,Přehled_body!$E$1:$ED$1,0)),)=0,0.00000000001,IFERROR(INDEX(Přehled_body!$E$3:$ED$130,MATCH(Tabulka!$AI36,Přehled_body!$A$3:$A$130,0),MATCH(Tabulka!I$2,Přehled_body!$E$1:$ED$1,0)),)))","v":1},{"$f":"IF(IFERROR(INDEX(Přehled_body!$E$3:$ED$130,MATCH(Tabulka!$AI36,Přehled_body!$A$3:$A$130,0),MATCH(Tabulka!J$2,Přehled_body!$E$1:$ED$1,0)),)=\"\",,IF(IFERROR(INDEX(Přehled_body!$E$3:$ED$130,MATCH(Tabulka!$AI36,Přehled_body!$A$3:$A$130,0),MATCH(Tabulka!J$2,Přehled_body!$E$1:$ED$1,0)),)=0,0.00000000001,IFERROR(INDEX(Přehled_body!$E$3:$ED$130,MATCH(Tabulka!$AI36,Přehled_body!$A$3:$A$130,0),MATCH(Tabulka!J$2,Přehled_body!$E$1:$ED$1,0)),)))","v":1},{"$f":"IF(IFERROR(INDEX(Přehled_body!$E$3:$ED$130,MATCH(Tabulka!$AI36,Přehled_body!$A$3:$A$130,0),MATCH(Tabulka!K$2,Přehled_body!$E$1:$ED$1,0)),)=\"\",,IF(IFERROR(INDEX(Přehled_body!$E$3:$ED$130,MATCH(Tabulka!$AI36,Přehled_body!$A$3:$A$130,0),MATCH(Tabulka!K$2,Přehled_body!$E$1:$ED$1,0)),)=0,0.00000000001,IFERROR(INDEX(Přehled_body!$E$3:$ED$130,MATCH(Tabulka!$AI36,Přehled_body!$A$3:$A$130,0),MATCH(Tabulka!K$2,Přehled_body!$E$1:$ED$1,0)),)))","v":2},{"$f":"IF(IFERROR(INDEX(Přehled_body!$E$3:$ED$130,MATCH(Tabulka!$AI36,Přehled_body!$A$3:$A$130,0),MATCH(Tabulka!L$2,Přehled_body!$E$1:$ED$1,0)),)=\"\",,IF(IFERROR(INDEX(Přehled_body!$E$3:$ED$130,MATCH(Tabulka!$AI36,Přehled_body!$A$3:$A$130,0),MATCH(Tabulka!L$2,Přehled_body!$E$1:$ED$1,0)),)=0,0.00000000001,IFERROR(INDEX(Přehled_body!$E$3:$ED$130,MATCH(Tabulka!$AI36,Přehled_body!$A$3:$A$130,0),MATCH(Tabulka!L$2,Přehled_body!$E$1:$ED$1,0)),)))","v":1},{"$f":"IF(IFERROR(INDEX(Přehled_body!$E$3:$ED$130,MATCH(Tabulka!$AI36,Přehled_body!$A$3:$A$130,0),MATCH(Tabulka!M$2,Přehled_body!$E$1:$ED$1,0)),)=\"\",,IF(IFERROR(INDEX(Přehled_body!$E$3:$ED$130,MATCH(Tabulka!$AI36,Přehled_body!$A$3:$A$130,0),MATCH(Tabulka!M$2,Přehled_body!$E$1:$ED$1,0)),)=0,0.00000000001,IFERROR(INDEX(Přehled_body!$E$3:$ED$130,MATCH(Tabulka!$AI36,Přehled_body!$A$3:$A$130,0),MATCH(Tabulka!M$2,Přehled_body!$E$1:$ED$1,0)),)))","v":9.9999999999999994E-12},{"$f":"IF(IFERROR(INDEX(Přehled_body!$E$3:$ED$130,MATCH(Tabulka!$AI36,Přehled_body!$A$3:$A$130,0),MATCH(Tabulka!N$2,Přehled_body!$E$1:$ED$1,0)),)=\"\",,IF(IFERROR(INDEX(Přehled_body!$E$3:$ED$130,MATCH(Tabulka!$AI36,Přehled_body!$A$3:$A$130,0),MATCH(Tabulka!N$2,Přehled_body!$E$1:$ED$1,0)),)=0,0.00000000001,IFERROR(INDEX(Přehled_body!$E$3:$ED$130,MATCH(Tabulka!$AI36,Přehled_body!$A$3:$A$130,0),MATCH(Tabulka!N$2,Přehled_body!$E$1:$ED$1,0)),)))","v":0},{"$f":"IF(IFERROR(INDEX(Přehled_body!$E$3:$ED$130,MATCH(Tabulka!$AI36,Přehled_body!$A$3:$A$130,0),MATCH(Tabulka!O$2,Přehled_body!$E$1:$ED$1,0)),)=\"\",,IF(IFERROR(INDEX(Přehled_body!$E$3:$ED$130,MATCH(Tabulka!$AI36,Přehled_body!$A$3:$A$130,0),MATCH(Tabulka!O$2,Přehled_body!$E$1:$ED$1,0)),)=0,0.00000000001,IFERROR(INDEX(Přehled_body!$E$3:$ED$130,MATCH(Tabulka!$AI36,Přehled_body!$A$3:$A$130,0),MATCH(Tabulka!O$2,Přehled_body!$E$1:$ED$1,0)),)))","v":0},{"$f":"IF(IFERROR(INDEX(Přehled_body!$E$3:$ED$130,MATCH(Tabulka!$AI36,Přehled_body!$A$3:$A$130,0),MATCH(Tabulka!P$2,Přehled_body!$E$1:$ED$1,0)),)=\"\",,IF(IFERROR(INDEX(Přehled_body!$E$3:$ED$130,MATCH(Tabulka!$AI36,Přehled_body!$A$3:$A$130,0),MATCH(Tabulka!P$2,Přehled_body!$E$1:$ED$1,0)),)=0,0.00000000001,IFERROR(INDEX(Přehled_body!$E$3:$ED$130,MATCH(Tabulka!$AI36,Přehled_body!$A$3:$A$130,0),MATCH(Tabulka!P$2,Přehled_body!$E$1:$ED$1,0)),)))","v":0},{"$f":"IF(IFERROR(INDEX(Přehled_body!$E$3:$ED$130,MATCH(Tabulka!$AI36,Přehled_body!$A$3:$A$130,0),MATCH(Tabulka!Q$2,Přehled_body!$E$1:$ED$1,0)),)=\"\",,IF(IFERROR(INDEX(Přehled_body!$E$3:$ED$130,MATCH(Tabulka!$AI36,Přehled_body!$A$3:$A$130,0),MATCH(Tabulka!Q$2,Přehled_body!$E$1:$ED$1,0)),)=0,0.00000000001,IFERROR(INDEX(Přehled_body!$E$3:$ED$130,MATCH(Tabulka!$AI36,Přehled_body!$A$3:$A$130,0),MATCH(Tabulka!Q$2,Přehled_body!$E$1:$ED$1,0)),)))","v":0},{"$f":"IF(IFERROR(INDEX(Přehled_body!$E$3:$ED$130,MATCH(Tabulka!$AI36,Přehled_body!$A$3:$A$130,0),MATCH(Tabulka!R$2,Přehled_body!$E$1:$ED$1,0)),)=\"\",,IF(IFERROR(INDEX(Přehled_body!$E$3:$ED$130,MATCH(Tabulka!$AI36,Přehled_body!$A$3:$A$130,0),MATCH(Tabulka!R$2,Přehled_body!$E$1:$ED$1,0)),)=0,0.00000000001,IFERROR(INDEX(Přehled_body!$E$3:$ED$130,MATCH(Tabulka!$AI36,Přehled_body!$A$3:$A$130,0),MATCH(Tabulka!R$2,Přehled_body!$E$1:$ED$1,0)),)))","v":0},{"$f":"IF(IFERROR(INDEX(Přehled_body!$E$3:$ED$130,MATCH(Tabulka!$AI36,Přehled_body!$A$3:$A$130,0),MATCH(Tabulka!S$2,Přehled_body!$E$1:$ED$1,0)),)=\"\",,IF(IFERROR(INDEX(Přehled_body!$E$3:$ED$130,MATCH(Tabulka!$AI36,Přehled_body!$A$3:$A$130,0),MATCH(Tabulka!S$2,Přehled_body!$E$1:$ED$1,0)),)=0,0.00000000001,IFERROR(INDEX(Přehled_body!$E$3:$ED$130,MATCH(Tabulka!$AI36,Přehled_body!$A$3:$A$130,0),MATCH(Tabulka!S$2,Přehled_body!$E$1:$ED$1,0)),)))","v":0},{"$f":"IF(IFERROR(INDEX(Přehled_body!$E$3:$ED$130,MATCH(Tabulka!$AI36,Přehled_body!$A$3:$A$130,0),MATCH(Tabulka!T$2,Přehled_body!$E$1:$ED$1,0)),)=\"\",,IF(IFERROR(INDEX(Přehled_body!$E$3:$ED$130,MATCH(Tabulka!$AI36,Přehled_body!$A$3:$A$130,0),MATCH(Tabulka!T$2,Přehled_body!$E$1:$ED$1,0)),)=0,0.00000000001,IFERROR(INDEX(Přehled_body!$E$3:$ED$130,MATCH(Tabulka!$AI36,Přehled_body!$A$3:$A$130,0),MATCH(Tabulka!T$2,Přehled_body!$E$1:$ED$1,0)),)))","v":0},{"$f":"IF(IFERROR(INDEX(Přehled_body!$E$3:$ED$130,MATCH(Tabulka!$AI36,Přehled_body!$A$3:$A$130,0),MATCH(Tabulka!U$2,Přehled_body!$E$1:$ED$1,0)),)=\"\",,IF(IFERROR(INDEX(Přehled_body!$E$3:$ED$130,MATCH(Tabulka!$AI36,Přehled_body!$A$3:$A$130,0),MATCH(Tabulka!U$2,Přehled_body!$E$1:$ED$1,0)),)=0,0.00000000001,IFERROR(INDEX(Přehled_body!$E$3:$ED$130,MATCH(Tabulka!$AI36,Přehled_body!$A$3:$A$130,0),MATCH(Tabulka!U$2,Přehled_body!$E$1:$ED$1,0)),)))","v":0},{"$f":"IF(IFERROR(INDEX(Přehled_body!$E$3:$ED$130,MATCH(Tabulka!$AI36,Přehled_body!$A$3:$A$130,0),MATCH(Tabulka!V$2,Přehled_body!$E$1:$ED$1,0)),)=\"\",,IF(IFERROR(INDEX(Přehled_body!$E$3:$ED$130,MATCH(Tabulka!$AI36,Přehled_body!$A$3:$A$130,0),MATCH(Tabulka!V$2,Přehled_body!$E$1:$ED$1,0)),)=0,0.00000000001,IFERROR(INDEX(Přehled_body!$E$3:$ED$130,MATCH(Tabulka!$AI36,Přehled_body!$A$3:$A$130,0),MATCH(Tabulka!V$2,Přehled_body!$E$1:$ED$1,0)),)))","v":0},{"$f":"IF(IFERROR(INDEX(Přehled_body!$E$3:$ED$130,MATCH(Tabulka!$AI36,Přehled_body!$A$3:$A$130,0),MATCH(Tabulka!W$2,Přehled_body!$E$1:$ED$1,0)),)=\"\",,IF(IFERROR(INDEX(Přehled_body!$E$3:$ED$130,MATCH(Tabulka!$AI36,Přehled_body!$A$3:$A$130,0),MATCH(Tabulka!W$2,Přehled_body!$E$1:$ED$1,0)),)=0,0.00000000001,IFERROR(INDEX(Přehled_body!$E$3:$ED$130,MATCH(Tabulka!$AI36,Přehled_body!$A$3:$A$130,0),MATCH(Tabulka!W$2,Přehled_body!$E$1:$ED$1,0)),)))","v":0},{"$f":"IF(IFERROR(INDEX(Přehled_body!$E$3:$ED$130,MATCH(Tabulka!$AI36,Přehled_body!$A$3:$A$130,0),MATCH(Tabulka!X$2,Přehled_body!$E$1:$ED$1,0)),)=\"\",,IF(IFERROR(INDEX(Přehled_body!$E$3:$ED$130,MATCH(Tabulka!$AI36,Přehled_body!$A$3:$A$130,0),MATCH(Tabulka!X$2,Přehled_body!$E$1:$ED$1,0)),)=0,0.00000000001,IFERROR(INDEX(Přehled_body!$E$3:$ED$130,MATCH(Tabulka!$AI36,Přehled_body!$A$3:$A$130,0),MATCH(Tabulka!X$2,Přehled_body!$E$1:$ED$1,0)),)))","v":0},{"$f":"IF(IFERROR(INDEX(Přehled_body!$E$3:$ED$130,MATCH(Tabulka!$AI36,Přehled_body!$A$3:$A$130,0),MATCH(Tabulka!Y$2,Přehled_body!$E$1:$ED$1,0)),)=\"\",,IF(IFERROR(INDEX(Přehled_body!$E$3:$ED$130,MATCH(Tabulka!$AI36,Přehled_body!$A$3:$A$130,0),MATCH(Tabulka!Y$2,Přehled_body!$E$1:$ED$1,0)),)=0,0.00000000001,IFERROR(INDEX(Přehled_body!$E$3:$ED$130,MATCH(Tabulka!$AI36,Přehled_body!$A$3:$A$130,0),MATCH(Tabulka!Y$2,Přehled_body!$E$1:$ED$1,0)),)))","v":0},{"$f":"IF(IFERROR(INDEX(Přehled_body!$E$3:$ED$130,MATCH(Tabulka!$AI36,Přehled_body!$A$3:$A$130,0),MATCH(Tabulka!Z$2,Přehled_body!$E$1:$ED$1,0)),)=\"\",,IF(IFERROR(INDEX(Přehled_body!$E$3:$ED$130,MATCH(Tabulka!$AI36,Přehled_body!$A$3:$A$130,0),MATCH(Tabulka!Z$2,Přehled_body!$E$1:$ED$1,0)),)=0,0.00000000001,IFERROR(INDEX(Přehled_body!$E$3:$ED$130,MATCH(Tabulka!$AI36,Přehled_body!$A$3:$A$130,0),MATCH(Tabulka!Z$2,Přehled_body!$E$1:$ED$1,0)),)))","v":0},{"$f":"IF(IFERROR(INDEX(Přehled_body!$E$3:$ED$130,MATCH(Tabulka!$AI36,Přehled_body!$A$3:$A$130,0),MATCH(Tabulka!AA$2,Přehled_body!$E$1:$ED$1,0)),)=\"\",,IF(IFERROR(INDEX(Přehled_body!$E$3:$ED$130,MATCH(Tabulka!$AI36,Přehled_body!$A$3:$A$130,0),MATCH(Tabulka!AA$2,Přehled_body!$E$1:$ED$1,0)),)=0,0.00000000001,IFERROR(INDEX(Přehled_body!$E$3:$ED$130,MATCH(Tabulka!$AI36,Přehled_body!$A$3:$A$130,0),MATCH(Tabulka!AA$2,Přehled_body!$E$1:$ED$1,0)),)))","v":0},{"$f":"IF(IFERROR(INDEX(Přehled_body!$E$3:$ED$130,MATCH(Tabulka!$AI36,Přehled_body!$A$3:$A$130,0),MATCH(Tabulka!AB$2,Přehled_body!$E$1:$ED$1,0)),)=\"\",,IF(IFERROR(INDEX(Přehled_body!$E$3:$ED$130,MATCH(Tabulka!$AI36,Přehled_body!$A$3:$A$130,0),MATCH(Tabulka!AB$2,Přehled_body!$E$1:$ED$1,0)),)=0,0.00000000001,IFERROR(INDEX(Přehled_body!$E$3:$ED$130,MATCH(Tabulka!$AI36,Přehled_body!$A$3:$A$130,0),MATCH(Tabulka!AB$2,Přehled_body!$E$1:$ED$1,0)),)))","v":0},{"$f":"IF(IFERROR(INDEX(Přehled_body!$E$3:$ED$130,MATCH(Tabulka!$AI36,Přehled_body!$A$3:$A$130,0),MATCH(Tabulka!AC$2,Přehled_body!$E$1:$ED$1,0)),)=\"\",,IF(IFERROR(INDEX(Přehled_body!$E$3:$ED$130,MATCH(Tabulka!$AI36,Přehled_body!$A$3:$A$130,0),MATCH(Tabulka!AC$2,Přehled_body!$E$1:$ED$1,0)),)=0,0.00000000001,IFERROR(INDEX(Přehled_body!$E$3:$ED$130,MATCH(Tabulka!$AI36,Přehled_body!$A$3:$A$130,0),MATCH(Tabulka!AC$2,Přehled_body!$E$1:$ED$1,0)),)))","v":0},{"$f":"IF(IFERROR(INDEX(Přehled_body!$E$3:$ED$130,MATCH(Tabulka!$AI36,Přehled_body!$A$3:$A$130,0),MATCH(Tabulka!AD$2,Přehled_body!$E$1:$ED$1,0)),)=\"\",,IF(IFERROR(INDEX(Přehled_body!$E$3:$ED$130,MATCH(Tabulka!$AI36,Přehled_body!$A$3:$A$130,0),MATCH(Tabulka!AD$2,Přehled_body!$E$1:$ED$1,0)),)=0,0.00000000001,IFERROR(INDEX(Přehled_body!$E$3:$ED$130,MATCH(Tabulka!$AI36,Přehled_body!$A$3:$A$130,0),MATCH(Tabulka!AD$2,Přehled_body!$E$1:$ED$1,0)),)))","v":0},{"$f":"IF(SUM($D$34:$AD$38)<1,-90000,SUM(D36:AD36))","v":15.000000000029997},null,null,null,{"$f":"CONCATENATE($B$35,\" \",$B$36,C36)","v":"Jiří BlínPlaceno panáků"}]
[null,null,"Přehozy",{"$f":"IF(IFERROR(INDEX(Přehled_body!$E$3:$ED$130,MATCH(Tabulka!$AI37,Přehled_body!$A$3:$A$130,0),MATCH(Tabulka!D$2,Přehled_body!$E$1:$ED$1,0)),)=\"\",,IF(IFERROR(INDEX(Přehled_body!$E$3:$ED$130,MATCH(Tabulka!$AI37,Přehled_body!$A$3:$A$130,0),MATCH(Tabulka!D$2,Přehled_body!$E$1:$ED$1,0)),)=0,0.00000000001,IFERROR(INDEX(Přehled_body!$E$3:$ED$130,MATCH(Tabulka!$AI37,Přehled_body!$A$3:$A$130,0),MATCH(Tabulka!D$2,Přehled_body!$E$1:$ED$1,0)),)))","v":9.9999999999999994E-12},{"$f":"IF(IFERROR(INDEX(Přehled_body!$E$3:$ED$130,MATCH(Tabulka!$AI37,Přehled_body!$A$3:$A$130,0),MATCH(Tabulka!E$2,Přehled_body!$E$1:$ED$1,0)),)=\"\",,IF(IFERROR(INDEX(Přehled_body!$E$3:$ED$130,MATCH(Tabulka!$AI37,Přehled_body!$A$3:$A$130,0),MATCH(Tabulka!E$2,Přehled_body!$E$1:$ED$1,0)),)=0,0.00000000001,IFERROR(INDEX(Přehled_body!$E$3:$ED$130,MATCH(Tabulka!$AI37,Přehled_body!$A$3:$A$130,0),MATCH(Tabulka!E$2,Přehled_body!$E$1:$ED$1,0)),)))","v":9.9999999999999994E-12},{"$f":"IF(IFERROR(INDEX(Přehled_body!$E$3:$ED$130,MATCH(Tabulka!$AI37,Přehled_body!$A$3:$A$130,0),MATCH(Tabulka!F$2,Přehled_body!$E$1:$ED$1,0)),)=\"\",,IF(IFERROR(INDEX(Přehled_body!$E$3:$ED$130,MATCH(Tabulka!$AI37,Přehled_body!$A$3:$A$130,0),MATCH(Tabulka!F$2,Přehled_body!$E$1:$ED$1,0)),)=0,0.00000000001,IFERROR(INDEX(Přehled_body!$E$3:$ED$130,MATCH(Tabulka!$AI37,Přehled_body!$A$3:$A$130,0),MATCH(Tabulka!F$2,Přehled_body!$E$1:$ED$1,0)),)))","v":9.9999999999999994E-12},{"$f":"IF(IFERROR(INDEX(Přehled_body!$E$3:$ED$130,MATCH(Tabulka!$AI37,Přehled_body!$A$3:$A$130,0),MATCH(Tabulka!G$2,Přehled_body!$E$1:$ED$1,0)),)=\"\",,IF(IFERROR(INDEX(Přehled_body!$E$3:$ED$130,MATCH(Tabulka!$AI37,Přehled_body!$A$3:$A$130,0),MATCH(Tabulka!G$2,Přehled_body!$E$1:$ED$1,0)),)=0,0.00000000001,IFERROR(INDEX(Přehled_body!$E$3:$ED$130,MATCH(Tabulka!$AI37,Přehled_body!$A$3:$A$130,0),MATCH(Tabulka!G$2,Přehled_body!$E$1:$ED$1,0)),)))","v":9.9999999999999994E-12},{"$f":"IF(IFERROR(INDEX(Přehled_body!$E$3:$ED$130,MATCH(Tabulka!$AI37,Přehled_body!$A$3:$A$130,0),MATCH(Tabulka!H$2,Přehled_body!$E$1:$ED$1,0)),)=\"\",,IF(IFERROR(INDEX(Přehled_body!$E$3:$ED$130,MATCH(Tabulka!$AI37,Přehled_body!$A$3:$A$130,0),MATCH(Tabulka!H$2,Přehled_body!$E$1:$ED$1,0)),)=0,0.00000000001,IFERROR(INDEX(Přehled_body!$E$3:$ED$130,MATCH(Tabulka!$AI37,Přehled_body!$A$3:$A$130,0),MATCH(Tabulka!H$2,Přehled_body!$E$1:$ED$1,0)),)))","v":1},{"$f":"IF(IFERROR(INDEX(Přehled_body!$E$3:$ED$130,MATCH(Tabulka!$AI37,Přehled_body!$A$3:$A$130,0),MATCH(Tabulka!I$2,Přehled_body!$E$1:$ED$1,0)),)=\"\",,IF(IFERROR(INDEX(Přehled_body!$E$3:$ED$130,MATCH(Tabulka!$AI37,Přehled_body!$A$3:$A$130,0),MATCH(Tabulka!I$2,Přehled_body!$E$1:$ED$1,0)),)=0,0.00000000001,IFERROR(INDEX(Přehled_body!$E$3:$ED$130,MATCH(Tabulka!$AI37,Přehled_body!$A$3:$A$130,0),MATCH(Tabulka!I$2,Přehled_body!$E$1:$ED$1,0)),)))","v":3},{"$f":"IF(IFERROR(INDEX(Přehled_body!$E$3:$ED$130,MATCH(Tabulka!$AI37,Přehled_body!$A$3:$A$130,0),MATCH(Tabulka!J$2,Přehled_body!$E$1:$ED$1,0)),)=\"\",,IF(IFERROR(INDEX(Přehled_body!$E$3:$ED$130,MATCH(Tabulka!$AI37,Přehled_body!$A$3:$A$130,0),MATCH(Tabulka!J$2,Přehled_body!$E$1:$ED$1,0)),)=0,0.00000000001,IFERROR(INDEX(Přehled_body!$E$3:$ED$130,MATCH(Tabulka!$AI37,Přehled_body!$A$3:$A$130,0),MATCH(Tabulka!J$2,Přehled_body!$E$1:$ED$1,0)),)))","v":2},{"$f":"IF(IFERROR(INDEX(Přehled_body!$E$3:$ED$130,MATCH(Tabulka!$AI37,Přehled_body!$A$3:$A$130,0),MATCH(Tabulka!K$2,Přehled_body!$E$1:$ED$1,0)),)=\"\",,IF(IFERROR(INDEX(Přehled_body!$E$3:$ED$130,MATCH(Tabulka!$AI37,Přehled_body!$A$3:$A$130,0),MATCH(Tabulka!K$2,Přehled_body!$E$1:$ED$1,0)),)=0,0.00000000001,IFERROR(INDEX(Přehled_body!$E$3:$ED$130,MATCH(Tabulka!$AI37,Přehled_body!$A$3:$A$130,0),MATCH(Tabulka!K$2,Přehled_body!$E$1:$ED$1,0)),)))","v":9.9999999999999994E-12},{"$f":"IF(IFERROR(INDEX(Přehled_body!$E$3:$ED$130,MATCH(Tabulka!$AI37,Přehled_body!$A$3:$A$130,0),MATCH(Tabulka!L$2,Přehled_body!$E$1:$ED$1,0)),)=\"\",,IF(IFERROR(INDEX(Přehled_body!$E$3:$ED$130,MATCH(Tabulka!$AI37,Přehled_body!$A$3:$A$130,0),MATCH(Tabulka!L$2,Přehled_body!$E$1:$ED$1,0)),)=0,0.00000000001,IFERROR(INDEX(Přehled_body!$E$3:$ED$130,MATCH(Tabulka!$AI37,Přehled_body!$A$3:$A$130,0),MATCH(Tabulka!L$2,Přehled_body!$E$1:$ED$1,0)),)))","v":9.9999999999999994E-12},{"$f":"IF(IFERROR(INDEX(Přehled_body!$E$3:$ED$130,MATCH(Tabulka!$AI37,Přehled_body!$A$3:$A$130,0),MATCH(Tabulka!M$2,Přehled_body!$E$1:$ED$1,0)),)=\"\",,IF(IFERROR(INDEX(Přehled_body!$E$3:$ED$130,MATCH(Tabulka!$AI37,Přehled_body!$A$3:$A$130,0),MATCH(Tabulka!M$2,Přehled_body!$E$1:$ED$1,0)),)=0,0.00000000001,IFERROR(INDEX(Přehled_body!$E$3:$ED$130,MATCH(Tabulka!$AI37,Přehled_body!$A$3:$A$130,0),MATCH(Tabulka!M$2,Přehled_body!$E$1:$ED$1,0)),)))","v":9.9999999999999994E-12},{"$f":"IF(IFERROR(INDEX(Přehled_body!$E$3:$ED$130,MATCH(Tabulka!$AI37,Přehled_body!$A$3:$A$130,0),MATCH(Tabulka!N$2,Přehled_body!$E$1:$ED$1,0)),)=\"\",,IF(IFERROR(INDEX(Přehled_body!$E$3:$ED$130,MATCH(Tabulka!$AI37,Přehled_body!$A$3:$A$130,0),MATCH(Tabulka!N$2,Přehled_body!$E$1:$ED$1,0)),)=0,0.00000000001,IFERROR(INDEX(Přehled_body!$E$3:$ED$130,MATCH(Tabulka!$AI37,Přehled_body!$A$3:$A$130,0),MATCH(Tabulka!N$2,Přehled_body!$E$1:$ED$1,0)),)))","v":0},{"$f":"IF(IFERROR(INDEX(Přehled_body!$E$3:$ED$130,MATCH(Tabulka!$AI37,Přehled_body!$A$3:$A$130,0),MATCH(Tabulka!O$2,Přehled_body!$E$1:$ED$1,0)),)=\"\",,IF(IFERROR(INDEX(Přehled_body!$E$3:$ED$130,MATCH(Tabulka!$AI37,Přehled_body!$A$3:$A$130,0),MATCH(Tabulka!O$2,Přehled_body!$E$1:$ED$1,0)),)=0,0.00000000001,IFERROR(INDEX(Přehled_body!$E$3:$ED$130,MATCH(Tabulka!$AI37,Přehled_body!$A$3:$A$130,0),MATCH(Tabulka!O$2,Přehled_body!$E$1:$ED$1,0)),)))","v":0},{"$f":"IF(IFERROR(INDEX(Přehled_body!$E$3:$ED$130,MATCH(Tabulka!$AI37,Přehled_body!$A$3:$A$130,0),MATCH(Tabulka!P$2,Přehled_body!$E$1:$ED$1,0)),)=\"\",,IF(IFERROR(INDEX(Přehled_body!$E$3:$ED$130,MATCH(Tabulka!$AI37,Přehled_body!$A$3:$A$130,0),MATCH(Tabulka!P$2,Přehled_body!$E$1:$ED$1,0)),)=0,0.00000000001,IFERROR(INDEX(Přehled_body!$E$3:$ED$130,MATCH(Tabulka!$AI37,Přehled_body!$A$3:$A$130,0),MATCH(Tabulka!P$2,Přehled_body!$E$1:$ED$1,0)),)))","v":0},{"$f":"IF(IFERROR(INDEX(Přehled_body!$E$3:$ED$130,MATCH(Tabulka!$AI37,Přehled_body!$A$3:$A$130,0),MATCH(Tabulka!Q$2,Přehled_body!$E$1:$ED$1,0)),)=\"\",,IF(IFERROR(INDEX(Přehled_body!$E$3:$ED$130,MATCH(Tabulka!$AI37,Přehled_body!$A$3:$A$130,0),MATCH(Tabulka!Q$2,Přehled_body!$E$1:$ED$1,0)),)=0,0.00000000001,IFERROR(INDEX(Přehled_body!$E$3:$ED$130,MATCH(Tabulka!$AI37,Přehled_body!$A$3:$A$130,0),MATCH(Tabulka!Q$2,Přehled_body!$E$1:$ED$1,0)),)))","v":0},{"$f":"IF(IFERROR(INDEX(Přehled_body!$E$3:$ED$130,MATCH(Tabulka!$AI37,Přehled_body!$A$3:$A$130,0),MATCH(Tabulka!R$2,Přehled_body!$E$1:$ED$1,0)),)=\"\",,IF(IFERROR(INDEX(Přehled_body!$E$3:$ED$130,MATCH(Tabulka!$AI37,Přehled_body!$A$3:$A$130,0),MATCH(Tabulka!R$2,Přehled_body!$E$1:$ED$1,0)),)=0,0.00000000001,IFERROR(INDEX(Přehled_body!$E$3:$ED$130,MATCH(Tabulka!$AI37,Přehled_body!$A$3:$A$130,0),MATCH(Tabulka!R$2,Přehled_body!$E$1:$ED$1,0)),)))","v":0},{"$f":"IF(IFERROR(INDEX(Přehled_body!$E$3:$ED$130,MATCH(Tabulka!$AI37,Přehled_body!$A$3:$A$130,0),MATCH(Tabulka!S$2,Přehled_body!$E$1:$ED$1,0)),)=\"\",,IF(IFERROR(INDEX(Přehled_body!$E$3:$ED$130,MATCH(Tabulka!$AI37,Přehled_body!$A$3:$A$130,0),MATCH(Tabulka!S$2,Přehled_body!$E$1:$ED$1,0)),)=0,0.00000000001,IFERROR(INDEX(Přehled_body!$E$3:$ED$130,MATCH(Tabulka!$AI37,Přehled_body!$A$3:$A$130,0),MATCH(Tabulka!S$2,Přehled_body!$E$1:$ED$1,0)),)))","v":0},{"$f":"IF(IFERROR(INDEX(Přehled_body!$E$3:$ED$130,MATCH(Tabulka!$AI37,Přehled_body!$A$3:$A$130,0),MATCH(Tabulka!T$2,Přehled_body!$E$1:$ED$1,0)),)=\"\",,IF(IFERROR(INDEX(Přehled_body!$E$3:$ED$130,MATCH(Tabulka!$AI37,Přehled_body!$A$3:$A$130,0),MATCH(Tabulka!T$2,Přehled_body!$E$1:$ED$1,0)),)=0,0.00000000001,IFERROR(INDEX(Přehled_body!$E$3:$ED$130,MATCH(Tabulka!$AI37,Přehled_body!$A$3:$A$130,0),MATCH(Tabulka!T$2,Přehled_body!$E$1:$ED$1,0)),)))","v":0},{"$f":"IF(IFERROR(INDEX(Přehled_body!$E$3:$ED$130,MATCH(Tabulka!$AI37,Přehled_body!$A$3:$A$130,0),MATCH(Tabulka!U$2,Přehled_body!$E$1:$ED$1,0)),)=\"\",,IF(IFERROR(INDEX(Přehled_body!$E$3:$ED$130,MATCH(Tabulka!$AI37,Přehled_body!$A$3:$A$130,0),MATCH(Tabulka!U$2,Přehled_body!$E$1:$ED$1,0)),)=0,0.00000000001,IFERROR(INDEX(Přehled_body!$E$3:$ED$130,MATCH(Tabulka!$AI37,Přehled_body!$A$3:$A$130,0),MATCH(Tabulka!U$2,Přehled_body!$E$1:$ED$1,0)),)))","v":0},{"$f":"IF(IFERROR(INDEX(Přehled_body!$E$3:$ED$130,MATCH(Tabulka!$AI37,Přehled_body!$A$3:$A$130,0),MATCH(Tabulka!V$2,Přehled_body!$E$1:$ED$1,0)),)=\"\",,IF(IFERROR(INDEX(Přehled_body!$E$3:$ED$130,MATCH(Tabulka!$AI37,Přehled_body!$A$3:$A$130,0),MATCH(Tabulka!V$2,Přehled_body!$E$1:$ED$1,0)),)=0,0.00000000001,IFERROR(INDEX(Přehled_body!$E$3:$ED$130,MATCH(Tabulka!$AI37,Přehled_body!$A$3:$A$130,0),MATCH(Tabulka!V$2,Přehled_body!$E$1:$ED$1,0)),)))","v":0},{"$f":"IF(IFERROR(INDEX(Přehled_body!$E$3:$ED$130,MATCH(Tabulka!$AI37,Přehled_body!$A$3:$A$130,0),MATCH(Tabulka!W$2,Přehled_body!$E$1:$ED$1,0)),)=\"\",,IF(IFERROR(INDEX(Přehled_body!$E$3:$ED$130,MATCH(Tabulka!$AI37,Přehled_body!$A$3:$A$130,0),MATCH(Tabulka!W$2,Přehled_body!$E$1:$ED$1,0)),)=0,0.00000000001,IFERROR(INDEX(Přehled_body!$E$3:$ED$130,MATCH(Tabulka!$AI37,Přehled_body!$A$3:$A$130,0),MATCH(Tabulka!W$2,Přehled_body!$E$1:$ED$1,0)),)))","v":0},{"$f":"IF(IFERROR(INDEX(Přehled_body!$E$3:$ED$130,MATCH(Tabulka!$AI37,Přehled_body!$A$3:$A$130,0),MATCH(Tabulka!X$2,Přehled_body!$E$1:$ED$1,0)),)=\"\",,IF(IFERROR(INDEX(Přehled_body!$E$3:$ED$130,MATCH(Tabulka!$AI37,Přehled_body!$A$3:$A$130,0),MATCH(Tabulka!X$2,Přehled_body!$E$1:$ED$1,0)),)=0,0.00000000001,IFERROR(INDEX(Přehled_body!$E$3:$ED$130,MATCH(Tabulka!$AI37,Přehled_body!$A$3:$A$130,0),MATCH(Tabulka!X$2,Přehled_body!$E$1:$ED$1,0)),)))","v":0},{"$f":"IF(IFERROR(INDEX(Přehled_body!$E$3:$ED$130,MATCH(Tabulka!$AI37,Přehled_body!$A$3:$A$130,0),MATCH(Tabulka!Y$2,Přehled_body!$E$1:$ED$1,0)),)=\"\",,IF(IFERROR(INDEX(Přehled_body!$E$3:$ED$130,MATCH(Tabulka!$AI37,Přehled_body!$A$3:$A$130,0),MATCH(Tabulka!Y$2,Přehled_body!$E$1:$ED$1,0)),)=0,0.00000000001,IFERROR(INDEX(Přehled_body!$E$3:$ED$130,MATCH(Tabulka!$AI37,Přehled_body!$A$3:$A$130,0),MATCH(Tabulka!Y$2,Přehled_body!$E$1:$ED$1,0)),)))","v":0},{"$f":"IF(IFERROR(INDEX(Přehled_body!$E$3:$ED$130,MATCH(Tabulka!$AI37,Přehled_body!$A$3:$A$130,0),MATCH(Tabulka!Z$2,Přehled_body!$E$1:$ED$1,0)),)=\"\",,IF(IFERROR(INDEX(Přehled_body!$E$3:$ED$130,MATCH(Tabulka!$AI37,Přehled_body!$A$3:$A$130,0),MATCH(Tabulka!Z$2,Přehled_body!$E$1:$ED$1,0)),)=0,0.00000000001,IFERROR(INDEX(Přehled_body!$E$3:$ED$130,MATCH(Tabulka!$AI37,Přehled_body!$A$3:$A$130,0),MATCH(Tabulka!Z$2,Přehled_body!$E$1:$ED$1,0)),)))","v":0},{"$f":"IF(IFERROR(INDEX(Přehled_body!$E$3:$ED$130,MATCH(Tabulka!$AI37,Přehled_body!$A$3:$A$130,0),MATCH(Tabulka!AA$2,Přehled_body!$E$1:$ED$1,0)),)=\"\",,IF(IFERROR(INDEX(Přehled_body!$E$3:$ED$130,MATCH(Tabulka!$AI37,Přehled_body!$A$3:$A$130,0),MATCH(Tabulka!AA$2,Přehled_body!$E$1:$ED$1,0)),)=0,0.00000000001,IFERROR(INDEX(Přehled_body!$E$3:$ED$130,MATCH(Tabulka!$AI37,Přehled_body!$A$3:$A$130,0),MATCH(Tabulka!AA$2,Přehled_body!$E$1:$ED$1,0)),)))","v":0},{"$f":"IF(IFERROR(INDEX(Přehled_body!$E$3:$ED$130,MATCH(Tabulka!$AI37,Přehled_body!$A$3:$A$130,0),MATCH(Tabulka!AB$2,Přehled_body!$E$1:$ED$1,0)),)=\"\",,IF(IFERROR(INDEX(Přehled_body!$E$3:$ED$130,MATCH(Tabulka!$AI37,Přehled_body!$A$3:$A$130,0),MATCH(Tabulka!AB$2,Přehled_body!$E$1:$ED$1,0)),)=0,0.00000000001,IFERROR(INDEX(Přehled_body!$E$3:$ED$130,MATCH(Tabulka!$AI37,Přehled_body!$A$3:$A$130,0),MATCH(Tabulka!AB$2,Přehled_body!$E$1:$ED$1,0)),)))","v":0},{"$f":"IF(IFERROR(INDEX(Přehled_body!$E$3:$ED$130,MATCH(Tabulka!$AI37,Přehled_body!$A$3:$A$130,0),MATCH(Tabulka!AC$2,Přehled_body!$E$1:$ED$1,0)),)=\"\",,IF(IFERROR(INDEX(Přehled_body!$E$3:$ED$130,MATCH(Tabulka!$AI37,Přehled_body!$A$3:$A$130,0),MATCH(Tabulka!AC$2,Přehled_body!$E$1:$ED$1,0)),)=0,0.00000000001,IFERROR(INDEX(Přehled_body!$E$3:$ED$130,MATCH(Tabulka!$AI37,Přehled_body!$A$3:$A$130,0),MATCH(Tabulka!AC$2,Přehled_body!$E$1:$ED$1,0)),)))","v":0},{"$f":"IF(IFERROR(INDEX(Přehled_body!$E$3:$ED$130,MATCH(Tabulka!$AI37,Přehled_body!$A$3:$A$130,0),MATCH(Tabulka!AD$2,Přehled_body!$E$1:$ED$1,0)),)=\"\",,IF(IFERROR(INDEX(Přehled_body!$E$3:$ED$130,MATCH(Tabulka!$AI37,Přehled_body!$A$3:$A$130,0),MATCH(Tabulka!AD$2,Přehled_body!$E$1:$ED$1,0)),)=0,0.00000000001,IFERROR(INDEX(Přehled_body!$E$3:$ED$130,MATCH(Tabulka!$AI37,Přehled_body!$A$3:$A$130,0),MATCH(Tabulka!AD$2,Přehled_body!$E$1:$ED$1,0)),)))","v":0},{"$f":"IF(SUM($D$34:$AD$38)<1,-90000,SUM(D37:AD37))","v":6.00000000007},null,null,null,{"$f":"CONCATENATE($B$35,\" \",$B$36,C37)","v":"Jiří BlínPřehozy"}]
[null,null,"Poč. kol",{"$f":"IF(IFERROR(INDEX(Přehled_body!$E$3:$ED$130,MATCH(Tabulka!$AI38,Přehled_body!$A$3:$A$130,0),MATCH(Tabulka!D$2,Přehled_body!$E$1:$ED$1,0)),)=\"\",,IF(IFERROR(INDEX(Přehled_body!$E$3:$ED$130,MATCH(Tabulka!$AI38,Přehled_body!$A$3:$A$130,0),MATCH(Tabulka!D$2,Přehled_body!$E$1:$ED$1,0)),)=0,0.00000000001,IFERROR(INDEX(Přehled_body!$E$3:$ED$130,MATCH(Tabulka!$AI38,Přehled_body!$A$3:$A$130,0),MATCH(Tabulka!D$2,Přehled_body!$E$1:$ED$1,0)),)))","v":4},{"$f":"IF(IFERROR(INDEX(Přehled_body!$E$3:$ED$130,MATCH(Tabulka!$AI38,Přehled_body!$A$3:$A$130,0),MATCH(Tabulka!E$2,Přehled_body!$E$1:$ED$1,0)),)=\"\",,IF(IFERROR(INDEX(Přehled_body!$E$3:$ED$130,MATCH(Tabulka!$AI38,Přehled_body!$A$3:$A$130,0),MATCH(Tabulka!E$2,Přehled_body!$E$1:$ED$1,0)),)=0,0.00000000001,IFERROR(INDEX(Přehled_body!$E$3:$ED$130,MATCH(Tabulka!$AI38,Přehled_body!$A$3:$A$130,0),MATCH(Tabulka!E$2,Přehled_body!$E$1:$ED$1,0)),)))","v":4},{"$f":"IF(IFERROR(INDEX(Přehled_body!$E$3:$ED$130,MATCH(Tabulka!$AI38,Přehled_body!$A$3:$A$130,0),MATCH(Tabulka!F$2,Přehled_body!$E$1:$ED$1,0)),)=\"\",,IF(IFERROR(INDEX(Přehled_body!$E$3:$ED$130,MATCH(Tabulka!$AI38,Přehled_body!$A$3:$A$130,0),MATCH(Tabulka!F$2,Přehled_body!$E$1:$ED$1,0)),)=0,0.00000000001,IFERROR(INDEX(Přehled_body!$E$3:$ED$130,MATCH(Tabulka!$AI38,Přehled_body!$A$3:$A$130,0),MATCH(Tabulka!F$2,Přehled_body!$E$1:$ED$1,0)),)))","v":4},{"$f":"IF(IFERROR(INDEX(Přehled_body!$E$3:$ED$130,MATCH(Tabulka!$AI38,Přehled_body!$A$3:$A$130,0),MATCH(Tabulka!G$2,Přehled_body!$E$1:$ED$1,0)),)=\"\",,IF(IFERROR(INDEX(Přehled_body!$E$3:$ED$130,MATCH(Tabulka!$AI38,Přehled_body!$A$3:$A$130,0),MATCH(Tabulka!G$2,Přehled_body!$E$1:$ED$1,0)),)=0,0.00000000001,IFERROR(INDEX(Přehled_body!$E$3:$ED$130,MATCH(Tabulka!$AI38,Přehled_body!$A$3:$A$130,0),MATCH(Tabulka!G$2,Přehled_body!$E$1:$ED$1,0)),)))","v":4},{"$f":"IF(IFERROR(INDEX(Přehled_body!$E$3:$ED$130,MATCH(Tabulka!$AI38,Přehled_body!$A$3:$A$130,0),MATCH(Tabulka!H$2,Přehled_body!$E$1:$ED$1,0)),)=\"\",,IF(IFERROR(INDEX(Přehled_body!$E$3:$ED$130,MATCH(Tabulka!$AI38,Přehled_body!$A$3:$A$130,0),MATCH(Tabulka!H$2,Přehled_body!$E$1:$ED$1,0)),)=0,0.00000000001,IFERROR(INDEX(Přehled_body!$E$3:$ED$130,MATCH(Tabulka!$AI38,Přehled_body!$A$3:$A$130,0),MATCH(Tabulka!H$2,Přehled_body!$E$1:$ED$1,0)),)))","v":4},{"$f":"IF(IFERROR(INDEX(Přehled_body!$E$3:$ED$130,MATCH(Tabulka!$AI38,Přehled_body!$A$3:$A$130,0),MATCH(Tabulka!I$2,Přehled_body!$E$1:$ED$1,0)),)=\"\",,IF(IFERROR(INDEX(Přehled_body!$E$3:$ED$130,MATCH(Tabulka!$AI38,Přehled_body!$A$3:$A$130,0),MATCH(Tabulka!I$2,Přehled_body!$E$1:$ED$1,0)),)=0,0.00000000001,IFERROR(INDEX(Přehled_body!$E$3:$ED$130,MATCH(Tabulka!$AI38,Přehled_body!$A$3:$A$130,0),MATCH(Tabulka!I$2,Přehled_body!$E$1:$ED$1,0)),)))","v":4},{"$f":"IF(IFERROR(INDEX(Přehled_body!$E$3:$ED$130,MATCH(Tabulka!$AI38,Přehled_body!$A$3:$A$130,0),MATCH(Tabulka!J$2,Přehled_body!$E$1:$ED$1,0)),)=\"\",,IF(IFERROR(INDEX(Přehled_body!$E$3:$ED$130,MATCH(Tabulka!$AI38,Přehled_body!$A$3:$A$130,0),MATCH(Tabulka!J$2,Přehled_body!$E$1:$ED$1,0)),)=0,0.00000000001,IFERROR(INDEX(Přehled_body!$E$3:$ED$130,MATCH(Tabulka!$AI38,Přehled_body!$A$3:$A$130,0),MATCH(Tabulka!J$2,Přehled_body!$E$1:$ED$1,0)),)))","v":4},{"$f":"IF(IFERROR(INDEX(Přehled_body!$E$3:$ED$130,MATCH(Tabulka!$AI38,Přehled_body!$A$3:$A$130,0),MATCH(Tabulka!K$2,Přehled_body!$E$1:$ED$1,0)),)=\"\",,IF(IFERROR(INDEX(Přehled_body!$E$3:$ED$130,MATCH(Tabulka!$AI38,Přehled_body!$A$3:$A$130,0),MATCH(Tabulka!K$2,Přehled_body!$E$1:$ED$1,0)),)=0,0.00000000001,IFERROR(INDEX(Přehled_body!$E$3:$ED$130,MATCH(Tabulka!$AI38,Přehled_body!$A$3:$A$130,0),MATCH(Tabulka!K$2,Přehled_body!$E$1:$ED$1,0)),)))","v":4},{"$f":"IF(IFERROR(INDEX(Přehled_body!$E$3:$ED$130,MATCH(Tabulka!$AI38,Přehled_body!$A$3:$A$130,0),MATCH(Tabulka!L$2,Přehled_body!$E$1:$ED$1,0)),)=\"\",,IF(IFERROR(INDEX(Přehled_body!$E$3:$ED$130,MATCH(Tabulka!$AI38,Přehled_body!$A$3:$A$130,0),MATCH(Tabulka!L$2,Přehled_body!$E$1:$ED$1,0)),)=0,0.00000000001,IFERROR(INDEX(Přehled_body!$E$3:$ED$130,MATCH(Tabulka!$AI38,Přehled_body!$A$3:$A$130,0),MATCH(Tabulka!L$2,Přehled_body!$E$1:$ED$1,0)),)))","v":3},{"$f":"IF(IFERROR(INDEX(Přehled_body!$E$3:$ED$130,MATCH(Tabulka!$AI38,Přehled_body!$A$3:$A$130,0),MATCH(Tabulka!M$2,Přehled_body!$E$1:$ED$1,0)),)=\"\",,IF(IFERROR(INDEX(Přehled_body!$E$3:$ED$130,MATCH(Tabulka!$AI38,Přehled_body!$A$3:$A$130,0),MATCH(Tabulka!M$2,Přehled_body!$E$1:$ED$1,0)),)=0,0.00000000001,IFERROR(INDEX(Přehled_body!$E$3:$ED$130,MATCH(Tabulka!$AI38,Přehled_body!$A$3:$A$130,0),MATCH(Tabulka!M$2,Přehled_body!$E$1:$ED$1,0)),)))","v":4},{"$f":"IF(IFERROR(INDEX(Přehled_body!$E$3:$ED$130,MATCH(Tabulka!$AI38,Přehled_body!$A$3:$A$130,0),MATCH(Tabulka!N$2,Přehled_body!$E$1:$ED$1,0)),)=\"\",,IF(IFERROR(INDEX(Přehled_body!$E$3:$ED$130,MATCH(Tabulka!$AI38,Přehled_body!$A$3:$A$130,0),MATCH(Tabulka!N$2,Přehled_body!$E$1:$ED$1,0)),)=0,0.00000000001,IFERROR(INDEX(Přehled_body!$E$3:$ED$130,MATCH(Tabulka!$AI38,Přehled_body!$A$3:$A$130,0),MATCH(Tabulka!N$2,Přehled_body!$E$1:$ED$1,0)),)))","v":0},{"$f":"IF(IFERROR(INDEX(Přehled_body!$E$3:$ED$130,MATCH(Tabulka!$AI38,Přehled_body!$A$3:$A$130,0),MATCH(Tabulka!O$2,Přehled_body!$E$1:$ED$1,0)),)=\"\",,IF(IFERROR(INDEX(Přehled_body!$E$3:$ED$130,MATCH(Tabulka!$AI38,Přehled_body!$A$3:$A$130,0),MATCH(Tabulka!O$2,Přehled_body!$E$1:$ED$1,0)),)=0,0.00000000001,IFERROR(INDEX(Přehled_body!$E$3:$ED$130,MATCH(Tabulka!$AI38,Přehled_body!$A$3:$A$130,0),MATCH(Tabulka!O$2,Přehled_body!$E$1:$ED$1,0)),)))","v":0},{"$f":"IF(IFERROR(INDEX(Přehled_body!$E$3:$ED$130,MATCH(Tabulka!$AI38,Přehled_body!$A$3:$A$130,0),MATCH(Tabulka!P$2,Přehled_body!$E$1:$ED$1,0)),)=\"\",,IF(IFERROR(INDEX(Přehled_body!$E$3:$ED$130,MATCH(Tabulka!$AI38,Přehled_body!$A$3:$A$130,0),MATCH(Tabulka!P$2,Přehled_body!$E$1:$ED$1,0)),)=0,0.00000000001,IFERROR(INDEX(Přehled_body!$E$3:$ED$130,MATCH(Tabulka!$AI38,Přehled_body!$A$3:$A$130,0),MATCH(Tabulka!P$2,Přehled_body!$E$1:$ED$1,0)),)))","v":0},{"$f":"IF(IFERROR(INDEX(Přehled_body!$E$3:$ED$130,MATCH(Tabulka!$AI38,Přehled_body!$A$3:$A$130,0),MATCH(Tabulka!Q$2,Přehled_body!$E$1:$ED$1,0)),)=\"\",,IF(IFERROR(INDEX(Přehled_body!$E$3:$ED$130,MATCH(Tabulka!$AI38,Přehled_body!$A$3:$A$130,0),MATCH(Tabulka!Q$2,Přehled_body!$E$1:$ED$1,0)),)=0,0.00000000001,IFERROR(INDEX(Přehled_body!$E$3:$ED$130,MATCH(Tabulka!$AI38,Přehled_body!$A$3:$A$130,0),MATCH(Tabulka!Q$2,Přehled_body!$E$1:$ED$1,0)),)))","v":0},{"$f":"IF(IFERROR(INDEX(Přehled_body!$E$3:$ED$130,MATCH(Tabulka!$AI38,Přehled_body!$A$3:$A$130,0),MATCH(Tabulka!R$2,Přehled_body!$E$1:$ED$1,0)),)=\"\",,IF(IFERROR(INDEX(Přehled_body!$E$3:$ED$130,MATCH(Tabulka!$AI38,Přehled_body!$A$3:$A$130,0),MATCH(Tabulka!R$2,Přehled_body!$E$1:$ED$1,0)),)=0,0.00000000001,IFERROR(INDEX(Přehled_body!$E$3:$ED$130,MATCH(Tabulka!$AI38,Přehled_body!$A$3:$A$130,0),MATCH(Tabulka!R$2,Přehled_body!$E$1:$ED$1,0)),)))","v":0},{"$f":"IF(IFERROR(INDEX(Přehled_body!$E$3:$ED$130,MATCH(Tabulka!$AI38,Přehled_body!$A$3:$A$130,0),MATCH(Tabulka!S$2,Přehled_body!$E$1:$ED$1,0)),)=\"\",,IF(IFERROR(INDEX(Přehled_body!$E$3:$ED$130,MATCH(Tabulka!$AI38,Přehled_body!$A$3:$A$130,0),MATCH(Tabulka!S$2,Přehled_body!$E$1:$ED$1,0)),)=0,0.00000000001,IFERROR(INDEX(Přehled_body!$E$3:$ED$130,MATCH(Tabulka!$AI38,Přehled_body!$A$3:$A$130,0),MATCH(Tabulka!S$2,Přehled_body!$E$1:$ED$1,0)),)))","v":0},{"$f":"IF(IFERROR(INDEX(Přehled_body!$E$3:$ED$130,MATCH(Tabulka!$AI38,Přehled_body!$A$3:$A$130,0),MATCH(Tabulka!T$2,Přehled_body!$E$1:$ED$1,0)),)=\"\",,IF(IFERROR(INDEX(Přehled_body!$E$3:$ED$130,MATCH(Tabulka!$AI38,Přehled_body!$A$3:$A$130,0),MATCH(Tabulka!T$2,Přehled_body!$E$1:$ED$1,0)),)=0,0.00000000001,IFERROR(INDEX(Přehled_body!$E$3:$ED$130,MATCH(Tabulka!$AI38,Přehled_body!$A$3:$A$130,0),MATCH(Tabulka!T$2,Přehled_body!$E$1:$ED$1,0)),)))","v":0},{"$f":"IF(IFERROR(INDEX(Přehled_body!$E$3:$ED$130,MATCH(Tabulka!$AI38,Přehled_body!$A$3:$A$130,0),MATCH(Tabulka!U$2,Přehled_body!$E$1:$ED$1,0)),)=\"\",,IF(IFERROR(INDEX(Přehled_body!$E$3:$ED$130,MATCH(Tabulka!$AI38,Přehled_body!$A$3:$A$130,0),MATCH(Tabulka!U$2,Přehled_body!$E$1:$ED$1,0)),)=0,0.00000000001,IFERROR(INDEX(Přehled_body!$E$3:$ED$130,MATCH(Tabulka!$AI38,Přehled_body!$A$3:$A$130,0),MATCH(Tabulka!U$2,Přehled_body!$E$1:$ED$1,0)),)))","v":0},{"$f":"IF(IFERROR(INDEX(Přehled_body!$E$3:$ED$130,MATCH(Tabulka!$AI38,Přehled_body!$A$3:$A$130,0),MATCH(Tabulka!V$2,Přehled_body!$E$1:$ED$1,0)),)=\"\",,IF(IFERROR(INDEX(Přehled_body!$E$3:$ED$130,MATCH(Tabulka!$AI38,Přehled_body!$A$3:$A$130,0),MATCH(Tabulka!V$2,Přehled_body!$E$1:$ED$1,0)),)=0,0.00000000001,IFERROR(INDEX(Přehled_body!$E$3:$ED$130,MATCH(Tabulka!$AI38,Přehled_body!$A$3:$A$130,0),MATCH(Tabulka!V$2,Přehled_body!$E$1:$ED$1,0)),)))","v":0},{"$f":"IF(IFERROR(INDEX(Přehled_body!$E$3:$ED$130,MATCH(Tabulka!$AI38,Přehled_body!$A$3:$A$130,0),MATCH(Tabulka!W$2,Přehled_body!$E$1:$ED$1,0)),)=\"\",,IF(IFERROR(INDEX(Přehled_body!$E$3:$ED$130,MATCH(Tabulka!$AI38,Přehled_body!$A$3:$A$130,0),MATCH(Tabulka!W$2,Přehled_body!$E$1:$ED$1,0)),)=0,0.00000000001,IFERROR(INDEX(Přehled_body!$E$3:$ED$130,MATCH(Tabulka!$AI38,Přehled_body!$A$3:$A$130,0),MATCH(Tabulka!W$2,Přehled_body!$E$1:$ED$1,0)),)))","v":0},{"$f":"IF(IFERROR(INDEX(Přehled_body!$E$3:$ED$130,MATCH(Tabulka!$AI38,Přehled_body!$A$3:$A$130,0),MATCH(Tabulka!X$2,Přehled_body!$E$1:$ED$1,0)),)=\"\",,IF(IFERROR(INDEX(Přehled_body!$E$3:$ED$130,MATCH(Tabulka!$AI38,Přehled_body!$A$3:$A$130,0),MATCH(Tabulka!X$2,Přehled_body!$E$1:$ED$1,0)),)=0,0.00000000001,IFERROR(INDEX(Přehled_body!$E$3:$ED$130,MATCH(Tabulka!$AI38,Přehled_body!$A$3:$A$130,0),MATCH(Tabulka!X$2,Přehled_body!$E$1:$ED$1,0)),)))","v":0},{"$f":"IF(IFERROR(INDEX(Přehled_body!$E$3:$ED$130,MATCH(Tabulka!$AI38,Přehled_body!$A$3:$A$130,0),MATCH(Tabulka!Y$2,Přehled_body!$E$1:$ED$1,0)),)=\"\",,IF(IFERROR(INDEX(Přehled_body!$E$3:$ED$130,MATCH(Tabulka!$AI38,Přehled_body!$A$3:$A$130,0),MATCH(Tabulka!Y$2,Přehled_body!$E$1:$ED$1,0)),)=0,0.00000000001,IFERROR(INDEX(Přehled_body!$E$3:$ED$130,MATCH(Tabulka!$AI38,Přehled_body!$A$3:$A$130,0),MATCH(Tabulka!Y$2,Přehled_body!$E$1:$ED$1,0)),)))","v":0},{"$f":"IF(IFERROR(INDEX(Přehled_body!$E$3:$ED$130,MATCH(Tabulka!$AI38,Přehled_body!$A$3:$A$130,0),MATCH(Tabulka!Z$2,Přehled_body!$E$1:$ED$1,0)),)=\"\",,IF(IFERROR(INDEX(Přehled_body!$E$3:$ED$130,MATCH(Tabulka!$AI38,Přehled_body!$A$3:$A$130,0),MATCH(Tabulka!Z$2,Přehled_body!$E$1:$ED$1,0)),)=0,0.00000000001,IFERROR(INDEX(Přehled_body!$E$3:$ED$130,MATCH(Tabulka!$AI38,Přehled_body!$A$3:$A$130,0),MATCH(Tabulka!Z$2,Přehled_body!$E$1:$ED$1,0)),)))","v":0},{"$f":"IF(IFERROR(INDEX(Přehled_body!$E$3:$ED$130,MATCH(Tabulka!$AI38,Přehled_body!$A$3:$A$130,0),MATCH(Tabulka!AA$2,Přehled_body!$E$1:$ED$1,0)),)=\"\",,IF(IFERROR(INDEX(Přehled_body!$E$3:$ED$130,MATCH(Tabulka!$AI38,Přehled_body!$A$3:$A$130,0),MATCH(Tabulka!AA$2,Přehled_body!$E$1:$ED$1,0)),)=0,0.00000000001,IFERROR(INDEX(Přehled_body!$E$3:$ED$130,MATCH(Tabulka!$AI38,Přehled_body!$A$3:$A$130,0),MATCH(Tabulka!AA$2,Přehled_body!$E$1:$ED$1,0)),)))","v":0},{"$f":"IF(IFERROR(INDEX(Přehled_body!$E$3:$ED$130,MATCH(Tabulka!$AI38,Přehled_body!$A$3:$A$130,0),MATCH(Tabulka!AB$2,Přehled_body!$E$1:$ED$1,0)),)=\"\",,IF(IFERROR(INDEX(Přehled_body!$E$3:$ED$130,MATCH(Tabulka!$AI38,Přehled_body!$A$3:$A$130,0),MATCH(Tabulka!AB$2,Přehled_body!$E$1:$ED$1,0)),)=0,0.00000000001,IFERROR(INDEX(Přehled_body!$E$3:$ED$130,MATCH(Tabulka!$AI38,Přehled_body!$A$3:$A$130,0),MATCH(Tabulka!AB$2,Přehled_body!$E$1:$ED$1,0)),)))","v":0},{"$f":"IF(IFERROR(INDEX(Přehled_body!$E$3:$ED$130,MATCH(Tabulka!$AI38,Přehled_body!$A$3:$A$130,0),MATCH(Tabulka!AC$2,Přehled_body!$E$1:$ED$1,0)),)=\"\",,IF(IFERROR(INDEX(Přehled_body!$E$3:$ED$130,MATCH(Tabulka!$AI38,Přehled_body!$A$3:$A$130,0),MATCH(Tabulka!AC$2,Přehled_body!$E$1:$ED$1,0)),)=0,0.00000000001,IFERROR(INDEX(Přehled_body!$E$3:$ED$130,MATCH(Tabulka!$AI38,Přehled_body!$A$3:$A$130,0),MATCH(Tabulka!AC$2,Přehled_body!$E$1:$ED$1,0)),)))","v":0},{"$f":"IF(IFERROR(INDEX(Přehled_body!$E$3:$ED$130,MATCH(Tabulka!$AI38,Přehled_body!$A$3:$A$130,0),MATCH(Tabulka!AD$2,Přehled_body!$E$1:$ED$1,0)),)=\"\",,IF(IFERROR(INDEX(Přehled_body!$E$3:$ED$130,MATCH(Tabulka!$AI38,Přehled_body!$A$3:$A$130,0),MATCH(Tabulka!AD$2,Přehled_body!$E$1:$ED$1,0)),)=0,0.00000000001,IFERROR(INDEX(Přehled_body!$E$3:$ED$130,MATCH(Tabulka!$AI38,Přehled_body!$A$3:$A$130,0),MATCH(Tabulka!AD$2,Přehled_body!$E$1:$ED$1,0)),)))","v":0},{"$f":"IF(SUM($D$34:$AD$38)<1,-90000,SUM(D38:AD38))","v":39},null,null,null,{"$f":"CONCATENATE($B$35,\" \",$B$36,C38)","v":"Jiří BlínPoč. kol"}]
[null,null,"Výhry",{"$f":"IF(IFERROR(INDEX(Přehled_body!$E$3:$ED$130,MATCH(Tabulka!$AI39,Přehled_body!$A$3:$A$130,0),MATCH(Tabulka!D$2,Přehled_body!$E$1:$ED$1,0)),)=\"\",,IF(IFERROR(INDEX(Přehled_body!$E$3:$ED$130,MATCH(Tabulka!$AI39,Přehled_body!$A$3:$A$130,0),MATCH(Tabulka!D$2,Přehled_body!$E$1:$ED$1,0)),)=0,0.00000000001,IFERROR(INDEX(Přehled_body!$E$3:$ED$130,MATCH(Tabulka!$AI39,Přehled_body!$A$3:$A$130,0),MATCH(Tabulka!D$2,Přehled_body!$E$1:$ED$1,0)),)))","v":9.9999999999999994E-12},{"$f":"IF(IFERROR(INDEX(Přehled_body!$E$3:$ED$130,MATCH(Tabulka!$AI39,Přehled_body!$A$3:$A$130,0),MATCH(Tabulka!E$2,Přehled_body!$E$1:$ED$1,0)),)=\"\",,IF(IFERROR(INDEX(Přehled_body!$E$3:$ED$130,MATCH(Tabulka!$AI39,Přehled_body!$A$3:$A$130,0),MATCH(Tabulka!E$2,Přehled_body!$E$1:$ED$1,0)),)=0,0.00000000001,IFERROR(INDEX(Přehled_body!$E$3:$ED$130,MATCH(Tabulka!$AI39,Přehled_body!$A$3:$A$130,0),MATCH(Tabulka!E$2,Přehled_body!$E$1:$ED$1,0)),)))","v":0},{"$f":"IF(IFERROR(INDEX(Přehled_body!$E$3:$ED$130,MATCH(Tabulka!$AI39,Přehled_body!$A$3:$A$130,0),MATCH(Tabulka!F$2,Přehled_body!$E$1:$ED$1,0)),)=\"\",,IF(IFERROR(INDEX(Přehled_body!$E$3:$ED$130,MATCH(Tabulka!$AI39,Přehled_body!$A$3:$A$130,0),MATCH(Tabulka!F$2,Přehled_body!$E$1:$ED$1,0)),)=0,0.00000000001,IFERROR(INDEX(Přehled_body!$E$3:$ED$130,MATCH(Tabulka!$AI39,Přehled_body!$A$3:$A$130,0),MATCH(Tabulka!F$2,Přehled_body!$E$1:$ED$1,0)),)))","v":9.9999999999999994E-12},{"$f":"IF(IFERROR(INDEX(Přehled_body!$E$3:$ED$130,MATCH(Tabulka!$AI39,Přehled_body!$A$3:$A$130,0),MATCH(Tabulka!G$2,Přehled_body!$E$1:$ED$1,0)),)=\"\",,IF(IFERROR(INDEX(Přehled_body!$E$3:$ED$130,MATCH(Tabulka!$AI39,Přehled_body!$A$3:$A$130,0),MATCH(Tabulka!G$2,Přehled_body!$E$1:$ED$1,0)),)=0,0.00000000001,IFERROR(INDEX(Přehled_body!$E$3:$ED$130,MATCH(Tabulka!$AI39,Přehled_body!$A$3:$A$130,0),MATCH(Tabulka!G$2,Přehled_body!$E$1:$ED$1,0)),)))","v":9.9999999999999994E-12},{"$f":"IF(IFERROR(INDEX(Přehled_body!$E$3:$ED$130,MATCH(Tabulka!$AI39,Přehled_body!$A$3:$A$130,0),MATCH(Tabulka!H$2,Přehled_body!$E$1:$ED$1,0)),)=\"\",,IF(IFERROR(INDEX(Přehled_body!$E$3:$ED$130,MATCH(Tabulka!$AI39,Přehled_body!$A$3:$A$130,0),MATCH(Tabulka!H$2,Přehled_body!$E$1:$ED$1,0)),)=0,0.00000000001,IFERROR(INDEX(Přehled_body!$E$3:$ED$130,MATCH(Tabulka!$AI39,Přehled_body!$A$3:$A$130,0),MATCH(Tabulka!H$2,Přehled_body!$E$1:$ED$1,0)),)))","v":9.9999999999999994E-12},{"$f":"IF(IFERROR(INDEX(Přehled_body!$E$3:$ED$130,MATCH(Tabulka!$AI39,Přehled_body!$A$3:$A$130,0),MATCH(Tabulka!I$2,Přehled_body!$E$1:$ED$1,0)),)=\"\",,IF(IFERROR(INDEX(Přehled_body!$E$3:$ED$130,MATCH(Tabulka!$AI39,Přehled_body!$A$3:$A$130,0),MATCH(Tabulka!I$2,Přehled_body!$E$1:$ED$1,0)),)=0,0.00000000001,IFERROR(INDEX(Přehled_body!$E$3:$ED$130,MATCH(Tabulka!$AI39,Přehled_body!$A$3:$A$130,0),MATCH(Tabulka!I$2,Přehled_body!$E$1:$ED$1,0)),)))","v":0},{"$f":"IF(IFERROR(INDEX(Přehled_body!$E$3:$ED$130,MATCH(Tabulka!$AI39,Přehled_body!$A$3:$A$130,0),MATCH(Tabulka!J$2,Přehled_body!$E$1:$ED$1,0)),)=\"\",,IF(IFERROR(INDEX(Přehled_body!$E$3:$ED$130,MATCH(Tabulka!$AI39,Přehled_body!$A$3:$A$130,0),MATCH(Tabulka!J$2,Přehled_body!$E$1:$ED$1,0)),)=0,0.00000000001,IFERROR(INDEX(Přehled_body!$E$3:$ED$130,MATCH(Tabulka!$AI39,Přehled_body!$A$3:$A$130,0),MATCH(Tabulka!J$2,Přehled_body!$E$1:$ED$1,0)),)))","v":9.9999999999999994E-12},{"$f":"IF(IFERROR(INDEX(Přehled_body!$E$3:$ED$130,MATCH(Tabulka!$AI39,Přehled_body!$A$3:$A$130,0),MATCH(Tabulka!K$2,Přehled_body!$E$1:$ED$1,0)),)=\"\",,IF(IFERROR(INDEX(Přehled_body!$E$3:$ED$130,MATCH(Tabulka!$AI39,Přehled_body!$A$3:$A$130,0),MATCH(Tabulka!K$2,Přehled_body!$E$1:$ED$1,0)),)=0,0.00000000001,IFERROR(INDEX(Přehled_body!$E$3:$ED$130,MATCH(Tabulka!$AI39,Přehled_body!$A$3:$A$130,0),MATCH(Tabulka!K$2,Přehled_body!$E$1:$ED$1,0)),)))","v":9.9999999999999994E-12},{"$f":"IF(IFERROR(INDEX(Přehled_body!$E$3:$ED$130,MATCH(Tabulka!$AI39,Přehled_body!$A$3:$A$130,0),MATCH(Tabulka!L$2,Přehled_body!$E$1:$ED$1,0)),)=\"\",,IF(IFERROR(INDEX(Přehled_body!$E$3:$ED$130,MATCH(Tabulka!$AI39,Přehled_body!$A$3:$A$130,0),MATCH(Tabulka!L$2,Přehled_body!$E$1:$ED$1,0)),)=0,0.00000000001,IFERROR(INDEX(Přehled_body!$E$3:$ED$130,MATCH(Tabulka!$AI39,Přehled_body!$A$3:$A$130,0),MATCH(Tabulka!L$2,Přehled_body!$E$1:$ED$1,0)),)))","v":9.9999999999999994E-12},{"$f":"IF(IFERROR(INDEX(Přehled_body!$E$3:$ED$130,MATCH(Tabulka!$AI39,Přehled_body!$A$3:$A$130,0),MATCH(Tabulka!M$2,Přehled_body!$E$1:$ED$1,0)),)=\"\",,IF(IFERROR(INDEX(Přehled_body!$E$3:$ED$130,MATCH(Tabulka!$AI39,Přehled_body!$A$3:$A$130,0),MATCH(Tabulka!M$2,Přehled_body!$E$1:$ED$1,0)),)=0,0.00000000001,IFERROR(INDEX(Přehled_body!$E$3:$ED$130,MATCH(Tabulka!$AI39,Přehled_body!$A$3:$A$130,0),MATCH(Tabulka!M$2,Přehled_body!$E$1:$ED$1,0)),)))","v":0},{"$f":"IF(IFERROR(INDEX(Přehled_body!$E$3:$ED$130,MATCH(Tabulka!$AI39,Přehled_body!$A$3:$A$130,0),MATCH(Tabulka!N$2,Přehled_body!$E$1:$ED$1,0)),)=\"\",,IF(IFERROR(INDEX(Přehled_body!$E$3:$ED$130,MATCH(Tabulka!$AI39,Přehled_body!$A$3:$A$130,0),MATCH(Tabulka!N$2,Přehled_body!$E$1:$ED$1,0)),)=0,0.00000000001,IFERROR(INDEX(Přehled_body!$E$3:$ED$130,MATCH(Tabulka!$AI39,Přehled_body!$A$3:$A$130,0),MATCH(Tabulka!N$2,Přehled_body!$E$1:$ED$1,0)),)))","v":0},{"$f":"IF(IFERROR(INDEX(Přehled_body!$E$3:$ED$130,MATCH(Tabulka!$AI39,Přehled_body!$A$3:$A$130,0),MATCH(Tabulka!O$2,Přehled_body!$E$1:$ED$1,0)),)=\"\",,IF(IFERROR(INDEX(Přehled_body!$E$3:$ED$130,MATCH(Tabulka!$AI39,Přehled_body!$A$3:$A$130,0),MATCH(Tabulka!O$2,Přehled_body!$E$1:$ED$1,0)),)=0,0.00000000001,IFERROR(INDEX(Přehled_body!$E$3:$ED$130,MATCH(Tabulka!$AI39,Přehled_body!$A$3:$A$130,0),MATCH(Tabulka!O$2,Přehled_body!$E$1:$ED$1,0)),)))","v":0},{"$f":"IF(IFERROR(INDEX(Přehled_body!$E$3:$ED$130,MATCH(Tabulka!$AI39,Přehled_body!$A$3:$A$130,0),MATCH(Tabulka!P$2,Přehled_body!$E$1:$ED$1,0)),)=\"\",,IF(IFERROR(INDEX(Přehled_body!$E$3:$ED$130,MATCH(Tabulka!$AI39,Přehled_body!$A$3:$A$130,0),MATCH(Tabulka!P$2,Přehled_body!$E$1:$ED$1,0)),)=0,0.00000000001,IFERROR(INDEX(Přehled_body!$E$3:$ED$130,MATCH(Tabulka!$AI39,Přehled_body!$A$3:$A$130,0),MATCH(Tabulka!P$2,Přehled_body!$E$1:$ED$1,0)),)))","v":0},{"$f":"IF(IFERROR(INDEX(Přehled_body!$E$3:$ED$130,MATCH(Tabulka!$AI39,Přehled_body!$A$3:$A$130,0),MATCH(Tabulka!Q$2,Přehled_body!$E$1:$ED$1,0)),)=\"\",,IF(IFERROR(INDEX(Přehled_body!$E$3:$ED$130,MATCH(Tabulka!$AI39,Přehled_body!$A$3:$A$130,0),MATCH(Tabulka!Q$2,Přehled_body!$E$1:$ED$1,0)),)=0,0.00000000001,IFERROR(INDEX(Přehled_body!$E$3:$ED$130,MATCH(Tabulka!$AI39,Přehled_body!$A$3:$A$130,0),MATCH(Tabulka!Q$2,Přehled_body!$E$1:$ED$1,0)),)))","v":0},{"$f":"IF(IFERROR(INDEX(Přehled_body!$E$3:$ED$130,MATCH(Tabulka!$AI39,Přehled_body!$A$3:$A$130,0),MATCH(Tabulka!R$2,Přehled_body!$E$1:$ED$1,0)),)=\"\",,IF(IFERROR(INDEX(Přehled_body!$E$3:$ED$130,MATCH(Tabulka!$AI39,Přehled_body!$A$3:$A$130,0),MATCH(Tabulka!R$2,Přehled_body!$E$1:$ED$1,0)),)=0,0.00000000001,IFERROR(INDEX(Přehled_body!$E$3:$ED$130,MATCH(Tabulka!$AI39,Přehled_body!$A$3:$A$130,0),MATCH(Tabulka!R$2,Přehled_body!$E$1:$ED$1,0)),)))","v":0},{"$f":"IF(IFERROR(INDEX(Přehled_body!$E$3:$ED$130,MATCH(Tabulka!$AI39,Přehled_body!$A$3:$A$130,0),MATCH(Tabulka!S$2,Přehled_body!$E$1:$ED$1,0)),)=\"\",,IF(IFERROR(INDEX(Přehled_body!$E$3:$ED$130,MATCH(Tabulka!$AI39,Přehled_body!$A$3:$A$130,0),MATCH(Tabulka!S$2,Přehled_body!$E$1:$ED$1,0)),)=0,0.00000000001,IFERROR(INDEX(Přehled_body!$E$3:$ED$130,MATCH(Tabulka!$AI39,Přehled_body!$A$3:$A$130,0),MATCH(Tabulka!S$2,Přehled_body!$E$1:$ED$1,0)),)))","v":0},{"$f":"IF(IFERROR(INDEX(Přehled_body!$E$3:$ED$130,MATCH(Tabulka!$AI39,Přehled_body!$A$3:$A$130,0),MATCH(Tabulka!T$2,Přehled_body!$E$1:$ED$1,0)),)=\"\",,IF(IFERROR(INDEX(Přehled_body!$E$3:$ED$130,MATCH(Tabulka!$AI39,Přehled_body!$A$3:$A$130,0),MATCH(Tabulka!T$2,Přehled_body!$E$1:$ED$1,0)),)=0,0.00000000001,IFERROR(INDEX(Přehled_body!$E$3:$ED$130,MATCH(Tabulka!$AI39,Přehled_body!$A$3:$A$130,0),MATCH(Tabulka!T$2,Přehled_body!$E$1:$ED$1,0)),)))","v":0},{"$f":"IF(IFERROR(INDEX(Přehled_body!$E$3:$ED$130,MATCH(Tabulka!$AI39,Přehled_body!$A$3:$A$130,0),MATCH(Tabulka!U$2,Přehled_body!$E$1:$ED$1,0)),)=\"\",,IF(IFERROR(INDEX(Přehled_body!$E$3:$ED$130,MATCH(Tabulka!$AI39,Přehled_body!$A$3:$A$130,0),MATCH(Tabulka!U$2,Přehled_body!$E$1:$ED$1,0)),)=0,0.00000000001,IFERROR(INDEX(Přehled_body!$E$3:$ED$130,MATCH(Tabulka!$AI39,Přehled_body!$A$3:$A$130,0),MATCH(Tabulka!U$2,Přehled_body!$E$1:$ED$1,0)),)))","v":0},{"$f":"IF(IFERROR(INDEX(Přehled_body!$E$3:$ED$130,MATCH(Tabulka!$AI39,Přehled_body!$A$3:$A$130,0),MATCH(Tabulka!V$2,Přehled_body!$E$1:$ED$1,0)),)=\"\",,IF(IFERROR(INDEX(Přehled_body!$E$3:$ED$130,MATCH(Tabulka!$AI39,Přehled_body!$A$3:$A$130,0),MATCH(Tabulka!V$2,Přehled_body!$E$1:$ED$1,0)),)=0,0.00000000001,IFERROR(INDEX(Přehled_body!$E$3:$ED$130,MATCH(Tabulka!$AI39,Přehled_body!$A$3:$A$130,0),MATCH(Tabulka!V$2,Přehled_body!$E$1:$ED$1,0)),)))","v":0},{"$f":"IF(IFERROR(INDEX(Přehled_body!$E$3:$ED$130,MATCH(Tabulka!$AI39,Přehled_body!$A$3:$A$130,0),MATCH(Tabulka!W$2,Přehled_body!$E$1:$ED$1,0)),)=\"\",,IF(IFERROR(INDEX(Přehled_body!$E$3:$ED$130,MATCH(Tabulka!$AI39,Přehled_body!$A$3:$A$130,0),MATCH(Tabulka!W$2,Přehled_body!$E$1:$ED$1,0)),)=0,0.00000000001,IFERROR(INDEX(Přehled_body!$E$3:$ED$130,MATCH(Tabulka!$AI39,Přehled_body!$A$3:$A$130,0),MATCH(Tabulka!W$2,Přehled_body!$E$1:$ED$1,0)),)))","v":0},{"$f":"IF(IFERROR(INDEX(Přehled_body!$E$3:$ED$130,MATCH(Tabulka!$AI39,Přehled_body!$A$3:$A$130,0),MATCH(Tabulka!X$2,Přehled_body!$E$1:$ED$1,0)),)=\"\",,IF(IFERROR(INDEX(Přehled_body!$E$3:$ED$130,MATCH(Tabulka!$AI39,Přehled_body!$A$3:$A$130,0),MATCH(Tabulka!X$2,Přehled_body!$E$1:$ED$1,0)),)=0,0.00000000001,IFERROR(INDEX(Přehled_body!$E$3:$ED$130,MATCH(Tabulka!$AI39,Přehled_body!$A$3:$A$130,0),MATCH(Tabulka!X$2,Přehled_body!$E$1:$ED$1,0)),)))","v":0},{"$f":"IF(IFERROR(INDEX(Přehled_body!$E$3:$ED$130,MATCH(Tabulka!$AI39,Přehled_body!$A$3:$A$130,0),MATCH(Tabulka!Y$2,Přehled_body!$E$1:$ED$1,0)),)=\"\",,IF(IFERROR(INDEX(Přehled_body!$E$3:$ED$130,MATCH(Tabulka!$AI39,Přehled_body!$A$3:$A$130,0),MATCH(Tabulka!Y$2,Přehled_body!$E$1:$ED$1,0)),)=0,0.00000000001,IFERROR(INDEX(Přehled_body!$E$3:$ED$130,MATCH(Tabulka!$AI39,Přehled_body!$A$3:$A$130,0),MATCH(Tabulka!Y$2,Přehled_body!$E$1:$ED$1,0)),)))","v":0},{"$f":"IF(IFERROR(INDEX(Přehled_body!$E$3:$ED$130,MATCH(Tabulka!$AI39,Přehled_body!$A$3:$A$130,0),MATCH(Tabulka!Z$2,Přehled_body!$E$1:$ED$1,0)),)=\"\",,IF(IFERROR(INDEX(Přehled_body!$E$3:$ED$130,MATCH(Tabulka!$AI39,Přehled_body!$A$3:$A$130,0),MATCH(Tabulka!Z$2,Přehled_body!$E$1:$ED$1,0)),)=0,0.00000000001,IFERROR(INDEX(Přehled_body!$E$3:$ED$130,MATCH(Tabulka!$AI39,Přehled_body!$A$3:$A$130,0),MATCH(Tabulka!Z$2,Přehled_body!$E$1:$ED$1,0)),)))","v":0},{"$f":"IF(IFERROR(INDEX(Přehled_body!$E$3:$ED$130,MATCH(Tabulka!$AI39,Přehled_body!$A$3:$A$130,0),MATCH(Tabulka!AA$2,Přehled_body!$E$1:$ED$1,0)),)=\"\",,IF(IFERROR(INDEX(Přehled_body!$E$3:$ED$130,MATCH(Tabulka!$AI39,Přehled_body!$A$3:$A$130,0),MATCH(Tabulka!AA$2,Přehled_body!$E$1:$ED$1,0)),)=0,0.00000000001,IFERROR(INDEX(Přehled_body!$E$3:$ED$130,MATCH(Tabulka!$AI39,Přehled_body!$A$3:$A$130,0),MATCH(Tabulka!AA$2,Přehled_body!$E$1:$ED$1,0)),)))","v":0},{"$f":"IF(IFERROR(INDEX(Přehled_body!$E$3:$ED$130,MATCH(Tabulka!$AI39,Přehled_body!$A$3:$A$130,0),MATCH(Tabulka!AB$2,Přehled_body!$E$1:$ED$1,0)),)=\"\",,IF(IFERROR(INDEX(Přehled_body!$E$3:$ED$130,MATCH(Tabulka!$AI39,Přehled_body!$A$3:$A$130,0),MATCH(Tabulka!AB$2,Přehled_body!$E$1:$ED$1,0)),)=0,0.00000000001,IFERROR(INDEX(Přehled_body!$E$3:$ED$130,MATCH(Tabulka!$AI39,Přehled_body!$A$3:$A$130,0),MATCH(Tabulka!AB$2,Přehled_body!$E$1:$ED$1,0)),)))","v":0},{"$f":"IF(IFERROR(INDEX(Přehled_body!$E$3:$ED$130,MATCH(Tabulka!$AI39,Přehled_body!$A$3:$A$130,0),MATCH(Tabulka!AC$2,Přehled_body!$E$1:$ED$1,0)),)=\"\",,IF(IFERROR(INDEX(Přehled_body!$E$3:$ED$130,MATCH(Tabulka!$AI39,Přehled_body!$A$3:$A$130,0),MATCH(Tabulka!AC$2,Přehled_body!$E$1:$ED$1,0)),)=0,0.00000000001,IFERROR(INDEX(Přehled_body!$E$3:$ED$130,MATCH(Tabulka!$AI39,Přehled_body!$A$3:$A$130,0),MATCH(Tabulka!AC$2,Přehled_body!$E$1:$ED$1,0)),)))","v":0},{"$f":"IF(IFERROR(INDEX(Přehled_body!$E$3:$ED$130,MATCH(Tabulka!$AI39,Přehled_body!$A$3:$A$130,0),MATCH(Tabulka!AD$2,Přehled_body!$E$1:$ED$1,0)),)=\"\",,IF(IFERROR(INDEX(Přehled_body!$E$3:$ED$130,MATCH(Tabulka!$AI39,Přehled_body!$A$3:$A$130,0),MATCH(Tabulka!AD$2,Přehled_body!$E$1:$ED$1,0)),)=0,0.00000000001,IFERROR(INDEX(Přehled_body!$E$3:$ED$130,MATCH(Tabulka!$AI39,Přehled_body!$A$3:$A$130,0),MATCH(Tabulka!AD$2,Přehled_body!$E$1:$ED$1,0)),)))","v":0},{"$f":"IF(SUM($D$39:$AD$43)<1,-90000,SUM(D39:AD39))","v":7.0000000000000004E-11},null,{"$f":"COUNTIF(D39:AD39,\">0\")","v":7},null,{"$f":"CONCATENATE($B$40,\" \",$B$41,C39)","v":"Adam ŠmídVýhry"}]
[{"$f":"CONCATENATE(B40,\" \",B41)","v":"Adam Šmíd"},"Adam","Prohry",{"$f":"IF(IFERROR(INDEX(Přehled_body!$E$3:$ED$130,MATCH(Tabulka!$AI40,Přehled_body!$A$3:$A$130,0),MATCH(Tabulka!D$2,Přehled_body!$E$1:$ED$1,0)),)=\"\",,IF(IFERROR(INDEX(Přehled_body!$E$3:$ED$130,MATCH(Tabulka!$AI40,Přehled_body!$A$3:$A$130,0),MATCH(Tabulka!D$2,Přehled_body!$E$1:$ED$1,0)),)=0,0.00000000001,IFERROR(INDEX(Přehled_body!$E$3:$ED$130,MATCH(Tabulka!$AI40,Přehled_body!$A$3:$A$130,0),MATCH(Tabulka!D$2,Přehled_body!$E$1:$ED$1,0)),)))","v":9.9999999999999994E-12},{"$f":"IF(IFERROR(INDEX(Přehled_body!$E$3:$ED$130,MATCH(Tabulka!$AI40,Přehled_body!$A$3:$A$130,0),MATCH(Tabulka!E$2,Přehled_body!$E$1:$ED$1,0)),)=\"\",,IF(IFERROR(INDEX(Přehled_body!$E$3:$ED$130,MATCH(Tabulka!$AI40,Přehled_body!$A$3:$A$130,0),MATCH(Tabulka!E$2,Přehled_body!$E$1:$ED$1,0)),)=0,0.00000000001,IFERROR(INDEX(Přehled_body!$E$3:$ED$130,MATCH(Tabulka!$AI40,Přehled_body!$A$3:$A$130,0),MATCH(Tabulka!E$2,Přehled_body!$E$1:$ED$1,0)),)))","v":0},{"$f":"IF(IFERROR(INDEX(Přehled_body!$E$3:$ED$130,MATCH(Tabulka!$AI40,Přehled_body!$A$3:$A$130,0),MATCH(Tabulka!F$2,Přehled_body!$E$1:$ED$1,0)),)=\"\",,IF(IFERROR(INDEX(Přehled_body!$E$3:$ED$130,MATCH(Tabulka!$AI40,Přehled_body!$A$3:$A$130,0),MATCH(Tabulka!F$2,Přehled_body!$E$1:$ED$1,0)),)=0,0.00000000001,IFERROR(INDEX(Přehled_body!$E$3:$ED$130,MATCH(Tabulka!$AI40,Přehled_body!$A$3:$A$130,0),MATCH(Tabulka!F$2,Přehled_body!$E$1:$ED$1,0)),)))","v":9.9999999999999994E-12},{"$f":"IF(IFERROR(INDEX(Přehled_body!$E$3:$ED$130,MATCH(Tabulka!$AI40,Přehled_body!$A$3:$A$130,0),MATCH(Tabulka!G$2,Přehled_body!$E$1:$ED$1,0)),)=\"\",,IF(IFERROR(INDEX(Přehled_body!$E$3:$ED$130,MATCH(Tabulka!$AI40,Přehled_body!$A$3:$A$130,0),MATCH(Tabulka!G$2,Přehled_body!$E$1:$ED$1,0)),)=0,0.00000000001,IFERROR(INDEX(Přehled_body!$E$3:$ED$130,MATCH(Tabulka!$AI40,Přehled_body!$A$3:$A$130,0),MATCH(Tabulka!G$2,Přehled_body!$E$1:$ED$1,0)),)))","v":1},{"$f":"IF(IFERROR(INDEX(Přehled_body!$E$3:$ED$130,MATCH(Tabulka!$AI40,Přehled_body!$A$3:$A$130,0),MATCH(Tabulka!H$2,Přehled_body!$E$1:$ED$1,0)),)=\"\",,IF(IFERROR(INDEX(Přehled_body!$E$3:$ED$130,MATCH(Tabulka!$AI40,Přehled_body!$A$3:$A$130,0),MATCH(Tabulka!H$2,Přehled_body!$E$1:$ED$1,0)),)=0,0.00000000001,IFERROR(INDEX(Přehled_body!$E$3:$ED$130,MATCH(Tabulka!$AI40,Přehled_body!$A$3:$A$130,0),MATCH(Tabulka!H$2,Přehled_body!$E$1:$ED$1,0)),)))","v":1},{"$f":"IF(IFERROR(INDEX(Přehled_body!$E$3:$ED$130,MATCH(Tabulka!$AI40,Přehled_body!$A$3:$A$130,0),MATCH(Tabulka!I$2,Přehled_body!$E$1:$ED$1,0)),)=\"\",,IF(IFERROR(INDEX(Přehled_body!$E$3:$ED$130,MATCH(Tabulka!$AI40,Přehled_body!$A$3:$A$130,0),MATCH(Tabulka!I$2,Přehled_body!$E$1:$ED$1,0)),)=0,0.00000000001,IFERROR(INDEX(Přehled_body!$E$3:$ED$130,MATCH(Tabulka!$AI40,Přehled_body!$A$3:$A$130,0),MATCH(Tabulka!I$2,Přehled_body!$E$1:$ED$1,0)),)))","v":0},{"$f":"IF(IFERROR(INDEX(Přehled_body!$E$3:$ED$130,MATCH(Tabulka!$AI40,Přehled_body!$A$3:$A$130,0),MATCH(Tabulka!J$2,Přehled_body!$E$1:$ED$1,0)),)=\"\",,IF(IFERROR(INDEX(Přehled_body!$E$3:$ED$130,MATCH(Tabulka!$AI40,Přehled_body!$A$3:$A$130,0),MATCH(Tabulka!J$2,Přehled_body!$E$1:$ED$1,0)),)=0,0.00000000001,IFERROR(INDEX(Přehled_body!$E$3:$ED$130,MATCH(Tabulka!$AI40,Přehled_body!$A$3:$A$130,0),MATCH(Tabulka!J$2,Přehled_body!$E$1:$ED$1,0)),)))","v":9.9999999999999994E-12},{"$f":"IF(IFERROR(INDEX(Přehled_body!$E$3:$ED$130,MATCH(Tabulka!$AI40,Přehled_body!$A$3:$A$130,0),MATCH(Tabulka!K$2,Přehled_body!$E$1:$ED$1,0)),)=\"\",,IF(IFERROR(INDEX(Přehled_body!$E$3:$ED$130,MATCH(Tabulka!$AI40,Přehled_body!$A$3:$A$130,0),MATCH(Tabulka!K$2,Přehled_body!$E$1:$ED$1,0)),)=0,0.00000000001,IFERROR(INDEX(Přehled_body!$E$3:$ED$130,MATCH(Tabulka!$AI40,Přehled_body!$A$3:$A$130,0),MATCH(Tabulka!K$2,Přehled_body!$E$1:$ED$1,0)),)))","v":1},{"$f":"IF(IFERROR(INDEX(Přehled_body!$E$3:$ED$130,MATCH(Tabulka!$AI40,Přehled_body!$A$3:$A$130,0),MATCH(Tabulka!L$2,Přehled_body!$E$1:$ED$1,0)),)=\"\",,IF(IFERROR(INDEX(Přehled_body!$E$3:$ED$130,MATCH(Tabulka!$AI40,Přehled_body!$A$3:$A$130,0),MATCH(Tabulka!L$2,Přehled_body!$E$1:$ED$1,0)),)=0,0.00000000001,IFERROR(INDEX(Přehled_body!$E$3:$ED$130,MATCH(Tabulka!$AI40,Přehled_body!$A$3:$A$130,0),MATCH(Tabulka!L$2,Přehled_body!$E$1:$ED$1,0)),)))","v":1},{"$f":"IF(IFERROR(INDEX(Přehled_body!$E$3:$ED$130,MATCH(Tabulka!$AI40,Přehled_body!$A$3:$A$130,0),MATCH(Tabulka!M$2,Přehled_body!$E$1:$ED$1,0)),)=\"\",,IF(IFERROR(INDEX(Přehled_body!$E$3:$ED$130,MATCH(Tabulka!$AI40,Přehled_body!$A$3:$A$130,0),MATCH(Tabulka!M$2,Přehled_body!$E$1:$ED$1,0)),)=0,0.00000000001,IFERROR(INDEX(Přehled_body!$E$3:$ED$130,MATCH(Tabulka!$AI40,Přehled_body!$A$3:$A$130,0),MATCH(Tabulka!M$2,Přehled_body!$E$1:$ED$1,0)),)))","v":0},{"$f":"IF(IFERROR(INDEX(Přehled_body!$E$3:$ED$130,MATCH(Tabulka!$AI40,Přehled_body!$A$3:$A$130,0),MATCH(Tabulka!N$2,Přehled_body!$E$1:$ED$1,0)),)=\"\",,IF(IFERROR(INDEX(Přehled_body!$E$3:$ED$130,MATCH(Tabulka!$AI40,Přehled_body!$A$3:$A$130,0),MATCH(Tabulka!N$2,Přehled_body!$E$1:$ED$1,0)),)=0,0.00000000001,IFERROR(INDEX(Přehled_body!$E$3:$ED$130,MATCH(Tabulka!$AI40,Přehled_body!$A$3:$A$130,0),MATCH(Tabulka!N$2,Přehled_body!$E$1:$ED$1,0)),)))","v":0},{"$f":"IF(IFERROR(INDEX(Přehled_body!$E$3:$ED$130,MATCH(Tabulka!$AI40,Přehled_body!$A$3:$A$130,0),MATCH(Tabulka!O$2,Přehled_body!$E$1:$ED$1,0)),)=\"\",,IF(IFERROR(INDEX(Přehled_body!$E$3:$ED$130,MATCH(Tabulka!$AI40,Přehled_body!$A$3:$A$130,0),MATCH(Tabulka!O$2,Přehled_body!$E$1:$ED$1,0)),)=0,0.00000000001,IFERROR(INDEX(Přehled_body!$E$3:$ED$130,MATCH(Tabulka!$AI40,Přehled_body!$A$3:$A$130,0),MATCH(Tabulka!O$2,Přehled_body!$E$1:$ED$1,0)),)))","v":0},{"$f":"IF(IFERROR(INDEX(Přehled_body!$E$3:$ED$130,MATCH(Tabulka!$AI40,Přehled_body!$A$3:$A$130,0),MATCH(Tabulka!P$2,Přehled_body!$E$1:$ED$1,0)),)=\"\",,IF(IFERROR(INDEX(Přehled_body!$E$3:$ED$130,MATCH(Tabulka!$AI40,Přehled_body!$A$3:$A$130,0),MATCH(Tabulka!P$2,Přehled_body!$E$1:$ED$1,0)),)=0,0.00000000001,IFERROR(INDEX(Přehled_body!$E$3:$ED$130,MATCH(Tabulka!$AI40,Přehled_body!$A$3:$A$130,0),MATCH(Tabulka!P$2,Přehled_body!$E$1:$ED$1,0)),)))","v":0},{"$f":"IF(IFERROR(INDEX(Přehled_body!$E$3:$ED$130,MATCH(Tabulka!$AI40,Přehled_body!$A$3:$A$130,0),MATCH(Tabulka!Q$2,Přehled_body!$E$1:$ED$1,0)),)=\"\",,IF(IFERROR(INDEX(Přehled_body!$E$3:$ED$130,MATCH(Tabulka!$AI40,Přehled_body!$A$3:$A$130,0),MATCH(Tabulka!Q$2,Přehled_body!$E$1:$ED$1,0)),)=0,0.00000000001,IFERROR(INDEX(Přehled_body!$E$3:$ED$130,MATCH(Tabulka!$AI40,Přehled_body!$A$3:$A$130,0),MATCH(Tabulka!Q$2,Přehled_body!$E$1:$ED$1,0)),)))","v":0},{"$f":"IF(IFERROR(INDEX(Přehled_body!$E$3:$ED$130,MATCH(Tabulka!$AI40,Přehled_body!$A$3:$A$130,0),MATCH(Tabulka!R$2,Přehled_body!$E$1:$ED$1,0)),)=\"\",,IF(IFERROR(INDEX(Přehled_body!$E$3:$ED$130,MATCH(Tabulka!$AI40,Přehled_body!$A$3:$A$130,0),MATCH(Tabulka!R$2,Přehled_body!$E$1:$ED$1,0)),)=0,0.00000000001,IFERROR(INDEX(Přehled_body!$E$3:$ED$130,MATCH(Tabulka!$AI40,Přehled_body!$A$3:$A$130,0),MATCH(Tabulka!R$2,Přehled_body!$E$1:$ED$1,0)),)))","v":0},{"$f":"IF(IFERROR(INDEX(Přehled_body!$E$3:$ED$130,MATCH(Tabulka!$AI40,Přehled_body!$A$3:$A$130,0),MATCH(Tabulka!S$2,Přehled_body!$E$1:$ED$1,0)),)=\"\",,IF(IFERROR(INDEX(Přehled_body!$E$3:$ED$130,MATCH(Tabulka!$AI40,Přehled_body!$A$3:$A$130,0),MATCH(Tabulka!S$2,Přehled_body!$E$1:$ED$1,0)),)=0,0.00000000001,IFERROR(INDEX(Přehled_body!$E$3:$ED$130,MATCH(Tabulka!$AI40,Přehled_body!$A$3:$A$130,0),MATCH(Tabulka!S$2,Přehled_body!$E$1:$ED$1,0)),)))","v":0},{"$f":"IF(IFERROR(INDEX(Přehled_body!$E$3:$ED$130,MATCH(Tabulka!$AI40,Přehled_body!$A$3:$A$130,0),MATCH(Tabulka!T$2,Přehled_body!$E$1:$ED$1,0)),)=\"\",,IF(IFERROR(INDEX(Přehled_body!$E$3:$ED$130,MATCH(Tabulka!$AI40,Přehled_body!$A$3:$A$130,0),MATCH(Tabulka!T$2,Přehled_body!$E$1:$ED$1,0)),)=0,0.00000000001,IFERROR(INDEX(Přehled_body!$E$3:$ED$130,MATCH(Tabulka!$AI40,Přehled_body!$A$3:$A$130,0),MATCH(Tabulka!T$2,Přehled_body!$E$1:$ED$1,0)),)))","v":0},{"$f":"IF(IFERROR(INDEX(Přehled_body!$E$3:$ED$130,MATCH(Tabulka!$AI40,Přehled_body!$A$3:$A$130,0),MATCH(Tabulka!U$2,Přehled_body!$E$1:$ED$1,0)),)=\"\",,IF(IFERROR(INDEX(Přehled_body!$E$3:$ED$130,MATCH(Tabulka!$AI40,Přehled_body!$A$3:$A$130,0),MATCH(Tabulka!U$2,Přehled_body!$E$1:$ED$1,0)),)=0,0.00000000001,IFERROR(INDEX(Přehled_body!$E$3:$ED$130,MATCH(Tabulka!$AI40,Přehled_body!$A$3:$A$130,0),MATCH(Tabulka!U$2,Přehled_body!$E$1:$ED$1,0)),)))","v":0},{"$f":"IF(IFERROR(INDEX(Přehled_body!$E$3:$ED$130,MATCH(Tabulka!$AI40,Přehled_body!$A$3:$A$130,0),MATCH(Tabulka!V$2,Přehled_body!$E$1:$ED$1,0)),)=\"\",,IF(IFERROR(INDEX(Přehled_body!$E$3:$ED$130,MATCH(Tabulka!$AI40,Přehled_body!$A$3:$A$130,0),MATCH(Tabulka!V$2,Přehled_body!$E$1:$ED$1,0)),)=0,0.00000000001,IFERROR(INDEX(Přehled_body!$E$3:$ED$130,MATCH(Tabulka!$AI40,Přehled_body!$A$3:$A$130,0),MATCH(Tabulka!V$2,Přehled_body!$E$1:$ED$1,0)),)))","v":0},{"$f":"IF(IFERROR(INDEX(Přehled_body!$E$3:$ED$130,MATCH(Tabulka!$AI40,Přehled_body!$A$3:$A$130,0),MATCH(Tabulka!W$2,Přehled_body!$E$1:$ED$1,0)),)=\"\",,IF(IFERROR(INDEX(Přehled_body!$E$3:$ED$130,MATCH(Tabulka!$AI40,Přehled_body!$A$3:$A$130,0),MATCH(Tabulka!W$2,Přehled_body!$E$1:$ED$1,0)),)=0,0.00000000001,IFERROR(INDEX(Přehled_body!$E$3:$ED$130,MATCH(Tabulka!$AI40,Přehled_body!$A$3:$A$130,0),MATCH(Tabulka!W$2,Přehled_body!$E$1:$ED$1,0)),)))","v":0},{"$f":"IF(IFERROR(INDEX(Přehled_body!$E$3:$ED$130,MATCH(Tabulka!$AI40,Přehled_body!$A$3:$A$130,0),MATCH(Tabulka!X$2,Přehled_body!$E$1:$ED$1,0)),)=\"\",,IF(IFERROR(INDEX(Přehled_body!$E$3:$ED$130,MATCH(Tabulka!$AI40,Přehled_body!$A$3:$A$130,0),MATCH(Tabulka!X$2,Přehled_body!$E$1:$ED$1,0)),)=0,0.00000000001,IFERROR(INDEX(Přehled_body!$E$3:$ED$130,MATCH(Tabulka!$AI40,Přehled_body!$A$3:$A$130,0),MATCH(Tabulka!X$2,Přehled_body!$E$1:$ED$1,0)),)))","v":0},{"$f":"IF(IFERROR(INDEX(Přehled_body!$E$3:$ED$130,MATCH(Tabulka!$AI40,Přehled_body!$A$3:$A$130,0),MATCH(Tabulka!Y$2,Přehled_body!$E$1:$ED$1,0)),)=\"\",,IF(IFERROR(INDEX(Přehled_body!$E$3:$ED$130,MATCH(Tabulka!$AI40,Přehled_body!$A$3:$A$130,0),MATCH(Tabulka!Y$2,Přehled_body!$E$1:$ED$1,0)),)=0,0.00000000001,IFERROR(INDEX(Přehled_body!$E$3:$ED$130,MATCH(Tabulka!$AI40,Přehled_body!$A$3:$A$130,0),MATCH(Tabulka!Y$2,Přehled_body!$E$1:$ED$1,0)),)))","v":0},{"$f":"IF(IFERROR(INDEX(Přehled_body!$E$3:$ED$130,MATCH(Tabulka!$AI40,Přehled_body!$A$3:$A$130,0),MATCH(Tabulka!Z$2,Přehled_body!$E$1:$ED$1,0)),)=\"\",,IF(IFERROR(INDEX(Přehled_body!$E$3:$ED$130,MATCH(Tabulka!$AI40,Přehled_body!$A$3:$A$130,0),MATCH(Tabulka!Z$2,Přehled_body!$E$1:$ED$1,0)),)=0,0.00000000001,IFERROR(INDEX(Přehled_body!$E$3:$ED$130,MATCH(Tabulka!$AI40,Přehled_body!$A$3:$A$130,0),MATCH(Tabulka!Z$2,Přehled_body!$E$1:$ED$1,0)),)))","v":0},{"$f":"IF(IFERROR(INDEX(Přehled_body!$E$3:$ED$130,MATCH(Tabulka!$AI40,Přehled_body!$A$3:$A$130,0),MATCH(Tabulka!AA$2,Přehled_body!$E$1:$ED$1,0)),)=\"\",,IF(IFERROR(INDEX(Přehled_body!$E$3:$ED$130,MATCH(Tabulka!$AI40,Přehled_body!$A$3:$A$130,0),MATCH(Tabulka!AA$2,Přehled_body!$E$1:$ED$1,0)),)=0,0.00000000001,IFERROR(INDEX(Přehled_body!$E$3:$ED$130,MATCH(Tabulka!$AI40,Přehled_body!$A$3:$A$130,0),MATCH(Tabulka!AA$2,Přehled_body!$E$1:$ED$1,0)),)))","v":0},{"$f":"IF(IFERROR(INDEX(Přehled_body!$E$3:$ED$130,MATCH(Tabulka!$AI40,Přehled_body!$A$3:$A$130,0),MATCH(Tabulka!AB$2,Přehled_body!$E$1:$ED$1,0)),)=\"\",,IF(IFERROR(INDEX(Přehled_body!$E$3:$ED$130,MATCH(Tabulka!$AI40,Přehled_body!$A$3:$A$130,0),MATCH(Tabulka!AB$2,Přehled_body!$E$1:$ED$1,0)),)=0,0.00000000001,IFERROR(INDEX(Přehled_body!$E$3:$ED$130,MATCH(Tabulka!$AI40,Přehled_body!$A$3:$A$130,0),MATCH(Tabulka!AB$2,Přehled_body!$E$1:$ED$1,0)),)))","v":0},{"$f":"IF(IFERROR(INDEX(Přehled_body!$E$3:$ED$130,MATCH(Tabulka!$AI40,Přehled_body!$A$3:$A$130,0),MATCH(Tabulka!AC$2,Přehled_body!$E$1:$ED$1,0)),)=\"\",,IF(IFERROR(INDEX(Přehled_body!$E$3:$ED$130,MATCH(Tabulka!$AI40,Přehled_body!$A$3:$A$130,0),MATCH(Tabulka!AC$2,Přehled_body!$E$1:$ED$1,0)),)=0,0.00000000001,IFERROR(INDEX(Přehled_body!$E$3:$ED$130,MATCH(Tabulka!$AI40,Přehled_body!$A$3:$A$130,0),MATCH(Tabulka!AC$2,Přehled_body!$E$1:$ED$1,0)),)))","v":0},{"$f":"IF(IFERROR(INDEX(Přehled_body!$E$3:$ED$130,MATCH(Tabulka!$AI40,Přehled_body!$A$3:$A$130,0),MATCH(Tabulka!AD$2,Přehled_body!$E$1:$ED$1,0)),)=\"\",,IF(IFERROR(INDEX(Přehled_body!$E$3:$ED$130,MATCH(Tabulka!$AI40,Přehled_body!$A$3:$A$130,0),MATCH(Tabulka!AD$2,Přehled_body!$E$1:$ED$1,0)),)=0,0.00000000001,IFERROR(INDEX(Přehled_body!$E$3:$ED$130,MATCH(Tabulka!$AI40,Přehled_body!$A$3:$A$130,0),MATCH(Tabulka!AD$2,Přehled_body!$E$1:$ED$1,0)),)))","v":0},{"$f":"IF(SUM($D$39:$AD$43)<1,-90000,SUM(D40:AD40))","v":4.00000000003},{"$f":"IF(AE43>0.9,SUM(AE39-AE40)+0.00000001,0)","v":-3.9999999899600001},null,null,{"$f":"CONCATENATE($B$40,\" \",$B$41,C40)","v":"Adam ŠmídProhry"}]
[{"$f":"CONCATENATE(B41,\" \",B40)","v":"Šmíd Adam"},"Šmíd","Placeno panáků",{"$f":"IF(IFERROR(INDEX(Přehled_body!$E$3:$ED$130,MATCH(Tabulka!$AI41,Přehled_body!$A$3:$A$130,0),MATCH(Tabulka!D$2,Přehled_body!$E$1:$ED$1,0)),)=\"\",,IF(IFERROR(INDEX(Přehled_body!$E$3:$ED$130,MATCH(Tabulka!$AI41,Přehled_body!$A$3:$A$130,0),MATCH(Tabulka!D$2,Přehled_body!$E$1:$ED$1,0)),)=0,0.00000000001,IFERROR(INDEX(Přehled_body!$E$3:$ED$130,MATCH(Tabulka!$AI41,Přehled_body!$A$3:$A$130,0),MATCH(Tabulka!D$2,Přehled_body!$E$1:$ED$1,0)),)))","v":9.9999999999999994E-12},{"$f":"IF(IFERROR(INDEX(Přehled_body!$E$3:$ED$130,MATCH(Tabulka!$AI41,Přehled_body!$A$3:$A$130,0),MATCH(Tabulka!E$2,Přehled_body!$E$1:$ED$1,0)),)=\"\",,IF(IFERROR(INDEX(Přehled_body!$E$3:$ED$130,MATCH(Tabulka!$AI41,Přehled_body!$A$3:$A$130,0),MATCH(Tabulka!E$2,Přehled_body!$E$1:$ED$1,0)),)=0,0.00000000001,IFERROR(INDEX(Přehled_body!$E$3:$ED$130,MATCH(Tabulka!$AI41,Přehled_body!$A$3:$A$130,0),MATCH(Tabulka!E$2,Přehled_body!$E$1:$ED$1,0)),)))","v":0},{"$f":"IF(IFERROR(INDEX(Přehled_body!$E$3:$ED$130,MATCH(Tabulka!$AI41,Přehled_body!$A$3:$A$130,0),MATCH(Tabulka!F$2,Přehled_body!$E$1:$ED$1,0)),)=\"\",,IF(IFERROR(INDEX(Přehled_body!$E$3:$ED$130,MATCH(Tabulka!$AI41,Přehled_body!$A$3:$A$130,0),MATCH(Tabulka!F$2,Přehled_body!$E$1:$ED$1,0)),)=0,0.00000000001,IFERROR(INDEX(Přehled_body!$E$3:$ED$130,MATCH(Tabulka!$AI41,Přehled_body!$A$3:$A$130,0),MATCH(Tabulka!F$2,Přehled_body!$E$1:$ED$1,0)),)))","v":5},{"$f":"IF(IFERROR(INDEX(Přehled_body!$E$3:$ED$130,MATCH(Tabulka!$AI41,Přehled_body!$A$3:$A$130,0),MATCH(Tabulka!G$2,Přehled_body!$E$1:$ED$1,0)),)=\"\",,IF(IFERROR(INDEX(Přehled_body!$E$3:$ED$130,MATCH(Tabulka!$AI41,Přehled_body!$A$3:$A$130,0),MATCH(Tabulka!G$2,Přehled_body!$E$1:$ED$1,0)),)=0,0.00000000001,IFERROR(INDEX(Přehled_body!$E$3:$ED$130,MATCH(Tabulka!$AI41,Přehled_body!$A$3:$A$130,0),MATCH(Tabulka!G$2,Přehled_body!$E$1:$ED$1,0)),)))","v":1},{"$f":"IF(IFERROR(INDEX(Přehled_body!$E$3:$ED$130,MATCH(Tabulka!$AI41,Přehled_body!$A$3:$A$130,0),MATCH(Tabulka!H$2,Přehled_body!$E$1:$ED$1,0)),)=\"\",,IF(IFERROR(INDEX(Přehled_body!$E$3:$ED$130,MATCH(Tabulka!$AI41,Přehled_body!$A$3:$A$130,0),MATCH(Tabulka!H$2,Přehled_body!$E$1:$ED$1,0)),)=0,0.00000000001,IFERROR(INDEX(Přehled_body!$E$3:$ED$130,MATCH(Tabulka!$AI41,Přehled_body!$A$3:$A$130,0),MATCH(Tabulka!H$2,Přehled_body!$E$1:$ED$1,0)),)))","v":1},{"$f":"IF(IFERROR(INDEX(Přehled_body!$E$3:$ED$130,MATCH(Tabulka!$AI41,Přehled_body!$A$3:$A$130,0),MATCH(Tabulka!I$2,Přehled_body!$E$1:$ED$1,0)),)=\"\",,IF(IFERROR(INDEX(Přehled_body!$E$3:$ED$130,MATCH(Tabulka!$AI41,Přehled_body!$A$3:$A$130,0),MATCH(Tabulka!I$2,Přehled_body!$E$1:$ED$1,0)),)=0,0.00000000001,IFERROR(INDEX(Přehled_body!$E$3:$ED$130,MATCH(Tabulka!$AI41,Přehled_body!$A$3:$A$130,0),MATCH(Tabulka!I$2,Přehled_body!$E$1:$ED$1,0)),)))","v":0},{"$f":"IF(IFERROR(INDEX(Přehled_body!$E$3:$ED$130,MATCH(Tabulka!$AI41,Přehled_body!$A$3:$A$130,0),MATCH(Tabulka!J$2,Přehled_body!$E$1:$ED$1,0)),)=\"\",,IF(IFERROR(INDEX(Přehled_body!$E$3:$ED$130,MATCH(Tabulka!$AI41,Přehled_body!$A$3:$A$130,0),MATCH(Tabulka!J$2,Přehled_body!$E$1:$ED$1,0)),)=0,0.00000000001,IFERROR(INDEX(Přehled_body!$E$3:$ED$130,MATCH(Tabulka!$AI41,Přehled_body!$A$3:$A$130,0),MATCH(Tabulka!J$2,Přehled_body!$E$1:$ED$1,0)),)))","v":9.9999999999999994E-12},{"$f":"IF(IFERROR(INDEX(Přehled_body!$E$3:$ED$130,MATCH(Tabulka!$AI41,Přehled_body!$A$3:$A$130,0),MATCH(Tabulka!K$2,Přehled_body!$E$1:$ED$1,0)),)=\"\",,IF(IFERROR(INDEX(Přehled_body!$E$3:$ED$130,MATCH(Tabulka!$AI41,Přehled_body!$A$3:$A$130,0),MATCH(Tabulka!K$2,Přehled_body!$E$1:$ED$1,0)),)=0,0.00000000001,IFERROR(INDEX(Přehled_body!$E$3:$ED$130,MATCH(Tabulka!$AI41,Přehled_body!$A$3:$A$130,0),MATCH(Tabulka!K$2,Přehled_body!$E$1:$ED$1,0)),)))","v":1},{"$f":"IF(IFERROR(INDEX(Přehled_body!$E$3:$ED$130,MATCH(Tabulka!$AI41,Přehled_body!$A$3:$A$130,0),MATCH(Tabulka!L$2,Přehled_body!$E$1:$ED$1,0)),)=\"\",,IF(IFERROR(INDEX(Přehled_body!$E$3:$ED$130,MATCH(Tabulka!$AI41,Přehled_body!$A$3:$A$130,0),MATCH(Tabulka!L$2,Přehled_body!$E$1:$ED$1,0)),)=0,0.00000000001,IFERROR(INDEX(Přehled_body!$E$3:$ED$130,MATCH(Tabulka!$AI41,Přehled_body!$A$3:$A$130,0),MATCH(Tabulka!L$2,Přehled_body!$E$1:$ED$1,0)),)))","v":2},{"$f":"IF(IFERROR(INDEX(Přehled_body!$E$3:$ED$130,MATCH(Tabulka!$AI41,Přehled_body!$A$3:$A$130,0),MATCH(Tabulka!M$2,Přehled_body!$E$1:$ED$1,0)),)=\"\",,IF(IFERROR(INDEX(Přehled_body!$E$3:$ED$130,MATCH(Tabulka!$AI41,Přehled_body!$A$3:$A$130,0),MATCH(Tabulka!M$2,Přehled_body!$E$1:$ED$1,0)),)=0,0.00000000001,IFERROR(INDEX(Přehled_body!$E$3:$ED$130,MATCH(Tabulka!$AI41,Přehled_body!$A$3:$A$130,0),MATCH(Tabulka!M$2,Přehled_body!$E$1:$ED$1,0)),)))","v":0},{"$f":"IF(IFERROR(INDEX(Přehled_body!$E$3:$ED$130,MATCH(Tabulka!$AI41,Přehled_body!$A$3:$A$130,0),MATCH(Tabulka!N$2,Přehled_body!$E$1:$ED$1,0)),)=\"\",,IF(IFERROR(INDEX(Přehled_body!$E$3:$ED$130,MATCH(Tabulka!$AI41,Přehled_body!$A$3:$A$130,0),MATCH(Tabulka!N$2,Přehled_body!$E$1:$ED$1,0)),)=0,0.00000000001,IFERROR(INDEX(Přehled_body!$E$3:$ED$130,MATCH(Tabulka!$AI41,Přehled_body!$A$3:$A$130,0),MATCH(Tabulka!N$2,Přehled_body!$E$1:$ED$1,0)),)))","v":0},{"$f":"IF(IFERROR(INDEX(Přehled_body!$E$3:$ED$130,MATCH(Tabulka!$AI41,Přehled_body!$A$3:$A$130,0),MATCH(Tabulka!O$2,Přehled_body!$E$1:$ED$1,0)),)=\"\",,IF(IFERROR(INDEX(Přehled_body!$E$3:$ED$130,MATCH(Tabulka!$AI41,Přehled_body!$A$3:$A$130,0),MATCH(Tabulka!O$2,Přehled_body!$E$1:$ED$1,0)),)=0,0.00000000001,IFERROR(INDEX(Přehled_body!$E$3:$ED$130,MATCH(Tabulka!$AI41,Přehled_body!$A$3:$A$130,0),MATCH(Tabulka!O$2,Přehled_body!$E$1:$ED$1,0)),)))","v":0},{"$f":"IF(IFERROR(INDEX(Přehled_body!$E$3:$ED$130,MATCH(Tabulka!$AI41,Přehled_body!$A$3:$A$130,0),MATCH(Tabulka!P$2,Přehled_body!$E$1:$ED$1,0)),)=\"\",,IF(IFERROR(INDEX(Přehled_body!$E$3:$ED$130,MATCH(Tabulka!$AI41,Přehled_body!$A$3:$A$130,0),MATCH(Tabulka!P$2,Přehled_body!$E$1:$ED$1,0)),)=0,0.00000000001,IFERROR(INDEX(Přehled_body!$E$3:$ED$130,MATCH(Tabulka!$AI41,Přehled_body!$A$3:$A$130,0),MATCH(Tabulka!P$2,Přehled_body!$E$1:$ED$1,0)),)))","v":0},{"$f":"IF(IFERROR(INDEX(Přehled_body!$E$3:$ED$130,MATCH(Tabulka!$AI41,Přehled_body!$A$3:$A$130,0),MATCH(Tabulka!Q$2,Přehled_body!$E$1:$ED$1,0)),)=\"\",,IF(IFERROR(INDEX(Přehled_body!$E$3:$ED$130,MATCH(Tabulka!$AI41,Přehled_body!$A$3:$A$130,0),MATCH(Tabulka!Q$2,Přehled_body!$E$1:$ED$1,0)),)=0,0.00000000001,IFERROR(INDEX(Přehled_body!$E$3:$ED$130,MATCH(Tabulka!$AI41,Přehled_body!$A$3:$A$130,0),MATCH(Tabulka!Q$2,Přehled_body!$E$1:$ED$1,0)),)))","v":0},{"$f":"IF(IFERROR(INDEX(Přehled_body!$E$3:$ED$130,MATCH(Tabulka!$AI41,Přehled_body!$A$3:$A$130,0),MATCH(Tabulka!R$2,Přehled_body!$E$1:$ED$1,0)),)=\"\",,IF(IFERROR(INDEX(Přehled_body!$E$3:$ED$130,MATCH(Tabulka!$AI41,Přehled_body!$A$3:$A$130,0),MATCH(Tabulka!R$2,Přehled_body!$E$1:$ED$1,0)),)=0,0.00000000001,IFERROR(INDEX(Přehled_body!$E$3:$ED$130,MATCH(Tabulka!$AI41,Přehled_body!$A$3:$A$130,0),MATCH(Tabulka!R$2,Přehled_body!$E$1:$ED$1,0)),)))","v":0},{"$f":"IF(IFERROR(INDEX(Přehled_body!$E$3:$ED$130,MATCH(Tabulka!$AI41,Přehled_body!$A$3:$A$130,0),MATCH(Tabulka!S$2,Přehled_body!$E$1:$ED$1,0)),)=\"\",,IF(IFERROR(INDEX(Přehled_body!$E$3:$ED$130,MATCH(Tabulka!$AI41,Přehled_body!$A$3:$A$130,0),MATCH(Tabulka!S$2,Přehled_body!$E$1:$ED$1,0)),)=0,0.00000000001,IFERROR(INDEX(Přehled_body!$E$3:$ED$130,MATCH(Tabulka!$AI41,Přehled_body!$A$3:$A$130,0),MATCH(Tabulka!S$2,Přehled_body!$E$1:$ED$1,0)),)))","v":0},{"$f":"IF(IFERROR(INDEX(Přehled_body!$E$3:$ED$130,MATCH(Tabulka!$AI41,Přehled_body!$A$3:$A$130,0),MATCH(Tabulka!T$2,Přehled_body!$E$1:$ED$1,0)),)=\"\",,IF(IFERROR(INDEX(Přehled_body!$E$3:$ED$130,MATCH(Tabulka!$AI41,Přehled_body!$A$3:$A$130,0),MATCH(Tabulka!T$2,Přehled_body!$E$1:$ED$1,0)),)=0,0.00000000001,IFERROR(INDEX(Přehled_body!$E$3:$ED$130,MATCH(Tabulka!$AI41,Přehled_body!$A$3:$A$130,0),MATCH(Tabulka!T$2,Přehled_body!$E$1:$ED$1,0)),)))","v":0},{"$f":"IF(IFERROR(INDEX(Přehled_body!$E$3:$ED$130,MATCH(Tabulka!$AI41,Přehled_body!$A$3:$A$130,0),MATCH(Tabulka!U$2,Přehled_body!$E$1:$ED$1,0)),)=\"\",,IF(IFERROR(INDEX(Přehled_body!$E$3:$ED$130,MATCH(Tabulka!$AI41,Přehled_body!$A$3:$A$130,0),MATCH(Tabulka!U$2,Přehled_body!$E$1:$ED$1,0)),)=0,0.00000000001,IFERROR(INDEX(Přehled_body!$E$3:$ED$130,MATCH(Tabulka!$AI41,Přehled_body!$A$3:$A$130,0),MATCH(Tabulka!U$2,Přehled_body!$E$1:$ED$1,0)),)))","v":0},{"$f":"IF(IFERROR(INDEX(Přehled_body!$E$3:$ED$130,MATCH(Tabulka!$AI41,Přehled_body!$A$3:$A$130,0),MATCH(Tabulka!V$2,Přehled_body!$E$1:$ED$1,0)),)=\"\",,IF(IFERROR(INDEX(Přehled_body!$E$3:$ED$130,MATCH(Tabulka!$AI41,Přehled_body!$A$3:$A$130,0),MATCH(Tabulka!V$2,Přehled_body!$E$1:$ED$1,0)),)=0,0.00000000001,IFERROR(INDEX(Přehled_body!$E$3:$ED$130,MATCH(Tabulka!$AI41,Přehled_body!$A$3:$A$130,0),MATCH(Tabulka!V$2,Přehled_body!$E$1:$ED$1,0)),)))","v":0},{"$f":"IF(IFERROR(INDEX(Přehled_body!$E$3:$ED$130,MATCH(Tabulka!$AI41,Přehled_body!$A$3:$A$130,0),MATCH(Tabulka!W$2,Přehled_body!$E$1:$ED$1,0)),)=\"\",,IF(IFERROR(INDEX(Přehled_body!$E$3:$ED$130,MATCH(Tabulka!$AI41,Přehled_body!$A$3:$A$130,0),MATCH(Tabulka!W$2,Přehled_body!$E$1:$ED$1,0)),)=0,0.00000000001,IFERROR(INDEX(Přehled_body!$E$3:$ED$130,MATCH(Tabulka!$AI41,Přehled_body!$A$3:$A$130,0),MATCH(Tabulka!W$2,Přehled_body!$E$1:$ED$1,0)),)))","v":0},{"$f":"IF(IFERROR(INDEX(Přehled_body!$E$3:$ED$130,MATCH(Tabulka!$AI41,Přehled_body!$A$3:$A$130,0),MATCH(Tabulka!X$2,Přehled_body!$E$1:$ED$1,0)),)=\"\",,IF(IFERROR(INDEX(Přehled_body!$E$3:$ED$130,MATCH(Tabulka!$AI41,Přehled_body!$A$3:$A$130,0),MATCH(Tabulka!X$2,Přehled_body!$E$1:$ED$1,0)),)=0,0.00000000001,IFERROR(INDEX(Přehled_body!$E$3:$ED$130,MATCH(Tabulka!$AI41,Přehled_body!$A$3:$A$130,0),MATCH(Tabulka!X$2,Přehled_body!$E$1:$ED$1,0)),)))","v":0},{"$f":"IF(IFERROR(INDEX(Přehled_body!$E$3:$ED$130,MATCH(Tabulka!$AI41,Přehled_body!$A$3:$A$130,0),MATCH(Tabulka!Y$2,Přehled_body!$E$1:$ED$1,0)),)=\"\",,IF(IFERROR(INDEX(Přehled_body!$E$3:$ED$130,MATCH(Tabulka!$AI41,Přehled_body!$A$3:$A$130,0),MATCH(Tabulka!Y$2,Přehled_body!$E$1:$ED$1,0)),)=0,0.00000000001,IFERROR(INDEX(Přehled_body!$E$3:$ED$130,MATCH(Tabulka!$AI41,Přehled_body!$A$3:$A$130,0),MATCH(Tabulka!Y$2,Přehled_body!$E$1:$ED$1,0)),)))","v":0},{"$f":"IF(IFERROR(INDEX(Přehled_body!$E$3:$ED$130,MATCH(Tabulka!$AI41,Přehled_body!$A$3:$A$130,0),MATCH(Tabulka!Z$2,Přehled_body!$E$1:$ED$1,0)),)=\"\",,IF(IFERROR(INDEX(Přehled_body!$E$3:$ED$130,MATCH(Tabulka!$AI41,Přehled_body!$A$3:$A$130,0),MATCH(Tabulka!Z$2,Přehled_body!$E$1:$ED$1,0)),)=0,0.00000000001,IFERROR(INDEX(Přehled_body!$E$3:$ED$130,MATCH(Tabulka!$AI41,Přehled_body!$A$3:$A$130,0),MATCH(Tabulka!Z$2,Přehled_body!$E$1:$ED$1,0)),)))","v":0},{"$f":"IF(IFERROR(INDEX(Přehled_body!$E$3:$ED$130,MATCH(Tabulka!$AI41,Přehled_body!$A$3:$A$130,0),MATCH(Tabulka!AA$2,Přehled_body!$E$1:$ED$1,0)),)=\"\",,IF(IFERROR(INDEX(Přehled_body!$E$3:$ED$130,MATCH(Tabulka!$AI41,Přehled_body!$A$3:$A$130,0),MATCH(Tabulka!AA$2,Přehled_body!$E$1:$ED$1,0)),)=0,0.00000000001,IFERROR(INDEX(Přehled_body!$E$3:$ED$130,MATCH(Tabulka!$AI41,Přehled_body!$A$3:$A$130,0),MATCH(Tabulka!AA$2,Přehled_body!$E$1:$ED$1,0)),)))","v":0},{"$f":"IF(IFERROR(INDEX(Přehled_body!$E$3:$ED$130,MATCH(Tabulka!$AI41,Přehled_body!$A$3:$A$130,0),MATCH(Tabulka!AB$2,Přehled_body!$E$1:$ED$1,0)),)=\"\",,IF(IFERROR(INDEX(Přehled_body!$E$3:$ED$130,MATCH(Tabulka!$AI41,Přehled_body!$A$3:$A$130,0),MATCH(Tabulka!AB$2,Přehled_body!$E$1:$ED$1,0)),)=0,0.00000000001,IFERROR(INDEX(Přehled_body!$E$3:$ED$130,MATCH(Tabulka!$AI41,Přehled_body!$A$3:$A$130,0),MATCH(Tabulka!AB$2,Přehled_body!$E$1:$ED$1,0)),)))","v":0},{"$f":"IF(IFERROR(INDEX(Přehled_body!$E$3:$ED$130,MATCH(Tabulka!$AI41,Přehled_body!$A$3:$A$130,0),MATCH(Tabulka!AC$2,Přehled_body!$E$1:$ED$1,0)),)=\"\",,IF(IFERROR(INDEX(Přehled_body!$E$3:$ED$130,MATCH(Tabulka!$AI41,Přehled_body!$A$3:$A$130,0),MATCH(Tabulka!AC$2,Přehled_body!$E$1:$ED$1,0)),)=0,0.00000000001,IFERROR(INDEX(Přehled_body!$E$3:$ED$130,MATCH(Tabulka!$AI41,Přehled_body!$A$3:$A$130,0),MATCH(Tabulka!AC$2,Přehled_body!$E$1:$ED$1,0)),)))","v":0},{"$f":"IF(IFERROR(INDEX(Přehled_body!$E$3:$ED$130,MATCH(Tabulka!$AI41,Přehled_body!$A$3:$A$130,0),MATCH(Tabulka!AD$2,Přehled_body!$E$1:$ED$1,0)),)=\"\",,IF(IFERROR(INDEX(Přehled_body!$E$3:$ED$130,MATCH(Tabulka!$AI41,Přehled_body!$A$3:$A$130,0),MATCH(Tabulka!AD$2,Přehled_body!$E$1:$ED$1,0)),)=0,0.00000000001,IFERROR(INDEX(Přehled_body!$E$3:$ED$130,MATCH(Tabulka!$AI41,Přehled_body!$A$3:$A$130,0),MATCH(Tabulka!AD$2,Přehled_body!$E$1:$ED$1,0)),)))","v":0},{"$f":"IF(SUM($D$39:$AD$43)<1,-90000,SUM(D41:AD41))","v":10.00000000002},null,null,null,{"$f":"CONCATENATE($B$40,\" \",$B$41,C41)","v":"Adam ŠmídPlaceno panáků"}]
[null,null,"Přehozy",{"$f":"IF(IFERROR(INDEX(Přehled_body!$E$3:$ED$130,MATCH(Tabulka!$AI42,Přehled_body!$A$3:$A$130,0),MATCH(Tabulka!D$2,Přehled_body!$E$1:$ED$1,0)),)=\"\",,IF(IFERROR(INDEX(Přehled_body!$E$3:$ED$130,MATCH(Tabulka!$AI42,Přehled_body!$A$3:$A$130,0),MATCH(Tabulka!D$2,Přehled_body!$E$1:$ED$1,0)),)=0,0.00000000001,IFERROR(INDEX(Přehled_body!$E$3:$ED$130,MATCH(Tabulka!$AI42,Přehled_body!$A$3:$A$130,0),MATCH(Tabulka!D$2,Přehled_body!$E$1:$ED$1,0)),)))","v":9.9999999999999994E-12},{"$f":"IF(IFERROR(INDEX(Přehled_body!$E$3:$ED$130,MATCH(Tabulka!$AI42,Přehled_body!$A$3:$A$130,0),MATCH(Tabulka!E$2,Přehled_body!$E$1:$ED$1,0)),)=\"\",,IF(IFERROR(INDEX(Přehled_body!$E$3:$ED$130,MATCH(Tabulka!$AI42,Přehled_body!$A$3:$A$130,0),MATCH(Tabulka!E$2,Přehled_body!$E$1:$ED$1,0)),)=0,0.00000000001,IFERROR(INDEX(Přehled_body!$E$3:$ED$130,MATCH(Tabulka!$AI42,Přehled_body!$A$3:$A$130,0),MATCH(Tabulka!E$2,Přehled_body!$E$1:$ED$1,0)),)))","v":0},{"$f":"IF(IFERROR(INDEX(Přehled_body!$E$3:$ED$130,MATCH(Tabulka!$AI42,Přehled_body!$A$3:$A$130,0),MATCH(Tabulka!F$2,Přehled_body!$E$1:$ED$1,0)),)=\"\",,IF(IFERROR(INDEX(Přehled_body!$E$3:$ED$130,MATCH(Tabulka!$AI42,Přehled_body!$A$3:$A$130,0),MATCH(Tabulka!F$2,Přehled_body!$E$1:$ED$1,0)),)=0,0.00000000001,IFERROR(INDEX(Přehled_body!$E$3:$ED$130,MATCH(Tabulka!$AI42,Přehled_body!$A$3:$A$130,0),MATCH(Tabulka!F$2,Přehled_body!$E$1:$ED$1,0)),)))","v":9.9999999999999994E-12},{"$f":"IF(IFERROR(INDEX(Přehled_body!$E$3:$ED$130,MATCH(Tabulka!$AI42,Přehled_body!$A$3:$A$130,0),MATCH(Tabulka!G$2,Přehled_body!$E$1:$ED$1,0)),)=\"\",,IF(IFERROR(INDEX(Přehled_body!$E$3:$ED$130,MATCH(Tabulka!$AI42,Přehled_body!$A$3:$A$130,0),MATCH(Tabulka!G$2,Přehled_body!$E$1:$ED$1,0)),)=0,0.00000000001,IFERROR(INDEX(Přehled_body!$E$3:$ED$130,MATCH(Tabulka!$AI42,Přehled_body!$A$3:$A$130,0),MATCH(Tabulka!G$2,Přehled_body!$E$1:$ED$1,0)),)))","v":9.9999999999999994E-12},{"$f":"IF(IFERROR(INDEX(Přehled_body!$E$3:$ED$130,MATCH(Tabulka!$AI42,Přehled_body!$A$3:$A$130,0),MATCH(Tabulka!H$2,Přehled_body!$E$1:$ED$1,0)),)=\"\",,IF(IFERROR(INDEX(Přehled_body!$E$3:$ED$130,MATCH(Tabulka!$AI42,Přehled_body!$A$3:$A$130,0),MATCH(Tabulka!H$2,Přehled_body!$E$1:$ED$1,0)),)=0,0.00000000001,IFERROR(INDEX(Přehled_body!$E$3:$ED$130,MATCH(Tabulka!$AI42,Přehled_body!$A$3:$A$130,0),MATCH(Tabulka!H$2,Přehled_body!$E$1:$ED$1,0)),)))","v":9.9999999999999994E-12},{"$f":"IF(IFERROR(INDEX(Přehled_body!$E$3:$ED$130,MATCH(Tabulka!$AI42,Přehled_body!$A$3:$A$130,0),MATCH(Tabulka!I$2,Přehled_body!$E$1:$ED$1,0)),)=\"\",,IF(IFERROR(INDEX(Přehled_body!$E$3:$ED$130,MATCH(Tabulka!$AI42,Přehled_body!$A$3:$A$130,0),MATCH(Tabulka!I$2,Přehled_body!$E$1:$ED$1,0)),)=0,0.00000000001,IFERROR(INDEX(Přehled_body!$E$3:$ED$130,MATCH(Tabulka!$AI42,Přehled_body!$A$3:$A$130,0),MATCH(Tabulka!I$2,Přehled_body!$E$1:$ED$1,0)),)))","v":0},{"$f":"IF(IFERROR(INDEX(Přehled_body!$E$3:$ED$130,MATCH(Tabulka!$AI42,Přehled_body!$A$3:$A$130,0),MATCH(Tabulka!J$2,Přehled_body!$E$1:$ED$1,0)),)=\"\",,IF(IFERROR(INDEX(Přehled_body!$E$3:$ED$130,MATCH(Tabulka!$AI42,Přehled_body!$A$3:$A$130,0),MATCH(Tabulka!J$2,Přehled_body!$E$1:$ED$1,0)),)=0,0.00000000001,IFERROR(INDEX(Přehled_body!$E$3:$ED$130,MATCH(Tabulka!$AI42,Přehled_body!$A$3:$A$130,0),MATCH(Tabulka!J$2,Přehled_body!$E$1:$ED$1,0)),)))","v":2},{"$f":"IF(IFERROR(INDEX(Přehled_body!$E$3:$ED$130,MATCH(Tabulka!$AI42,Přehled_body!$A$3:$A$130,0),MATCH(Tabulka!K$2,Přehled_body!$E$1:$ED$1,0)),)=\"\",,IF(IFERROR(INDEX(Přehled_body!$E$3:$ED$130,MATCH(Tabulka!$AI42,Přehled_body!$A$3:$A$130,0),MATCH(Tabulka!K$2,Přehled_body!$E$1:$ED$1,0)),)=0,0.00000000001,IFERROR(INDEX(Přehled_body!$E$3:$ED$130,MATCH(Tabulka!$AI42,Přehled_body!$A$3:$A$130,0),MATCH(Tabulka!K$2,Přehled_body!$E$1:$ED$1,0)),)))","v":9.9999999999999994E-12},{"$f":"IF(IFERROR(INDEX(Přehled_body!$E$3:$ED$130,MATCH(Tabulka!$AI42,Přehled_body!$A$3:$A$130,0),MATCH(Tabulka!L$2,Přehled_body!$E$1:$ED$1,0)),)=\"\",,IF(IFERROR(INDEX(Přehled_body!$E$3:$ED$130,MATCH(Tabulka!$AI42,Přehled_body!$A$3:$A$130,0),MATCH(Tabulka!L$2,Přehled_body!$E$1:$ED$1,0)),)=0,0.00000000001,IFERROR(INDEX(Přehled_body!$E$3:$ED$130,MATCH(Tabulka!$AI42,Přehled_body!$A$3:$A$130,0),MATCH(Tabulka!L$2,Přehled_body!$E$1:$ED$1,0)),)))","v":9.9999999999999994E-12},{"$f":"IF(IFERROR(INDEX(Přehled_body!$E$3:$ED$130,MATCH(Tabulka!$AI42,Přehled_body!$A$3:$A$130,0),MATCH(Tabulka!M$2,Přehled_body!$E$1:$ED$1,0)),)=\"\",,IF(IFERROR(INDEX(Přehled_body!$E$3:$ED$130,MATCH(Tabulka!$AI42,Přehled_body!$A$3:$A$130,0),MATCH(Tabulka!M$2,Přehled_body!$E$1:$ED$1,0)),)=0,0.00000000001,IFERROR(INDEX(Přehled_body!$E$3:$ED$130,MATCH(Tabulka!$AI42,Přehled_body!$A$3:$A$130,0),MATCH(Tabulka!M$2,Přehled_body!$E$1:$ED$1,0)),)))","v":0},{"$f":"IF(IFERROR(INDEX(Přehled_body!$E$3:$ED$130,MATCH(Tabulka!$AI42,Přehled_body!$A$3:$A$130,0),MATCH(Tabulka!N$2,Přehled_body!$E$1:$ED$1,0)),)=\"\",,IF(IFERROR(INDEX(Přehled_body!$E$3:$ED$130,MATCH(Tabulka!$AI42,Přehled_body!$A$3:$A$130,0),MATCH(Tabulka!N$2,Přehled_body!$E$1:$ED$1,0)),)=0,0.00000000001,IFERROR(INDEX(Přehled_body!$E$3:$ED$130,MATCH(Tabulka!$AI42,Přehled_body!$A$3:$A$130,0),MATCH(Tabulka!N$2,Přehled_body!$E$1:$ED$1,0)),)))","v":0},{"$f":"IF(IFERROR(INDEX(Přehled_body!$E$3:$ED$130,MATCH(Tabulka!$AI42,Přehled_body!$A$3:$A$130,0),MATCH(Tabulka!O$2,Přehled_body!$E$1:$ED$1,0)),)=\"\",,IF(IFERROR(INDEX(Přehled_body!$E$3:$ED$130,MATCH(Tabulka!$AI42,Přehled_body!$A$3:$A$130,0),MATCH(Tabulka!O$2,Přehled_body!$E$1:$ED$1,0)),)=0,0.00000000001,IFERROR(INDEX(Přehled_body!$E$3:$ED$130,MATCH(Tabulka!$AI42,Přehled_body!$A$3:$A$130,0),MATCH(Tabulka!O$2,Přehled_body!$E$1:$ED$1,0)),)))","v":0},{"$f":"IF(IFERROR(INDEX(Přehled_body!$E$3:$ED$130,MATCH(Tabulka!$AI42,Přehled_body!$A$3:$A$130,0),MATCH(Tabulka!P$2,Přehled_body!$E$1:$ED$1,0)),)=\"\",,IF(IFERROR(INDEX(Přehled_body!$E$3:$ED$130,MATCH(Tabulka!$AI42,Přehled_body!$A$3:$A$130,0),MATCH(Tabulka!P$2,Přehled_body!$E$1:$ED$1,0)),)=0,0.00000000001,IFERROR(INDEX(Přehled_body!$E$3:$ED$130,MATCH(Tabulka!$AI42,Přehled_body!$A$3:$A$130,0),MATCH(Tabulka!P$2,Přehled_body!$E$1:$ED$1,0)),)))","v":0},{"$f":"IF(IFERROR(INDEX(Přehled_body!$E$3:$ED$130,MATCH(Tabulka!$AI42,Přehled_body!$A$3:$A$130,0),MATCH(Tabulka!Q$2,Přehled_body!$E$1:$ED$1,0)),)=\"\",,IF(IFERROR(INDEX(Přehled_body!$E$3:$ED$130,MATCH(Tabulka!$AI42,Přehled_body!$A$3:$A$130,0),MATCH(Tabulka!Q$2,Přehled_body!$E$1:$ED$1,0)),)=0,0.00000000001,IFERROR(INDEX(Přehled_body!$E$3:$ED$130,MATCH(Tabulka!$AI42,Přehled_body!$A$3:$A$130,0),MATCH(Tabulka!Q$2,Přehled_body!$E$1:$ED$1,0)),)))","v":0},{"$f":"IF(IFERROR(INDEX(Přehled_body!$E$3:$ED$130,MATCH(Tabulka!$AI42,Přehled_body!$A$3:$A$130,0),MATCH(Tabulka!R$2,Přehled_body!$E$1:$ED$1,0)),)=\"\",,IF(IFERROR(INDEX(Přehled_body!$E$3:$ED$130,MATCH(Tabulka!$AI42,Přehled_body!$A$3:$A$130,0),MATCH(Tabulka!R$2,Přehled_body!$E$1:$ED$1,0)),)=0,0.00000000001,IFERROR(INDEX(Přehled_body!$E$3:$ED$130,MATCH(Tabulka!$AI42,Přehled_body!$A$3:$A$130,0),MATCH(Tabulka!R$2,Přehled_body!$E$1:$ED$1,0)),)))","v":0},{"$f":"IF(IFERROR(INDEX(Přehled_body!$E$3:$ED$130,MATCH(Tabulka!$AI42,Přehled_body!$A$3:$A$130,0),MATCH(Tabulka!S$2,Přehled_body!$E$1:$ED$1,0)),)=\"\",,IF(IFERROR(INDEX(Přehled_body!$E$3:$ED$130,MATCH(Tabulka!$AI42,Přehled_body!$A$3:$A$130,0),MATCH(Tabulka!S$2,Přehled_body!$E$1:$ED$1,0)),)=0,0.00000000001,IFERROR(INDEX(Přehled_body!$E$3:$ED$130,MATCH(Tabulka!$AI42,Přehled_body!$A$3:$A$130,0),MATCH(Tabulka!S$2,Přehled_body!$E$1:$ED$1,0)),)))","v":0},{"$f":"IF(IFERROR(INDEX(Přehled_body!$E$3:$ED$130,MATCH(Tabulka!$AI42,Přehled_body!$A$3:$A$130,0),MATCH(Tabulka!T$2,Přehled_body!$E$1:$ED$1,0)),)=\"\",,IF(IFERROR(INDEX(Přehled_body!$E$3:$ED$130,MATCH(Tabulka!$AI42,Přehled_body!$A$3:$A$130,0),MATCH(Tabulka!T$2,Přehled_body!$E$1:$ED$1,0)),)=0,0.00000000001,IFERROR(INDEX(Přehled_body!$E$3:$ED$130,MATCH(Tabulka!$AI42,Přehled_body!$A$3:$A$130,0),MATCH(Tabulka!T$2,Přehled_body!$E$1:$ED$1,0)),)))","v":0},{"$f":"IF(IFERROR(INDEX(Přehled_body!$E$3:$ED$130,MATCH(Tabulka!$AI42,Přehled_body!$A$3:$A$130,0),MATCH(Tabulka!U$2,Přehled_body!$E$1:$ED$1,0)),)=\"\",,IF(IFERROR(INDEX(Přehled_body!$E$3:$ED$130,MATCH(Tabulka!$AI42,Přehled_body!$A$3:$A$130,0),MATCH(Tabulka!U$2,Přehled_body!$E$1:$ED$1,0)),)=0,0.00000000001,IFERROR(INDEX(Přehled_body!$E$3:$ED$130,MATCH(Tabulka!$AI42,Přehled_body!$A$3:$A$130,0),MATCH(Tabulka!U$2,Přehled_body!$E$1:$ED$1,0)),)))","v":0},{"$f":"IF(IFERROR(INDEX(Přehled_body!$E$3:$ED$130,MATCH(Tabulka!$AI42,Přehled_body!$A$3:$A$130,0),MATCH(Tabulka!V$2,Přehled_body!$E$1:$ED$1,0)),)=\"\",,IF(IFERROR(INDEX(Přehled_body!$E$3:$ED$130,MATCH(Tabulka!$AI42,Přehled_body!$A$3:$A$130,0),MATCH(Tabulka!V$2,Přehled_body!$E$1:$ED$1,0)),)=0,0.00000000001,IFERROR(INDEX(Přehled_body!$E$3:$ED$130,MATCH(Tabulka!$AI42,Přehled_body!$A$3:$A$130,0),MATCH(Tabulka!V$2,Přehled_body!$E$1:$ED$1,0)),)))","v":0},{"$f":"IF(IFERROR(INDEX(Přehled_body!$E$3:$ED$130,MATCH(Tabulka!$AI42,Přehled_body!$A$3:$A$130,0),MATCH(Tabulka!W$2,Přehled_body!$E$1:$ED$1,0)),)=\"\",,IF(IFERROR(INDEX(Přehled_body!$E$3:$ED$130,MATCH(Tabulka!$AI42,Přehled_body!$A$3:$A$130,0),MATCH(Tabulka!W$2,Přehled_body!$E$1:$ED$1,0)),)=0,0.00000000001,IFERROR(INDEX(Přehled_body!$E$3:$ED$130,MATCH(Tabulka!$AI42,Přehled_body!$A$3:$A$130,0),MATCH(Tabulka!W$2,Přehled_body!$E$1:$ED$1,0)),)))","v":0},{"$f":"IF(IFERROR(INDEX(Přehled_body!$E$3:$ED$130,MATCH(Tabulka!$AI42,Přehled_body!$A$3:$A$130,0),MATCH(Tabulka!X$2,Přehled_body!$E$1:$ED$1,0)),)=\"\",,IF(IFERROR(INDEX(Přehled_body!$E$3:$ED$130,MATCH(Tabulka!$AI42,Přehled_body!$A$3:$A$130,0),MATCH(Tabulka!X$2,Přehled_body!$E$1:$ED$1,0)),)=0,0.00000000001,IFERROR(INDEX(Přehled_body!$E$3:$ED$130,MATCH(Tabulka!$AI42,Přehled_body!$A$3:$A$130,0),MATCH(Tabulka!X$2,Přehled_body!$E$1:$ED$1,0)),)))","v":0},{"$f":"IF(IFERROR(INDEX(Přehled_body!$E$3:$ED$130,MATCH(Tabulka!$AI42,Přehled_body!$A$3:$A$130,0),MATCH(Tabulka!Y$2,Přehled_body!$E$1:$ED$1,0)),)=\"\",,IF(IFERROR(INDEX(Přehled_body!$E$3:$ED$130,MATCH(Tabulka!$AI42,Přehled_body!$A$3:$A$130,0),MATCH(Tabulka!Y$2,Přehled_body!$E$1:$ED$1,0)),)=0,0.00000000001,IFERROR(INDEX(Přehled_body!$E$3:$ED$130,MATCH(Tabulka!$AI42,Přehled_body!$A$3:$A$130,0),MATCH(Tabulka!Y$2,Přehled_body!$E$1:$ED$1,0)),)))","v":0},{"$f":"IF(IFERROR(INDEX(Přehled_body!$E$3:$ED$130,MATCH(Tabulka!$AI42,Přehled_body!$A$3:$A$130,0),MATCH(Tabulka!Z$2,Přehled_body!$E$1:$ED$1,0)),)=\"\",,IF(IFERROR(INDEX(Přehled_body!$E$3:$ED$130,MATCH(Tabulka!$AI42,Přehled_body!$A$3:$A$130,0),MATCH(Tabulka!Z$2,Přehled_body!$E$1:$ED$1,0)),)=0,0.00000000001,IFERROR(INDEX(Přehled_body!$E$3:$ED$130,MATCH(Tabulka!$AI42,Přehled_body!$A$3:$A$130,0),MATCH(Tabulka!Z$2,Přehled_body!$E$1:$ED$1,0)),)))","v":0},{"$f":"IF(IFERROR(INDEX(Přehled_body!$E$3:$ED$130,MATCH(Tabulka!$AI42,Přehled_body!$A$3:$A$130,0),MATCH(Tabulka!AA$2,Přehled_body!$E$1:$ED$1,0)),)=\"\",,IF(IFERROR(INDEX(Přehled_body!$E$3:$ED$130,MATCH(Tabulka!$AI42,Přehled_body!$A$3:$A$130,0),MATCH(Tabulka!AA$2,Přehled_body!$E$1:$ED$1,0)),)=0,0.00000000001,IFERROR(INDEX(Přehled_body!$E$3:$ED$130,MATCH(Tabulka!$AI42,Přehled_body!$A$3:$A$130,0),MATCH(Tabulka!AA$2,Přehled_body!$E$1:$ED$1,0)),)))","v":0},{"$f":"IF(IFERROR(INDEX(Přehled_body!$E$3:$ED$130,MATCH(Tabulka!$AI42,Přehled_body!$A$3:$A$130,0),MATCH(Tabulka!AB$2,Přehled_body!$E$1:$ED$1,0)),)=\"\",,IF(IFERROR(INDEX(Přehled_body!$E$3:$ED$130,MATCH(Tabulka!$AI42,Přehled_body!$A$3:$A$130,0),MATCH(Tabulka!AB$2,Přehled_body!$E$1:$ED$1,0)),)=0,0.00000000001,IFERROR(INDEX(Přehled_body!$E$3:$ED$130,MATCH(Tabulka!$AI42,Přehled_body!$A$3:$A$130,0),MATCH(Tabulka!AB$2,Přehled_body!$E$1:$ED$1,0)),)))","v":0},{"$f":"IF(IFERROR(INDEX(Přehled_body!$E$3:$ED$130,MATCH(Tabulka!$AI42,Přehled_body!$A$3:$A$130,0),MATCH(Tabulka!AC$2,Přehled_body!$E$1:$ED$1,0)),)=\"\",,IF(IFERROR(INDEX(Přehled_body!$E$3:$ED$130,MATCH(Tabulka!$AI42,Přehled_body!$A$3:$A$130,0),MATCH(Tabulka!AC$2,Přehled_body!$E$1:$ED$1,0)),)=0,0.00000000001,IFERROR(INDEX(Přehled_body!$E$3:$ED$130,MATCH(Tabulka!$AI42,Přehled_body!$A$3:$A$130,0),MATCH(Tabulka!AC$2,Přehled_body!$E$1:$ED$1,0)),)))","v":0},{"$f":"IF(IFERROR(INDEX(Přehled_body!$E$3:$ED$130,MATCH(Tabulka!$AI42,Přehled_body!$A$3:$A$130,0),MATCH(Tabulka!AD$2,Přehled_body!$E$1:$ED$1,0)),)=\"\",,IF(IFERROR(INDEX(Přehled_body!$E$3:$ED$130,MATCH(Tabulka!$AI42,Přehled_body!$A$3:$A$130,0),MATCH(Tabulka!AD$2,Přehled_body!$E$1:$ED$1,0)),)=0,0.00000000001,IFERROR(INDEX(Přehled_body!$E$3:$ED$130,MATCH(Tabulka!$AI42,Přehled_body!$A$3:$A$130,0),MATCH(Tabulka!AD$2,Přehled_body!$E$1:$ED$1,0)),)))","v":0},{"$f":"IF(SUM($D$39:$AD$43)<1,-90000,SUM(D42:AD42))","v":2.00000000006},null,null,null,{"$f":"CONCATENATE($B$40,\" \",$B$41,C42)","v":"Adam ŠmídPřehozy"}]
[null,null,"Poč. kol",{"$f":"IF(IFERROR(INDEX(Přehled_body!$E$3:$ED$130,MATCH(Tabulka!$AI43,Přehled_body!$A$3:$A$130,0),MATCH(Tabulka!D$2,Přehled_body!$E$1:$ED$1,0)),)=\"\",,IF(IFERROR(INDEX(Přehled_body!$E$3:$ED$130,MATCH(Tabulka!$AI43,Přehled_body!$A$3:$A$130,0),MATCH(Tabulka!D$2,Přehled_body!$E$1:$ED$1,0)),)=0,0.00000000001,IFERROR(INDEX(Přehled_body!$E$3:$ED$130,MATCH(Tabulka!$AI43,Přehled_body!$A$3:$A$130,0),MATCH(Tabulka!D$2,Přehled_body!$E$1:$ED$1,0)),)))","v":1},{"$f":"IF(IFERROR(INDEX(Přehled_body!$E$3:$ED$130,MATCH(Tabulka!$AI43,Přehled_body!$A$3:$A$130,0),MATCH(Tabulka!E$2,Přehled_body!$E$1:$ED$1,0)),)=\"\",,IF(IFERROR(INDEX(Přehled_body!$E$3:$ED$130,MATCH(Tabulka!$AI43,Přehled_body!$A$3:$A$130,0),MATCH(Tabulka!E$2,Přehled_body!$E$1:$ED$1,0)),)=0,0.00000000001,IFERROR(INDEX(Přehled_body!$E$3:$ED$130,MATCH(Tabulka!$AI43,Přehled_body!$A$3:$A$130,0),MATCH(Tabulka!E$2,Přehled_body!$E$1:$ED$1,0)),)))","v":0},{"$f":"IF(IFERROR(INDEX(Přehled_body!$E$3:$ED$130,MATCH(Tabulka!$AI43,Přehled_body!$A$3:$A$130,0),MATCH(Tabulka!F$2,Přehled_body!$E$1:$ED$1,0)),)=\"\",,IF(IFERROR(INDEX(Přehled_body!$E$3:$ED$130,MATCH(Tabulka!$AI43,Přehled_body!$A$3:$A$130,0),MATCH(Tabulka!F$2,Přehled_body!$E$1:$ED$1,0)),)=0,0.00000000001,IFERROR(INDEX(Přehled_body!$E$3:$ED$130,MATCH(Tabulka!$AI43,Přehled_body!$A$3:$A$130,0),MATCH(Tabulka!F$2,Přehled_body!$E$1:$ED$1,0)),)))","v":2},{"$f":"IF(IFERROR(INDEX(Přehled_body!$E$3:$ED$130,MATCH(Tabulka!$AI43,Přehled_body!$A$3:$A$130,0),MATCH(Tabulka!G$2,Přehled_body!$E$1:$ED$1,0)),)=\"\",,IF(IFERROR(INDEX(Přehled_body!$E$3:$ED$130,MATCH(Tabulka!$AI43,Přehled_body!$A$3:$A$130,0),MATCH(Tabulka!G$2,Přehled_body!$E$1:$ED$1,0)),)=0,0.00000000001,IFERROR(INDEX(Přehled_body!$E$3:$ED$130,MATCH(Tabulka!$AI43,Přehled_body!$A$3:$A$130,0),MATCH(Tabulka!G$2,Přehled_body!$E$1:$ED$1,0)),)))","v":2},{"$f":"IF(IFERROR(INDEX(Přehled_body!$E$3:$ED$130,MATCH(Tabulka!$AI43,Přehled_body!$A$3:$A$130,0),MATCH(Tabulka!H$2,Přehled_body!$E$1:$ED$1,0)),)=\"\",,IF(IFERROR(INDEX(Přehled_body!$E$3:$ED$130,MATCH(Tabulka!$AI43,Přehled_body!$A$3:$A$130,0),MATCH(Tabulka!H$2,Přehled_body!$E$1:$ED$1,0)),)=0,0.00000000001,IFERROR(INDEX(Přehled_body!$E$3:$ED$130,MATCH(Tabulka!$AI43,Přehled_body!$A$3:$A$130,0),MATCH(Tabulka!H$2,Přehled_body!$E$1:$ED$1,0)),)))","v":1},{"$f":"IF(IFERROR(INDEX(Přehled_body!$E$3:$ED$130,MATCH(Tabulka!$AI43,Přehled_body!$A$3:$A$130,0),MATCH(Tabulka!I$2,Přehled_body!$E$1:$ED$1,0)),)=\"\",,IF(IFERROR(INDEX(Přehled_body!$E$3:$ED$130,MATCH(Tabulka!$AI43,Přehled_body!$A$3:$A$130,0),MATCH(Tabulka!I$2,Přehled_body!$E$1:$ED$1,0)),)=0,0.00000000001,IFERROR(INDEX(Přehled_body!$E$3:$ED$130,MATCH(Tabulka!$AI43,Přehled_body!$A$3:$A$130,0),MATCH(Tabulka!I$2,Přehled_body!$E$1:$ED$1,0)),)))","v":0},{"$f":"IF(IFERROR(INDEX(Přehled_body!$E$3:$ED$130,MATCH(Tabulka!$AI43,Přehled_body!$A$3:$A$130,0),MATCH(Tabulka!J$2,Přehled_body!$E$1:$ED$1,0)),)=\"\",,IF(IFERROR(INDEX(Přehled_body!$E$3:$ED$130,MATCH(Tabulka!$AI43,Přehled_body!$A$3:$A$130,0),MATCH(Tabulka!J$2,Přehled_body!$E$1:$ED$1,0)),)=0,0.00000000001,IFERROR(INDEX(Přehled_body!$E$3:$ED$130,MATCH(Tabulka!$AI43,Přehled_body!$A$3:$A$130,0),MATCH(Tabulka!J$2,Přehled_body!$E$1:$ED$1,0)),)))","v":2},{"$f":"IF(IFERROR(INDEX(Přehled_body!$E$3:$ED$130,MATCH(Tabulka!$AI43,Přehled_body!$A$3:$A$130,0),MATCH(Tabulka!K$2,Přehled_body!$E$1:$ED$1,0)),)=\"\",,IF(IFERROR(INDEX(Přehled_body!$E$3:$ED$130,MATCH(Tabulka!$AI43,Přehled_body!$A$3:$A$130,0),MATCH(Tabulka!K$2,Přehled_body!$E$1:$ED$1,0)),)=0,0.00000000001,IFERROR(INDEX(Přehled_body!$E$3:$ED$130,MATCH(Tabulka!$AI43,Přehled_body!$A$3:$A$130,0),MATCH(Tabulka!K$2,Přehled_body!$E$1:$ED$1,0)),)))","v":2},{"$f":"IF(IFERROR(INDEX(Přehled_body!$E$3:$ED$130,MATCH(Tabulka!$AI43,Přehled_body!$A$3:$A$130,0),MATCH(Tabulka!L$2,Přehled_body!$E$1:$ED$1,0)),)=\"\",,IF(IFERROR(INDEX(Přehled_body!$E$3:$ED$130,MATCH(Tabulka!$AI43,Přehled_body!$A$3:$A$130,0),MATCH(Tabulka!L$2,Přehled_body!$E$1:$ED$1,0)),)=0,0.00000000001,IFERROR(INDEX(Přehled_body!$E$3:$ED$130,MATCH(Tabulka!$AI43,Přehled_body!$A$3:$A$130,0),MATCH(Tabulka!L$2,Přehled_body!$E$1:$ED$1,0)),)))","v":2},{"$f":"IF(IFERROR(INDEX(Přehled_body!$E$3:$ED$130,MATCH(Tabulka!$AI43,Přehled_body!$A$3:$A$130,0),MATCH(Tabulka!M$2,Přehled_body!$E$1:$ED$1,0)),)=\"\",,IF(IFERROR(INDEX(Přehled_body!$E$3:$ED$130,MATCH(Tabulka!$AI43,Přehled_body!$A$3:$A$130,0),MATCH(Tabulka!M$2,Přehled_body!$E$1:$ED$1,0)),)=0,0.00000000001,IFERROR(INDEX(Přehled_body!$E$3:$ED$130,MATCH(Tabulka!$AI43,Přehled_body!$A$3:$A$130,0),MATCH(Tabulka!M$2,Přehled_body!$E$1:$ED$1,0)),)))","v":0},{"$f":"IF(IFERROR(INDEX(Přehled_body!$E$3:$ED$130,MATCH(Tabulka!$AI43,Přehled_body!$A$3:$A$130,0),MATCH(Tabulka!N$2,Přehled_body!$E$1:$ED$1,0)),)=\"\",,IF(IFERROR(INDEX(Přehled_body!$E$3:$ED$130,MATCH(Tabulka!$AI43,Přehled_body!$A$3:$A$130,0),MATCH(Tabulka!N$2,Přehled_body!$E$1:$ED$1,0)),)=0,0.00000000001,IFERROR(INDEX(Přehled_body!$E$3:$ED$130,MATCH(Tabulka!$AI43,Přehled_body!$A$3:$A$130,0),MATCH(Tabulka!N$2,Přehled_body!$E$1:$ED$1,0)),)))","v":0},{"$f":"IF(IFERROR(INDEX(Přehled_body!$E$3:$ED$130,MATCH(Tabulka!$AI43,Přehled_body!$A$3:$A$130,0),MATCH(Tabulka!O$2,Přehled_body!$E$1:$ED$1,0)),)=\"\",,IF(IFERROR(INDEX(Přehled_body!$E$3:$ED$130,MATCH(Tabulka!$AI43,Přehled_body!$A$3:$A$130,0),MATCH(Tabulka!O$2,Přehled_body!$E$1:$ED$1,0)),)=0,0.00000000001,IFERROR(INDEX(Přehled_body!$E$3:$ED$130,MATCH(Tabulka!$AI43,Přehled_body!$A$3:$A$130,0),MATCH(Tabulka!O$2,Přehled_body!$E$1:$ED$1,0)),)))","v":0},{"$f":"IF(IFERROR(INDEX(Přehled_body!$E$3:$ED$130,MATCH(Tabulka!$AI43,Přehled_body!$A$3:$A$130,0),MATCH(Tabulka!P$2,Přehled_body!$E$1:$ED$1,0)),)=\"\",,IF(IFERROR(INDEX(Přehled_body!$E$3:$ED$130,MATCH(Tabulka!$AI43,Přehled_body!$A$3:$A$130,0),MATCH(Tabulka!P$2,Přehled_body!$E$1:$ED$1,0)),)=0,0.00000000001,IFERROR(INDEX(Přehled_body!$E$3:$ED$130,MATCH(Tabulka!$AI43,Přehled_body!$A$3:$A$130,0),MATCH(Tabulka!P$2,Přehled_body!$E$1:$ED$1,0)),)))","v":0},{"$f":"IF(IFERROR(INDEX(Přehled_body!$E$3:$ED$130,MATCH(Tabulka!$AI43,Přehled_body!$A$3:$A$130,0),MATCH(Tabulka!Q$2,Přehled_body!$E$1:$ED$1,0)),)=\"\",,IF(IFERROR(INDEX(Přehled_body!$E$3:$ED$130,MATCH(Tabulka!$AI43,Přehled_body!$A$3:$A$130,0),MATCH(Tabulka!Q$2,Přehled_body!$E$1:$ED$1,0)),)=0,0.00000000001,IFERROR(INDEX(Přehled_body!$E$3:$ED$130,MATCH(Tabulka!$AI43,Přehled_body!$A$3:$A$130,0),MATCH(Tabulka!Q$2,Přehled_body!$E$1:$ED$1,0)),)))","v":0},{"$f":"IF(IFERROR(INDEX(Přehled_body!$E$3:$ED$130,MATCH(Tabulka!$AI43,Přehled_body!$A$3:$A$130,0),MATCH(Tabulka!R$2,Přehled_body!$E$1:$ED$1,0)),)=\"\",,IF(IFERROR(INDEX(Přehled_body!$E$3:$ED$130,MATCH(Tabulka!$AI43,Přehled_body!$A$3:$A$130,0),MATCH(Tabulka!R$2,Přehled_body!$E$1:$ED$1,0)),)=0,0.00000000001,IFERROR(INDEX(Přehled_body!$E$3:$ED$130,MATCH(Tabulka!$AI43,Přehled_body!$A$3:$A$130,0),MATCH(Tabulka!R$2,Přehled_body!$E$1:$ED$1,0)),)))","v":0},{"$f":"IF(IFERROR(INDEX(Přehled_body!$E$3:$ED$130,MATCH(Tabulka!$AI43,Přehled_body!$A$3:$A$130,0),MATCH(Tabulka!S$2,Přehled_body!$E$1:$ED$1,0)),)=\"\",,IF(IFERROR(INDEX(Přehled_body!$E$3:$ED$130,MATCH(Tabulka!$AI43,Přehled_body!$A$3:$A$130,0),MATCH(Tabulka!S$2,Přehled_body!$E$1:$ED$1,0)),)=0,0.00000000001,IFERROR(INDEX(Přehled_body!$E$3:$ED$130,MATCH(Tabulka!$AI43,Přehled_body!$A$3:$A$130,0),MATCH(Tabulka!S$2,Přehled_body!$E$1:$ED$1,0)),)))","v":0},{"$f":"IF(IFERROR(INDEX(Přehled_body!$E$3:$ED$130,MATCH(Tabulka!$AI43,Přehled_body!$A$3:$A$130,0),MATCH(Tabulka!T$2,Přehled_body!$E$1:$ED$1,0)),)=\"\",,IF(IFERROR(INDEX(Přehled_body!$E$3:$ED$130,MATCH(Tabulka!$AI43,Přehled_body!$A$3:$A$130,0),MATCH(Tabulka!T$2,Přehled_body!$E$1:$ED$1,0)),)=0,0.00000000001,IFERROR(INDEX(Přehled_body!$E$3:$ED$130,MATCH(Tabulka!$AI43,Přehled_body!$A$3:$A$130,0),MATCH(Tabulka!T$2,Přehled_body!$E$1:$ED$1,0)),)))","v":0},{"$f":"IF(IFERROR(INDEX(Přehled_body!$E$3:$ED$130,MATCH(Tabulka!$AI43,Přehled_body!$A$3:$A$130,0),MATCH(Tabulka!U$2,Přehled_body!$E$1:$ED$1,0)),)=\"\",,IF(IFERROR(INDEX(Přehled_body!$E$3:$ED$130,MATCH(Tabulka!$AI43,Přehled_body!$A$3:$A$130,0),MATCH(Tabulka!U$2,Přehled_body!$E$1:$ED$1,0)),)=0,0.00000000001,IFERROR(INDEX(Přehled_body!$E$3:$ED$130,MATCH(Tabulka!$AI43,Přehled_body!$A$3:$A$130,0),MATCH(Tabulka!U$2,Přehled_body!$E$1:$ED$1,0)),)))","v":0},{"$f":"IF(IFERROR(INDEX(Přehled_body!$E$3:$ED$130,MATCH(Tabulka!$AI43,Přehled_body!$A$3:$A$130,0),MATCH(Tabulka!V$2,Přehled_body!$E$1:$ED$1,0)),)=\"\",,IF(IFERROR(INDEX(Přehled_body!$E$3:$ED$130,MATCH(Tabulka!$AI43,Přehled_body!$A$3:$A$130,0),MATCH(Tabulka!V$2,Přehled_body!$E$1:$ED$1,0)),)=0,0.00000000001,IFERROR(INDEX(Přehled_body!$E$3:$ED$130,MATCH(Tabulka!$AI43,Přehled_body!$A$3:$A$130,0),MATCH(Tabulka!V$2,Přehled_body!$E$1:$ED$1,0)),)))","v":0},{"$f":"IF(IFERROR(INDEX(Přehled_body!$E$3:$ED$130,MATCH(Tabulka!$AI43,Přehled_body!$A$3:$A$130,0),MATCH(Tabulka!W$2,Přehled_body!$E$1:$ED$1,0)),)=\"\",,IF(IFERROR(INDEX(Přehled_body!$E$3:$ED$130,MATCH(Tabulka!$AI43,Přehled_body!$A$3:$A$130,0),MATCH(Tabulka!W$2,Přehled_body!$E$1:$ED$1,0)),)=0,0.00000000001,IFERROR(INDEX(Přehled_body!$E$3:$ED$130,MATCH(Tabulka!$AI43,Přehled_body!$A$3:$A$130,0),MATCH(Tabulka!W$2,Přehled_body!$E$1:$ED$1,0)),)))","v":0},{"$f":"IF(IFERROR(INDEX(Přehled_body!$E$3:$ED$130,MATCH(Tabulka!$AI43,Přehled_body!$A$3:$A$130,0),MATCH(Tabulka!X$2,Přehled_body!$E$1:$ED$1,0)),)=\"\",,IF(IFERROR(INDEX(Přehled_body!$E$3:$ED$130,MATCH(Tabulka!$AI43,Přehled_body!$A$3:$A$130,0),MATCH(Tabulka!X$2,Přehled_body!$E$1:$ED$1,0)),)=0,0.00000000001,IFERROR(INDEX(Přehled_body!$E$3:$ED$130,MATCH(Tabulka!$AI43,Přehled_body!$A$3:$A$130,0),MATCH(Tabulka!X$2,Přehled_body!$E$1:$ED$1,0)),)))","v":0},{"$f":"IF(IFERROR(INDEX(Přehled_body!$E$3:$ED$130,MATCH(Tabulka!$AI43,Přehled_body!$A$3:$A$130,0),MATCH(Tabulka!Y$2,Přehled_body!$E$1:$ED$1,0)),)=\"\",,IF(IFERROR(INDEX(Přehled_body!$E$3:$ED$130,MATCH(Tabulka!$AI43,Přehled_body!$A$3:$A$130,0),MATCH(Tabulka!Y$2,Přehled_body!$E$1:$ED$1,0)),)=0,0.00000000001,IFERROR(INDEX(Přehled_body!$E$3:$ED$130,MATCH(Tabulka!$AI43,Přehled_body!$A$3:$A$130,0),MATCH(Tabulka!Y$2,Přehled_body!$E$1:$ED$1,0)),)))","v":0},{"$f":"IF(IFERROR(INDEX(Přehled_body!$E$3:$ED$130,MATCH(Tabulka!$AI43,Přehled_body!$A$3:$A$130,0),MATCH(Tabulka!Z$2,Přehled_body!$E$1:$ED$1,0)),)=\"\",,IF(IFERROR(INDEX(Přehled_body!$E$3:$ED$130,MATCH(Tabulka!$AI43,Přehled_body!$A$3:$A$130,0),MATCH(Tabulka!Z$2,Přehled_body!$E$1:$ED$1,0)),)=0,0.00000000001,IFERROR(INDEX(Přehled_body!$E$3:$ED$130,MATCH(Tabulka!$AI43,Přehled_body!$A$3:$A$130,0),MATCH(Tabulka!Z$2,Přehled_body!$E$1:$ED$1,0)),)))","v":0},{"$f":"IF(IFERROR(INDEX(Přehled_body!$E$3:$ED$130,MATCH(Tabulka!$AI43,Přehled_body!$A$3:$A$130,0),MATCH(Tabulka!AA$2,Přehled_body!$E$1:$ED$1,0)),)=\"\",,IF(IFERROR(INDEX(Přehled_body!$E$3:$ED$130,MATCH(Tabulka!$AI43,Přehled_body!$A$3:$A$130,0),MATCH(Tabulka!AA$2,Přehled_body!$E$1:$ED$1,0)),)=0,0.00000000001,IFERROR(INDEX(Přehled_body!$E$3:$ED$130,MATCH(Tabulka!$AI43,Přehled_body!$A$3:$A$130,0),MATCH(Tabulka!AA$2,Přehled_body!$E$1:$ED$1,0)),)))","v":0},{"$f":"IF(IFERROR(INDEX(Přehled_body!$E$3:$ED$130,MATCH(Tabulka!$AI43,Přehled_body!$A$3:$A$130,0),MATCH(Tabulka!AB$2,Přehled_body!$E$1:$ED$1,0)),)=\"\",,IF(IFERROR(INDEX(Přehled_body!$E$3:$ED$130,MATCH(Tabulka!$AI43,Přehled_body!$A$3:$A$130,0),MATCH(Tabulka!AB$2,Přehled_body!$E$1:$ED$1,0)),)=0,0.00000000001,IFERROR(INDEX(Přehled_body!$E$3:$ED$130,MATCH(Tabulka!$AI43,Přehled_body!$A$3:$A$130,0),MATCH(Tabulka!AB$2,Přehled_body!$E$1:$ED$1,0)),)))","v":0},{"$f":"IF(IFERROR(INDEX(Přehled_body!$E$3:$ED$130,MATCH(Tabulka!$AI43,Přehled_body!$A$3:$A$130,0),MATCH(Tabulka!AC$2,Přehled_body!$E$1:$ED$1,0)),)=\"\",,IF(IFERROR(INDEX(Přehled_body!$E$3:$ED$130,MATCH(Tabulka!$AI43,Přehled_body!$A$3:$A$130,0),MATCH(Tabulka!AC$2,Přehled_body!$E$1:$ED$1,0)),)=0,0.00000000001,IFERROR(INDEX(Přehled_body!$E$3:$ED$130,MATCH(Tabulka!$AI43,Přehled_body!$A$3:$A$130,0),MATCH(Tabulka!AC$2,Přehled_body!$E$1:$ED$1,0)),)))","v":0},{"$f":"IF(IFERROR(INDEX(Přehled_body!$E$3:$ED$130,MATCH(Tabulka!$AI43,Přehled_body!$A$3:$A$130,0),MATCH(Tabulka!AD$2,Přehled_body!$E$1:$ED$1,0)),)=\"\",,IF(IFERROR(INDEX(Přehled_body!$E$3:$ED$130,MATCH(Tabulka!$AI43,Přehled_body!$A$3:$A$130,0),MATCH(Tabulka!AD$2,Přehled_body!$E$1:$ED$1,0)),)=0,0.00000000001,IFERROR(INDEX(Přehled_body!$E$3:$ED$130,MATCH(Tabulka!$AI43,Přehled_body!$A$3:$A$130,0),MATCH(Tabulka!AD$2,Přehled_body!$E$1:$ED$1,0)),)))","v":0},{"$f":"IF(SUM($D$39:$AD$43)<1,-90000,SUM(D43:AD43))","v":12},null,null,null,{"$f":"CONCATENATE($B$40,\" \",$B$41,C43)","v":"Adam ŠmídPoč. kol"}]
[null,null,"Výhry",{"$f":"IF(IFERROR(INDEX(Přehled_body!$E$3:$ED$130,MATCH(Tabulka!$AI44,Přehled_body!$A$3:$A$130,0),MATCH(Tabulka!D$2,Přehled_body!$E$1:$ED$1,0)),)=\"\",,IF(IFERROR(INDEX(Přehled_body!$E$3:$ED$130,MATCH(Tabulka!$AI44,Přehled_body!$A$3:$A$130,0),MATCH(Tabulka!D$2,Přehled_body!$E$1:$ED$1,0)),)=0,0.00000000001,IFERROR(INDEX(Přehled_body!$E$3:$ED$130,MATCH(Tabulka!$AI44,Přehled_body!$A$3:$A$130,0),MATCH(Tabulka!D$2,Přehled_body!$E$1:$ED$1,0)),)))","v":9.9999999999999994E-12},{"$f":"IF(IFERROR(INDEX(Přehled_body!$E$3:$ED$130,MATCH(Tabulka!$AI44,Přehled_body!$A$3:$A$130,0),MATCH(Tabulka!E$2,Přehled_body!$E$1:$ED$1,0)),)=\"\",,IF(IFERROR(INDEX(Přehled_body!$E$3:$ED$130,MATCH(Tabulka!$AI44,Přehled_body!$A$3:$A$130,0),MATCH(Tabulka!E$2,Přehled_body!$E$1:$ED$1,0)),)=0,0.00000000001,IFERROR(INDEX(Přehled_body!$E$3:$ED$130,MATCH(Tabulka!$AI44,Přehled_body!$A$3:$A$130,0),MATCH(Tabulka!E$2,Přehled_body!$E$1:$ED$1,0)),)))","v":0},{"$f":"IF(IFERROR(INDEX(Přehled_body!$E$3:$ED$130,MATCH(Tabulka!$AI44,Přehled_body!$A$3:$A$130,0),MATCH(Tabulka!F$2,Přehled_body!$E$1:$ED$1,0)),)=\"\",,IF(IFERROR(INDEX(Přehled_body!$E$3:$ED$130,MATCH(Tabulka!$AI44,Přehled_body!$A$3:$A$130,0),MATCH(Tabulka!F$2,Přehled_body!$E$1:$ED$1,0)),)=0,0.00000000001,IFERROR(INDEX(Přehled_body!$E$3:$ED$130,MATCH(Tabulka!$AI44,Přehled_body!$A$3:$A$130,0),MATCH(Tabulka!F$2,Přehled_body!$E$1:$ED$1,0)),)))","v":0},{"$f":"IF(IFERROR(INDEX(Přehled_body!$E$3:$ED$130,MATCH(Tabulka!$AI44,Přehled_body!$A$3:$A$130,0),MATCH(Tabulka!G$2,Přehled_body!$E$1:$ED$1,0)),)=\"\",,IF(IFERROR(INDEX(Přehled_body!$E$3:$ED$130,MATCH(Tabulka!$AI44,Přehled_body!$A$3:$A$130,0),MATCH(Tabulka!G$2,Přehled_body!$E$1:$ED$1,0)),)=0,0.00000000001,IFERROR(INDEX(Přehled_body!$E$3:$ED$130,MATCH(Tabulka!$AI44,Přehled_body!$A$3:$A$130,0),MATCH(Tabulka!G$2,Přehled_body!$E$1:$ED$1,0)),)))","v":0},{"$f":"IF(IFERROR(INDEX(Přehled_body!$E$3:$ED$130,MATCH(Tabulka!$AI44,Přehled_body!$A$3:$A$130,0),MATCH(Tabulka!H$2,Přehled_body!$E$1:$ED$1,0)),)=\"\",,IF(IFERROR(INDEX(Přehled_body!$E$3:$ED$130,MATCH(Tabulka!$AI44,Přehled_body!$A$3:$A$130,0),MATCH(Tabulka!H$2,Přehled_body!$E$1:$ED$1,0)),)=0,0.00000000001,IFERROR(INDEX(Přehled_body!$E$3:$ED$130,MATCH(Tabulka!$AI44,Přehled_body!$A$3:$A$130,0),MATCH(Tabulka!H$2,Přehled_body!$E$1:$ED$1,0)),)))","v":0},{"$f":"IF(IFERROR(INDEX(Přehled_body!$E$3:$ED$130,MATCH(Tabulka!$AI44,Přehled_body!$A$3:$A$130,0),MATCH(Tabulka!I$2,Přehled_body!$E$1:$ED$1,0)),)=\"\",,IF(IFERROR(INDEX(Přehled_body!$E$3:$ED$130,MATCH(Tabulka!$AI44,Přehled_body!$A$3:$A$130,0),MATCH(Tabulka!I$2,Přehled_body!$E$1:$ED$1,0)),)=0,0.00000000001,IFERROR(INDEX(Přehled_body!$E$3:$ED$130,MATCH(Tabulka!$AI44,Přehled_body!$A$3:$A$130,0),MATCH(Tabulka!I$2,Přehled_body!$E$1:$ED$1,0)),)))","v":0},{"$f":"IF(IFERROR(INDEX(Přehled_body!$E$3:$ED$130,MATCH(Tabulka!$AI44,Přehled_body!$A$3:$A$130,0),MATCH(Tabulka!J$2,Přehled_body!$E$1:$ED$1,0)),)=\"\",,IF(IFERROR(INDEX(Přehled_body!$E$3:$ED$130,MATCH(Tabulka!$AI44,Přehled_body!$A$3:$A$130,0),MATCH(Tabulka!J$2,Přehled_body!$E$1:$ED$1,0)),)=0,0.00000000001,IFERROR(INDEX(Přehled_body!$E$3:$ED$130,MATCH(Tabulka!$AI44,Přehled_body!$A$3:$A$130,0),MATCH(Tabulka!J$2,Přehled_body!$E$1:$ED$1,0)),)))","v":0},{"$f":"IF(IFERROR(INDEX(Přehled_body!$E$3:$ED$130,MATCH(Tabulka!$AI44,Přehled_body!$A$3:$A$130,0),MATCH(Tabulka!K$2,Přehled_body!$E$1:$ED$1,0)),)=\"\",,IF(IFERROR(INDEX(Přehled_body!$E$3:$ED$130,MATCH(Tabulka!$AI44,Přehled_body!$A$3:$A$130,0),MATCH(Tabulka!K$2,Přehled_body!$E$1:$ED$1,0)),)=0,0.00000000001,IFERROR(INDEX(Přehled_body!$E$3:$ED$130,MATCH(Tabulka!$AI44,Přehled_body!$A$3:$A$130,0),MATCH(Tabulka!K$2,Přehled_body!$E$1:$ED$1,0)),)))","v":0},{"$f":"IF(IFERROR(INDEX(Přehled_body!$E$3:$ED$130,MATCH(Tabulka!$AI44,Přehled_body!$A$3:$A$130,0),MATCH(Tabulka!L$2,Přehled_body!$E$1:$ED$1,0)),)=\"\",,IF(IFERROR(INDEX(Přehled_body!$E$3:$ED$130,MATCH(Tabulka!$AI44,Přehled_body!$A$3:$A$130,0),MATCH(Tabulka!L$2,Přehled_body!$E$1:$ED$1,0)),)=0,0.00000000001,IFERROR(INDEX(Přehled_body!$E$3:$ED$130,MATCH(Tabulka!$AI44,Přehled_body!$A$3:$A$130,0),MATCH(Tabulka!L$2,Přehled_body!$E$1:$ED$1,0)),)))","v":0},{"$f":"IF(IFERROR(INDEX(Přehled_body!$E$3:$ED$130,MATCH(Tabulka!$AI44,Přehled_body!$A$3:$A$130,0),MATCH(Tabulka!M$2,Přehled_body!$E$1:$ED$1,0)),)=\"\",,IF(IFERROR(INDEX(Přehled_body!$E$3:$ED$130,MATCH(Tabulka!$AI44,Přehled_body!$A$3:$A$130,0),MATCH(Tabulka!M$2,Přehled_body!$E$1:$ED$1,0)),)=0,0.00000000001,IFERROR(INDEX(Přehled_body!$E$3:$ED$130,MATCH(Tabulka!$AI44,Přehled_body!$A$3:$A$130,0),MATCH(Tabulka!M$2,Přehled_body!$E$1:$ED$1,0)),)))","v":0},{"$f":"IF(IFERROR(INDEX(Přehled_body!$E$3:$ED$130,MATCH(Tabulka!$AI44,Přehled_body!$A$3:$A$130,0),MATCH(Tabulka!N$2,Přehled_body!$E$1:$ED$1,0)),)=\"\",,IF(IFERROR(INDEX(Přehled_body!$E$3:$ED$130,MATCH(Tabulka!$AI44,Přehled_body!$A$3:$A$130,0),MATCH(Tabulka!N$2,Přehled_body!$E$1:$ED$1,0)),)=0,0.00000000001,IFERROR(INDEX(Přehled_body!$E$3:$ED$130,MATCH(Tabulka!$AI44,Přehled_body!$A$3:$A$130,0),MATCH(Tabulka!N$2,Přehled_body!$E$1:$ED$1,0)),)))","v":0},{"$f":"IF(IFERROR(INDEX(Přehled_body!$E$3:$ED$130,MATCH(Tabulka!$AI44,Přehled_body!$A$3:$A$130,0),MATCH(Tabulka!O$2,Přehled_body!$E$1:$ED$1,0)),)=\"\",,IF(IFERROR(INDEX(Přehled_body!$E$3:$ED$130,MATCH(Tabulka!$AI44,Přehled_body!$A$3:$A$130,0),MATCH(Tabulka!O$2,Přehled_body!$E$1:$ED$1,0)),)=0,0.00000000001,IFERROR(INDEX(Přehled_body!$E$3:$ED$130,MATCH(Tabulka!$AI44,Přehled_body!$A$3:$A$130,0),MATCH(Tabulka!O$2,Přehled_body!$E$1:$ED$1,0)),)))","v":0},{"$f":"IF(IFERROR(INDEX(Přehled_body!$E$3:$ED$130,MATCH(Tabulka!$AI44,Přehled_body!$A$3:$A$130,0),MATCH(Tabulka!P$2,Přehled_body!$E$1:$ED$1,0)),)=\"\",,IF(IFERROR(INDEX(Přehled_body!$E$3:$ED$130,MATCH(Tabulka!$AI44,Přehled_body!$A$3:$A$130,0),MATCH(Tabulka!P$2,Přehled_body!$E$1:$ED$1,0)),)=0,0.00000000001,IFERROR(INDEX(Přehled_body!$E$3:$ED$130,MATCH(Tabulka!$AI44,Přehled_body!$A$3:$A$130,0),MATCH(Tabulka!P$2,Přehled_body!$E$1:$ED$1,0)),)))","v":0},{"$f":"IF(IFERROR(INDEX(Přehled_body!$E$3:$ED$130,MATCH(Tabulka!$AI44,Přehled_body!$A$3:$A$130,0),MATCH(Tabulka!Q$2,Přehled_body!$E$1:$ED$1,0)),)=\"\",,IF(IFERROR(INDEX(Přehled_body!$E$3:$ED$130,MATCH(Tabulka!$AI44,Přehled_body!$A$3:$A$130,0),MATCH(Tabulka!Q$2,Přehled_body!$E$1:$ED$1,0)),)=0,0.00000000001,IFERROR(INDEX(Přehled_body!$E$3:$ED$130,MATCH(Tabulka!$AI44,Přehled_body!$A$3:$A$130,0),MATCH(Tabulka!Q$2,Přehled_body!$E$1:$ED$1,0)),)))","v":0},{"$f":"IF(IFERROR(INDEX(Přehled_body!$E$3:$ED$130,MATCH(Tabulka!$AI44,Přehled_body!$A$3:$A$130,0),MATCH(Tabulka!R$2,Přehled_body!$E$1:$ED$1,0)),)=\"\",,IF(IFERROR(INDEX(Přehled_body!$E$3:$ED$130,MATCH(Tabulka!$AI44,Přehled_body!$A$3:$A$130,0),MATCH(Tabulka!R$2,Přehled_body!$E$1:$ED$1,0)),)=0,0.00000000001,IFERROR(INDEX(Přehled_body!$E$3:$ED$130,MATCH(Tabulka!$AI44,Přehled_body!$A$3:$A$130,0),MATCH(Tabulka!R$2,Přehled_body!$E$1:$ED$1,0)),)))","v":0},{"$f":"IF(IFERROR(INDEX(Přehled_body!$E$3:$ED$130,MATCH(Tabulka!$AI44,Přehled_body!$A$3:$A$130,0),MATCH(Tabulka!S$2,Přehled_body!$E$1:$ED$1,0)),)=\"\",,IF(IFERROR(INDEX(Přehled_body!$E$3:$ED$130,MATCH(Tabulka!$AI44,Přehled_body!$A$3:$A$130,0),MATCH(Tabulka!S$2,Přehled_body!$E$1:$ED$1,0)),)=0,0.00000000001,IFERROR(INDEX(Přehled_body!$E$3:$ED$130,MATCH(Tabulka!$AI44,Přehled_body!$A$3:$A$130,0),MATCH(Tabulka!S$2,Přehled_body!$E$1:$ED$1,0)),)))","v":0},{"$f":"IF(IFERROR(INDEX(Přehled_body!$E$3:$ED$130,MATCH(Tabulka!$AI44,Přehled_body!$A$3:$A$130,0),MATCH(Tabulka!T$2,Přehled_body!$E$1:$ED$1,0)),)=\"\",,IF(IFERROR(INDEX(Přehled_body!$E$3:$ED$130,MATCH(Tabulka!$AI44,Přehled_body!$A$3:$A$130,0),MATCH(Tabulka!T$2,Přehled_body!$E$1:$ED$1,0)),)=0,0.00000000001,IFERROR(INDEX(Přehled_body!$E$3:$ED$130,MATCH(Tabulka!$AI44,Přehled_body!$A$3:$A$130,0),MATCH(Tabulka!T$2,Přehled_body!$E$1:$ED$1,0)),)))","v":0},{"$f":"IF(IFERROR(INDEX(Přehled_body!$E$3:$ED$130,MATCH(Tabulka!$AI44,Přehled_body!$A$3:$A$130,0),MATCH(Tabulka!U$2,Přehled_body!$E$1:$ED$1,0)),)=\"\",,IF(IFERROR(INDEX(Přehled_body!$E$3:$ED$130,MATCH(Tabulka!$AI44,Přehled_body!$A$3:$A$130,0),MATCH(Tabulka!U$2,Přehled_body!$E$1:$ED$1,0)),)=0,0.00000000001,IFERROR(INDEX(Přehled_body!$E$3:$ED$130,MATCH(Tabulka!$AI44,Přehled_body!$A$3:$A$130,0),MATCH(Tabulka!U$2,Přehled_body!$E$1:$ED$1,0)),)))","v":0},{"$f":"IF(IFERROR(INDEX(Přehled_body!$E$3:$ED$130,MATCH(Tabulka!$AI44,Přehled_body!$A$3:$A$130,0),MATCH(Tabulka!V$2,Přehled_body!$E$1:$ED$1,0)),)=\"\",,IF(IFERROR(INDEX(Přehled_body!$E$3:$ED$130,MATCH(Tabulka!$AI44,Přehled_body!$A$3:$A$130,0),MATCH(Tabulka!V$2,Přehled_body!$E$1:$ED$1,0)),)=0,0.00000000001,IFERROR(INDEX(Přehled_body!$E$3:$ED$130,MATCH(Tabulka!$AI44,Přehled_body!$A$3:$A$130,0),MATCH(Tabulka!V$2,Přehled_body!$E$1:$ED$1,0)),)))","v":0},{"$f":"IF(IFERROR(INDEX(Přehled_body!$E$3:$ED$130,MATCH(Tabulka!$AI44,Přehled_body!$A$3:$A$130,0),MATCH(Tabulka!W$2,Přehled_body!$E$1:$ED$1,0)),)=\"\",,IF(IFERROR(INDEX(Přehled_body!$E$3:$ED$130,MATCH(Tabulka!$AI44,Přehled_body!$A$3:$A$130,0),MATCH(Tabulka!W$2,Přehled_body!$E$1:$ED$1,0)),)=0,0.00000000001,IFERROR(INDEX(Přehled_body!$E$3:$ED$130,MATCH(Tabulka!$AI44,Přehled_body!$A$3:$A$130,0),MATCH(Tabulka!W$2,Přehled_body!$E$1:$ED$1,0)),)))","v":0},{"$f":"IF(IFERROR(INDEX(Přehled_body!$E$3:$ED$130,MATCH(Tabulka!$AI44,Přehled_body!$A$3:$A$130,0),MATCH(Tabulka!X$2,Přehled_body!$E$1:$ED$1,0)),)=\"\",,IF(IFERROR(INDEX(Přehled_body!$E$3:$ED$130,MATCH(Tabulka!$AI44,Přehled_body!$A$3:$A$130,0),MATCH(Tabulka!X$2,Přehled_body!$E$1:$ED$1,0)),)=0,0.00000000001,IFERROR(INDEX(Přehled_body!$E$3:$ED$130,MATCH(Tabulka!$AI44,Přehled_body!$A$3:$A$130,0),MATCH(Tabulka!X$2,Přehled_body!$E$1:$ED$1,0)),)))","v":0},{"$f":"IF(IFERROR(INDEX(Přehled_body!$E$3:$ED$130,MATCH(Tabulka!$AI44,Přehled_body!$A$3:$A$130,0),MATCH(Tabulka!Y$2,Přehled_body!$E$1:$ED$1,0)),)=\"\",,IF(IFERROR(INDEX(Přehled_body!$E$3:$ED$130,MATCH(Tabulka!$AI44,Přehled_body!$A$3:$A$130,0),MATCH(Tabulka!Y$2,Přehled_body!$E$1:$ED$1,0)),)=0,0.00000000001,IFERROR(INDEX(Přehled_body!$E$3:$ED$130,MATCH(Tabulka!$AI44,Přehled_body!$A$3:$A$130,0),MATCH(Tabulka!Y$2,Přehled_body!$E$1:$ED$1,0)),)))","v":0},{"$f":"IF(IFERROR(INDEX(Přehled_body!$E$3:$ED$130,MATCH(Tabulka!$AI44,Přehled_body!$A$3:$A$130,0),MATCH(Tabulka!Z$2,Přehled_body!$E$1:$ED$1,0)),)=\"\",,IF(IFERROR(INDEX(Přehled_body!$E$3:$ED$130,MATCH(Tabulka!$AI44,Přehled_body!$A$3:$A$130,0),MATCH(Tabulka!Z$2,Přehled_body!$E$1:$ED$1,0)),)=0,0.00000000001,IFERROR(INDEX(Přehled_body!$E$3:$ED$130,MATCH(Tabulka!$AI44,Přehled_body!$A$3:$A$130,0),MATCH(Tabulka!Z$2,Přehled_body!$E$1:$ED$1,0)),)))","v":0},{"$f":"IF(IFERROR(INDEX(Přehled_body!$E$3:$ED$130,MATCH(Tabulka!$AI44,Přehled_body!$A$3:$A$130,0),MATCH(Tabulka!AA$2,Přehled_body!$E$1:$ED$1,0)),)=\"\",,IF(IFERROR(INDEX(Přehled_body!$E$3:$ED$130,MATCH(Tabulka!$AI44,Přehled_body!$A$3:$A$130,0),MATCH(Tabulka!AA$2,Přehled_body!$E$1:$ED$1,0)),)=0,0.00000000001,IFERROR(INDEX(Přehled_body!$E$3:$ED$130,MATCH(Tabulka!$AI44,Přehled_body!$A$3:$A$130,0),MATCH(Tabulka!AA$2,Přehled_body!$E$1:$ED$1,0)),)))","v":0},{"$f":"IF(IFERROR(INDEX(Přehled_body!$E$3:$ED$130,MATCH(Tabulka!$AI44,Přehled_body!$A$3:$A$130,0),MATCH(Tabulka!AB$2,Přehled_body!$E$1:$ED$1,0)),)=\"\",,IF(IFERROR(INDEX(Přehled_body!$E$3:$ED$130,MATCH(Tabulka!$AI44,Přehled_body!$A$3:$A$130,0),MATCH(Tabulka!AB$2,Přehled_body!$E$1:$ED$1,0)),)=0,0.00000000001,IFERROR(INDEX(Přehled_body!$E$3:$ED$130,MATCH(Tabulka!$AI44,Přehled_body!$A$3:$A$130,0),MATCH(Tabulka!AB$2,Přehled_body!$E$1:$ED$1,0)),)))","v":0},{"$f":"IF(IFERROR(INDEX(Přehled_body!$E$3:$ED$130,MATCH(Tabulka!$AI44,Přehled_body!$A$3:$A$130,0),MATCH(Tabulka!AC$2,Přehled_body!$E$1:$ED$1,0)),)=\"\",,IF(IFERROR(INDEX(Přehled_body!$E$3:$ED$130,MATCH(Tabulka!$AI44,Přehled_body!$A$3:$A$130,0),MATCH(Tabulka!AC$2,Přehled_body!$E$1:$ED$1,0)),)=0,0.00000000001,IFERROR(INDEX(Přehled_body!$E$3:$ED$130,MATCH(Tabulka!$AI44,Přehled_body!$A$3:$A$130,0),MATCH(Tabulka!AC$2,Přehled_body!$E$1:$ED$1,0)),)))","v":0},{"$f":"IF(IFERROR(INDEX(Přehled_body!$E$3:$ED$130,MATCH(Tabulka!$AI44,Přehled_body!$A$3:$A$130,0),MATCH(Tabulka!AD$2,Přehled_body!$E$1:$ED$1,0)),)=\"\",,IF(IFERROR(INDEX(Přehled_body!$E$3:$ED$130,MATCH(Tabulka!$AI44,Přehled_body!$A$3:$A$130,0),MATCH(Tabulka!AD$2,Přehled_body!$E$1:$ED$1,0)),)=0,0.00000000001,IFERROR(INDEX(Přehled_body!$E$3:$ED$130,MATCH(Tabulka!$AI44,Přehled_body!$A$3:$A$130,0),MATCH(Tabulka!AD$2,Přehled_body!$E$1:$ED$1,0)),)))","v":0},{"$f":"IF(SUM($D$44:$AD$48)<1,-90000,SUM(D44:AD44))","v":9.9999999999999994E-12},null,{"$f":"COUNTIF(D44:AD44,\">0\")","v":1},null,{"$f":"CONCATENATE($B$45,\" \",$B$46,C44)","v":"Míra ChalupníkVýhry"}]
[{"$f":"CONCATENATE(B45,\" \",B46)","v":"Míra Chalupník"},"Míra","Prohry",{"$f":"IF(IFERROR(INDEX(Přehled_body!$E$3:$ED$130,MATCH(Tabulka!$AI45,Přehled_body!$A$3:$A$130,0),MATCH(Tabulka!D$2,Přehled_body!$E$1:$ED$1,0)),)=\"\",,IF(IFERROR(INDEX(Přehled_body!$E$3:$ED$130,MATCH(Tabulka!$AI45,Přehled_body!$A$3:$A$130,0),MATCH(Tabulka!D$2,Přehled_body!$E$1:$ED$1,0)),)=0,0.00000000001,IFERROR(INDEX(Přehled_body!$E$3:$ED$130,MATCH(Tabulka!$AI45,Přehled_body!$A$3:$A$130,0),MATCH(Tabulka!D$2,Přehled_body!$E$1:$ED$1,0)),)))","v":2},{"$f":"IF(IFERROR(INDEX(Přehled_body!$E$3:$ED$130,MATCH(Tabulka!$AI45,Přehled_body!$A$3:$A$130,0),MATCH(Tabulka!E$2,Přehled_body!$E$1:$ED$1,0)),)=\"\",,IF(IFERROR(INDEX(Přehled_body!$E$3:$ED$130,MATCH(Tabulka!$AI45,Přehled_body!$A$3:$A$130,0),MATCH(Tabulka!E$2,Přehled_body!$E$1:$ED$1,0)),)=0,0.00000000001,IFERROR(INDEX(Přehled_body!$E$3:$ED$130,MATCH(Tabulka!$AI45,Přehled_body!$A$3:$A$130,0),MATCH(Tabulka!E$2,Přehled_body!$E$1:$ED$1,0)),)))","v":0},{"$f":"IF(IFERROR(INDEX(Přehled_body!$E$3:$ED$130,MATCH(Tabulka!$AI45,Přehled_body!$A$3:$A$130,0),MATCH(Tabulka!F$2,Přehled_body!$E$1:$ED$1,0)),)=\"\",,IF(IFERROR(INDEX(Přehled_body!$E$3:$ED$130,MATCH(Tabulka!$AI45,Přehled_body!$A$3:$A$130,0),MATCH(Tabulka!F$2,Přehled_body!$E$1:$ED$1,0)),)=0,0.00000000001,IFERROR(INDEX(Přehled_body!$E$3:$ED$130,MATCH(Tabulka!$AI45,Přehled_body!$A$3:$A$130,0),MATCH(Tabulka!F$2,Přehled_body!$E$1:$ED$1,0)),)))","v":0},{"$f":"IF(IFERROR(INDEX(Přehled_body!$E$3:$ED$130,MATCH(Tabulka!$AI45,Přehled_body!$A$3:$A$130,0),MATCH(Tabulka!G$2,Přehled_body!$E$1:$ED$1,0)),)=\"\",,IF(IFERROR(INDEX(Přehled_body!$E$3:$ED$130,MATCH(Tabulka!$AI45,Přehled_body!$A$3:$A$130,0),MATCH(Tabulka!G$2,Přehled_body!$E$1:$ED$1,0)),)=0,0.00000000001,IFERROR(INDEX(Přehled_body!$E$3:$ED$130,MATCH(Tabulka!$AI45,Přehled_body!$A$3:$A$130,0),MATCH(Tabulka!G$2,Přehled_body!$E$1:$ED$1,0)),)))","v":0},{"$f":"IF(IFERROR(INDEX(Přehled_body!$E$3:$ED$130,MATCH(Tabulka!$AI45,Přehled_body!$A$3:$A$130,0),MATCH(Tabulka!H$2,Přehled_body!$E$1:$ED$1,0)),)=\"\",,IF(IFERROR(INDEX(Přehled_body!$E$3:$ED$130,MATCH(Tabulka!$AI45,Přehled_body!$A$3:$A$130,0),MATCH(Tabulka!H$2,Přehled_body!$E$1:$ED$1,0)),)=0,0.00000000001,IFERROR(INDEX(Přehled_body!$E$3:$ED$130,MATCH(Tabulka!$AI45,Přehled_body!$A$3:$A$130,0),MATCH(Tabulka!H$2,Přehled_body!$E$1:$ED$1,0)),)))","v":0},{"$f":"IF(IFERROR(INDEX(Přehled_body!$E$3:$ED$130,MATCH(Tabulka!$AI45,Přehled_body!$A$3:$A$130,0),MATCH(Tabulka!I$2,Přehled_body!$E$1:$ED$1,0)),)=\"\",,IF(IFERROR(INDEX(Přehled_body!$E$3:$ED$130,MATCH(Tabulka!$AI45,Přehled_body!$A$3:$A$130,0),MATCH(Tabulka!I$2,Přehled_body!$E$1:$ED$1,0)),)=0,0.00000000001,IFERROR(INDEX(Přehled_body!$E$3:$ED$130,MATCH(Tabulka!$AI45,Přehled_body!$A$3:$A$130,0),MATCH(Tabulka!I$2,Přehled_body!$E$1:$ED$1,0)),)))","v":0},{"$f":"IF(IFERROR(INDEX(Přehled_body!$E$3:$ED$130,MATCH(Tabulka!$AI45,Přehled_body!$A$3:$A$130,0),MATCH(Tabulka!J$2,Přehled_body!$E$1:$ED$1,0)),)=\"\",,IF(IFERROR(INDEX(Přehled_body!$E$3:$ED$130,MATCH(Tabulka!$AI45,Přehled_body!$A$3:$A$130,0),MATCH(Tabulka!J$2,Přehled_body!$E$1:$ED$1,0)),)=0,0.00000000001,IFERROR(INDEX(Přehled_body!$E$3:$ED$130,MATCH(Tabulka!$AI45,Přehled_body!$A$3:$A$130,0),MATCH(Tabulka!J$2,Přehled_body!$E$1:$ED$1,0)),)))","v":0},{"$f":"IF(IFERROR(INDEX(Přehled_body!$E$3:$ED$130,MATCH(Tabulka!$AI45,Přehled_body!$A$3:$A$130,0),MATCH(Tabulka!K$2,Přehled_body!$E$1:$ED$1,0)),)=\"\",,IF(IFERROR(INDEX(Přehled_body!$E$3:$ED$130,MATCH(Tabulka!$AI45,Přehled_body!$A$3:$A$130,0),MATCH(Tabulka!K$2,Přehled_body!$E$1:$ED$1,0)),)=0,0.00000000001,IFERROR(INDEX(Přehled_body!$E$3:$ED$130,MATCH(Tabulka!$AI45,Přehled_body!$A$3:$A$130,0),MATCH(Tabulka!K$2,Přehled_body!$E$1:$ED$1,0)),)))","v":0},{"$f":"IF(IFERROR(INDEX(Přehled_body!$E$3:$ED$130,MATCH(Tabulka!$AI45,Přehled_body!$A$3:$A$130,0),MATCH(Tabulka!L$2,Přehled_body!$E$1:$ED$1,0)),)=\"\",,IF(IFERROR(INDEX(Přehled_body!$E$3:$ED$130,MATCH(Tabulka!$AI45,Přehled_body!$A$3:$A$130,0),MATCH(Tabulka!L$2,Přehled_body!$E$1:$ED$1,0)),)=0,0.00000000001,IFERROR(INDEX(Přehled_body!$E$3:$ED$130,MATCH(Tabulka!$AI45,Přehled_body!$A$3:$A$130,0),MATCH(Tabulka!L$2,Přehled_body!$E$1:$ED$1,0)),)))","v":0},{"$f":"IF(IFERROR(INDEX(Přehled_body!$E$3:$ED$130,MATCH(Tabulka!$AI45,Přehled_body!$A$3:$A$130,0),MATCH(Tabulka!M$2,Přehled_body!$E$1:$ED$1,0)),)=\"\",,IF(IFERROR(INDEX(Přehled_body!$E$3:$ED$130,MATCH(Tabulka!$AI45,Přehled_body!$A$3:$A$130,0),MATCH(Tabulka!M$2,Přehled_body!$E$1:$ED$1,0)),)=0,0.00000000001,IFERROR(INDEX(Přehled_body!$E$3:$ED$130,MATCH(Tabulka!$AI45,Přehled_body!$A$3:$A$130,0),MATCH(Tabulka!M$2,Přehled_body!$E$1:$ED$1,0)),)))","v":0},{"$f":"IF(IFERROR(INDEX(Přehled_body!$E$3:$ED$130,MATCH(Tabulka!$AI45,Přehled_body!$A$3:$A$130,0),MATCH(Tabulka!N$2,Přehled_body!$E$1:$ED$1,0)),)=\"\",,IF(IFERROR(INDEX(Přehled_body!$E$3:$ED$130,MATCH(Tabulka!$AI45,Přehled_body!$A$3:$A$130,0),MATCH(Tabulka!N$2,Přehled_body!$E$1:$ED$1,0)),)=0,0.00000000001,IFERROR(INDEX(Přehled_body!$E$3:$ED$130,MATCH(Tabulka!$AI45,Přehled_body!$A$3:$A$130,0),MATCH(Tabulka!N$2,Přehled_body!$E$1:$ED$1,0)),)))","v":0},{"$f":"IF(IFERROR(INDEX(Přehled_body!$E$3:$ED$130,MATCH(Tabulka!$AI45,Přehled_body!$A$3:$A$130,0),MATCH(Tabulka!O$2,Přehled_body!$E$1:$ED$1,0)),)=\"\",,IF(IFERROR(INDEX(Přehled_body!$E$3:$ED$130,MATCH(Tabulka!$AI45,Přehled_body!$A$3:$A$130,0),MATCH(Tabulka!O$2,Přehled_body!$E$1:$ED$1,0)),)=0,0.00000000001,IFERROR(INDEX(Přehled_body!$E$3:$ED$130,MATCH(Tabulka!$AI45,Přehled_body!$A$3:$A$130,0),MATCH(Tabulka!O$2,Přehled_body!$E$1:$ED$1,0)),)))","v":0},{"$f":"IF(IFERROR(INDEX(Přehled_body!$E$3:$ED$130,MATCH(Tabulka!$AI45,Přehled_body!$A$3:$A$130,0),MATCH(Tabulka!P$2,Přehled_body!$E$1:$ED$1,0)),)=\"\",,IF(IFERROR(INDEX(Přehled_body!$E$3:$ED$130,MATCH(Tabulka!$AI45,Přehled_body!$A$3:$A$130,0),MATCH(Tabulka!P$2,Přehled_body!$E$1:$ED$1,0)),)=0,0.00000000001,IFERROR(INDEX(Přehled_body!$E$3:$ED$130,MATCH(Tabulka!$AI45,Přehled_body!$A$3:$A$130,0),MATCH(Tabulka!P$2,Přehled_body!$E$1:$ED$1,0)),)))","v":0},{"$f":"IF(IFERROR(INDEX(Přehled_body!$E$3:$ED$130,MATCH(Tabulka!$AI45,Přehled_body!$A$3:$A$130,0),MATCH(Tabulka!Q$2,Přehled_body!$E$1:$ED$1,0)),)=\"\",,IF(IFERROR(INDEX(Přehled_body!$E$3:$ED$130,MATCH(Tabulka!$AI45,Přehled_body!$A$3:$A$130,0),MATCH(Tabulka!Q$2,Přehled_body!$E$1:$ED$1,0)),)=0,0.00000000001,IFERROR(INDEX(Přehled_body!$E$3:$ED$130,MATCH(Tabulka!$AI45,Přehled_body!$A$3:$A$130,0),MATCH(Tabulka!Q$2,Přehled_body!$E$1:$ED$1,0)),)))","v":0},{"$f":"IF(IFERROR(INDEX(Přehled_body!$E$3:$ED$130,MATCH(Tabulka!$AI45,Přehled_body!$A$3:$A$130,0),MATCH(Tabulka!R$2,Přehled_body!$E$1:$ED$1,0)),)=\"\",,IF(IFERROR(INDEX(Přehled_body!$E$3:$ED$130,MATCH(Tabulka!$AI45,Přehled_body!$A$3:$A$130,0),MATCH(Tabulka!R$2,Přehled_body!$E$1:$ED$1,0)),)=0,0.00000000001,IFERROR(INDEX(Přehled_body!$E$3:$ED$130,MATCH(Tabulka!$AI45,Přehled_body!$A$3:$A$130,0),MATCH(Tabulka!R$2,Přehled_body!$E$1:$ED$1,0)),)))","v":0},{"$f":"IF(IFERROR(INDEX(Přehled_body!$E$3:$ED$130,MATCH(Tabulka!$AI45,Přehled_body!$A$3:$A$130,0),MATCH(Tabulka!S$2,Přehled_body!$E$1:$ED$1,0)),)=\"\",,IF(IFERROR(INDEX(Přehled_body!$E$3:$ED$130,MATCH(Tabulka!$AI45,Přehled_body!$A$3:$A$130,0),MATCH(Tabulka!S$2,Přehled_body!$E$1:$ED$1,0)),)=0,0.00000000001,IFERROR(INDEX(Přehled_body!$E$3:$ED$130,MATCH(Tabulka!$AI45,Přehled_body!$A$3:$A$130,0),MATCH(Tabulka!S$2,Přehled_body!$E$1:$ED$1,0)),)))","v":0},{"$f":"IF(IFERROR(INDEX(Přehled_body!$E$3:$ED$130,MATCH(Tabulka!$AI45,Přehled_body!$A$3:$A$130,0),MATCH(Tabulka!T$2,Přehled_body!$E$1:$ED$1,0)),)=\"\",,IF(IFERROR(INDEX(Přehled_body!$E$3:$ED$130,MATCH(Tabulka!$AI45,Přehled_body!$A$3:$A$130,0),MATCH(Tabulka!T$2,Přehled_body!$E$1:$ED$1,0)),)=0,0.00000000001,IFERROR(INDEX(Přehled_body!$E$3:$ED$130,MATCH(Tabulka!$AI45,Přehled_body!$A$3:$A$130,0),MATCH(Tabulka!T$2,Přehled_body!$E$1:$ED$1,0)),)))","v":0},{"$f":"IF(IFERROR(INDEX(Přehled_body!$E$3:$ED$130,MATCH(Tabulka!$AI45,Přehled_body!$A$3:$A$130,0),MATCH(Tabulka!U$2,Přehled_body!$E$1:$ED$1,0)),)=\"\",,IF(IFERROR(INDEX(Přehled_body!$E$3:$ED$130,MATCH(Tabulka!$AI45,Přehled_body!$A$3:$A$130,0),MATCH(Tabulka!U$2,Přehled_body!$E$1:$ED$1,0)),)=0,0.00000000001,IFERROR(INDEX(Přehled_body!$E$3:$ED$130,MATCH(Tabulka!$AI45,Přehled_body!$A$3:$A$130,0),MATCH(Tabulka!U$2,Přehled_body!$E$1:$ED$1,0)),)))","v":0},{"$f":"IF(IFERROR(INDEX(Přehled_body!$E$3:$ED$130,MATCH(Tabulka!$AI45,Přehled_body!$A$3:$A$130,0),MATCH(Tabulka!V$2,Přehled_body!$E$1:$ED$1,0)),)=\"\",,IF(IFERROR(INDEX(Přehled_body!$E$3:$ED$130,MATCH(Tabulka!$AI45,Přehled_body!$A$3:$A$130,0),MATCH(Tabulka!V$2,Přehled_body!$E$1:$ED$1,0)),)=0,0.00000000001,IFERROR(INDEX(Přehled_body!$E$3:$ED$130,MATCH(Tabulka!$AI45,Přehled_body!$A$3:$A$130,0),MATCH(Tabulka!V$2,Přehled_body!$E$1:$ED$1,0)),)))","v":0},{"$f":"IF(IFERROR(INDEX(Přehled_body!$E$3:$ED$130,MATCH(Tabulka!$AI45,Přehled_body!$A$3:$A$130,0),MATCH(Tabulka!W$2,Přehled_body!$E$1:$ED$1,0)),)=\"\",,IF(IFERROR(INDEX(Přehled_body!$E$3:$ED$130,MATCH(Tabulka!$AI45,Přehled_body!$A$3:$A$130,0),MATCH(Tabulka!W$2,Přehled_body!$E$1:$ED$1,0)),)=0,0.00000000001,IFERROR(INDEX(Přehled_body!$E$3:$ED$130,MATCH(Tabulka!$AI45,Přehled_body!$A$3:$A$130,0),MATCH(Tabulka!W$2,Přehled_body!$E$1:$ED$1,0)),)))","v":0},{"$f":"IF(IFERROR(INDEX(Přehled_body!$E$3:$ED$130,MATCH(Tabulka!$AI45,Přehled_body!$A$3:$A$130,0),MATCH(Tabulka!X$2,Přehled_body!$E$1:$ED$1,0)),)=\"\",,IF(IFERROR(INDEX(Přehled_body!$E$3:$ED$130,MATCH(Tabulka!$AI45,Přehled_body!$A$3:$A$130,0),MATCH(Tabulka!X$2,Přehled_body!$E$1:$ED$1,0)),)=0,0.00000000001,IFERROR(INDEX(Přehled_body!$E$3:$ED$130,MATCH(Tabulka!$AI45,Přehled_body!$A$3:$A$130,0),MATCH(Tabulka!X$2,Přehled_body!$E$1:$ED$1,0)),)))","v":0},{"$f":"IF(IFERROR(INDEX(Přehled_body!$E$3:$ED$130,MATCH(Tabulka!$AI45,Přehled_body!$A$3:$A$130,0),MATCH(Tabulka!Y$2,Přehled_body!$E$1:$ED$1,0)),)=\"\",,IF(IFERROR(INDEX(Přehled_body!$E$3:$ED$130,MATCH(Tabulka!$AI45,Přehled_body!$A$3:$A$130,0),MATCH(Tabulka!Y$2,Přehled_body!$E$1:$ED$1,0)),)=0,0.00000000001,IFERROR(INDEX(Přehled_body!$E$3:$ED$130,MATCH(Tabulka!$AI45,Přehled_body!$A$3:$A$130,0),MATCH(Tabulka!Y$2,Přehled_body!$E$1:$ED$1,0)),)))","v":0},{"$f":"IF(IFERROR(INDEX(Přehled_body!$E$3:$ED$130,MATCH(Tabulka!$AI45,Přehled_body!$A$3:$A$130,0),MATCH(Tabulka!Z$2,Přehled_body!$E$1:$ED$1,0)),)=\"\",,IF(IFERROR(INDEX(Přehled_body!$E$3:$ED$130,MATCH(Tabulka!$AI45,Přehled_body!$A$3:$A$130,0),MATCH(Tabulka!Z$2,Přehled_body!$E$1:$ED$1,0)),)=0,0.00000000001,IFERROR(INDEX(Přehled_body!$E$3:$ED$130,MATCH(Tabulka!$AI45,Přehled_body!$A$3:$A$130,0),MATCH(Tabulka!Z$2,Přehled_body!$E$1:$ED$1,0)),)))","v":0},{"$f":"IF(IFERROR(INDEX(Přehled_body!$E$3:$ED$130,MATCH(Tabulka!$AI45,Přehled_body!$A$3:$A$130,0),MATCH(Tabulka!AA$2,Přehled_body!$E$1:$ED$1,0)),)=\"\",,IF(IFERROR(INDEX(Přehled_body!$E$3:$ED$130,MATCH(Tabulka!$AI45,Přehled_body!$A$3:$A$130,0),MATCH(Tabulka!AA$2,Přehled_body!$E$1:$ED$1,0)),)=0,0.00000000001,IFERROR(INDEX(Přehled_body!$E$3:$ED$130,MATCH(Tabulka!$AI45,Přehled_body!$A$3:$A$130,0),MATCH(Tabulka!AA$2,Přehled_body!$E$1:$ED$1,0)),)))","v":0},{"$f":"IF(IFERROR(INDEX(Přehled_body!$E$3:$ED$130,MATCH(Tabulka!$AI45,Přehled_body!$A$3:$A$130,0),MATCH(Tabulka!AB$2,Přehled_body!$E$1:$ED$1,0)),)=\"\",,IF(IFERROR(INDEX(Přehled_body!$E$3:$ED$130,MATCH(Tabulka!$AI45,Přehled_body!$A$3:$A$130,0),MATCH(Tabulka!AB$2,Přehled_body!$E$1:$ED$1,0)),)=0,0.00000000001,IFERROR(INDEX(Přehled_body!$E$3:$ED$130,MATCH(Tabulka!$AI45,Přehled_body!$A$3:$A$130,0),MATCH(Tabulka!AB$2,Přehled_body!$E$1:$ED$1,0)),)))","v":0},{"$f":"IF(IFERROR(INDEX(Přehled_body!$E$3:$ED$130,MATCH(Tabulka!$AI45,Přehled_body!$A$3:$A$130,0),MATCH(Tabulka!AC$2,Přehled_body!$E$1:$ED$1,0)),)=\"\",,IF(IFERROR(INDEX(Přehled_body!$E$3:$ED$130,MATCH(Tabulka!$AI45,Přehled_body!$A$3:$A$130,0),MATCH(Tabulka!AC$2,Přehled_body!$E$1:$ED$1,0)),)=0,0.00000000001,IFERROR(INDEX(Přehled_body!$E$3:$ED$130,MATCH(Tabulka!$AI45,Přehled_body!$A$3:$A$130,0),MATCH(Tabulka!AC$2,Přehled_body!$E$1:$ED$1,0)),)))","v":0},{"$f":"IF(IFERROR(INDEX(Přehled_body!$E$3:$ED$130,MATCH(Tabulka!$AI45,Přehled_body!$A$3:$A$130,0),MATCH(Tabulka!AD$2,Přehled_body!$E$1:$ED$1,0)),)=\"\",,IF(IFERROR(INDEX(Přehled_body!$E$3:$ED$130,MATCH(Tabulka!$AI45,Přehled_body!$A$3:$A$130,0),MATCH(Tabulka!AD$2,Přehled_body!$E$1:$ED$1,0)),)=0,0.00000000001,IFERROR(INDEX(Přehled_body!$E$3:$ED$130,MATCH(Tabulka!$AI45,Přehled_body!$A$3:$A$130,0),MATCH(Tabulka!AD$2,Přehled_body!$E$1:$ED$1,0)),)))","v":0},{"$f":"IF(SUM($D$44:$AD$48)<1,-90000,SUM(D45:AD45))","v":2},{"$f":"IF(AE48>0.9,SUM(AE44-AE45)+0.00000001,0)","v":-1.9999999899900001},null,null,{"$f":"CONCATENATE($B$45,\" \",$B$46,C45)","v":"Míra ChalupníkProhry"}]
[{"$f":"CONCATENATE(B46,\" \",B45)","v":"Chalupník Míra"},"Chalupník","Placeno panáků",{"$f":"IF(IFERROR(INDEX(Přehled_body!$E$3:$ED$130,MATCH(Tabulka!$AI46,Přehled_body!$A$3:$A$130,0),MATCH(Tabulka!D$2,Přehled_body!$E$1:$ED$1,0)),)=\"\",,IF(IFERROR(INDEX(Přehled_body!$E$3:$ED$130,MATCH(Tabulka!$AI46,Přehled_body!$A$3:$A$130,0),MATCH(Tabulka!D$2,Přehled_body!$E$1:$ED$1,0)),)=0,0.00000000001,IFERROR(INDEX(Přehled_body!$E$3:$ED$130,MATCH(Tabulka!$AI46,Přehled_body!$A$3:$A$130,0),MATCH(Tabulka!D$2,Přehled_body!$E$1:$ED$1,0)),)))","v":2},{"$f":"IF(IFERROR(INDEX(Přehled_body!$E$3:$ED$130,MATCH(Tabulka!$AI46,Přehled_body!$A$3:$A$130,0),MATCH(Tabulka!E$2,Přehled_body!$E$1:$ED$1,0)),)=\"\",,IF(IFERROR(INDEX(Přehled_body!$E$3:$ED$130,MATCH(Tabulka!$AI46,Přehled_body!$A$3:$A$130,0),MATCH(Tabulka!E$2,Přehled_body!$E$1:$ED$1,0)),)=0,0.00000000001,IFERROR(INDEX(Přehled_body!$E$3:$ED$130,MATCH(Tabulka!$AI46,Přehled_body!$A$3:$A$130,0),MATCH(Tabulka!E$2,Přehled_body!$E$1:$ED$1,0)),)))","v":0},{"$f":"IF(IFERROR(INDEX(Přehled_body!$E$3:$ED$130,MATCH(Tabulka!$AI46,Přehled_body!$A$3:$A$130,0),MATCH(Tabulka!F$2,Přehled_body!$E$1:$ED$1,0)),)=\"\",,IF(IFERROR(INDEX(Přehled_body!$E$3:$ED$130,MATCH(Tabulka!$AI46,Přehled_body!$A$3:$A$130,0),MATCH(Tabulka!F$2,Přehled_body!$E$1:$ED$1,0)),)=0,0.00000000001,IFERROR(INDEX(Přehled_body!$E$3:$ED$130,MATCH(Tabulka!$AI46,Přehled_body!$A$3:$A$130,0),MATCH(Tabulka!F$2,Přehled_body!$E$1:$ED$1,0)),)))","v":0},{"$f":"IF(IFERROR(INDEX(Přehled_body!$E$3:$ED$130,MATCH(Tabulka!$AI46,Přehled_body!$A$3:$A$130,0),MATCH(Tabulka!G$2,Přehled_body!$E$1:$ED$1,0)),)=\"\",,IF(IFERROR(INDEX(Přehled_body!$E$3:$ED$130,MATCH(Tabulka!$AI46,Přehled_body!$A$3:$A$130,0),MATCH(Tabulka!G$2,Přehled_body!$E$1:$ED$1,0)),)=0,0.00000000001,IFERROR(INDEX(Přehled_body!$E$3:$ED$130,MATCH(Tabulka!$AI46,Přehled_body!$A$3:$A$130,0),MATCH(Tabulka!G$2,Přehled_body!$E$1:$ED$1,0)),)))","v":0},{"$f":"IF(IFERROR(INDEX(Přehled_body!$E$3:$ED$130,MATCH(Tabulka!$AI46,Přehled_body!$A$3:$A$130,0),MATCH(Tabulka!H$2,Přehled_body!$E$1:$ED$1,0)),)=\"\",,IF(IFERROR(INDEX(Přehled_body!$E$3:$ED$130,MATCH(Tabulka!$AI46,Přehled_body!$A$3:$A$130,0),MATCH(Tabulka!H$2,Přehled_body!$E$1:$ED$1,0)),)=0,0.00000000001,IFERROR(INDEX(Přehled_body!$E$3:$ED$130,MATCH(Tabulka!$AI46,Přehled_body!$A$3:$A$130,0),MATCH(Tabulka!H$2,Přehled_body!$E$1:$ED$1,0)),)))","v":0},{"$f":"IF(IFERROR(INDEX(Přehled_body!$E$3:$ED$130,MATCH(Tabulka!$AI46,Přehled_body!$A$3:$A$130,0),MATCH(Tabulka!I$2,Přehled_body!$E$1:$ED$1,0)),)=\"\",,IF(IFERROR(INDEX(Přehled_body!$E$3:$ED$130,MATCH(Tabulka!$AI46,Přehled_body!$A$3:$A$130,0),MATCH(Tabulka!I$2,Přehled_body!$E$1:$ED$1,0)),)=0,0.00000000001,IFERROR(INDEX(Přehled_body!$E$3:$ED$130,MATCH(Tabulka!$AI46,Přehled_body!$A$3:$A$130,0),MATCH(Tabulka!I$2,Přehled_body!$E$1:$ED$1,0)),)))","v":0},{"$f":"IF(IFERROR(INDEX(Přehled_body!$E$3:$ED$130,MATCH(Tabulka!$AI46,Přehled_body!$A$3:$A$130,0),MATCH(Tabulka!J$2,Přehled_body!$E$1:$ED$1,0)),)=\"\",,IF(IFERROR(INDEX(Přehled_body!$E$3:$ED$130,MATCH(Tabulka!$AI46,Přehled_body!$A$3:$A$130,0),MATCH(Tabulka!J$2,Přehled_body!$E$1:$ED$1,0)),)=0,0.00000000001,IFERROR(INDEX(Přehled_body!$E$3:$ED$130,MATCH(Tabulka!$AI46,Přehled_body!$A$3:$A$130,0),MATCH(Tabulka!J$2,Přehled_body!$E$1:$ED$1,0)),)))","v":0},{"$f":"IF(IFERROR(INDEX(Přehled_body!$E$3:$ED$130,MATCH(Tabulka!$AI46,Přehled_body!$A$3:$A$130,0),MATCH(Tabulka!K$2,Přehled_body!$E$1:$ED$1,0)),)=\"\",,IF(IFERROR(INDEX(Přehled_body!$E$3:$ED$130,MATCH(Tabulka!$AI46,Přehled_body!$A$3:$A$130,0),MATCH(Tabulka!K$2,Přehled_body!$E$1:$ED$1,0)),)=0,0.00000000001,IFERROR(INDEX(Přehled_body!$E$3:$ED$130,MATCH(Tabulka!$AI46,Přehled_body!$A$3:$A$130,0),MATCH(Tabulka!K$2,Přehled_body!$E$1:$ED$1,0)),)))","v":0},{"$f":"IF(IFERROR(INDEX(Přehled_body!$E$3:$ED$130,MATCH(Tabulka!$AI46,Přehled_body!$A$3:$A$130,0),MATCH(Tabulka!L$2,Přehled_body!$E$1:$ED$1,0)),)=\"\",,IF(IFERROR(INDEX(Přehled_body!$E$3:$ED$130,MATCH(Tabulka!$AI46,Přehled_body!$A$3:$A$130,0),MATCH(Tabulka!L$2,Přehled_body!$E$1:$ED$1,0)),)=0,0.00000000001,IFERROR(INDEX(Přehled_body!$E$3:$ED$130,MATCH(Tabulka!$AI46,Přehled_body!$A$3:$A$130,0),MATCH(Tabulka!L$2,Přehled_body!$E$1:$ED$1,0)),)))","v":0},{"$f":"IF(IFERROR(INDEX(Přehled_body!$E$3:$ED$130,MATCH(Tabulka!$AI46,Přehled_body!$A$3:$A$130,0),MATCH(Tabulka!M$2,Přehled_body!$E$1:$ED$1,0)),)=\"\",,IF(IFERROR(INDEX(Přehled_body!$E$3:$ED$130,MATCH(Tabulka!$AI46,Přehled_body!$A$3:$A$130,0),MATCH(Tabulka!M$2,Přehled_body!$E$1:$ED$1,0)),)=0,0.00000000001,IFERROR(INDEX(Přehled_body!$E$3:$ED$130,MATCH(Tabulka!$AI46,Přehled_body!$A$3:$A$130,0),MATCH(Tabulka!M$2,Přehled_body!$E$1:$ED$1,0)),)))","v":0},{"$f":"IF(IFERROR(INDEX(Přehled_body!$E$3:$ED$130,MATCH(Tabulka!$AI46,Přehled_body!$A$3:$A$130,0),MATCH(Tabulka!N$2,Přehled_body!$E$1:$ED$1,0)),)=\"\",,IF(IFERROR(INDEX(Přehled_body!$E$3:$ED$130,MATCH(Tabulka!$AI46,Přehled_body!$A$3:$A$130,0),MATCH(Tabulka!N$2,Přehled_body!$E$1:$ED$1,0)),)=0,0.00000000001,IFERROR(INDEX(Přehled_body!$E$3:$ED$130,MATCH(Tabulka!$AI46,Přehled_body!$A$3:$A$130,0),MATCH(Tabulka!N$2,Přehled_body!$E$1:$ED$1,0)),)))","v":0},{"$f":"IF(IFERROR(INDEX(Přehled_body!$E$3:$ED$130,MATCH(Tabulka!$AI46,Přehled_body!$A$3:$A$130,0),MATCH(Tabulka!O$2,Přehled_body!$E$1:$ED$1,0)),)=\"\",,IF(IFERROR(INDEX(Přehled_body!$E$3:$ED$130,MATCH(Tabulka!$AI46,Přehled_body!$A$3:$A$130,0),MATCH(Tabulka!O$2,Přehled_body!$E$1:$ED$1,0)),)=0,0.00000000001,IFERROR(INDEX(Přehled_body!$E$3:$ED$130,MATCH(Tabulka!$AI46,Přehled_body!$A$3:$A$130,0),MATCH(Tabulka!O$2,Přehled_body!$E$1:$ED$1,0)),)))","v":0},{"$f":"IF(IFERROR(INDEX(Přehled_body!$E$3:$ED$130,MATCH(Tabulka!$AI46,Přehled_body!$A$3:$A$130,0),MATCH(Tabulka!P$2,Přehled_body!$E$1:$ED$1,0)),)=\"\",,IF(IFERROR(INDEX(Přehled_body!$E$3:$ED$130,MATCH(Tabulka!$AI46,Přehled_body!$A$3:$A$130,0),MATCH(Tabulka!P$2,Přehled_body!$E$1:$ED$1,0)),)=0,0.00000000001,IFERROR(INDEX(Přehled_body!$E$3:$ED$130,MATCH(Tabulka!$AI46,Přehled_body!$A$3:$A$130,0),MATCH(Tabulka!P$2,Přehled_body!$E$1:$ED$1,0)),)))","v":0},{"$f":"IF(IFERROR(INDEX(Přehled_body!$E$3:$ED$130,MATCH(Tabulka!$AI46,Přehled_body!$A$3:$A$130,0),MATCH(Tabulka!Q$2,Přehled_body!$E$1:$ED$1,0)),)=\"\",,IF(IFERROR(INDEX(Přehled_body!$E$3:$ED$130,MATCH(Tabulka!$AI46,Přehled_body!$A$3:$A$130,0),MATCH(Tabulka!Q$2,Přehled_body!$E$1:$ED$1,0)),)=0,0.00000000001,IFERROR(INDEX(Přehled_body!$E$3:$ED$130,MATCH(Tabulka!$AI46,Přehled_body!$A$3:$A$130,0),MATCH(Tabulka!Q$2,Přehled_body!$E$1:$ED$1,0)),)))","v":0},{"$f":"IF(IFERROR(INDEX(Přehled_body!$E$3:$ED$130,MATCH(Tabulka!$AI46,Přehled_body!$A$3:$A$130,0),MATCH(Tabulka!R$2,Přehled_body!$E$1:$ED$1,0)),)=\"\",,IF(IFERROR(INDEX(Přehled_body!$E$3:$ED$130,MATCH(Tabulka!$AI46,Přehled_body!$A$3:$A$130,0),MATCH(Tabulka!R$2,Přehled_body!$E$1:$ED$1,0)),)=0,0.00000000001,IFERROR(INDEX(Přehled_body!$E$3:$ED$130,MATCH(Tabulka!$AI46,Přehled_body!$A$3:$A$130,0),MATCH(Tabulka!R$2,Přehled_body!$E$1:$ED$1,0)),)))","v":0},{"$f":"IF(IFERROR(INDEX(Přehled_body!$E$3:$ED$130,MATCH(Tabulka!$AI46,Přehled_body!$A$3:$A$130,0),MATCH(Tabulka!S$2,Přehled_body!$E$1:$ED$1,0)),)=\"\",,IF(IFERROR(INDEX(Přehled_body!$E$3:$ED$130,MATCH(Tabulka!$AI46,Přehled_body!$A$3:$A$130,0),MATCH(Tabulka!S$2,Přehled_body!$E$1:$ED$1,0)),)=0,0.00000000001,IFERROR(INDEX(Přehled_body!$E$3:$ED$130,MATCH(Tabulka!$AI46,Přehled_body!$A$3:$A$130,0),MATCH(Tabulka!S$2,Přehled_body!$E$1:$ED$1,0)),)))","v":0},{"$f":"IF(IFERROR(INDEX(Přehled_body!$E$3:$ED$130,MATCH(Tabulka!$AI46,Přehled_body!$A$3:$A$130,0),MATCH(Tabulka!T$2,Přehled_body!$E$1:$ED$1,0)),)=\"\",,IF(IFERROR(INDEX(Přehled_body!$E$3:$ED$130,MATCH(Tabulka!$AI46,Přehled_body!$A$3:$A$130,0),MATCH(Tabulka!T$2,Přehled_body!$E$1:$ED$1,0)),)=0,0.00000000001,IFERROR(INDEX(Přehled_body!$E$3:$ED$130,MATCH(Tabulka!$AI46,Přehled_body!$A$3:$A$130,0),MATCH(Tabulka!T$2,Přehled_body!$E$1:$ED$1,0)),)))","v":0},{"$f":"IF(IFERROR(INDEX(Přehled_body!$E$3:$ED$130,MATCH(Tabulka!$AI46,Přehled_body!$A$3:$A$130,0),MATCH(Tabulka!U$2,Přehled_body!$E$1:$ED$1,0)),)=\"\",,IF(IFERROR(INDEX(Přehled_body!$E$3:$ED$130,MATCH(Tabulka!$AI46,Přehled_body!$A$3:$A$130,0),MATCH(Tabulka!U$2,Přehled_body!$E$1:$ED$1,0)),)=0,0.00000000001,IFERROR(INDEX(Přehled_body!$E$3:$ED$130,MATCH(Tabulka!$AI46,Přehled_body!$A$3:$A$130,0),MATCH(Tabulka!U$2,Přehled_body!$E$1:$ED$1,0)),)))","v":0},{"$f":"IF(IFERROR(INDEX(Přehled_body!$E$3:$ED$130,MATCH(Tabulka!$AI46,Přehled_body!$A$3:$A$130,0),MATCH(Tabulka!V$2,Přehled_body!$E$1:$ED$1,0)),)=\"\",,IF(IFERROR(INDEX(Přehled_body!$E$3:$ED$130,MATCH(Tabulka!$AI46,Přehled_body!$A$3:$A$130,0),MATCH(Tabulka!V$2,Přehled_body!$E$1:$ED$1,0)),)=0,0.00000000001,IFERROR(INDEX(Přehled_body!$E$3:$ED$130,MATCH(Tabulka!$AI46,Přehled_body!$A$3:$A$130,0),MATCH(Tabulka!V$2,Přehled_body!$E$1:$ED$1,0)),)))","v":0},{"$f":"IF(IFERROR(INDEX(Přehled_body!$E$3:$ED$130,MATCH(Tabulka!$AI46,Přehled_body!$A$3:$A$130,0),MATCH(Tabulka!W$2,Přehled_body!$E$1:$ED$1,0)),)=\"\",,IF(IFERROR(INDEX(Přehled_body!$E$3:$ED$130,MATCH(Tabulka!$AI46,Přehled_body!$A$3:$A$130,0),MATCH(Tabulka!W$2,Přehled_body!$E$1:$ED$1,0)),)=0,0.00000000001,IFERROR(INDEX(Přehled_body!$E$3:$ED$130,MATCH(Tabulka!$AI46,Přehled_body!$A$3:$A$130,0),MATCH(Tabulka!W$2,Přehled_body!$E$1:$ED$1,0)),)))","v":0},{"$f":"IF(IFERROR(INDEX(Přehled_body!$E$3:$ED$130,MATCH(Tabulka!$AI46,Přehled_body!$A$3:$A$130,0),MATCH(Tabulka!X$2,Přehled_body!$E$1:$ED$1,0)),)=\"\",,IF(IFERROR(INDEX(Přehled_body!$E$3:$ED$130,MATCH(Tabulka!$AI46,Přehled_body!$A$3:$A$130,0),MATCH(Tabulka!X$2,Přehled_body!$E$1:$ED$1,0)),)=0,0.00000000001,IFERROR(INDEX(Přehled_body!$E$3:$ED$130,MATCH(Tabulka!$AI46,Přehled_body!$A$3:$A$130,0),MATCH(Tabulka!X$2,Přehled_body!$E$1:$ED$1,0)),)))","v":0},{"$f":"IF(IFERROR(INDEX(Přehled_body!$E$3:$ED$130,MATCH(Tabulka!$AI46,Přehled_body!$A$3:$A$130,0),MATCH(Tabulka!Y$2,Přehled_body!$E$1:$ED$1,0)),)=\"\",,IF(IFERROR(INDEX(Přehled_body!$E$3:$ED$130,MATCH(Tabulka!$AI46,Přehled_body!$A$3:$A$130,0),MATCH(Tabulka!Y$2,Přehled_body!$E$1:$ED$1,0)),)=0,0.00000000001,IFERROR(INDEX(Přehled_body!$E$3:$ED$130,MATCH(Tabulka!$AI46,Přehled_body!$A$3:$A$130,0),MATCH(Tabulka!Y$2,Přehled_body!$E$1:$ED$1,0)),)))","v":0},{"$f":"IF(IFERROR(INDEX(Přehled_body!$E$3:$ED$130,MATCH(Tabulka!$AI46,Přehled_body!$A$3:$A$130,0),MATCH(Tabulka!Z$2,Přehled_body!$E$1:$ED$1,0)),)=\"\",,IF(IFERROR(INDEX(Přehled_body!$E$3:$ED$130,MATCH(Tabulka!$AI46,Přehled_body!$A$3:$A$130,0),MATCH(Tabulka!Z$2,Přehled_body!$E$1:$ED$1,0)),)=0,0.00000000001,IFERROR(INDEX(Přehled_body!$E$3:$ED$130,MATCH(Tabulka!$AI46,Přehled_body!$A$3:$A$130,0),MATCH(Tabulka!Z$2,Přehled_body!$E$1:$ED$1,0)),)))","v":0},{"$f":"IF(IFERROR(INDEX(Přehled_body!$E$3:$ED$130,MATCH(Tabulka!$AI46,Přehled_body!$A$3:$A$130,0),MATCH(Tabulka!AA$2,Přehled_body!$E$1:$ED$1,0)),)=\"\",,IF(IFERROR(INDEX(Přehled_body!$E$3:$ED$130,MATCH(Tabulka!$AI46,Přehled_body!$A$3:$A$130,0),MATCH(Tabulka!AA$2,Přehled_body!$E$1:$ED$1,0)),)=0,0.00000000001,IFERROR(INDEX(Přehled_body!$E$3:$ED$130,MATCH(Tabulka!$AI46,Přehled_body!$A$3:$A$130,0),MATCH(Tabulka!AA$2,Přehled_body!$E$1:$ED$1,0)),)))","v":0},{"$f":"IF(IFERROR(INDEX(Přehled_body!$E$3:$ED$130,MATCH(Tabulka!$AI46,Přehled_body!$A$3:$A$130,0),MATCH(Tabulka!AB$2,Přehled_body!$E$1:$ED$1,0)),)=\"\",,IF(IFERROR(INDEX(Přehled_body!$E$3:$ED$130,MATCH(Tabulka!$AI46,Přehled_body!$A$3:$A$130,0),MATCH(Tabulka!AB$2,Přehled_body!$E$1:$ED$1,0)),)=0,0.00000000001,IFERROR(INDEX(Přehled_body!$E$3:$ED$130,MATCH(Tabulka!$AI46,Přehled_body!$A$3:$A$130,0),MATCH(Tabulka!AB$2,Přehled_body!$E$1:$ED$1,0)),)))","v":0},{"$f":"IF(IFERROR(INDEX(Přehled_body!$E$3:$ED$130,MATCH(Tabulka!$AI46,Přehled_body!$A$3:$A$130,0),MATCH(Tabulka!AC$2,Přehled_body!$E$1:$ED$1,0)),)=\"\",,IF(IFERROR(INDEX(Přehled_body!$E$3:$ED$130,MATCH(Tabulka!$AI46,Přehled_body!$A$3:$A$130,0),MATCH(Tabulka!AC$2,Přehled_body!$E$1:$ED$1,0)),)=0,0.00000000001,IFERROR(INDEX(Přehled_body!$E$3:$ED$130,MATCH(Tabulka!$AI46,Přehled_body!$A$3:$A$130,0),MATCH(Tabulka!AC$2,Přehled_body!$E$1:$ED$1,0)),)))","v":0},{"$f":"IF(IFERROR(INDEX(Přehled_body!$E$3:$ED$130,MATCH(Tabulka!$AI46,Přehled_body!$A$3:$A$130,0),MATCH(Tabulka!AD$2,Přehled_body!$E$1:$ED$1,0)),)=\"\",,IF(IFERROR(INDEX(Přehled_body!$E$3:$ED$130,MATCH(Tabulka!$AI46,Přehled_body!$A$3:$A$130,0),MATCH(Tabulka!AD$2,Přehled_body!$E$1:$ED$1,0)),)=0,0.00000000001,IFERROR(INDEX(Přehled_body!$E$3:$ED$130,MATCH(Tabulka!$AI46,Přehled_body!$A$3:$A$130,0),MATCH(Tabulka!AD$2,Přehled_body!$E$1:$ED$1,0)),)))","v":0},{"$f":"IF(SUM($D$44:$AD$48)<1,-90000,SUM(D46:AD46))","v":2},null,null,null,{"$f":"CONCATENATE($B$45,\" \",$B$46,C46)","v":"Míra ChalupníkPlaceno panáků"}]
[null,null,"Přehozy",{"$f":"IF(IFERROR(INDEX(Přehled_body!$E$3:$ED$130,MATCH(Tabulka!$AI47,Přehled_body!$A$3:$A$130,0),MATCH(Tabulka!D$2,Přehled_body!$E$1:$ED$1,0)),)=\"\",,IF(IFERROR(INDEX(Přehled_body!$E$3:$ED$130,MATCH(Tabulka!$AI47,Přehled_body!$A$3:$A$130,0),MATCH(Tabulka!D$2,Přehled_body!$E$1:$ED$1,0)),)=0,0.00000000001,IFERROR(INDEX(Přehled_body!$E$3:$ED$130,MATCH(Tabulka!$AI47,Přehled_body!$A$3:$A$130,0),MATCH(Tabulka!D$2,Přehled_body!$E$1:$ED$1,0)),)))","v":1},{"$f":"IF(IFERROR(INDEX(Přehled_body!$E$3:$ED$130,MATCH(Tabulka!$AI47,Přehled_body!$A$3:$A$130,0),MATCH(Tabulka!E$2,Přehled_body!$E$1:$ED$1,0)),)=\"\",,IF(IFERROR(INDEX(Přehled_body!$E$3:$ED$130,MATCH(Tabulka!$AI47,Přehled_body!$A$3:$A$130,0),MATCH(Tabulka!E$2,Přehled_body!$E$1:$ED$1,0)),)=0,0.00000000001,IFERROR(INDEX(Přehled_body!$E$3:$ED$130,MATCH(Tabulka!$AI47,Přehled_body!$A$3:$A$130,0),MATCH(Tabulka!E$2,Přehled_body!$E$1:$ED$1,0)),)))","v":0},{"$f":"IF(IFERROR(INDEX(Přehled_body!$E$3:$ED$130,MATCH(Tabulka!$AI47,Přehled_body!$A$3:$A$130,0),MATCH(Tabulka!F$2,Přehled_body!$E$1:$ED$1,0)),)=\"\",,IF(IFERROR(INDEX(Přehled_body!$E$3:$ED$130,MATCH(Tabulka!$AI47,Přehled_body!$A$3:$A$130,0),MATCH(Tabulka!F$2,Přehled_body!$E$1:$ED$1,0)),)=0,0.00000000001,IFERROR(INDEX(Přehled_body!$E$3:$ED$130,MATCH(Tabulka!$AI47,Přehled_body!$A$3:$A$130,0),MATCH(Tabulka!F$2,Přehled_body!$E$1:$ED$1,0)),)))","v":0},{"$f":"IF(IFERROR(INDEX(Přehled_body!$E$3:$ED$130,MATCH(Tabulka!$AI47,Přehled_body!$A$3:$A$130,0),MATCH(Tabulka!G$2,Přehled_body!$E$1:$ED$1,0)),)=\"\",,IF(IFERROR(INDEX(Přehled_body!$E$3:$ED$130,MATCH(Tabulka!$AI47,Přehled_body!$A$3:$A$130,0),MATCH(Tabulka!G$2,Přehled_body!$E$1:$ED$1,0)),)=0,0.00000000001,IFERROR(INDEX(Přehled_body!$E$3:$ED$130,MATCH(Tabulka!$AI47,Přehled_body!$A$3:$A$130,0),MATCH(Tabulka!G$2,Přehled_body!$E$1:$ED$1,0)),)))","v":0},{"$f":"IF(IFERROR(INDEX(Přehled_body!$E$3:$ED$130,MATCH(Tabulka!$AI47,Přehled_body!$A$3:$A$130,0),MATCH(Tabulka!H$2,Přehled_body!$E$1:$ED$1,0)),)=\"\",,IF(IFERROR(INDEX(Přehled_body!$E$3:$ED$130,MATCH(Tabulka!$AI47,Přehled_body!$A$3:$A$130,0),MATCH(Tabulka!H$2,Přehled_body!$E$1:$ED$1,0)),)=0,0.00000000001,IFERROR(INDEX(Přehled_body!$E$3:$ED$130,MATCH(Tabulka!$AI47,Přehled_body!$A$3:$A$130,0),MATCH(Tabulka!H$2,Přehled_body!$E$1:$ED$1,0)),)))","v":0},{"$f":"IF(IFERROR(INDEX(Přehled_body!$E$3:$ED$130,MATCH(Tabulka!$AI47,Přehled_body!$A$3:$A$130,0),MATCH(Tabulka!I$2,Přehled_body!$E$1:$ED$1,0)),)=\"\",,IF(IFERROR(INDEX(Přehled_body!$E$3:$ED$130,MATCH(Tabulka!$AI47,Přehled_body!$A$3:$A$130,0),MATCH(Tabulka!I$2,Přehled_body!$E$1:$ED$1,0)),)=0,0.00000000001,IFERROR(INDEX(Přehled_body!$E$3:$ED$130,MATCH(Tabulka!$AI47,Přehled_body!$A$3:$A$130,0),MATCH(Tabulka!I$2,Přehled_body!$E$1:$ED$1,0)),)))","v":0},{"$f":"IF(IFERROR(INDEX(Přehled_body!$E$3:$ED$130,MATCH(Tabulka!$AI47,Přehled_body!$A$3:$A$130,0),MATCH(Tabulka!J$2,Přehled_body!$E$1:$ED$1,0)),)=\"\",,IF(IFERROR(INDEX(Přehled_body!$E$3:$ED$130,MATCH(Tabulka!$AI47,Přehled_body!$A$3:$A$130,0),MATCH(Tabulka!J$2,Přehled_body!$E$1:$ED$1,0)),)=0,0.00000000001,IFERROR(INDEX(Přehled_body!$E$3:$ED$130,MATCH(Tabulka!$AI47,Přehled_body!$A$3:$A$130,0),MATCH(Tabulka!J$2,Přehled_body!$E$1:$ED$1,0)),)))","v":0},{"$f":"IF(IFERROR(INDEX(Přehled_body!$E$3:$ED$130,MATCH(Tabulka!$AI47,Přehled_body!$A$3:$A$130,0),MATCH(Tabulka!K$2,Přehled_body!$E$1:$ED$1,0)),)=\"\",,IF(IFERROR(INDEX(Přehled_body!$E$3:$ED$130,MATCH(Tabulka!$AI47,Přehled_body!$A$3:$A$130,0),MATCH(Tabulka!K$2,Přehled_body!$E$1:$ED$1,0)),)=0,0.00000000001,IFERROR(INDEX(Přehled_body!$E$3:$ED$130,MATCH(Tabulka!$AI47,Přehled_body!$A$3:$A$130,0),MATCH(Tabulka!K$2,Přehled_body!$E$1:$ED$1,0)),)))","v":0},{"$f":"IF(IFERROR(INDEX(Přehled_body!$E$3:$ED$130,MATCH(Tabulka!$AI47,Přehled_body!$A$3:$A$130,0),MATCH(Tabulka!L$2,Přehled_body!$E$1:$ED$1,0)),)=\"\",,IF(IFERROR(INDEX(Přehled_body!$E$3:$ED$130,MATCH(Tabulka!$AI47,Přehled_body!$A$3:$A$130,0),MATCH(Tabulka!L$2,Přehled_body!$E$1:$ED$1,0)),)=0,0.00000000001,IFERROR(INDEX(Přehled_body!$E$3:$ED$130,MATCH(Tabulka!$AI47,Přehled_body!$A$3:$A$130,0),MATCH(Tabulka!L$2,Přehled_body!$E$1:$ED$1,0)),)))","v":0},{"$f":"IF(IFERROR(INDEX(Přehled_body!$E$3:$ED$130,MATCH(Tabulka!$AI47,Přehled_body!$A$3:$A$130,0),MATCH(Tabulka!M$2,Přehled_body!$E$1:$ED$1,0)),)=\"\",,IF(IFERROR(INDEX(Přehled_body!$E$3:$ED$130,MATCH(Tabulka!$AI47,Přehled_body!$A$3:$A$130,0),MATCH(Tabulka!M$2,Přehled_body!$E$1:$ED$1,0)),)=0,0.00000000001,IFERROR(INDEX(Přehled_body!$E$3:$ED$130,MATCH(Tabulka!$AI47,Přehled_body!$A$3:$A$130,0),MATCH(Tabulka!M$2,Přehled_body!$E$1:$ED$1,0)),)))","v":0},{"$f":"IF(IFERROR(INDEX(Přehled_body!$E$3:$ED$130,MATCH(Tabulka!$AI47,Přehled_body!$A$3:$A$130,0),MATCH(Tabulka!N$2,Přehled_body!$E$1:$ED$1,0)),)=\"\",,IF(IFERROR(INDEX(Přehled_body!$E$3:$ED$130,MATCH(Tabulka!$AI47,Přehled_body!$A$3:$A$130,0),MATCH(Tabulka!N$2,Přehled_body!$E$1:$ED$1,0)),)=0,0.00000000001,IFERROR(INDEX(Přehled_body!$E$3:$ED$130,MATCH(Tabulka!$AI47,Přehled_body!$A$3:$A$130,0),MATCH(Tabulka!N$2,Přehled_body!$E$1:$ED$1,0)),)))","v":0},{"$f":"IF(IFERROR(INDEX(Přehled_body!$E$3:$ED$130,MATCH(Tabulka!$AI47,Přehled_body!$A$3:$A$130,0),MATCH(Tabulka!O$2,Přehled_body!$E$1:$ED$1,0)),)=\"\",,IF(IFERROR(INDEX(Přehled_body!$E$3:$ED$130,MATCH(Tabulka!$AI47,Přehled_body!$A$3:$A$130,0),MATCH(Tabulka!O$2,Přehled_body!$E$1:$ED$1,0)),)=0,0.00000000001,IFERROR(INDEX(Přehled_body!$E$3:$ED$130,MATCH(Tabulka!$AI47,Přehled_body!$A$3:$A$130,0),MATCH(Tabulka!O$2,Přehled_body!$E$1:$ED$1,0)),)))","v":0},{"$f":"IF(IFERROR(INDEX(Přehled_body!$E$3:$ED$130,MATCH(Tabulka!$AI47,Přehled_body!$A$3:$A$130,0),MATCH(Tabulka!P$2,Přehled_body!$E$1:$ED$1,0)),)=\"\",,IF(IFERROR(INDEX(Přehled_body!$E$3:$ED$130,MATCH(Tabulka!$AI47,Přehled_body!$A$3:$A$130,0),MATCH(Tabulka!P$2,Přehled_body!$E$1:$ED$1,0)),)=0,0.00000000001,IFERROR(INDEX(Přehled_body!$E$3:$ED$130,MATCH(Tabulka!$AI47,Přehled_body!$A$3:$A$130,0),MATCH(Tabulka!P$2,Přehled_body!$E$1:$ED$1,0)),)))","v":0},{"$f":"IF(IFERROR(INDEX(Přehled_body!$E$3:$ED$130,MATCH(Tabulka!$AI47,Přehled_body!$A$3:$A$130,0),MATCH(Tabulka!Q$2,Přehled_body!$E$1:$ED$1,0)),)=\"\",,IF(IFERROR(INDEX(Přehled_body!$E$3:$ED$130,MATCH(Tabulka!$AI47,Přehled_body!$A$3:$A$130,0),MATCH(Tabulka!Q$2,Přehled_body!$E$1:$ED$1,0)),)=0,0.00000000001,IFERROR(INDEX(Přehled_body!$E$3:$ED$130,MATCH(Tabulka!$AI47,Přehled_body!$A$3:$A$130,0),MATCH(Tabulka!Q$2,Přehled_body!$E$1:$ED$1,0)),)))","v":0},{"$f":"IF(IFERROR(INDEX(Přehled_body!$E$3:$ED$130,MATCH(Tabulka!$AI47,Přehled_body!$A$3:$A$130,0),MATCH(Tabulka!R$2,Přehled_body!$E$1:$ED$1,0)),)=\"\",,IF(IFERROR(INDEX(Přehled_body!$E$3:$ED$130,MATCH(Tabulka!$AI47,Přehled_body!$A$3:$A$130,0),MATCH(Tabulka!R$2,Přehled_body!$E$1:$ED$1,0)),)=0,0.00000000001,IFERROR(INDEX(Přehled_body!$E$3:$ED$130,MATCH(Tabulka!$AI47,Přehled_body!$A$3:$A$130,0),MATCH(Tabulka!R$2,Přehled_body!$E$1:$ED$1,0)),)))","v":0},{"$f":"IF(IFERROR(INDEX(Přehled_body!$E$3:$ED$130,MATCH(Tabulka!$AI47,Přehled_body!$A$3:$A$130,0),MATCH(Tabulka!S$2,Přehled_body!$E$1:$ED$1,0)),)=\"\",,IF(IFERROR(INDEX(Přehled_body!$E$3:$ED$130,MATCH(Tabulka!$AI47,Přehled_body!$A$3:$A$130,0),MATCH(Tabulka!S$2,Přehled_body!$E$1:$ED$1,0)),)=0,0.00000000001,IFERROR(INDEX(Přehled_body!$E$3:$ED$130,MATCH(Tabulka!$AI47,Přehled_body!$A$3:$A$130,0),MATCH(Tabulka!S$2,Přehled_body!$E$1:$ED$1,0)),)))","v":0},{"$f":"IF(IFERROR(INDEX(Přehled_body!$E$3:$ED$130,MATCH(Tabulka!$AI47,Přehled_body!$A$3:$A$130,0),MATCH(Tabulka!T$2,Přehled_body!$E$1:$ED$1,0)),)=\"\",,IF(IFERROR(INDEX(Přehled_body!$E$3:$ED$130,MATCH(Tabulka!$AI47,Přehled_body!$A$3:$A$130,0),MATCH(Tabulka!T$2,Přehled_body!$E$1:$ED$1,0)),)=0,0.00000000001,IFERROR(INDEX(Přehled_body!$E$3:$ED$130,MATCH(Tabulka!$AI47,Přehled_body!$A$3:$A$130,0),MATCH(Tabulka!T$2,Přehled_body!$E$1:$ED$1,0)),)))","v":0},{"$f":"IF(IFERROR(INDEX(Přehled_body!$E$3:$ED$130,MATCH(Tabulka!$AI47,Přehled_body!$A$3:$A$130,0),MATCH(Tabulka!U$2,Přehled_body!$E$1:$ED$1,0)),)=\"\",,IF(IFERROR(INDEX(Přehled_body!$E$3:$ED$130,MATCH(Tabulka!$AI47,Přehled_body!$A$3:$A$130,0),MATCH(Tabulka!U$2,Přehled_body!$E$1:$ED$1,0)),)=0,0.00000000001,IFERROR(INDEX(Přehled_body!$E$3:$ED$130,MATCH(Tabulka!$AI47,Přehled_body!$A$3:$A$130,0),MATCH(Tabulka!U$2,Přehled_body!$E$1:$ED$1,0)),)))","v":0},{"$f":"IF(IFERROR(INDEX(Přehled_body!$E$3:$ED$130,MATCH(Tabulka!$AI47,Přehled_body!$A$3:$A$130,0),MATCH(Tabulka!V$2,Přehled_body!$E$1:$ED$1,0)),)=\"\",,IF(IFERROR(INDEX(Přehled_body!$E$3:$ED$130,MATCH(Tabulka!$AI47,Přehled_body!$A$3:$A$130,0),MATCH(Tabulka!V$2,Přehled_body!$E$1:$ED$1,0)),)=0,0.00000000001,IFERROR(INDEX(Přehled_body!$E$3:$ED$130,MATCH(Tabulka!$AI47,Přehled_body!$A$3:$A$130,0),MATCH(Tabulka!V$2,Přehled_body!$E$1:$ED$1,0)),)))","v":0},{"$f":"IF(IFERROR(INDEX(Přehled_body!$E$3:$ED$130,MATCH(Tabulka!$AI47,Přehled_body!$A$3:$A$130,0),MATCH(Tabulka!W$2,Přehled_body!$E$1:$ED$1,0)),)=\"\",,IF(IFERROR(INDEX(Přehled_body!$E$3:$ED$130,MATCH(Tabulka!$AI47,Přehled_body!$A$3:$A$130,0),MATCH(Tabulka!W$2,Přehled_body!$E$1:$ED$1,0)),)=0,0.00000000001,IFERROR(INDEX(Přehled_body!$E$3:$ED$130,MATCH(Tabulka!$AI47,Přehled_body!$A$3:$A$130,0),MATCH(Tabulka!W$2,Přehled_body!$E$1:$ED$1,0)),)))","v":0},{"$f":"IF(IFERROR(INDEX(Přehled_body!$E$3:$ED$130,MATCH(Tabulka!$AI47,Přehled_body!$A$3:$A$130,0),MATCH(Tabulka!X$2,Přehled_body!$E$1:$ED$1,0)),)=\"\",,IF(IFERROR(INDEX(Přehled_body!$E$3:$ED$130,MATCH(Tabulka!$AI47,Přehled_body!$A$3:$A$130,0),MATCH(Tabulka!X$2,Přehled_body!$E$1:$ED$1,0)),)=0,0.00000000001,IFERROR(INDEX(Přehled_body!$E$3:$ED$130,MATCH(Tabulka!$AI47,Přehled_body!$A$3:$A$130,0),MATCH(Tabulka!X$2,Přehled_body!$E$1:$ED$1,0)),)))","v":0},{"$f":"IF(IFERROR(INDEX(Přehled_body!$E$3:$ED$130,MATCH(Tabulka!$AI47,Přehled_body!$A$3:$A$130,0),MATCH(Tabulka!Y$2,Přehled_body!$E$1:$ED$1,0)),)=\"\",,IF(IFERROR(INDEX(Přehled_body!$E$3:$ED$130,MATCH(Tabulka!$AI47,Přehled_body!$A$3:$A$130,0),MATCH(Tabulka!Y$2,Přehled_body!$E$1:$ED$1,0)),)=0,0.00000000001,IFERROR(INDEX(Přehled_body!$E$3:$ED$130,MATCH(Tabulka!$AI47,Přehled_body!$A$3:$A$130,0),MATCH(Tabulka!Y$2,Přehled_body!$E$1:$ED$1,0)),)))","v":0},{"$f":"IF(IFERROR(INDEX(Přehled_body!$E$3:$ED$130,MATCH(Tabulka!$AI47,Přehled_body!$A$3:$A$130,0),MATCH(Tabulka!Z$2,Přehled_body!$E$1:$ED$1,0)),)=\"\",,IF(IFERROR(INDEX(Přehled_body!$E$3:$ED$130,MATCH(Tabulka!$AI47,Přehled_body!$A$3:$A$130,0),MATCH(Tabulka!Z$2,Přehled_body!$E$1:$ED$1,0)),)=0,0.00000000001,IFERROR(INDEX(Přehled_body!$E$3:$ED$130,MATCH(Tabulka!$AI47,Přehled_body!$A$3:$A$130,0),MATCH(Tabulka!Z$2,Přehled_body!$E$1:$ED$1,0)),)))","v":0},{"$f":"IF(IFERROR(INDEX(Přehled_body!$E$3:$ED$130,MATCH(Tabulka!$AI47,Přehled_body!$A$3:$A$130,0),MATCH(Tabulka!AA$2,Přehled_body!$E$1:$ED$1,0)),)=\"\",,IF(IFERROR(INDEX(Přehled_body!$E$3:$ED$130,MATCH(Tabulka!$AI47,Přehled_body!$A$3:$A$130,0),MATCH(Tabulka!AA$2,Přehled_body!$E$1:$ED$1,0)),)=0,0.00000000001,IFERROR(INDEX(Přehled_body!$E$3:$ED$130,MATCH(Tabulka!$AI47,Přehled_body!$A$3:$A$130,0),MATCH(Tabulka!AA$2,Přehled_body!$E$1:$ED$1,0)),)))","v":0},{"$f":"IF(IFERROR(INDEX(Přehled_body!$E$3:$ED$130,MATCH(Tabulka!$AI47,Přehled_body!$A$3:$A$130,0),MATCH(Tabulka!AB$2,Přehled_body!$E$1:$ED$1,0)),)=\"\",,IF(IFERROR(INDEX(Přehled_body!$E$3:$ED$130,MATCH(Tabulka!$AI47,Přehled_body!$A$3:$A$130,0),MATCH(Tabulka!AB$2,Přehled_body!$E$1:$ED$1,0)),)=0,0.00000000001,IFERROR(INDEX(Přehled_body!$E$3:$ED$130,MATCH(Tabulka!$AI47,Přehled_body!$A$3:$A$130,0),MATCH(Tabulka!AB$2,Přehled_body!$E$1:$ED$1,0)),)))","v":0},{"$f":"IF(IFERROR(INDEX(Přehled_body!$E$3:$ED$130,MATCH(Tabulka!$AI47,Přehled_body!$A$3:$A$130,0),MATCH(Tabulka!AC$2,Přehled_body!$E$1:$ED$1,0)),)=\"\",,IF(IFERROR(INDEX(Přehled_body!$E$3:$ED$130,MATCH(Tabulka!$AI47,Přehled_body!$A$3:$A$130,0),MATCH(Tabulka!AC$2,Přehled_body!$E$1:$ED$1,0)),)=0,0.00000000001,IFERROR(INDEX(Přehled_body!$E$3:$ED$130,MATCH(Tabulka!$AI47,Přehled_body!$A$3:$A$130,0),MATCH(Tabulka!AC$2,Přehled_body!$E$1:$ED$1,0)),)))","v":0},{"$f":"IF(IFERROR(INDEX(Přehled_body!$E$3:$ED$130,MATCH(Tabulka!$AI47,Přehled_body!$A$3:$A$130,0),MATCH(Tabulka!AD$2,Přehled_body!$E$1:$ED$1,0)),)=\"\",,IF(IFERROR(INDEX(Přehled_body!$E$3:$ED$130,MATCH(Tabulka!$AI47,Přehled_body!$A$3:$A$130,0),MATCH(Tabulka!AD$2,Přehled_body!$E$1:$ED$1,0)),)=0,0.00000000001,IFERROR(INDEX(Přehled_body!$E$3:$ED$130,MATCH(Tabulka!$AI47,Přehled_body!$A$3:$A$130,0),MATCH(Tabulka!AD$2,Přehled_body!$E$1:$ED$1,0)),)))","v":0},{"$f":"IF(SUM($D$44:$AD$48)<1,-90000,SUM(D47:AD47))","v":1},null,null,null,{"$f":"CONCATENATE($B$45,\" \",$B$46,C47)","v":"Míra ChalupníkPřehozy"}]
[null,null,"Poč. kol",{"$f":"IF(IFERROR(INDEX(Přehled_body!$E$3:$ED$130,MATCH(Tabulka!$AI48,Přehled_body!$A$3:$A$130,0),MATCH(Tabulka!D$2,Přehled_body!$E$1:$ED$1,0)),)=\"\",,IF(IFERROR(INDEX(Přehled_body!$E$3:$ED$130,MATCH(Tabulka!$AI48,Přehled_body!$A$3:$A$130,0),MATCH(Tabulka!D$2,Přehled_body!$E$1:$ED$1,0)),)=0,0.00000000001,IFERROR(INDEX(Přehled_body!$E$3:$ED$130,MATCH(Tabulka!$AI48,Přehled_body!$A$3:$A$130,0),MATCH(Tabulka!D$2,Přehled_body!$E$1:$ED$1,0)),)))","v":4},{"$f":"IF(IFERROR(INDEX(Přehled_body!$E$3:$ED$130,MATCH(Tabulka!$AI48,Přehled_body!$A$3:$A$130,0),MATCH(Tabulka!E$2,Přehled_body!$E$1:$ED$1,0)),)=\"\",,IF(IFERROR(INDEX(Přehled_body!$E$3:$ED$130,MATCH(Tabulka!$AI48,Přehled_body!$A$3:$A$130,0),MATCH(Tabulka!E$2,Přehled_body!$E$1:$ED$1,0)),)=0,0.00000000001,IFERROR(INDEX(Přehled_body!$E$3:$ED$130,MATCH(Tabulka!$AI48,Přehled_body!$A$3:$A$130,0),MATCH(Tabulka!E$2,Přehled_body!$E$1:$ED$1,0)),)))","v":0},{"$f":"IF(IFERROR(INDEX(Přehled_body!$E$3:$ED$130,MATCH(Tabulka!$AI48,Přehled_body!$A$3:$A$130,0),MATCH(Tabulka!F$2,Přehled_body!$E$1:$ED$1,0)),)=\"\",,IF(IFERROR(INDEX(Přehled_body!$E$3:$ED$130,MATCH(Tabulka!$AI48,Přehled_body!$A$3:$A$130,0),MATCH(Tabulka!F$2,Přehled_body!$E$1:$ED$1,0)),)=0,0.00000000001,IFERROR(INDEX(Přehled_body!$E$3:$ED$130,MATCH(Tabulka!$AI48,Přehled_body!$A$3:$A$130,0),MATCH(Tabulka!F$2,Přehled_body!$E$1:$ED$1,0)),)))","v":0},{"$f":"IF(IFERROR(INDEX(Přehled_body!$E$3:$ED$130,MATCH(Tabulka!$AI48,Přehled_body!$A$3:$A$130,0),MATCH(Tabulka!G$2,Přehled_body!$E$1:$ED$1,0)),)=\"\",,IF(IFERROR(INDEX(Přehled_body!$E$3:$ED$130,MATCH(Tabulka!$AI48,Přehled_body!$A$3:$A$130,0),MATCH(Tabulka!G$2,Přehled_body!$E$1:$ED$1,0)),)=0,0.00000000001,IFERROR(INDEX(Přehled_body!$E$3:$ED$130,MATCH(Tabulka!$AI48,Přehled_body!$A$3:$A$130,0),MATCH(Tabulka!G$2,Přehled_body!$E$1:$ED$1,0)),)))","v":0},{"$f":"IF(IFERROR(INDEX(Přehled_body!$E$3:$ED$130,MATCH(Tabulka!$AI48,Přehled_body!$A$3:$A$130,0),MATCH(Tabulka!H$2,Přehled_body!$E$1:$ED$1,0)),)=\"\",,IF(IFERROR(INDEX(Přehled_body!$E$3:$ED$130,MATCH(Tabulka!$AI48,Přehled_body!$A$3:$A$130,0),MATCH(Tabulka!H$2,Přehled_body!$E$1:$ED$1,0)),)=0,0.00000000001,IFERROR(INDEX(Přehled_body!$E$3:$ED$130,MATCH(Tabulka!$AI48,Přehled_body!$A$3:$A$130,0),MATCH(Tabulka!H$2,Přehled_body!$E$1:$ED$1,0)),)))","v":0},{"$f":"IF(IFERROR(INDEX(Přehled_body!$E$3:$ED$130,MATCH(Tabulka!$AI48,Přehled_body!$A$3:$A$130,0),MATCH(Tabulka!I$2,Přehled_body!$E$1:$ED$1,0)),)=\"\",,IF(IFERROR(INDEX(Přehled_body!$E$3:$ED$130,MATCH(Tabulka!$AI48,Přehled_body!$A$3:$A$130,0),MATCH(Tabulka!I$2,Přehled_body!$E$1:$ED$1,0)),)=0,0.00000000001,IFERROR(INDEX(Přehled_body!$E$3:$ED$130,MATCH(Tabulka!$AI48,Přehled_body!$A$3:$A$130,0),MATCH(Tabulka!I$2,Přehled_body!$E$1:$ED$1,0)),)))","v":0},{"$f":"IF(IFERROR(INDEX(Přehled_body!$E$3:$ED$130,MATCH(Tabulka!$AI48,Přehled_body!$A$3:$A$130,0),MATCH(Tabulka!J$2,Přehled_body!$E$1:$ED$1,0)),)=\"\",,IF(IFERROR(INDEX(Přehled_body!$E$3:$ED$130,MATCH(Tabulka!$AI48,Přehled_body!$A$3:$A$130,0),MATCH(Tabulka!J$2,Přehled_body!$E$1:$ED$1,0)),)=0,0.00000000001,IFERROR(INDEX(Přehled_body!$E$3:$ED$130,MATCH(Tabulka!$AI48,Přehled_body!$A$3:$A$130,0),MATCH(Tabulka!J$2,Přehled_body!$E$1:$ED$1,0)),)))","v":0},{"$f":"IF(IFERROR(INDEX(Přehled_body!$E$3:$ED$130,MATCH(Tabulka!$AI48,Přehled_body!$A$3:$A$130,0),MATCH(Tabulka!K$2,Přehled_body!$E$1:$ED$1,0)),)=\"\",,IF(IFERROR(INDEX(Přehled_body!$E$3:$ED$130,MATCH(Tabulka!$AI48,Přehled_body!$A$3:$A$130,0),MATCH(Tabulka!K$2,Přehled_body!$E$1:$ED$1,0)),)=0,0.00000000001,IFERROR(INDEX(Přehled_body!$E$3:$ED$130,MATCH(Tabulka!$AI48,Přehled_body!$A$3:$A$130,0),MATCH(Tabulka!K$2,Přehled_body!$E$1:$ED$1,0)),)))","v":0},{"$f":"IF(IFERROR(INDEX(Přehled_body!$E$3:$ED$130,MATCH(Tabulka!$AI48,Přehled_body!$A$3:$A$130,0),MATCH(Tabulka!L$2,Přehled_body!$E$1:$ED$1,0)),)=\"\",,IF(IFERROR(INDEX(Přehled_body!$E$3:$ED$130,MATCH(Tabulka!$AI48,Přehled_body!$A$3:$A$130,0),MATCH(Tabulka!L$2,Přehled_body!$E$1:$ED$1,0)),)=0,0.00000000001,IFERROR(INDEX(Přehled_body!$E$3:$ED$130,MATCH(Tabulka!$AI48,Přehled_body!$A$3:$A$130,0),MATCH(Tabulka!L$2,Přehled_body!$E$1:$ED$1,0)),)))","v":0},{"$f":"IF(IFERROR(INDEX(Přehled_body!$E$3:$ED$130,MATCH(Tabulka!$AI48,Přehled_body!$A$3:$A$130,0),MATCH(Tabulka!M$2,Přehled_body!$E$1:$ED$1,0)),)=\"\",,IF(IFERROR(INDEX(Přehled_body!$E$3:$ED$130,MATCH(Tabulka!$AI48,Přehled_body!$A$3:$A$130,0),MATCH(Tabulka!M$2,Přehled_body!$E$1:$ED$1,0)),)=0,0.00000000001,IFERROR(INDEX(Přehled_body!$E$3:$ED$130,MATCH(Tabulka!$AI48,Přehled_body!$A$3:$A$130,0),MATCH(Tabulka!M$2,Přehled_body!$E$1:$ED$1,0)),)))","v":0},{"$f":"IF(IFERROR(INDEX(Přehled_body!$E$3:$ED$130,MATCH(Tabulka!$AI48,Přehled_body!$A$3:$A$130,0),MATCH(Tabulka!N$2,Přehled_body!$E$1:$ED$1,0)),)=\"\",,IF(IFERROR(INDEX(Přehled_body!$E$3:$ED$130,MATCH(Tabulka!$AI48,Přehled_body!$A$3:$A$130,0),MATCH(Tabulka!N$2,Přehled_body!$E$1:$ED$1,0)),)=0,0.00000000001,IFERROR(INDEX(Přehled_body!$E$3:$ED$130,MATCH(Tabulka!$AI48,Přehled_body!$A$3:$A$130,0),MATCH(Tabulka!N$2,Přehled_body!$E$1:$ED$1,0)),)))","v":0},{"$f":"IF(IFERROR(INDEX(Přehled_body!$E$3:$ED$130,MATCH(Tabulka!$AI48,Přehled_body!$A$3:$A$130,0),MATCH(Tabulka!O$2,Přehled_body!$E$1:$ED$1,0)),)=\"\",,IF(IFERROR(INDEX(Přehled_body!$E$3:$ED$130,MATCH(Tabulka!$AI48,Přehled_body!$A$3:$A$130,0),MATCH(Tabulka!O$2,Přehled_body!$E$1:$ED$1,0)),)=0,0.00000000001,IFERROR(INDEX(Přehled_body!$E$3:$ED$130,MATCH(Tabulka!$AI48,Přehled_body!$A$3:$A$130,0),MATCH(Tabulka!O$2,Přehled_body!$E$1:$ED$1,0)),)))","v":0},{"$f":"IF(IFERROR(INDEX(Přehled_body!$E$3:$ED$130,MATCH(Tabulka!$AI48,Přehled_body!$A$3:$A$130,0),MATCH(Tabulka!P$2,Přehled_body!$E$1:$ED$1,0)),)=\"\",,IF(IFERROR(INDEX(Přehled_body!$E$3:$ED$130,MATCH(Tabulka!$AI48,Přehled_body!$A$3:$A$130,0),MATCH(Tabulka!P$2,Přehled_body!$E$1:$ED$1,0)),)=0,0.00000000001,IFERROR(INDEX(Přehled_body!$E$3:$ED$130,MATCH(Tabulka!$AI48,Přehled_body!$A$3:$A$130,0),MATCH(Tabulka!P$2,Přehled_body!$E$1:$ED$1,0)),)))","v":0},{"$f":"IF(IFERROR(INDEX(Přehled_body!$E$3:$ED$130,MATCH(Tabulka!$AI48,Přehled_body!$A$3:$A$130,0),MATCH(Tabulka!Q$2,Přehled_body!$E$1:$ED$1,0)),)=\"\",,IF(IFERROR(INDEX(Přehled_body!$E$3:$ED$130,MATCH(Tabulka!$AI48,Přehled_body!$A$3:$A$130,0),MATCH(Tabulka!Q$2,Přehled_body!$E$1:$ED$1,0)),)=0,0.00000000001,IFERROR(INDEX(Přehled_body!$E$3:$ED$130,MATCH(Tabulka!$AI48,Přehled_body!$A$3:$A$130,0),MATCH(Tabulka!Q$2,Přehled_body!$E$1:$ED$1,0)),)))","v":0},{"$f":"IF(IFERROR(INDEX(Přehled_body!$E$3:$ED$130,MATCH(Tabulka!$AI48,Přehled_body!$A$3:$A$130,0),MATCH(Tabulka!R$2,Přehled_body!$E$1:$ED$1,0)),)=\"\",,IF(IFERROR(INDEX(Přehled_body!$E$3:$ED$130,MATCH(Tabulka!$AI48,Přehled_body!$A$3:$A$130,0),MATCH(Tabulka!R$2,Přehled_body!$E$1:$ED$1,0)),)=0,0.00000000001,IFERROR(INDEX(Přehled_body!$E$3:$ED$130,MATCH(Tabulka!$AI48,Přehled_body!$A$3:$A$130,0),MATCH(Tabulka!R$2,Přehled_body!$E$1:$ED$1,0)),)))","v":0},{"$f":"IF(IFERROR(INDEX(Přehled_body!$E$3:$ED$130,MATCH(Tabulka!$AI48,Přehled_body!$A$3:$A$130,0),MATCH(Tabulka!S$2,Přehled_body!$E$1:$ED$1,0)),)=\"\",,IF(IFERROR(INDEX(Přehled_body!$E$3:$ED$130,MATCH(Tabulka!$AI48,Přehled_body!$A$3:$A$130,0),MATCH(Tabulka!S$2,Přehled_body!$E$1:$ED$1,0)),)=0,0.00000000001,IFERROR(INDEX(Přehled_body!$E$3:$ED$130,MATCH(Tabulka!$AI48,Přehled_body!$A$3:$A$130,0),MATCH(Tabulka!S$2,Přehled_body!$E$1:$ED$1,0)),)))","v":0},{"$f":"IF(IFERROR(INDEX(Přehled_body!$E$3:$ED$130,MATCH(Tabulka!$AI48,Přehled_body!$A$3:$A$130,0),MATCH(Tabulka!T$2,Přehled_body!$E$1:$ED$1,0)),)=\"\",,IF(IFERROR(INDEX(Přehled_body!$E$3:$ED$130,MATCH(Tabulka!$AI48,Přehled_body!$A$3:$A$130,0),MATCH(Tabulka!T$2,Přehled_body!$E$1:$ED$1,0)),)=0,0.00000000001,IFERROR(INDEX(Přehled_body!$E$3:$ED$130,MATCH(Tabulka!$AI48,Přehled_body!$A$3:$A$130,0),MATCH(Tabulka!T$2,Přehled_body!$E$1:$ED$1,0)),)))","v":0},{"$f":"IF(IFERROR(INDEX(Přehled_body!$E$3:$ED$130,MATCH(Tabulka!$AI48,Přehled_body!$A$3:$A$130,0),MATCH(Tabulka!U$2,Přehled_body!$E$1:$ED$1,0)),)=\"\",,IF(IFERROR(INDEX(Přehled_body!$E$3:$ED$130,MATCH(Tabulka!$AI48,Přehled_body!$A$3:$A$130,0),MATCH(Tabulka!U$2,Přehled_body!$E$1:$ED$1,0)),)=0,0.00000000001,IFERROR(INDEX(Přehled_body!$E$3:$ED$130,MATCH(Tabulka!$AI48,Přehled_body!$A$3:$A$130,0),MATCH(Tabulka!U$2,Přehled_body!$E$1:$ED$1,0)),)))","v":0},{"$f":"IF(IFERROR(INDEX(Přehled_body!$E$3:$ED$130,MATCH(Tabulka!$AI48,Přehled_body!$A$3:$A$130,0),MATCH(Tabulka!V$2,Přehled_body!$E$1:$ED$1,0)),)=\"\",,IF(IFERROR(INDEX(Přehled_body!$E$3:$ED$130,MATCH(Tabulka!$AI48,Přehled_body!$A$3:$A$130,0),MATCH(Tabulka!V$2,Přehled_body!$E$1:$ED$1,0)),)=0,0.00000000001,IFERROR(INDEX(Přehled_body!$E$3:$ED$130,MATCH(Tabulka!$AI48,Přehled_body!$A$3:$A$130,0),MATCH(Tabulka!V$2,Přehled_body!$E$1:$ED$1,0)),)))","v":0},{"$f":"IF(IFERROR(INDEX(Přehled_body!$E$3:$ED$130,MATCH(Tabulka!$AI48,Přehled_body!$A$3:$A$130,0),MATCH(Tabulka!W$2,Přehled_body!$E$1:$ED$1,0)),)=\"\",,IF(IFERROR(INDEX(Přehled_body!$E$3:$ED$130,MATCH(Tabulka!$AI48,Přehled_body!$A$3:$A$130,0),MATCH(Tabulka!W$2,Přehled_body!$E$1:$ED$1,0)),)=0,0.00000000001,IFERROR(INDEX(Přehled_body!$E$3:$ED$130,MATCH(Tabulka!$AI48,Přehled_body!$A$3:$A$130,0),MATCH(Tabulka!W$2,Přehled_body!$E$1:$ED$1,0)),)))","v":0},{"$f":"IF(IFERROR(INDEX(Přehled_body!$E$3:$ED$130,MATCH(Tabulka!$AI48,Přehled_body!$A$3:$A$130,0),MATCH(Tabulka!X$2,Přehled_body!$E$1:$ED$1,0)),)=\"\",,IF(IFERROR(INDEX(Přehled_body!$E$3:$ED$130,MATCH(Tabulka!$AI48,Přehled_body!$A$3:$A$130,0),MATCH(Tabulka!X$2,Přehled_body!$E$1:$ED$1,0)),)=0,0.00000000001,IFERROR(INDEX(Přehled_body!$E$3:$ED$130,MATCH(Tabulka!$AI48,Přehled_body!$A$3:$A$130,0),MATCH(Tabulka!X$2,Přehled_body!$E$1:$ED$1,0)),)))","v":0},{"$f":"IF(IFERROR(INDEX(Přehled_body!$E$3:$ED$130,MATCH(Tabulka!$AI48,Přehled_body!$A$3:$A$130,0),MATCH(Tabulka!Y$2,Přehled_body!$E$1:$ED$1,0)),)=\"\",,IF(IFERROR(INDEX(Přehled_body!$E$3:$ED$130,MATCH(Tabulka!$AI48,Přehled_body!$A$3:$A$130,0),MATCH(Tabulka!Y$2,Přehled_body!$E$1:$ED$1,0)),)=0,0.00000000001,IFERROR(INDEX(Přehled_body!$E$3:$ED$130,MATCH(Tabulka!$AI48,Přehled_body!$A$3:$A$130,0),MATCH(Tabulka!Y$2,Přehled_body!$E$1:$ED$1,0)),)))","v":0},{"$f":"IF(IFERROR(INDEX(Přehled_body!$E$3:$ED$130,MATCH(Tabulka!$AI48,Přehled_body!$A$3:$A$130,0),MATCH(Tabulka!Z$2,Přehled_body!$E$1:$ED$1,0)),)=\"\",,IF(IFERROR(INDEX(Přehled_body!$E$3:$ED$130,MATCH(Tabulka!$AI48,Přehled_body!$A$3:$A$130,0),MATCH(Tabulka!Z$2,Přehled_body!$E$1:$ED$1,0)),)=0,0.00000000001,IFERROR(INDEX(Přehled_body!$E$3:$ED$130,MATCH(Tabulka!$AI48,Přehled_body!$A$3:$A$130,0),MATCH(Tabulka!Z$2,Přehled_body!$E$1:$ED$1,0)),)))","v":0},{"$f":"IF(IFERROR(INDEX(Přehled_body!$E$3:$ED$130,MATCH(Tabulka!$AI48,Přehled_body!$A$3:$A$130,0),MATCH(Tabulka!AA$2,Přehled_body!$E$1:$ED$1,0)),)=\"\",,IF(IFERROR(INDEX(Přehled_body!$E$3:$ED$130,MATCH(Tabulka!$AI48,Přehled_body!$A$3:$A$130,0),MATCH(Tabulka!AA$2,Přehled_body!$E$1:$ED$1,0)),)=0,0.00000000001,IFERROR(INDEX(Přehled_body!$E$3:$ED$130,MATCH(Tabulka!$AI48,Přehled_body!$A$3:$A$130,0),MATCH(Tabulka!AA$2,Přehled_body!$E$1:$ED$1,0)),)))","v":0},{"$f":"IF(IFERROR(INDEX(Přehled_body!$E$3:$ED$130,MATCH(Tabulka!$AI48,Přehled_body!$A$3:$A$130,0),MATCH(Tabulka!AB$2,Přehled_body!$E$1:$ED$1,0)),)=\"\",,IF(IFERROR(INDEX(Přehled_body!$E$3:$ED$130,MATCH(Tabulka!$AI48,Přehled_body!$A$3:$A$130,0),MATCH(Tabulka!AB$2,Přehled_body!$E$1:$ED$1,0)),)=0,0.00000000001,IFERROR(INDEX(Přehled_body!$E$3:$ED$130,MATCH(Tabulka!$AI48,Přehled_body!$A$3:$A$130,0),MATCH(Tabulka!AB$2,Přehled_body!$E$1:$ED$1,0)),)))","v":0},{"$f":"IF(IFERROR(INDEX(Přehled_body!$E$3:$ED$130,MATCH(Tabulka!$AI48,Přehled_body!$A$3:$A$130,0),MATCH(Tabulka!AC$2,Přehled_body!$E$1:$ED$1,0)),)=\"\",,IF(IFERROR(INDEX(Přehled_body!$E$3:$ED$130,MATCH(Tabulka!$AI48,Přehled_body!$A$3:$A$130,0),MATCH(Tabulka!AC$2,Přehled_body!$E$1:$ED$1,0)),)=0,0.00000000001,IFERROR(INDEX(Přehled_body!$E$3:$ED$130,MATCH(Tabulka!$AI48,Přehled_body!$A$3:$A$130,0),MATCH(Tabulka!AC$2,Přehled_body!$E$1:$ED$1,0)),)))","v":0},{"$f":"IF(IFERROR(INDEX(Přehled_body!$E$3:$ED$130,MATCH(Tabulka!$AI48,Přehled_body!$A$3:$A$130,0),MATCH(Tabulka!AD$2,Přehled_body!$E$1:$ED$1,0)),)=\"\",,IF(IFERROR(INDEX(Přehled_body!$E$3:$ED$130,MATCH(Tabulka!$AI48,Přehled_body!$A$3:$A$130,0),MATCH(Tabulka!AD$2,Přehled_body!$E$1:$ED$1,0)),)=0,0.00000000001,IFERROR(INDEX(Přehled_body!$E$3:$ED$130,MATCH(Tabulka!$AI48,Přehled_body!$A$3:$A$130,0),MATCH(Tabulka!AD$2,Přehled_body!$E$1:$ED$1,0)),)))","v":0},{"$f":"IF(SUM($D$44:$AD$48)<1,-90000,SUM(D48:AD48))","v":4},null,null,null,{"$f":"CONCATENATE($B$45,\" \",$B$46,C48)","v":"Míra ChalupníkPoč. kol"}]
[null,null,"Výhry",{"$f":"IF(IFERROR(INDEX(Přehled_body!$E$3:$ED$130,MATCH(Tabulka!$AI49,Přehled_body!$A$3:$A$130,0),MATCH(Tabulka!D$2,Přehled_body!$E$1:$ED$1,0)),)=\"\",,IF(IFERROR(INDEX(Přehled_body!$E$3:$ED$130,MATCH(Tabulka!$AI49,Přehled_body!$A$3:$A$130,0),MATCH(Tabulka!D$2,Přehled_body!$E$1:$ED$1,0)),)=0,0.00000000001,IFERROR(INDEX(Přehled_body!$E$3:$ED$130,MATCH(Tabulka!$AI49,Přehled_body!$A$3:$A$130,0),MATCH(Tabulka!D$2,Přehled_body!$E$1:$ED$1,0)),)))","v":1},{"$f":"IF(IFERROR(INDEX(Přehled_body!$E$3:$ED$130,MATCH(Tabulka!$AI49,Přehled_body!$A$3:$A$130,0),MATCH(Tabulka!E$2,Přehled_body!$E$1:$ED$1,0)),)=\"\",,IF(IFERROR(INDEX(Přehled_body!$E$3:$ED$130,MATCH(Tabulka!$AI49,Přehled_body!$A$3:$A$130,0),MATCH(Tabulka!E$2,Přehled_body!$E$1:$ED$1,0)),)=0,0.00000000001,IFERROR(INDEX(Přehled_body!$E$3:$ED$130,MATCH(Tabulka!$AI49,Přehled_body!$A$3:$A$130,0),MATCH(Tabulka!E$2,Přehled_body!$E$1:$ED$1,0)),)))","v":9.9999999999999994E-12},{"$f":"IF(IFERROR(INDEX(Přehled_body!$E$3:$ED$130,MATCH(Tabulka!$AI49,Přehled_body!$A$3:$A$130,0),MATCH(Tabulka!F$2,Přehled_body!$E$1:$ED$1,0)),)=\"\",,IF(IFERROR(INDEX(Přehled_body!$E$3:$ED$130,MATCH(Tabulka!$AI49,Přehled_body!$A$3:$A$130,0),MATCH(Tabulka!F$2,Přehled_body!$E$1:$ED$1,0)),)=0,0.00000000001,IFERROR(INDEX(Přehled_body!$E$3:$ED$130,MATCH(Tabulka!$AI49,Přehled_body!$A$3:$A$130,0),MATCH(Tabulka!F$2,Přehled_body!$E$1:$ED$1,0)),)))","v":2},{"$f":"IF(IFERROR(INDEX(Přehled_body!$E$3:$ED$130,MATCH(Tabulka!$AI49,Přehled_body!$A$3:$A$130,0),MATCH(Tabulka!G$2,Přehled_body!$E$1:$ED$1,0)),)=\"\",,IF(IFERROR(INDEX(Přehled_body!$E$3:$ED$130,MATCH(Tabulka!$AI49,Přehled_body!$A$3:$A$130,0),MATCH(Tabulka!G$2,Přehled_body!$E$1:$ED$1,0)),)=0,0.00000000001,IFERROR(INDEX(Přehled_body!$E$3:$ED$130,MATCH(Tabulka!$AI49,Přehled_body!$A$3:$A$130,0),MATCH(Tabulka!G$2,Přehled_body!$E$1:$ED$1,0)),)))","v":3},{"$f":"IF(IFERROR(INDEX(Přehled_body!$E$3:$ED$130,MATCH(Tabulka!$AI49,Přehled_body!$A$3:$A$130,0),MATCH(Tabulka!H$2,Přehled_body!$E$1:$ED$1,0)),)=\"\",,IF(IFERROR(INDEX(Přehled_body!$E$3:$ED$130,MATCH(Tabulka!$AI49,Přehled_body!$A$3:$A$130,0),MATCH(Tabulka!H$2,Přehled_body!$E$1:$ED$1,0)),)=0,0.00000000001,IFERROR(INDEX(Přehled_body!$E$3:$ED$130,MATCH(Tabulka!$AI49,Přehled_body!$A$3:$A$130,0),MATCH(Tabulka!H$2,Přehled_body!$E$1:$ED$1,0)),)))","v":2},{"$f":"IF(IFERROR(INDEX(Přehled_body!$E$3:$ED$130,MATCH(Tabulka!$AI49,Přehled_body!$A$3:$A$130,0),MATCH(Tabulka!I$2,Přehled_body!$E$1:$ED$1,0)),)=\"\",,IF(IFERROR(INDEX(Přehled_body!$E$3:$ED$130,MATCH(Tabulka!$AI49,Přehled_body!$A$3:$A$130,0),MATCH(Tabulka!I$2,Přehled_body!$E$1:$ED$1,0)),)=0,0.00000000001,IFERROR(INDEX(Přehled_body!$E$3:$ED$130,MATCH(Tabulka!$AI49,Přehled_body!$A$3:$A$130,0),MATCH(Tabulka!I$2,Přehled_body!$E$1:$ED$1,0)),)))","v":1},{"$f":"IF(IFERROR(INDEX(Přehled_body!$E$3:$ED$130,MATCH(Tabulka!$AI49,Přehled_body!$A$3:$A$130,0),MATCH(Tabulka!J$2,Přehled_body!$E$1:$ED$1,0)),)=\"\",,IF(IFERROR(INDEX(Přehled_body!$E$3:$ED$130,MATCH(Tabulka!$AI49,Přehled_body!$A$3:$A$130,0),MATCH(Tabulka!J$2,Přehled_body!$E$1:$ED$1,0)),)=0,0.00000000001,IFERROR(INDEX(Přehled_body!$E$3:$ED$130,MATCH(Tabulka!$AI49,Přehled_body!$A$3:$A$130,0),MATCH(Tabulka!J$2,Přehled_body!$E$1:$ED$1,0)),)))","v":9.9999999999999994E-12},{"$f":"IF(IFERROR(INDEX(Přehled_body!$E$3:$ED$130,MATCH(Tabulka!$AI49,Přehled_body!$A$3:$A$130,0),MATCH(Tabulka!K$2,Přehled_body!$E$1:$ED$1,0)),)=\"\",,IF(IFERROR(INDEX(Přehled_body!$E$3:$ED$130,MATCH(Tabulka!$AI49,Přehled_body!$A$3:$A$130,0),MATCH(Tabulka!K$2,Přehled_body!$E$1:$ED$1,0)),)=0,0.00000000001,IFERROR(INDEX(Přehled_body!$E$3:$ED$130,MATCH(Tabulka!$AI49,Přehled_body!$A$3:$A$130,0),MATCH(Tabulka!K$2,Přehled_body!$E$1:$ED$1,0)),)))","v":0},{"$f":"IF(IFERROR(INDEX(Přehled_body!$E$3:$ED$130,MATCH(Tabulka!$AI49,Přehled_body!$A$3:$A$130,0),MATCH(Tabulka!L$2,Přehled_body!$E$1:$ED$1,0)),)=\"\",,IF(IFERROR(INDEX(Přehled_body!$E$3:$ED$130,MATCH(Tabulka!$AI49,Přehled_body!$A$3:$A$130,0),MATCH(Tabulka!L$2,Přehled_body!$E$1:$ED$1,0)),)=0,0.00000000001,IFERROR(INDEX(Přehled_body!$E$3:$ED$130,MATCH(Tabulka!$AI49,Přehled_body!$A$3:$A$130,0),MATCH(Tabulka!L$2,Přehled_body!$E$1:$ED$1,0)),)))","v":1},{"$f":"IF(IFERROR(INDEX(Přehled_body!$E$3:$ED$130,MATCH(Tabulka!$AI49,Přehled_body!$A$3:$A$130,0),MATCH(Tabulka!M$2,Přehled_body!$E$1:$ED$1,0)),)=\"\",,IF(IFERROR(INDEX(Přehled_body!$E$3:$ED$130,MATCH(Tabulka!$AI49,Přehled_body!$A$3:$A$130,0),MATCH(Tabulka!M$2,Přehled_body!$E$1:$ED$1,0)),)=0,0.00000000001,IFERROR(INDEX(Přehled_body!$E$3:$ED$130,MATCH(Tabulka!$AI49,Přehled_body!$A$3:$A$130,0),MATCH(Tabulka!M$2,Přehled_body!$E$1:$ED$1,0)),)))","v":1},{"$f":"IF(IFERROR(INDEX(Přehled_body!$E$3:$ED$130,MATCH(Tabulka!$AI49,Přehled_body!$A$3:$A$130,0),MATCH(Tabulka!N$2,Přehled_body!$E$1:$ED$1,0)),)=\"\",,IF(IFERROR(INDEX(Přehled_body!$E$3:$ED$130,MATCH(Tabulka!$AI49,Přehled_body!$A$3:$A$130,0),MATCH(Tabulka!N$2,Přehled_body!$E$1:$ED$1,0)),)=0,0.00000000001,IFERROR(INDEX(Přehled_body!$E$3:$ED$130,MATCH(Tabulka!$AI49,Přehled_body!$A$3:$A$130,0),MATCH(Tabulka!N$2,Přehled_body!$E$1:$ED$1,0)),)))","v":0},{"$f":"IF(IFERROR(INDEX(Přehled_body!$E$3:$ED$130,MATCH(Tabulka!$AI49,Přehled_body!$A$3:$A$130,0),MATCH(Tabulka!O$2,Přehled_body!$E$1:$ED$1,0)),)=\"\",,IF(IFERROR(INDEX(Přehled_body!$E$3:$ED$130,MATCH(Tabulka!$AI49,Přehled_body!$A$3:$A$130,0),MATCH(Tabulka!O$2,Přehled_body!$E$1:$ED$1,0)),)=0,0.00000000001,IFERROR(INDEX(Přehled_body!$E$3:$ED$130,MATCH(Tabulka!$AI49,Přehled_body!$A$3:$A$130,0),MATCH(Tabulka!O$2,Přehled_body!$E$1:$ED$1,0)),)))","v":0},{"$f":"IF(IFERROR(INDEX(Přehled_body!$E$3:$ED$130,MATCH(Tabulka!$AI49,Přehled_body!$A$3:$A$130,0),MATCH(Tabulka!P$2,Přehled_body!$E$1:$ED$1,0)),)=\"\",,IF(IFERROR(INDEX(Přehled_body!$E$3:$ED$130,MATCH(Tabulka!$AI49,Přehled_body!$A$3:$A$130,0),MATCH(Tabulka!P$2,Přehled_body!$E$1:$ED$1,0)),)=0,0.00000000001,IFERROR(INDEX(Přehled_body!$E$3:$ED$130,MATCH(Tabulka!$AI49,Přehled_body!$A$3:$A$130,0),MATCH(Tabulka!P$2,Přehled_body!$E$1:$ED$1,0)),)))","v":0},{"$f":"IF(IFERROR(INDEX(Přehled_body!$E$3:$ED$130,MATCH(Tabulka!$AI49,Přehled_body!$A$3:$A$130,0),MATCH(Tabulka!Q$2,Přehled_body!$E$1:$ED$1,0)),)=\"\",,IF(IFERROR(INDEX(Přehled_body!$E$3:$ED$130,MATCH(Tabulka!$AI49,Přehled_body!$A$3:$A$130,0),MATCH(Tabulka!Q$2,Přehled_body!$E$1:$ED$1,0)),)=0,0.00000000001,IFERROR(INDEX(Přehled_body!$E$3:$ED$130,MATCH(Tabulka!$AI49,Přehled_body!$A$3:$A$130,0),MATCH(Tabulka!Q$2,Přehled_body!$E$1:$ED$1,0)),)))","v":0},{"$f":"IF(IFERROR(INDEX(Přehled_body!$E$3:$ED$130,MATCH(Tabulka!$AI49,Přehled_body!$A$3:$A$130,0),MATCH(Tabulka!R$2,Přehled_body!$E$1:$ED$1,0)),)=\"\",,IF(IFERROR(INDEX(Přehled_body!$E$3:$ED$130,MATCH(Tabulka!$AI49,Přehled_body!$A$3:$A$130,0),MATCH(Tabulka!R$2,Přehled_body!$E$1:$ED$1,0)),)=0,0.00000000001,IFERROR(INDEX(Přehled_body!$E$3:$ED$130,MATCH(Tabulka!$AI49,Přehled_body!$A$3:$A$130,0),MATCH(Tabulka!R$2,Přehled_body!$E$1:$ED$1,0)),)))","v":0},{"$f":"IF(IFERROR(INDEX(Přehled_body!$E$3:$ED$130,MATCH(Tabulka!$AI49,Přehled_body!$A$3:$A$130,0),MATCH(Tabulka!S$2,Přehled_body!$E$1:$ED$1,0)),)=\"\",,IF(IFERROR(INDEX(Přehled_body!$E$3:$ED$130,MATCH(Tabulka!$AI49,Přehled_body!$A$3:$A$130,0),MATCH(Tabulka!S$2,Přehled_body!$E$1:$ED$1,0)),)=0,0.00000000001,IFERROR(INDEX(Přehled_body!$E$3:$ED$130,MATCH(Tabulka!$AI49,Přehled_body!$A$3:$A$130,0),MATCH(Tabulka!S$2,Přehled_body!$E$1:$ED$1,0)),)))","v":0},{"$f":"IF(IFERROR(INDEX(Přehled_body!$E$3:$ED$130,MATCH(Tabulka!$AI49,Přehled_body!$A$3:$A$130,0),MATCH(Tabulka!T$2,Přehled_body!$E$1:$ED$1,0)),)=\"\",,IF(IFERROR(INDEX(Přehled_body!$E$3:$ED$130,MATCH(Tabulka!$AI49,Přehled_body!$A$3:$A$130,0),MATCH(Tabulka!T$2,Přehled_body!$E$1:$ED$1,0)),)=0,0.00000000001,IFERROR(INDEX(Přehled_body!$E$3:$ED$130,MATCH(Tabulka!$AI49,Přehled_body!$A$3:$A$130,0),MATCH(Tabulka!T$2,Přehled_body!$E$1:$ED$1,0)),)))","v":0},{"$f":"IF(IFERROR(INDEX(Přehled_body!$E$3:$ED$130,MATCH(Tabulka!$AI49,Přehled_body!$A$3:$A$130,0),MATCH(Tabulka!U$2,Přehled_body!$E$1:$ED$1,0)),)=\"\",,IF(IFERROR(INDEX(Přehled_body!$E$3:$ED$130,MATCH(Tabulka!$AI49,Přehled_body!$A$3:$A$130,0),MATCH(Tabulka!U$2,Přehled_body!$E$1:$ED$1,0)),)=0,0.00000000001,IFERROR(INDEX(Přehled_body!$E$3:$ED$130,MATCH(Tabulka!$AI49,Přehled_body!$A$3:$A$130,0),MATCH(Tabulka!U$2,Přehled_body!$E$1:$ED$1,0)),)))","v":0},{"$f":"IF(IFERROR(INDEX(Přehled_body!$E$3:$ED$130,MATCH(Tabulka!$AI49,Přehled_body!$A$3:$A$130,0),MATCH(Tabulka!V$2,Přehled_body!$E$1:$ED$1,0)),)=\"\",,IF(IFERROR(INDEX(Přehled_body!$E$3:$ED$130,MATCH(Tabulka!$AI49,Přehled_body!$A$3:$A$130,0),MATCH(Tabulka!V$2,Přehled_body!$E$1:$ED$1,0)),)=0,0.00000000001,IFERROR(INDEX(Přehled_body!$E$3:$ED$130,MATCH(Tabulka!$AI49,Přehled_body!$A$3:$A$130,0),MATCH(Tabulka!V$2,Přehled_body!$E$1:$ED$1,0)),)))","v":0},{"$f":"IF(IFERROR(INDEX(Přehled_body!$E$3:$ED$130,MATCH(Tabulka!$AI49,Přehled_body!$A$3:$A$130,0),MATCH(Tabulka!W$2,Přehled_body!$E$1:$ED$1,0)),)=\"\",,IF(IFERROR(INDEX(Přehled_body!$E$3:$ED$130,MATCH(Tabulka!$AI49,Přehled_body!$A$3:$A$130,0),MATCH(Tabulka!W$2,Přehled_body!$E$1:$ED$1,0)),)=0,0.00000000001,IFERROR(INDEX(Přehled_body!$E$3:$ED$130,MATCH(Tabulka!$AI49,Přehled_body!$A$3:$A$130,0),MATCH(Tabulka!W$2,Přehled_body!$E$1:$ED$1,0)),)))","v":0},{"$f":"IF(IFERROR(INDEX(Přehled_body!$E$3:$ED$130,MATCH(Tabulka!$AI49,Přehled_body!$A$3:$A$130,0),MATCH(Tabulka!X$2,Přehled_body!$E$1:$ED$1,0)),)=\"\",,IF(IFERROR(INDEX(Přehled_body!$E$3:$ED$130,MATCH(Tabulka!$AI49,Přehled_body!$A$3:$A$130,0),MATCH(Tabulka!X$2,Přehled_body!$E$1:$ED$1,0)),)=0,0.00000000001,IFERROR(INDEX(Přehled_body!$E$3:$ED$130,MATCH(Tabulka!$AI49,Přehled_body!$A$3:$A$130,0),MATCH(Tabulka!X$2,Přehled_body!$E$1:$ED$1,0)),)))","v":0},{"$f":"IF(IFERROR(INDEX(Přehled_body!$E$3:$ED$130,MATCH(Tabulka!$AI49,Přehled_body!$A$3:$A$130,0),MATCH(Tabulka!Y$2,Přehled_body!$E$1:$ED$1,0)),)=\"\",,IF(IFERROR(INDEX(Přehled_body!$E$3:$ED$130,MATCH(Tabulka!$AI49,Přehled_body!$A$3:$A$130,0),MATCH(Tabulka!Y$2,Přehled_body!$E$1:$ED$1,0)),)=0,0.00000000001,IFERROR(INDEX(Přehled_body!$E$3:$ED$130,MATCH(Tabulka!$AI49,Přehled_body!$A$3:$A$130,0),MATCH(Tabulka!Y$2,Přehled_body!$E$1:$ED$1,0)),)))","v":0},{"$f":"IF(IFERROR(INDEX(Přehled_body!$E$3:$ED$130,MATCH(Tabulka!$AI49,Přehled_body!$A$3:$A$130,0),MATCH(Tabulka!Z$2,Přehled_body!$E$1:$ED$1,0)),)=\"\",,IF(IFERROR(INDEX(Přehled_body!$E$3:$ED$130,MATCH(Tabulka!$AI49,Přehled_body!$A$3:$A$130,0),MATCH(Tabulka!Z$2,Přehled_body!$E$1:$ED$1,0)),)=0,0.00000000001,IFERROR(INDEX(Přehled_body!$E$3:$ED$130,MATCH(Tabulka!$AI49,Přehled_body!$A$3:$A$130,0),MATCH(Tabulka!Z$2,Přehled_body!$E$1:$ED$1,0)),)))","v":0},{"$f":"IF(IFERROR(INDEX(Přehled_body!$E$3:$ED$130,MATCH(Tabulka!$AI49,Přehled_body!$A$3:$A$130,0),MATCH(Tabulka!AA$2,Přehled_body!$E$1:$ED$1,0)),)=\"\",,IF(IFERROR(INDEX(Přehled_body!$E$3:$ED$130,MATCH(Tabulka!$AI49,Přehled_body!$A$3:$A$130,0),MATCH(Tabulka!AA$2,Přehled_body!$E$1:$ED$1,0)),)=0,0.00000000001,IFERROR(INDEX(Přehled_body!$E$3:$ED$130,MATCH(Tabulka!$AI49,Přehled_body!$A$3:$A$130,0),MATCH(Tabulka!AA$2,Přehled_body!$E$1:$ED$1,0)),)))","v":0},{"$f":"IF(IFERROR(INDEX(Přehled_body!$E$3:$ED$130,MATCH(Tabulka!$AI49,Přehled_body!$A$3:$A$130,0),MATCH(Tabulka!AB$2,Přehled_body!$E$1:$ED$1,0)),)=\"\",,IF(IFERROR(INDEX(Přehled_body!$E$3:$ED$130,MATCH(Tabulka!$AI49,Přehled_body!$A$3:$A$130,0),MATCH(Tabulka!AB$2,Přehled_body!$E$1:$ED$1,0)),)=0,0.00000000001,IFERROR(INDEX(Přehled_body!$E$3:$ED$130,MATCH(Tabulka!$AI49,Přehled_body!$A$3:$A$130,0),MATCH(Tabulka!AB$2,Přehled_body!$E$1:$ED$1,0)),)))","v":0},{"$f":"IF(IFERROR(INDEX(Přehled_body!$E$3:$ED$130,MATCH(Tabulka!$AI49,Přehled_body!$A$3:$A$130,0),MATCH(Tabulka!AC$2,Přehled_body!$E$1:$ED$1,0)),)=\"\",,IF(IFERROR(INDEX(Přehled_body!$E$3:$ED$130,MATCH(Tabulka!$AI49,Přehled_body!$A$3:$A$130,0),MATCH(Tabulka!AC$2,Přehled_body!$E$1:$ED$1,0)),)=0,0.00000000001,IFERROR(INDEX(Přehled_body!$E$3:$ED$130,MATCH(Tabulka!$AI49,Přehled_body!$A$3:$A$130,0),MATCH(Tabulka!AC$2,Přehled_body!$E$1:$ED$1,0)),)))","v":0},{"$f":"IF(IFERROR(INDEX(Přehled_body!$E$3:$ED$130,MATCH(Tabulka!$AI49,Přehled_body!$A$3:$A$130,0),MATCH(Tabulka!AD$2,Přehled_body!$E$1:$ED$1,0)),)=\"\",,IF(IFERROR(INDEX(Přehled_body!$E$3:$ED$130,MATCH(Tabulka!$AI49,Přehled_body!$A$3:$A$130,0),MATCH(Tabulka!AD$2,Přehled_body!$E$1:$ED$1,0)),)=0,0.00000000001,IFERROR(INDEX(Přehled_body!$E$3:$ED$130,MATCH(Tabulka!$AI49,Přehled_body!$A$3:$A$130,0),MATCH(Tabulka!AD$2,Přehled_body!$E$1:$ED$1,0)),)))","v":0},{"$f":"IF(SUM($D$49:$AD$53)<1,-90000,SUM(D49:AD49))","v":11.00000000002},null,{"$f":"COUNTIF(D49:AD49,\">0\")","v":9},null,{"$f":"CONCATENATE($B$50,\" \",$B$51,C49)","v":"Jarda KleinVýhry"}]
[{"$f":"CONCATENATE(B50,\" \",B51)","v":"Jarda Klein"},"Jarda","Prohry",{"$f":"IF(IFERROR(INDEX(Přehled_body!$E$3:$ED$130,MATCH(Tabulka!$AI50,Přehled_body!$A$3:$A$130,0),MATCH(Tabulka!D$2,Přehled_body!$E$1:$ED$1,0)),)=\"\",,IF(IFERROR(INDEX(Přehled_body!$E$3:$ED$130,MATCH(Tabulka!$AI50,Přehled_body!$A$3:$A$130,0),MATCH(Tabulka!D$2,Přehled_body!$E$1:$ED$1,0)),)=0,0.00000000001,IFERROR(INDEX(Přehled_body!$E$3:$ED$130,MATCH(Tabulka!$AI50,Přehled_body!$A$3:$A$130,0),MATCH(Tabulka!D$2,Přehled_body!$E$1:$ED$1,0)),)))","v":9.9999999999999994E-12},{"$f":"IF(IFERROR(INDEX(Přehled_body!$E$3:$ED$130,MATCH(Tabulka!$AI50,Přehled_body!$A$3:$A$130,0),MATCH(Tabulka!E$2,Přehled_body!$E$1:$ED$1,0)),)=\"\",,IF(IFERROR(INDEX(Přehled_body!$E$3:$ED$130,MATCH(Tabulka!$AI50,Přehled_body!$A$3:$A$130,0),MATCH(Tabulka!E$2,Přehled_body!$E$1:$ED$1,0)),)=0,0.00000000001,IFERROR(INDEX(Přehled_body!$E$3:$ED$130,MATCH(Tabulka!$AI50,Přehled_body!$A$3:$A$130,0),MATCH(Tabulka!E$2,Přehled_body!$E$1:$ED$1,0)),)))","v":2},{"$f":"IF(IFERROR(INDEX(Přehled_body!$E$3:$ED$130,MATCH(Tabulka!$AI50,Přehled_body!$A$3:$A$130,0),MATCH(Tabulka!F$2,Přehled_body!$E$1:$ED$1,0)),)=\"\",,IF(IFERROR(INDEX(Přehled_body!$E$3:$ED$130,MATCH(Tabulka!$AI50,Přehled_body!$A$3:$A$130,0),MATCH(Tabulka!F$2,Přehled_body!$E$1:$ED$1,0)),)=0,0.00000000001,IFERROR(INDEX(Přehled_body!$E$3:$ED$130,MATCH(Tabulka!$AI50,Přehled_body!$A$3:$A$130,0),MATCH(Tabulka!F$2,Přehled_body!$E$1:$ED$1,0)),)))","v":9.9999999999999994E-12},{"$f":"IF(IFERROR(INDEX(Přehled_body!$E$3:$ED$130,MATCH(Tabulka!$AI50,Přehled_body!$A$3:$A$130,0),MATCH(Tabulka!G$2,Přehled_body!$E$1:$ED$1,0)),)=\"\",,IF(IFERROR(INDEX(Přehled_body!$E$3:$ED$130,MATCH(Tabulka!$AI50,Přehled_body!$A$3:$A$130,0),MATCH(Tabulka!G$2,Přehled_body!$E$1:$ED$1,0)),)=0,0.00000000001,IFERROR(INDEX(Přehled_body!$E$3:$ED$130,MATCH(Tabulka!$AI50,Přehled_body!$A$3:$A$130,0),MATCH(Tabulka!G$2,Přehled_body!$E$1:$ED$1,0)),)))","v":9.9999999999999994E-12},{"$f":"IF(IFERROR(INDEX(Přehled_body!$E$3:$ED$130,MATCH(Tabulka!$AI50,Přehled_body!$A$3:$A$130,0),MATCH(Tabulka!H$2,Přehled_body!$E$1:$ED$1,0)),)=\"\",,IF(IFERROR(INDEX(Přehled_body!$E$3:$ED$130,MATCH(Tabulka!$AI50,Přehled_body!$A$3:$A$130,0),MATCH(Tabulka!H$2,Přehled_body!$E$1:$ED$1,0)),)=0,0.00000000001,IFERROR(INDEX(Přehled_body!$E$3:$ED$130,MATCH(Tabulka!$AI50,Přehled_body!$A$3:$A$130,0),MATCH(Tabulka!H$2,Přehled_body!$E$1:$ED$1,0)),)))","v":9.9999999999999994E-12},{"$f":"IF(IFERROR(INDEX(Přehled_body!$E$3:$ED$130,MATCH(Tabulka!$AI50,Přehled_body!$A$3:$A$130,0),MATCH(Tabulka!I$2,Přehled_body!$E$1:$ED$1,0)),)=\"\",,IF(IFERROR(INDEX(Přehled_body!$E$3:$ED$130,MATCH(Tabulka!$AI50,Přehled_body!$A$3:$A$130,0),MATCH(Tabulka!I$2,Přehled_body!$E$1:$ED$1,0)),)=0,0.00000000001,IFERROR(INDEX(Přehled_body!$E$3:$ED$130,MATCH(Tabulka!$AI50,Přehled_body!$A$3:$A$130,0),MATCH(Tabulka!I$2,Přehled_body!$E$1:$ED$1,0)),)))","v":1},{"$f":"IF(IFERROR(INDEX(Přehled_body!$E$3:$ED$130,MATCH(Tabulka!$AI50,Přehled_body!$A$3:$A$130,0),MATCH(Tabulka!J$2,Přehled_body!$E$1:$ED$1,0)),)=\"\",,IF(IFERROR(INDEX(Přehled_body!$E$3:$ED$130,MATCH(Tabulka!$AI50,Přehled_body!$A$3:$A$130,0),MATCH(Tabulka!J$2,Přehled_body!$E$1:$ED$1,0)),)=0,0.00000000001,IFERROR(INDEX(Přehled_body!$E$3:$ED$130,MATCH(Tabulka!$AI50,Přehled_body!$A$3:$A$130,0),MATCH(Tabulka!J$2,Přehled_body!$E$1:$ED$1,0)),)))","v":9.9999999999999994E-12},{"$f":"IF(IFERROR(INDEX(Přehled_body!$E$3:$ED$130,MATCH(Tabulka!$AI50,Přehled_body!$A$3:$A$130,0),MATCH(Tabulka!K$2,Přehled_body!$E$1:$ED$1,0)),)=\"\",,IF(IFERROR(INDEX(Přehled_body!$E$3:$ED$130,MATCH(Tabulka!$AI50,Přehled_body!$A$3:$A$130,0),MATCH(Tabulka!K$2,Přehled_body!$E$1:$ED$1,0)),)=0,0.00000000001,IFERROR(INDEX(Přehled_body!$E$3:$ED$130,MATCH(Tabulka!$AI50,Přehled_body!$A$3:$A$130,0),MATCH(Tabulka!K$2,Přehled_body!$E$1:$ED$1,0)),)))","v":0},{"$f":"IF(IFERROR(INDEX(Přehled_body!$E$3:$ED$130,MATCH(Tabulka!$AI50,Přehled_body!$A$3:$A$130,0),MATCH(Tabulka!L$2,Přehled_body!$E$1:$ED$1,0)),)=\"\",,IF(IFERROR(INDEX(Přehled_body!$E$3:$ED$130,MATCH(Tabulka!$AI50,Přehled_body!$A$3:$A$130,0),MATCH(Tabulka!L$2,Přehled_body!$E$1:$ED$1,0)),)=0,0.00000000001,IFERROR(INDEX(Přehled_body!$E$3:$ED$130,MATCH(Tabulka!$AI50,Přehled_body!$A$3:$A$130,0),MATCH(Tabulka!L$2,Přehled_body!$E$1:$ED$1,0)),)))","v":1},{"$f":"IF(IFERROR(INDEX(Přehled_body!$E$3:$ED$130,MATCH(Tabulka!$AI50,Přehled_body!$A$3:$A$130,0),MATCH(Tabulka!M$2,Přehled_body!$E$1:$ED$1,0)),)=\"\",,IF(IFERROR(INDEX(Přehled_body!$E$3:$ED$130,MATCH(Tabulka!$AI50,Přehled_body!$A$3:$A$130,0),MATCH(Tabulka!M$2,Přehled_body!$E$1:$ED$1,0)),)=0,0.00000000001,IFERROR(INDEX(Přehled_body!$E$3:$ED$130,MATCH(Tabulka!$AI50,Přehled_body!$A$3:$A$130,0),MATCH(Tabulka!M$2,Přehled_body!$E$1:$ED$1,0)),)))","v":1},{"$f":"IF(IFERROR(INDEX(Přehled_body!$E$3:$ED$130,MATCH(Tabulka!$AI50,Přehled_body!$A$3:$A$130,0),MATCH(Tabulka!N$2,Přehled_body!$E$1:$ED$1,0)),)=\"\",,IF(IFERROR(INDEX(Přehled_body!$E$3:$ED$130,MATCH(Tabulka!$AI50,Přehled_body!$A$3:$A$130,0),MATCH(Tabulka!N$2,Přehled_body!$E$1:$ED$1,0)),)=0,0.00000000001,IFERROR(INDEX(Přehled_body!$E$3:$ED$130,MATCH(Tabulka!$AI50,Přehled_body!$A$3:$A$130,0),MATCH(Tabulka!N$2,Přehled_body!$E$1:$ED$1,0)),)))","v":0},{"$f":"IF(IFERROR(INDEX(Přehled_body!$E$3:$ED$130,MATCH(Tabulka!$AI50,Přehled_body!$A$3:$A$130,0),MATCH(Tabulka!O$2,Přehled_body!$E$1:$ED$1,0)),)=\"\",,IF(IFERROR(INDEX(Přehled_body!$E$3:$ED$130,MATCH(Tabulka!$AI50,Přehled_body!$A$3:$A$130,0),MATCH(Tabulka!O$2,Přehled_body!$E$1:$ED$1,0)),)=0,0.00000000001,IFERROR(INDEX(Přehled_body!$E$3:$ED$130,MATCH(Tabulka!$AI50,Přehled_body!$A$3:$A$130,0),MATCH(Tabulka!O$2,Přehled_body!$E$1:$ED$1,0)),)))","v":0},{"$f":"IF(IFERROR(INDEX(Přehled_body!$E$3:$ED$130,MATCH(Tabulka!$AI50,Přehled_body!$A$3:$A$130,0),MATCH(Tabulka!P$2,Přehled_body!$E$1:$ED$1,0)),)=\"\",,IF(IFERROR(INDEX(Přehled_body!$E$3:$ED$130,MATCH(Tabulka!$AI50,Přehled_body!$A$3:$A$130,0),MATCH(Tabulka!P$2,Přehled_body!$E$1:$ED$1,0)),)=0,0.00000000001,IFERROR(INDEX(Přehled_body!$E$3:$ED$130,MATCH(Tabulka!$AI50,Přehled_body!$A$3:$A$130,0),MATCH(Tabulka!P$2,Přehled_body!$E$1:$ED$1,0)),)))","v":0},{"$f":"IF(IFERROR(INDEX(Přehled_body!$E$3:$ED$130,MATCH(Tabulka!$AI50,Přehled_body!$A$3:$A$130,0),MATCH(Tabulka!Q$2,Přehled_body!$E$1:$ED$1,0)),)=\"\",,IF(IFERROR(INDEX(Přehled_body!$E$3:$ED$130,MATCH(Tabulka!$AI50,Přehled_body!$A$3:$A$130,0),MATCH(Tabulka!Q$2,Přehled_body!$E$1:$ED$1,0)),)=0,0.00000000001,IFERROR(INDEX(Přehled_body!$E$3:$ED$130,MATCH(Tabulka!$AI50,Přehled_body!$A$3:$A$130,0),MATCH(Tabulka!Q$2,Přehled_body!$E$1:$ED$1,0)),)))","v":0},{"$f":"IF(IFERROR(INDEX(Přehled_body!$E$3:$ED$130,MATCH(Tabulka!$AI50,Přehled_body!$A$3:$A$130,0),MATCH(Tabulka!R$2,Přehled_body!$E$1:$ED$1,0)),)=\"\",,IF(IFERROR(INDEX(Přehled_body!$E$3:$ED$130,MATCH(Tabulka!$AI50,Přehled_body!$A$3:$A$130,0),MATCH(Tabulka!R$2,Přehled_body!$E$1:$ED$1,0)),)=0,0.00000000001,IFERROR(INDEX(Přehled_body!$E$3:$ED$130,MATCH(Tabulka!$AI50,Přehled_body!$A$3:$A$130,0),MATCH(Tabulka!R$2,Přehled_body!$E$1:$ED$1,0)),)))","v":0},{"$f":"IF(IFERROR(INDEX(Přehled_body!$E$3:$ED$130,MATCH(Tabulka!$AI50,Přehled_body!$A$3:$A$130,0),MATCH(Tabulka!S$2,Přehled_body!$E$1:$ED$1,0)),)=\"\",,IF(IFERROR(INDEX(Přehled_body!$E$3:$ED$130,MATCH(Tabulka!$AI50,Přehled_body!$A$3:$A$130,0),MATCH(Tabulka!S$2,Přehled_body!$E$1:$ED$1,0)),)=0,0.00000000001,IFERROR(INDEX(Přehled_body!$E$3:$ED$130,MATCH(Tabulka!$AI50,Přehled_body!$A$3:$A$130,0),MATCH(Tabulka!S$2,Přehled_body!$E$1:$ED$1,0)),)))","v":0},{"$f":"IF(IFERROR(INDEX(Přehled_body!$E$3:$ED$130,MATCH(Tabulka!$AI50,Přehled_body!$A$3:$A$130,0),MATCH(Tabulka!T$2,Přehled_body!$E$1:$ED$1,0)),)=\"\",,IF(IFERROR(INDEX(Přehled_body!$E$3:$ED$130,MATCH(Tabulka!$AI50,Přehled_body!$A$3:$A$130,0),MATCH(Tabulka!T$2,Přehled_body!$E$1:$ED$1,0)),)=0,0.00000000001,IFERROR(INDEX(Přehled_body!$E$3:$ED$130,MATCH(Tabulka!$AI50,Přehled_body!$A$3:$A$130,0),MATCH(Tabulka!T$2,Přehled_body!$E$1:$ED$1,0)),)))","v":0},{"$f":"IF(IFERROR(INDEX(Přehled_body!$E$3:$ED$130,MATCH(Tabulka!$AI50,Přehled_body!$A$3:$A$130,0),MATCH(Tabulka!U$2,Přehled_body!$E$1:$ED$1,0)),)=\"\",,IF(IFERROR(INDEX(Přehled_body!$E$3:$ED$130,MATCH(Tabulka!$AI50,Přehled_body!$A$3:$A$130,0),MATCH(Tabulka!U$2,Přehled_body!$E$1:$ED$1,0)),)=0,0.00000000001,IFERROR(INDEX(Přehled_body!$E$3:$ED$130,MATCH(Tabulka!$AI50,Přehled_body!$A$3:$A$130,0),MATCH(Tabulka!U$2,Přehled_body!$E$1:$ED$1,0)),)))","v":0},{"$f":"IF(IFERROR(INDEX(Přehled_body!$E$3:$ED$130,MATCH(Tabulka!$AI50,Přehled_body!$A$3:$A$130,0),MATCH(Tabulka!V$2,Přehled_body!$E$1:$ED$1,0)),)=\"\",,IF(IFERROR(INDEX(Přehled_body!$E$3:$ED$130,MATCH(Tabulka!$AI50,Přehled_body!$A$3:$A$130,0),MATCH(Tabulka!V$2,Přehled_body!$E$1:$ED$1,0)),)=0,0.00000000001,IFERROR(INDEX(Přehled_body!$E$3:$ED$130,MATCH(Tabulka!$AI50,Přehled_body!$A$3:$A$130,0),MATCH(Tabulka!V$2,Přehled_body!$E$1:$ED$1,0)),)))","v":0},{"$f":"IF(IFERROR(INDEX(Přehled_body!$E$3:$ED$130,MATCH(Tabulka!$AI50,Přehled_body!$A$3:$A$130,0),MATCH(Tabulka!W$2,Přehled_body!$E$1:$ED$1,0)),)=\"\",,IF(IFERROR(INDEX(Přehled_body!$E$3:$ED$130,MATCH(Tabulka!$AI50,Přehled_body!$A$3:$A$130,0),MATCH(Tabulka!W$2,Přehled_body!$E$1:$ED$1,0)),)=0,0.00000000001,IFERROR(INDEX(Přehled_body!$E$3:$ED$130,MATCH(Tabulka!$AI50,Přehled_body!$A$3:$A$130,0),MATCH(Tabulka!W$2,Přehled_body!$E$1:$ED$1,0)),)))","v":0},{"$f":"IF(IFERROR(INDEX(Přehled_body!$E$3:$ED$130,MATCH(Tabulka!$AI50,Přehled_body!$A$3:$A$130,0),MATCH(Tabulka!X$2,Přehled_body!$E$1:$ED$1,0)),)=\"\",,IF(IFERROR(INDEX(Přehled_body!$E$3:$ED$130,MATCH(Tabulka!$AI50,Přehled_body!$A$3:$A$130,0),MATCH(Tabulka!X$2,Přehled_body!$E$1:$ED$1,0)),)=0,0.00000000001,IFERROR(INDEX(Přehled_body!$E$3:$ED$130,MATCH(Tabulka!$AI50,Přehled_body!$A$3:$A$130,0),MATCH(Tabulka!X$2,Přehled_body!$E$1:$ED$1,0)),)))","v":0},{"$f":"IF(IFERROR(INDEX(Přehled_body!$E$3:$ED$130,MATCH(Tabulka!$AI50,Přehled_body!$A$3:$A$130,0),MATCH(Tabulka!Y$2,Přehled_body!$E$1:$ED$1,0)),)=\"\",,IF(IFERROR(INDEX(Přehled_body!$E$3:$ED$130,MATCH(Tabulka!$AI50,Přehled_body!$A$3:$A$130,0),MATCH(Tabulka!Y$2,Přehled_body!$E$1:$ED$1,0)),)=0,0.00000000001,IFERROR(INDEX(Přehled_body!$E$3:$ED$130,MATCH(Tabulka!$AI50,Přehled_body!$A$3:$A$130,0),MATCH(Tabulka!Y$2,Přehled_body!$E$1:$ED$1,0)),)))","v":0},{"$f":"IF(IFERROR(INDEX(Přehled_body!$E$3:$ED$130,MATCH(Tabulka!$AI50,Přehled_body!$A$3:$A$130,0),MATCH(Tabulka!Z$2,Přehled_body!$E$1:$ED$1,0)),)=\"\",,IF(IFERROR(INDEX(Přehled_body!$E$3:$ED$130,MATCH(Tabulka!$AI50,Přehled_body!$A$3:$A$130,0),MATCH(Tabulka!Z$2,Přehled_body!$E$1:$ED$1,0)),)=0,0.00000000001,IFERROR(INDEX(Přehled_body!$E$3:$ED$130,MATCH(Tabulka!$AI50,Přehled_body!$A$3:$A$130,0),MATCH(Tabulka!Z$2,Přehled_body!$E$1:$ED$1,0)),)))","v":0},{"$f":"IF(IFERROR(INDEX(Přehled_body!$E$3:$ED$130,MATCH(Tabulka!$AI50,Přehled_body!$A$3:$A$130,0),MATCH(Tabulka!AA$2,Přehled_body!$E$1:$ED$1,0)),)=\"\",,IF(IFERROR(INDEX(Přehled_body!$E$3:$ED$130,MATCH(Tabulka!$AI50,Přehled_body!$A$3:$A$130,0),MATCH(Tabulka!AA$2,Přehled_body!$E$1:$ED$1,0)),)=0,0.00000000001,IFERROR(INDEX(Přehled_body!$E$3:$ED$130,MATCH(Tabulka!$AI50,Přehled_body!$A$3:$A$130,0),MATCH(Tabulka!AA$2,Přehled_body!$E$1:$ED$1,0)),)))","v":0},{"$f":"IF(IFERROR(INDEX(Přehled_body!$E$3:$ED$130,MATCH(Tabulka!$AI50,Přehled_body!$A$3:$A$130,0),MATCH(Tabulka!AB$2,Přehled_body!$E$1:$ED$1,0)),)=\"\",,IF(IFERROR(INDEX(Přehled_body!$E$3:$ED$130,MATCH(Tabulka!$AI50,Přehled_body!$A$3:$A$130,0),MATCH(Tabulka!AB$2,Přehled_body!$E$1:$ED$1,0)),)=0,0.00000000001,IFERROR(INDEX(Přehled_body!$E$3:$ED$130,MATCH(Tabulka!$AI50,Přehled_body!$A$3:$A$130,0),MATCH(Tabulka!AB$2,Přehled_body!$E$1:$ED$1,0)),)))","v":0},{"$f":"IF(IFERROR(INDEX(Přehled_body!$E$3:$ED$130,MATCH(Tabulka!$AI50,Přehled_body!$A$3:$A$130,0),MATCH(Tabulka!AC$2,Přehled_body!$E$1:$ED$1,0)),)=\"\",,IF(IFERROR(INDEX(Přehled_body!$E$3:$ED$130,MATCH(Tabulka!$AI50,Přehled_body!$A$3:$A$130,0),MATCH(Tabulka!AC$2,Přehled_body!$E$1:$ED$1,0)),)=0,0.00000000001,IFERROR(INDEX(Přehled_body!$E$3:$ED$130,MATCH(Tabulka!$AI50,Přehled_body!$A$3:$A$130,0),MATCH(Tabulka!AC$2,Přehled_body!$E$1:$ED$1,0)),)))","v":0},{"$f":"IF(IFERROR(INDEX(Přehled_body!$E$3:$ED$130,MATCH(Tabulka!$AI50,Přehled_body!$A$3:$A$130,0),MATCH(Tabulka!AD$2,Přehled_body!$E$1:$ED$1,0)),)=\"\",,IF(IFERROR(INDEX(Přehled_body!$E$3:$ED$130,MATCH(Tabulka!$AI50,Přehled_body!$A$3:$A$130,0),MATCH(Tabulka!AD$2,Přehled_body!$E$1:$ED$1,0)),)=0,0.00000000001,IFERROR(INDEX(Přehled_body!$E$3:$ED$130,MATCH(Tabulka!$AI50,Přehled_body!$A$3:$A$130,0),MATCH(Tabulka!AD$2,Přehled_body!$E$1:$ED$1,0)),)))","v":0},{"$f":"IF(SUM($D$49:$AD$53)<1,-90000,SUM(D50:AD50))","v":5.00000000005},{"$f":"IF(AE53>0.9,SUM(AE49-AE50)+0.00000001,0)","v":6.0000000099699999},null,null,{"$f":"CONCATENATE($B$50,\" \",$B$51,C50)","v":"Jarda KleinProhry"}]
[{"$f":"CONCATENATE(B51,\" \",B50)","v":"Klein Jarda"},"Klein","Placeno panáků",{"$f":"IF(IFERROR(INDEX(Přehled_body!$E$3:$ED$130,MATCH(Tabulka!$AI51,Přehled_body!$A$3:$A$130,0),MATCH(Tabulka!D$2,Přehled_body!$E$1:$ED$1,0)),)=\"\",,IF(IFERROR(INDEX(Přehled_body!$E$3:$ED$130,MATCH(Tabulka!$AI51,Přehled_body!$A$3:$A$130,0),MATCH(Tabulka!D$2,Přehled_body!$E$1:$ED$1,0)),)=0,0.00000000001,IFERROR(INDEX(Přehled_body!$E$3:$ED$130,MATCH(Tabulka!$AI51,Přehled_body!$A$3:$A$130,0),MATCH(Tabulka!D$2,Přehled_body!$E$1:$ED$1,0)),)))","v":9.9999999999999994E-12},{"$f":"IF(IFERROR(INDEX(Přehled_body!$E$3:$ED$130,MATCH(Tabulka!$AI51,Přehled_body!$A$3:$A$130,0),MATCH(Tabulka!E$2,Přehled_body!$E$1:$ED$1,0)),)=\"\",,IF(IFERROR(INDEX(Přehled_body!$E$3:$ED$130,MATCH(Tabulka!$AI51,Přehled_body!$A$3:$A$130,0),MATCH(Tabulka!E$2,Přehled_body!$E$1:$ED$1,0)),)=0,0.00000000001,IFERROR(INDEX(Přehled_body!$E$3:$ED$130,MATCH(Tabulka!$AI51,Přehled_body!$A$3:$A$130,0),MATCH(Tabulka!E$2,Přehled_body!$E$1:$ED$1,0)),)))","v":4},{"$f":"IF(IFERROR(INDEX(Přehled_body!$E$3:$ED$130,MATCH(Tabulka!$AI51,Přehled_body!$A$3:$A$130,0),MATCH(Tabulka!F$2,Přehled_body!$E$1:$ED$1,0)),)=\"\",,IF(IFERROR(INDEX(Přehled_body!$E$3:$ED$130,MATCH(Tabulka!$AI51,Přehled_body!$A$3:$A$130,0),MATCH(Tabulka!F$2,Přehled_body!$E$1:$ED$1,0)),)=0,0.00000000001,IFERROR(INDEX(Přehled_body!$E$3:$ED$130,MATCH(Tabulka!$AI51,Přehled_body!$A$3:$A$130,0),MATCH(Tabulka!F$2,Přehled_body!$E$1:$ED$1,0)),)))","v":9.9999999999999994E-12},{"$f":"IF(IFERROR(INDEX(Přehled_body!$E$3:$ED$130,MATCH(Tabulka!$AI51,Přehled_body!$A$3:$A$130,0),MATCH(Tabulka!G$2,Přehled_body!$E$1:$ED$1,0)),)=\"\",,IF(IFERROR(INDEX(Přehled_body!$E$3:$ED$130,MATCH(Tabulka!$AI51,Přehled_body!$A$3:$A$130,0),MATCH(Tabulka!G$2,Přehled_body!$E$1:$ED$1,0)),)=0,0.00000000001,IFERROR(INDEX(Přehled_body!$E$3:$ED$130,MATCH(Tabulka!$AI51,Přehled_body!$A$3:$A$130,0),MATCH(Tabulka!G$2,Přehled_body!$E$1:$ED$1,0)),)))","v":9.9999999999999994E-12},{"$f":"IF(IFERROR(INDEX(Přehled_body!$E$3:$ED$130,MATCH(Tabulka!$AI51,Přehled_body!$A$3:$A$130,0),MATCH(Tabulka!H$2,Přehled_body!$E$1:$ED$1,0)),)=\"\",,IF(IFERROR(INDEX(Přehled_body!$E$3:$ED$130,MATCH(Tabulka!$AI51,Přehled_body!$A$3:$A$130,0),MATCH(Tabulka!H$2,Přehled_body!$E$1:$ED$1,0)),)=0,0.00000000001,IFERROR(INDEX(Přehled_body!$E$3:$ED$130,MATCH(Tabulka!$AI51,Přehled_body!$A$3:$A$130,0),MATCH(Tabulka!H$2,Přehled_body!$E$1:$ED$1,0)),)))","v":9.9999999999999994E-12},{"$f":"IF(IFERROR(INDEX(Přehled_body!$E$3:$ED$130,MATCH(Tabulka!$AI51,Přehled_body!$A$3:$A$130,0),MATCH(Tabulka!I$2,Přehled_body!$E$1:$ED$1,0)),)=\"\",,IF(IFERROR(INDEX(Přehled_body!$E$3:$ED$130,MATCH(Tabulka!$AI51,Přehled_body!$A$3:$A$130,0),MATCH(Tabulka!I$2,Přehled_body!$E$1:$ED$1,0)),)=0,0.00000000001,IFERROR(INDEX(Přehled_body!$E$3:$ED$130,MATCH(Tabulka!$AI51,Přehled_body!$A$3:$A$130,0),MATCH(Tabulka!I$2,Přehled_body!$E$1:$ED$1,0)),)))","v":1},{"$f":"IF(IFERROR(INDEX(Přehled_body!$E$3:$ED$130,MATCH(Tabulka!$AI51,Přehled_body!$A$3:$A$130,0),MATCH(Tabulka!J$2,Přehled_body!$E$1:$ED$1,0)),)=\"\",,IF(IFERROR(INDEX(Přehled_body!$E$3:$ED$130,MATCH(Tabulka!$AI51,Přehled_body!$A$3:$A$130,0),MATCH(Tabulka!J$2,Přehled_body!$E$1:$ED$1,0)),)=0,0.00000000001,IFERROR(INDEX(Přehled_body!$E$3:$ED$130,MATCH(Tabulka!$AI51,Přehled_body!$A$3:$A$130,0),MATCH(Tabulka!J$2,Přehled_body!$E$1:$ED$1,0)),)))","v":9.9999999999999994E-12},{"$f":"IF(IFERROR(INDEX(Přehled_body!$E$3:$ED$130,MATCH(Tabulka!$AI51,Přehled_body!$A$3:$A$130,0),MATCH(Tabulka!K$2,Přehled_body!$E$1:$ED$1,0)),)=\"\",,IF(IFERROR(INDEX(Přehled_body!$E$3:$ED$130,MATCH(Tabulka!$AI51,Přehled_body!$A$3:$A$130,0),MATCH(Tabulka!K$2,Přehled_body!$E$1:$ED$1,0)),)=0,0.00000000001,IFERROR(INDEX(Přehled_body!$E$3:$ED$130,MATCH(Tabulka!$AI51,Přehled_body!$A$3:$A$130,0),MATCH(Tabulka!K$2,Přehled_body!$E$1:$ED$1,0)),)))","v":0},{"$f":"IF(IFERROR(INDEX(Přehled_body!$E$3:$ED$130,MATCH(Tabulka!$AI51,Přehled_body!$A$3:$A$130,0),MATCH(Tabulka!L$2,Přehled_body!$E$1:$ED$1,0)),)=\"\",,IF(IFERROR(INDEX(Přehled_body!$E$3:$ED$130,MATCH(Tabulka!$AI51,Přehled_body!$A$3:$A$130,0),MATCH(Tabulka!L$2,Přehled_body!$E$1:$ED$1,0)),)=0,0.00000000001,IFERROR(INDEX(Přehled_body!$E$3:$ED$130,MATCH(Tabulka!$AI51,Přehled_body!$A$3:$A$130,0),MATCH(Tabulka!L$2,Přehled_body!$E$1:$ED$1,0)),)))","v":1},{"$f":"IF(IFERROR(INDEX(Přehled_body!$E$3:$ED$130,MATCH(Tabulka!$AI51,Přehled_body!$A$3:$A$130,0),MATCH(Tabulka!M$2,Přehled_body!$E$1:$ED$1,0)),)=\"\",,IF(IFERROR(INDEX(Přehled_body!$E$3:$ED$130,MATCH(Tabulka!$AI51,Přehled_body!$A$3:$A$130,0),MATCH(Tabulka!M$2,Přehled_body!$E$1:$ED$1,0)),)=0,0.00000000001,IFERROR(INDEX(Přehled_body!$E$3:$ED$130,MATCH(Tabulka!$AI51,Přehled_body!$A$3:$A$130,0),MATCH(Tabulka!M$2,Přehled_body!$E$1:$ED$1,0)),)))","v":1},{"$f":"IF(IFERROR(INDEX(Přehled_body!$E$3:$ED$130,MATCH(Tabulka!$AI51,Přehled_body!$A$3:$A$130,0),MATCH(Tabulka!N$2,Přehled_body!$E$1:$ED$1,0)),)=\"\",,IF(IFERROR(INDEX(Přehled_body!$E$3:$ED$130,MATCH(Tabulka!$AI51,Přehled_body!$A$3:$A$130,0),MATCH(Tabulka!N$2,Přehled_body!$E$1:$ED$1,0)),)=0,0.00000000001,IFERROR(INDEX(Přehled_body!$E$3:$ED$130,MATCH(Tabulka!$AI51,Přehled_body!$A$3:$A$130,0),MATCH(Tabulka!N$2,Přehled_body!$E$1:$ED$1,0)),)))","v":0},{"$f":"IF(IFERROR(INDEX(Přehled_body!$E$3:$ED$130,MATCH(Tabulka!$AI51,Přehled_body!$A$3:$A$130,0),MATCH(Tabulka!O$2,Přehled_body!$E$1:$ED$1,0)),)=\"\",,IF(IFERROR(INDEX(Přehled_body!$E$3:$ED$130,MATCH(Tabulka!$AI51,Přehled_body!$A$3:$A$130,0),MATCH(Tabulka!O$2,Přehled_body!$E$1:$ED$1,0)),)=0,0.00000000001,IFERROR(INDEX(Přehled_body!$E$3:$ED$130,MATCH(Tabulka!$AI51,Přehled_body!$A$3:$A$130,0),MATCH(Tabulka!O$2,Přehled_body!$E$1:$ED$1,0)),)))","v":0},{"$f":"IF(IFERROR(INDEX(Přehled_body!$E$3:$ED$130,MATCH(Tabulka!$AI51,Přehled_body!$A$3:$A$130,0),MATCH(Tabulka!P$2,Přehled_body!$E$1:$ED$1,0)),)=\"\",,IF(IFERROR(INDEX(Přehled_body!$E$3:$ED$130,MATCH(Tabulka!$AI51,Přehled_body!$A$3:$A$130,0),MATCH(Tabulka!P$2,Přehled_body!$E$1:$ED$1,0)),)=0,0.00000000001,IFERROR(INDEX(Přehled_body!$E$3:$ED$130,MATCH(Tabulka!$AI51,Přehled_body!$A$3:$A$130,0),MATCH(Tabulka!P$2,Přehled_body!$E$1:$ED$1,0)),)))","v":0},{"$f":"IF(IFERROR(INDEX(Přehled_body!$E$3:$ED$130,MATCH(Tabulka!$AI51,Přehled_body!$A$3:$A$130,0),MATCH(Tabulka!Q$2,Přehled_body!$E$1:$ED$1,0)),)=\"\",,IF(IFERROR(INDEX(Přehled_body!$E$3:$ED$130,MATCH(Tabulka!$AI51,Přehled_body!$A$3:$A$130,0),MATCH(Tabulka!Q$2,Přehled_body!$E$1:$ED$1,0)),)=0,0.00000000001,IFERROR(INDEX(Přehled_body!$E$3:$ED$130,MATCH(Tabulka!$AI51,Přehled_body!$A$3:$A$130,0),MATCH(Tabulka!Q$2,Přehled_body!$E$1:$ED$1,0)),)))","v":0},{"$f":"IF(IFERROR(INDEX(Přehled_body!$E$3:$ED$130,MATCH(Tabulka!$AI51,Přehled_body!$A$3:$A$130,0),MATCH(Tabulka!R$2,Přehled_body!$E$1:$ED$1,0)),)=\"\",,IF(IFERROR(INDEX(Přehled_body!$E$3:$ED$130,MATCH(Tabulka!$AI51,Přehled_body!$A$3:$A$130,0),MATCH(Tabulka!R$2,Přehled_body!$E$1:$ED$1,0)),)=0,0.00000000001,IFERROR(INDEX(Přehled_body!$E$3:$ED$130,MATCH(Tabulka!$AI51,Přehled_body!$A$3:$A$130,0),MATCH(Tabulka!R$2,Přehled_body!$E$1:$ED$1,0)),)))","v":0},{"$f":"IF(IFERROR(INDEX(Přehled_body!$E$3:$ED$130,MATCH(Tabulka!$AI51,Přehled_body!$A$3:$A$130,0),MATCH(Tabulka!S$2,Přehled_body!$E$1:$ED$1,0)),)=\"\",,IF(IFERROR(INDEX(Přehled_body!$E$3:$ED$130,MATCH(Tabulka!$AI51,Přehled_body!$A$3:$A$130,0),MATCH(Tabulka!S$2,Přehled_body!$E$1:$ED$1,0)),)=0,0.00000000001,IFERROR(INDEX(Přehled_body!$E$3:$ED$130,MATCH(Tabulka!$AI51,Přehled_body!$A$3:$A$130,0),MATCH(Tabulka!S$2,Přehled_body!$E$1:$ED$1,0)),)))","v":0},{"$f":"IF(IFERROR(INDEX(Přehled_body!$E$3:$ED$130,MATCH(Tabulka!$AI51,Přehled_body!$A$3:$A$130,0),MATCH(Tabulka!T$2,Přehled_body!$E$1:$ED$1,0)),)=\"\",,IF(IFERROR(INDEX(Přehled_body!$E$3:$ED$130,MATCH(Tabulka!$AI51,Přehled_body!$A$3:$A$130,0),MATCH(Tabulka!T$2,Přehled_body!$E$1:$ED$1,0)),)=0,0.00000000001,IFERROR(INDEX(Přehled_body!$E$3:$ED$130,MATCH(Tabulka!$AI51,Přehled_body!$A$3:$A$130,0),MATCH(Tabulka!T$2,Přehled_body!$E$1:$ED$1,0)),)))","v":0},{"$f":"IF(IFERROR(INDEX(Přehled_body!$E$3:$ED$130,MATCH(Tabulka!$AI51,Přehled_body!$A$3:$A$130,0),MATCH(Tabulka!U$2,Přehled_body!$E$1:$ED$1,0)),)=\"\",,IF(IFERROR(INDEX(Přehled_body!$E$3:$ED$130,MATCH(Tabulka!$AI51,Přehled_body!$A$3:$A$130,0),MATCH(Tabulka!U$2,Přehled_body!$E$1:$ED$1,0)),)=0,0.00000000001,IFERROR(INDEX(Přehled_body!$E$3:$ED$130,MATCH(Tabulka!$AI51,Přehled_body!$A$3:$A$130,0),MATCH(Tabulka!U$2,Přehled_body!$E$1:$ED$1,0)),)))","v":0},{"$f":"IF(IFERROR(INDEX(Přehled_body!$E$3:$ED$130,MATCH(Tabulka!$AI51,Přehled_body!$A$3:$A$130,0),MATCH(Tabulka!V$2,Přehled_body!$E$1:$ED$1,0)),)=\"\",,IF(IFERROR(INDEX(Přehled_body!$E$3:$ED$130,MATCH(Tabulka!$AI51,Přehled_body!$A$3:$A$130,0),MATCH(Tabulka!V$2,Přehled_body!$E$1:$ED$1,0)),)=0,0.00000000001,IFERROR(INDEX(Přehled_body!$E$3:$ED$130,MATCH(Tabulka!$AI51,Přehled_body!$A$3:$A$130,0),MATCH(Tabulka!V$2,Přehled_body!$E$1:$ED$1,0)),)))","v":0},{"$f":"IF(IFERROR(INDEX(Přehled_body!$E$3:$ED$130,MATCH(Tabulka!$AI51,Přehled_body!$A$3:$A$130,0),MATCH(Tabulka!W$2,Přehled_body!$E$1:$ED$1,0)),)=\"\",,IF(IFERROR(INDEX(Přehled_body!$E$3:$ED$130,MATCH(Tabulka!$AI51,Přehled_body!$A$3:$A$130,0),MATCH(Tabulka!W$2,Přehled_body!$E$1:$ED$1,0)),)=0,0.00000000001,IFERROR(INDEX(Přehled_body!$E$3:$ED$130,MATCH(Tabulka!$AI51,Přehled_body!$A$3:$A$130,0),MATCH(Tabulka!W$2,Přehled_body!$E$1:$ED$1,0)),)))","v":0},{"$f":"IF(IFERROR(INDEX(Přehled_body!$E$3:$ED$130,MATCH(Tabulka!$AI51,Přehled_body!$A$3:$A$130,0),MATCH(Tabulka!X$2,Přehled_body!$E$1:$ED$1,0)),)=\"\",,IF(IFERROR(INDEX(Přehled_body!$E$3:$ED$130,MATCH(Tabulka!$AI51,Přehled_body!$A$3:$A$130,0),MATCH(Tabulka!X$2,Přehled_body!$E$1:$ED$1,0)),)=0,0.00000000001,IFERROR(INDEX(Přehled_body!$E$3:$ED$130,MATCH(Tabulka!$AI51,Přehled_body!$A$3:$A$130,0),MATCH(Tabulka!X$2,Přehled_body!$E$1:$ED$1,0)),)))","v":0},{"$f":"IF(IFERROR(INDEX(Přehled_body!$E$3:$ED$130,MATCH(Tabulka!$AI51,Přehled_body!$A$3:$A$130,0),MATCH(Tabulka!Y$2,Přehled_body!$E$1:$ED$1,0)),)=\"\",,IF(IFERROR(INDEX(Přehled_body!$E$3:$ED$130,MATCH(Tabulka!$AI51,Přehled_body!$A$3:$A$130,0),MATCH(Tabulka!Y$2,Přehled_body!$E$1:$ED$1,0)),)=0,0.00000000001,IFERROR(INDEX(Přehled_body!$E$3:$ED$130,MATCH(Tabulka!$AI51,Přehled_body!$A$3:$A$130,0),MATCH(Tabulka!Y$2,Přehled_body!$E$1:$ED$1,0)),)))","v":0},{"$f":"IF(IFERROR(INDEX(Přehled_body!$E$3:$ED$130,MATCH(Tabulka!$AI51,Přehled_body!$A$3:$A$130,0),MATCH(Tabulka!Z$2,Přehled_body!$E$1:$ED$1,0)),)=\"\",,IF(IFERROR(INDEX(Přehled_body!$E$3:$ED$130,MATCH(Tabulka!$AI51,Přehled_body!$A$3:$A$130,0),MATCH(Tabulka!Z$2,Přehled_body!$E$1:$ED$1,0)),)=0,0.00000000001,IFERROR(INDEX(Přehled_body!$E$3:$ED$130,MATCH(Tabulka!$AI51,Přehled_body!$A$3:$A$130,0),MATCH(Tabulka!Z$2,Přehled_body!$E$1:$ED$1,0)),)))","v":0},{"$f":"IF(IFERROR(INDEX(Přehled_body!$E$3:$ED$130,MATCH(Tabulka!$AI51,Přehled_body!$A$3:$A$130,0),MATCH(Tabulka!AA$2,Přehled_body!$E$1:$ED$1,0)),)=\"\",,IF(IFERROR(INDEX(Přehled_body!$E$3:$ED$130,MATCH(Tabulka!$AI51,Přehled_body!$A$3:$A$130,0),MATCH(Tabulka!AA$2,Přehled_body!$E$1:$ED$1,0)),)=0,0.00000000001,IFERROR(INDEX(Přehled_body!$E$3:$ED$130,MATCH(Tabulka!$AI51,Přehled_body!$A$3:$A$130,0),MATCH(Tabulka!AA$2,Přehled_body!$E$1:$ED$1,0)),)))","v":0},{"$f":"IF(IFERROR(INDEX(Přehled_body!$E$3:$ED$130,MATCH(Tabulka!$AI51,Přehled_body!$A$3:$A$130,0),MATCH(Tabulka!AB$2,Přehled_body!$E$1:$ED$1,0)),)=\"\",,IF(IFERROR(INDEX(Přehled_body!$E$3:$ED$130,MATCH(Tabulka!$AI51,Přehled_body!$A$3:$A$130,0),MATCH(Tabulka!AB$2,Přehled_body!$E$1:$ED$1,0)),)=0,0.00000000001,IFERROR(INDEX(Přehled_body!$E$3:$ED$130,MATCH(Tabulka!$AI51,Přehled_body!$A$3:$A$130,0),MATCH(Tabulka!AB$2,Přehled_body!$E$1:$ED$1,0)),)))","v":0},{"$f":"IF(IFERROR(INDEX(Přehled_body!$E$3:$ED$130,MATCH(Tabulka!$AI51,Přehled_body!$A$3:$A$130,0),MATCH(Tabulka!AC$2,Přehled_body!$E$1:$ED$1,0)),)=\"\",,IF(IFERROR(INDEX(Přehled_body!$E$3:$ED$130,MATCH(Tabulka!$AI51,Přehled_body!$A$3:$A$130,0),MATCH(Tabulka!AC$2,Přehled_body!$E$1:$ED$1,0)),)=0,0.00000000001,IFERROR(INDEX(Přehled_body!$E$3:$ED$130,MATCH(Tabulka!$AI51,Přehled_body!$A$3:$A$130,0),MATCH(Tabulka!AC$2,Přehled_body!$E$1:$ED$1,0)),)))","v":0},{"$f":"IF(IFERROR(INDEX(Přehled_body!$E$3:$ED$130,MATCH(Tabulka!$AI51,Přehled_body!$A$3:$A$130,0),MATCH(Tabulka!AD$2,Přehled_body!$E$1:$ED$1,0)),)=\"\",,IF(IFERROR(INDEX(Přehled_body!$E$3:$ED$130,MATCH(Tabulka!$AI51,Přehled_body!$A$3:$A$130,0),MATCH(Tabulka!AD$2,Přehled_body!$E$1:$ED$1,0)),)=0,0.00000000001,IFERROR(INDEX(Přehled_body!$E$3:$ED$130,MATCH(Tabulka!$AI51,Přehled_body!$A$3:$A$130,0),MATCH(Tabulka!AD$2,Přehled_body!$E$1:$ED$1,0)),)))","v":0},{"$f":"IF(SUM($D$49:$AD$53)<1,-90000,SUM(D51:AD51))","v":7.00000000005},null,null,null,{"$f":"CONCATENATE($B$50,\" \",$B$51,C51)","v":"Jarda KleinPlaceno panáků"}]
[null,null,"Přehozy",{"$f":"IF(IFERROR(INDEX(Přehled_body!$E$3:$ED$130,MATCH(Tabulka!$AI52,Přehled_body!$A$3:$A$130,0),MATCH(Tabulka!D$2,Přehled_body!$E$1:$ED$1,0)),)=\"\",,IF(IFERROR(INDEX(Přehled_body!$E$3:$ED$130,MATCH(Tabulka!$AI52,Přehled_body!$A$3:$A$130,0),MATCH(Tabulka!D$2,Přehled_body!$E$1:$ED$1,0)),)=0,0.00000000001,IFERROR(INDEX(Přehled_body!$E$3:$ED$130,MATCH(Tabulka!$AI52,Přehled_body!$A$3:$A$130,0),MATCH(Tabulka!D$2,Přehled_body!$E$1:$ED$1,0)),)))","v":3},{"$f":"IF(IFERROR(INDEX(Přehled_body!$E$3:$ED$130,MATCH(Tabulka!$AI52,Přehled_body!$A$3:$A$130,0),MATCH(Tabulka!E$2,Přehled_body!$E$1:$ED$1,0)),)=\"\",,IF(IFERROR(INDEX(Přehled_body!$E$3:$ED$130,MATCH(Tabulka!$AI52,Přehled_body!$A$3:$A$130,0),MATCH(Tabulka!E$2,Přehled_body!$E$1:$ED$1,0)),)=0,0.00000000001,IFERROR(INDEX(Přehled_body!$E$3:$ED$130,MATCH(Tabulka!$AI52,Přehled_body!$A$3:$A$130,0),MATCH(Tabulka!E$2,Přehled_body!$E$1:$ED$1,0)),)))","v":4},{"$f":"IF(IFERROR(INDEX(Přehled_body!$E$3:$ED$130,MATCH(Tabulka!$AI52,Přehled_body!$A$3:$A$130,0),MATCH(Tabulka!F$2,Přehled_body!$E$1:$ED$1,0)),)=\"\",,IF(IFERROR(INDEX(Přehled_body!$E$3:$ED$130,MATCH(Tabulka!$AI52,Přehled_body!$A$3:$A$130,0),MATCH(Tabulka!F$2,Přehled_body!$E$1:$ED$1,0)),)=0,0.00000000001,IFERROR(INDEX(Přehled_body!$E$3:$ED$130,MATCH(Tabulka!$AI52,Přehled_body!$A$3:$A$130,0),MATCH(Tabulka!F$2,Přehled_body!$E$1:$ED$1,0)),)))","v":9.9999999999999994E-12},{"$f":"IF(IFERROR(INDEX(Přehled_body!$E$3:$ED$130,MATCH(Tabulka!$AI52,Přehled_body!$A$3:$A$130,0),MATCH(Tabulka!G$2,Přehled_body!$E$1:$ED$1,0)),)=\"\",,IF(IFERROR(INDEX(Přehled_body!$E$3:$ED$130,MATCH(Tabulka!$AI52,Přehled_body!$A$3:$A$130,0),MATCH(Tabulka!G$2,Přehled_body!$E$1:$ED$1,0)),)=0,0.00000000001,IFERROR(INDEX(Přehled_body!$E$3:$ED$130,MATCH(Tabulka!$AI52,Přehled_body!$A$3:$A$130,0),MATCH(Tabulka!G$2,Přehled_body!$E$1:$ED$1,0)),)))","v":9.9999999999999994E-12},{"$f":"IF(IFERROR(INDEX(Přehled_body!$E$3:$ED$130,MATCH(Tabulka!$AI52,Přehled_body!$A$3:$A$130,0),MATCH(Tabulka!H$2,Přehled_body!$E$1:$ED$1,0)),)=\"\",,IF(IFERROR(INDEX(Přehled_body!$E$3:$ED$130,MATCH(Tabulka!$AI52,Přehled_body!$A$3:$A$130,0),MATCH(Tabulka!H$2,Přehled_body!$E$1:$ED$1,0)),)=0,0.00000000001,IFERROR(INDEX(Přehled_body!$E$3:$ED$130,MATCH(Tabulka!$AI52,Přehled_body!$A$3:$A$130,0),MATCH(Tabulka!H$2,Přehled_body!$E$1:$ED$1,0)),)))","v":3},{"$f":"IF(IFERROR(INDEX(Přehled_body!$E$3:$ED$130,MATCH(Tabulka!$AI52,Přehled_body!$A$3:$A$130,0),MATCH(Tabulka!I$2,Přehled_body!$E$1:$ED$1,0)),)=\"\",,IF(IFERROR(INDEX(Přehled_body!$E$3:$ED$130,MATCH(Tabulka!$AI52,Přehled_body!$A$3:$A$130,0),MATCH(Tabulka!I$2,Přehled_body!$E$1:$ED$1,0)),)=0,0.00000000001,IFERROR(INDEX(Přehled_body!$E$3:$ED$130,MATCH(Tabulka!$AI52,Přehled_body!$A$3:$A$130,0),MATCH(Tabulka!I$2,Přehled_body!$E$1:$ED$1,0)),)))","v":1},{"$f":"IF(IFERROR(INDEX(Přehled_body!$E$3:$ED$130,MATCH(Tabulka!$AI52,Přehled_body!$A$3:$A$130,0),MATCH(Tabulka!J$2,Přehled_body!$E$1:$ED$1,0)),)=\"\",,IF(IFERROR(INDEX(Přehled_body!$E$3:$ED$130,MATCH(Tabulka!$AI52,Přehled_body!$A$3:$A$130,0),MATCH(Tabulka!J$2,Přehled_body!$E$1:$ED$1,0)),)=0,0.00000000001,IFERROR(INDEX(Přehled_body!$E$3:$ED$130,MATCH(Tabulka!$AI52,Přehled_body!$A$3:$A$130,0),MATCH(Tabulka!J$2,Přehled_body!$E$1:$ED$1,0)),)))","v":1},{"$f":"IF(IFERROR(INDEX(Přehled_body!$E$3:$ED$130,MATCH(Tabulka!$AI52,Přehled_body!$A$3:$A$130,0),MATCH(Tabulka!K$2,Přehled_body!$E$1:$ED$1,0)),)=\"\",,IF(IFERROR(INDEX(Přehled_body!$E$3:$ED$130,MATCH(Tabulka!$AI52,Přehled_body!$A$3:$A$130,0),MATCH(Tabulka!K$2,Přehled_body!$E$1:$ED$1,0)),)=0,0.00000000001,IFERROR(INDEX(Přehled_body!$E$3:$ED$130,MATCH(Tabulka!$AI52,Přehled_body!$A$3:$A$130,0),MATCH(Tabulka!K$2,Přehled_body!$E$1:$ED$1,0)),)))","v":0},{"$f":"IF(IFERROR(INDEX(Přehled_body!$E$3:$ED$130,MATCH(Tabulka!$AI52,Přehled_body!$A$3:$A$130,0),MATCH(Tabulka!L$2,Přehled_body!$E$1:$ED$1,0)),)=\"\",,IF(IFERROR(INDEX(Přehled_body!$E$3:$ED$130,MATCH(Tabulka!$AI52,Přehled_body!$A$3:$A$130,0),MATCH(Tabulka!L$2,Přehled_body!$E$1:$ED$1,0)),)=0,0.00000000001,IFERROR(INDEX(Přehled_body!$E$3:$ED$130,MATCH(Tabulka!$AI52,Přehled_body!$A$3:$A$130,0),MATCH(Tabulka!L$2,Přehled_body!$E$1:$ED$1,0)),)))","v":1},{"$f":"IF(IFERROR(INDEX(Přehled_body!$E$3:$ED$130,MATCH(Tabulka!$AI52,Přehled_body!$A$3:$A$130,0),MATCH(Tabulka!M$2,Přehled_body!$E$1:$ED$1,0)),)=\"\",,IF(IFERROR(INDEX(Přehled_body!$E$3:$ED$130,MATCH(Tabulka!$AI52,Přehled_body!$A$3:$A$130,0),MATCH(Tabulka!M$2,Přehled_body!$E$1:$ED$1,0)),)=0,0.00000000001,IFERROR(INDEX(Přehled_body!$E$3:$ED$130,MATCH(Tabulka!$AI52,Přehled_body!$A$3:$A$130,0),MATCH(Tabulka!M$2,Přehled_body!$E$1:$ED$1,0)),)))","v":1},{"$f":"IF(IFERROR(INDEX(Přehled_body!$E$3:$ED$130,MATCH(Tabulka!$AI52,Přehled_body!$A$3:$A$130,0),MATCH(Tabulka!N$2,Přehled_body!$E$1:$ED$1,0)),)=\"\",,IF(IFERROR(INDEX(Přehled_body!$E$3:$ED$130,MATCH(Tabulka!$AI52,Přehled_body!$A$3:$A$130,0),MATCH(Tabulka!N$2,Přehled_body!$E$1:$ED$1,0)),)=0,0.00000000001,IFERROR(INDEX(Přehled_body!$E$3:$ED$130,MATCH(Tabulka!$AI52,Přehled_body!$A$3:$A$130,0),MATCH(Tabulka!N$2,Přehled_body!$E$1:$ED$1,0)),)))","v":0},{"$f":"IF(IFERROR(INDEX(Přehled_body!$E$3:$ED$130,MATCH(Tabulka!$AI52,Přehled_body!$A$3:$A$130,0),MATCH(Tabulka!O$2,Přehled_body!$E$1:$ED$1,0)),)=\"\",,IF(IFERROR(INDEX(Přehled_body!$E$3:$ED$130,MATCH(Tabulka!$AI52,Přehled_body!$A$3:$A$130,0),MATCH(Tabulka!O$2,Přehled_body!$E$1:$ED$1,0)),)=0,0.00000000001,IFERROR(INDEX(Přehled_body!$E$3:$ED$130,MATCH(Tabulka!$AI52,Přehled_body!$A$3:$A$130,0),MATCH(Tabulka!O$2,Přehled_body!$E$1:$ED$1,0)),)))","v":0},{"$f":"IF(IFERROR(INDEX(Přehled_body!$E$3:$ED$130,MATCH(Tabulka!$AI52,Přehled_body!$A$3:$A$130,0),MATCH(Tabulka!P$2,Přehled_body!$E$1:$ED$1,0)),)=\"\",,IF(IFERROR(INDEX(Přehled_body!$E$3:$ED$130,MATCH(Tabulka!$AI52,Přehled_body!$A$3:$A$130,0),MATCH(Tabulka!P$2,Přehled_body!$E$1:$ED$1,0)),)=0,0.00000000001,IFERROR(INDEX(Přehled_body!$E$3:$ED$130,MATCH(Tabulka!$AI52,Přehled_body!$A$3:$A$130,0),MATCH(Tabulka!P$2,Přehled_body!$E$1:$ED$1,0)),)))","v":0},{"$f":"IF(IFERROR(INDEX(Přehled_body!$E$3:$ED$130,MATCH(Tabulka!$AI52,Přehled_body!$A$3:$A$130,0),MATCH(Tabulka!Q$2,Přehled_body!$E$1:$ED$1,0)),)=\"\",,IF(IFERROR(INDEX(Přehled_body!$E$3:$ED$130,MATCH(Tabulka!$AI52,Přehled_body!$A$3:$A$130,0),MATCH(Tabulka!Q$2,Přehled_body!$E$1:$ED$1,0)),)=0,0.00000000001,IFERROR(INDEX(Přehled_body!$E$3:$ED$130,MATCH(Tabulka!$AI52,Přehled_body!$A$3:$A$130,0),MATCH(Tabulka!Q$2,Přehled_body!$E$1:$ED$1,0)),)))","v":0},{"$f":"IF(IFERROR(INDEX(Přehled_body!$E$3:$ED$130,MATCH(Tabulka!$AI52,Přehled_body!$A$3:$A$130,0),MATCH(Tabulka!R$2,Přehled_body!$E$1:$ED$1,0)),)=\"\",,IF(IFERROR(INDEX(Přehled_body!$E$3:$ED$130,MATCH(Tabulka!$AI52,Přehled_body!$A$3:$A$130,0),MATCH(Tabulka!R$2,Přehled_body!$E$1:$ED$1,0)),)=0,0.00000000001,IFERROR(INDEX(Přehled_body!$E$3:$ED$130,MATCH(Tabulka!$AI52,Přehled_body!$A$3:$A$130,0),MATCH(Tabulka!R$2,Přehled_body!$E$1:$ED$1,0)),)))","v":0},{"$f":"IF(IFERROR(INDEX(Přehled_body!$E$3:$ED$130,MATCH(Tabulka!$AI52,Přehled_body!$A$3:$A$130,0),MATCH(Tabulka!S$2,Přehled_body!$E$1:$ED$1,0)),)=\"\",,IF(IFERROR(INDEX(Přehled_body!$E$3:$ED$130,MATCH(Tabulka!$AI52,Přehled_body!$A$3:$A$130,0),MATCH(Tabulka!S$2,Přehled_body!$E$1:$ED$1,0)),)=0,0.00000000001,IFERROR(INDEX(Přehled_body!$E$3:$ED$130,MATCH(Tabulka!$AI52,Přehled_body!$A$3:$A$130,0),MATCH(Tabulka!S$2,Přehled_body!$E$1:$ED$1,0)),)))","v":0},{"$f":"IF(IFERROR(INDEX(Přehled_body!$E$3:$ED$130,MATCH(Tabulka!$AI52,Přehled_body!$A$3:$A$130,0),MATCH(Tabulka!T$2,Přehled_body!$E$1:$ED$1,0)),)=\"\",,IF(IFERROR(INDEX(Přehled_body!$E$3:$ED$130,MATCH(Tabulka!$AI52,Přehled_body!$A$3:$A$130,0),MATCH(Tabulka!T$2,Přehled_body!$E$1:$ED$1,0)),)=0,0.00000000001,IFERROR(INDEX(Přehled_body!$E$3:$ED$130,MATCH(Tabulka!$AI52,Přehled_body!$A$3:$A$130,0),MATCH(Tabulka!T$2,Přehled_body!$E$1:$ED$1,0)),)))","v":0},{"$f":"IF(IFERROR(INDEX(Přehled_body!$E$3:$ED$130,MATCH(Tabulka!$AI52,Přehled_body!$A$3:$A$130,0),MATCH(Tabulka!U$2,Přehled_body!$E$1:$ED$1,0)),)=\"\",,IF(IFERROR(INDEX(Přehled_body!$E$3:$ED$130,MATCH(Tabulka!$AI52,Přehled_body!$A$3:$A$130,0),MATCH(Tabulka!U$2,Přehled_body!$E$1:$ED$1,0)),)=0,0.00000000001,IFERROR(INDEX(Přehled_body!$E$3:$ED$130,MATCH(Tabulka!$AI52,Přehled_body!$A$3:$A$130,0),MATCH(Tabulka!U$2,Přehled_body!$E$1:$ED$1,0)),)))","v":0},{"$f":"IF(IFERROR(INDEX(Přehled_body!$E$3:$ED$130,MATCH(Tabulka!$AI52,Přehled_body!$A$3:$A$130,0),MATCH(Tabulka!V$2,Přehled_body!$E$1:$ED$1,0)),)=\"\",,IF(IFERROR(INDEX(Přehled_body!$E$3:$ED$130,MATCH(Tabulka!$AI52,Přehled_body!$A$3:$A$130,0),MATCH(Tabulka!V$2,Přehled_body!$E$1:$ED$1,0)),)=0,0.00000000001,IFERROR(INDEX(Přehled_body!$E$3:$ED$130,MATCH(Tabulka!$AI52,Přehled_body!$A$3:$A$130,0),MATCH(Tabulka!V$2,Přehled_body!$E$1:$ED$1,0)),)))","v":0},{"$f":"IF(IFERROR(INDEX(Přehled_body!$E$3:$ED$130,MATCH(Tabulka!$AI52,Přehled_body!$A$3:$A$130,0),MATCH(Tabulka!W$2,Přehled_body!$E$1:$ED$1,0)),)=\"\",,IF(IFERROR(INDEX(Přehled_body!$E$3:$ED$130,MATCH(Tabulka!$AI52,Přehled_body!$A$3:$A$130,0),MATCH(Tabulka!W$2,Přehled_body!$E$1:$ED$1,0)),)=0,0.00000000001,IFERROR(INDEX(Přehled_body!$E$3:$ED$130,MATCH(Tabulka!$AI52,Přehled_body!$A$3:$A$130,0),MATCH(Tabulka!W$2,Přehled_body!$E$1:$ED$1,0)),)))","v":0},{"$f":"IF(IFERROR(INDEX(Přehled_body!$E$3:$ED$130,MATCH(Tabulka!$AI52,Přehled_body!$A$3:$A$130,0),MATCH(Tabulka!X$2,Přehled_body!$E$1:$ED$1,0)),)=\"\",,IF(IFERROR(INDEX(Přehled_body!$E$3:$ED$130,MATCH(Tabulka!$AI52,Přehled_body!$A$3:$A$130,0),MATCH(Tabulka!X$2,Přehled_body!$E$1:$ED$1,0)),)=0,0.00000000001,IFERROR(INDEX(Přehled_body!$E$3:$ED$130,MATCH(Tabulka!$AI52,Přehled_body!$A$3:$A$130,0),MATCH(Tabulka!X$2,Přehled_body!$E$1:$ED$1,0)),)))","v":0},{"$f":"IF(IFERROR(INDEX(Přehled_body!$E$3:$ED$130,MATCH(Tabulka!$AI52,Přehled_body!$A$3:$A$130,0),MATCH(Tabulka!Y$2,Přehled_body!$E$1:$ED$1,0)),)=\"\",,IF(IFERROR(INDEX(Přehled_body!$E$3:$ED$130,MATCH(Tabulka!$AI52,Přehled_body!$A$3:$A$130,0),MATCH(Tabulka!Y$2,Přehled_body!$E$1:$ED$1,0)),)=0,0.00000000001,IFERROR(INDEX(Přehled_body!$E$3:$ED$130,MATCH(Tabulka!$AI52,Přehled_body!$A$3:$A$130,0),MATCH(Tabulka!Y$2,Přehled_body!$E$1:$ED$1,0)),)))","v":0},{"$f":"IF(IFERROR(INDEX(Přehled_body!$E$3:$ED$130,MATCH(Tabulka!$AI52,Přehled_body!$A$3:$A$130,0),MATCH(Tabulka!Z$2,Přehled_body!$E$1:$ED$1,0)),)=\"\",,IF(IFERROR(INDEX(Přehled_body!$E$3:$ED$130,MATCH(Tabulka!$AI52,Přehled_body!$A$3:$A$130,0),MATCH(Tabulka!Z$2,Přehled_body!$E$1:$ED$1,0)),)=0,0.00000000001,IFERROR(INDEX(Přehled_body!$E$3:$ED$130,MATCH(Tabulka!$AI52,Přehled_body!$A$3:$A$130,0),MATCH(Tabulka!Z$2,Přehled_body!$E$1:$ED$1,0)),)))","v":0},{"$f":"IF(IFERROR(INDEX(Přehled_body!$E$3:$ED$130,MATCH(Tabulka!$AI52,Přehled_body!$A$3:$A$130,0),MATCH(Tabulka!AA$2,Přehled_body!$E$1:$ED$1,0)),)=\"\",,IF(IFERROR(INDEX(Přehled_body!$E$3:$ED$130,MATCH(Tabulka!$AI52,Přehled_body!$A$3:$A$130,0),MATCH(Tabulka!AA$2,Přehled_body!$E$1:$ED$1,0)),)=0,0.00000000001,IFERROR(INDEX(Přehled_body!$E$3:$ED$130,MATCH(Tabulka!$AI52,Přehled_body!$A$3:$A$130,0),MATCH(Tabulka!AA$2,Přehled_body!$E$1:$ED$1,0)),)))","v":0},{"$f":"IF(IFERROR(INDEX(Přehled_body!$E$3:$ED$130,MATCH(Tabulka!$AI52,Přehled_body!$A$3:$A$130,0),MATCH(Tabulka!AB$2,Přehled_body!$E$1:$ED$1,0)),)=\"\",,IF(IFERROR(INDEX(Přehled_body!$E$3:$ED$130,MATCH(Tabulka!$AI52,Přehled_body!$A$3:$A$130,0),MATCH(Tabulka!AB$2,Přehled_body!$E$1:$ED$1,0)),)=0,0.00000000001,IFERROR(INDEX(Přehled_body!$E$3:$ED$130,MATCH(Tabulka!$AI52,Přehled_body!$A$3:$A$130,0),MATCH(Tabulka!AB$2,Přehled_body!$E$1:$ED$1,0)),)))","v":0},{"$f":"IF(IFERROR(INDEX(Přehled_body!$E$3:$ED$130,MATCH(Tabulka!$AI52,Přehled_body!$A$3:$A$130,0),MATCH(Tabulka!AC$2,Přehled_body!$E$1:$ED$1,0)),)=\"\",,IF(IFERROR(INDEX(Přehled_body!$E$3:$ED$130,MATCH(Tabulka!$AI52,Přehled_body!$A$3:$A$130,0),MATCH(Tabulka!AC$2,Přehled_body!$E$1:$ED$1,0)),)=0,0.00000000001,IFERROR(INDEX(Přehled_body!$E$3:$ED$130,MATCH(Tabulka!$AI52,Přehled_body!$A$3:$A$130,0),MATCH(Tabulka!AC$2,Přehled_body!$E$1:$ED$1,0)),)))","v":0},{"$f":"IF(IFERROR(INDEX(Přehled_body!$E$3:$ED$130,MATCH(Tabulka!$AI52,Přehled_body!$A$3:$A$130,0),MATCH(Tabulka!AD$2,Přehled_body!$E$1:$ED$1,0)),)=\"\",,IF(IFERROR(INDEX(Přehled_body!$E$3:$ED$130,MATCH(Tabulka!$AI52,Přehled_body!$A$3:$A$130,0),MATCH(Tabulka!AD$2,Přehled_body!$E$1:$ED$1,0)),)=0,0.00000000001,IFERROR(INDEX(Přehled_body!$E$3:$ED$130,MATCH(Tabulka!$AI52,Přehled_body!$A$3:$A$130,0),MATCH(Tabulka!AD$2,Přehled_body!$E$1:$ED$1,0)),)))","v":0},{"$f":"IF(SUM($D$49:$AD$53)<1,-90000,SUM(D52:AD52))","v":14.00000000002},null,null,null,{"$f":"CONCATENATE($B$50,\" \",$B$51,C52)","v":"Jarda KleinPřehozy"}]
[null,null,"Poč. kol",{"$f":"IF(IFERROR(INDEX(Přehled_body!$E$3:$ED$130,MATCH(Tabulka!$AI53,Přehled_body!$A$3:$A$130,0),MATCH(Tabulka!D$2,Přehled_body!$E$1:$ED$1,0)),)=\"\",,IF(IFERROR(INDEX(Přehled_body!$E$3:$ED$130,MATCH(Tabulka!$AI53,Přehled_body!$A$3:$A$130,0),MATCH(Tabulka!D$2,Přehled_body!$E$1:$ED$1,0)),)=0,0.00000000001,IFERROR(INDEX(Přehled_body!$E$3:$ED$130,MATCH(Tabulka!$AI53,Přehled_body!$A$3:$A$130,0),MATCH(Tabulka!D$2,Přehled_body!$E$1:$ED$1,0)),)))","v":4},{"$f":"IF(IFERROR(INDEX(Přehled_body!$E$3:$ED$130,MATCH(Tabulka!$AI53,Přehled_body!$A$3:$A$130,0),MATCH(Tabulka!E$2,Přehled_body!$E$1:$ED$1,0)),)=\"\",,IF(IFERROR(INDEX(Přehled_body!$E$3:$ED$130,MATCH(Tabulka!$AI53,Přehled_body!$A$3:$A$130,0),MATCH(Tabulka!E$2,Přehled_body!$E$1:$ED$1,0)),)=0,0.00000000001,IFERROR(INDEX(Přehled_body!$E$3:$ED$130,MATCH(Tabulka!$AI53,Přehled_body!$A$3:$A$130,0),MATCH(Tabulka!E$2,Přehled_body!$E$1:$ED$1,0)),)))","v":4},{"$f":"IF(IFERROR(INDEX(Přehled_body!$E$3:$ED$130,MATCH(Tabulka!$AI53,Přehled_body!$A$3:$A$130,0),MATCH(Tabulka!F$2,Přehled_body!$E$1:$ED$1,0)),)=\"\",,IF(IFERROR(INDEX(Přehled_body!$E$3:$ED$130,MATCH(Tabulka!$AI53,Přehled_body!$A$3:$A$130,0),MATCH(Tabulka!F$2,Přehled_body!$E$1:$ED$1,0)),)=0,0.00000000001,IFERROR(INDEX(Přehled_body!$E$3:$ED$130,MATCH(Tabulka!$AI53,Přehled_body!$A$3:$A$130,0),MATCH(Tabulka!F$2,Přehled_body!$E$1:$ED$1,0)),)))","v":4},{"$f":"IF(IFERROR(INDEX(Přehled_body!$E$3:$ED$130,MATCH(Tabulka!$AI53,Přehled_body!$A$3:$A$130,0),MATCH(Tabulka!G$2,Přehled_body!$E$1:$ED$1,0)),)=\"\",,IF(IFERROR(INDEX(Přehled_body!$E$3:$ED$130,MATCH(Tabulka!$AI53,Přehled_body!$A$3:$A$130,0),MATCH(Tabulka!G$2,Přehled_body!$E$1:$ED$1,0)),)=0,0.00000000001,IFERROR(INDEX(Přehled_body!$E$3:$ED$130,MATCH(Tabulka!$AI53,Přehled_body!$A$3:$A$130,0),MATCH(Tabulka!G$2,Přehled_body!$E$1:$ED$1,0)),)))","v":4},{"$f":"IF(IFERROR(INDEX(Přehled_body!$E$3:$ED$130,MATCH(Tabulka!$AI53,Přehled_body!$A$3:$A$130,0),MATCH(Tabulka!H$2,Přehled_body!$E$1:$ED$1,0)),)=\"\",,IF(IFERROR(INDEX(Přehled_body!$E$3:$ED$130,MATCH(Tabulka!$AI53,Přehled_body!$A$3:$A$130,0),MATCH(Tabulka!H$2,Přehled_body!$E$1:$ED$1,0)),)=0,0.00000000001,IFERROR(INDEX(Přehled_body!$E$3:$ED$130,MATCH(Tabulka!$AI53,Přehled_body!$A$3:$A$130,0),MATCH(Tabulka!H$2,Přehled_body!$E$1:$ED$1,0)),)))","v":4},{"$f":"IF(IFERROR(INDEX(Přehled_body!$E$3:$ED$130,MATCH(Tabulka!$AI53,Přehled_body!$A$3:$A$130,0),MATCH(Tabulka!I$2,Přehled_body!$E$1:$ED$1,0)),)=\"\",,IF(IFERROR(INDEX(Přehled_body!$E$3:$ED$130,MATCH(Tabulka!$AI53,Přehled_body!$A$3:$A$130,0),MATCH(Tabulka!I$2,Přehled_body!$E$1:$ED$1,0)),)=0,0.00000000001,IFERROR(INDEX(Přehled_body!$E$3:$ED$130,MATCH(Tabulka!$AI53,Přehled_body!$A$3:$A$130,0),MATCH(Tabulka!I$2,Přehled_body!$E$1:$ED$1,0)),)))","v":4},{"$f":"IF(IFERROR(INDEX(Přehled_body!$E$3:$ED$130,MATCH(Tabulka!$AI53,Přehled_body!$A$3:$A$130,0),MATCH(Tabulka!J$2,Přehled_body!$E$1:$ED$1,0)),)=\"\",,IF(IFERROR(INDEX(Přehled_body!$E$3:$ED$130,MATCH(Tabulka!$AI53,Přehled_body!$A$3:$A$130,0),MATCH(Tabulka!J$2,Přehled_body!$E$1:$ED$1,0)),)=0,0.00000000001,IFERROR(INDEX(Přehled_body!$E$3:$ED$130,MATCH(Tabulka!$AI53,Přehled_body!$A$3:$A$130,0),MATCH(Tabulka!J$2,Přehled_body!$E$1:$ED$1,0)),)))","v":4},{"$f":"IF(IFERROR(INDEX(Přehled_body!$E$3:$ED$130,MATCH(Tabulka!$AI53,Přehled_body!$A$3:$A$130,0),MATCH(Tabulka!K$2,Přehled_body!$E$1:$ED$1,0)),)=\"\",,IF(IFERROR(INDEX(Přehled_body!$E$3:$ED$130,MATCH(Tabulka!$AI53,Přehled_body!$A$3:$A$130,0),MATCH(Tabulka!K$2,Přehled_body!$E$1:$ED$1,0)),)=0,0.00000000001,IFERROR(INDEX(Přehled_body!$E$3:$ED$130,MATCH(Tabulka!$AI53,Přehled_body!$A$3:$A$130,0),MATCH(Tabulka!K$2,Přehled_body!$E$1:$ED$1,0)),)))","v":0},{"$f":"IF(IFERROR(INDEX(Přehled_body!$E$3:$ED$130,MATCH(Tabulka!$AI53,Přehled_body!$A$3:$A$130,0),MATCH(Tabulka!L$2,Přehled_body!$E$1:$ED$1,0)),)=\"\",,IF(IFERROR(INDEX(Přehled_body!$E$3:$ED$130,MATCH(Tabulka!$AI53,Přehled_body!$A$3:$A$130,0),MATCH(Tabulka!L$2,Přehled_body!$E$1:$ED$1,0)),)=0,0.00000000001,IFERROR(INDEX(Přehled_body!$E$3:$ED$130,MATCH(Tabulka!$AI53,Přehled_body!$A$3:$A$130,0),MATCH(Tabulka!L$2,Přehled_body!$E$1:$ED$1,0)),)))","v":3},{"$f":"IF(IFERROR(INDEX(Přehled_body!$E$3:$ED$130,MATCH(Tabulka!$AI53,Přehled_body!$A$3:$A$130,0),MATCH(Tabulka!M$2,Přehled_body!$E$1:$ED$1,0)),)=\"\",,IF(IFERROR(INDEX(Přehled_body!$E$3:$ED$130,MATCH(Tabulka!$AI53,Přehled_body!$A$3:$A$130,0),MATCH(Tabulka!M$2,Přehled_body!$E$1:$ED$1,0)),)=0,0.00000000001,IFERROR(INDEX(Přehled_body!$E$3:$ED$130,MATCH(Tabulka!$AI53,Přehled_body!$A$3:$A$130,0),MATCH(Tabulka!M$2,Přehled_body!$E$1:$ED$1,0)),)))","v":4},{"$f":"IF(IFERROR(INDEX(Přehled_body!$E$3:$ED$130,MATCH(Tabulka!$AI53,Přehled_body!$A$3:$A$130,0),MATCH(Tabulka!N$2,Přehled_body!$E$1:$ED$1,0)),)=\"\",,IF(IFERROR(INDEX(Přehled_body!$E$3:$ED$130,MATCH(Tabulka!$AI53,Přehled_body!$A$3:$A$130,0),MATCH(Tabulka!N$2,Přehled_body!$E$1:$ED$1,0)),)=0,0.00000000001,IFERROR(INDEX(Přehled_body!$E$3:$ED$130,MATCH(Tabulka!$AI53,Přehled_body!$A$3:$A$130,0),MATCH(Tabulka!N$2,Přehled_body!$E$1:$ED$1,0)),)))","v":0},{"$f":"IF(IFERROR(INDEX(Přehled_body!$E$3:$ED$130,MATCH(Tabulka!$AI53,Přehled_body!$A$3:$A$130,0),MATCH(Tabulka!O$2,Přehled_body!$E$1:$ED$1,0)),)=\"\",,IF(IFERROR(INDEX(Přehled_body!$E$3:$ED$130,MATCH(Tabulka!$AI53,Přehled_body!$A$3:$A$130,0),MATCH(Tabulka!O$2,Přehled_body!$E$1:$ED$1,0)),)=0,0.00000000001,IFERROR(INDEX(Přehled_body!$E$3:$ED$130,MATCH(Tabulka!$AI53,Přehled_body!$A$3:$A$130,0),MATCH(Tabulka!O$2,Přehled_body!$E$1:$ED$1,0)),)))","v":0},{"$f":"IF(IFERROR(INDEX(Přehled_body!$E$3:$ED$130,MATCH(Tabulka!$AI53,Přehled_body!$A$3:$A$130,0),MATCH(Tabulka!P$2,Přehled_body!$E$1:$ED$1,0)),)=\"\",,IF(IFERROR(INDEX(Přehled_body!$E$3:$ED$130,MATCH(Tabulka!$AI53,Přehled_body!$A$3:$A$130,0),MATCH(Tabulka!P$2,Přehled_body!$E$1:$ED$1,0)),)=0,0.00000000001,IFERROR(INDEX(Přehled_body!$E$3:$ED$130,MATCH(Tabulka!$AI53,Přehled_body!$A$3:$A$130,0),MATCH(Tabulka!P$2,Přehled_body!$E$1:$ED$1,0)),)))","v":0},{"$f":"IF(IFERROR(INDEX(Přehled_body!$E$3:$ED$130,MATCH(Tabulka!$AI53,Přehled_body!$A$3:$A$130,0),MATCH(Tabulka!Q$2,Přehled_body!$E$1:$ED$1,0)),)=\"\",,IF(IFERROR(INDEX(Přehled_body!$E$3:$ED$130,MATCH(Tabulka!$AI53,Přehled_body!$A$3:$A$130,0),MATCH(Tabulka!Q$2,Přehled_body!$E$1:$ED$1,0)),)=0,0.00000000001,IFERROR(INDEX(Přehled_body!$E$3:$ED$130,MATCH(Tabulka!$AI53,Přehled_body!$A$3:$A$130,0),MATCH(Tabulka!Q$2,Přehled_body!$E$1:$ED$1,0)),)))","v":0},{"$f":"IF(IFERROR(INDEX(Přehled_body!$E$3:$ED$130,MATCH(Tabulka!$AI53,Přehled_body!$A$3:$A$130,0),MATCH(Tabulka!R$2,Přehled_body!$E$1:$ED$1,0)),)=\"\",,IF(IFERROR(INDEX(Přehled_body!$E$3:$ED$130,MATCH(Tabulka!$AI53,Přehled_body!$A$3:$A$130,0),MATCH(Tabulka!R$2,Přehled_body!$E$1:$ED$1,0)),)=0,0.00000000001,IFERROR(INDEX(Přehled_body!$E$3:$ED$130,MATCH(Tabulka!$AI53,Přehled_body!$A$3:$A$130,0),MATCH(Tabulka!R$2,Přehled_body!$E$1:$ED$1,0)),)))","v":0},{"$f":"IF(IFERROR(INDEX(Přehled_body!$E$3:$ED$130,MATCH(Tabulka!$AI53,Přehled_body!$A$3:$A$130,0),MATCH(Tabulka!S$2,Přehled_body!$E$1:$ED$1,0)),)=\"\",,IF(IFERROR(INDEX(Přehled_body!$E$3:$ED$130,MATCH(Tabulka!$AI53,Přehled_body!$A$3:$A$130,0),MATCH(Tabulka!S$2,Přehled_body!$E$1:$ED$1,0)),)=0,0.00000000001,IFERROR(INDEX(Přehled_body!$E$3:$ED$130,MATCH(Tabulka!$AI53,Přehled_body!$A$3:$A$130,0),MATCH(Tabulka!S$2,Přehled_body!$E$1:$ED$1,0)),)))","v":0},{"$f":"IF(IFERROR(INDEX(Přehled_body!$E$3:$ED$130,MATCH(Tabulka!$AI53,Přehled_body!$A$3:$A$130,0),MATCH(Tabulka!T$2,Přehled_body!$E$1:$ED$1,0)),)=\"\",,IF(IFERROR(INDEX(Přehled_body!$E$3:$ED$130,MATCH(Tabulka!$AI53,Přehled_body!$A$3:$A$130,0),MATCH(Tabulka!T$2,Přehled_body!$E$1:$ED$1,0)),)=0,0.00000000001,IFERROR(INDEX(Přehled_body!$E$3:$ED$130,MATCH(Tabulka!$AI53,Přehled_body!$A$3:$A$130,0),MATCH(Tabulka!T$2,Přehled_body!$E$1:$ED$1,0)),)))","v":0},{"$f":"IF(IFERROR(INDEX(Přehled_body!$E$3:$ED$130,MATCH(Tabulka!$AI53,Přehled_body!$A$3:$A$130,0),MATCH(Tabulka!U$2,Přehled_body!$E$1:$ED$1,0)),)=\"\",,IF(IFERROR(INDEX(Přehled_body!$E$3:$ED$130,MATCH(Tabulka!$AI53,Přehled_body!$A$3:$A$130,0),MATCH(Tabulka!U$2,Přehled_body!$E$1:$ED$1,0)),)=0,0.00000000001,IFERROR(INDEX(Přehled_body!$E$3:$ED$130,MATCH(Tabulka!$AI53,Přehled_body!$A$3:$A$130,0),MATCH(Tabulka!U$2,Přehled_body!$E$1:$ED$1,0)),)))","v":0},{"$f":"IF(IFERROR(INDEX(Přehled_body!$E$3:$ED$130,MATCH(Tabulka!$AI53,Přehled_body!$A$3:$A$130,0),MATCH(Tabulka!V$2,Přehled_body!$E$1:$ED$1,0)),)=\"\",,IF(IFERROR(INDEX(Přehled_body!$E$3:$ED$130,MATCH(Tabulka!$AI53,Přehled_body!$A$3:$A$130,0),MATCH(Tabulka!V$2,Přehled_body!$E$1:$ED$1,0)),)=0,0.00000000001,IFERROR(INDEX(Přehled_body!$E$3:$ED$130,MATCH(Tabulka!$AI53,Přehled_body!$A$3:$A$130,0),MATCH(Tabulka!V$2,Přehled_body!$E$1:$ED$1,0)),)))","v":0},{"$f":"IF(IFERROR(INDEX(Přehled_body!$E$3:$ED$130,MATCH(Tabulka!$AI53,Přehled_body!$A$3:$A$130,0),MATCH(Tabulka!W$2,Přehled_body!$E$1:$ED$1,0)),)=\"\",,IF(IFERROR(INDEX(Přehled_body!$E$3:$ED$130,MATCH(Tabulka!$AI53,Přehled_body!$A$3:$A$130,0),MATCH(Tabulka!W$2,Přehled_body!$E$1:$ED$1,0)),)=0,0.00000000001,IFERROR(INDEX(Přehled_body!$E$3:$ED$130,MATCH(Tabulka!$AI53,Přehled_body!$A$3:$A$130,0),MATCH(Tabulka!W$2,Přehled_body!$E$1:$ED$1,0)),)))","v":0},{"$f":"IF(IFERROR(INDEX(Přehled_body!$E$3:$ED$130,MATCH(Tabulka!$AI53,Přehled_body!$A$3:$A$130,0),MATCH(Tabulka!X$2,Přehled_body!$E$1:$ED$1,0)),)=\"\",,IF(IFERROR(INDEX(Přehled_body!$E$3:$ED$130,MATCH(Tabulka!$AI53,Přehled_body!$A$3:$A$130,0),MATCH(Tabulka!X$2,Přehled_body!$E$1:$ED$1,0)),)=0,0.00000000001,IFERROR(INDEX(Přehled_body!$E$3:$ED$130,MATCH(Tabulka!$AI53,Přehled_body!$A$3:$A$130,0),MATCH(Tabulka!X$2,Přehled_body!$E$1:$ED$1,0)),)))","v":0},{"$f":"IF(IFERROR(INDEX(Přehled_body!$E$3:$ED$130,MATCH(Tabulka!$AI53,Přehled_body!$A$3:$A$130,0),MATCH(Tabulka!Y$2,Přehled_body!$E$1:$ED$1,0)),)=\"\",,IF(IFERROR(INDEX(Přehled_body!$E$3:$ED$130,MATCH(Tabulka!$AI53,Přehled_body!$A$3:$A$130,0),MATCH(Tabulka!Y$2,Přehled_body!$E$1:$ED$1,0)),)=0,0.00000000001,IFERROR(INDEX(Přehled_body!$E$3:$ED$130,MATCH(Tabulka!$AI53,Přehled_body!$A$3:$A$130,0),MATCH(Tabulka!Y$2,Přehled_body!$E$1:$ED$1,0)),)))","v":0},{"$f":"IF(IFERROR(INDEX(Přehled_body!$E$3:$ED$130,MATCH(Tabulka!$AI53,Přehled_body!$A$3:$A$130,0),MATCH(Tabulka!Z$2,Přehled_body!$E$1:$ED$1,0)),)=\"\",,IF(IFERROR(INDEX(Přehled_body!$E$3:$ED$130,MATCH(Tabulka!$AI53,Přehled_body!$A$3:$A$130,0),MATCH(Tabulka!Z$2,Přehled_body!$E$1:$ED$1,0)),)=0,0.00000000001,IFERROR(INDEX(Přehled_body!$E$3:$ED$130,MATCH(Tabulka!$AI53,Přehled_body!$A$3:$A$130,0),MATCH(Tabulka!Z$2,Přehled_body!$E$1:$ED$1,0)),)))","v":0},{"$f":"IF(IFERROR(INDEX(Přehled_body!$E$3:$ED$130,MATCH(Tabulka!$AI53,Přehled_body!$A$3:$A$130,0),MATCH(Tabulka!AA$2,Přehled_body!$E$1:$ED$1,0)),)=\"\",,IF(IFERROR(INDEX(Přehled_body!$E$3:$ED$130,MATCH(Tabulka!$AI53,Přehled_body!$A$3:$A$130,0),MATCH(Tabulka!AA$2,Přehled_body!$E$1:$ED$1,0)),)=0,0.00000000001,IFERROR(INDEX(Přehled_body!$E$3:$ED$130,MATCH(Tabulka!$AI53,Přehled_body!$A$3:$A$130,0),MATCH(Tabulka!AA$2,Přehled_body!$E$1:$ED$1,0)),)))","v":0},{"$f":"IF(IFERROR(INDEX(Přehled_body!$E$3:$ED$130,MATCH(Tabulka!$AI53,Přehled_body!$A$3:$A$130,0),MATCH(Tabulka!AB$2,Přehled_body!$E$1:$ED$1,0)),)=\"\",,IF(IFERROR(INDEX(Přehled_body!$E$3:$ED$130,MATCH(Tabulka!$AI53,Přehled_body!$A$3:$A$130,0),MATCH(Tabulka!AB$2,Přehled_body!$E$1:$ED$1,0)),)=0,0.00000000001,IFERROR(INDEX(Přehled_body!$E$3:$ED$130,MATCH(Tabulka!$AI53,Přehled_body!$A$3:$A$130,0),MATCH(Tabulka!AB$2,Přehled_body!$E$1:$ED$1,0)),)))","v":0},{"$f":"IF(IFERROR(INDEX(Přehled_body!$E$3:$ED$130,MATCH(Tabulka!$AI53,Přehled_body!$A$3:$A$130,0),MATCH(Tabulka!AC$2,Přehled_body!$E$1:$ED$1,0)),)=\"\",,IF(IFERROR(INDEX(Přehled_body!$E$3:$ED$130,MATCH(Tabulka!$AI53,Přehled_body!$A$3:$A$130,0),MATCH(Tabulka!AC$2,Přehled_body!$E$1:$ED$1,0)),)=0,0.00000000001,IFERROR(INDEX(Přehled_body!$E$3:$ED$130,MATCH(Tabulka!$AI53,Přehled_body!$A$3:$A$130,0),MATCH(Tabulka!AC$2,Přehled_body!$E$1:$ED$1,0)),)))","v":0},{"$f":"IF(IFERROR(INDEX(Přehled_body!$E$3:$ED$130,MATCH(Tabulka!$AI53,Přehled_body!$A$3:$A$130,0),MATCH(Tabulka!AD$2,Přehled_body!$E$1:$ED$1,0)),)=\"\",,IF(IFERROR(INDEX(Přehled_body!$E$3:$ED$130,MATCH(Tabulka!$AI53,Přehled_body!$A$3:$A$130,0),MATCH(Tabulka!AD$2,Přehled_body!$E$1:$ED$1,0)),)=0,0.00000000001,IFERROR(INDEX(Přehled_body!$E$3:$ED$130,MATCH(Tabulka!$AI53,Přehled_body!$A$3:$A$130,0),MATCH(Tabulka!AD$2,Přehled_body!$E$1:$ED$1,0)),)))","v":0},{"$f":"IF(SUM($D$49:$AD$53)<1,-90000,SUM(D53:AD53))","v":35},null,null,null,{"$f":"CONCATENATE($B$50,\" \",$B$51,C53)","v":"Jarda KleinPoč. kol"}]
[null,null,"Výhry",{"$f":"IF(IFERROR(INDEX(Přehled_body!$E$3:$ED$130,MATCH(Tabulka!$AI54,Přehled_body!$A$3:$A$130,0),MATCH(Tabulka!D$2,Přehled_body!$E$1:$ED$1,0)),)=\"\",,IF(IFERROR(INDEX(Přehled_body!$E$3:$ED$130,MATCH(Tabulka!$AI54,Přehled_body!$A$3:$A$130,0),MATCH(Tabulka!D$2,Přehled_body!$E$1:$ED$1,0)),)=0,0.00000000001,IFERROR(INDEX(Přehled_body!$E$3:$ED$130,MATCH(Tabulka!$AI54,Přehled_body!$A$3:$A$130,0),MATCH(Tabulka!D$2,Přehled_body!$E$1:$ED$1,0)),)))","v":1},{"$f":"IF(IFERROR(INDEX(Přehled_body!$E$3:$ED$130,MATCH(Tabulka!$AI54,Přehled_body!$A$3:$A$130,0),MATCH(Tabulka!E$2,Přehled_body!$E$1:$ED$1,0)),)=\"\",,IF(IFERROR(INDEX(Přehled_body!$E$3:$ED$130,MATCH(Tabulka!$AI54,Přehled_body!$A$3:$A$130,0),MATCH(Tabulka!E$2,Přehled_body!$E$1:$ED$1,0)),)=0,0.00000000001,IFERROR(INDEX(Přehled_body!$E$3:$ED$130,MATCH(Tabulka!$AI54,Přehled_body!$A$3:$A$130,0),MATCH(Tabulka!E$2,Přehled_body!$E$1:$ED$1,0)),)))","v":0},{"$f":"IF(IFERROR(INDEX(Přehled_body!$E$3:$ED$130,MATCH(Tabulka!$AI54,Přehled_body!$A$3:$A$130,0),MATCH(Tabulka!F$2,Přehled_body!$E$1:$ED$1,0)),)=\"\",,IF(IFERROR(INDEX(Přehled_body!$E$3:$ED$130,MATCH(Tabulka!$AI54,Přehled_body!$A$3:$A$130,0),MATCH(Tabulka!F$2,Přehled_body!$E$1:$ED$1,0)),)=0,0.00000000001,IFERROR(INDEX(Přehled_body!$E$3:$ED$130,MATCH(Tabulka!$AI54,Přehled_body!$A$3:$A$130,0),MATCH(Tabulka!F$2,Přehled_body!$E$1:$ED$1,0)),)))","v":0},{"$f":"IF(IFERROR(INDEX(Přehled_body!$E$3:$ED$130,MATCH(Tabulka!$AI54,Přehled_body!$A$3:$A$130,0),MATCH(Tabulka!G$2,Přehled_body!$E$1:$ED$1,0)),)=\"\",,IF(IFERROR(INDEX(Přehled_body!$E$3:$ED$130,MATCH(Tabulka!$AI54,Přehled_body!$A$3:$A$130,0),MATCH(Tabulka!G$2,Přehled_body!$E$1:$ED$1,0)),)=0,0.00000000001,IFERROR(INDEX(Přehled_body!$E$3:$ED$130,MATCH(Tabulka!$AI54,Přehled_body!$A$3:$A$130,0),MATCH(Tabulka!G$2,Přehled_body!$E$1:$ED$1,0)),)))","v":0},{"$f":"IF(IFERROR(INDEX(Přehled_body!$E$3:$ED$130,MATCH(Tabulka!$AI54,Přehled_body!$A$3:$A$130,0),MATCH(Tabulka!H$2,Přehled_body!$E$1:$ED$1,0)),)=\"\",,IF(IFERROR(INDEX(Přehled_body!$E$3:$ED$130,MATCH(Tabulka!$AI54,Přehled_body!$A$3:$A$130,0),MATCH(Tabulka!H$2,Přehled_body!$E$1:$ED$1,0)),)=0,0.00000000001,IFERROR(INDEX(Přehled_body!$E$3:$ED$130,MATCH(Tabulka!$AI54,Přehled_body!$A$3:$A$130,0),MATCH(Tabulka!H$2,Přehled_body!$E$1:$ED$1,0)),)))","v":0},{"$f":"IF(IFERROR(INDEX(Přehled_body!$E$3:$ED$130,MATCH(Tabulka!$AI54,Přehled_body!$A$3:$A$130,0),MATCH(Tabulka!I$2,Přehled_body!$E$1:$ED$1,0)),)=\"\",,IF(IFERROR(INDEX(Přehled_body!$E$3:$ED$130,MATCH(Tabulka!$AI54,Přehled_body!$A$3:$A$130,0),MATCH(Tabulka!I$2,Přehled_body!$E$1:$ED$1,0)),)=0,0.00000000001,IFERROR(INDEX(Přehled_body!$E$3:$ED$130,MATCH(Tabulka!$AI54,Přehled_body!$A$3:$A$130,0),MATCH(Tabulka!I$2,Přehled_body!$E$1:$ED$1,0)),)))","v":0},{"$f":"IF(IFERROR(INDEX(Přehled_body!$E$3:$ED$130,MATCH(Tabulka!$AI54,Přehled_body!$A$3:$A$130,0),MATCH(Tabulka!J$2,Přehled_body!$E$1:$ED$1,0)),)=\"\",,IF(IFERROR(INDEX(Přehled_body!$E$3:$ED$130,MATCH(Tabulka!$AI54,Přehled_body!$A$3:$A$130,0),MATCH(Tabulka!J$2,Přehled_body!$E$1:$ED$1,0)),)=0,0.00000000001,IFERROR(INDEX(Přehled_body!$E$3:$ED$130,MATCH(Tabulka!$AI54,Přehled_body!$A$3:$A$130,0),MATCH(Tabulka!J$2,Přehled_body!$E$1:$ED$1,0)),)))","v":0},{"$f":"IF(IFERROR(INDEX(Přehled_body!$E$3:$ED$130,MATCH(Tabulka!$AI54,Přehled_body!$A$3:$A$130,0),MATCH(Tabulka!K$2,Přehled_body!$E$1:$ED$1,0)),)=\"\",,IF(IFERROR(INDEX(Přehled_body!$E$3:$ED$130,MATCH(Tabulka!$AI54,Přehled_body!$A$3:$A$130,0),MATCH(Tabulka!K$2,Přehled_body!$E$1:$ED$1,0)),)=0,0.00000000001,IFERROR(INDEX(Přehled_body!$E$3:$ED$130,MATCH(Tabulka!$AI54,Přehled_body!$A$3:$A$130,0),MATCH(Tabulka!K$2,Přehled_body!$E$1:$ED$1,0)),)))","v":0},{"$f":"IF(IFERROR(INDEX(Přehled_body!$E$3:$ED$130,MATCH(Tabulka!$AI54,Přehled_body!$A$3:$A$130,0),MATCH(Tabulka!L$2,Přehled_body!$E$1:$ED$1,0)),)=\"\",,IF(IFERROR(INDEX(Přehled_body!$E$3:$ED$130,MATCH(Tabulka!$AI54,Přehled_body!$A$3:$A$130,0),MATCH(Tabulka!L$2,Přehled_body!$E$1:$ED$1,0)),)=0,0.00000000001,IFERROR(INDEX(Přehled_body!$E$3:$ED$130,MATCH(Tabulka!$AI54,Přehled_body!$A$3:$A$130,0),MATCH(Tabulka!L$2,Přehled_body!$E$1:$ED$1,0)),)))","v":0},{"$f":"IF(IFERROR(INDEX(Přehled_body!$E$3:$ED$130,MATCH(Tabulka!$AI54,Přehled_body!$A$3:$A$130,0),MATCH(Tabulka!M$2,Přehled_body!$E$1:$ED$1,0)),)=\"\",,IF(IFERROR(INDEX(Přehled_body!$E$3:$ED$130,MATCH(Tabulka!$AI54,Přehled_body!$A$3:$A$130,0),MATCH(Tabulka!M$2,Přehled_body!$E$1:$ED$1,0)),)=0,0.00000000001,IFERROR(INDEX(Přehled_body!$E$3:$ED$130,MATCH(Tabulka!$AI54,Přehled_body!$A$3:$A$130,0),MATCH(Tabulka!M$2,Přehled_body!$E$1:$ED$1,0)),)))","v":2},{"$f":"IF(IFERROR(INDEX(Přehled_body!$E$3:$ED$130,MATCH(Tabulka!$AI54,Přehled_body!$A$3:$A$130,0),MATCH(Tabulka!N$2,Přehled_body!$E$1:$ED$1,0)),)=\"\",,IF(IFERROR(INDEX(Přehled_body!$E$3:$ED$130,MATCH(Tabulka!$AI54,Přehled_body!$A$3:$A$130,0),MATCH(Tabulka!N$2,Přehled_body!$E$1:$ED$1,0)),)=0,0.00000000001,IFERROR(INDEX(Přehled_body!$E$3:$ED$130,MATCH(Tabulka!$AI54,Přehled_body!$A$3:$A$130,0),MATCH(Tabulka!N$2,Přehled_body!$E$1:$ED$1,0)),)))","v":0},{"$f":"IF(IFERROR(INDEX(Přehled_body!$E$3:$ED$130,MATCH(Tabulka!$AI54,Přehled_body!$A$3:$A$130,0),MATCH(Tabulka!O$2,Přehled_body!$E$1:$ED$1,0)),)=\"\",,IF(IFERROR(INDEX(Přehled_body!$E$3:$ED$130,MATCH(Tabulka!$AI54,Přehled_body!$A$3:$A$130,0),MATCH(Tabulka!O$2,Přehled_body!$E$1:$ED$1,0)),)=0,0.00000000001,IFERROR(INDEX(Přehled_body!$E$3:$ED$130,MATCH(Tabulka!$AI54,Přehled_body!$A$3:$A$130,0),MATCH(Tabulka!O$2,Přehled_body!$E$1:$ED$1,0)),)))","v":0},{"$f":"IF(IFERROR(INDEX(Přehled_body!$E$3:$ED$130,MATCH(Tabulka!$AI54,Přehled_body!$A$3:$A$130,0),MATCH(Tabulka!P$2,Přehled_body!$E$1:$ED$1,0)),)=\"\",,IF(IFERROR(INDEX(Přehled_body!$E$3:$ED$130,MATCH(Tabulka!$AI54,Přehled_body!$A$3:$A$130,0),MATCH(Tabulka!P$2,Přehled_body!$E$1:$ED$1,0)),)=0,0.00000000001,IFERROR(INDEX(Přehled_body!$E$3:$ED$130,MATCH(Tabulka!$AI54,Přehled_body!$A$3:$A$130,0),MATCH(Tabulka!P$2,Přehled_body!$E$1:$ED$1,0)),)))","v":0},{"$f":"IF(IFERROR(INDEX(Přehled_body!$E$3:$ED$130,MATCH(Tabulka!$AI54,Přehled_body!$A$3:$A$130,0),MATCH(Tabulka!Q$2,Přehled_body!$E$1:$ED$1,0)),)=\"\",,IF(IFERROR(INDEX(Přehled_body!$E$3:$ED$130,MATCH(Tabulka!$AI54,Přehled_body!$A$3:$A$130,0),MATCH(Tabulka!Q$2,Přehled_body!$E$1:$ED$1,0)),)=0,0.00000000001,IFERROR(INDEX(Přehled_body!$E$3:$ED$130,MATCH(Tabulka!$AI54,Přehled_body!$A$3:$A$130,0),MATCH(Tabulka!Q$2,Přehled_body!$E$1:$ED$1,0)),)))","v":0},{"$f":"IF(IFERROR(INDEX(Přehled_body!$E$3:$ED$130,MATCH(Tabulka!$AI54,Přehled_body!$A$3:$A$130,0),MATCH(Tabulka!R$2,Přehled_body!$E$1:$ED$1,0)),)=\"\",,IF(IFERROR(INDEX(Přehled_body!$E$3:$ED$130,MATCH(Tabulka!$AI54,Přehled_body!$A$3:$A$130,0),MATCH(Tabulka!R$2,Přehled_body!$E$1:$ED$1,0)),)=0,0.00000000001,IFERROR(INDEX(Přehled_body!$E$3:$ED$130,MATCH(Tabulka!$AI54,Přehled_body!$A$3:$A$130,0),MATCH(Tabulka!R$2,Přehled_body!$E$1:$ED$1,0)),)))","v":0},{"$f":"IF(IFERROR(INDEX(Přehled_body!$E$3:$ED$130,MATCH(Tabulka!$AI54,Přehled_body!$A$3:$A$130,0),MATCH(Tabulka!S$2,Přehled_body!$E$1:$ED$1,0)),)=\"\",,IF(IFERROR(INDEX(Přehled_body!$E$3:$ED$130,MATCH(Tabulka!$AI54,Přehled_body!$A$3:$A$130,0),MATCH(Tabulka!S$2,Přehled_body!$E$1:$ED$1,0)),)=0,0.00000000001,IFERROR(INDEX(Přehled_body!$E$3:$ED$130,MATCH(Tabulka!$AI54,Přehled_body!$A$3:$A$130,0),MATCH(Tabulka!S$2,Přehled_body!$E$1:$ED$1,0)),)))","v":0},{"$f":"IF(IFERROR(INDEX(Přehled_body!$E$3:$ED$130,MATCH(Tabulka!$AI54,Přehled_body!$A$3:$A$130,0),MATCH(Tabulka!T$2,Přehled_body!$E$1:$ED$1,0)),)=\"\",,IF(IFERROR(INDEX(Přehled_body!$E$3:$ED$130,MATCH(Tabulka!$AI54,Přehled_body!$A$3:$A$130,0),MATCH(Tabulka!T$2,Přehled_body!$E$1:$ED$1,0)),)=0,0.00000000001,IFERROR(INDEX(Přehled_body!$E$3:$ED$130,MATCH(Tabulka!$AI54,Přehled_body!$A$3:$A$130,0),MATCH(Tabulka!T$2,Přehled_body!$E$1:$ED$1,0)),)))","v":0},{"$f":"IF(IFERROR(INDEX(Přehled_body!$E$3:$ED$130,MATCH(Tabulka!$AI54,Přehled_body!$A$3:$A$130,0),MATCH(Tabulka!U$2,Přehled_body!$E$1:$ED$1,0)),)=\"\",,IF(IFERROR(INDEX(Přehled_body!$E$3:$ED$130,MATCH(Tabulka!$AI54,Přehled_body!$A$3:$A$130,0),MATCH(Tabulka!U$2,Přehled_body!$E$1:$ED$1,0)),)=0,0.00000000001,IFERROR(INDEX(Přehled_body!$E$3:$ED$130,MATCH(Tabulka!$AI54,Přehled_body!$A$3:$A$130,0),MATCH(Tabulka!U$2,Přehled_body!$E$1:$ED$1,0)),)))","v":0},{"$f":"IF(IFERROR(INDEX(Přehled_body!$E$3:$ED$130,MATCH(Tabulka!$AI54,Přehled_body!$A$3:$A$130,0),MATCH(Tabulka!V$2,Přehled_body!$E$1:$ED$1,0)),)=\"\",,IF(IFERROR(INDEX(Přehled_body!$E$3:$ED$130,MATCH(Tabulka!$AI54,Přehled_body!$A$3:$A$130,0),MATCH(Tabulka!V$2,Přehled_body!$E$1:$ED$1,0)),)=0,0.00000000001,IFERROR(INDEX(Přehled_body!$E$3:$ED$130,MATCH(Tabulka!$AI54,Přehled_body!$A$3:$A$130,0),MATCH(Tabulka!V$2,Přehled_body!$E$1:$ED$1,0)),)))","v":0},{"$f":"IF(IFERROR(INDEX(Přehled_body!$E$3:$ED$130,MATCH(Tabulka!$AI54,Přehled_body!$A$3:$A$130,0),MATCH(Tabulka!W$2,Přehled_body!$E$1:$ED$1,0)),)=\"\",,IF(IFERROR(INDEX(Přehled_body!$E$3:$ED$130,MATCH(Tabulka!$AI54,Přehled_body!$A$3:$A$130,0),MATCH(Tabulka!W$2,Přehled_body!$E$1:$ED$1,0)),)=0,0.00000000001,IFERROR(INDEX(Přehled_body!$E$3:$ED$130,MATCH(Tabulka!$AI54,Přehled_body!$A$3:$A$130,0),MATCH(Tabulka!W$2,Přehled_body!$E$1:$ED$1,0)),)))","v":0},{"$f":"IF(IFERROR(INDEX(Přehled_body!$E$3:$ED$130,MATCH(Tabulka!$AI54,Přehled_body!$A$3:$A$130,0),MATCH(Tabulka!X$2,Přehled_body!$E$1:$ED$1,0)),)=\"\",,IF(IFERROR(INDEX(Přehled_body!$E$3:$ED$130,MATCH(Tabulka!$AI54,Přehled_body!$A$3:$A$130,0),MATCH(Tabulka!X$2,Přehled_body!$E$1:$ED$1,0)),)=0,0.00000000001,IFERROR(INDEX(Přehled_body!$E$3:$ED$130,MATCH(Tabulka!$AI54,Přehled_body!$A$3:$A$130,0),MATCH(Tabulka!X$2,Přehled_body!$E$1:$ED$1,0)),)))","v":0},{"$f":"IF(IFERROR(INDEX(Přehled_body!$E$3:$ED$130,MATCH(Tabulka!$AI54,Přehled_body!$A$3:$A$130,0),MATCH(Tabulka!Y$2,Přehled_body!$E$1:$ED$1,0)),)=\"\",,IF(IFERROR(INDEX(Přehled_body!$E$3:$ED$130,MATCH(Tabulka!$AI54,Přehled_body!$A$3:$A$130,0),MATCH(Tabulka!Y$2,Přehled_body!$E$1:$ED$1,0)),)=0,0.00000000001,IFERROR(INDEX(Přehled_body!$E$3:$ED$130,MATCH(Tabulka!$AI54,Přehled_body!$A$3:$A$130,0),MATCH(Tabulka!Y$2,Přehled_body!$E$1:$ED$1,0)),)))","v":0},{"$f":"IF(IFERROR(INDEX(Přehled_body!$E$3:$ED$130,MATCH(Tabulka!$AI54,Přehled_body!$A$3:$A$130,0),MATCH(Tabulka!Z$2,Přehled_body!$E$1:$ED$1,0)),)=\"\",,IF(IFERROR(INDEX(Přehled_body!$E$3:$ED$130,MATCH(Tabulka!$AI54,Přehled_body!$A$3:$A$130,0),MATCH(Tabulka!Z$2,Přehled_body!$E$1:$ED$1,0)),)=0,0.00000000001,IFERROR(INDEX(Přehled_body!$E$3:$ED$130,MATCH(Tabulka!$AI54,Přehled_body!$A$3:$A$130,0),MATCH(Tabulka!Z$2,Přehled_body!$E$1:$ED$1,0)),)))","v":0},{"$f":"IF(IFERROR(INDEX(Přehled_body!$E$3:$ED$130,MATCH(Tabulka!$AI54,Přehled_body!$A$3:$A$130,0),MATCH(Tabulka!AA$2,Přehled_body!$E$1:$ED$1,0)),)=\"\",,IF(IFERROR(INDEX(Přehled_body!$E$3:$ED$130,MATCH(Tabulka!$AI54,Přehled_body!$A$3:$A$130,0),MATCH(Tabulka!AA$2,Přehled_body!$E$1:$ED$1,0)),)=0,0.00000000001,IFERROR(INDEX(Přehled_body!$E$3:$ED$130,MATCH(Tabulka!$AI54,Přehled_body!$A$3:$A$130,0),MATCH(Tabulka!AA$2,Přehled_body!$E$1:$ED$1,0)),)))","v":0},{"$f":"IF(IFERROR(INDEX(Přehled_body!$E$3:$ED$130,MATCH(Tabulka!$AI54,Přehled_body!$A$3:$A$130,0),MATCH(Tabulka!AB$2,Přehled_body!$E$1:$ED$1,0)),)=\"\",,IF(IFERROR(INDEX(Přehled_body!$E$3:$ED$130,MATCH(Tabulka!$AI54,Přehled_body!$A$3:$A$130,0),MATCH(Tabulka!AB$2,Přehled_body!$E$1:$ED$1,0)),)=0,0.00000000001,IFERROR(INDEX(Přehled_body!$E$3:$ED$130,MATCH(Tabulka!$AI54,Přehled_body!$A$3:$A$130,0),MATCH(Tabulka!AB$2,Přehled_body!$E$1:$ED$1,0)),)))","v":0},{"$f":"IF(IFERROR(INDEX(Přehled_body!$E$3:$ED$130,MATCH(Tabulka!$AI54,Přehled_body!$A$3:$A$130,0),MATCH(Tabulka!AC$2,Přehled_body!$E$1:$ED$1,0)),)=\"\",,IF(IFERROR(INDEX(Přehled_body!$E$3:$ED$130,MATCH(Tabulka!$AI54,Přehled_body!$A$3:$A$130,0),MATCH(Tabulka!AC$2,Přehled_body!$E$1:$ED$1,0)),)=0,0.00000000001,IFERROR(INDEX(Přehled_body!$E$3:$ED$130,MATCH(Tabulka!$AI54,Přehled_body!$A$3:$A$130,0),MATCH(Tabulka!AC$2,Přehled_body!$E$1:$ED$1,0)),)))","v":0},{"$f":"IF(IFERROR(INDEX(Přehled_body!$E$3:$ED$130,MATCH(Tabulka!$AI54,Přehled_body!$A$3:$A$130,0),MATCH(Tabulka!AD$2,Přehled_body!$E$1:$ED$1,0)),)=\"\",,IF(IFERROR(INDEX(Přehled_body!$E$3:$ED$130,MATCH(Tabulka!$AI54,Přehled_body!$A$3:$A$130,0),MATCH(Tabulka!AD$2,Přehled_body!$E$1:$ED$1,0)),)=0,0.00000000001,IFERROR(INDEX(Přehled_body!$E$3:$ED$130,MATCH(Tabulka!$AI54,Přehled_body!$A$3:$A$130,0),MATCH(Tabulka!AD$2,Přehled_body!$E$1:$ED$1,0)),)))","v":0},{"$f":"IF(SUM($D$54:$AD$58)<1,-90000,SUM(D54:AD54))","v":3},null,{"$f":"COUNTIF(D54:AD54,\">0\")","v":2},null,{"$f":"CONCATENATE($B$55,\" \",$B$56,C54)","v":"Kuba ŠedivýVýhry"}]
[{"$f":"CONCATENATE(B55,\" \",B56)","v":"Kuba Šedivý"},"Kuba","Prohry",{"$f":"IF(IFERROR(INDEX(Přehled_body!$E$3:$ED$130,MATCH(Tabulka!$AI55,Přehled_body!$A$3:$A$130,0),MATCH(Tabulka!D$2,Přehled_body!$E$1:$ED$1,0)),)=\"\",,IF(IFERROR(INDEX(Přehled_body!$E$3:$ED$130,MATCH(Tabulka!$AI55,Přehled_body!$A$3:$A$130,0),MATCH(Tabulka!D$2,Přehled_body!$E$1:$ED$1,0)),)=0,0.00000000001,IFERROR(INDEX(Přehled_body!$E$3:$ED$130,MATCH(Tabulka!$AI55,Přehled_body!$A$3:$A$130,0),MATCH(Tabulka!D$2,Přehled_body!$E$1:$ED$1,0)),)))","v":9.9999999999999994E-12},{"$f":"IF(IFERROR(INDEX(Přehled_body!$E$3:$ED$130,MATCH(Tabulka!$AI55,Přehled_body!$A$3:$A$130,0),MATCH(Tabulka!E$2,Přehled_body!$E$1:$ED$1,0)),)=\"\",,IF(IFERROR(INDEX(Přehled_body!$E$3:$ED$130,MATCH(Tabulka!$AI55,Přehled_body!$A$3:$A$130,0),MATCH(Tabulka!E$2,Přehled_body!$E$1:$ED$1,0)),)=0,0.00000000001,IFERROR(INDEX(Přehled_body!$E$3:$ED$130,MATCH(Tabulka!$AI55,Přehled_body!$A$3:$A$130,0),MATCH(Tabulka!E$2,Přehled_body!$E$1:$ED$1,0)),)))","v":0},{"$f":"IF(IFERROR(INDEX(Přehled_body!$E$3:$ED$130,MATCH(Tabulka!$AI55,Přehled_body!$A$3:$A$130,0),MATCH(Tabulka!F$2,Přehled_body!$E$1:$ED$1,0)),)=\"\",,IF(IFERROR(INDEX(Přehled_body!$E$3:$ED$130,MATCH(Tabulka!$AI55,Přehled_body!$A$3:$A$130,0),MATCH(Tabulka!F$2,Přehled_body!$E$1:$ED$1,0)),)=0,0.00000000001,IFERROR(INDEX(Přehled_body!$E$3:$ED$130,MATCH(Tabulka!$AI55,Přehled_body!$A$3:$A$130,0),MATCH(Tabulka!F$2,Přehled_body!$E$1:$ED$1,0)),)))","v":0},{"$f":"IF(IFERROR(INDEX(Přehled_body!$E$3:$ED$130,MATCH(Tabulka!$AI55,Přehled_body!$A$3:$A$130,0),MATCH(Tabulka!G$2,Přehled_body!$E$1:$ED$1,0)),)=\"\",,IF(IFERROR(INDEX(Přehled_body!$E$3:$ED$130,MATCH(Tabulka!$AI55,Přehled_body!$A$3:$A$130,0),MATCH(Tabulka!G$2,Přehled_body!$E$1:$ED$1,0)),)=0,0.00000000001,IFERROR(INDEX(Přehled_body!$E$3:$ED$130,MATCH(Tabulka!$AI55,Přehled_body!$A$3:$A$130,0),MATCH(Tabulka!G$2,Přehled_body!$E$1:$ED$1,0)),)))","v":0},{"$f":"IF(IFERROR(INDEX(Přehled_body!$E$3:$ED$130,MATCH(Tabulka!$AI55,Přehled_body!$A$3:$A$130,0),MATCH(Tabulka!H$2,Přehled_body!$E$1:$ED$1,0)),)=\"\",,IF(IFERROR(INDEX(Přehled_body!$E$3:$ED$130,MATCH(Tabulka!$AI55,Přehled_body!$A$3:$A$130,0),MATCH(Tabulka!H$2,Přehled_body!$E$1:$ED$1,0)),)=0,0.00000000001,IFERROR(INDEX(Přehled_body!$E$3:$ED$130,MATCH(Tabulka!$AI55,Přehled_body!$A$3:$A$130,0),MATCH(Tabulka!H$2,Přehled_body!$E$1:$ED$1,0)),)))","v":0},{"$f":"IF(IFERROR(INDEX(Přehled_body!$E$3:$ED$130,MATCH(Tabulka!$AI55,Přehled_body!$A$3:$A$130,0),MATCH(Tabulka!I$2,Přehled_body!$E$1:$ED$1,0)),)=\"\",,IF(IFERROR(INDEX(Přehled_body!$E$3:$ED$130,MATCH(Tabulka!$AI55,Přehled_body!$A$3:$A$130,0),MATCH(Tabulka!I$2,Přehled_body!$E$1:$ED$1,0)),)=0,0.00000000001,IFERROR(INDEX(Přehled_body!$E$3:$ED$130,MATCH(Tabulka!$AI55,Přehled_body!$A$3:$A$130,0),MATCH(Tabulka!I$2,Přehled_body!$E$1:$ED$1,0)),)))","v":0},{"$f":"IF(IFERROR(INDEX(Přehled_body!$E$3:$ED$130,MATCH(Tabulka!$AI55,Přehled_body!$A$3:$A$130,0),MATCH(Tabulka!J$2,Přehled_body!$E$1:$ED$1,0)),)=\"\",,IF(IFERROR(INDEX(Přehled_body!$E$3:$ED$130,MATCH(Tabulka!$AI55,Přehled_body!$A$3:$A$130,0),MATCH(Tabulka!J$2,Přehled_body!$E$1:$ED$1,0)),)=0,0.00000000001,IFERROR(INDEX(Přehled_body!$E$3:$ED$130,MATCH(Tabulka!$AI55,Přehled_body!$A$3:$A$130,0),MATCH(Tabulka!J$2,Přehled_body!$E$1:$ED$1,0)),)))","v":0},{"$f":"IF(IFERROR(INDEX(Přehled_body!$E$3:$ED$130,MATCH(Tabulka!$AI55,Přehled_body!$A$3:$A$130,0),MATCH(Tabulka!K$2,Přehled_body!$E$1:$ED$1,0)),)=\"\",,IF(IFERROR(INDEX(Přehled_body!$E$3:$ED$130,MATCH(Tabulka!$AI55,Přehled_body!$A$3:$A$130,0),MATCH(Tabulka!K$2,Přehled_body!$E$1:$ED$1,0)),)=0,0.00000000001,IFERROR(INDEX(Přehled_body!$E$3:$ED$130,MATCH(Tabulka!$AI55,Přehled_body!$A$3:$A$130,0),MATCH(Tabulka!K$2,Přehled_body!$E$1:$ED$1,0)),)))","v":0},{"$f":"IF(IFERROR(INDEX(Přehled_body!$E$3:$ED$130,MATCH(Tabulka!$AI55,Přehled_body!$A$3:$A$130,0),MATCH(Tabulka!L$2,Přehled_body!$E$1:$ED$1,0)),)=\"\",,IF(IFERROR(INDEX(Přehled_body!$E$3:$ED$130,MATCH(Tabulka!$AI55,Přehled_body!$A$3:$A$130,0),MATCH(Tabulka!L$2,Přehled_body!$E$1:$ED$1,0)),)=0,0.00000000001,IFERROR(INDEX(Přehled_body!$E$3:$ED$130,MATCH(Tabulka!$AI55,Přehled_body!$A$3:$A$130,0),MATCH(Tabulka!L$2,Přehled_body!$E$1:$ED$1,0)),)))","v":0},{"$f":"IF(IFERROR(INDEX(Přehled_body!$E$3:$ED$130,MATCH(Tabulka!$AI55,Přehled_body!$A$3:$A$130,0),MATCH(Tabulka!M$2,Přehled_body!$E$1:$ED$1,0)),)=\"\",,IF(IFERROR(INDEX(Přehled_body!$E$3:$ED$130,MATCH(Tabulka!$AI55,Přehled_body!$A$3:$A$130,0),MATCH(Tabulka!M$2,Přehled_body!$E$1:$ED$1,0)),)=0,0.00000000001,IFERROR(INDEX(Přehled_body!$E$3:$ED$130,MATCH(Tabulka!$AI55,Přehled_body!$A$3:$A$130,0),MATCH(Tabulka!M$2,Přehled_body!$E$1:$ED$1,0)),)))","v":9.9999999999999994E-12},{"$f":"IF(IFERROR(INDEX(Přehled_body!$E$3:$ED$130,MATCH(Tabulka!$AI55,Přehled_body!$A$3:$A$130,0),MATCH(Tabulka!N$2,Přehled_body!$E$1:$ED$1,0)),)=\"\",,IF(IFERROR(INDEX(Přehled_body!$E$3:$ED$130,MATCH(Tabulka!$AI55,Přehled_body!$A$3:$A$130,0),MATCH(Tabulka!N$2,Přehled_body!$E$1:$ED$1,0)),)=0,0.00000000001,IFERROR(INDEX(Přehled_body!$E$3:$ED$130,MATCH(Tabulka!$AI55,Přehled_body!$A$3:$A$130,0),MATCH(Tabulka!N$2,Přehled_body!$E$1:$ED$1,0)),)))","v":0},{"$f":"IF(IFERROR(INDEX(Přehled_body!$E$3:$ED$130,MATCH(Tabulka!$AI55,Přehled_body!$A$3:$A$130,0),MATCH(Tabulka!O$2,Přehled_body!$E$1:$ED$1,0)),)=\"\",,IF(IFERROR(INDEX(Přehled_body!$E$3:$ED$130,MATCH(Tabulka!$AI55,Přehled_body!$A$3:$A$130,0),MATCH(Tabulka!O$2,Přehled_body!$E$1:$ED$1,0)),)=0,0.00000000001,IFERROR(INDEX(Přehled_body!$E$3:$ED$130,MATCH(Tabulka!$AI55,Přehled_body!$A$3:$A$130,0),MATCH(Tabulka!O$2,Přehled_body!$E$1:$ED$1,0)),)))","v":0},{"$f":"IF(IFERROR(INDEX(Přehled_body!$E$3:$ED$130,MATCH(Tabulka!$AI55,Přehled_body!$A$3:$A$130,0),MATCH(Tabulka!P$2,Přehled_body!$E$1:$ED$1,0)),)=\"\",,IF(IFERROR(INDEX(Přehled_body!$E$3:$ED$130,MATCH(Tabulka!$AI55,Přehled_body!$A$3:$A$130,0),MATCH(Tabulka!P$2,Přehled_body!$E$1:$ED$1,0)),)=0,0.00000000001,IFERROR(INDEX(Přehled_body!$E$3:$ED$130,MATCH(Tabulka!$AI55,Přehled_body!$A$3:$A$130,0),MATCH(Tabulka!P$2,Přehled_body!$E$1:$ED$1,0)),)))","v":0},{"$f":"IF(IFERROR(INDEX(Přehled_body!$E$3:$ED$130,MATCH(Tabulka!$AI55,Přehled_body!$A$3:$A$130,0),MATCH(Tabulka!Q$2,Přehled_body!$E$1:$ED$1,0)),)=\"\",,IF(IFERROR(INDEX(Přehled_body!$E$3:$ED$130,MATCH(Tabulka!$AI55,Přehled_body!$A$3:$A$130,0),MATCH(Tabulka!Q$2,Přehled_body!$E$1:$ED$1,0)),)=0,0.00000000001,IFERROR(INDEX(Přehled_body!$E$3:$ED$130,MATCH(Tabulka!$AI55,Přehled_body!$A$3:$A$130,0),MATCH(Tabulka!Q$2,Přehled_body!$E$1:$ED$1,0)),)))","v":0},{"$f":"IF(IFERROR(INDEX(Přehled_body!$E$3:$ED$130,MATCH(Tabulka!$AI55,Přehled_body!$A$3:$A$130,0),MATCH(Tabulka!R$2,Přehled_body!$E$1:$ED$1,0)),)=\"\",,IF(IFERROR(INDEX(Přehled_body!$E$3:$ED$130,MATCH(Tabulka!$AI55,Přehled_body!$A$3:$A$130,0),MATCH(Tabulka!R$2,Přehled_body!$E$1:$ED$1,0)),)=0,0.00000000001,IFERROR(INDEX(Přehled_body!$E$3:$ED$130,MATCH(Tabulka!$AI55,Přehled_body!$A$3:$A$130,0),MATCH(Tabulka!R$2,Přehled_body!$E$1:$ED$1,0)),)))","v":0},{"$f":"IF(IFERROR(INDEX(Přehled_body!$E$3:$ED$130,MATCH(Tabulka!$AI55,Přehled_body!$A$3:$A$130,0),MATCH(Tabulka!S$2,Přehled_body!$E$1:$ED$1,0)),)=\"\",,IF(IFERROR(INDEX(Přehled_body!$E$3:$ED$130,MATCH(Tabulka!$AI55,Přehled_body!$A$3:$A$130,0),MATCH(Tabulka!S$2,Přehled_body!$E$1:$ED$1,0)),)=0,0.00000000001,IFERROR(INDEX(Přehled_body!$E$3:$ED$130,MATCH(Tabulka!$AI55,Přehled_body!$A$3:$A$130,0),MATCH(Tabulka!S$2,Přehled_body!$E$1:$ED$1,0)),)))","v":0},{"$f":"IF(IFERROR(INDEX(Přehled_body!$E$3:$ED$130,MATCH(Tabulka!$AI55,Přehled_body!$A$3:$A$130,0),MATCH(Tabulka!T$2,Přehled_body!$E$1:$ED$1,0)),)=\"\",,IF(IFERROR(INDEX(Přehled_body!$E$3:$ED$130,MATCH(Tabulka!$AI55,Přehled_body!$A$3:$A$130,0),MATCH(Tabulka!T$2,Přehled_body!$E$1:$ED$1,0)),)=0,0.00000000001,IFERROR(INDEX(Přehled_body!$E$3:$ED$130,MATCH(Tabulka!$AI55,Přehled_body!$A$3:$A$130,0),MATCH(Tabulka!T$2,Přehled_body!$E$1:$ED$1,0)),)))","v":0},{"$f":"IF(IFERROR(INDEX(Přehled_body!$E$3:$ED$130,MATCH(Tabulka!$AI55,Přehled_body!$A$3:$A$130,0),MATCH(Tabulka!U$2,Přehled_body!$E$1:$ED$1,0)),)=\"\",,IF(IFERROR(INDEX(Přehled_body!$E$3:$ED$130,MATCH(Tabulka!$AI55,Přehled_body!$A$3:$A$130,0),MATCH(Tabulka!U$2,Přehled_body!$E$1:$ED$1,0)),)=0,0.00000000001,IFERROR(INDEX(Přehled_body!$E$3:$ED$130,MATCH(Tabulka!$AI55,Přehled_body!$A$3:$A$130,0),MATCH(Tabulka!U$2,Přehled_body!$E$1:$ED$1,0)),)))","v":0},{"$f":"IF(IFERROR(INDEX(Přehled_body!$E$3:$ED$130,MATCH(Tabulka!$AI55,Přehled_body!$A$3:$A$130,0),MATCH(Tabulka!V$2,Přehled_body!$E$1:$ED$1,0)),)=\"\",,IF(IFERROR(INDEX(Přehled_body!$E$3:$ED$130,MATCH(Tabulka!$AI55,Přehled_body!$A$3:$A$130,0),MATCH(Tabulka!V$2,Přehled_body!$E$1:$ED$1,0)),)=0,0.00000000001,IFERROR(INDEX(Přehled_body!$E$3:$ED$130,MATCH(Tabulka!$AI55,Přehled_body!$A$3:$A$130,0),MATCH(Tabulka!V$2,Přehled_body!$E$1:$ED$1,0)),)))","v":0},{"$f":"IF(IFERROR(INDEX(Přehled_body!$E$3:$ED$130,MATCH(Tabulka!$AI55,Přehled_body!$A$3:$A$130,0),MATCH(Tabulka!W$2,Přehled_body!$E$1:$ED$1,0)),)=\"\",,IF(IFERROR(INDEX(Přehled_body!$E$3:$ED$130,MATCH(Tabulka!$AI55,Přehled_body!$A$3:$A$130,0),MATCH(Tabulka!W$2,Přehled_body!$E$1:$ED$1,0)),)=0,0.00000000001,IFERROR(INDEX(Přehled_body!$E$3:$ED$130,MATCH(Tabulka!$AI55,Přehled_body!$A$3:$A$130,0),MATCH(Tabulka!W$2,Přehled_body!$E$1:$ED$1,0)),)))","v":0},{"$f":"IF(IFERROR(INDEX(Přehled_body!$E$3:$ED$130,MATCH(Tabulka!$AI55,Přehled_body!$A$3:$A$130,0),MATCH(Tabulka!X$2,Přehled_body!$E$1:$ED$1,0)),)=\"\",,IF(IFERROR(INDEX(Přehled_body!$E$3:$ED$130,MATCH(Tabulka!$AI55,Přehled_body!$A$3:$A$130,0),MATCH(Tabulka!X$2,Přehled_body!$E$1:$ED$1,0)),)=0,0.00000000001,IFERROR(INDEX(Přehled_body!$E$3:$ED$130,MATCH(Tabulka!$AI55,Přehled_body!$A$3:$A$130,0),MATCH(Tabulka!X$2,Přehled_body!$E$1:$ED$1,0)),)))","v":0},{"$f":"IF(IFERROR(INDEX(Přehled_body!$E$3:$ED$130,MATCH(Tabulka!$AI55,Přehled_body!$A$3:$A$130,0),MATCH(Tabulka!Y$2,Přehled_body!$E$1:$ED$1,0)),)=\"\",,IF(IFERROR(INDEX(Přehled_body!$E$3:$ED$130,MATCH(Tabulka!$AI55,Přehled_body!$A$3:$A$130,0),MATCH(Tabulka!Y$2,Přehled_body!$E$1:$ED$1,0)),)=0,0.00000000001,IFERROR(INDEX(Přehled_body!$E$3:$ED$130,MATCH(Tabulka!$AI55,Přehled_body!$A$3:$A$130,0),MATCH(Tabulka!Y$2,Přehled_body!$E$1:$ED$1,0)),)))","v":0},{"$f":"IF(IFERROR(INDEX(Přehled_body!$E$3:$ED$130,MATCH(Tabulka!$AI55,Přehled_body!$A$3:$A$130,0),MATCH(Tabulka!Z$2,Přehled_body!$E$1:$ED$1,0)),)=\"\",,IF(IFERROR(INDEX(Přehled_body!$E$3:$ED$130,MATCH(Tabulka!$AI55,Přehled_body!$A$3:$A$130,0),MATCH(Tabulka!Z$2,Přehled_body!$E$1:$ED$1,0)),)=0,0.00000000001,IFERROR(INDEX(Přehled_body!$E$3:$ED$130,MATCH(Tabulka!$AI55,Přehled_body!$A$3:$A$130,0),MATCH(Tabulka!Z$2,Přehled_body!$E$1:$ED$1,0)),)))","v":0},{"$f":"IF(IFERROR(INDEX(Přehled_body!$E$3:$ED$130,MATCH(Tabulka!$AI55,Přehled_body!$A$3:$A$130,0),MATCH(Tabulka!AA$2,Přehled_body!$E$1:$ED$1,0)),)=\"\",,IF(IFERROR(INDEX(Přehled_body!$E$3:$ED$130,MATCH(Tabulka!$AI55,Přehled_body!$A$3:$A$130,0),MATCH(Tabulka!AA$2,Přehled_body!$E$1:$ED$1,0)),)=0,0.00000000001,IFERROR(INDEX(Přehled_body!$E$3:$ED$130,MATCH(Tabulka!$AI55,Přehled_body!$A$3:$A$130,0),MATCH(Tabulka!AA$2,Přehled_body!$E$1:$ED$1,0)),)))","v":0},{"$f":"IF(IFERROR(INDEX(Přehled_body!$E$3:$ED$130,MATCH(Tabulka!$AI55,Přehled_body!$A$3:$A$130,0),MATCH(Tabulka!AB$2,Přehled_body!$E$1:$ED$1,0)),)=\"\",,IF(IFERROR(INDEX(Přehled_body!$E$3:$ED$130,MATCH(Tabulka!$AI55,Přehled_body!$A$3:$A$130,0),MATCH(Tabulka!AB$2,Přehled_body!$E$1:$ED$1,0)),)=0,0.00000000001,IFERROR(INDEX(Přehled_body!$E$3:$ED$130,MATCH(Tabulka!$AI55,Přehled_body!$A$3:$A$130,0),MATCH(Tabulka!AB$2,Přehled_body!$E$1:$ED$1,0)),)))","v":0},{"$f":"IF(IFERROR(INDEX(Přehled_body!$E$3:$ED$130,MATCH(Tabulka!$AI55,Přehled_body!$A$3:$A$130,0),MATCH(Tabulka!AC$2,Přehled_body!$E$1:$ED$1,0)),)=\"\",,IF(IFERROR(INDEX(Přehled_body!$E$3:$ED$130,MATCH(Tabulka!$AI55,Přehled_body!$A$3:$A$130,0),MATCH(Tabulka!AC$2,Přehled_body!$E$1:$ED$1,0)),)=0,0.00000000001,IFERROR(INDEX(Přehled_body!$E$3:$ED$130,MATCH(Tabulka!$AI55,Přehled_body!$A$3:$A$130,0),MATCH(Tabulka!AC$2,Přehled_body!$E$1:$ED$1,0)),)))","v":0},{"$f":"IF(IFERROR(INDEX(Přehled_body!$E$3:$ED$130,MATCH(Tabulka!$AI55,Přehled_body!$A$3:$A$130,0),MATCH(Tabulka!AD$2,Přehled_body!$E$1:$ED$1,0)),)=\"\",,IF(IFERROR(INDEX(Přehled_body!$E$3:$ED$130,MATCH(Tabulka!$AI55,Přehled_body!$A$3:$A$130,0),MATCH(Tabulka!AD$2,Přehled_body!$E$1:$ED$1,0)),)=0,0.00000000001,IFERROR(INDEX(Přehled_body!$E$3:$ED$130,MATCH(Tabulka!$AI55,Přehled_body!$A$3:$A$130,0),MATCH(Tabulka!AD$2,Přehled_body!$E$1:$ED$1,0)),)))","v":0},{"$f":"IF(SUM($D$54:$AD$58)<1,-90000,SUM(D55:AD55))","v":1.9999999999999999E-11},{"$f":"IF(AE58>0.9,SUM(AE54-AE55)+0.00000001,0)","v":3.0000000099799999},null,null,{"$f":"CONCATENATE($B$55,\" \",$B$56,C55)","v":"Kuba ŠedivýProhry"}]
[{"$f":"CONCATENATE(B56,\" \",B55)","v":"Šedivý Kuba"},"Šedivý","Placeno panáků",{"$f":"IF(IFERROR(INDEX(Přehled_body!$E$3:$ED$130,MATCH(Tabulka!$AI56,Přehled_body!$A$3:$A$130,0),MATCH(Tabulka!D$2,Přehled_body!$E$1:$ED$1,0)),)=\"\",,IF(IFERROR(INDEX(Přehled_body!$E$3:$ED$130,MATCH(Tabulka!$AI56,Přehled_body!$A$3:$A$130,0),MATCH(Tabulka!D$2,Přehled_body!$E$1:$ED$1,0)),)=0,0.00000000001,IFERROR(INDEX(Přehled_body!$E$3:$ED$130,MATCH(Tabulka!$AI56,Přehled_body!$A$3:$A$130,0),MATCH(Tabulka!D$2,Přehled_body!$E$1:$ED$1,0)),)))","v":9.9999999999999994E-12},{"$f":"IF(IFERROR(INDEX(Přehled_body!$E$3:$ED$130,MATCH(Tabulka!$AI56,Přehled_body!$A$3:$A$130,0),MATCH(Tabulka!E$2,Přehled_body!$E$1:$ED$1,0)),)=\"\",,IF(IFERROR(INDEX(Přehled_body!$E$3:$ED$130,MATCH(Tabulka!$AI56,Přehled_body!$A$3:$A$130,0),MATCH(Tabulka!E$2,Přehled_body!$E$1:$ED$1,0)),)=0,0.00000000001,IFERROR(INDEX(Přehled_body!$E$3:$ED$130,MATCH(Tabulka!$AI56,Přehled_body!$A$3:$A$130,0),MATCH(Tabulka!E$2,Přehled_body!$E$1:$ED$1,0)),)))","v":0},{"$f":"IF(IFERROR(INDEX(Přehled_body!$E$3:$ED$130,MATCH(Tabulka!$AI56,Přehled_body!$A$3:$A$130,0),MATCH(Tabulka!F$2,Přehled_body!$E$1:$ED$1,0)),)=\"\",,IF(IFERROR(INDEX(Přehled_body!$E$3:$ED$130,MATCH(Tabulka!$AI56,Přehled_body!$A$3:$A$130,0),MATCH(Tabulka!F$2,Přehled_body!$E$1:$ED$1,0)),)=0,0.00000000001,IFERROR(INDEX(Přehled_body!$E$3:$ED$130,MATCH(Tabulka!$AI56,Přehled_body!$A$3:$A$130,0),MATCH(Tabulka!F$2,Přehled_body!$E$1:$ED$1,0)),)))","v":0},{"$f":"IF(IFERROR(INDEX(Přehled_body!$E$3:$ED$130,MATCH(Tabulka!$AI56,Přehled_body!$A$3:$A$130,0),MATCH(Tabulka!G$2,Přehled_body!$E$1:$ED$1,0)),)=\"\",,IF(IFERROR(INDEX(Přehled_body!$E$3:$ED$130,MATCH(Tabulka!$AI56,Přehled_body!$A$3:$A$130,0),MATCH(Tabulka!G$2,Přehled_body!$E$1:$ED$1,0)),)=0,0.00000000001,IFERROR(INDEX(Přehled_body!$E$3:$ED$130,MATCH(Tabulka!$AI56,Přehled_body!$A$3:$A$130,0),MATCH(Tabulka!G$2,Přehled_body!$E$1:$ED$1,0)),)))","v":0},{"$f":"IF(IFERROR(INDEX(Přehled_body!$E$3:$ED$130,MATCH(Tabulka!$AI56,Přehled_body!$A$3:$A$130,0),MATCH(Tabulka!H$2,Přehled_body!$E$1:$ED$1,0)),)=\"\",,IF(IFERROR(INDEX(Přehled_body!$E$3:$ED$130,MATCH(Tabulka!$AI56,Přehled_body!$A$3:$A$130,0),MATCH(Tabulka!H$2,Přehled_body!$E$1:$ED$1,0)),)=0,0.00000000001,IFERROR(INDEX(Přehled_body!$E$3:$ED$130,MATCH(Tabulka!$AI56,Přehled_body!$A$3:$A$130,0),MATCH(Tabulka!H$2,Přehled_body!$E$1:$ED$1,0)),)))","v":0},{"$f":"IF(IFERROR(INDEX(Přehled_body!$E$3:$ED$130,MATCH(Tabulka!$AI56,Přehled_body!$A$3:$A$130,0),MATCH(Tabulka!I$2,Přehled_body!$E$1:$ED$1,0)),)=\"\",,IF(IFERROR(INDEX(Přehled_body!$E$3:$ED$130,MATCH(Tabulka!$AI56,Přehled_body!$A$3:$A$130,0),MATCH(Tabulka!I$2,Přehled_body!$E$1:$ED$1,0)),)=0,0.00000000001,IFERROR(INDEX(Přehled_body!$E$3:$ED$130,MATCH(Tabulka!$AI56,Přehled_body!$A$3:$A$130,0),MATCH(Tabulka!I$2,Přehled_body!$E$1:$ED$1,0)),)))","v":0},{"$f":"IF(IFERROR(INDEX(Přehled_body!$E$3:$ED$130,MATCH(Tabulka!$AI56,Přehled_body!$A$3:$A$130,0),MATCH(Tabulka!J$2,Přehled_body!$E$1:$ED$1,0)),)=\"\",,IF(IFERROR(INDEX(Přehled_body!$E$3:$ED$130,MATCH(Tabulka!$AI56,Přehled_body!$A$3:$A$130,0),MATCH(Tabulka!J$2,Přehled_body!$E$1:$ED$1,0)),)=0,0.00000000001,IFERROR(INDEX(Přehled_body!$E$3:$ED$130,MATCH(Tabulka!$AI56,Přehled_body!$A$3:$A$130,0),MATCH(Tabulka!J$2,Přehled_body!$E$1:$ED$1,0)),)))","v":0},{"$f":"IF(IFERROR(INDEX(Přehled_body!$E$3:$ED$130,MATCH(Tabulka!$AI56,Přehled_body!$A$3:$A$130,0),MATCH(Tabulka!K$2,Přehled_body!$E$1:$ED$1,0)),)=\"\",,IF(IFERROR(INDEX(Přehled_body!$E$3:$ED$130,MATCH(Tabulka!$AI56,Přehled_body!$A$3:$A$130,0),MATCH(Tabulka!K$2,Přehled_body!$E$1:$ED$1,0)),)=0,0.00000000001,IFERROR(INDEX(Přehled_body!$E$3:$ED$130,MATCH(Tabulka!$AI56,Přehled_body!$A$3:$A$130,0),MATCH(Tabulka!K$2,Přehled_body!$E$1:$ED$1,0)),)))","v":0},{"$f":"IF(IFERROR(INDEX(Přehled_body!$E$3:$ED$130,MATCH(Tabulka!$AI56,Přehled_body!$A$3:$A$130,0),MATCH(Tabulka!L$2,Přehled_body!$E$1:$ED$1,0)),)=\"\",,IF(IFERROR(INDEX(Přehled_body!$E$3:$ED$130,MATCH(Tabulka!$AI56,Přehled_body!$A$3:$A$130,0),MATCH(Tabulka!L$2,Přehled_body!$E$1:$ED$1,0)),)=0,0.00000000001,IFERROR(INDEX(Přehled_body!$E$3:$ED$130,MATCH(Tabulka!$AI56,Přehled_body!$A$3:$A$130,0),MATCH(Tabulka!L$2,Přehled_body!$E$1:$ED$1,0)),)))","v":0},{"$f":"IF(IFERROR(INDEX(Přehled_body!$E$3:$ED$130,MATCH(Tabulka!$AI56,Přehled_body!$A$3:$A$130,0),MATCH(Tabulka!M$2,Přehled_body!$E$1:$ED$1,0)),)=\"\",,IF(IFERROR(INDEX(Přehled_body!$E$3:$ED$130,MATCH(Tabulka!$AI56,Přehled_body!$A$3:$A$130,0),MATCH(Tabulka!M$2,Přehled_body!$E$1:$ED$1,0)),)=0,0.00000000001,IFERROR(INDEX(Přehled_body!$E$3:$ED$130,MATCH(Tabulka!$AI56,Přehled_body!$A$3:$A$130,0),MATCH(Tabulka!M$2,Přehled_body!$E$1:$ED$1,0)),)))","v":9.9999999999999994E-12},{"$f":"IF(IFERROR(INDEX(Přehled_body!$E$3:$ED$130,MATCH(Tabulka!$AI56,Přehled_body!$A$3:$A$130,0),MATCH(Tabulka!N$2,Přehled_body!$E$1:$ED$1,0)),)=\"\",,IF(IFERROR(INDEX(Přehled_body!$E$3:$ED$130,MATCH(Tabulka!$AI56,Přehled_body!$A$3:$A$130,0),MATCH(Tabulka!N$2,Přehled_body!$E$1:$ED$1,0)),)=0,0.00000000001,IFERROR(INDEX(Přehled_body!$E$3:$ED$130,MATCH(Tabulka!$AI56,Přehled_body!$A$3:$A$130,0),MATCH(Tabulka!N$2,Přehled_body!$E$1:$ED$1,0)),)))","v":0},{"$f":"IF(IFERROR(INDEX(Přehled_body!$E$3:$ED$130,MATCH(Tabulka!$AI56,Přehled_body!$A$3:$A$130,0),MATCH(Tabulka!O$2,Přehled_body!$E$1:$ED$1,0)),)=\"\",,IF(IFERROR(INDEX(Přehled_body!$E$3:$ED$130,MATCH(Tabulka!$AI56,Přehled_body!$A$3:$A$130,0),MATCH(Tabulka!O$2,Přehled_body!$E$1:$ED$1,0)),)=0,0.00000000001,IFERROR(INDEX(Přehled_body!$E$3:$ED$130,MATCH(Tabulka!$AI56,Přehled_body!$A$3:$A$130,0),MATCH(Tabulka!O$2,Přehled_body!$E$1:$ED$1,0)),)))","v":0},{"$f":"IF(IFERROR(INDEX(Přehled_body!$E$3:$ED$130,MATCH(Tabulka!$AI56,Přehled_body!$A$3:$A$130,0),MATCH(Tabulka!P$2,Přehled_body!$E$1:$ED$1,0)),)=\"\",,IF(IFERROR(INDEX(Přehled_body!$E$3:$ED$130,MATCH(Tabulka!$AI56,Přehled_body!$A$3:$A$130,0),MATCH(Tabulka!P$2,Přehled_body!$E$1:$ED$1,0)),)=0,0.00000000001,IFERROR(INDEX(Přehled_body!$E$3:$ED$130,MATCH(Tabulka!$AI56,Přehled_body!$A$3:$A$130,0),MATCH(Tabulka!P$2,Přehled_body!$E$1:$ED$1,0)),)))","v":0},{"$f":"IF(IFERROR(INDEX(Přehled_body!$E$3:$ED$130,MATCH(Tabulka!$AI56,Přehled_body!$A$3:$A$130,0),MATCH(Tabulka!Q$2,Přehled_body!$E$1:$ED$1,0)),)=\"\",,IF(IFERROR(INDEX(Přehled_body!$E$3:$ED$130,MATCH(Tabulka!$AI56,Přehled_body!$A$3:$A$130,0),MATCH(Tabulka!Q$2,Přehled_body!$E$1:$ED$1,0)),)=0,0.00000000001,IFERROR(INDEX(Přehled_body!$E$3:$ED$130,MATCH(Tabulka!$AI56,Přehled_body!$A$3:$A$130,0),MATCH(Tabulka!Q$2,Přehled_body!$E$1:$ED$1,0)),)))","v":0},{"$f":"IF(IFERROR(INDEX(Přehled_body!$E$3:$ED$130,MATCH(Tabulka!$AI56,Přehled_body!$A$3:$A$130,0),MATCH(Tabulka!R$2,Přehled_body!$E$1:$ED$1,0)),)=\"\",,IF(IFERROR(INDEX(Přehled_body!$E$3:$ED$130,MATCH(Tabulka!$AI56,Přehled_body!$A$3:$A$130,0),MATCH(Tabulka!R$2,Přehled_body!$E$1:$ED$1,0)),)=0,0.00000000001,IFERROR(INDEX(Přehled_body!$E$3:$ED$130,MATCH(Tabulka!$AI56,Přehled_body!$A$3:$A$130,0),MATCH(Tabulka!R$2,Přehled_body!$E$1:$ED$1,0)),)))","v":0},{"$f":"IF(IFERROR(INDEX(Přehled_body!$E$3:$ED$130,MATCH(Tabulka!$AI56,Přehled_body!$A$3:$A$130,0),MATCH(Tabulka!S$2,Přehled_body!$E$1:$ED$1,0)),)=\"\",,IF(IFERROR(INDEX(Přehled_body!$E$3:$ED$130,MATCH(Tabulka!$AI56,Přehled_body!$A$3:$A$130,0),MATCH(Tabulka!S$2,Přehled_body!$E$1:$ED$1,0)),)=0,0.00000000001,IFERROR(INDEX(Přehled_body!$E$3:$ED$130,MATCH(Tabulka!$AI56,Přehled_body!$A$3:$A$130,0),MATCH(Tabulka!S$2,Přehled_body!$E$1:$ED$1,0)),)))","v":0},{"$f":"IF(IFERROR(INDEX(Přehled_body!$E$3:$ED$130,MATCH(Tabulka!$AI56,Přehled_body!$A$3:$A$130,0),MATCH(Tabulka!T$2,Přehled_body!$E$1:$ED$1,0)),)=\"\",,IF(IFERROR(INDEX(Přehled_body!$E$3:$ED$130,MATCH(Tabulka!$AI56,Přehled_body!$A$3:$A$130,0),MATCH(Tabulka!T$2,Přehled_body!$E$1:$ED$1,0)),)=0,0.00000000001,IFERROR(INDEX(Přehled_body!$E$3:$ED$130,MATCH(Tabulka!$AI56,Přehled_body!$A$3:$A$130,0),MATCH(Tabulka!T$2,Přehled_body!$E$1:$ED$1,0)),)))","v":0},{"$f":"IF(IFERROR(INDEX(Přehled_body!$E$3:$ED$130,MATCH(Tabulka!$AI56,Přehled_body!$A$3:$A$130,0),MATCH(Tabulka!U$2,Přehled_body!$E$1:$ED$1,0)),)=\"\",,IF(IFERROR(INDEX(Přehled_body!$E$3:$ED$130,MATCH(Tabulka!$AI56,Přehled_body!$A$3:$A$130,0),MATCH(Tabulka!U$2,Přehled_body!$E$1:$ED$1,0)),)=0,0.00000000001,IFERROR(INDEX(Přehled_body!$E$3:$ED$130,MATCH(Tabulka!$AI56,Přehled_body!$A$3:$A$130,0),MATCH(Tabulka!U$2,Přehled_body!$E$1:$ED$1,0)),)))","v":0},{"$f":"IF(IFERROR(INDEX(Přehled_body!$E$3:$ED$130,MATCH(Tabulka!$AI56,Přehled_body!$A$3:$A$130,0),MATCH(Tabulka!V$2,Přehled_body!$E$1:$ED$1,0)),)=\"\",,IF(IFERROR(INDEX(Přehled_body!$E$3:$ED$130,MATCH(Tabulka!$AI56,Přehled_body!$A$3:$A$130,0),MATCH(Tabulka!V$2,Přehled_body!$E$1:$ED$1,0)),)=0,0.00000000001,IFERROR(INDEX(Přehled_body!$E$3:$ED$130,MATCH(Tabulka!$AI56,Přehled_body!$A$3:$A$130,0),MATCH(Tabulka!V$2,Přehled_body!$E$1:$ED$1,0)),)))","v":0},{"$f":"IF(IFERROR(INDEX(Přehled_body!$E$3:$ED$130,MATCH(Tabulka!$AI56,Přehled_body!$A$3:$A$130,0),MATCH(Tabulka!W$2,Přehled_body!$E$1:$ED$1,0)),)=\"\",,IF(IFERROR(INDEX(Přehled_body!$E$3:$ED$130,MATCH(Tabulka!$AI56,Přehled_body!$A$3:$A$130,0),MATCH(Tabulka!W$2,Přehled_body!$E$1:$ED$1,0)),)=0,0.00000000001,IFERROR(INDEX(Přehled_body!$E$3:$ED$130,MATCH(Tabulka!$AI56,Přehled_body!$A$3:$A$130,0),MATCH(Tabulka!W$2,Přehled_body!$E$1:$ED$1,0)),)))","v":0},{"$f":"IF(IFERROR(INDEX(Přehled_body!$E$3:$ED$130,MATCH(Tabulka!$AI56,Přehled_body!$A$3:$A$130,0),MATCH(Tabulka!X$2,Přehled_body!$E$1:$ED$1,0)),)=\"\",,IF(IFERROR(INDEX(Přehled_body!$E$3:$ED$130,MATCH(Tabulka!$AI56,Přehled_body!$A$3:$A$130,0),MATCH(Tabulka!X$2,Přehled_body!$E$1:$ED$1,0)),)=0,0.00000000001,IFERROR(INDEX(Přehled_body!$E$3:$ED$130,MATCH(Tabulka!$AI56,Přehled_body!$A$3:$A$130,0),MATCH(Tabulka!X$2,Přehled_body!$E$1:$ED$1,0)),)))","v":0},{"$f":"IF(IFERROR(INDEX(Přehled_body!$E$3:$ED$130,MATCH(Tabulka!$AI56,Přehled_body!$A$3:$A$130,0),MATCH(Tabulka!Y$2,Přehled_body!$E$1:$ED$1,0)),)=\"\",,IF(IFERROR(INDEX(Přehled_body!$E$3:$ED$130,MATCH(Tabulka!$AI56,Přehled_body!$A$3:$A$130,0),MATCH(Tabulka!Y$2,Přehled_body!$E$1:$ED$1,0)),)=0,0.00000000001,IFERROR(INDEX(Přehled_body!$E$3:$ED$130,MATCH(Tabulka!$AI56,Přehled_body!$A$3:$A$130,0),MATCH(Tabulka!Y$2,Přehled_body!$E$1:$ED$1,0)),)))","v":0},{"$f":"IF(IFERROR(INDEX(Přehled_body!$E$3:$ED$130,MATCH(Tabulka!$AI56,Přehled_body!$A$3:$A$130,0),MATCH(Tabulka!Z$2,Přehled_body!$E$1:$ED$1,0)),)=\"\",,IF(IFERROR(INDEX(Přehled_body!$E$3:$ED$130,MATCH(Tabulka!$AI56,Přehled_body!$A$3:$A$130,0),MATCH(Tabulka!Z$2,Přehled_body!$E$1:$ED$1,0)),)=0,0.00000000001,IFERROR(INDEX(Přehled_body!$E$3:$ED$130,MATCH(Tabulka!$AI56,Přehled_body!$A$3:$A$130,0),MATCH(Tabulka!Z$2,Přehled_body!$E$1:$ED$1,0)),)))","v":0},{"$f":"IF(IFERROR(INDEX(Přehled_body!$E$3:$ED$130,MATCH(Tabulka!$AI56,Přehled_body!$A$3:$A$130,0),MATCH(Tabulka!AA$2,Přehled_body!$E$1:$ED$1,0)),)=\"\",,IF(IFERROR(INDEX(Přehled_body!$E$3:$ED$130,MATCH(Tabulka!$AI56,Přehled_body!$A$3:$A$130,0),MATCH(Tabulka!AA$2,Přehled_body!$E$1:$ED$1,0)),)=0,0.00000000001,IFERROR(INDEX(Přehled_body!$E$3:$ED$130,MATCH(Tabulka!$AI56,Přehled_body!$A$3:$A$130,0),MATCH(Tabulka!AA$2,Přehled_body!$E$1:$ED$1,0)),)))","v":0},{"$f":"IF(IFERROR(INDEX(Přehled_body!$E$3:$ED$130,MATCH(Tabulka!$AI56,Přehled_body!$A$3:$A$130,0),MATCH(Tabulka!AB$2,Přehled_body!$E$1:$ED$1,0)),)=\"\",,IF(IFERROR(INDEX(Přehled_body!$E$3:$ED$130,MATCH(Tabulka!$AI56,Přehled_body!$A$3:$A$130,0),MATCH(Tabulka!AB$2,Přehled_body!$E$1:$ED$1,0)),)=0,0.00000000001,IFERROR(INDEX(Přehled_body!$E$3:$ED$130,MATCH(Tabulka!$AI56,Přehled_body!$A$3:$A$130,0),MATCH(Tabulka!AB$2,Přehled_body!$E$1:$ED$1,0)),)))","v":0},{"$f":"IF(IFERROR(INDEX(Přehled_body!$E$3:$ED$130,MATCH(Tabulka!$AI56,Přehled_body!$A$3:$A$130,0),MATCH(Tabulka!AC$2,Přehled_body!$E$1:$ED$1,0)),)=\"\",,IF(IFERROR(INDEX(Přehled_body!$E$3:$ED$130,MATCH(Tabulka!$AI56,Přehled_body!$A$3:$A$130,0),MATCH(Tabulka!AC$2,Přehled_body!$E$1:$ED$1,0)),)=0,0.00000000001,IFERROR(INDEX(Přehled_body!$E$3:$ED$130,MATCH(Tabulka!$AI56,Přehled_body!$A$3:$A$130,0),MATCH(Tabulka!AC$2,Přehled_body!$E$1:$ED$1,0)),)))","v":0},{"$f":"IF(IFERROR(INDEX(Přehled_body!$E$3:$ED$130,MATCH(Tabulka!$AI56,Přehled_body!$A$3:$A$130,0),MATCH(Tabulka!AD$2,Přehled_body!$E$1:$ED$1,0)),)=\"\",,IF(IFERROR(INDEX(Přehled_body!$E$3:$ED$130,MATCH(Tabulka!$AI56,Přehled_body!$A$3:$A$130,0),MATCH(Tabulka!AD$2,Přehled_body!$E$1:$ED$1,0)),)=0,0.00000000001,IFERROR(INDEX(Přehled_body!$E$3:$ED$130,MATCH(Tabulka!$AI56,Přehled_body!$A$3:$A$130,0),MATCH(Tabulka!AD$2,Přehled_body!$E$1:$ED$1,0)),)))","v":0},{"$f":"IF(SUM($D$54:$AD$58)<1,-90000,SUM(D56:AD56))","v":1.9999999999999999E-11},null,null,null,{"$f":"CONCATENATE($B$55,\" \",$B$56,C56)","v":"Kuba ŠedivýPlaceno panáků"}]
[null,null,"Přehozy",{"$f":"IF(IFERROR(INDEX(Přehled_body!$E$3:$ED$130,MATCH(Tabulka!$AI57,Přehled_body!$A$3:$A$130,0),MATCH(Tabulka!D$2,Přehled_body!$E$1:$ED$1,0)),)=\"\",,IF(IFERROR(INDEX(Přehled_body!$E$3:$ED$130,MATCH(Tabulka!$AI57,Přehled_body!$A$3:$A$130,0),MATCH(Tabulka!D$2,Přehled_body!$E$1:$ED$1,0)),)=0,0.00000000001,IFERROR(INDEX(Přehled_body!$E$3:$ED$130,MATCH(Tabulka!$AI57,Přehled_body!$A$3:$A$130,0),MATCH(Tabulka!D$2,Přehled_body!$E$1:$ED$1,0)),)))","v":3},{"$f":"IF(IFERROR(INDEX(Přehled_body!$E$3:$ED$130,MATCH(Tabulka!$AI57,Přehled_body!$A$3:$A$130,0),MATCH(Tabulka!E$2,Přehled_body!$E$1:$ED$1,0)),)=\"\",,IF(IFERROR(INDEX(Přehled_body!$E$3:$ED$130,MATCH(Tabulka!$AI57,Přehled_body!$A$3:$A$130,0),MATCH(Tabulka!E$2,Přehled_body!$E$1:$ED$1,0)),)=0,0.00000000001,IFERROR(INDEX(Přehled_body!$E$3:$ED$130,MATCH(Tabulka!$AI57,Přehled_body!$A$3:$A$130,0),MATCH(Tabulka!E$2,Přehled_body!$E$1:$ED$1,0)),)))","v":0},{"$f":"IF(IFERROR(INDEX(Přehled_body!$E$3:$ED$130,MATCH(Tabulka!$AI57,Přehled_body!$A$3:$A$130,0),MATCH(Tabulka!F$2,Přehled_body!$E$1:$ED$1,0)),)=\"\",,IF(IFERROR(INDEX(Přehled_body!$E$3:$ED$130,MATCH(Tabulka!$AI57,Přehled_body!$A$3:$A$130,0),MATCH(Tabulka!F$2,Přehled_body!$E$1:$ED$1,0)),)=0,0.00000000001,IFERROR(INDEX(Přehled_body!$E$3:$ED$130,MATCH(Tabulka!$AI57,Přehled_body!$A$3:$A$130,0),MATCH(Tabulka!F$2,Přehled_body!$E$1:$ED$1,0)),)))","v":0},{"$f":"IF(IFERROR(INDEX(Přehled_body!$E$3:$ED$130,MATCH(Tabulka!$AI57,Přehled_body!$A$3:$A$130,0),MATCH(Tabulka!G$2,Přehled_body!$E$1:$ED$1,0)),)=\"\",,IF(IFERROR(INDEX(Přehled_body!$E$3:$ED$130,MATCH(Tabulka!$AI57,Přehled_body!$A$3:$A$130,0),MATCH(Tabulka!G$2,Přehled_body!$E$1:$ED$1,0)),)=0,0.00000000001,IFERROR(INDEX(Přehled_body!$E$3:$ED$130,MATCH(Tabulka!$AI57,Přehled_body!$A$3:$A$130,0),MATCH(Tabulka!G$2,Přehled_body!$E$1:$ED$1,0)),)))","v":0},{"$f":"IF(IFERROR(INDEX(Přehled_body!$E$3:$ED$130,MATCH(Tabulka!$AI57,Přehled_body!$A$3:$A$130,0),MATCH(Tabulka!H$2,Přehled_body!$E$1:$ED$1,0)),)=\"\",,IF(IFERROR(INDEX(Přehled_body!$E$3:$ED$130,MATCH(Tabulka!$AI57,Přehled_body!$A$3:$A$130,0),MATCH(Tabulka!H$2,Přehled_body!$E$1:$ED$1,0)),)=0,0.00000000001,IFERROR(INDEX(Přehled_body!$E$3:$ED$130,MATCH(Tabulka!$AI57,Přehled_body!$A$3:$A$130,0),MATCH(Tabulka!H$2,Přehled_body!$E$1:$ED$1,0)),)))","v":0},{"$f":"IF(IFERROR(INDEX(Přehled_body!$E$3:$ED$130,MATCH(Tabulka!$AI57,Přehled_body!$A$3:$A$130,0),MATCH(Tabulka!I$2,Přehled_body!$E$1:$ED$1,0)),)=\"\",,IF(IFERROR(INDEX(Přehled_body!$E$3:$ED$130,MATCH(Tabulka!$AI57,Přehled_body!$A$3:$A$130,0),MATCH(Tabulka!I$2,Přehled_body!$E$1:$ED$1,0)),)=0,0.00000000001,IFERROR(INDEX(Přehled_body!$E$3:$ED$130,MATCH(Tabulka!$AI57,Přehled_body!$A$3:$A$130,0),MATCH(Tabulka!I$2,Přehled_body!$E$1:$ED$1,0)),)))","v":0},{"$f":"IF(IFERROR(INDEX(Přehled_body!$E$3:$ED$130,MATCH(Tabulka!$AI57,Přehled_body!$A$3:$A$130,0),MATCH(Tabulka!J$2,Přehled_body!$E$1:$ED$1,0)),)=\"\",,IF(IFERROR(INDEX(Přehled_body!$E$3:$ED$130,MATCH(Tabulka!$AI57,Přehled_body!$A$3:$A$130,0),MATCH(Tabulka!J$2,Přehled_body!$E$1:$ED$1,0)),)=0,0.00000000001,IFERROR(INDEX(Přehled_body!$E$3:$ED$130,MATCH(Tabulka!$AI57,Přehled_body!$A$3:$A$130,0),MATCH(Tabulka!J$2,Přehled_body!$E$1:$ED$1,0)),)))","v":0},{"$f":"IF(IFERROR(INDEX(Přehled_body!$E$3:$ED$130,MATCH(Tabulka!$AI57,Přehled_body!$A$3:$A$130,0),MATCH(Tabulka!K$2,Přehled_body!$E$1:$ED$1,0)),)=\"\",,IF(IFERROR(INDEX(Přehled_body!$E$3:$ED$130,MATCH(Tabulka!$AI57,Přehled_body!$A$3:$A$130,0),MATCH(Tabulka!K$2,Přehled_body!$E$1:$ED$1,0)),)=0,0.00000000001,IFERROR(INDEX(Přehled_body!$E$3:$ED$130,MATCH(Tabulka!$AI57,Přehled_body!$A$3:$A$130,0),MATCH(Tabulka!K$2,Přehled_body!$E$1:$ED$1,0)),)))","v":0},{"$f":"IF(IFERROR(INDEX(Přehled_body!$E$3:$ED$130,MATCH(Tabulka!$AI57,Přehled_body!$A$3:$A$130,0),MATCH(Tabulka!L$2,Přehled_body!$E$1:$ED$1,0)),)=\"\",,IF(IFERROR(INDEX(Přehled_body!$E$3:$ED$130,MATCH(Tabulka!$AI57,Přehled_body!$A$3:$A$130,0),MATCH(Tabulka!L$2,Přehled_body!$E$1:$ED$1,0)),)=0,0.00000000001,IFERROR(INDEX(Přehled_body!$E$3:$ED$130,MATCH(Tabulka!$AI57,Přehled_body!$A$3:$A$130,0),MATCH(Tabulka!L$2,Přehled_body!$E$1:$ED$1,0)),)))","v":0},{"$f":"IF(IFERROR(INDEX(Přehled_body!$E$3:$ED$130,MATCH(Tabulka!$AI57,Přehled_body!$A$3:$A$130,0),MATCH(Tabulka!M$2,Přehled_body!$E$1:$ED$1,0)),)=\"\",,IF(IFERROR(INDEX(Přehled_body!$E$3:$ED$130,MATCH(Tabulka!$AI57,Přehled_body!$A$3:$A$130,0),MATCH(Tabulka!M$2,Přehled_body!$E$1:$ED$1,0)),)=0,0.00000000001,IFERROR(INDEX(Přehled_body!$E$3:$ED$130,MATCH(Tabulka!$AI57,Přehled_body!$A$3:$A$130,0),MATCH(Tabulka!M$2,Přehled_body!$E$1:$ED$1,0)),)))","v":3},{"$f":"IF(IFERROR(INDEX(Přehled_body!$E$3:$ED$130,MATCH(Tabulka!$AI57,Přehled_body!$A$3:$A$130,0),MATCH(Tabulka!N$2,Přehled_body!$E$1:$ED$1,0)),)=\"\",,IF(IFERROR(INDEX(Přehled_body!$E$3:$ED$130,MATCH(Tabulka!$AI57,Přehled_body!$A$3:$A$130,0),MATCH(Tabulka!N$2,Přehled_body!$E$1:$ED$1,0)),)=0,0.00000000001,IFERROR(INDEX(Přehled_body!$E$3:$ED$130,MATCH(Tabulka!$AI57,Přehled_body!$A$3:$A$130,0),MATCH(Tabulka!N$2,Přehled_body!$E$1:$ED$1,0)),)))","v":0},{"$f":"IF(IFERROR(INDEX(Přehled_body!$E$3:$ED$130,MATCH(Tabulka!$AI57,Přehled_body!$A$3:$A$130,0),MATCH(Tabulka!O$2,Přehled_body!$E$1:$ED$1,0)),)=\"\",,IF(IFERROR(INDEX(Přehled_body!$E$3:$ED$130,MATCH(Tabulka!$AI57,Přehled_body!$A$3:$A$130,0),MATCH(Tabulka!O$2,Přehled_body!$E$1:$ED$1,0)),)=0,0.00000000001,IFERROR(INDEX(Přehled_body!$E$3:$ED$130,MATCH(Tabulka!$AI57,Přehled_body!$A$3:$A$130,0),MATCH(Tabulka!O$2,Přehled_body!$E$1:$ED$1,0)),)))","v":0},{"$f":"IF(IFERROR(INDEX(Přehled_body!$E$3:$ED$130,MATCH(Tabulka!$AI57,Přehled_body!$A$3:$A$130,0),MATCH(Tabulka!P$2,Přehled_body!$E$1:$ED$1,0)),)=\"\",,IF(IFERROR(INDEX(Přehled_body!$E$3:$ED$130,MATCH(Tabulka!$AI57,Přehled_body!$A$3:$A$130,0),MATCH(Tabulka!P$2,Přehled_body!$E$1:$ED$1,0)),)=0,0.00000000001,IFERROR(INDEX(Přehled_body!$E$3:$ED$130,MATCH(Tabulka!$AI57,Přehled_body!$A$3:$A$130,0),MATCH(Tabulka!P$2,Přehled_body!$E$1:$ED$1,0)),)))","v":0},{"$f":"IF(IFERROR(INDEX(Přehled_body!$E$3:$ED$130,MATCH(Tabulka!$AI57,Přehled_body!$A$3:$A$130,0),MATCH(Tabulka!Q$2,Přehled_body!$E$1:$ED$1,0)),)=\"\",,IF(IFERROR(INDEX(Přehled_body!$E$3:$ED$130,MATCH(Tabulka!$AI57,Přehled_body!$A$3:$A$130,0),MATCH(Tabulka!Q$2,Přehled_body!$E$1:$ED$1,0)),)=0,0.00000000001,IFERROR(INDEX(Přehled_body!$E$3:$ED$130,MATCH(Tabulka!$AI57,Přehled_body!$A$3:$A$130,0),MATCH(Tabulka!Q$2,Přehled_body!$E$1:$ED$1,0)),)))","v":0},{"$f":"IF(IFERROR(INDEX(Přehled_body!$E$3:$ED$130,MATCH(Tabulka!$AI57,Přehled_body!$A$3:$A$130,0),MATCH(Tabulka!R$2,Přehled_body!$E$1:$ED$1,0)),)=\"\",,IF(IFERROR(INDEX(Přehled_body!$E$3:$ED$130,MATCH(Tabulka!$AI57,Přehled_body!$A$3:$A$130,0),MATCH(Tabulka!R$2,Přehled_body!$E$1:$ED$1,0)),)=0,0.00000000001,IFERROR(INDEX(Přehled_body!$E$3:$ED$130,MATCH(Tabulka!$AI57,Přehled_body!$A$3:$A$130,0),MATCH(Tabulka!R$2,Přehled_body!$E$1:$ED$1,0)),)))","v":0},{"$f":"IF(IFERROR(INDEX(Přehled_body!$E$3:$ED$130,MATCH(Tabulka!$AI57,Přehled_body!$A$3:$A$130,0),MATCH(Tabulka!S$2,Přehled_body!$E$1:$ED$1,0)),)=\"\",,IF(IFERROR(INDEX(Přehled_body!$E$3:$ED$130,MATCH(Tabulka!$AI57,Přehled_body!$A$3:$A$130,0),MATCH(Tabulka!S$2,Přehled_body!$E$1:$ED$1,0)),)=0,0.00000000001,IFERROR(INDEX(Přehled_body!$E$3:$ED$130,MATCH(Tabulka!$AI57,Přehled_body!$A$3:$A$130,0),MATCH(Tabulka!S$2,Přehled_body!$E$1:$ED$1,0)),)))","v":0},{"$f":"IF(IFERROR(INDEX(Přehled_body!$E$3:$ED$130,MATCH(Tabulka!$AI57,Přehled_body!$A$3:$A$130,0),MATCH(Tabulka!T$2,Přehled_body!$E$1:$ED$1,0)),)=\"\",,IF(IFERROR(INDEX(Přehled_body!$E$3:$ED$130,MATCH(Tabulka!$AI57,Přehled_body!$A$3:$A$130,0),MATCH(Tabulka!T$2,Přehled_body!$E$1:$ED$1,0)),)=0,0.00000000001,IFERROR(INDEX(Přehled_body!$E$3:$ED$130,MATCH(Tabulka!$AI57,Přehled_body!$A$3:$A$130,0),MATCH(Tabulka!T$2,Přehled_body!$E$1:$ED$1,0)),)))","v":0},{"$f":"IF(IFERROR(INDEX(Přehled_body!$E$3:$ED$130,MATCH(Tabulka!$AI57,Přehled_body!$A$3:$A$130,0),MATCH(Tabulka!U$2,Přehled_body!$E$1:$ED$1,0)),)=\"\",,IF(IFERROR(INDEX(Přehled_body!$E$3:$ED$130,MATCH(Tabulka!$AI57,Přehled_body!$A$3:$A$130,0),MATCH(Tabulka!U$2,Přehled_body!$E$1:$ED$1,0)),)=0,0.00000000001,IFERROR(INDEX(Přehled_body!$E$3:$ED$130,MATCH(Tabulka!$AI57,Přehled_body!$A$3:$A$130,0),MATCH(Tabulka!U$2,Přehled_body!$E$1:$ED$1,0)),)))","v":0},{"$f":"IF(IFERROR(INDEX(Přehled_body!$E$3:$ED$130,MATCH(Tabulka!$AI57,Přehled_body!$A$3:$A$130,0),MATCH(Tabulka!V$2,Přehled_body!$E$1:$ED$1,0)),)=\"\",,IF(IFERROR(INDEX(Přehled_body!$E$3:$ED$130,MATCH(Tabulka!$AI57,Přehled_body!$A$3:$A$130,0),MATCH(Tabulka!V$2,Přehled_body!$E$1:$ED$1,0)),)=0,0.00000000001,IFERROR(INDEX(Přehled_body!$E$3:$ED$130,MATCH(Tabulka!$AI57,Přehled_body!$A$3:$A$130,0),MATCH(Tabulka!V$2,Přehled_body!$E$1:$ED$1,0)),)))","v":0},{"$f":"IF(IFERROR(INDEX(Přehled_body!$E$3:$ED$130,MATCH(Tabulka!$AI57,Přehled_body!$A$3:$A$130,0),MATCH(Tabulka!W$2,Přehled_body!$E$1:$ED$1,0)),)=\"\",,IF(IFERROR(INDEX(Přehled_body!$E$3:$ED$130,MATCH(Tabulka!$AI57,Přehled_body!$A$3:$A$130,0),MATCH(Tabulka!W$2,Přehled_body!$E$1:$ED$1,0)),)=0,0.00000000001,IFERROR(INDEX(Přehled_body!$E$3:$ED$130,MATCH(Tabulka!$AI57,Přehled_body!$A$3:$A$130,0),MATCH(Tabulka!W$2,Přehled_body!$E$1:$ED$1,0)),)))","v":0},{"$f":"IF(IFERROR(INDEX(Přehled_body!$E$3:$ED$130,MATCH(Tabulka!$AI57,Přehled_body!$A$3:$A$130,0),MATCH(Tabulka!X$2,Přehled_body!$E$1:$ED$1,0)),)=\"\",,IF(IFERROR(INDEX(Přehled_body!$E$3:$ED$130,MATCH(Tabulka!$AI57,Přehled_body!$A$3:$A$130,0),MATCH(Tabulka!X$2,Přehled_body!$E$1:$ED$1,0)),)=0,0.00000000001,IFERROR(INDEX(Přehled_body!$E$3:$ED$130,MATCH(Tabulka!$AI57,Přehled_body!$A$3:$A$130,0),MATCH(Tabulka!X$2,Přehled_body!$E$1:$ED$1,0)),)))","v":0},{"$f":"IF(IFERROR(INDEX(Přehled_body!$E$3:$ED$130,MATCH(Tabulka!$AI57,Přehled_body!$A$3:$A$130,0),MATCH(Tabulka!Y$2,Přehled_body!$E$1:$ED$1,0)),)=\"\",,IF(IFERROR(INDEX(Přehled_body!$E$3:$ED$130,MATCH(Tabulka!$AI57,Přehled_body!$A$3:$A$130,0),MATCH(Tabulka!Y$2,Přehled_body!$E$1:$ED$1,0)),)=0,0.00000000001,IFERROR(INDEX(Přehled_body!$E$3:$ED$130,MATCH(Tabulka!$AI57,Přehled_body!$A$3:$A$130,0),MATCH(Tabulka!Y$2,Přehled_body!$E$1:$ED$1,0)),)))","v":0},{"$f":"IF(IFERROR(INDEX(Přehled_body!$E$3:$ED$130,MATCH(Tabulka!$AI57,Přehled_body!$A$3:$A$130,0),MATCH(Tabulka!Z$2,Přehled_body!$E$1:$ED$1,0)),)=\"\",,IF(IFERROR(INDEX(Přehled_body!$E$3:$ED$130,MATCH(Tabulka!$AI57,Přehled_body!$A$3:$A$130,0),MATCH(Tabulka!Z$2,Přehled_body!$E$1:$ED$1,0)),)=0,0.00000000001,IFERROR(INDEX(Přehled_body!$E$3:$ED$130,MATCH(Tabulka!$AI57,Přehled_body!$A$3:$A$130,0),MATCH(Tabulka!Z$2,Přehled_body!$E$1:$ED$1,0)),)))","v":0},{"$f":"IF(IFERROR(INDEX(Přehled_body!$E$3:$ED$130,MATCH(Tabulka!$AI57,Přehled_body!$A$3:$A$130,0),MATCH(Tabulka!AA$2,Přehled_body!$E$1:$ED$1,0)),)=\"\",,IF(IFERROR(INDEX(Přehled_body!$E$3:$ED$130,MATCH(Tabulka!$AI57,Přehled_body!$A$3:$A$130,0),MATCH(Tabulka!AA$2,Přehled_body!$E$1:$ED$1,0)),)=0,0.00000000001,IFERROR(INDEX(Přehled_body!$E$3:$ED$130,MATCH(Tabulka!$AI57,Přehled_body!$A$3:$A$130,0),MATCH(Tabulka!AA$2,Přehled_body!$E$1:$ED$1,0)),)))","v":0},{"$f":"IF(IFERROR(INDEX(Přehled_body!$E$3:$ED$130,MATCH(Tabulka!$AI57,Přehled_body!$A$3:$A$130,0),MATCH(Tabulka!AB$2,Přehled_body!$E$1:$ED$1,0)),)=\"\",,IF(IFERROR(INDEX(Přehled_body!$E$3:$ED$130,MATCH(Tabulka!$AI57,Přehled_body!$A$3:$A$130,0),MATCH(Tabulka!AB$2,Přehled_body!$E$1:$ED$1,0)),)=0,0.00000000001,IFERROR(INDEX(Přehled_body!$E$3:$ED$130,MATCH(Tabulka!$AI57,Přehled_body!$A$3:$A$130,0),MATCH(Tabulka!AB$2,Přehled_body!$E$1:$ED$1,0)),)))","v":0},{"$f":"IF(IFERROR(INDEX(Přehled_body!$E$3:$ED$130,MATCH(Tabulka!$AI57,Přehled_body!$A$3:$A$130,0),MATCH(Tabulka!AC$2,Přehled_body!$E$1:$ED$1,0)),)=\"\",,IF(IFERROR(INDEX(Přehled_body!$E$3:$ED$130,MATCH(Tabulka!$AI57,Přehled_body!$A$3:$A$130,0),MATCH(Tabulka!AC$2,Přehled_body!$E$1:$ED$1,0)),)=0,0.00000000001,IFERROR(INDEX(Přehled_body!$E$3:$ED$130,MATCH(Tabulka!$AI57,Přehled_body!$A$3:$A$130,0),MATCH(Tabulka!AC$2,Přehled_body!$E$1:$ED$1,0)),)))","v":0},{"$f":"IF(IFERROR(INDEX(Přehled_body!$E$3:$ED$130,MATCH(Tabulka!$AI57,Přehled_body!$A$3:$A$130,0),MATCH(Tabulka!AD$2,Přehled_body!$E$1:$ED$1,0)),)=\"\",,IF(IFERROR(INDEX(Přehled_body!$E$3:$ED$130,MATCH(Tabulka!$AI57,Přehled_body!$A$3:$A$130,0),MATCH(Tabulka!AD$2,Přehled_body!$E$1:$ED$1,0)),)=0,0.00000000001,IFERROR(INDEX(Přehled_body!$E$3:$ED$130,MATCH(Tabulka!$AI57,Přehled_body!$A$3:$A$130,0),MATCH(Tabulka!AD$2,Přehled_body!$E$1:$ED$1,0)),)))","v":0},{"$f":"IF(SUM($D$54:$AD$58)<1,-90000,SUM(D57:AD57))","v":6},null,null,null,{"$f":"CONCATENATE($B$55,\" \",$B$56,C57)","v":"Kuba ŠedivýPřehozy"}]
[null,null,"Poč. kol",{"$f":"IF(IFERROR(INDEX(Přehled_body!$E$3:$ED$130,MATCH(Tabulka!$AI58,Přehled_body!$A$3:$A$130,0),MATCH(Tabulka!D$2,Přehled_body!$E$1:$ED$1,0)),)=\"\",,IF(IFERROR(INDEX(Přehled_body!$E$3:$ED$130,MATCH(Tabulka!$AI58,Přehled_body!$A$3:$A$130,0),MATCH(Tabulka!D$2,Přehled_body!$E$1:$ED$1,0)),)=0,0.00000000001,IFERROR(INDEX(Přehled_body!$E$3:$ED$130,MATCH(Tabulka!$AI58,Přehled_body!$A$3:$A$130,0),MATCH(Tabulka!D$2,Přehled_body!$E$1:$ED$1,0)),)))","v":3},{"$f":"IF(IFERROR(INDEX(Přehled_body!$E$3:$ED$130,MATCH(Tabulka!$AI58,Přehled_body!$A$3:$A$130,0),MATCH(Tabulka!E$2,Přehled_body!$E$1:$ED$1,0)),)=\"\",,IF(IFERROR(INDEX(Přehled_body!$E$3:$ED$130,MATCH(Tabulka!$AI58,Přehled_body!$A$3:$A$130,0),MATCH(Tabulka!E$2,Přehled_body!$E$1:$ED$1,0)),)=0,0.00000000001,IFERROR(INDEX(Přehled_body!$E$3:$ED$130,MATCH(Tabulka!$AI58,Přehled_body!$A$3:$A$130,0),MATCH(Tabulka!E$2,Přehled_body!$E$1:$ED$1,0)),)))","v":0},{"$f":"IF(IFERROR(INDEX(Přehled_body!$E$3:$ED$130,MATCH(Tabulka!$AI58,Přehled_body!$A$3:$A$130,0),MATCH(Tabulka!F$2,Přehled_body!$E$1:$ED$1,0)),)=\"\",,IF(IFERROR(INDEX(Přehled_body!$E$3:$ED$130,MATCH(Tabulka!$AI58,Přehled_body!$A$3:$A$130,0),MATCH(Tabulka!F$2,Přehled_body!$E$1:$ED$1,0)),)=0,0.00000000001,IFERROR(INDEX(Přehled_body!$E$3:$ED$130,MATCH(Tabulka!$AI58,Přehled_body!$A$3:$A$130,0),MATCH(Tabulka!F$2,Přehled_body!$E$1:$ED$1,0)),)))","v":0},{"$f":"IF(IFERROR(INDEX(Přehled_body!$E$3:$ED$130,MATCH(Tabulka!$AI58,Přehled_body!$A$3:$A$130,0),MATCH(Tabulka!G$2,Přehled_body!$E$1:$ED$1,0)),)=\"\",,IF(IFERROR(INDEX(Přehled_body!$E$3:$ED$130,MATCH(Tabulka!$AI58,Přehled_body!$A$3:$A$130,0),MATCH(Tabulka!G$2,Přehled_body!$E$1:$ED$1,0)),)=0,0.00000000001,IFERROR(INDEX(Přehled_body!$E$3:$ED$130,MATCH(Tabulka!$AI58,Přehled_body!$A$3:$A$130,0),MATCH(Tabulka!G$2,Přehled_body!$E$1:$ED$1,0)),)))","v":0},{"$f":"IF(IFERROR(INDEX(Přehled_body!$E$3:$ED$130,MATCH(Tabulka!$AI58,Přehled_body!$A$3:$A$130,0),MATCH(Tabulka!H$2,Přehled_body!$E$1:$ED$1,0)),)=\"\",,IF(IFERROR(INDEX(Přehled_body!$E$3:$ED$130,MATCH(Tabulka!$AI58,Přehled_body!$A$3:$A$130,0),MATCH(Tabulka!H$2,Přehled_body!$E$1:$ED$1,0)),)=0,0.00000000001,IFERROR(INDEX(Přehled_body!$E$3:$ED$130,MATCH(Tabulka!$AI58,Přehled_body!$A$3:$A$130,0),MATCH(Tabulka!H$2,Přehled_body!$E$1:$ED$1,0)),)))","v":0},{"$f":"IF(IFERROR(INDEX(Přehled_body!$E$3:$ED$130,MATCH(Tabulka!$AI58,Přehled_body!$A$3:$A$130,0),MATCH(Tabulka!I$2,Přehled_body!$E$1:$ED$1,0)),)=\"\",,IF(IFERROR(INDEX(Přehled_body!$E$3:$ED$130,MATCH(Tabulka!$AI58,Přehled_body!$A$3:$A$130,0),MATCH(Tabulka!I$2,Přehled_body!$E$1:$ED$1,0)),)=0,0.00000000001,IFERROR(INDEX(Přehled_body!$E$3:$ED$130,MATCH(Tabulka!$AI58,Přehled_body!$A$3:$A$130,0),MATCH(Tabulka!I$2,Přehled_body!$E$1:$ED$1,0)),)))","v":0},{"$f":"IF(IFERROR(INDEX(Přehled_body!$E$3:$ED$130,MATCH(Tabulka!$AI58,Přehled_body!$A$3:$A$130,0),MATCH(Tabulka!J$2,Přehled_body!$E$1:$ED$1,0)),)=\"\",,IF(IFERROR(INDEX(Přehled_body!$E$3:$ED$130,MATCH(Tabulka!$AI58,Přehled_body!$A$3:$A$130,0),MATCH(Tabulka!J$2,Přehled_body!$E$1:$ED$1,0)),)=0,0.00000000001,IFERROR(INDEX(Přehled_body!$E$3:$ED$130,MATCH(Tabulka!$AI58,Přehled_body!$A$3:$A$130,0),MATCH(Tabulka!J$2,Přehled_body!$E$1:$ED$1,0)),)))","v":0},{"$f":"IF(IFERROR(INDEX(Přehled_body!$E$3:$ED$130,MATCH(Tabulka!$AI58,Přehled_body!$A$3:$A$130,0),MATCH(Tabulka!K$2,Přehled_body!$E$1:$ED$1,0)),)=\"\",,IF(IFERROR(INDEX(Přehled_body!$E$3:$ED$130,MATCH(Tabulka!$AI58,Přehled_body!$A$3:$A$130,0),MATCH(Tabulka!K$2,Přehled_body!$E$1:$ED$1,0)),)=0,0.00000000001,IFERROR(INDEX(Přehled_body!$E$3:$ED$130,MATCH(Tabulka!$AI58,Přehled_body!$A$3:$A$130,0),MATCH(Tabulka!K$2,Přehled_body!$E$1:$ED$1,0)),)))","v":0},{"$f":"IF(IFERROR(INDEX(Přehled_body!$E$3:$ED$130,MATCH(Tabulka!$AI58,Přehled_body!$A$3:$A$130,0),MATCH(Tabulka!L$2,Přehled_body!$E$1:$ED$1,0)),)=\"\",,IF(IFERROR(INDEX(Přehled_body!$E$3:$ED$130,MATCH(Tabulka!$AI58,Přehled_body!$A$3:$A$130,0),MATCH(Tabulka!L$2,Přehled_body!$E$1:$ED$1,0)),)=0,0.00000000001,IFERROR(INDEX(Přehled_body!$E$3:$ED$130,MATCH(Tabulka!$AI58,Přehled_body!$A$3:$A$130,0),MATCH(Tabulka!L$2,Přehled_body!$E$1:$ED$1,0)),)))","v":0},{"$f":"IF(IFERROR(INDEX(Přehled_body!$E$3:$ED$130,MATCH(Tabulka!$AI58,Přehled_body!$A$3:$A$130,0),MATCH(Tabulka!M$2,Přehled_body!$E$1:$ED$1,0)),)=\"\",,IF(IFERROR(INDEX(Přehled_body!$E$3:$ED$130,MATCH(Tabulka!$AI58,Přehled_body!$A$3:$A$130,0),MATCH(Tabulka!M$2,Přehled_body!$E$1:$ED$1,0)),)=0,0.00000000001,IFERROR(INDEX(Přehled_body!$E$3:$ED$130,MATCH(Tabulka!$AI58,Přehled_body!$A$3:$A$130,0),MATCH(Tabulka!M$2,Přehled_body!$E$1:$ED$1,0)),)))","v":4},{"$f":"IF(IFERROR(INDEX(Přehled_body!$E$3:$ED$130,MATCH(Tabulka!$AI58,Přehled_body!$A$3:$A$130,0),MATCH(Tabulka!N$2,Přehled_body!$E$1:$ED$1,0)),)=\"\",,IF(IFERROR(INDEX(Přehled_body!$E$3:$ED$130,MATCH(Tabulka!$AI58,Přehled_body!$A$3:$A$130,0),MATCH(Tabulka!N$2,Přehled_body!$E$1:$ED$1,0)),)=0,0.00000000001,IFERROR(INDEX(Přehled_body!$E$3:$ED$130,MATCH(Tabulka!$AI58,Přehled_body!$A$3:$A$130,0),MATCH(Tabulka!N$2,Přehled_body!$E$1:$ED$1,0)),)))","v":0},{"$f":"IF(IFERROR(INDEX(Přehled_body!$E$3:$ED$130,MATCH(Tabulka!$AI58,Přehled_body!$A$3:$A$130,0),MATCH(Tabulka!O$2,Přehled_body!$E$1:$ED$1,0)),)=\"\",,IF(IFERROR(INDEX(Přehled_body!$E$3:$ED$130,MATCH(Tabulka!$AI58,Přehled_body!$A$3:$A$130,0),MATCH(Tabulka!O$2,Přehled_body!$E$1:$ED$1,0)),)=0,0.00000000001,IFERROR(INDEX(Přehled_body!$E$3:$ED$130,MATCH(Tabulka!$AI58,Přehled_body!$A$3:$A$130,0),MATCH(Tabulka!O$2,Přehled_body!$E$1:$ED$1,0)),)))","v":0},{"$f":"IF(IFERROR(INDEX(Přehled_body!$E$3:$ED$130,MATCH(Tabulka!$AI58,Přehled_body!$A$3:$A$130,0),MATCH(Tabulka!P$2,Přehled_body!$E$1:$ED$1,0)),)=\"\",,IF(IFERROR(INDEX(Přehled_body!$E$3:$ED$130,MATCH(Tabulka!$AI58,Přehled_body!$A$3:$A$130,0),MATCH(Tabulka!P$2,Přehled_body!$E$1:$ED$1,0)),)=0,0.00000000001,IFERROR(INDEX(Přehled_body!$E$3:$ED$130,MATCH(Tabulka!$AI58,Přehled_body!$A$3:$A$130,0),MATCH(Tabulka!P$2,Přehled_body!$E$1:$ED$1,0)),)))","v":0},{"$f":"IF(IFERROR(INDEX(Přehled_body!$E$3:$ED$130,MATCH(Tabulka!$AI58,Přehled_body!$A$3:$A$130,0),MATCH(Tabulka!Q$2,Přehled_body!$E$1:$ED$1,0)),)=\"\",,IF(IFERROR(INDEX(Přehled_body!$E$3:$ED$130,MATCH(Tabulka!$AI58,Přehled_body!$A$3:$A$130,0),MATCH(Tabulka!Q$2,Přehled_body!$E$1:$ED$1,0)),)=0,0.00000000001,IFERROR(INDEX(Přehled_body!$E$3:$ED$130,MATCH(Tabulka!$AI58,Přehled_body!$A$3:$A$130,0),MATCH(Tabulka!Q$2,Přehled_body!$E$1:$ED$1,0)),)))","v":0},{"$f":"IF(IFERROR(INDEX(Přehled_body!$E$3:$ED$130,MATCH(Tabulka!$AI58,Přehled_body!$A$3:$A$130,0),MATCH(Tabulka!R$2,Přehled_body!$E$1:$ED$1,0)),)=\"\",,IF(IFERROR(INDEX(Přehled_body!$E$3:$ED$130,MATCH(Tabulka!$AI58,Přehled_body!$A$3:$A$130,0),MATCH(Tabulka!R$2,Přehled_body!$E$1:$ED$1,0)),)=0,0.00000000001,IFERROR(INDEX(Přehled_body!$E$3:$ED$130,MATCH(Tabulka!$AI58,Přehled_body!$A$3:$A$130,0),MATCH(Tabulka!R$2,Přehled_body!$E$1:$ED$1,0)),)))","v":0},{"$f":"IF(IFERROR(INDEX(Přehled_body!$E$3:$ED$130,MATCH(Tabulka!$AI58,Přehled_body!$A$3:$A$130,0),MATCH(Tabulka!S$2,Přehled_body!$E$1:$ED$1,0)),)=\"\",,IF(IFERROR(INDEX(Přehled_body!$E$3:$ED$130,MATCH(Tabulka!$AI58,Přehled_body!$A$3:$A$130,0),MATCH(Tabulka!S$2,Přehled_body!$E$1:$ED$1,0)),)=0,0.00000000001,IFERROR(INDEX(Přehled_body!$E$3:$ED$130,MATCH(Tabulka!$AI58,Přehled_body!$A$3:$A$130,0),MATCH(Tabulka!S$2,Přehled_body!$E$1:$ED$1,0)),)))","v":0},{"$f":"IF(IFERROR(INDEX(Přehled_body!$E$3:$ED$130,MATCH(Tabulka!$AI58,Přehled_body!$A$3:$A$130,0),MATCH(Tabulka!T$2,Přehled_body!$E$1:$ED$1,0)),)=\"\",,IF(IFERROR(INDEX(Přehled_body!$E$3:$ED$130,MATCH(Tabulka!$AI58,Přehled_body!$A$3:$A$130,0),MATCH(Tabulka!T$2,Přehled_body!$E$1:$ED$1,0)),)=0,0.00000000001,IFERROR(INDEX(Přehled_body!$E$3:$ED$130,MATCH(Tabulka!$AI58,Přehled_body!$A$3:$A$130,0),MATCH(Tabulka!T$2,Přehled_body!$E$1:$ED$1,0)),)))","v":0},{"$f":"IF(IFERROR(INDEX(Přehled_body!$E$3:$ED$130,MATCH(Tabulka!$AI58,Přehled_body!$A$3:$A$130,0),MATCH(Tabulka!U$2,Přehled_body!$E$1:$ED$1,0)),)=\"\",,IF(IFERROR(INDEX(Přehled_body!$E$3:$ED$130,MATCH(Tabulka!$AI58,Přehled_body!$A$3:$A$130,0),MATCH(Tabulka!U$2,Přehled_body!$E$1:$ED$1,0)),)=0,0.00000000001,IFERROR(INDEX(Přehled_body!$E$3:$ED$130,MATCH(Tabulka!$AI58,Přehled_body!$A$3:$A$130,0),MATCH(Tabulka!U$2,Přehled_body!$E$1:$ED$1,0)),)))","v":0},{"$f":"IF(IFERROR(INDEX(Přehled_body!$E$3:$ED$130,MATCH(Tabulka!$AI58,Přehled_body!$A$3:$A$130,0),MATCH(Tabulka!V$2,Přehled_body!$E$1:$ED$1,0)),)=\"\",,IF(IFERROR(INDEX(Přehled_body!$E$3:$ED$130,MATCH(Tabulka!$AI58,Přehled_body!$A$3:$A$130,0),MATCH(Tabulka!V$2,Přehled_body!$E$1:$ED$1,0)),)=0,0.00000000001,IFERROR(INDEX(Přehled_body!$E$3:$ED$130,MATCH(Tabulka!$AI58,Přehled_body!$A$3:$A$130,0),MATCH(Tabulka!V$2,Přehled_body!$E$1:$ED$1,0)),)))","v":0},{"$f":"IF(IFERROR(INDEX(Přehled_body!$E$3:$ED$130,MATCH(Tabulka!$AI58,Přehled_body!$A$3:$A$130,0),MATCH(Tabulka!W$2,Přehled_body!$E$1:$ED$1,0)),)=\"\",,IF(IFERROR(INDEX(Přehled_body!$E$3:$ED$130,MATCH(Tabulka!$AI58,Přehled_body!$A$3:$A$130,0),MATCH(Tabulka!W$2,Přehled_body!$E$1:$ED$1,0)),)=0,0.00000000001,IFERROR(INDEX(Přehled_body!$E$3:$ED$130,MATCH(Tabulka!$AI58,Přehled_body!$A$3:$A$130,0),MATCH(Tabulka!W$2,Přehled_body!$E$1:$ED$1,0)),)))","v":0},{"$f":"IF(IFERROR(INDEX(Přehled_body!$E$3:$ED$130,MATCH(Tabulka!$AI58,Přehled_body!$A$3:$A$130,0),MATCH(Tabulka!X$2,Přehled_body!$E$1:$ED$1,0)),)=\"\",,IF(IFERROR(INDEX(Přehled_body!$E$3:$ED$130,MATCH(Tabulka!$AI58,Přehled_body!$A$3:$A$130,0),MATCH(Tabulka!X$2,Přehled_body!$E$1:$ED$1,0)),)=0,0.00000000001,IFERROR(INDEX(Přehled_body!$E$3:$ED$130,MATCH(Tabulka!$AI58,Přehled_body!$A$3:$A$130,0),MATCH(Tabulka!X$2,Přehled_body!$E$1:$ED$1,0)),)))","v":0},{"$f":"IF(IFERROR(INDEX(Přehled_body!$E$3:$ED$130,MATCH(Tabulka!$AI58,Přehled_body!$A$3:$A$130,0),MATCH(Tabulka!Y$2,Přehled_body!$E$1:$ED$1,0)),)=\"\",,IF(IFERROR(INDEX(Přehled_body!$E$3:$ED$130,MATCH(Tabulka!$AI58,Přehled_body!$A$3:$A$130,0),MATCH(Tabulka!Y$2,Přehled_body!$E$1:$ED$1,0)),)=0,0.00000000001,IFERROR(INDEX(Přehled_body!$E$3:$ED$130,MATCH(Tabulka!$AI58,Přehled_body!$A$3:$A$130,0),MATCH(Tabulka!Y$2,Přehled_body!$E$1:$ED$1,0)),)))","v":0},{"$f":"IF(IFERROR(INDEX(Přehled_body!$E$3:$ED$130,MATCH(Tabulka!$AI58,Přehled_body!$A$3:$A$130,0),MATCH(Tabulka!Z$2,Přehled_body!$E$1:$ED$1,0)),)=\"\",,IF(IFERROR(INDEX(Přehled_body!$E$3:$ED$130,MATCH(Tabulka!$AI58,Přehled_body!$A$3:$A$130,0),MATCH(Tabulka!Z$2,Přehled_body!$E$1:$ED$1,0)),)=0,0.00000000001,IFERROR(INDEX(Přehled_body!$E$3:$ED$130,MATCH(Tabulka!$AI58,Přehled_body!$A$3:$A$130,0),MATCH(Tabulka!Z$2,Přehled_body!$E$1:$ED$1,0)),)))","v":0},{"$f":"IF(IFERROR(INDEX(Přehled_body!$E$3:$ED$130,MATCH(Tabulka!$AI58,Přehled_body!$A$3:$A$130,0),MATCH(Tabulka!AA$2,Přehled_body!$E$1:$ED$1,0)),)=\"\",,IF(IFERROR(INDEX(Přehled_body!$E$3:$ED$130,MATCH(Tabulka!$AI58,Přehled_body!$A$3:$A$130,0),MATCH(Tabulka!AA$2,Přehled_body!$E$1:$ED$1,0)),)=0,0.00000000001,IFERROR(INDEX(Přehled_body!$E$3:$ED$130,MATCH(Tabulka!$AI58,Přehled_body!$A$3:$A$130,0),MATCH(Tabulka!AA$2,Přehled_body!$E$1:$ED$1,0)),)))","v":0},{"$f":"IF(IFERROR(INDEX(Přehled_body!$E$3:$ED$130,MATCH(Tabulka!$AI58,Přehled_body!$A$3:$A$130,0),MATCH(Tabulka!AB$2,Přehled_body!$E$1:$ED$1,0)),)=\"\",,IF(IFERROR(INDEX(Přehled_body!$E$3:$ED$130,MATCH(Tabulka!$AI58,Přehled_body!$A$3:$A$130,0),MATCH(Tabulka!AB$2,Přehled_body!$E$1:$ED$1,0)),)=0,0.00000000001,IFERROR(INDEX(Přehled_body!$E$3:$ED$130,MATCH(Tabulka!$AI58,Přehled_body!$A$3:$A$130,0),MATCH(Tabulka!AB$2,Přehled_body!$E$1:$ED$1,0)),)))","v":0},{"$f":"IF(IFERROR(INDEX(Přehled_body!$E$3:$ED$130,MATCH(Tabulka!$AI58,Přehled_body!$A$3:$A$130,0),MATCH(Tabulka!AC$2,Přehled_body!$E$1:$ED$1,0)),)=\"\",,IF(IFERROR(INDEX(Přehled_body!$E$3:$ED$130,MATCH(Tabulka!$AI58,Přehled_body!$A$3:$A$130,0),MATCH(Tabulka!AC$2,Přehled_body!$E$1:$ED$1,0)),)=0,0.00000000001,IFERROR(INDEX(Přehled_body!$E$3:$ED$130,MATCH(Tabulka!$AI58,Přehled_body!$A$3:$A$130,0),MATCH(Tabulka!AC$2,Přehled_body!$E$1:$ED$1,0)),)))","v":0},{"$f":"IF(IFERROR(INDEX(Přehled_body!$E$3:$ED$130,MATCH(Tabulka!$AI58,Přehled_body!$A$3:$A$130,0),MATCH(Tabulka!AD$2,Přehled_body!$E$1:$ED$1,0)),)=\"\",,IF(IFERROR(INDEX(Přehled_body!$E$3:$ED$130,MATCH(Tabulka!$AI58,Přehled_body!$A$3:$A$130,0),MATCH(Tabulka!AD$2,Přehled_body!$E$1:$ED$1,0)),)=0,0.00000000001,IFERROR(INDEX(Přehled_body!$E$3:$ED$130,MATCH(Tabulka!$AI58,Přehled_body!$A$3:$A$130,0),MATCH(Tabulka!AD$2,Přehled_body!$E$1:$ED$1,0)),)))","v":0},{"$f":"IF(SUM($D$54:$AD$58)<1,-90000,SUM(D58:AD58))","v":7},null,null,null,{"$f":"CONCATENATE($B$55,\" \",$B$56,C58)","v":"Kuba ŠedivýPoč. kol"}]
[null,null,"Výhry",{"$f":"IF(IFERROR(INDEX(Přehled_body!$E$3:$ED$130,MATCH(Tabulka!$AI59,Přehled_body!$A$3:$A$130,0),MATCH(Tabulka!D$2,Přehled_body!$E$1:$ED$1,0)),)=\"\",,IF(IFERROR(INDEX(Přehled_body!$E$3:$ED$130,MATCH(Tabulka!$AI59,Přehled_body!$A$3:$A$130,0),MATCH(Tabulka!D$2,Přehled_body!$E$1:$ED$1,0)),)=0,0.00000000001,IFERROR(INDEX(Přehled_body!$E$3:$ED$130,MATCH(Tabulka!$AI59,Přehled_body!$A$3:$A$130,0),MATCH(Tabulka!D$2,Přehled_body!$E$1:$ED$1,0)),)))","v":9.9999999999999994E-12},{"$f":"IF(IFERROR(INDEX(Přehled_body!$E$3:$ED$130,MATCH(Tabulka!$AI59,Přehled_body!$A$3:$A$130,0),MATCH(Tabulka!E$2,Přehled_body!$E$1:$ED$1,0)),)=\"\",,IF(IFERROR(INDEX(Přehled_body!$E$3:$ED$130,MATCH(Tabulka!$AI59,Přehled_body!$A$3:$A$130,0),MATCH(Tabulka!E$2,Přehled_body!$E$1:$ED$1,0)),)=0,0.00000000001,IFERROR(INDEX(Přehled_body!$E$3:$ED$130,MATCH(Tabulka!$AI59,Přehled_body!$A$3:$A$130,0),MATCH(Tabulka!E$2,Přehled_body!$E$1:$ED$1,0)),)))","v":2},{"$f":"IF(IFERROR(INDEX(Přehled_body!$E$3:$ED$130,MATCH(Tabulka!$AI59,Přehled_body!$A$3:$A$130,0),MATCH(Tabulka!F$2,Přehled_body!$E$1:$ED$1,0)),)=\"\",,IF(IFERROR(INDEX(Přehled_body!$E$3:$ED$130,MATCH(Tabulka!$AI59,Přehled_body!$A$3:$A$130,0),MATCH(Tabulka!F$2,Přehled_body!$E$1:$ED$1,0)),)=0,0.00000000001,IFERROR(INDEX(Přehled_body!$E$3:$ED$130,MATCH(Tabulka!$AI59,Přehled_body!$A$3:$A$130,0),MATCH(Tabulka!F$2,Přehled_body!$E$1:$ED$1,0)),)))","v":0},{"$f":"IF(IFERROR(INDEX(Přehled_body!$E$3:$ED$130,MATCH(Tabulka!$AI59,Přehled_body!$A$3:$A$130,0),MATCH(Tabulka!G$2,Přehled_body!$E$1:$ED$1,0)),)=\"\",,IF(IFERROR(INDEX(Přehled_body!$E$3:$ED$130,MATCH(Tabulka!$AI59,Přehled_body!$A$3:$A$130,0),MATCH(Tabulka!G$2,Přehled_body!$E$1:$ED$1,0)),)=0,0.00000000001,IFERROR(INDEX(Přehled_body!$E$3:$ED$130,MATCH(Tabulka!$AI59,Přehled_body!$A$3:$A$130,0),MATCH(Tabulka!G$2,Přehled_body!$E$1:$ED$1,0)),)))","v":9.9999999999999994E-12},{"$f":"IF(IFERROR(INDEX(Přehled_body!$E$3:$ED$130,MATCH(Tabulka!$AI59,Přehled_body!$A$3:$A$130,0),MATCH(Tabulka!H$2,Přehled_body!$E$1:$ED$1,0)),)=\"\",,IF(IFERROR(INDEX(Přehled_body!$E$3:$ED$130,MATCH(Tabulka!$AI59,Přehled_body!$A$3:$A$130,0),MATCH(Tabulka!H$2,Přehled_body!$E$1:$ED$1,0)),)=0,0.00000000001,IFERROR(INDEX(Přehled_body!$E$3:$ED$130,MATCH(Tabulka!$AI59,Přehled_body!$A$3:$A$130,0),MATCH(Tabulka!H$2,Přehled_body!$E$1:$ED$1,0)),)))","v":9.9999999999999994E-12},{"$f":"IF(IFERROR(INDEX(Přehled_body!$E$3:$ED$130,MATCH(Tabulka!$AI59,Přehled_body!$A$3:$A$130,0),MATCH(Tabulka!I$2,Přehled_body!$E$1:$ED$1,0)),)=\"\",,IF(IFERROR(INDEX(Přehled_body!$E$3:$ED$130,MATCH(Tabulka!$AI59,Přehled_body!$A$3:$A$130,0),MATCH(Tabulka!I$2,Přehled_body!$E$1:$ED$1,0)),)=0,0.00000000001,IFERROR(INDEX(Přehled_body!$E$3:$ED$130,MATCH(Tabulka!$AI59,Přehled_body!$A$3:$A$130,0),MATCH(Tabulka!I$2,Přehled_body!$E$1:$ED$1,0)),)))","v":1},{"$f":"IF(IFERROR(INDEX(Přehled_body!$E$3:$ED$130,MATCH(Tabulka!$AI59,Přehled_body!$A$3:$A$130,0),MATCH(Tabulka!J$2,Přehled_body!$E$1:$ED$1,0)),)=\"\",,IF(IFERROR(INDEX(Přehled_body!$E$3:$ED$130,MATCH(Tabulka!$AI59,Přehled_body!$A$3:$A$130,0),MATCH(Tabulka!J$2,Přehled_body!$E$1:$ED$1,0)),)=0,0.00000000001,IFERROR(INDEX(Přehled_body!$E$3:$ED$130,MATCH(Tabulka!$AI59,Přehled_body!$A$3:$A$130,0),MATCH(Tabulka!J$2,Přehled_body!$E$1:$ED$1,0)),)))","v":1},{"$f":"IF(IFERROR(INDEX(Přehled_body!$E$3:$ED$130,MATCH(Tabulka!$AI59,Přehled_body!$A$3:$A$130,0),MATCH(Tabulka!K$2,Přehled_body!$E$1:$ED$1,0)),)=\"\",,IF(IFERROR(INDEX(Přehled_body!$E$3:$ED$130,MATCH(Tabulka!$AI59,Přehled_body!$A$3:$A$130,0),MATCH(Tabulka!K$2,Přehled_body!$E$1:$ED$1,0)),)=0,0.00000000001,IFERROR(INDEX(Přehled_body!$E$3:$ED$130,MATCH(Tabulka!$AI59,Přehled_body!$A$3:$A$130,0),MATCH(Tabulka!K$2,Přehled_body!$E$1:$ED$1,0)),)))","v":1},{"$f":"IF(IFERROR(INDEX(Přehled_body!$E$3:$ED$130,MATCH(Tabulka!$AI59,Přehled_body!$A$3:$A$130,0),MATCH(Tabulka!L$2,Přehled_body!$E$1:$ED$1,0)),)=\"\",,IF(IFERROR(INDEX(Přehled_body!$E$3:$ED$130,MATCH(Tabulka!$AI59,Přehled_body!$A$3:$A$130,0),MATCH(Tabulka!L$2,Přehled_body!$E$1:$ED$1,0)),)=0,0.00000000001,IFERROR(INDEX(Přehled_body!$E$3:$ED$130,MATCH(Tabulka!$AI59,Přehled_body!$A$3:$A$130,0),MATCH(Tabulka!L$2,Přehled_body!$E$1:$ED$1,0)),)))","v":1},{"$f":"IF(IFERROR(INDEX(Přehled_body!$E$3:$ED$130,MATCH(Tabulka!$AI59,Přehled_body!$A$3:$A$130,0),MATCH(Tabulka!M$2,Přehled_body!$E$1:$ED$1,0)),)=\"\",,IF(IFERROR(INDEX(Přehled_body!$E$3:$ED$130,MATCH(Tabulka!$AI59,Přehled_body!$A$3:$A$130,0),MATCH(Tabulka!M$2,Přehled_body!$E$1:$ED$1,0)),)=0,0.00000000001,IFERROR(INDEX(Přehled_body!$E$3:$ED$130,MATCH(Tabulka!$AI59,Přehled_body!$A$3:$A$130,0),MATCH(Tabulka!M$2,Přehled_body!$E$1:$ED$1,0)),)))","v":9.9999999999999994E-12},{"$f":"IF(IFERROR(INDEX(Přehled_body!$E$3:$ED$130,MATCH(Tabulka!$AI59,Přehled_body!$A$3:$A$130,0),MATCH(Tabulka!N$2,Přehled_body!$E$1:$ED$1,0)),)=\"\",,IF(IFERROR(INDEX(Přehled_body!$E$3:$ED$130,MATCH(Tabulka!$AI59,Přehled_body!$A$3:$A$130,0),MATCH(Tabulka!N$2,Přehled_body!$E$1:$ED$1,0)),)=0,0.00000000001,IFERROR(INDEX(Přehled_body!$E$3:$ED$130,MATCH(Tabulka!$AI59,Přehled_body!$A$3:$A$130,0),MATCH(Tabulka!N$2,Přehled_body!$E$1:$ED$1,0)),)))","v":0},{"$f":"IF(IFERROR(INDEX(Přehled_body!$E$3:$ED$130,MATCH(Tabulka!$AI59,Přehled_body!$A$3:$A$130,0),MATCH(Tabulka!O$2,Přehled_body!$E$1:$ED$1,0)),)=\"\",,IF(IFERROR(INDEX(Přehled_body!$E$3:$ED$130,MATCH(Tabulka!$AI59,Přehled_body!$A$3:$A$130,0),MATCH(Tabulka!O$2,Přehled_body!$E$1:$ED$1,0)),)=0,0.00000000001,IFERROR(INDEX(Přehled_body!$E$3:$ED$130,MATCH(Tabulka!$AI59,Přehled_body!$A$3:$A$130,0),MATCH(Tabulka!O$2,Přehled_body!$E$1:$ED$1,0)),)))","v":0},{"$f":"IF(IFERROR(INDEX(Přehled_body!$E$3:$ED$130,MATCH(Tabulka!$AI59,Přehled_body!$A$3:$A$130,0),MATCH(Tabulka!P$2,Přehled_body!$E$1:$ED$1,0)),)=\"\",,IF(IFERROR(INDEX(Přehled_body!$E$3:$ED$130,MATCH(Tabulka!$AI59,Přehled_body!$A$3:$A$130,0),MATCH(Tabulka!P$2,Přehled_body!$E$1:$ED$1,0)),)=0,0.00000000001,IFERROR(INDEX(Přehled_body!$E$3:$ED$130,MATCH(Tabulka!$AI59,Přehled_body!$A$3:$A$130,0),MATCH(Tabulka!P$2,Přehled_body!$E$1:$ED$1,0)),)))","v":0},{"$f":"IF(IFERROR(INDEX(Přehled_body!$E$3:$ED$130,MATCH(Tabulka!$AI59,Přehled_body!$A$3:$A$130,0),MATCH(Tabulka!Q$2,Přehled_body!$E$1:$ED$1,0)),)=\"\",,IF(IFERROR(INDEX(Přehled_body!$E$3:$ED$130,MATCH(Tabulka!$AI59,Přehled_body!$A$3:$A$130,0),MATCH(Tabulka!Q$2,Přehled_body!$E$1:$ED$1,0)),)=0,0.00000000001,IFERROR(INDEX(Přehled_body!$E$3:$ED$130,MATCH(Tabulka!$AI59,Přehled_body!$A$3:$A$130,0),MATCH(Tabulka!Q$2,Přehled_body!$E$1:$ED$1,0)),)))","v":0},{"$f":"IF(IFERROR(INDEX(Přehled_body!$E$3:$ED$130,MATCH(Tabulka!$AI59,Přehled_body!$A$3:$A$130,0),MATCH(Tabulka!R$2,Přehled_body!$E$1:$ED$1,0)),)=\"\",,IF(IFERROR(INDEX(Přehled_body!$E$3:$ED$130,MATCH(Tabulka!$AI59,Přehled_body!$A$3:$A$130,0),MATCH(Tabulka!R$2,Přehled_body!$E$1:$ED$1,0)),)=0,0.00000000001,IFERROR(INDEX(Přehled_body!$E$3:$ED$130,MATCH(Tabulka!$AI59,Přehled_body!$A$3:$A$130,0),MATCH(Tabulka!R$2,Přehled_body!$E$1:$ED$1,0)),)))","v":0},{"$f":"IF(IFERROR(INDEX(Přehled_body!$E$3:$ED$130,MATCH(Tabulka!$AI59,Přehled_body!$A$3:$A$130,0),MATCH(Tabulka!S$2,Přehled_body!$E$1:$ED$1,0)),)=\"\",,IF(IFERROR(INDEX(Přehled_body!$E$3:$ED$130,MATCH(Tabulka!$AI59,Přehled_body!$A$3:$A$130,0),MATCH(Tabulka!S$2,Přehled_body!$E$1:$ED$1,0)),)=0,0.00000000001,IFERROR(INDEX(Přehled_body!$E$3:$ED$130,MATCH(Tabulka!$AI59,Přehled_body!$A$3:$A$130,0),MATCH(Tabulka!S$2,Přehled_body!$E$1:$ED$1,0)),)))","v":0},{"$f":"IF(IFERROR(INDEX(Přehled_body!$E$3:$ED$130,MATCH(Tabulka!$AI59,Přehled_body!$A$3:$A$130,0),MATCH(Tabulka!T$2,Přehled_body!$E$1:$ED$1,0)),)=\"\",,IF(IFERROR(INDEX(Přehled_body!$E$3:$ED$130,MATCH(Tabulka!$AI59,Přehled_body!$A$3:$A$130,0),MATCH(Tabulka!T$2,Přehled_body!$E$1:$ED$1,0)),)=0,0.00000000001,IFERROR(INDEX(Přehled_body!$E$3:$ED$130,MATCH(Tabulka!$AI59,Přehled_body!$A$3:$A$130,0),MATCH(Tabulka!T$2,Přehled_body!$E$1:$ED$1,0)),)))","v":0},{"$f":"IF(IFERROR(INDEX(Přehled_body!$E$3:$ED$130,MATCH(Tabulka!$AI59,Přehled_body!$A$3:$A$130,0),MATCH(Tabulka!U$2,Přehled_body!$E$1:$ED$1,0)),)=\"\",,IF(IFERROR(INDEX(Přehled_body!$E$3:$ED$130,MATCH(Tabulka!$AI59,Přehled_body!$A$3:$A$130,0),MATCH(Tabulka!U$2,Přehled_body!$E$1:$ED$1,0)),)=0,0.00000000001,IFERROR(INDEX(Přehled_body!$E$3:$ED$130,MATCH(Tabulka!$AI59,Přehled_body!$A$3:$A$130,0),MATCH(Tabulka!U$2,Přehled_body!$E$1:$ED$1,0)),)))","v":0},{"$f":"IF(IFERROR(INDEX(Přehled_body!$E$3:$ED$130,MATCH(Tabulka!$AI59,Přehled_body!$A$3:$A$130,0),MATCH(Tabulka!V$2,Přehled_body!$E$1:$ED$1,0)),)=\"\",,IF(IFERROR(INDEX(Přehled_body!$E$3:$ED$130,MATCH(Tabulka!$AI59,Přehled_body!$A$3:$A$130,0),MATCH(Tabulka!V$2,Přehled_body!$E$1:$ED$1,0)),)=0,0.00000000001,IFERROR(INDEX(Přehled_body!$E$3:$ED$130,MATCH(Tabulka!$AI59,Přehled_body!$A$3:$A$130,0),MATCH(Tabulka!V$2,Přehled_body!$E$1:$ED$1,0)),)))","v":0},{"$f":"IF(IFERROR(INDEX(Přehled_body!$E$3:$ED$130,MATCH(Tabulka!$AI59,Přehled_body!$A$3:$A$130,0),MATCH(Tabulka!W$2,Přehled_body!$E$1:$ED$1,0)),)=\"\",,IF(IFERROR(INDEX(Přehled_body!$E$3:$ED$130,MATCH(Tabulka!$AI59,Přehled_body!$A$3:$A$130,0),MATCH(Tabulka!W$2,Přehled_body!$E$1:$ED$1,0)),)=0,0.00000000001,IFERROR(INDEX(Přehled_body!$E$3:$ED$130,MATCH(Tabulka!$AI59,Přehled_body!$A$3:$A$130,0),MATCH(Tabulka!W$2,Přehled_body!$E$1:$ED$1,0)),)))","v":0},{"$f":"IF(IFERROR(INDEX(Přehled_body!$E$3:$ED$130,MATCH(Tabulka!$AI59,Přehled_body!$A$3:$A$130,0),MATCH(Tabulka!X$2,Přehled_body!$E$1:$ED$1,0)),)=\"\",,IF(IFERROR(INDEX(Přehled_body!$E$3:$ED$130,MATCH(Tabulka!$AI59,Přehled_body!$A$3:$A$130,0),MATCH(Tabulka!X$2,Přehled_body!$E$1:$ED$1,0)),)=0,0.00000000001,IFERROR(INDEX(Přehled_body!$E$3:$ED$130,MATCH(Tabulka!$AI59,Přehled_body!$A$3:$A$130,0),MATCH(Tabulka!X$2,Přehled_body!$E$1:$ED$1,0)),)))","v":0},{"$f":"IF(IFERROR(INDEX(Přehled_body!$E$3:$ED$130,MATCH(Tabulka!$AI59,Přehled_body!$A$3:$A$130,0),MATCH(Tabulka!Y$2,Přehled_body!$E$1:$ED$1,0)),)=\"\",,IF(IFERROR(INDEX(Přehled_body!$E$3:$ED$130,MATCH(Tabulka!$AI59,Přehled_body!$A$3:$A$130,0),MATCH(Tabulka!Y$2,Přehled_body!$E$1:$ED$1,0)),)=0,0.00000000001,IFERROR(INDEX(Přehled_body!$E$3:$ED$130,MATCH(Tabulka!$AI59,Přehled_body!$A$3:$A$130,0),MATCH(Tabulka!Y$2,Přehled_body!$E$1:$ED$1,0)),)))","v":0},{"$f":"IF(IFERROR(INDEX(Přehled_body!$E$3:$ED$130,MATCH(Tabulka!$AI59,Přehled_body!$A$3:$A$130,0),MATCH(Tabulka!Z$2,Přehled_body!$E$1:$ED$1,0)),)=\"\",,IF(IFERROR(INDEX(Přehled_body!$E$3:$ED$130,MATCH(Tabulka!$AI59,Přehled_body!$A$3:$A$130,0),MATCH(Tabulka!Z$2,Přehled_body!$E$1:$ED$1,0)),)=0,0.00000000001,IFERROR(INDEX(Přehled_body!$E$3:$ED$130,MATCH(Tabulka!$AI59,Přehled_body!$A$3:$A$130,0),MATCH(Tabulka!Z$2,Přehled_body!$E$1:$ED$1,0)),)))","v":0},{"$f":"IF(IFERROR(INDEX(Přehled_body!$E$3:$ED$130,MATCH(Tabulka!$AI59,Přehled_body!$A$3:$A$130,0),MATCH(Tabulka!AA$2,Přehled_body!$E$1:$ED$1,0)),)=\"\",,IF(IFERROR(INDEX(Přehled_body!$E$3:$ED$130,MATCH(Tabulka!$AI59,Přehled_body!$A$3:$A$130,0),MATCH(Tabulka!AA$2,Přehled_body!$E$1:$ED$1,0)),)=0,0.00000000001,IFERROR(INDEX(Přehled_body!$E$3:$ED$130,MATCH(Tabulka!$AI59,Přehled_body!$A$3:$A$130,0),MATCH(Tabulka!AA$2,Přehled_body!$E$1:$ED$1,0)),)))","v":0},{"$f":"IF(IFERROR(INDEX(Přehled_body!$E$3:$ED$130,MATCH(Tabulka!$AI59,Přehled_body!$A$3:$A$130,0),MATCH(Tabulka!AB$2,Přehled_body!$E$1:$ED$1,0)),)=\"\",,IF(IFERROR(INDEX(Přehled_body!$E$3:$ED$130,MATCH(Tabulka!$AI59,Přehled_body!$A$3:$A$130,0),MATCH(Tabulka!AB$2,Přehled_body!$E$1:$ED$1,0)),)=0,0.00000000001,IFERROR(INDEX(Přehled_body!$E$3:$ED$130,MATCH(Tabulka!$AI59,Přehled_body!$A$3:$A$130,0),MATCH(Tabulka!AB$2,Přehled_body!$E$1:$ED$1,0)),)))","v":0},{"$f":"IF(IFERROR(INDEX(Přehled_body!$E$3:$ED$130,MATCH(Tabulka!$AI59,Přehled_body!$A$3:$A$130,0),MATCH(Tabulka!AC$2,Přehled_body!$E$1:$ED$1,0)),)=\"\",,IF(IFERROR(INDEX(Přehled_body!$E$3:$ED$130,MATCH(Tabulka!$AI59,Přehled_body!$A$3:$A$130,0),MATCH(Tabulka!AC$2,Přehled_body!$E$1:$ED$1,0)),)=0,0.00000000001,IFERROR(INDEX(Přehled_body!$E$3:$ED$130,MATCH(Tabulka!$AI59,Přehled_body!$A$3:$A$130,0),MATCH(Tabulka!AC$2,Přehled_body!$E$1:$ED$1,0)),)))","v":0},{"$f":"IF(IFERROR(INDEX(Přehled_body!$E$3:$ED$130,MATCH(Tabulka!$AI59,Přehled_body!$A$3:$A$130,0),MATCH(Tabulka!AD$2,Přehled_body!$E$1:$ED$1,0)),)=\"\",,IF(IFERROR(INDEX(Přehled_body!$E$3:$ED$130,MATCH(Tabulka!$AI59,Přehled_body!$A$3:$A$130,0),MATCH(Tabulka!AD$2,Přehled_body!$E$1:$ED$1,0)),)=0,0.00000000001,IFERROR(INDEX(Přehled_body!$E$3:$ED$130,MATCH(Tabulka!$AI59,Přehled_body!$A$3:$A$130,0),MATCH(Tabulka!AD$2,Přehled_body!$E$1:$ED$1,0)),)))","v":0},{"$f":"IF(SUM($D$59:$AD$63)<1,-90000,SUM(D59:AD59))","v":6.00000000004},null,{"$f":"COUNTIF(D59:AD59,\">0\")","v":9},null,{"$f":"CONCATENATE($B$60,\" \",$B$61,C59)","v":"Standa RothVýhry"}]
[{"$f":"CONCATENATE(B60,\" \",B61)","v":"Standa Roth"},"Standa","Prohry",{"$f":"IF(IFERROR(INDEX(Přehled_body!$E$3:$ED$130,MATCH(Tabulka!$AI60,Přehled_body!$A$3:$A$130,0),MATCH(Tabulka!D$2,Přehled_body!$E$1:$ED$1,0)),)=\"\",,IF(IFERROR(INDEX(Přehled_body!$E$3:$ED$130,MATCH(Tabulka!$AI60,Přehled_body!$A$3:$A$130,0),MATCH(Tabulka!D$2,Přehled_body!$E$1:$ED$1,0)),)=0,0.00000000001,IFERROR(INDEX(Přehled_body!$E$3:$ED$130,MATCH(Tabulka!$AI60,Přehled_body!$A$3:$A$130,0),MATCH(Tabulka!D$2,Přehled_body!$E$1:$ED$1,0)),)))","v":9.9999999999999994E-12},{"$f":"IF(IFERROR(INDEX(Přehled_body!$E$3:$ED$130,MATCH(Tabulka!$AI60,Přehled_body!$A$3:$A$130,0),MATCH(Tabulka!E$2,Přehled_body!$E$1:$ED$1,0)),)=\"\",,IF(IFERROR(INDEX(Přehled_body!$E$3:$ED$130,MATCH(Tabulka!$AI60,Přehled_body!$A$3:$A$130,0),MATCH(Tabulka!E$2,Přehled_body!$E$1:$ED$1,0)),)=0,0.00000000001,IFERROR(INDEX(Přehled_body!$E$3:$ED$130,MATCH(Tabulka!$AI60,Přehled_body!$A$3:$A$130,0),MATCH(Tabulka!E$2,Přehled_body!$E$1:$ED$1,0)),)))","v":9.9999999999999994E-12},{"$f":"IF(IFERROR(INDEX(Přehled_body!$E$3:$ED$130,MATCH(Tabulka!$AI60,Přehled_body!$A$3:$A$130,0),MATCH(Tabulka!F$2,Přehled_body!$E$1:$ED$1,0)),)=\"\",,IF(IFERROR(INDEX(Přehled_body!$E$3:$ED$130,MATCH(Tabulka!$AI60,Přehled_body!$A$3:$A$130,0),MATCH(Tabulka!F$2,Přehled_body!$E$1:$ED$1,0)),)=0,0.00000000001,IFERROR(INDEX(Přehled_body!$E$3:$ED$130,MATCH(Tabulka!$AI60,Přehled_body!$A$3:$A$130,0),MATCH(Tabulka!F$2,Přehled_body!$E$1:$ED$1,0)),)))","v":0},{"$f":"IF(IFERROR(INDEX(Přehled_body!$E$3:$ED$130,MATCH(Tabulka!$AI60,Přehled_body!$A$3:$A$130,0),MATCH(Tabulka!G$2,Přehled_body!$E$1:$ED$1,0)),)=\"\",,IF(IFERROR(INDEX(Přehled_body!$E$3:$ED$130,MATCH(Tabulka!$AI60,Přehled_body!$A$3:$A$130,0),MATCH(Tabulka!G$2,Přehled_body!$E$1:$ED$1,0)),)=0,0.00000000001,IFERROR(INDEX(Přehled_body!$E$3:$ED$130,MATCH(Tabulka!$AI60,Přehled_body!$A$3:$A$130,0),MATCH(Tabulka!G$2,Přehled_body!$E$1:$ED$1,0)),)))","v":9.9999999999999994E-12},{"$f":"IF(IFERROR(INDEX(Přehled_body!$E$3:$ED$130,MATCH(Tabulka!$AI60,Přehled_body!$A$3:$A$130,0),MATCH(Tabulka!H$2,Přehled_body!$E$1:$ED$1,0)),)=\"\",,IF(IFERROR(INDEX(Přehled_body!$E$3:$ED$130,MATCH(Tabulka!$AI60,Přehled_body!$A$3:$A$130,0),MATCH(Tabulka!H$2,Přehled_body!$E$1:$ED$1,0)),)=0,0.00000000001,IFERROR(INDEX(Přehled_body!$E$3:$ED$130,MATCH(Tabulka!$AI60,Přehled_body!$A$3:$A$130,0),MATCH(Tabulka!H$2,Přehled_body!$E$1:$ED$1,0)),)))","v":1},{"$f":"IF(IFERROR(INDEX(Přehled_body!$E$3:$ED$130,MATCH(Tabulka!$AI60,Přehled_body!$A$3:$A$130,0),MATCH(Tabulka!I$2,Přehled_body!$E$1:$ED$1,0)),)=\"\",,IF(IFERROR(INDEX(Přehled_body!$E$3:$ED$130,MATCH(Tabulka!$AI60,Přehled_body!$A$3:$A$130,0),MATCH(Tabulka!I$2,Přehled_body!$E$1:$ED$1,0)),)=0,0.00000000001,IFERROR(INDEX(Přehled_body!$E$3:$ED$130,MATCH(Tabulka!$AI60,Přehled_body!$A$3:$A$130,0),MATCH(Tabulka!I$2,Přehled_body!$E$1:$ED$1,0)),)))","v":9.9999999999999994E-12},{"$f":"IF(IFERROR(INDEX(Přehled_body!$E$3:$ED$130,MATCH(Tabulka!$AI60,Přehled_body!$A$3:$A$130,0),MATCH(Tabulka!J$2,Přehled_body!$E$1:$ED$1,0)),)=\"\",,IF(IFERROR(INDEX(Přehled_body!$E$3:$ED$130,MATCH(Tabulka!$AI60,Přehled_body!$A$3:$A$130,0),MATCH(Tabulka!J$2,Přehled_body!$E$1:$ED$1,0)),)=0,0.00000000001,IFERROR(INDEX(Přehled_body!$E$3:$ED$130,MATCH(Tabulka!$AI60,Přehled_body!$A$3:$A$130,0),MATCH(Tabulka!J$2,Přehled_body!$E$1:$ED$1,0)),)))","v":1},{"$f":"IF(IFERROR(INDEX(Přehled_body!$E$3:$ED$130,MATCH(Tabulka!$AI60,Přehled_body!$A$3:$A$130,0),MATCH(Tabulka!K$2,Přehled_body!$E$1:$ED$1,0)),)=\"\",,IF(IFERROR(INDEX(Přehled_body!$E$3:$ED$130,MATCH(Tabulka!$AI60,Přehled_body!$A$3:$A$130,0),MATCH(Tabulka!K$2,Přehled_body!$E$1:$ED$1,0)),)=0,0.00000000001,IFERROR(INDEX(Přehled_body!$E$3:$ED$130,MATCH(Tabulka!$AI60,Přehled_body!$A$3:$A$130,0),MATCH(Tabulka!K$2,Přehled_body!$E$1:$ED$1,0)),)))","v":9.9999999999999994E-12},{"$f":"IF(IFERROR(INDEX(Přehled_body!$E$3:$ED$130,MATCH(Tabulka!$AI60,Přehled_body!$A$3:$A$130,0),MATCH(Tabulka!L$2,Přehled_body!$E$1:$ED$1,0)),)=\"\",,IF(IFERROR(INDEX(Přehled_body!$E$3:$ED$130,MATCH(Tabulka!$AI60,Přehled_body!$A$3:$A$130,0),MATCH(Tabulka!L$2,Přehled_body!$E$1:$ED$1,0)),)=0,0.00000000001,IFERROR(INDEX(Přehled_body!$E$3:$ED$130,MATCH(Tabulka!$AI60,Přehled_body!$A$3:$A$130,0),MATCH(Tabulka!L$2,Přehled_body!$E$1:$ED$1,0)),)))","v":9.9999999999999994E-12},{"$f":"IF(IFERROR(INDEX(Přehled_body!$E$3:$ED$130,MATCH(Tabulka!$AI60,Přehled_body!$A$3:$A$130,0),MATCH(Tabulka!M$2,Přehled_body!$E$1:$ED$1,0)),)=\"\",,IF(IFERROR(INDEX(Přehled_body!$E$3:$ED$130,MATCH(Tabulka!$AI60,Přehled_body!$A$3:$A$130,0),MATCH(Tabulka!M$2,Přehled_body!$E$1:$ED$1,0)),)=0,0.00000000001,IFERROR(INDEX(Přehled_body!$E$3:$ED$130,MATCH(Tabulka!$AI60,Přehled_body!$A$3:$A$130,0),MATCH(Tabulka!M$2,Přehled_body!$E$1:$ED$1,0)),)))","v":2},{"$f":"IF(IFERROR(INDEX(Přehled_body!$E$3:$ED$130,MATCH(Tabulka!$AI60,Přehled_body!$A$3:$A$130,0),MATCH(Tabulka!N$2,Přehled_body!$E$1:$ED$1,0)),)=\"\",,IF(IFERROR(INDEX(Přehled_body!$E$3:$ED$130,MATCH(Tabulka!$AI60,Přehled_body!$A$3:$A$130,0),MATCH(Tabulka!N$2,Přehled_body!$E$1:$ED$1,0)),)=0,0.00000000001,IFERROR(INDEX(Přehled_body!$E$3:$ED$130,MATCH(Tabulka!$AI60,Přehled_body!$A$3:$A$130,0),MATCH(Tabulka!N$2,Přehled_body!$E$1:$ED$1,0)),)))","v":0},{"$f":"IF(IFERROR(INDEX(Přehled_body!$E$3:$ED$130,MATCH(Tabulka!$AI60,Přehled_body!$A$3:$A$130,0),MATCH(Tabulka!O$2,Přehled_body!$E$1:$ED$1,0)),)=\"\",,IF(IFERROR(INDEX(Přehled_body!$E$3:$ED$130,MATCH(Tabulka!$AI60,Přehled_body!$A$3:$A$130,0),MATCH(Tabulka!O$2,Přehled_body!$E$1:$ED$1,0)),)=0,0.00000000001,IFERROR(INDEX(Přehled_body!$E$3:$ED$130,MATCH(Tabulka!$AI60,Přehled_body!$A$3:$A$130,0),MATCH(Tabulka!O$2,Přehled_body!$E$1:$ED$1,0)),)))","v":0},{"$f":"IF(IFERROR(INDEX(Přehled_body!$E$3:$ED$130,MATCH(Tabulka!$AI60,Přehled_body!$A$3:$A$130,0),MATCH(Tabulka!P$2,Přehled_body!$E$1:$ED$1,0)),)=\"\",,IF(IFERROR(INDEX(Přehled_body!$E$3:$ED$130,MATCH(Tabulka!$AI60,Přehled_body!$A$3:$A$130,0),MATCH(Tabulka!P$2,Přehled_body!$E$1:$ED$1,0)),)=0,0.00000000001,IFERROR(INDEX(Přehled_body!$E$3:$ED$130,MATCH(Tabulka!$AI60,Přehled_body!$A$3:$A$130,0),MATCH(Tabulka!P$2,Přehled_body!$E$1:$ED$1,0)),)))","v":0},{"$f":"IF(IFERROR(INDEX(Přehled_body!$E$3:$ED$130,MATCH(Tabulka!$AI60,Přehled_body!$A$3:$A$130,0),MATCH(Tabulka!Q$2,Přehled_body!$E$1:$ED$1,0)),)=\"\",,IF(IFERROR(INDEX(Přehled_body!$E$3:$ED$130,MATCH(Tabulka!$AI60,Přehled_body!$A$3:$A$130,0),MATCH(Tabulka!Q$2,Přehled_body!$E$1:$ED$1,0)),)=0,0.00000000001,IFERROR(INDEX(Přehled_body!$E$3:$ED$130,MATCH(Tabulka!$AI60,Přehled_body!$A$3:$A$130,0),MATCH(Tabulka!Q$2,Přehled_body!$E$1:$ED$1,0)),)))","v":0},{"$f":"IF(IFERROR(INDEX(Přehled_body!$E$3:$ED$130,MATCH(Tabulka!$AI60,Přehled_body!$A$3:$A$130,0),MATCH(Tabulka!R$2,Přehled_body!$E$1:$ED$1,0)),)=\"\",,IF(IFERROR(INDEX(Přehled_body!$E$3:$ED$130,MATCH(Tabulka!$AI60,Přehled_body!$A$3:$A$130,0),MATCH(Tabulka!R$2,Přehled_body!$E$1:$ED$1,0)),)=0,0.00000000001,IFERROR(INDEX(Přehled_body!$E$3:$ED$130,MATCH(Tabulka!$AI60,Přehled_body!$A$3:$A$130,0),MATCH(Tabulka!R$2,Přehled_body!$E$1:$ED$1,0)),)))","v":0},{"$f":"IF(IFERROR(INDEX(Přehled_body!$E$3:$ED$130,MATCH(Tabulka!$AI60,Přehled_body!$A$3:$A$130,0),MATCH(Tabulka!S$2,Přehled_body!$E$1:$ED$1,0)),)=\"\",,IF(IFERROR(INDEX(Přehled_body!$E$3:$ED$130,MATCH(Tabulka!$AI60,Přehled_body!$A$3:$A$130,0),MATCH(Tabulka!S$2,Přehled_body!$E$1:$ED$1,0)),)=0,0.00000000001,IFERROR(INDEX(Přehled_body!$E$3:$ED$130,MATCH(Tabulka!$AI60,Přehled_body!$A$3:$A$130,0),MATCH(Tabulka!S$2,Přehled_body!$E$1:$ED$1,0)),)))","v":0},{"$f":"IF(IFERROR(INDEX(Přehled_body!$E$3:$ED$130,MATCH(Tabulka!$AI60,Přehled_body!$A$3:$A$130,0),MATCH(Tabulka!T$2,Přehled_body!$E$1:$ED$1,0)),)=\"\",,IF(IFERROR(INDEX(Přehled_body!$E$3:$ED$130,MATCH(Tabulka!$AI60,Přehled_body!$A$3:$A$130,0),MATCH(Tabulka!T$2,Přehled_body!$E$1:$ED$1,0)),)=0,0.00000000001,IFERROR(INDEX(Přehled_body!$E$3:$ED$130,MATCH(Tabulka!$AI60,Přehled_body!$A$3:$A$130,0),MATCH(Tabulka!T$2,Přehled_body!$E$1:$ED$1,0)),)))","v":0},{"$f":"IF(IFERROR(INDEX(Přehled_body!$E$3:$ED$130,MATCH(Tabulka!$AI60,Přehled_body!$A$3:$A$130,0),MATCH(Tabulka!U$2,Přehled_body!$E$1:$ED$1,0)),)=\"\",,IF(IFERROR(INDEX(Přehled_body!$E$3:$ED$130,MATCH(Tabulka!$AI60,Přehled_body!$A$3:$A$130,0),MATCH(Tabulka!U$2,Přehled_body!$E$1:$ED$1,0)),)=0,0.00000000001,IFERROR(INDEX(Přehled_body!$E$3:$ED$130,MATCH(Tabulka!$AI60,Přehled_body!$A$3:$A$130,0),MATCH(Tabulka!U$2,Přehled_body!$E$1:$ED$1,0)),)))","v":0},{"$f":"IF(IFERROR(INDEX(Přehled_body!$E$3:$ED$130,MATCH(Tabulka!$AI60,Přehled_body!$A$3:$A$130,0),MATCH(Tabulka!V$2,Přehled_body!$E$1:$ED$1,0)),)=\"\",,IF(IFERROR(INDEX(Přehled_body!$E$3:$ED$130,MATCH(Tabulka!$AI60,Přehled_body!$A$3:$A$130,0),MATCH(Tabulka!V$2,Přehled_body!$E$1:$ED$1,0)),)=0,0.00000000001,IFERROR(INDEX(Přehled_body!$E$3:$ED$130,MATCH(Tabulka!$AI60,Přehled_body!$A$3:$A$130,0),MATCH(Tabulka!V$2,Přehled_body!$E$1:$ED$1,0)),)))","v":0},{"$f":"IF(IFERROR(INDEX(Přehled_body!$E$3:$ED$130,MATCH(Tabulka!$AI60,Přehled_body!$A$3:$A$130,0),MATCH(Tabulka!W$2,Přehled_body!$E$1:$ED$1,0)),)=\"\",,IF(IFERROR(INDEX(Přehled_body!$E$3:$ED$130,MATCH(Tabulka!$AI60,Přehled_body!$A$3:$A$130,0),MATCH(Tabulka!W$2,Přehled_body!$E$1:$ED$1,0)),)=0,0.00000000001,IFERROR(INDEX(Přehled_body!$E$3:$ED$130,MATCH(Tabulka!$AI60,Přehled_body!$A$3:$A$130,0),MATCH(Tabulka!W$2,Přehled_body!$E$1:$ED$1,0)),)))","v":0},{"$f":"IF(IFERROR(INDEX(Přehled_body!$E$3:$ED$130,MATCH(Tabulka!$AI60,Přehled_body!$A$3:$A$130,0),MATCH(Tabulka!X$2,Přehled_body!$E$1:$ED$1,0)),)=\"\",,IF(IFERROR(INDEX(Přehled_body!$E$3:$ED$130,MATCH(Tabulka!$AI60,Přehled_body!$A$3:$A$130,0),MATCH(Tabulka!X$2,Přehled_body!$E$1:$ED$1,0)),)=0,0.00000000001,IFERROR(INDEX(Přehled_body!$E$3:$ED$130,MATCH(Tabulka!$AI60,Přehled_body!$A$3:$A$130,0),MATCH(Tabulka!X$2,Přehled_body!$E$1:$ED$1,0)),)))","v":0},{"$f":"IF(IFERROR(INDEX(Přehled_body!$E$3:$ED$130,MATCH(Tabulka!$AI60,Přehled_body!$A$3:$A$130,0),MATCH(Tabulka!Y$2,Přehled_body!$E$1:$ED$1,0)),)=\"\",,IF(IFERROR(INDEX(Přehled_body!$E$3:$ED$130,MATCH(Tabulka!$AI60,Přehled_body!$A$3:$A$130,0),MATCH(Tabulka!Y$2,Přehled_body!$E$1:$ED$1,0)),)=0,0.00000000001,IFERROR(INDEX(Přehled_body!$E$3:$ED$130,MATCH(Tabulka!$AI60,Přehled_body!$A$3:$A$130,0),MATCH(Tabulka!Y$2,Přehled_body!$E$1:$ED$1,0)),)))","v":0},{"$f":"IF(IFERROR(INDEX(Přehled_body!$E$3:$ED$130,MATCH(Tabulka!$AI60,Přehled_body!$A$3:$A$130,0),MATCH(Tabulka!Z$2,Přehled_body!$E$1:$ED$1,0)),)=\"\",,IF(IFERROR(INDEX(Přehled_body!$E$3:$ED$130,MATCH(Tabulka!$AI60,Přehled_body!$A$3:$A$130,0),MATCH(Tabulka!Z$2,Přehled_body!$E$1:$ED$1,0)),)=0,0.00000000001,IFERROR(INDEX(Přehled_body!$E$3:$ED$130,MATCH(Tabulka!$AI60,Přehled_body!$A$3:$A$130,0),MATCH(Tabulka!Z$2,Přehled_body!$E$1:$ED$1,0)),)))","v":0},{"$f":"IF(IFERROR(INDEX(Přehled_body!$E$3:$ED$130,MATCH(Tabulka!$AI60,Přehled_body!$A$3:$A$130,0),MATCH(Tabulka!AA$2,Přehled_body!$E$1:$ED$1,0)),)=\"\",,IF(IFERROR(INDEX(Přehled_body!$E$3:$ED$130,MATCH(Tabulka!$AI60,Přehled_body!$A$3:$A$130,0),MATCH(Tabulka!AA$2,Přehled_body!$E$1:$ED$1,0)),)=0,0.00000000001,IFERROR(INDEX(Přehled_body!$E$3:$ED$130,MATCH(Tabulka!$AI60,Přehled_body!$A$3:$A$130,0),MATCH(Tabulka!AA$2,Přehled_body!$E$1:$ED$1,0)),)))","v":0},{"$f":"IF(IFERROR(INDEX(Přehled_body!$E$3:$ED$130,MATCH(Tabulka!$AI60,Přehled_body!$A$3:$A$130,0),MATCH(Tabulka!AB$2,Přehled_body!$E$1:$ED$1,0)),)=\"\",,IF(IFERROR(INDEX(Přehled_body!$E$3:$ED$130,MATCH(Tabulka!$AI60,Přehled_body!$A$3:$A$130,0),MATCH(Tabulka!AB$2,Přehled_body!$E$1:$ED$1,0)),)=0,0.00000000001,IFERROR(INDEX(Přehled_body!$E$3:$ED$130,MATCH(Tabulka!$AI60,Přehled_body!$A$3:$A$130,0),MATCH(Tabulka!AB$2,Přehled_body!$E$1:$ED$1,0)),)))","v":0},{"$f":"IF(IFERROR(INDEX(Přehled_body!$E$3:$ED$130,MATCH(Tabulka!$AI60,Přehled_body!$A$3:$A$130,0),MATCH(Tabulka!AC$2,Přehled_body!$E$1:$ED$1,0)),)=\"\",,IF(IFERROR(INDEX(Přehled_body!$E$3:$ED$130,MATCH(Tabulka!$AI60,Přehled_body!$A$3:$A$130,0),MATCH(Tabulka!AC$2,Přehled_body!$E$1:$ED$1,0)),)=0,0.00000000001,IFERROR(INDEX(Přehled_body!$E$3:$ED$130,MATCH(Tabulka!$AI60,Přehled_body!$A$3:$A$130,0),MATCH(Tabulka!AC$2,Přehled_body!$E$1:$ED$1,0)),)))","v":0},{"$f":"IF(IFERROR(INDEX(Přehled_body!$E$3:$ED$130,MATCH(Tabulka!$AI60,Přehled_body!$A$3:$A$130,0),MATCH(Tabulka!AD$2,Přehled_body!$E$1:$ED$1,0)),)=\"\",,IF(IFERROR(INDEX(Přehled_body!$E$3:$ED$130,MATCH(Tabulka!$AI60,Přehled_body!$A$3:$A$130,0),MATCH(Tabulka!AD$2,Přehled_body!$E$1:$ED$1,0)),)=0,0.00000000001,IFERROR(INDEX(Přehled_body!$E$3:$ED$130,MATCH(Tabulka!$AI60,Přehled_body!$A$3:$A$130,0),MATCH(Tabulka!AD$2,Přehled_body!$E$1:$ED$1,0)),)))","v":0},{"$f":"IF(SUM($D$59:$AD$63)<1,-90000,SUM(D60:AD60))","v":4.00000000006},{"$f":"IF(AE63>0.9,SUM(AE59-AE60)+0.00000001,0)","v":2.0000000099799999},null,null,{"$f":"CONCATENATE($B$60,\" \",$B$61,C60)","v":"Standa RothProhry"}]
[{"$f":"CONCATENATE(B61,\" \",B60)","v":"Roth Standa"},"Roth","Placeno panáků",{"$f":"IF(IFERROR(INDEX(Přehled_body!$E$3:$ED$130,MATCH(Tabulka!$AI61,Přehled_body!$A$3:$A$130,0),MATCH(Tabulka!D$2,Přehled_body!$E$1:$ED$1,0)),)=\"\",,IF(IFERROR(INDEX(Přehled_body!$E$3:$ED$130,MATCH(Tabulka!$AI61,Přehled_body!$A$3:$A$130,0),MATCH(Tabulka!D$2,Přehled_body!$E$1:$ED$1,0)),)=0,0.00000000001,IFERROR(INDEX(Přehled_body!$E$3:$ED$130,MATCH(Tabulka!$AI61,Přehled_body!$A$3:$A$130,0),MATCH(Tabulka!D$2,Přehled_body!$E$1:$ED$1,0)),)))","v":9.9999999999999994E-12},{"$f":"IF(IFERROR(INDEX(Přehled_body!$E$3:$ED$130,MATCH(Tabulka!$AI61,Přehled_body!$A$3:$A$130,0),MATCH(Tabulka!E$2,Přehled_body!$E$1:$ED$1,0)),)=\"\",,IF(IFERROR(INDEX(Přehled_body!$E$3:$ED$130,MATCH(Tabulka!$AI61,Přehled_body!$A$3:$A$130,0),MATCH(Tabulka!E$2,Přehled_body!$E$1:$ED$1,0)),)=0,0.00000000001,IFERROR(INDEX(Přehled_body!$E$3:$ED$130,MATCH(Tabulka!$AI61,Přehled_body!$A$3:$A$130,0),MATCH(Tabulka!E$2,Přehled_body!$E$1:$ED$1,0)),)))","v":9.9999999999999994E-12},{"$f":"IF(IFERROR(INDEX(Přehled_body!$E$3:$ED$130,MATCH(Tabulka!$AI61,Přehled_body!$A$3:$A$130,0),MATCH(Tabulka!F$2,Přehled_body!$E$1:$ED$1,0)),)=\"\",,IF(IFERROR(INDEX(Přehled_body!$E$3:$ED$130,MATCH(Tabulka!$AI61,Přehled_body!$A$3:$A$130,0),MATCH(Tabulka!F$2,Přehled_body!$E$1:$ED$1,0)),)=0,0.00000000001,IFERROR(INDEX(Přehled_body!$E$3:$ED$130,MATCH(Tabulka!$AI61,Přehled_body!$A$3:$A$130,0),MATCH(Tabulka!F$2,Přehled_body!$E$1:$ED$1,0)),)))","v":0},{"$f":"IF(IFERROR(INDEX(Přehled_body!$E$3:$ED$130,MATCH(Tabulka!$AI61,Přehled_body!$A$3:$A$130,0),MATCH(Tabulka!G$2,Přehled_body!$E$1:$ED$1,0)),)=\"\",,IF(IFERROR(INDEX(Přehled_body!$E$3:$ED$130,MATCH(Tabulka!$AI61,Přehled_body!$A$3:$A$130,0),MATCH(Tabulka!G$2,Přehled_body!$E$1:$ED$1,0)),)=0,0.00000000001,IFERROR(INDEX(Přehled_body!$E$3:$ED$130,MATCH(Tabulka!$AI61,Přehled_body!$A$3:$A$130,0),MATCH(Tabulka!G$2,Přehled_body!$E$1:$ED$1,0)),)))","v":9.9999999999999994E-12},{"$f":"IF(IFERROR(INDEX(Přehled_body!$E$3:$ED$130,MATCH(Tabulka!$AI61,Přehled_body!$A$3:$A$130,0),MATCH(Tabulka!H$2,Přehled_body!$E$1:$ED$1,0)),)=\"\",,IF(IFERROR(INDEX(Přehled_body!$E$3:$ED$130,MATCH(Tabulka!$AI61,Přehled_body!$A$3:$A$130,0),MATCH(Tabulka!H$2,Přehled_body!$E$1:$ED$1,0)),)=0,0.00000000001,IFERROR(INDEX(Přehled_body!$E$3:$ED$130,MATCH(Tabulka!$AI61,Přehled_body!$A$3:$A$130,0),MATCH(Tabulka!H$2,Přehled_body!$E$1:$ED$1,0)),)))","v":2},{"$f":"IF(IFERROR(INDEX(Přehled_body!$E$3:$ED$130,MATCH(Tabulka!$AI61,Přehled_body!$A$3:$A$130,0),MATCH(Tabulka!I$2,Přehled_body!$E$1:$ED$1,0)),)=\"\",,IF(IFERROR(INDEX(Přehled_body!$E$3:$ED$130,MATCH(Tabulka!$AI61,Přehled_body!$A$3:$A$130,0),MATCH(Tabulka!I$2,Přehled_body!$E$1:$ED$1,0)),)=0,0.00000000001,IFERROR(INDEX(Přehled_body!$E$3:$ED$130,MATCH(Tabulka!$AI61,Přehled_body!$A$3:$A$130,0),MATCH(Tabulka!I$2,Přehled_body!$E$1:$ED$1,0)),)))","v":9.9999999999999994E-12},{"$f":"IF(IFERROR(INDEX(Přehled_body!$E$3:$ED$130,MATCH(Tabulka!$AI61,Přehled_body!$A$3:$A$130,0),MATCH(Tabulka!J$2,Přehled_body!$E$1:$ED$1,0)),)=\"\",,IF(IFERROR(INDEX(Přehled_body!$E$3:$ED$130,MATCH(Tabulka!$AI61,Přehled_body!$A$3:$A$130,0),MATCH(Tabulka!J$2,Přehled_body!$E$1:$ED$1,0)),)=0,0.00000000001,IFERROR(INDEX(Přehled_body!$E$3:$ED$130,MATCH(Tabulka!$AI61,Přehled_body!$A$3:$A$130,0),MATCH(Tabulka!J$2,Přehled_body!$E$1:$ED$1,0)),)))","v":1},{"$f":"IF(IFERROR(INDEX(Přehled_body!$E$3:$ED$130,MATCH(Tabulka!$AI61,Přehled_body!$A$3:$A$130,0),MATCH(Tabulka!K$2,Přehled_body!$E$1:$ED$1,0)),)=\"\",,IF(IFERROR(INDEX(Přehled_body!$E$3:$ED$130,MATCH(Tabulka!$AI61,Přehled_body!$A$3:$A$130,0),MATCH(Tabulka!K$2,Přehled_body!$E$1:$ED$1,0)),)=0,0.00000000001,IFERROR(INDEX(Přehled_body!$E$3:$ED$130,MATCH(Tabulka!$AI61,Přehled_body!$A$3:$A$130,0),MATCH(Tabulka!K$2,Přehled_body!$E$1:$ED$1,0)),)))","v":9.9999999999999994E-12},{"$f":"IF(IFERROR(INDEX(Přehled_body!$E$3:$ED$130,MATCH(Tabulka!$AI61,Přehled_body!$A$3:$A$130,0),MATCH(Tabulka!L$2,Přehled_body!$E$1:$ED$1,0)),)=\"\",,IF(IFERROR(INDEX(Přehled_body!$E$3:$ED$130,MATCH(Tabulka!$AI61,Přehled_body!$A$3:$A$130,0),MATCH(Tabulka!L$2,Přehled_body!$E$1:$ED$1,0)),)=0,0.00000000001,IFERROR(INDEX(Přehled_body!$E$3:$ED$130,MATCH(Tabulka!$AI61,Přehled_body!$A$3:$A$130,0),MATCH(Tabulka!L$2,Přehled_body!$E$1:$ED$1,0)),)))","v":9.9999999999999994E-12},{"$f":"IF(IFERROR(INDEX(Přehled_body!$E$3:$ED$130,MATCH(Tabulka!$AI61,Přehled_body!$A$3:$A$130,0),MATCH(Tabulka!M$2,Přehled_body!$E$1:$ED$1,0)),)=\"\",,IF(IFERROR(INDEX(Přehled_body!$E$3:$ED$130,MATCH(Tabulka!$AI61,Přehled_body!$A$3:$A$130,0),MATCH(Tabulka!M$2,Přehled_body!$E$1:$ED$1,0)),)=0,0.00000000001,IFERROR(INDEX(Přehled_body!$E$3:$ED$130,MATCH(Tabulka!$AI61,Přehled_body!$A$3:$A$130,0),MATCH(Tabulka!M$2,Přehled_body!$E$1:$ED$1,0)),)))","v":4},{"$f":"IF(IFERROR(INDEX(Přehled_body!$E$3:$ED$130,MATCH(Tabulka!$AI61,Přehled_body!$A$3:$A$130,0),MATCH(Tabulka!N$2,Přehled_body!$E$1:$ED$1,0)),)=\"\",,IF(IFERROR(INDEX(Přehled_body!$E$3:$ED$130,MATCH(Tabulka!$AI61,Přehled_body!$A$3:$A$130,0),MATCH(Tabulka!N$2,Přehled_body!$E$1:$ED$1,0)),)=0,0.00000000001,IFERROR(INDEX(Přehled_body!$E$3:$ED$130,MATCH(Tabulka!$AI61,Přehled_body!$A$3:$A$130,0),MATCH(Tabulka!N$2,Přehled_body!$E$1:$ED$1,0)),)))","v":0},{"$f":"IF(IFERROR(INDEX(Přehled_body!$E$3:$ED$130,MATCH(Tabulka!$AI61,Přehled_body!$A$3:$A$130,0),MATCH(Tabulka!O$2,Přehled_body!$E$1:$ED$1,0)),)=\"\",,IF(IFERROR(INDEX(Přehled_body!$E$3:$ED$130,MATCH(Tabulka!$AI61,Přehled_body!$A$3:$A$130,0),MATCH(Tabulka!O$2,Přehled_body!$E$1:$ED$1,0)),)=0,0.00000000001,IFERROR(INDEX(Přehled_body!$E$3:$ED$130,MATCH(Tabulka!$AI61,Přehled_body!$A$3:$A$130,0),MATCH(Tabulka!O$2,Přehled_body!$E$1:$ED$1,0)),)))","v":0},{"$f":"IF(IFERROR(INDEX(Přehled_body!$E$3:$ED$130,MATCH(Tabulka!$AI61,Přehled_body!$A$3:$A$130,0),MATCH(Tabulka!P$2,Přehled_body!$E$1:$ED$1,0)),)=\"\",,IF(IFERROR(INDEX(Přehled_body!$E$3:$ED$130,MATCH(Tabulka!$AI61,Přehled_body!$A$3:$A$130,0),MATCH(Tabulka!P$2,Přehled_body!$E$1:$ED$1,0)),)=0,0.00000000001,IFERROR(INDEX(Přehled_body!$E$3:$ED$130,MATCH(Tabulka!$AI61,Přehled_body!$A$3:$A$130,0),MATCH(Tabulka!P$2,Přehled_body!$E$1:$ED$1,0)),)))","v":0},{"$f":"IF(IFERROR(INDEX(Přehled_body!$E$3:$ED$130,MATCH(Tabulka!$AI61,Přehled_body!$A$3:$A$130,0),MATCH(Tabulka!Q$2,Přehled_body!$E$1:$ED$1,0)),)=\"\",,IF(IFERROR(INDEX(Přehled_body!$E$3:$ED$130,MATCH(Tabulka!$AI61,Přehled_body!$A$3:$A$130,0),MATCH(Tabulka!Q$2,Přehled_body!$E$1:$ED$1,0)),)=0,0.00000000001,IFERROR(INDEX(Přehled_body!$E$3:$ED$130,MATCH(Tabulka!$AI61,Přehled_body!$A$3:$A$130,0),MATCH(Tabulka!Q$2,Přehled_body!$E$1:$ED$1,0)),)))","v":0},{"$f":"IF(IFERROR(INDEX(Přehled_body!$E$3:$ED$130,MATCH(Tabulka!$AI61,Přehled_body!$A$3:$A$130,0),MATCH(Tabulka!R$2,Přehled_body!$E$1:$ED$1,0)),)=\"\",,IF(IFERROR(INDEX(Přehled_body!$E$3:$ED$130,MATCH(Tabulka!$AI61,Přehled_body!$A$3:$A$130,0),MATCH(Tabulka!R$2,Přehled_body!$E$1:$ED$1,0)),)=0,0.00000000001,IFERROR(INDEX(Přehled_body!$E$3:$ED$130,MATCH(Tabulka!$AI61,Přehled_body!$A$3:$A$130,0),MATCH(Tabulka!R$2,Přehled_body!$E$1:$ED$1,0)),)))","v":0},{"$f":"IF(IFERROR(INDEX(Přehled_body!$E$3:$ED$130,MATCH(Tabulka!$AI61,Přehled_body!$A$3:$A$130,0),MATCH(Tabulka!S$2,Přehled_body!$E$1:$ED$1,0)),)=\"\",,IF(IFERROR(INDEX(Přehled_body!$E$3:$ED$130,MATCH(Tabulka!$AI61,Přehled_body!$A$3:$A$130,0),MATCH(Tabulka!S$2,Přehled_body!$E$1:$ED$1,0)),)=0,0.00000000001,IFERROR(INDEX(Přehled_body!$E$3:$ED$130,MATCH(Tabulka!$AI61,Přehled_body!$A$3:$A$130,0),MATCH(Tabulka!S$2,Přehled_body!$E$1:$ED$1,0)),)))","v":0},{"$f":"IF(IFERROR(INDEX(Přehled_body!$E$3:$ED$130,MATCH(Tabulka!$AI61,Přehled_body!$A$3:$A$130,0),MATCH(Tabulka!T$2,Přehled_body!$E$1:$ED$1,0)),)=\"\",,IF(IFERROR(INDEX(Přehled_body!$E$3:$ED$130,MATCH(Tabulka!$AI61,Přehled_body!$A$3:$A$130,0),MATCH(Tabulka!T$2,Přehled_body!$E$1:$ED$1,0)),)=0,0.00000000001,IFERROR(INDEX(Přehled_body!$E$3:$ED$130,MATCH(Tabulka!$AI61,Přehled_body!$A$3:$A$130,0),MATCH(Tabulka!T$2,Přehled_body!$E$1:$ED$1,0)),)))","v":0},{"$f":"IF(IFERROR(INDEX(Přehled_body!$E$3:$ED$130,MATCH(Tabulka!$AI61,Přehled_body!$A$3:$A$130,0),MATCH(Tabulka!U$2,Přehled_body!$E$1:$ED$1,0)),)=\"\",,IF(IFERROR(INDEX(Přehled_body!$E$3:$ED$130,MATCH(Tabulka!$AI61,Přehled_body!$A$3:$A$130,0),MATCH(Tabulka!U$2,Přehled_body!$E$1:$ED$1,0)),)=0,0.00000000001,IFERROR(INDEX(Přehled_body!$E$3:$ED$130,MATCH(Tabulka!$AI61,Přehled_body!$A$3:$A$130,0),MATCH(Tabulka!U$2,Přehled_body!$E$1:$ED$1,0)),)))","v":0},{"$f":"IF(IFERROR(INDEX(Přehled_body!$E$3:$ED$130,MATCH(Tabulka!$AI61,Přehled_body!$A$3:$A$130,0),MATCH(Tabulka!V$2,Přehled_body!$E$1:$ED$1,0)),)=\"\",,IF(IFERROR(INDEX(Přehled_body!$E$3:$ED$130,MATCH(Tabulka!$AI61,Přehled_body!$A$3:$A$130,0),MATCH(Tabulka!V$2,Přehled_body!$E$1:$ED$1,0)),)=0,0.00000000001,IFERROR(INDEX(Přehled_body!$E$3:$ED$130,MATCH(Tabulka!$AI61,Přehled_body!$A$3:$A$130,0),MATCH(Tabulka!V$2,Přehled_body!$E$1:$ED$1,0)),)))","v":0},{"$f":"IF(IFERROR(INDEX(Přehled_body!$E$3:$ED$130,MATCH(Tabulka!$AI61,Přehled_body!$A$3:$A$130,0),MATCH(Tabulka!W$2,Přehled_body!$E$1:$ED$1,0)),)=\"\",,IF(IFERROR(INDEX(Přehled_body!$E$3:$ED$130,MATCH(Tabulka!$AI61,Přehled_body!$A$3:$A$130,0),MATCH(Tabulka!W$2,Přehled_body!$E$1:$ED$1,0)),)=0,0.00000000001,IFERROR(INDEX(Přehled_body!$E$3:$ED$130,MATCH(Tabulka!$AI61,Přehled_body!$A$3:$A$130,0),MATCH(Tabulka!W$2,Přehled_body!$E$1:$ED$1,0)),)))","v":0},{"$f":"IF(IFERROR(INDEX(Přehled_body!$E$3:$ED$130,MATCH(Tabulka!$AI61,Přehled_body!$A$3:$A$130,0),MATCH(Tabulka!X$2,Přehled_body!$E$1:$ED$1,0)),)=\"\",,IF(IFERROR(INDEX(Přehled_body!$E$3:$ED$130,MATCH(Tabulka!$AI61,Přehled_body!$A$3:$A$130,0),MATCH(Tabulka!X$2,Přehled_body!$E$1:$ED$1,0)),)=0,0.00000000001,IFERROR(INDEX(Přehled_body!$E$3:$ED$130,MATCH(Tabulka!$AI61,Přehled_body!$A$3:$A$130,0),MATCH(Tabulka!X$2,Přehled_body!$E$1:$ED$1,0)),)))","v":0},{"$f":"IF(IFERROR(INDEX(Přehled_body!$E$3:$ED$130,MATCH(Tabulka!$AI61,Přehled_body!$A$3:$A$130,0),MATCH(Tabulka!Y$2,Přehled_body!$E$1:$ED$1,0)),)=\"\",,IF(IFERROR(INDEX(Přehled_body!$E$3:$ED$130,MATCH(Tabulka!$AI61,Přehled_body!$A$3:$A$130,0),MATCH(Tabulka!Y$2,Přehled_body!$E$1:$ED$1,0)),)=0,0.00000000001,IFERROR(INDEX(Přehled_body!$E$3:$ED$130,MATCH(Tabulka!$AI61,Přehled_body!$A$3:$A$130,0),MATCH(Tabulka!Y$2,Přehled_body!$E$1:$ED$1,0)),)))","v":0},{"$f":"IF(IFERROR(INDEX(Přehled_body!$E$3:$ED$130,MATCH(Tabulka!$AI61,Přehled_body!$A$3:$A$130,0),MATCH(Tabulka!Z$2,Přehled_body!$E$1:$ED$1,0)),)=\"\",,IF(IFERROR(INDEX(Přehled_body!$E$3:$ED$130,MATCH(Tabulka!$AI61,Přehled_body!$A$3:$A$130,0),MATCH(Tabulka!Z$2,Přehled_body!$E$1:$ED$1,0)),)=0,0.00000000001,IFERROR(INDEX(Přehled_body!$E$3:$ED$130,MATCH(Tabulka!$AI61,Přehled_body!$A$3:$A$130,0),MATCH(Tabulka!Z$2,Přehled_body!$E$1:$ED$1,0)),)))","v":0},{"$f":"IF(IFERROR(INDEX(Přehled_body!$E$3:$ED$130,MATCH(Tabulka!$AI61,Přehled_body!$A$3:$A$130,0),MATCH(Tabulka!AA$2,Přehled_body!$E$1:$ED$1,0)),)=\"\",,IF(IFERROR(INDEX(Přehled_body!$E$3:$ED$130,MATCH(Tabulka!$AI61,Přehled_body!$A$3:$A$130,0),MATCH(Tabulka!AA$2,Přehled_body!$E$1:$ED$1,0)),)=0,0.00000000001,IFERROR(INDEX(Přehled_body!$E$3:$ED$130,MATCH(Tabulka!$AI61,Přehled_body!$A$3:$A$130,0),MATCH(Tabulka!AA$2,Přehled_body!$E$1:$ED$1,0)),)))","v":0},{"$f":"IF(IFERROR(INDEX(Přehled_body!$E$3:$ED$130,MATCH(Tabulka!$AI61,Přehled_body!$A$3:$A$130,0),MATCH(Tabulka!AB$2,Přehled_body!$E$1:$ED$1,0)),)=\"\",,IF(IFERROR(INDEX(Přehled_body!$E$3:$ED$130,MATCH(Tabulka!$AI61,Přehled_body!$A$3:$A$130,0),MATCH(Tabulka!AB$2,Přehled_body!$E$1:$ED$1,0)),)=0,0.00000000001,IFERROR(INDEX(Přehled_body!$E$3:$ED$130,MATCH(Tabulka!$AI61,Přehled_body!$A$3:$A$130,0),MATCH(Tabulka!AB$2,Přehled_body!$E$1:$ED$1,0)),)))","v":0},{"$f":"IF(IFERROR(INDEX(Přehled_body!$E$3:$ED$130,MATCH(Tabulka!$AI61,Přehled_body!$A$3:$A$130,0),MATCH(Tabulka!AC$2,Přehled_body!$E$1:$ED$1,0)),)=\"\",,IF(IFERROR(INDEX(Přehled_body!$E$3:$ED$130,MATCH(Tabulka!$AI61,Přehled_body!$A$3:$A$130,0),MATCH(Tabulka!AC$2,Přehled_body!$E$1:$ED$1,0)),)=0,0.00000000001,IFERROR(INDEX(Přehled_body!$E$3:$ED$130,MATCH(Tabulka!$AI61,Přehled_body!$A$3:$A$130,0),MATCH(Tabulka!AC$2,Přehled_body!$E$1:$ED$1,0)),)))","v":0},{"$f":"IF(IFERROR(INDEX(Přehled_body!$E$3:$ED$130,MATCH(Tabulka!$AI61,Přehled_body!$A$3:$A$130,0),MATCH(Tabulka!AD$2,Přehled_body!$E$1:$ED$1,0)),)=\"\",,IF(IFERROR(INDEX(Přehled_body!$E$3:$ED$130,MATCH(Tabulka!$AI61,Přehled_body!$A$3:$A$130,0),MATCH(Tabulka!AD$2,Přehled_body!$E$1:$ED$1,0)),)=0,0.00000000001,IFERROR(INDEX(Přehled_body!$E$3:$ED$130,MATCH(Tabulka!$AI61,Přehled_body!$A$3:$A$130,0),MATCH(Tabulka!AD$2,Přehled_body!$E$1:$ED$1,0)),)))","v":0},{"$f":"IF(SUM($D$59:$AD$63)<1,-90000,SUM(D61:AD61))","v":7.00000000006},null,null,null,{"$f":"CONCATENATE($B$60,\" \",$B$61,C61)","v":"Standa RothPlaceno panáků"}]
[null,null,"Přehozy",{"$f":"IF(IFERROR(INDEX(Přehled_body!$E$3:$ED$130,MATCH(Tabulka!$AI62,Přehled_body!$A$3:$A$130,0),MATCH(Tabulka!D$2,Přehled_body!$E$1:$ED$1,0)),)=\"\",,IF(IFERROR(INDEX(Přehled_body!$E$3:$ED$130,MATCH(Tabulka!$AI62,Přehled_body!$A$3:$A$130,0),MATCH(Tabulka!D$2,Přehled_body!$E$1:$ED$1,0)),)=0,0.00000000001,IFERROR(INDEX(Přehled_body!$E$3:$ED$130,MATCH(Tabulka!$AI62,Přehled_body!$A$3:$A$130,0),MATCH(Tabulka!D$2,Přehled_body!$E$1:$ED$1,0)),)))","v":9.9999999999999994E-12},{"$f":"IF(IFERROR(INDEX(Přehled_body!$E$3:$ED$130,MATCH(Tabulka!$AI62,Přehled_body!$A$3:$A$130,0),MATCH(Tabulka!E$2,Přehled_body!$E$1:$ED$1,0)),)=\"\",,IF(IFERROR(INDEX(Přehled_body!$E$3:$ED$130,MATCH(Tabulka!$AI62,Přehled_body!$A$3:$A$130,0),MATCH(Tabulka!E$2,Přehled_body!$E$1:$ED$1,0)),)=0,0.00000000001,IFERROR(INDEX(Přehled_body!$E$3:$ED$130,MATCH(Tabulka!$AI62,Přehled_body!$A$3:$A$130,0),MATCH(Tabulka!E$2,Přehled_body!$E$1:$ED$1,0)),)))","v":2},{"$f":"IF(IFERROR(INDEX(Přehled_body!$E$3:$ED$130,MATCH(Tabulka!$AI62,Přehled_body!$A$3:$A$130,0),MATCH(Tabulka!F$2,Přehled_body!$E$1:$ED$1,0)),)=\"\",,IF(IFERROR(INDEX(Přehled_body!$E$3:$ED$130,MATCH(Tabulka!$AI62,Přehled_body!$A$3:$A$130,0),MATCH(Tabulka!F$2,Přehled_body!$E$1:$ED$1,0)),)=0,0.00000000001,IFERROR(INDEX(Přehled_body!$E$3:$ED$130,MATCH(Tabulka!$AI62,Přehled_body!$A$3:$A$130,0),MATCH(Tabulka!F$2,Přehled_body!$E$1:$ED$1,0)),)))","v":0},{"$f":"IF(IFERROR(INDEX(Přehled_body!$E$3:$ED$130,MATCH(Tabulka!$AI62,Přehled_body!$A$3:$A$130,0),MATCH(Tabulka!G$2,Přehled_body!$E$1:$ED$1,0)),)=\"\",,IF(IFERROR(INDEX(Přehled_body!$E$3:$ED$130,MATCH(Tabulka!$AI62,Přehled_body!$A$3:$A$130,0),MATCH(Tabulka!G$2,Přehled_body!$E$1:$ED$1,0)),)=0,0.00000000001,IFERROR(INDEX(Přehled_body!$E$3:$ED$130,MATCH(Tabulka!$AI62,Přehled_body!$A$3:$A$130,0),MATCH(Tabulka!G$2,Přehled_body!$E$1:$ED$1,0)),)))","v":2},{"$f":"IF(IFERROR(INDEX(Přehled_body!$E$3:$ED$130,MATCH(Tabulka!$AI62,Přehled_body!$A$3:$A$130,0),MATCH(Tabulka!H$2,Přehled_body!$E$1:$ED$1,0)),)=\"\",,IF(IFERROR(INDEX(Přehled_body!$E$3:$ED$130,MATCH(Tabulka!$AI62,Přehled_body!$A$3:$A$130,0),MATCH(Tabulka!H$2,Přehled_body!$E$1:$ED$1,0)),)=0,0.00000000001,IFERROR(INDEX(Přehled_body!$E$3:$ED$130,MATCH(Tabulka!$AI62,Přehled_body!$A$3:$A$130,0),MATCH(Tabulka!H$2,Přehled_body!$E$1:$ED$1,0)),)))","v":9.9999999999999994E-12},{"$f":"IF(IFERROR(INDEX(Přehled_body!$E$3:$ED$130,MATCH(Tabulka!$AI62,Přehled_body!$A$3:$A$130,0),MATCH(Tabulka!I$2,Přehled_body!$E$1:$ED$1,0)),)=\"\",,IF(IFERROR(INDEX(Přehled_body!$E$3:$ED$130,MATCH(Tabulka!$AI62,Přehled_body!$A$3:$A$130,0),MATCH(Tabulka!I$2,Přehled_body!$E$1:$ED$1,0)),)=0,0.00000000001,IFERROR(INDEX(Přehled_body!$E$3:$ED$130,MATCH(Tabulka!$AI62,Přehled_body!$A$3:$A$130,0),MATCH(Tabulka!I$2,Přehled_body!$E$1:$ED$1,0)),)))","v":9.9999999999999994E-12},{"$f":"IF(IFERROR(INDEX(Přehled_body!$E$3:$ED$130,MATCH(Tabulka!$AI62,Přehled_body!$A$3:$A$130,0),MATCH(Tabulka!J$2,Přehled_body!$E$1:$ED$1,0)),)=\"\",,IF(IFERROR(INDEX(Přehled_body!$E$3:$ED$130,MATCH(Tabulka!$AI62,Přehled_body!$A$3:$A$130,0),MATCH(Tabulka!J$2,Přehled_body!$E$1:$ED$1,0)),)=0,0.00000000001,IFERROR(INDEX(Přehled_body!$E$3:$ED$130,MATCH(Tabulka!$AI62,Přehled_body!$A$3:$A$130,0),MATCH(Tabulka!J$2,Přehled_body!$E$1:$ED$1,0)),)))","v":9.9999999999999994E-12},{"$f":"IF(IFERROR(INDEX(Přehled_body!$E$3:$ED$130,MATCH(Tabulka!$AI62,Přehled_body!$A$3:$A$130,0),MATCH(Tabulka!K$2,Přehled_body!$E$1:$ED$1,0)),)=\"\",,IF(IFERROR(INDEX(Přehled_body!$E$3:$ED$130,MATCH(Tabulka!$AI62,Přehled_body!$A$3:$A$130,0),MATCH(Tabulka!K$2,Přehled_body!$E$1:$ED$1,0)),)=0,0.00000000001,IFERROR(INDEX(Přehled_body!$E$3:$ED$130,MATCH(Tabulka!$AI62,Přehled_body!$A$3:$A$130,0),MATCH(Tabulka!K$2,Přehled_body!$E$1:$ED$1,0)),)))","v":9.9999999999999994E-12},{"$f":"IF(IFERROR(INDEX(Přehled_body!$E$3:$ED$130,MATCH(Tabulka!$AI62,Přehled_body!$A$3:$A$130,0),MATCH(Tabulka!L$2,Přehled_body!$E$1:$ED$1,0)),)=\"\",,IF(IFERROR(INDEX(Přehled_body!$E$3:$ED$130,MATCH(Tabulka!$AI62,Přehled_body!$A$3:$A$130,0),MATCH(Tabulka!L$2,Přehled_body!$E$1:$ED$1,0)),)=0,0.00000000001,IFERROR(INDEX(Přehled_body!$E$3:$ED$130,MATCH(Tabulka!$AI62,Přehled_body!$A$3:$A$130,0),MATCH(Tabulka!L$2,Přehled_body!$E$1:$ED$1,0)),)))","v":9.9999999999999994E-12},{"$f":"IF(IFERROR(INDEX(Přehled_body!$E$3:$ED$130,MATCH(Tabulka!$AI62,Přehled_body!$A$3:$A$130,0),MATCH(Tabulka!M$2,Přehled_body!$E$1:$ED$1,0)),)=\"\",,IF(IFERROR(INDEX(Přehled_body!$E$3:$ED$130,MATCH(Tabulka!$AI62,Přehled_body!$A$3:$A$130,0),MATCH(Tabulka!M$2,Přehled_body!$E$1:$ED$1,0)),)=0,0.00000000001,IFERROR(INDEX(Přehled_body!$E$3:$ED$130,MATCH(Tabulka!$AI62,Přehled_body!$A$3:$A$130,0),MATCH(Tabulka!M$2,Přehled_body!$E$1:$ED$1,0)),)))","v":3},{"$f":"IF(IFERROR(INDEX(Přehled_body!$E$3:$ED$130,MATCH(Tabulka!$AI62,Přehled_body!$A$3:$A$130,0),MATCH(Tabulka!N$2,Přehled_body!$E$1:$ED$1,0)),)=\"\",,IF(IFERROR(INDEX(Přehled_body!$E$3:$ED$130,MATCH(Tabulka!$AI62,Přehled_body!$A$3:$A$130,0),MATCH(Tabulka!N$2,Přehled_body!$E$1:$ED$1,0)),)=0,0.00000000001,IFERROR(INDEX(Přehled_body!$E$3:$ED$130,MATCH(Tabulka!$AI62,Přehled_body!$A$3:$A$130,0),MATCH(Tabulka!N$2,Přehled_body!$E$1:$ED$1,0)),)))","v":0},{"$f":"IF(IFERROR(INDEX(Přehled_body!$E$3:$ED$130,MATCH(Tabulka!$AI62,Přehled_body!$A$3:$A$130,0),MATCH(Tabulka!O$2,Přehled_body!$E$1:$ED$1,0)),)=\"\",,IF(IFERROR(INDEX(Přehled_body!$E$3:$ED$130,MATCH(Tabulka!$AI62,Přehled_body!$A$3:$A$130,0),MATCH(Tabulka!O$2,Přehled_body!$E$1:$ED$1,0)),)=0,0.00000000001,IFERROR(INDEX(Přehled_body!$E$3:$ED$130,MATCH(Tabulka!$AI62,Přehled_body!$A$3:$A$130,0),MATCH(Tabulka!O$2,Přehled_body!$E$1:$ED$1,0)),)))","v":0},{"$f":"IF(IFERROR(INDEX(Přehled_body!$E$3:$ED$130,MATCH(Tabulka!$AI62,Přehled_body!$A$3:$A$130,0),MATCH(Tabulka!P$2,Přehled_body!$E$1:$ED$1,0)),)=\"\",,IF(IFERROR(INDEX(Přehled_body!$E$3:$ED$130,MATCH(Tabulka!$AI62,Přehled_body!$A$3:$A$130,0),MATCH(Tabulka!P$2,Přehled_body!$E$1:$ED$1,0)),)=0,0.00000000001,IFERROR(INDEX(Přehled_body!$E$3:$ED$130,MATCH(Tabulka!$AI62,Přehled_body!$A$3:$A$130,0),MATCH(Tabulka!P$2,Přehled_body!$E$1:$ED$1,0)),)))","v":0},{"$f":"IF(IFERROR(INDEX(Přehled_body!$E$3:$ED$130,MATCH(Tabulka!$AI62,Přehled_body!$A$3:$A$130,0),MATCH(Tabulka!Q$2,Přehled_body!$E$1:$ED$1,0)),)=\"\",,IF(IFERROR(INDEX(Přehled_body!$E$3:$ED$130,MATCH(Tabulka!$AI62,Přehled_body!$A$3:$A$130,0),MATCH(Tabulka!Q$2,Přehled_body!$E$1:$ED$1,0)),)=0,0.00000000001,IFERROR(INDEX(Přehled_body!$E$3:$ED$130,MATCH(Tabulka!$AI62,Přehled_body!$A$3:$A$130,0),MATCH(Tabulka!Q$2,Přehled_body!$E$1:$ED$1,0)),)))","v":0},{"$f":"IF(IFERROR(INDEX(Přehled_body!$E$3:$ED$130,MATCH(Tabulka!$AI62,Přehled_body!$A$3:$A$130,0),MATCH(Tabulka!R$2,Přehled_body!$E$1:$ED$1,0)),)=\"\",,IF(IFERROR(INDEX(Přehled_body!$E$3:$ED$130,MATCH(Tabulka!$AI62,Přehled_body!$A$3:$A$130,0),MATCH(Tabulka!R$2,Přehled_body!$E$1:$ED$1,0)),)=0,0.00000000001,IFERROR(INDEX(Přehled_body!$E$3:$ED$130,MATCH(Tabulka!$AI62,Přehled_body!$A$3:$A$130,0),MATCH(Tabulka!R$2,Přehled_body!$E$1:$ED$1,0)),)))","v":0},{"$f":"IF(IFERROR(INDEX(Přehled_body!$E$3:$ED$130,MATCH(Tabulka!$AI62,Přehled_body!$A$3:$A$130,0),MATCH(Tabulka!S$2,Přehled_body!$E$1:$ED$1,0)),)=\"\",,IF(IFERROR(INDEX(Přehled_body!$E$3:$ED$130,MATCH(Tabulka!$AI62,Přehled_body!$A$3:$A$130,0),MATCH(Tabulka!S$2,Přehled_body!$E$1:$ED$1,0)),)=0,0.00000000001,IFERROR(INDEX(Přehled_body!$E$3:$ED$130,MATCH(Tabulka!$AI62,Přehled_body!$A$3:$A$130,0),MATCH(Tabulka!S$2,Přehled_body!$E$1:$ED$1,0)),)))","v":0},{"$f":"IF(IFERROR(INDEX(Přehled_body!$E$3:$ED$130,MATCH(Tabulka!$AI62,Přehled_body!$A$3:$A$130,0),MATCH(Tabulka!T$2,Přehled_body!$E$1:$ED$1,0)),)=\"\",,IF(IFERROR(INDEX(Přehled_body!$E$3:$ED$130,MATCH(Tabulka!$AI62,Přehled_body!$A$3:$A$130,0),MATCH(Tabulka!T$2,Přehled_body!$E$1:$ED$1,0)),)=0,0.00000000001,IFERROR(INDEX(Přehled_body!$E$3:$ED$130,MATCH(Tabulka!$AI62,Přehled_body!$A$3:$A$130,0),MATCH(Tabulka!T$2,Přehled_body!$E$1:$ED$1,0)),)))","v":0},{"$f":"IF(IFERROR(INDEX(Přehled_body!$E$3:$ED$130,MATCH(Tabulka!$AI62,Přehled_body!$A$3:$A$130,0),MATCH(Tabulka!U$2,Přehled_body!$E$1:$ED$1,0)),)=\"\",,IF(IFERROR(INDEX(Přehled_body!$E$3:$ED$130,MATCH(Tabulka!$AI62,Přehled_body!$A$3:$A$130,0),MATCH(Tabulka!U$2,Přehled_body!$E$1:$ED$1,0)),)=0,0.00000000001,IFERROR(INDEX(Přehled_body!$E$3:$ED$130,MATCH(Tabulka!$AI62,Přehled_body!$A$3:$A$130,0),MATCH(Tabulka!U$2,Přehled_body!$E$1:$ED$1,0)),)))","v":0},{"$f":"IF(IFERROR(INDEX(Přehled_body!$E$3:$ED$130,MATCH(Tabulka!$AI62,Přehled_body!$A$3:$A$130,0),MATCH(Tabulka!V$2,Přehled_body!$E$1:$ED$1,0)),)=\"\",,IF(IFERROR(INDEX(Přehled_body!$E$3:$ED$130,MATCH(Tabulka!$AI62,Přehled_body!$A$3:$A$130,0),MATCH(Tabulka!V$2,Přehled_body!$E$1:$ED$1,0)),)=0,0.00000000001,IFERROR(INDEX(Přehled_body!$E$3:$ED$130,MATCH(Tabulka!$AI62,Přehled_body!$A$3:$A$130,0),MATCH(Tabulka!V$2,Přehled_body!$E$1:$ED$1,0)),)))","v":0},{"$f":"IF(IFERROR(INDEX(Přehled_body!$E$3:$ED$130,MATCH(Tabulka!$AI62,Přehled_body!$A$3:$A$130,0),MATCH(Tabulka!W$2,Přehled_body!$E$1:$ED$1,0)),)=\"\",,IF(IFERROR(INDEX(Přehled_body!$E$3:$ED$130,MATCH(Tabulka!$AI62,Přehled_body!$A$3:$A$130,0),MATCH(Tabulka!W$2,Přehled_body!$E$1:$ED$1,0)),)=0,0.00000000001,IFERROR(INDEX(Přehled_body!$E$3:$ED$130,MATCH(Tabulka!$AI62,Přehled_body!$A$3:$A$130,0),MATCH(Tabulka!W$2,Přehled_body!$E$1:$ED$1,0)),)))","v":0},{"$f":"IF(IFERROR(INDEX(Přehled_body!$E$3:$ED$130,MATCH(Tabulka!$AI62,Přehled_body!$A$3:$A$130,0),MATCH(Tabulka!X$2,Přehled_body!$E$1:$ED$1,0)),)=\"\",,IF(IFERROR(INDEX(Přehled_body!$E$3:$ED$130,MATCH(Tabulka!$AI62,Přehled_body!$A$3:$A$130,0),MATCH(Tabulka!X$2,Přehled_body!$E$1:$ED$1,0)),)=0,0.00000000001,IFERROR(INDEX(Přehled_body!$E$3:$ED$130,MATCH(Tabulka!$AI62,Přehled_body!$A$3:$A$130,0),MATCH(Tabulka!X$2,Přehled_body!$E$1:$ED$1,0)),)))","v":0},{"$f":"IF(IFERROR(INDEX(Přehled_body!$E$3:$ED$130,MATCH(Tabulka!$AI62,Přehled_body!$A$3:$A$130,0),MATCH(Tabulka!Y$2,Přehled_body!$E$1:$ED$1,0)),)=\"\",,IF(IFERROR(INDEX(Přehled_body!$E$3:$ED$130,MATCH(Tabulka!$AI62,Přehled_body!$A$3:$A$130,0),MATCH(Tabulka!Y$2,Přehled_body!$E$1:$ED$1,0)),)=0,0.00000000001,IFERROR(INDEX(Přehled_body!$E$3:$ED$130,MATCH(Tabulka!$AI62,Přehled_body!$A$3:$A$130,0),MATCH(Tabulka!Y$2,Přehled_body!$E$1:$ED$1,0)),)))","v":0},{"$f":"IF(IFERROR(INDEX(Přehled_body!$E$3:$ED$130,MATCH(Tabulka!$AI62,Přehled_body!$A$3:$A$130,0),MATCH(Tabulka!Z$2,Přehled_body!$E$1:$ED$1,0)),)=\"\",,IF(IFERROR(INDEX(Přehled_body!$E$3:$ED$130,MATCH(Tabulka!$AI62,Přehled_body!$A$3:$A$130,0),MATCH(Tabulka!Z$2,Přehled_body!$E$1:$ED$1,0)),)=0,0.00000000001,IFERROR(INDEX(Přehled_body!$E$3:$ED$130,MATCH(Tabulka!$AI62,Přehled_body!$A$3:$A$130,0),MATCH(Tabulka!Z$2,Přehled_body!$E$1:$ED$1,0)),)))","v":0},{"$f":"IF(IFERROR(INDEX(Přehled_body!$E$3:$ED$130,MATCH(Tabulka!$AI62,Přehled_body!$A$3:$A$130,0),MATCH(Tabulka!AA$2,Přehled_body!$E$1:$ED$1,0)),)=\"\",,IF(IFERROR(INDEX(Přehled_body!$E$3:$ED$130,MATCH(Tabulka!$AI62,Přehled_body!$A$3:$A$130,0),MATCH(Tabulka!AA$2,Přehled_body!$E$1:$ED$1,0)),)=0,0.00000000001,IFERROR(INDEX(Přehled_body!$E$3:$ED$130,MATCH(Tabulka!$AI62,Přehled_body!$A$3:$A$130,0),MATCH(Tabulka!AA$2,Přehled_body!$E$1:$ED$1,0)),)))","v":0},{"$f":"IF(IFERROR(INDEX(Přehled_body!$E$3:$ED$130,MATCH(Tabulka!$AI62,Přehled_body!$A$3:$A$130,0),MATCH(Tabulka!AB$2,Přehled_body!$E$1:$ED$1,0)),)=\"\",,IF(IFERROR(INDEX(Přehled_body!$E$3:$ED$130,MATCH(Tabulka!$AI62,Přehled_body!$A$3:$A$130,0),MATCH(Tabulka!AB$2,Přehled_body!$E$1:$ED$1,0)),)=0,0.00000000001,IFERROR(INDEX(Přehled_body!$E$3:$ED$130,MATCH(Tabulka!$AI62,Přehled_body!$A$3:$A$130,0),MATCH(Tabulka!AB$2,Přehled_body!$E$1:$ED$1,0)),)))","v":0},{"$f":"IF(IFERROR(INDEX(Přehled_body!$E$3:$ED$130,MATCH(Tabulka!$AI62,Přehled_body!$A$3:$A$130,0),MATCH(Tabulka!AC$2,Přehled_body!$E$1:$ED$1,0)),)=\"\",,IF(IFERROR(INDEX(Přehled_body!$E$3:$ED$130,MATCH(Tabulka!$AI62,Přehled_body!$A$3:$A$130,0),MATCH(Tabulka!AC$2,Přehled_body!$E$1:$ED$1,0)),)=0,0.00000000001,IFERROR(INDEX(Přehled_body!$E$3:$ED$130,MATCH(Tabulka!$AI62,Přehled_body!$A$3:$A$130,0),MATCH(Tabulka!AC$2,Přehled_body!$E$1:$ED$1,0)),)))","v":0},{"$f":"IF(IFERROR(INDEX(Přehled_body!$E$3:$ED$130,MATCH(Tabulka!$AI62,Přehled_body!$A$3:$A$130,0),MATCH(Tabulka!AD$2,Přehled_body!$E$1:$ED$1,0)),)=\"\",,IF(IFERROR(INDEX(Přehled_body!$E$3:$ED$130,MATCH(Tabulka!$AI62,Přehled_body!$A$3:$A$130,0),MATCH(Tabulka!AD$2,Přehled_body!$E$1:$ED$1,0)),)=0,0.00000000001,IFERROR(INDEX(Přehled_body!$E$3:$ED$130,MATCH(Tabulka!$AI62,Přehled_body!$A$3:$A$130,0),MATCH(Tabulka!AD$2,Přehled_body!$E$1:$ED$1,0)),)))","v":0},{"$f":"IF(SUM($D$59:$AD$63)<1,-90000,SUM(D62:AD62))","v":7.00000000006},null,null,null,{"$f":"CONCATENATE($B$60,\" \",$B$61,C62)","v":"Standa RothPřehozy"}]
[null,null,"Poč. kol",{"$f":"IF(IFERROR(INDEX(Přehled_body!$E$3:$ED$130,MATCH(Tabulka!$AI63,Přehled_body!$A$3:$A$130,0),MATCH(Tabulka!D$2,Přehled_body!$E$1:$ED$1,0)),)=\"\",,IF(IFERROR(INDEX(Přehled_body!$E$3:$ED$130,MATCH(Tabulka!$AI63,Přehled_body!$A$3:$A$130,0),MATCH(Tabulka!D$2,Přehled_body!$E$1:$ED$1,0)),)=0,0.00000000001,IFERROR(INDEX(Přehled_body!$E$3:$ED$130,MATCH(Tabulka!$AI63,Přehled_body!$A$3:$A$130,0),MATCH(Tabulka!D$2,Přehled_body!$E$1:$ED$1,0)),)))","v":4},{"$f":"IF(IFERROR(INDEX(Přehled_body!$E$3:$ED$130,MATCH(Tabulka!$AI63,Přehled_body!$A$3:$A$130,0),MATCH(Tabulka!E$2,Přehled_body!$E$1:$ED$1,0)),)=\"\",,IF(IFERROR(INDEX(Přehled_body!$E$3:$ED$130,MATCH(Tabulka!$AI63,Přehled_body!$A$3:$A$130,0),MATCH(Tabulka!E$2,Přehled_body!$E$1:$ED$1,0)),)=0,0.00000000001,IFERROR(INDEX(Přehled_body!$E$3:$ED$130,MATCH(Tabulka!$AI63,Přehled_body!$A$3:$A$130,0),MATCH(Tabulka!E$2,Přehled_body!$E$1:$ED$1,0)),)))","v":4},{"$f":"IF(IFERROR(INDEX(Přehled_body!$E$3:$ED$130,MATCH(Tabulka!$AI63,Přehled_body!$A$3:$A$130,0),MATCH(Tabulka!F$2,Přehled_body!$E$1:$ED$1,0)),)=\"\",,IF(IFERROR(INDEX(Přehled_body!$E$3:$ED$130,MATCH(Tabulka!$AI63,Přehled_body!$A$3:$A$130,0),MATCH(Tabulka!F$2,Přehled_body!$E$1:$ED$1,0)),)=0,0.00000000001,IFERROR(INDEX(Přehled_body!$E$3:$ED$130,MATCH(Tabulka!$AI63,Přehled_body!$A$3:$A$130,0),MATCH(Tabulka!F$2,Přehled_body!$E$1:$ED$1,0)),)))","v":0},{"$f":"IF(IFERROR(INDEX(Přehled_body!$E$3:$ED$130,MATCH(Tabulka!$AI63,Přehled_body!$A$3:$A$130,0),MATCH(Tabulka!G$2,Přehled_body!$E$1:$ED$1,0)),)=\"\",,IF(IFERROR(INDEX(Přehled_body!$E$3:$ED$130,MATCH(Tabulka!$AI63,Přehled_body!$A$3:$A$130,0),MATCH(Tabulka!G$2,Přehled_body!$E$1:$ED$1,0)),)=0,0.00000000001,IFERROR(INDEX(Přehled_body!$E$3:$ED$130,MATCH(Tabulka!$AI63,Přehled_body!$A$3:$A$130,0),MATCH(Tabulka!G$2,Přehled_body!$E$1:$ED$1,0)),)))","v":4},{"$f":"IF(IFERROR(INDEX(Přehled_body!$E$3:$ED$130,MATCH(Tabulka!$AI63,Přehled_body!$A$3:$A$130,0),MATCH(Tabulka!H$2,Přehled_body!$E$1:$ED$1,0)),)=\"\",,IF(IFERROR(INDEX(Přehled_body!$E$3:$ED$130,MATCH(Tabulka!$AI63,Přehled_body!$A$3:$A$130,0),MATCH(Tabulka!H$2,Přehled_body!$E$1:$ED$1,0)),)=0,0.00000000001,IFERROR(INDEX(Přehled_body!$E$3:$ED$130,MATCH(Tabulka!$AI63,Přehled_body!$A$3:$A$130,0),MATCH(Tabulka!H$2,Přehled_body!$E$1:$ED$1,0)),)))","v":4},{"$f":"IF(IFERROR(INDEX(Přehled_body!$E$3:$ED$130,MATCH(Tabulka!$AI63,Přehled_body!$A$3:$A$130,0),MATCH(Tabulka!I$2,Přehled_body!$E$1:$ED$1,0)),)=\"\",,IF(IFERROR(INDEX(Přehled_body!$E$3:$ED$130,MATCH(Tabulka!$AI63,Přehled_body!$A$3:$A$130,0),MATCH(Tabulka!I$2,Přehled_body!$E$1:$ED$1,0)),)=0,0.00000000001,IFERROR(INDEX(Přehled_body!$E$3:$ED$130,MATCH(Tabulka!$AI63,Přehled_body!$A$3:$A$130,0),MATCH(Tabulka!I$2,Přehled_body!$E$1:$ED$1,0)),)))","v":4},{"$f":"IF(IFERROR(INDEX(Přehled_body!$E$3:$ED$130,MATCH(Tabulka!$AI63,Přehled_body!$A$3:$A$130,0),MATCH(Tabulka!J$2,Přehled_body!$E$1:$ED$1,0)),)=\"\",,IF(IFERROR(INDEX(Přehled_body!$E$3:$ED$130,MATCH(Tabulka!$AI63,Přehled_body!$A$3:$A$130,0),MATCH(Tabulka!J$2,Přehled_body!$E$1:$ED$1,0)),)=0,0.00000000001,IFERROR(INDEX(Přehled_body!$E$3:$ED$130,MATCH(Tabulka!$AI63,Přehled_body!$A$3:$A$130,0),MATCH(Tabulka!J$2,Přehled_body!$E$1:$ED$1,0)),)))","v":4},{"$f":"IF(IFERROR(INDEX(Přehled_body!$E$3:$ED$130,MATCH(Tabulka!$AI63,Přehled_body!$A$3:$A$130,0),MATCH(Tabulka!K$2,Přehled_body!$E$1:$ED$1,0)),)=\"\",,IF(IFERROR(INDEX(Přehled_body!$E$3:$ED$130,MATCH(Tabulka!$AI63,Přehled_body!$A$3:$A$130,0),MATCH(Tabulka!K$2,Přehled_body!$E$1:$ED$1,0)),)=0,0.00000000001,IFERROR(INDEX(Přehled_body!$E$3:$ED$130,MATCH(Tabulka!$AI63,Přehled_body!$A$3:$A$130,0),MATCH(Tabulka!K$2,Přehled_body!$E$1:$ED$1,0)),)))","v":4},{"$f":"IF(IFERROR(INDEX(Přehled_body!$E$3:$ED$130,MATCH(Tabulka!$AI63,Přehled_body!$A$3:$A$130,0),MATCH(Tabulka!L$2,Přehled_body!$E$1:$ED$1,0)),)=\"\",,IF(IFERROR(INDEX(Přehled_body!$E$3:$ED$130,MATCH(Tabulka!$AI63,Přehled_body!$A$3:$A$130,0),MATCH(Tabulka!L$2,Přehled_body!$E$1:$ED$1,0)),)=0,0.00000000001,IFERROR(INDEX(Přehled_body!$E$3:$ED$130,MATCH(Tabulka!$AI63,Přehled_body!$A$3:$A$130,0),MATCH(Tabulka!L$2,Přehled_body!$E$1:$ED$1,0)),)))","v":3},{"$f":"IF(IFERROR(INDEX(Přehled_body!$E$3:$ED$130,MATCH(Tabulka!$AI63,Přehled_body!$A$3:$A$130,0),MATCH(Tabulka!M$2,Přehled_body!$E$1:$ED$1,0)),)=\"\",,IF(IFERROR(INDEX(Přehled_body!$E$3:$ED$130,MATCH(Tabulka!$AI63,Přehled_body!$A$3:$A$130,0),MATCH(Tabulka!M$2,Přehled_body!$E$1:$ED$1,0)),)=0,0.00000000001,IFERROR(INDEX(Přehled_body!$E$3:$ED$130,MATCH(Tabulka!$AI63,Přehled_body!$A$3:$A$130,0),MATCH(Tabulka!M$2,Přehled_body!$E$1:$ED$1,0)),)))","v":4},{"$f":"IF(IFERROR(INDEX(Přehled_body!$E$3:$ED$130,MATCH(Tabulka!$AI63,Přehled_body!$A$3:$A$130,0),MATCH(Tabulka!N$2,Přehled_body!$E$1:$ED$1,0)),)=\"\",,IF(IFERROR(INDEX(Přehled_body!$E$3:$ED$130,MATCH(Tabulka!$AI63,Přehled_body!$A$3:$A$130,0),MATCH(Tabulka!N$2,Přehled_body!$E$1:$ED$1,0)),)=0,0.00000000001,IFERROR(INDEX(Přehled_body!$E$3:$ED$130,MATCH(Tabulka!$AI63,Přehled_body!$A$3:$A$130,0),MATCH(Tabulka!N$2,Přehled_body!$E$1:$ED$1,0)),)))","v":0},{"$f":"IF(IFERROR(INDEX(Přehled_body!$E$3:$ED$130,MATCH(Tabulka!$AI63,Přehled_body!$A$3:$A$130,0),MATCH(Tabulka!O$2,Přehled_body!$E$1:$ED$1,0)),)=\"\",,IF(IFERROR(INDEX(Přehled_body!$E$3:$ED$130,MATCH(Tabulka!$AI63,Přehled_body!$A$3:$A$130,0),MATCH(Tabulka!O$2,Přehled_body!$E$1:$ED$1,0)),)=0,0.00000000001,IFERROR(INDEX(Přehled_body!$E$3:$ED$130,MATCH(Tabulka!$AI63,Přehled_body!$A$3:$A$130,0),MATCH(Tabulka!O$2,Přehled_body!$E$1:$ED$1,0)),)))","v":0},{"$f":"IF(IFERROR(INDEX(Přehled_body!$E$3:$ED$130,MATCH(Tabulka!$AI63,Přehled_body!$A$3:$A$130,0),MATCH(Tabulka!P$2,Přehled_body!$E$1:$ED$1,0)),)=\"\",,IF(IFERROR(INDEX(Přehled_body!$E$3:$ED$130,MATCH(Tabulka!$AI63,Přehled_body!$A$3:$A$130,0),MATCH(Tabulka!P$2,Přehled_body!$E$1:$ED$1,0)),)=0,0.00000000001,IFERROR(INDEX(Přehled_body!$E$3:$ED$130,MATCH(Tabulka!$AI63,Přehled_body!$A$3:$A$130,0),MATCH(Tabulka!P$2,Přehled_body!$E$1:$ED$1,0)),)))","v":0},{"$f":"IF(IFERROR(INDEX(Přehled_body!$E$3:$ED$130,MATCH(Tabulka!$AI63,Přehled_body!$A$3:$A$130,0),MATCH(Tabulka!Q$2,Přehled_body!$E$1:$ED$1,0)),)=\"\",,IF(IFERROR(INDEX(Přehled_body!$E$3:$ED$130,MATCH(Tabulka!$AI63,Přehled_body!$A$3:$A$130,0),MATCH(Tabulka!Q$2,Přehled_body!$E$1:$ED$1,0)),)=0,0.00000000001,IFERROR(INDEX(Přehled_body!$E$3:$ED$130,MATCH(Tabulka!$AI63,Přehled_body!$A$3:$A$130,0),MATCH(Tabulka!Q$2,Přehled_body!$E$1:$ED$1,0)),)))","v":0},{"$f":"IF(IFERROR(INDEX(Přehled_body!$E$3:$ED$130,MATCH(Tabulka!$AI63,Přehled_body!$A$3:$A$130,0),MATCH(Tabulka!R$2,Přehled_body!$E$1:$ED$1,0)),)=\"\",,IF(IFERROR(INDEX(Přehled_body!$E$3:$ED$130,MATCH(Tabulka!$AI63,Přehled_body!$A$3:$A$130,0),MATCH(Tabulka!R$2,Přehled_body!$E$1:$ED$1,0)),)=0,0.00000000001,IFERROR(INDEX(Přehled_body!$E$3:$ED$130,MATCH(Tabulka!$AI63,Přehled_body!$A$3:$A$130,0),MATCH(Tabulka!R$2,Přehled_body!$E$1:$ED$1,0)),)))","v":0},{"$f":"IF(IFERROR(INDEX(Přehled_body!$E$3:$ED$130,MATCH(Tabulka!$AI63,Přehled_body!$A$3:$A$130,0),MATCH(Tabulka!S$2,Přehled_body!$E$1:$ED$1,0)),)=\"\",,IF(IFERROR(INDEX(Přehled_body!$E$3:$ED$130,MATCH(Tabulka!$AI63,Přehled_body!$A$3:$A$130,0),MATCH(Tabulka!S$2,Přehled_body!$E$1:$ED$1,0)),)=0,0.00000000001,IFERROR(INDEX(Přehled_body!$E$3:$ED$130,MATCH(Tabulka!$AI63,Přehled_body!$A$3:$A$130,0),MATCH(Tabulka!S$2,Přehled_body!$E$1:$ED$1,0)),)))","v":0},{"$f":"IF(IFERROR(INDEX(Přehled_body!$E$3:$ED$130,MATCH(Tabulka!$AI63,Přehled_body!$A$3:$A$130,0),MATCH(Tabulka!T$2,Přehled_body!$E$1:$ED$1,0)),)=\"\",,IF(IFERROR(INDEX(Přehled_body!$E$3:$ED$130,MATCH(Tabulka!$AI63,Přehled_body!$A$3:$A$130,0),MATCH(Tabulka!T$2,Přehled_body!$E$1:$ED$1,0)),)=0,0.00000000001,IFERROR(INDEX(Přehled_body!$E$3:$ED$130,MATCH(Tabulka!$AI63,Přehled_body!$A$3:$A$130,0),MATCH(Tabulka!T$2,Přehled_body!$E$1:$ED$1,0)),)))","v":0},{"$f":"IF(IFERROR(INDEX(Přehled_body!$E$3:$ED$130,MATCH(Tabulka!$AI63,Přehled_body!$A$3:$A$130,0),MATCH(Tabulka!U$2,Přehled_body!$E$1:$ED$1,0)),)=\"\",,IF(IFERROR(INDEX(Přehled_body!$E$3:$ED$130,MATCH(Tabulka!$AI63,Přehled_body!$A$3:$A$130,0),MATCH(Tabulka!U$2,Přehled_body!$E$1:$ED$1,0)),)=0,0.00000000001,IFERROR(INDEX(Přehled_body!$E$3:$ED$130,MATCH(Tabulka!$AI63,Přehled_body!$A$3:$A$130,0),MATCH(Tabulka!U$2,Přehled_body!$E$1:$ED$1,0)),)))","v":0},{"$f":"IF(IFERROR(INDEX(Přehled_body!$E$3:$ED$130,MATCH(Tabulka!$AI63,Přehled_body!$A$3:$A$130,0),MATCH(Tabulka!V$2,Přehled_body!$E$1:$ED$1,0)),)=\"\",,IF(IFERROR(INDEX(Přehled_body!$E$3:$ED$130,MATCH(Tabulka!$AI63,Přehled_body!$A$3:$A$130,0),MATCH(Tabulka!V$2,Přehled_body!$E$1:$ED$1,0)),)=0,0.00000000001,IFERROR(INDEX(Přehled_body!$E$3:$ED$130,MATCH(Tabulka!$AI63,Přehled_body!$A$3:$A$130,0),MATCH(Tabulka!V$2,Přehled_body!$E$1:$ED$1,0)),)))","v":0},{"$f":"IF(IFERROR(INDEX(Přehled_body!$E$3:$ED$130,MATCH(Tabulka!$AI63,Přehled_body!$A$3:$A$130,0),MATCH(Tabulka!W$2,Přehled_body!$E$1:$ED$1,0)),)=\"\",,IF(IFERROR(INDEX(Přehled_body!$E$3:$ED$130,MATCH(Tabulka!$AI63,Přehled_body!$A$3:$A$130,0),MATCH(Tabulka!W$2,Přehled_body!$E$1:$ED$1,0)),)=0,0.00000000001,IFERROR(INDEX(Přehled_body!$E$3:$ED$130,MATCH(Tabulka!$AI63,Přehled_body!$A$3:$A$130,0),MATCH(Tabulka!W$2,Přehled_body!$E$1:$ED$1,0)),)))","v":0},{"$f":"IF(IFERROR(INDEX(Přehled_body!$E$3:$ED$130,MATCH(Tabulka!$AI63,Přehled_body!$A$3:$A$130,0),MATCH(Tabulka!X$2,Přehled_body!$E$1:$ED$1,0)),)=\"\",,IF(IFERROR(INDEX(Přehled_body!$E$3:$ED$130,MATCH(Tabulka!$AI63,Přehled_body!$A$3:$A$130,0),MATCH(Tabulka!X$2,Přehled_body!$E$1:$ED$1,0)),)=0,0.00000000001,IFERROR(INDEX(Přehled_body!$E$3:$ED$130,MATCH(Tabulka!$AI63,Přehled_body!$A$3:$A$130,0),MATCH(Tabulka!X$2,Přehled_body!$E$1:$ED$1,0)),)))","v":0},{"$f":"IF(IFERROR(INDEX(Přehled_body!$E$3:$ED$130,MATCH(Tabulka!$AI63,Přehled_body!$A$3:$A$130,0),MATCH(Tabulka!Y$2,Přehled_body!$E$1:$ED$1,0)),)=\"\",,IF(IFERROR(INDEX(Přehled_body!$E$3:$ED$130,MATCH(Tabulka!$AI63,Přehled_body!$A$3:$A$130,0),MATCH(Tabulka!Y$2,Přehled_body!$E$1:$ED$1,0)),)=0,0.00000000001,IFERROR(INDEX(Přehled_body!$E$3:$ED$130,MATCH(Tabulka!$AI63,Přehled_body!$A$3:$A$130,0),MATCH(Tabulka!Y$2,Přehled_body!$E$1:$ED$1,0)),)))","v":0},{"$f":"IF(IFERROR(INDEX(Přehled_body!$E$3:$ED$130,MATCH(Tabulka!$AI63,Přehled_body!$A$3:$A$130,0),MATCH(Tabulka!Z$2,Přehled_body!$E$1:$ED$1,0)),)=\"\",,IF(IFERROR(INDEX(Přehled_body!$E$3:$ED$130,MATCH(Tabulka!$AI63,Přehled_body!$A$3:$A$130,0),MATCH(Tabulka!Z$2,Přehled_body!$E$1:$ED$1,0)),)=0,0.00000000001,IFERROR(INDEX(Přehled_body!$E$3:$ED$130,MATCH(Tabulka!$AI63,Přehled_body!$A$3:$A$130,0),MATCH(Tabulka!Z$2,Přehled_body!$E$1:$ED$1,0)),)))","v":0},{"$f":"IF(IFERROR(INDEX(Přehled_body!$E$3:$ED$130,MATCH(Tabulka!$AI63,Přehled_body!$A$3:$A$130,0),MATCH(Tabulka!AA$2,Přehled_body!$E$1:$ED$1,0)),)=\"\",,IF(IFERROR(INDEX(Přehled_body!$E$3:$ED$130,MATCH(Tabulka!$AI63,Přehled_body!$A$3:$A$130,0),MATCH(Tabulka!AA$2,Přehled_body!$E$1:$ED$1,0)),)=0,0.00000000001,IFERROR(INDEX(Přehled_body!$E$3:$ED$130,MATCH(Tabulka!$AI63,Přehled_body!$A$3:$A$130,0),MATCH(Tabulka!AA$2,Přehled_body!$E$1:$ED$1,0)),)))","v":0},{"$f":"IF(IFERROR(INDEX(Přehled_body!$E$3:$ED$130,MATCH(Tabulka!$AI63,Přehled_body!$A$3:$A$130,0),MATCH(Tabulka!AB$2,Přehled_body!$E$1:$ED$1,0)),)=\"\",,IF(IFERROR(INDEX(Přehled_body!$E$3:$ED$130,MATCH(Tabulka!$AI63,Přehled_body!$A$3:$A$130,0),MATCH(Tabulka!AB$2,Přehled_body!$E$1:$ED$1,0)),)=0,0.00000000001,IFERROR(INDEX(Přehled_body!$E$3:$ED$130,MATCH(Tabulka!$AI63,Přehled_body!$A$3:$A$130,0),MATCH(Tabulka!AB$2,Přehled_body!$E$1:$ED$1,0)),)))","v":0},{"$f":"IF(IFERROR(INDEX(Přehled_body!$E$3:$ED$130,MATCH(Tabulka!$AI63,Přehled_body!$A$3:$A$130,0),MATCH(Tabulka!AC$2,Přehled_body!$E$1:$ED$1,0)),)=\"\",,IF(IFERROR(INDEX(Přehled_body!$E$3:$ED$130,MATCH(Tabulka!$AI63,Přehled_body!$A$3:$A$130,0),MATCH(Tabulka!AC$2,Přehled_body!$E$1:$ED$1,0)),)=0,0.00000000001,IFERROR(INDEX(Přehled_body!$E$3:$ED$130,MATCH(Tabulka!$AI63,Přehled_body!$A$3:$A$130,0),MATCH(Tabulka!AC$2,Přehled_body!$E$1:$ED$1,0)),)))","v":0},{"$f":"IF(IFERROR(INDEX(Přehled_body!$E$3:$ED$130,MATCH(Tabulka!$AI63,Přehled_body!$A$3:$A$130,0),MATCH(Tabulka!AD$2,Přehled_body!$E$1:$ED$1,0)),)=\"\",,IF(IFERROR(INDEX(Přehled_body!$E$3:$ED$130,MATCH(Tabulka!$AI63,Přehled_body!$A$3:$A$130,0),MATCH(Tabulka!AD$2,Přehled_body!$E$1:$ED$1,0)),)=0,0.00000000001,IFERROR(INDEX(Přehled_body!$E$3:$ED$130,MATCH(Tabulka!$AI63,Přehled_body!$A$3:$A$130,0),MATCH(Tabulka!AD$2,Přehled_body!$E$1:$ED$1,0)),)))","v":0},{"$f":"IF(SUM($D$59:$AD$63)<1,-90000,SUM(D63:AD63))","v":35},null,null,null,{"$f":"CONCATENATE($B$60,\" \",$B$61,C63)","v":"Standa RothPoč. kol"}]
[null,null,"Výhry",{"$f":"IF(IFERROR(INDEX(Přehled_body!$E$3:$ED$130,MATCH(Tabulka!$AI64,Přehled_body!$A$3:$A$130,0),MATCH(Tabulka!D$2,Přehled_body!$E$1:$ED$1,0)),)=\"\",,IF(IFERROR(INDEX(Přehled_body!$E$3:$ED$130,MATCH(Tabulka!$AI64,Přehled_body!$A$3:$A$130,0),MATCH(Tabulka!D$2,Přehled_body!$E$1:$ED$1,0)),)=0,0.00000000001,IFERROR(INDEX(Přehled_body!$E$3:$ED$130,MATCH(Tabulka!$AI64,Přehled_body!$A$3:$A$130,0),MATCH(Tabulka!D$2,Přehled_body!$E$1:$ED$1,0)),)))","v":0},{"$f":"IF(IFERROR(INDEX(Přehled_body!$E$3:$ED$130,MATCH(Tabulka!$AI64,Přehled_body!$A$3:$A$130,0),MATCH(Tabulka!E$2,Přehled_body!$E$1:$ED$1,0)),)=\"\",,IF(IFERROR(INDEX(Přehled_body!$E$3:$ED$130,MATCH(Tabulka!$AI64,Přehled_body!$A$3:$A$130,0),MATCH(Tabulka!E$2,Přehled_body!$E$1:$ED$1,0)),)=0,0.00000000001,IFERROR(INDEX(Přehled_body!$E$3:$ED$130,MATCH(Tabulka!$AI64,Přehled_body!$A$3:$A$130,0),MATCH(Tabulka!E$2,Přehled_body!$E$1:$ED$1,0)),)))","v":0},{"$f":"IF(IFERROR(INDEX(Přehled_body!$E$3:$ED$130,MATCH(Tabulka!$AI64,Přehled_body!$A$3:$A$130,0),MATCH(Tabulka!F$2,Přehled_body!$E$1:$ED$1,0)),)=\"\",,IF(IFERROR(INDEX(Přehled_body!$E$3:$ED$130,MATCH(Tabulka!$AI64,Přehled_body!$A$3:$A$130,0),MATCH(Tabulka!F$2,Přehled_body!$E$1:$ED$1,0)),)=0,0.00000000001,IFERROR(INDEX(Přehled_body!$E$3:$ED$130,MATCH(Tabulka!$AI64,Přehled_body!$A$3:$A$130,0),MATCH(Tabulka!F$2,Přehled_body!$E$1:$ED$1,0)),)))","v":0},{"$f":"IF(IFERROR(INDEX(Přehled_body!$E$3:$ED$130,MATCH(Tabulka!$AI64,Přehled_body!$A$3:$A$130,0),MATCH(Tabulka!G$2,Přehled_body!$E$1:$ED$1,0)),)=\"\",,IF(IFERROR(INDEX(Přehled_body!$E$3:$ED$130,MATCH(Tabulka!$AI64,Přehled_body!$A$3:$A$130,0),MATCH(Tabulka!G$2,Přehled_body!$E$1:$ED$1,0)),)=0,0.00000000001,IFERROR(INDEX(Přehled_body!$E$3:$ED$130,MATCH(Tabulka!$AI64,Přehled_body!$A$3:$A$130,0),MATCH(Tabulka!G$2,Přehled_body!$E$1:$ED$1,0)),)))","v":0},{"$f":"IF(IFERROR(INDEX(Přehled_body!$E$3:$ED$130,MATCH(Tabulka!$AI64,Přehled_body!$A$3:$A$130,0),MATCH(Tabulka!H$2,Přehled_body!$E$1:$ED$1,0)),)=\"\",,IF(IFERROR(INDEX(Přehled_body!$E$3:$ED$130,MATCH(Tabulka!$AI64,Přehled_body!$A$3:$A$130,0),MATCH(Tabulka!H$2,Přehled_body!$E$1:$ED$1,0)),)=0,0.00000000001,IFERROR(INDEX(Přehled_body!$E$3:$ED$130,MATCH(Tabulka!$AI64,Přehled_body!$A$3:$A$130,0),MATCH(Tabulka!H$2,Přehled_body!$E$1:$ED$1,0)),)))","v":1},{"$f":"IF(IFERROR(INDEX(Přehled_body!$E$3:$ED$130,MATCH(Tabulka!$AI64,Přehled_body!$A$3:$A$130,0),MATCH(Tabulka!I$2,Přehled_body!$E$1:$ED$1,0)),)=\"\",,IF(IFERROR(INDEX(Přehled_body!$E$3:$ED$130,MATCH(Tabulka!$AI64,Přehled_body!$A$3:$A$130,0),MATCH(Tabulka!I$2,Přehled_body!$E$1:$ED$1,0)),)=0,0.00000000001,IFERROR(INDEX(Přehled_body!$E$3:$ED$130,MATCH(Tabulka!$AI64,Přehled_body!$A$3:$A$130,0),MATCH(Tabulka!I$2,Přehled_body!$E$1:$ED$1,0)),)))","v":0},{"$f":"IF(IFERROR(INDEX(Přehled_body!$E$3:$ED$130,MATCH(Tabulka!$AI64,Přehled_body!$A$3:$A$130,0),MATCH(Tabulka!J$2,Přehled_body!$E$1:$ED$1,0)),)=\"\",,IF(IFERROR(INDEX(Přehled_body!$E$3:$ED$130,MATCH(Tabulka!$AI64,Přehled_body!$A$3:$A$130,0),MATCH(Tabulka!J$2,Přehled_body!$E$1:$ED$1,0)),)=0,0.00000000001,IFERROR(INDEX(Přehled_body!$E$3:$ED$130,MATCH(Tabulka!$AI64,Přehled_body!$A$3:$A$130,0),MATCH(Tabulka!J$2,Přehled_body!$E$1:$ED$1,0)),)))","v":0},{"$f":"IF(IFERROR(INDEX(Přehled_body!$E$3:$ED$130,MATCH(Tabulka!$AI64,Přehled_body!$A$3:$A$130,0),MATCH(Tabulka!K$2,Přehled_body!$E$1:$ED$1,0)),)=\"\",,IF(IFERROR(INDEX(Přehled_body!$E$3:$ED$130,MATCH(Tabulka!$AI64,Přehled_body!$A$3:$A$130,0),MATCH(Tabulka!K$2,Přehled_body!$E$1:$ED$1,0)),)=0,0.00000000001,IFERROR(INDEX(Přehled_body!$E$3:$ED$130,MATCH(Tabulka!$AI64,Přehled_body!$A$3:$A$130,0),MATCH(Tabulka!K$2,Přehled_body!$E$1:$ED$1,0)),)))","v":0},{"$f":"IF(IFERROR(INDEX(Přehled_body!$E$3:$ED$130,MATCH(Tabulka!$AI64,Přehled_body!$A$3:$A$130,0),MATCH(Tabulka!L$2,Přehled_body!$E$1:$ED$1,0)),)=\"\",,IF(IFERROR(INDEX(Přehled_body!$E$3:$ED$130,MATCH(Tabulka!$AI64,Přehled_body!$A$3:$A$130,0),MATCH(Tabulka!L$2,Přehled_body!$E$1:$ED$1,0)),)=0,0.00000000001,IFERROR(INDEX(Přehled_body!$E$3:$ED$130,MATCH(Tabulka!$AI64,Přehled_body!$A$3:$A$130,0),MATCH(Tabulka!L$2,Přehled_body!$E$1:$ED$1,0)),)))","v":0},{"$f":"IF(IFERROR(INDEX(Přehled_body!$E$3:$ED$130,MATCH(Tabulka!$AI64,Přehled_body!$A$3:$A$130,0),MATCH(Tabulka!M$2,Přehled_body!$E$1:$ED$1,0)),)=\"\",,IF(IFERROR(INDEX(Přehled_body!$E$3:$ED$130,MATCH(Tabulka!$AI64,Přehled_body!$A$3:$A$130,0),MATCH(Tabulka!M$2,Přehled_body!$E$1:$ED$1,0)),)=0,0.00000000001,IFERROR(INDEX(Přehled_body!$E$3:$ED$130,MATCH(Tabulka!$AI64,Přehled_body!$A$3:$A$130,0),MATCH(Tabulka!M$2,Přehled_body!$E$1:$ED$1,0)),)))","v":0},{"$f":"IF(IFERROR(INDEX(Přehled_body!$E$3:$ED$130,MATCH(Tabulka!$AI64,Přehled_body!$A$3:$A$130,0),MATCH(Tabulka!N$2,Přehled_body!$E$1:$ED$1,0)),)=\"\",,IF(IFERROR(INDEX(Přehled_body!$E$3:$ED$130,MATCH(Tabulka!$AI64,Přehled_body!$A$3:$A$130,0),MATCH(Tabulka!N$2,Přehled_body!$E$1:$ED$1,0)),)=0,0.00000000001,IFERROR(INDEX(Přehled_body!$E$3:$ED$130,MATCH(Tabulka!$AI64,Přehled_body!$A$3:$A$130,0),MATCH(Tabulka!N$2,Přehled_body!$E$1:$ED$1,0)),)))","v":0},{"$f":"IF(IFERROR(INDEX(Přehled_body!$E$3:$ED$130,MATCH(Tabulka!$AI64,Přehled_body!$A$3:$A$130,0),MATCH(Tabulka!O$2,Přehled_body!$E$1:$ED$1,0)),)=\"\",,IF(IFERROR(INDEX(Přehled_body!$E$3:$ED$130,MATCH(Tabulka!$AI64,Přehled_body!$A$3:$A$130,0),MATCH(Tabulka!O$2,Přehled_body!$E$1:$ED$1,0)),)=0,0.00000000001,IFERROR(INDEX(Přehled_body!$E$3:$ED$130,MATCH(Tabulka!$AI64,Přehled_body!$A$3:$A$130,0),MATCH(Tabulka!O$2,Přehled_body!$E$1:$ED$1,0)),)))","v":0},{"$f":"IF(IFERROR(INDEX(Přehled_body!$E$3:$ED$130,MATCH(Tabulka!$AI64,Přehled_body!$A$3:$A$130,0),MATCH(Tabulka!P$2,Přehled_body!$E$1:$ED$1,0)),)=\"\",,IF(IFERROR(INDEX(Přehled_body!$E$3:$ED$130,MATCH(Tabulka!$AI64,Přehled_body!$A$3:$A$130,0),MATCH(Tabulka!P$2,Přehled_body!$E$1:$ED$1,0)),)=0,0.00000000001,IFERROR(INDEX(Přehled_body!$E$3:$ED$130,MATCH(Tabulka!$AI64,Přehled_body!$A$3:$A$130,0),MATCH(Tabulka!P$2,Přehled_body!$E$1:$ED$1,0)),)))","v":0},{"$f":"IF(IFERROR(INDEX(Přehled_body!$E$3:$ED$130,MATCH(Tabulka!$AI64,Přehled_body!$A$3:$A$130,0),MATCH(Tabulka!Q$2,Přehled_body!$E$1:$ED$1,0)),)=\"\",,IF(IFERROR(INDEX(Přehled_body!$E$3:$ED$130,MATCH(Tabulka!$AI64,Přehled_body!$A$3:$A$130,0),MATCH(Tabulka!Q$2,Přehled_body!$E$1:$ED$1,0)),)=0,0.00000000001,IFERROR(INDEX(Přehled_body!$E$3:$ED$130,MATCH(Tabulka!$AI64,Přehled_body!$A$3:$A$130,0),MATCH(Tabulka!Q$2,Přehled_body!$E$1:$ED$1,0)),)))","v":0},{"$f":"IF(IFERROR(INDEX(Přehled_body!$E$3:$ED$130,MATCH(Tabulka!$AI64,Přehled_body!$A$3:$A$130,0),MATCH(Tabulka!R$2,Přehled_body!$E$1:$ED$1,0)),)=\"\",,IF(IFERROR(INDEX(Přehled_body!$E$3:$ED$130,MATCH(Tabulka!$AI64,Přehled_body!$A$3:$A$130,0),MATCH(Tabulka!R$2,Přehled_body!$E$1:$ED$1,0)),)=0,0.00000000001,IFERROR(INDEX(Přehled_body!$E$3:$ED$130,MATCH(Tabulka!$AI64,Přehled_body!$A$3:$A$130,0),MATCH(Tabulka!R$2,Přehled_body!$E$1:$ED$1,0)),)))","v":0},{"$f":"IF(IFERROR(INDEX(Přehled_body!$E$3:$ED$130,MATCH(Tabulka!$AI64,Přehled_body!$A$3:$A$130,0),MATCH(Tabulka!S$2,Přehled_body!$E$1:$ED$1,0)),)=\"\",,IF(IFERROR(INDEX(Přehled_body!$E$3:$ED$130,MATCH(Tabulka!$AI64,Přehled_body!$A$3:$A$130,0),MATCH(Tabulka!S$2,Přehled_body!$E$1:$ED$1,0)),)=0,0.00000000001,IFERROR(INDEX(Přehled_body!$E$3:$ED$130,MATCH(Tabulka!$AI64,Přehled_body!$A$3:$A$130,0),MATCH(Tabulka!S$2,Přehled_body!$E$1:$ED$1,0)),)))","v":0},{"$f":"IF(IFERROR(INDEX(Přehled_body!$E$3:$ED$130,MATCH(Tabulka!$AI64,Přehled_body!$A$3:$A$130,0),MATCH(Tabulka!T$2,Přehled_body!$E$1:$ED$1,0)),)=\"\",,IF(IFERROR(INDEX(Přehled_body!$E$3:$ED$130,MATCH(Tabulka!$AI64,Přehled_body!$A$3:$A$130,0),MATCH(Tabulka!T$2,Přehled_body!$E$1:$ED$1,0)),)=0,0.00000000001,IFERROR(INDEX(Přehled_body!$E$3:$ED$130,MATCH(Tabulka!$AI64,Přehled_body!$A$3:$A$130,0),MATCH(Tabulka!T$2,Přehled_body!$E$1:$ED$1,0)),)))","v":0},{"$f":"IF(IFERROR(INDEX(Přehled_body!$E$3:$ED$130,MATCH(Tabulka!$AI64,Přehled_body!$A$3:$A$130,0),MATCH(Tabulka!U$2,Přehled_body!$E$1:$ED$1,0)),)=\"\",,IF(IFERROR(INDEX(Přehled_body!$E$3:$ED$130,MATCH(Tabulka!$AI64,Přehled_body!$A$3:$A$130,0),MATCH(Tabulka!U$2,Přehled_body!$E$1:$ED$1,0)),)=0,0.00000000001,IFERROR(INDEX(Přehled_body!$E$3:$ED$130,MATCH(Tabulka!$AI64,Přehled_body!$A$3:$A$130,0),MATCH(Tabulka!U$2,Přehled_body!$E$1:$ED$1,0)),)))","v":0},{"$f":"IF(IFERROR(INDEX(Přehled_body!$E$3:$ED$130,MATCH(Tabulka!$AI64,Přehled_body!$A$3:$A$130,0),MATCH(Tabulka!V$2,Přehled_body!$E$1:$ED$1,0)),)=\"\",,IF(IFERROR(INDEX(Přehled_body!$E$3:$ED$130,MATCH(Tabulka!$AI64,Přehled_body!$A$3:$A$130,0),MATCH(Tabulka!V$2,Přehled_body!$E$1:$ED$1,0)),)=0,0.00000000001,IFERROR(INDEX(Přehled_body!$E$3:$ED$130,MATCH(Tabulka!$AI64,Přehled_body!$A$3:$A$130,0),MATCH(Tabulka!V$2,Přehled_body!$E$1:$ED$1,0)),)))","v":0},{"$f":"IF(IFERROR(INDEX(Přehled_body!$E$3:$ED$130,MATCH(Tabulka!$AI64,Přehled_body!$A$3:$A$130,0),MATCH(Tabulka!W$2,Přehled_body!$E$1:$ED$1,0)),)=\"\",,IF(IFERROR(INDEX(Přehled_body!$E$3:$ED$130,MATCH(Tabulka!$AI64,Přehled_body!$A$3:$A$130,0),MATCH(Tabulka!W$2,Přehled_body!$E$1:$ED$1,0)),)=0,0.00000000001,IFERROR(INDEX(Přehled_body!$E$3:$ED$130,MATCH(Tabulka!$AI64,Přehled_body!$A$3:$A$130,0),MATCH(Tabulka!W$2,Přehled_body!$E$1:$ED$1,0)),)))","v":0},{"$f":"IF(IFERROR(INDEX(Přehled_body!$E$3:$ED$130,MATCH(Tabulka!$AI64,Přehled_body!$A$3:$A$130,0),MATCH(Tabulka!X$2,Přehled_body!$E$1:$ED$1,0)),)=\"\",,IF(IFERROR(INDEX(Přehled_body!$E$3:$ED$130,MATCH(Tabulka!$AI64,Přehled_body!$A$3:$A$130,0),MATCH(Tabulka!X$2,Přehled_body!$E$1:$ED$1,0)),)=0,0.00000000001,IFERROR(INDEX(Přehled_body!$E$3:$ED$130,MATCH(Tabulka!$AI64,Přehled_body!$A$3:$A$130,0),MATCH(Tabulka!X$2,Přehled_body!$E$1:$ED$1,0)),)))","v":0},{"$f":"IF(IFERROR(INDEX(Přehled_body!$E$3:$ED$130,MATCH(Tabulka!$AI64,Přehled_body!$A$3:$A$130,0),MATCH(Tabulka!Y$2,Přehled_body!$E$1:$ED$1,0)),)=\"\",,IF(IFERROR(INDEX(Přehled_body!$E$3:$ED$130,MATCH(Tabulka!$AI64,Přehled_body!$A$3:$A$130,0),MATCH(Tabulka!Y$2,Přehled_body!$E$1:$ED$1,0)),)=0,0.00000000001,IFERROR(INDEX(Přehled_body!$E$3:$ED$130,MATCH(Tabulka!$AI64,Přehled_body!$A$3:$A$130,0),MATCH(Tabulka!Y$2,Přehled_body!$E$1:$ED$1,0)),)))","v":0},{"$f":"IF(IFERROR(INDEX(Přehled_body!$E$3:$ED$130,MATCH(Tabulka!$AI64,Přehled_body!$A$3:$A$130,0),MATCH(Tabulka!Z$2,Přehled_body!$E$1:$ED$1,0)),)=\"\",,IF(IFERROR(INDEX(Přehled_body!$E$3:$ED$130,MATCH(Tabulka!$AI64,Přehled_body!$A$3:$A$130,0),MATCH(Tabulka!Z$2,Přehled_body!$E$1:$ED$1,0)),)=0,0.00000000001,IFERROR(INDEX(Přehled_body!$E$3:$ED$130,MATCH(Tabulka!$AI64,Přehled_body!$A$3:$A$130,0),MATCH(Tabulka!Z$2,Přehled_body!$E$1:$ED$1,0)),)))","v":0},{"$f":"IF(IFERROR(INDEX(Přehled_body!$E$3:$ED$130,MATCH(Tabulka!$AI64,Přehled_body!$A$3:$A$130,0),MATCH(Tabulka!AA$2,Přehled_body!$E$1:$ED$1,0)),)=\"\",,IF(IFERROR(INDEX(Přehled_body!$E$3:$ED$130,MATCH(Tabulka!$AI64,Přehled_body!$A$3:$A$130,0),MATCH(Tabulka!AA$2,Přehled_body!$E$1:$ED$1,0)),)=0,0.00000000001,IFERROR(INDEX(Přehled_body!$E$3:$ED$130,MATCH(Tabulka!$AI64,Přehled_body!$A$3:$A$130,0),MATCH(Tabulka!AA$2,Přehled_body!$E$1:$ED$1,0)),)))","v":0},{"$f":"IF(IFERROR(INDEX(Přehled_body!$E$3:$ED$130,MATCH(Tabulka!$AI64,Přehled_body!$A$3:$A$130,0),MATCH(Tabulka!AB$2,Přehled_body!$E$1:$ED$1,0)),)=\"\",,IF(IFERROR(INDEX(Přehled_body!$E$3:$ED$130,MATCH(Tabulka!$AI64,Přehled_body!$A$3:$A$130,0),MATCH(Tabulka!AB$2,Přehled_body!$E$1:$ED$1,0)),)=0,0.00000000001,IFERROR(INDEX(Přehled_body!$E$3:$ED$130,MATCH(Tabulka!$AI64,Přehled_body!$A$3:$A$130,0),MATCH(Tabulka!AB$2,Přehled_body!$E$1:$ED$1,0)),)))","v":0},{"$f":"IF(IFERROR(INDEX(Přehled_body!$E$3:$ED$130,MATCH(Tabulka!$AI64,Přehled_body!$A$3:$A$130,0),MATCH(Tabulka!AC$2,Přehled_body!$E$1:$ED$1,0)),)=\"\",,IF(IFERROR(INDEX(Přehled_body!$E$3:$ED$130,MATCH(Tabulka!$AI64,Přehled_body!$A$3:$A$130,0),MATCH(Tabulka!AC$2,Přehled_body!$E$1:$ED$1,0)),)=0,0.00000000001,IFERROR(INDEX(Přehled_body!$E$3:$ED$130,MATCH(Tabulka!$AI64,Přehled_body!$A$3:$A$130,0),MATCH(Tabulka!AC$2,Přehled_body!$E$1:$ED$1,0)),)))","v":0},{"$f":"IF(IFERROR(INDEX(Přehled_body!$E$3:$ED$130,MATCH(Tabulka!$AI64,Přehled_body!$A$3:$A$130,0),MATCH(Tabulka!AD$2,Přehled_body!$E$1:$ED$1,0)),)=\"\",,IF(IFERROR(INDEX(Přehled_body!$E$3:$ED$130,MATCH(Tabulka!$AI64,Přehled_body!$A$3:$A$130,0),MATCH(Tabulka!AD$2,Přehled_body!$E$1:$ED$1,0)),)=0,0.00000000001,IFERROR(INDEX(Přehled_body!$E$3:$ED$130,MATCH(Tabulka!$AI64,Přehled_body!$A$3:$A$130,0),MATCH(Tabulka!AD$2,Přehled_body!$E$1:$ED$1,0)),)))","v":0},{"$f":"IF(SUM($D$64:$AD$68)<1,-90000,SUM(D64:AD64))","v":1},null,{"$f":"COUNTIF(D64:AD64,\">0\")","v":1},null,{"$f":"CONCATENATE($B$65,\" \",$B$66,C64)","v":"Ostatní hráčiVýhry"}]
[{"$f":"CONCATENATE(B65,\" \",B66)","v":"Ostatní hráči"},"Ostatní","Prohry",{"$f":"IF(IFERROR(INDEX(Přehled_body!$E$3:$ED$130,MATCH(Tabulka!$AI65,Přehled_body!$A$3:$A$130,0),MATCH(Tabulka!D$2,Přehled_body!$E$1:$ED$1,0)),)=\"\",,IF(IFERROR(INDEX(Přehled_body!$E$3:$ED$130,MATCH(Tabulka!$AI65,Přehled_body!$A$3:$A$130,0),MATCH(Tabulka!D$2,Přehled_body!$E$1:$ED$1,0)),)=0,0.00000000001,IFERROR(INDEX(Přehled_body!$E$3:$ED$130,MATCH(Tabulka!$AI65,Přehled_body!$A$3:$A$130,0),MATCH(Tabulka!D$2,Přehled_body!$E$1:$ED$1,0)),)))","v":0},{"$f":"IF(IFERROR(INDEX(Přehled_body!$E$3:$ED$130,MATCH(Tabulka!$AI65,Přehled_body!$A$3:$A$130,0),MATCH(Tabulka!E$2,Přehled_body!$E$1:$ED$1,0)),)=\"\",,IF(IFERROR(INDEX(Přehled_body!$E$3:$ED$130,MATCH(Tabulka!$AI65,Přehled_body!$A$3:$A$130,0),MATCH(Tabulka!E$2,Přehled_body!$E$1:$ED$1,0)),)=0,0.00000000001,IFERROR(INDEX(Přehled_body!$E$3:$ED$130,MATCH(Tabulka!$AI65,Přehled_body!$A$3:$A$130,0),MATCH(Tabulka!E$2,Přehled_body!$E$1:$ED$1,0)),)))","v":0},{"$f":"IF(IFERROR(INDEX(Přehled_body!$E$3:$ED$130,MATCH(Tabulka!$AI65,Přehled_body!$A$3:$A$130,0),MATCH(Tabulka!F$2,Přehled_body!$E$1:$ED$1,0)),)=\"\",,IF(IFERROR(INDEX(Přehled_body!$E$3:$ED$130,MATCH(Tabulka!$AI65,Přehled_body!$A$3:$A$130,0),MATCH(Tabulka!F$2,Přehled_body!$E$1:$ED$1,0)),)=0,0.00000000001,IFERROR(INDEX(Přehled_body!$E$3:$ED$130,MATCH(Tabulka!$AI65,Přehled_body!$A$3:$A$130,0),MATCH(Tabulka!F$2,Přehled_body!$E$1:$ED$1,0)),)))","v":0},{"$f":"IF(IFERROR(INDEX(Přehled_body!$E$3:$ED$130,MATCH(Tabulka!$AI65,Přehled_body!$A$3:$A$130,0),MATCH(Tabulka!G$2,Přehled_body!$E$1:$ED$1,0)),)=\"\",,IF(IFERROR(INDEX(Přehled_body!$E$3:$ED$130,MATCH(Tabulka!$AI65,Přehled_body!$A$3:$A$130,0),MATCH(Tabulka!G$2,Přehled_body!$E$1:$ED$1,0)),)=0,0.00000000001,IFERROR(INDEX(Přehled_body!$E$3:$ED$130,MATCH(Tabulka!$AI65,Přehled_body!$A$3:$A$130,0),MATCH(Tabulka!G$2,Přehled_body!$E$1:$ED$1,0)),)))","v":0},{"$f":"IF(IFERROR(INDEX(Přehled_body!$E$3:$ED$130,MATCH(Tabulka!$AI65,Přehled_body!$A$3:$A$130,0),MATCH(Tabulka!H$2,Přehled_body!$E$1:$ED$1,0)),)=\"\",,IF(IFERROR(INDEX(Přehled_body!$E$3:$ED$130,MATCH(Tabulka!$AI65,Přehled_body!$A$3:$A$130,0),MATCH(Tabulka!H$2,Přehled_body!$E$1:$ED$1,0)),)=0,0.00000000001,IFERROR(INDEX(Přehled_body!$E$3:$ED$130,MATCH(Tabulka!$AI65,Přehled_body!$A$3:$A$130,0),MATCH(Tabulka!H$2,Přehled_body!$E$1:$ED$1,0)),)))","v":2},{"$f":"IF(IFERROR(INDEX(Přehled_body!$E$3:$ED$130,MATCH(Tabulka!$AI65,Přehled_body!$A$3:$A$130,0),MATCH(Tabulka!I$2,Přehled_body!$E$1:$ED$1,0)),)=\"\",,IF(IFERROR(INDEX(Přehled_body!$E$3:$ED$130,MATCH(Tabulka!$AI65,Přehled_body!$A$3:$A$130,0),MATCH(Tabulka!I$2,Přehled_body!$E$1:$ED$1,0)),)=0,0.00000000001,IFERROR(INDEX(Přehled_body!$E$3:$ED$130,MATCH(Tabulka!$AI65,Přehled_body!$A$3:$A$130,0),MATCH(Tabulka!I$2,Přehled_body!$E$1:$ED$1,0)),)))","v":0},{"$f":"IF(IFERROR(INDEX(Přehled_body!$E$3:$ED$130,MATCH(Tabulka!$AI65,Přehled_body!$A$3:$A$130,0),MATCH(Tabulka!J$2,Přehled_body!$E$1:$ED$1,0)),)=\"\",,IF(IFERROR(INDEX(Přehled_body!$E$3:$ED$130,MATCH(Tabulka!$AI65,Přehled_body!$A$3:$A$130,0),MATCH(Tabulka!J$2,Přehled_body!$E$1:$ED$1,0)),)=0,0.00000000001,IFERROR(INDEX(Přehled_body!$E$3:$ED$130,MATCH(Tabulka!$AI65,Přehled_body!$A$3:$A$130,0),MATCH(Tabulka!J$2,Přehled_body!$E$1:$ED$1,0)),)))","v":0},{"$f":"IF(IFERROR(INDEX(Přehled_body!$E$3:$ED$130,MATCH(Tabulka!$AI65,Přehled_body!$A$3:$A$130,0),MATCH(Tabulka!K$2,Přehled_body!$E$1:$ED$1,0)),)=\"\",,IF(IFERROR(INDEX(Přehled_body!$E$3:$ED$130,MATCH(Tabulka!$AI65,Přehled_body!$A$3:$A$130,0),MATCH(Tabulka!K$2,Přehled_body!$E$1:$ED$1,0)),)=0,0.00000000001,IFERROR(INDEX(Přehled_body!$E$3:$ED$130,MATCH(Tabulka!$AI65,Přehled_body!$A$3:$A$130,0),MATCH(Tabulka!K$2,Přehled_body!$E$1:$ED$1,0)),)))","v":0},{"$f":"IF(IFERROR(INDEX(Přehled_body!$E$3:$ED$130,MATCH(Tabulka!$AI65,Přehled_body!$A$3:$A$130,0),MATCH(Tabulka!L$2,Přehled_body!$E$1:$ED$1,0)),)=\"\",,IF(IFERROR(INDEX(Přehled_body!$E$3:$ED$130,MATCH(Tabulka!$AI65,Přehled_body!$A$3:$A$130,0),MATCH(Tabulka!L$2,Přehled_body!$E$1:$ED$1,0)),)=0,0.00000000001,IFERROR(INDEX(Přehled_body!$E$3:$ED$130,MATCH(Tabulka!$AI65,Přehled_body!$A$3:$A$130,0),MATCH(Tabulka!L$2,Přehled_body!$E$1:$ED$1,0)),)))","v":0},{"$f":"IF(IFERROR(INDEX(Přehled_body!$E$3:$ED$130,MATCH(Tabulka!$AI65,Přehled_body!$A$3:$A$130,0),MATCH(Tabulka!M$2,Přehled_body!$E$1:$ED$1,0)),)=\"\",,IF(IFERROR(INDEX(Přehled_body!$E$3:$ED$130,MATCH(Tabulka!$AI65,Přehled_body!$A$3:$A$130,0),MATCH(Tabulka!M$2,Přehled_body!$E$1:$ED$1,0)),)=0,0.00000000001,IFERROR(INDEX(Přehled_body!$E$3:$ED$130,MATCH(Tabulka!$AI65,Přehled_body!$A$3:$A$130,0),MATCH(Tabulka!M$2,Přehled_body!$E$1:$ED$1,0)),)))","v":0},{"$f":"IF(IFERROR(INDEX(Přehled_body!$E$3:$ED$130,MATCH(Tabulka!$AI65,Přehled_body!$A$3:$A$130,0),MATCH(Tabulka!N$2,Přehled_body!$E$1:$ED$1,0)),)=\"\",,IF(IFERROR(INDEX(Přehled_body!$E$3:$ED$130,MATCH(Tabulka!$AI65,Přehled_body!$A$3:$A$130,0),MATCH(Tabulka!N$2,Přehled_body!$E$1:$ED$1,0)),)=0,0.00000000001,IFERROR(INDEX(Přehled_body!$E$3:$ED$130,MATCH(Tabulka!$AI65,Přehled_body!$A$3:$A$130,0),MATCH(Tabulka!N$2,Přehled_body!$E$1:$ED$1,0)),)))","v":0},{"$f":"IF(IFERROR(INDEX(Přehled_body!$E$3:$ED$130,MATCH(Tabulka!$AI65,Přehled_body!$A$3:$A$130,0),MATCH(Tabulka!O$2,Přehled_body!$E$1:$ED$1,0)),)=\"\",,IF(IFERROR(INDEX(Přehled_body!$E$3:$ED$130,MATCH(Tabulka!$AI65,Přehled_body!$A$3:$A$130,0),MATCH(Tabulka!O$2,Přehled_body!$E$1:$ED$1,0)),)=0,0.00000000001,IFERROR(INDEX(Přehled_body!$E$3:$ED$130,MATCH(Tabulka!$AI65,Přehled_body!$A$3:$A$130,0),MATCH(Tabulka!O$2,Přehled_body!$E$1:$ED$1,0)),)))","v":0},{"$f":"IF(IFERROR(INDEX(Přehled_body!$E$3:$ED$130,MATCH(Tabulka!$AI65,Přehled_body!$A$3:$A$130,0),MATCH(Tabulka!P$2,Přehled_body!$E$1:$ED$1,0)),)=\"\",,IF(IFERROR(INDEX(Přehled_body!$E$3:$ED$130,MATCH(Tabulka!$AI65,Přehled_body!$A$3:$A$130,0),MATCH(Tabulka!P$2,Přehled_body!$E$1:$ED$1,0)),)=0,0.00000000001,IFERROR(INDEX(Přehled_body!$E$3:$ED$130,MATCH(Tabulka!$AI65,Přehled_body!$A$3:$A$130,0),MATCH(Tabulka!P$2,Přehled_body!$E$1:$ED$1,0)),)))","v":0},{"$f":"IF(IFERROR(INDEX(Přehled_body!$E$3:$ED$130,MATCH(Tabulka!$AI65,Přehled_body!$A$3:$A$130,0),MATCH(Tabulka!Q$2,Přehled_body!$E$1:$ED$1,0)),)=\"\",,IF(IFERROR(INDEX(Přehled_body!$E$3:$ED$130,MATCH(Tabulka!$AI65,Přehled_body!$A$3:$A$130,0),MATCH(Tabulka!Q$2,Přehled_body!$E$1:$ED$1,0)),)=0,0.00000000001,IFERROR(INDEX(Přehled_body!$E$3:$ED$130,MATCH(Tabulka!$AI65,Přehled_body!$A$3:$A$130,0),MATCH(Tabulka!Q$2,Přehled_body!$E$1:$ED$1,0)),)))","v":0},{"$f":"IF(IFERROR(INDEX(Přehled_body!$E$3:$ED$130,MATCH(Tabulka!$AI65,Přehled_body!$A$3:$A$130,0),MATCH(Tabulka!R$2,Přehled_body!$E$1:$ED$1,0)),)=\"\",,IF(IFERROR(INDEX(Přehled_body!$E$3:$ED$130,MATCH(Tabulka!$AI65,Přehled_body!$A$3:$A$130,0),MATCH(Tabulka!R$2,Přehled_body!$E$1:$ED$1,0)),)=0,0.00000000001,IFERROR(INDEX(Přehled_body!$E$3:$ED$130,MATCH(Tabulka!$AI65,Přehled_body!$A$3:$A$130,0),MATCH(Tabulka!R$2,Přehled_body!$E$1:$ED$1,0)),)))","v":0},{"$f":"IF(IFERROR(INDEX(Přehled_body!$E$3:$ED$130,MATCH(Tabulka!$AI65,Přehled_body!$A$3:$A$130,0),MATCH(Tabulka!S$2,Přehled_body!$E$1:$ED$1,0)),)=\"\",,IF(IFERROR(INDEX(Přehled_body!$E$3:$ED$130,MATCH(Tabulka!$AI65,Přehled_body!$A$3:$A$130,0),MATCH(Tabulka!S$2,Přehled_body!$E$1:$ED$1,0)),)=0,0.00000000001,IFERROR(INDEX(Přehled_body!$E$3:$ED$130,MATCH(Tabulka!$AI65,Přehled_body!$A$3:$A$130,0),MATCH(Tabulka!S$2,Přehled_body!$E$1:$ED$1,0)),)))","v":0},{"$f":"IF(IFERROR(INDEX(Přehled_body!$E$3:$ED$130,MATCH(Tabulka!$AI65,Přehled_body!$A$3:$A$130,0),MATCH(Tabulka!T$2,Přehled_body!$E$1:$ED$1,0)),)=\"\",,IF(IFERROR(INDEX(Přehled_body!$E$3:$ED$130,MATCH(Tabulka!$AI65,Přehled_body!$A$3:$A$130,0),MATCH(Tabulka!T$2,Přehled_body!$E$1:$ED$1,0)),)=0,0.00000000001,IFERROR(INDEX(Přehled_body!$E$3:$ED$130,MATCH(Tabulka!$AI65,Přehled_body!$A$3:$A$130,0),MATCH(Tabulka!T$2,Přehled_body!$E$1:$ED$1,0)),)))","v":0},{"$f":"IF(IFERROR(INDEX(Přehled_body!$E$3:$ED$130,MATCH(Tabulka!$AI65,Přehled_body!$A$3:$A$130,0),MATCH(Tabulka!U$2,Přehled_body!$E$1:$ED$1,0)),)=\"\",,IF(IFERROR(INDEX(Přehled_body!$E$3:$ED$130,MATCH(Tabulka!$AI65,Přehled_body!$A$3:$A$130,0),MATCH(Tabulka!U$2,Přehled_body!$E$1:$ED$1,0)),)=0,0.00000000001,IFERROR(INDEX(Přehled_body!$E$3:$ED$130,MATCH(Tabulka!$AI65,Přehled_body!$A$3:$A$130,0),MATCH(Tabulka!U$2,Přehled_body!$E$1:$ED$1,0)),)))","v":0},{"$f":"IF(IFERROR(INDEX(Přehled_body!$E$3:$ED$130,MATCH(Tabulka!$AI65,Přehled_body!$A$3:$A$130,0),MATCH(Tabulka!V$2,Přehled_body!$E$1:$ED$1,0)),)=\"\",,IF(IFERROR(INDEX(Přehled_body!$E$3:$ED$130,MATCH(Tabulka!$AI65,Přehled_body!$A$3:$A$130,0),MATCH(Tabulka!V$2,Přehled_body!$E$1:$ED$1,0)),)=0,0.00000000001,IFERROR(INDEX(Přehled_body!$E$3:$ED$130,MATCH(Tabulka!$AI65,Přehled_body!$A$3:$A$130,0),MATCH(Tabulka!V$2,Přehled_body!$E$1:$ED$1,0)),)))","v":0},{"$f":"IF(IFERROR(INDEX(Přehled_body!$E$3:$ED$130,MATCH(Tabulka!$AI65,Přehled_body!$A$3:$A$130,0),MATCH(Tabulka!W$2,Přehled_body!$E$1:$ED$1,0)),)=\"\",,IF(IFERROR(INDEX(Přehled_body!$E$3:$ED$130,MATCH(Tabulka!$AI65,Přehled_body!$A$3:$A$130,0),MATCH(Tabulka!W$2,Přehled_body!$E$1:$ED$1,0)),)=0,0.00000000001,IFERROR(INDEX(Přehled_body!$E$3:$ED$130,MATCH(Tabulka!$AI65,Přehled_body!$A$3:$A$130,0),MATCH(Tabulka!W$2,Přehled_body!$E$1:$ED$1,0)),)))","v":0},{"$f":"IF(IFERROR(INDEX(Přehled_body!$E$3:$ED$130,MATCH(Tabulka!$AI65,Přehled_body!$A$3:$A$130,0),MATCH(Tabulka!X$2,Přehled_body!$E$1:$ED$1,0)),)=\"\",,IF(IFERROR(INDEX(Přehled_body!$E$3:$ED$130,MATCH(Tabulka!$AI65,Přehled_body!$A$3:$A$130,0),MATCH(Tabulka!X$2,Přehled_body!$E$1:$ED$1,0)),)=0,0.00000000001,IFERROR(INDEX(Přehled_body!$E$3:$ED$130,MATCH(Tabulka!$AI65,Přehled_body!$A$3:$A$130,0),MATCH(Tabulka!X$2,Přehled_body!$E$1:$ED$1,0)),)))","v":0},{"$f":"IF(IFERROR(INDEX(Přehled_body!$E$3:$ED$130,MATCH(Tabulka!$AI65,Přehled_body!$A$3:$A$130,0),MATCH(Tabulka!Y$2,Přehled_body!$E$1:$ED$1,0)),)=\"\",,IF(IFERROR(INDEX(Přehled_body!$E$3:$ED$130,MATCH(Tabulka!$AI65,Přehled_body!$A$3:$A$130,0),MATCH(Tabulka!Y$2,Přehled_body!$E$1:$ED$1,0)),)=0,0.00000000001,IFERROR(INDEX(Přehled_body!$E$3:$ED$130,MATCH(Tabulka!$AI65,Přehled_body!$A$3:$A$130,0),MATCH(Tabulka!Y$2,Přehled_body!$E$1:$ED$1,0)),)))","v":0},{"$f":"IF(IFERROR(INDEX(Přehled_body!$E$3:$ED$130,MATCH(Tabulka!$AI65,Přehled_body!$A$3:$A$130,0),MATCH(Tabulka!Z$2,Přehled_body!$E$1:$ED$1,0)),)=\"\",,IF(IFERROR(INDEX(Přehled_body!$E$3:$ED$130,MATCH(Tabulka!$AI65,Přehled_body!$A$3:$A$130,0),MATCH(Tabulka!Z$2,Přehled_body!$E$1:$ED$1,0)),)=0,0.00000000001,IFERROR(INDEX(Přehled_body!$E$3:$ED$130,MATCH(Tabulka!$AI65,Přehled_body!$A$3:$A$130,0),MATCH(Tabulka!Z$2,Přehled_body!$E$1:$ED$1,0)),)))","v":0},{"$f":"IF(IFERROR(INDEX(Přehled_body!$E$3:$ED$130,MATCH(Tabulka!$AI65,Přehled_body!$A$3:$A$130,0),MATCH(Tabulka!AA$2,Přehled_body!$E$1:$ED$1,0)),)=\"\",,IF(IFERROR(INDEX(Přehled_body!$E$3:$ED$130,MATCH(Tabulka!$AI65,Přehled_body!$A$3:$A$130,0),MATCH(Tabulka!AA$2,Přehled_body!$E$1:$ED$1,0)),)=0,0.00000000001,IFERROR(INDEX(Přehled_body!$E$3:$ED$130,MATCH(Tabulka!$AI65,Přehled_body!$A$3:$A$130,0),MATCH(Tabulka!AA$2,Přehled_body!$E$1:$ED$1,0)),)))","v":0},{"$f":"IF(IFERROR(INDEX(Přehled_body!$E$3:$ED$130,MATCH(Tabulka!$AI65,Přehled_body!$A$3:$A$130,0),MATCH(Tabulka!AB$2,Přehled_body!$E$1:$ED$1,0)),)=\"\",,IF(IFERROR(INDEX(Přehled_body!$E$3:$ED$130,MATCH(Tabulka!$AI65,Přehled_body!$A$3:$A$130,0),MATCH(Tabulka!AB$2,Přehled_body!$E$1:$ED$1,0)),)=0,0.00000000001,IFERROR(INDEX(Přehled_body!$E$3:$ED$130,MATCH(Tabulka!$AI65,Přehled_body!$A$3:$A$130,0),MATCH(Tabulka!AB$2,Přehled_body!$E$1:$ED$1,0)),)))","v":0},{"$f":"IF(IFERROR(INDEX(Přehled_body!$E$3:$ED$130,MATCH(Tabulka!$AI65,Přehled_body!$A$3:$A$130,0),MATCH(Tabulka!AC$2,Přehled_body!$E$1:$ED$1,0)),)=\"\",,IF(IFERROR(INDEX(Přehled_body!$E$3:$ED$130,MATCH(Tabulka!$AI65,Přehled_body!$A$3:$A$130,0),MATCH(Tabulka!AC$2,Přehled_body!$E$1:$ED$1,0)),)=0,0.00000000001,IFERROR(INDEX(Přehled_body!$E$3:$ED$130,MATCH(Tabulka!$AI65,Přehled_body!$A$3:$A$130,0),MATCH(Tabulka!AC$2,Přehled_body!$E$1:$ED$1,0)),)))","v":0},{"$f":"IF(IFERROR(INDEX(Přehled_body!$E$3:$ED$130,MATCH(Tabulka!$AI65,Přehled_body!$A$3:$A$130,0),MATCH(Tabulka!AD$2,Přehled_body!$E$1:$ED$1,0)),)=\"\",,IF(IFERROR(INDEX(Přehled_body!$E$3:$ED$130,MATCH(Tabulka!$AI65,Přehled_body!$A$3:$A$130,0),MATCH(Tabulka!AD$2,Přehled_body!$E$1:$ED$1,0)),)=0,0.00000000001,IFERROR(INDEX(Přehled_body!$E$3:$ED$130,MATCH(Tabulka!$AI65,Přehled_body!$A$3:$A$130,0),MATCH(Tabulka!AD$2,Přehled_body!$E$1:$ED$1,0)),)))","v":0},{"$f":"IF(SUM($D$64:$AD$68)<1,-90000,SUM(D65:AD65))","v":2},{"$f":"IF(AE68>0.9,SUM(AE64-AE65)+0.00000001,0)","v":-0.99999998999999995},null,null,{"$f":"CONCATENATE($B$65,\" \",$B$66,C65)","v":"Ostatní hráčiProhry"}]
[{"$f":"CONCATENATE(B66,\" \",B65)","v":"hráči Ostatní"},"hráči","Placeno panáků",{"$f":"IF(IFERROR(INDEX(Přehled_body!$E$3:$ED$130,MATCH(Tabulka!$AI66,Přehled_body!$A$3:$A$130,0),MATCH(Tabulka!D$2,Přehled_body!$E$1:$ED$1,0)),)=\"\",,IF(IFERROR(INDEX(Přehled_body!$E$3:$ED$130,MATCH(Tabulka!$AI66,Přehled_body!$A$3:$A$130,0),MATCH(Tabulka!D$2,Přehled_body!$E$1:$ED$1,0)),)=0,0.00000000001,IFERROR(INDEX(Přehled_body!$E$3:$ED$130,MATCH(Tabulka!$AI66,Přehled_body!$A$3:$A$130,0),MATCH(Tabulka!D$2,Přehled_body!$E$1:$ED$1,0)),)))","v":0},{"$f":"IF(IFERROR(INDEX(Přehled_body!$E$3:$ED$130,MATCH(Tabulka!$AI66,Přehled_body!$A$3:$A$130,0),MATCH(Tabulka!E$2,Přehled_body!$E$1:$ED$1,0)),)=\"\",,IF(IFERROR(INDEX(Přehled_body!$E$3:$ED$130,MATCH(Tabulka!$AI66,Přehled_body!$A$3:$A$130,0),MATCH(Tabulka!E$2,Přehled_body!$E$1:$ED$1,0)),)=0,0.00000000001,IFERROR(INDEX(Přehled_body!$E$3:$ED$130,MATCH(Tabulka!$AI66,Přehled_body!$A$3:$A$130,0),MATCH(Tabulka!E$2,Přehled_body!$E$1:$ED$1,0)),)))","v":0},{"$f":"IF(IFERROR(INDEX(Přehled_body!$E$3:$ED$130,MATCH(Tabulka!$AI66,Přehled_body!$A$3:$A$130,0),MATCH(Tabulka!F$2,Přehled_body!$E$1:$ED$1,0)),)=\"\",,IF(IFERROR(INDEX(Přehled_body!$E$3:$ED$130,MATCH(Tabulka!$AI66,Přehled_body!$A$3:$A$130,0),MATCH(Tabulka!F$2,Přehled_body!$E$1:$ED$1,0)),)=0,0.00000000001,IFERROR(INDEX(Přehled_body!$E$3:$ED$130,MATCH(Tabulka!$AI66,Přehled_body!$A$3:$A$130,0),MATCH(Tabulka!F$2,Přehled_body!$E$1:$ED$1,0)),)))","v":0},{"$f":"IF(IFERROR(INDEX(Přehled_body!$E$3:$ED$130,MATCH(Tabulka!$AI66,Přehled_body!$A$3:$A$130,0),MATCH(Tabulka!G$2,Přehled_body!$E$1:$ED$1,0)),)=\"\",,IF(IFERROR(INDEX(Přehled_body!$E$3:$ED$130,MATCH(Tabulka!$AI66,Přehled_body!$A$3:$A$130,0),MATCH(Tabulka!G$2,Přehled_body!$E$1:$ED$1,0)),)=0,0.00000000001,IFERROR(INDEX(Přehled_body!$E$3:$ED$130,MATCH(Tabulka!$AI66,Přehled_body!$A$3:$A$130,0),MATCH(Tabulka!G$2,Přehled_body!$E$1:$ED$1,0)),)))","v":0},{"$f":"IF(IFERROR(INDEX(Přehled_body!$E$3:$ED$130,MATCH(Tabulka!$AI66,Přehled_body!$A$3:$A$130,0),MATCH(Tabulka!H$2,Přehled_body!$E$1:$ED$1,0)),)=\"\",,IF(IFERROR(INDEX(Přehled_body!$E$3:$ED$130,MATCH(Tabulka!$AI66,Přehled_body!$A$3:$A$130,0),MATCH(Tabulka!H$2,Přehled_body!$E$1:$ED$1,0)),)=0,0.00000000001,IFERROR(INDEX(Přehled_body!$E$3:$ED$130,MATCH(Tabulka!$AI66,Přehled_body!$A$3:$A$130,0),MATCH(Tabulka!H$2,Přehled_body!$E$1:$ED$1,0)),)))","v":2},{"$f":"IF(IFERROR(INDEX(Přehled_body!$E$3:$ED$130,MATCH(Tabulka!$AI66,Přehled_body!$A$3:$A$130,0),MATCH(Tabulka!I$2,Přehled_body!$E$1:$ED$1,0)),)=\"\",,IF(IFERROR(INDEX(Přehled_body!$E$3:$ED$130,MATCH(Tabulka!$AI66,Přehled_body!$A$3:$A$130,0),MATCH(Tabulka!I$2,Přehled_body!$E$1:$ED$1,0)),)=0,0.00000000001,IFERROR(INDEX(Přehled_body!$E$3:$ED$130,MATCH(Tabulka!$AI66,Přehled_body!$A$3:$A$130,0),MATCH(Tabulka!I$2,Přehled_body!$E$1:$ED$1,0)),)))","v":0},{"$f":"IF(IFERROR(INDEX(Přehled_body!$E$3:$ED$130,MATCH(Tabulka!$AI66,Přehled_body!$A$3:$A$130,0),MATCH(Tabulka!J$2,Přehled_body!$E$1:$ED$1,0)),)=\"\",,IF(IFERROR(INDEX(Přehled_body!$E$3:$ED$130,MATCH(Tabulka!$AI66,Přehled_body!$A$3:$A$130,0),MATCH(Tabulka!J$2,Přehled_body!$E$1:$ED$1,0)),)=0,0.00000000001,IFERROR(INDEX(Přehled_body!$E$3:$ED$130,MATCH(Tabulka!$AI66,Přehled_body!$A$3:$A$130,0),MATCH(Tabulka!J$2,Přehled_body!$E$1:$ED$1,0)),)))","v":0},{"$f":"IF(IFERROR(INDEX(Přehled_body!$E$3:$ED$130,MATCH(Tabulka!$AI66,Přehled_body!$A$3:$A$130,0),MATCH(Tabulka!K$2,Přehled_body!$E$1:$ED$1,0)),)=\"\",,IF(IFERROR(INDEX(Přehled_body!$E$3:$ED$130,MATCH(Tabulka!$AI66,Přehled_body!$A$3:$A$130,0),MATCH(Tabulka!K$2,Přehled_body!$E$1:$ED$1,0)),)=0,0.00000000001,IFERROR(INDEX(Přehled_body!$E$3:$ED$130,MATCH(Tabulka!$AI66,Přehled_body!$A$3:$A$130,0),MATCH(Tabulka!K$2,Přehled_body!$E$1:$ED$1,0)),)))","v":0},{"$f":"IF(IFERROR(INDEX(Přehled_body!$E$3:$ED$130,MATCH(Tabulka!$AI66,Přehled_body!$A$3:$A$130,0),MATCH(Tabulka!L$2,Přehled_body!$E$1:$ED$1,0)),)=\"\",,IF(IFERROR(INDEX(Přehled_body!$E$3:$ED$130,MATCH(Tabulka!$AI66,Přehled_body!$A$3:$A$130,0),MATCH(Tabulka!L$2,Přehled_body!$E$1:$ED$1,0)),)=0,0.00000000001,IFERROR(INDEX(Přehled_body!$E$3:$ED$130,MATCH(Tabulka!$AI66,Přehled_body!$A$3:$A$130,0),MATCH(Tabulka!L$2,Přehled_body!$E$1:$ED$1,0)),)))","v":0},{"$f":"IF(IFERROR(INDEX(Přehled_body!$E$3:$ED$130,MATCH(Tabulka!$AI66,Přehled_body!$A$3:$A$130,0),MATCH(Tabulka!M$2,Přehled_body!$E$1:$ED$1,0)),)=\"\",,IF(IFERROR(INDEX(Přehled_body!$E$3:$ED$130,MATCH(Tabulka!$AI66,Přehled_body!$A$3:$A$130,0),MATCH(Tabulka!M$2,Přehled_body!$E$1:$ED$1,0)),)=0,0.00000000001,IFERROR(INDEX(Přehled_body!$E$3:$ED$130,MATCH(Tabulka!$AI66,Přehled_body!$A$3:$A$130,0),MATCH(Tabulka!M$2,Přehled_body!$E$1:$ED$1,0)),)))","v":0},{"$f":"IF(IFERROR(INDEX(Přehled_body!$E$3:$ED$130,MATCH(Tabulka!$AI66,Přehled_body!$A$3:$A$130,0),MATCH(Tabulka!N$2,Přehled_body!$E$1:$ED$1,0)),)=\"\",,IF(IFERROR(INDEX(Přehled_body!$E$3:$ED$130,MATCH(Tabulka!$AI66,Přehled_body!$A$3:$A$130,0),MATCH(Tabulka!N$2,Přehled_body!$E$1:$ED$1,0)),)=0,0.00000000001,IFERROR(INDEX(Přehled_body!$E$3:$ED$130,MATCH(Tabulka!$AI66,Přehled_body!$A$3:$A$130,0),MATCH(Tabulka!N$2,Přehled_body!$E$1:$ED$1,0)),)))","v":0},{"$f":"IF(IFERROR(INDEX(Přehled_body!$E$3:$ED$130,MATCH(Tabulka!$AI66,Přehled_body!$A$3:$A$130,0),MATCH(Tabulka!O$2,Přehled_body!$E$1:$ED$1,0)),)=\"\",,IF(IFERROR(INDEX(Přehled_body!$E$3:$ED$130,MATCH(Tabulka!$AI66,Přehled_body!$A$3:$A$130,0),MATCH(Tabulka!O$2,Přehled_body!$E$1:$ED$1,0)),)=0,0.00000000001,IFERROR(INDEX(Přehled_body!$E$3:$ED$130,MATCH(Tabulka!$AI66,Přehled_body!$A$3:$A$130,0),MATCH(Tabulka!O$2,Přehled_body!$E$1:$ED$1,0)),)))","v":0},{"$f":"IF(IFERROR(INDEX(Přehled_body!$E$3:$ED$130,MATCH(Tabulka!$AI66,Přehled_body!$A$3:$A$130,0),MATCH(Tabulka!P$2,Přehled_body!$E$1:$ED$1,0)),)=\"\",,IF(IFERROR(INDEX(Přehled_body!$E$3:$ED$130,MATCH(Tabulka!$AI66,Přehled_body!$A$3:$A$130,0),MATCH(Tabulka!P$2,Přehled_body!$E$1:$ED$1,0)),)=0,0.00000000001,IFERROR(INDEX(Přehled_body!$E$3:$ED$130,MATCH(Tabulka!$AI66,Přehled_body!$A$3:$A$130,0),MATCH(Tabulka!P$2,Přehled_body!$E$1:$ED$1,0)),)))","v":0},{"$f":"IF(IFERROR(INDEX(Přehled_body!$E$3:$ED$130,MATCH(Tabulka!$AI66,Přehled_body!$A$3:$A$130,0),MATCH(Tabulka!Q$2,Přehled_body!$E$1:$ED$1,0)),)=\"\",,IF(IFERROR(INDEX(Přehled_body!$E$3:$ED$130,MATCH(Tabulka!$AI66,Přehled_body!$A$3:$A$130,0),MATCH(Tabulka!Q$2,Přehled_body!$E$1:$ED$1,0)),)=0,0.00000000001,IFERROR(INDEX(Přehled_body!$E$3:$ED$130,MATCH(Tabulka!$AI66,Přehled_body!$A$3:$A$130,0),MATCH(Tabulka!Q$2,Přehled_body!$E$1:$ED$1,0)),)))","v":0},{"$f":"IF(IFERROR(INDEX(Přehled_body!$E$3:$ED$130,MATCH(Tabulka!$AI66,Přehled_body!$A$3:$A$130,0),MATCH(Tabulka!R$2,Přehled_body!$E$1:$ED$1,0)),)=\"\",,IF(IFERROR(INDEX(Přehled_body!$E$3:$ED$130,MATCH(Tabulka!$AI66,Přehled_body!$A$3:$A$130,0),MATCH(Tabulka!R$2,Přehled_body!$E$1:$ED$1,0)),)=0,0.00000000001,IFERROR(INDEX(Přehled_body!$E$3:$ED$130,MATCH(Tabulka!$AI66,Přehled_body!$A$3:$A$130,0),MATCH(Tabulka!R$2,Přehled_body!$E$1:$ED$1,0)),)))","v":0},{"$f":"IF(IFERROR(INDEX(Přehled_body!$E$3:$ED$130,MATCH(Tabulka!$AI66,Přehled_body!$A$3:$A$130,0),MATCH(Tabulka!S$2,Přehled_body!$E$1:$ED$1,0)),)=\"\",,IF(IFERROR(INDEX(Přehled_body!$E$3:$ED$130,MATCH(Tabulka!$AI66,Přehled_body!$A$3:$A$130,0),MATCH(Tabulka!S$2,Přehled_body!$E$1:$ED$1,0)),)=0,0.00000000001,IFERROR(INDEX(Přehled_body!$E$3:$ED$130,MATCH(Tabulka!$AI66,Přehled_body!$A$3:$A$130,0),MATCH(Tabulka!S$2,Přehled_body!$E$1:$ED$1,0)),)))","v":0},{"$f":"IF(IFERROR(INDEX(Přehled_body!$E$3:$ED$130,MATCH(Tabulka!$AI66,Přehled_body!$A$3:$A$130,0),MATCH(Tabulka!T$2,Přehled_body!$E$1:$ED$1,0)),)=\"\",,IF(IFERROR(INDEX(Přehled_body!$E$3:$ED$130,MATCH(Tabulka!$AI66,Přehled_body!$A$3:$A$130,0),MATCH(Tabulka!T$2,Přehled_body!$E$1:$ED$1,0)),)=0,0.00000000001,IFERROR(INDEX(Přehled_body!$E$3:$ED$130,MATCH(Tabulka!$AI66,Přehled_body!$A$3:$A$130,0),MATCH(Tabulka!T$2,Přehled_body!$E$1:$ED$1,0)),)))","v":0},{"$f":"IF(IFERROR(INDEX(Přehled_body!$E$3:$ED$130,MATCH(Tabulka!$AI66,Přehled_body!$A$3:$A$130,0),MATCH(Tabulka!U$2,Přehled_body!$E$1:$ED$1,0)),)=\"\",,IF(IFERROR(INDEX(Přehled_body!$E$3:$ED$130,MATCH(Tabulka!$AI66,Přehled_body!$A$3:$A$130,0),MATCH(Tabulka!U$2,Přehled_body!$E$1:$ED$1,0)),)=0,0.00000000001,IFERROR(INDEX(Přehled_body!$E$3:$ED$130,MATCH(Tabulka!$AI66,Přehled_body!$A$3:$A$130,0),MATCH(Tabulka!U$2,Přehled_body!$E$1:$ED$1,0)),)))","v":0},{"$f":"IF(IFERROR(INDEX(Přehled_body!$E$3:$ED$130,MATCH(Tabulka!$AI66,Přehled_body!$A$3:$A$130,0),MATCH(Tabulka!V$2,Přehled_body!$E$1:$ED$1,0)),)=\"\",,IF(IFERROR(INDEX(Přehled_body!$E$3:$ED$130,MATCH(Tabulka!$AI66,Přehled_body!$A$3:$A$130,0),MATCH(Tabulka!V$2,Přehled_body!$E$1:$ED$1,0)),)=0,0.00000000001,IFERROR(INDEX(Přehled_body!$E$3:$ED$130,MATCH(Tabulka!$AI66,Přehled_body!$A$3:$A$130,0),MATCH(Tabulka!V$2,Přehled_body!$E$1:$ED$1,0)),)))","v":0},{"$f":"IF(IFERROR(INDEX(Přehled_body!$E$3:$ED$130,MATCH(Tabulka!$AI66,Přehled_body!$A$3:$A$130,0),MATCH(Tabulka!W$2,Přehled_body!$E$1:$ED$1,0)),)=\"\",,IF(IFERROR(INDEX(Přehled_body!$E$3:$ED$130,MATCH(Tabulka!$AI66,Přehled_body!$A$3:$A$130,0),MATCH(Tabulka!W$2,Přehled_body!$E$1:$ED$1,0)),)=0,0.00000000001,IFERROR(INDEX(Přehled_body!$E$3:$ED$130,MATCH(Tabulka!$AI66,Přehled_body!$A$3:$A$130,0),MATCH(Tabulka!W$2,Přehled_body!$E$1:$ED$1,0)),)))","v":0},{"$f":"IF(IFERROR(INDEX(Přehled_body!$E$3:$ED$130,MATCH(Tabulka!$AI66,Přehled_body!$A$3:$A$130,0),MATCH(Tabulka!X$2,Přehled_body!$E$1:$ED$1,0)),)=\"\",,IF(IFERROR(INDEX(Přehled_body!$E$3:$ED$130,MATCH(Tabulka!$AI66,Přehled_body!$A$3:$A$130,0),MATCH(Tabulka!X$2,Přehled_body!$E$1:$ED$1,0)),)=0,0.00000000001,IFERROR(INDEX(Přehled_body!$E$3:$ED$130,MATCH(Tabulka!$AI66,Přehled_body!$A$3:$A$130,0),MATCH(Tabulka!X$2,Přehled_body!$E$1:$ED$1,0)),)))","v":0},{"$f":"IF(IFERROR(INDEX(Přehled_body!$E$3:$ED$130,MATCH(Tabulka!$AI66,Přehled_body!$A$3:$A$130,0),MATCH(Tabulka!Y$2,Přehled_body!$E$1:$ED$1,0)),)=\"\",,IF(IFERROR(INDEX(Přehled_body!$E$3:$ED$130,MATCH(Tabulka!$AI66,Přehled_body!$A$3:$A$130,0),MATCH(Tabulka!Y$2,Přehled_body!$E$1:$ED$1,0)),)=0,0.00000000001,IFERROR(INDEX(Přehled_body!$E$3:$ED$130,MATCH(Tabulka!$AI66,Přehled_body!$A$3:$A$130,0),MATCH(Tabulka!Y$2,Přehled_body!$E$1:$ED$1,0)),)))","v":0},{"$f":"IF(IFERROR(INDEX(Přehled_body!$E$3:$ED$130,MATCH(Tabulka!$AI66,Přehled_body!$A$3:$A$130,0),MATCH(Tabulka!Z$2,Přehled_body!$E$1:$ED$1,0)),)=\"\",,IF(IFERROR(INDEX(Přehled_body!$E$3:$ED$130,MATCH(Tabulka!$AI66,Přehled_body!$A$3:$A$130,0),MATCH(Tabulka!Z$2,Přehled_body!$E$1:$ED$1,0)),)=0,0.00000000001,IFERROR(INDEX(Přehled_body!$E$3:$ED$130,MATCH(Tabulka!$AI66,Přehled_body!$A$3:$A$130,0),MATCH(Tabulka!Z$2,Přehled_body!$E$1:$ED$1,0)),)))","v":0},{"$f":"IF(IFERROR(INDEX(Přehled_body!$E$3:$ED$130,MATCH(Tabulka!$AI66,Přehled_body!$A$3:$A$130,0),MATCH(Tabulka!AA$2,Přehled_body!$E$1:$ED$1,0)),)=\"\",,IF(IFERROR(INDEX(Přehled_body!$E$3:$ED$130,MATCH(Tabulka!$AI66,Přehled_body!$A$3:$A$130,0),MATCH(Tabulka!AA$2,Přehled_body!$E$1:$ED$1,0)),)=0,0.00000000001,IFERROR(INDEX(Přehled_body!$E$3:$ED$130,MATCH(Tabulka!$AI66,Přehled_body!$A$3:$A$130,0),MATCH(Tabulka!AA$2,Přehled_body!$E$1:$ED$1,0)),)))","v":0},{"$f":"IF(IFERROR(INDEX(Přehled_body!$E$3:$ED$130,MATCH(Tabulka!$AI66,Přehled_body!$A$3:$A$130,0),MATCH(Tabulka!AB$2,Přehled_body!$E$1:$ED$1,0)),)=\"\",,IF(IFERROR(INDEX(Přehled_body!$E$3:$ED$130,MATCH(Tabulka!$AI66,Přehled_body!$A$3:$A$130,0),MATCH(Tabulka!AB$2,Přehled_body!$E$1:$ED$1,0)),)=0,0.00000000001,IFERROR(INDEX(Přehled_body!$E$3:$ED$130,MATCH(Tabulka!$AI66,Přehled_body!$A$3:$A$130,0),MATCH(Tabulka!AB$2,Přehled_body!$E$1:$ED$1,0)),)))","v":0},{"$f":"IF(IFERROR(INDEX(Přehled_body!$E$3:$ED$130,MATCH(Tabulka!$AI66,Přehled_body!$A$3:$A$130,0),MATCH(Tabulka!AC$2,Přehled_body!$E$1:$ED$1,0)),)=\"\",,IF(IFERROR(INDEX(Přehled_body!$E$3:$ED$130,MATCH(Tabulka!$AI66,Přehled_body!$A$3:$A$130,0),MATCH(Tabulka!AC$2,Přehled_body!$E$1:$ED$1,0)),)=0,0.00000000001,IFERROR(INDEX(Přehled_body!$E$3:$ED$130,MATCH(Tabulka!$AI66,Přehled_body!$A$3:$A$130,0),MATCH(Tabulka!AC$2,Přehled_body!$E$1:$ED$1,0)),)))","v":0},{"$f":"IF(IFERROR(INDEX(Přehled_body!$E$3:$ED$130,MATCH(Tabulka!$AI66,Přehled_body!$A$3:$A$130,0),MATCH(Tabulka!AD$2,Přehled_body!$E$1:$ED$1,0)),)=\"\",,IF(IFERROR(INDEX(Přehled_body!$E$3:$ED$130,MATCH(Tabulka!$AI66,Přehled_body!$A$3:$A$130,0),MATCH(Tabulka!AD$2,Přehled_body!$E$1:$ED$1,0)),)=0,0.00000000001,IFERROR(INDEX(Přehled_body!$E$3:$ED$130,MATCH(Tabulka!$AI66,Přehled_body!$A$3:$A$130,0),MATCH(Tabulka!AD$2,Přehled_body!$E$1:$ED$1,0)),)))","v":0},{"$f":"IF(SUM($D$64:$AD$68)<1,-90000,SUM(D66:AD66))","v":2},null,null,null,{"$f":"CONCATENATE($B$65,\" \",$B$66,C66)","v":"Ostatní hráčiPlaceno panáků"}]
[null,null,"Přehozy",{"$f":"IF(IFERROR(INDEX(Přehled_body!$E$3:$ED$130,MATCH(Tabulka!$AI67,Přehled_body!$A$3:$A$130,0),MATCH(Tabulka!D$2,Přehled_body!$E$1:$ED$1,0)),)=\"\",,IF(IFERROR(INDEX(Přehled_body!$E$3:$ED$130,MATCH(Tabulka!$AI67,Přehled_body!$A$3:$A$130,0),MATCH(Tabulka!D$2,Přehled_body!$E$1:$ED$1,0)),)=0,0.00000000001,IFERROR(INDEX(Přehled_body!$E$3:$ED$130,MATCH(Tabulka!$AI67,Přehled_body!$A$3:$A$130,0),MATCH(Tabulka!D$2,Přehled_body!$E$1:$ED$1,0)),)))","v":0},{"$f":"IF(IFERROR(INDEX(Přehled_body!$E$3:$ED$130,MATCH(Tabulka!$AI67,Přehled_body!$A$3:$A$130,0),MATCH(Tabulka!E$2,Přehled_body!$E$1:$ED$1,0)),)=\"\",,IF(IFERROR(INDEX(Přehled_body!$E$3:$ED$130,MATCH(Tabulka!$AI67,Přehled_body!$A$3:$A$130,0),MATCH(Tabulka!E$2,Přehled_body!$E$1:$ED$1,0)),)=0,0.00000000001,IFERROR(INDEX(Přehled_body!$E$3:$ED$130,MATCH(Tabulka!$AI67,Přehled_body!$A$3:$A$130,0),MATCH(Tabulka!E$2,Přehled_body!$E$1:$ED$1,0)),)))","v":0},{"$f":"IF(IFERROR(INDEX(Přehled_body!$E$3:$ED$130,MATCH(Tabulka!$AI67,Přehled_body!$A$3:$A$130,0),MATCH(Tabulka!F$2,Přehled_body!$E$1:$ED$1,0)),)=\"\",,IF(IFERROR(INDEX(Přehled_body!$E$3:$ED$130,MATCH(Tabulka!$AI67,Přehled_body!$A$3:$A$130,0),MATCH(Tabulka!F$2,Přehled_body!$E$1:$ED$1,0)),)=0,0.00000000001,IFERROR(INDEX(Přehled_body!$E$3:$ED$130,MATCH(Tabulka!$AI67,Přehled_body!$A$3:$A$130,0),MATCH(Tabulka!F$2,Přehled_body!$E$1:$ED$1,0)),)))","v":0},{"$f":"IF(IFERROR(INDEX(Přehled_body!$E$3:$ED$130,MATCH(Tabulka!$AI67,Přehled_body!$A$3:$A$130,0),MATCH(Tabulka!G$2,Přehled_body!$E$1:$ED$1,0)),)=\"\",,IF(IFERROR(INDEX(Přehled_body!$E$3:$ED$130,MATCH(Tabulka!$AI67,Přehled_body!$A$3:$A$130,0),MATCH(Tabulka!G$2,Přehled_body!$E$1:$ED$1,0)),)=0,0.00000000001,IFERROR(INDEX(Přehled_body!$E$3:$ED$130,MATCH(Tabulka!$AI67,Přehled_body!$A$3:$A$130,0),MATCH(Tabulka!G$2,Přehled_body!$E$1:$ED$1,0)),)))","v":0},{"$f":"IF(IFERROR(INDEX(Přehled_body!$E$3:$ED$130,MATCH(Tabulka!$AI67,Přehled_body!$A$3:$A$130,0),MATCH(Tabulka!H$2,Přehled_body!$E$1:$ED$1,0)),)=\"\",,IF(IFERROR(INDEX(Přehled_body!$E$3:$ED$130,MATCH(Tabulka!$AI67,Přehled_body!$A$3:$A$130,0),MATCH(Tabulka!H$2,Přehled_body!$E$1:$ED$1,0)),)=0,0.00000000001,IFERROR(INDEX(Přehled_body!$E$3:$ED$130,MATCH(Tabulka!$AI67,Přehled_body!$A$3:$A$130,0),MATCH(Tabulka!H$2,Přehled_body!$E$1:$ED$1,0)),)))","v":9.9999999999999994E-12},{"$f":"IF(IFERROR(INDEX(Přehled_body!$E$3:$ED$130,MATCH(Tabulka!$AI67,Přehled_body!$A$3:$A$130,0),MATCH(Tabulka!I$2,Přehled_body!$E$1:$ED$1,0)),)=\"\",,IF(IFERROR(INDEX(Přehled_body!$E$3:$ED$130,MATCH(Tabulka!$AI67,Přehled_body!$A$3:$A$130,0),MATCH(Tabulka!I$2,Přehled_body!$E$1:$ED$1,0)),)=0,0.00000000001,IFERROR(INDEX(Přehled_body!$E$3:$ED$130,MATCH(Tabulka!$AI67,Přehled_body!$A$3:$A$130,0),MATCH(Tabulka!I$2,Přehled_body!$E$1:$ED$1,0)),)))","v":0},{"$f":"IF(IFERROR(INDEX(Přehled_body!$E$3:$ED$130,MATCH(Tabulka!$AI67,Přehled_body!$A$3:$A$130,0),MATCH(Tabulka!J$2,Přehled_body!$E$1:$ED$1,0)),)=\"\",,IF(IFERROR(INDEX(Přehled_body!$E$3:$ED$130,MATCH(Tabulka!$AI67,Přehled_body!$A$3:$A$130,0),MATCH(Tabulka!J$2,Přehled_body!$E$1:$ED$1,0)),)=0,0.00000000001,IFERROR(INDEX(Přehled_body!$E$3:$ED$130,MATCH(Tabulka!$AI67,Přehled_body!$A$3:$A$130,0),MATCH(Tabulka!J$2,Přehled_body!$E$1:$ED$1,0)),)))","v":0},{"$f":"IF(IFERROR(INDEX(Přehled_body!$E$3:$ED$130,MATCH(Tabulka!$AI67,Přehled_body!$A$3:$A$130,0),MATCH(Tabulka!K$2,Přehled_body!$E$1:$ED$1,0)),)=\"\",,IF(IFERROR(INDEX(Přehled_body!$E$3:$ED$130,MATCH(Tabulka!$AI67,Přehled_body!$A$3:$A$130,0),MATCH(Tabulka!K$2,Přehled_body!$E$1:$ED$1,0)),)=0,0.00000000001,IFERROR(INDEX(Přehled_body!$E$3:$ED$130,MATCH(Tabulka!$AI67,Přehled_body!$A$3:$A$130,0),MATCH(Tabulka!K$2,Přehled_body!$E$1:$ED$1,0)),)))","v":0},{"$f":"IF(IFERROR(INDEX(Přehled_body!$E$3:$ED$130,MATCH(Tabulka!$AI67,Přehled_body!$A$3:$A$130,0),MATCH(Tabulka!L$2,Přehled_body!$E$1:$ED$1,0)),)=\"\",,IF(IFERROR(INDEX(Přehled_body!$E$3:$ED$130,MATCH(Tabulka!$AI67,Přehled_body!$A$3:$A$130,0),MATCH(Tabulka!L$2,Přehled_body!$E$1:$ED$1,0)),)=0,0.00000000001,IFERROR(INDEX(Přehled_body!$E$3:$ED$130,MATCH(Tabulka!$AI67,Přehled_body!$A$3:$A$130,0),MATCH(Tabulka!L$2,Přehled_body!$E$1:$ED$1,0)),)))","v":0},{"$f":"IF(IFERROR(INDEX(Přehled_body!$E$3:$ED$130,MATCH(Tabulka!$AI67,Přehled_body!$A$3:$A$130,0),MATCH(Tabulka!M$2,Přehled_body!$E$1:$ED$1,0)),)=\"\",,IF(IFERROR(INDEX(Přehled_body!$E$3:$ED$130,MATCH(Tabulka!$AI67,Přehled_body!$A$3:$A$130,0),MATCH(Tabulka!M$2,Přehled_body!$E$1:$ED$1,0)),)=0,0.00000000001,IFERROR(INDEX(Přehled_body!$E$3:$ED$130,MATCH(Tabulka!$AI67,Přehled_body!$A$3:$A$130,0),MATCH(Tabulka!M$2,Přehled_body!$E$1:$ED$1,0)),)))","v":0},{"$f":"IF(IFERROR(INDEX(Přehled_body!$E$3:$ED$130,MATCH(Tabulka!$AI67,Přehled_body!$A$3:$A$130,0),MATCH(Tabulka!N$2,Přehled_body!$E$1:$ED$1,0)),)=\"\",,IF(IFERROR(INDEX(Přehled_body!$E$3:$ED$130,MATCH(Tabulka!$AI67,Přehled_body!$A$3:$A$130,0),MATCH(Tabulka!N$2,Přehled_body!$E$1:$ED$1,0)),)=0,0.00000000001,IFERROR(INDEX(Přehled_body!$E$3:$ED$130,MATCH(Tabulka!$AI67,Přehled_body!$A$3:$A$130,0),MATCH(Tabulka!N$2,Přehled_body!$E$1:$ED$1,0)),)))","v":0},{"$f":"IF(IFERROR(INDEX(Přehled_body!$E$3:$ED$130,MATCH(Tabulka!$AI67,Přehled_body!$A$3:$A$130,0),MATCH(Tabulka!O$2,Přehled_body!$E$1:$ED$1,0)),)=\"\",,IF(IFERROR(INDEX(Přehled_body!$E$3:$ED$130,MATCH(Tabulka!$AI67,Přehled_body!$A$3:$A$130,0),MATCH(Tabulka!O$2,Přehled_body!$E$1:$ED$1,0)),)=0,0.00000000001,IFERROR(INDEX(Přehled_body!$E$3:$ED$130,MATCH(Tabulka!$AI67,Přehled_body!$A$3:$A$130,0),MATCH(Tabulka!O$2,Přehled_body!$E$1:$ED$1,0)),)))","v":0},{"$f":"IF(IFERROR(INDEX(Přehled_body!$E$3:$ED$130,MATCH(Tabulka!$AI67,Přehled_body!$A$3:$A$130,0),MATCH(Tabulka!P$2,Přehled_body!$E$1:$ED$1,0)),)=\"\",,IF(IFERROR(INDEX(Přehled_body!$E$3:$ED$130,MATCH(Tabulka!$AI67,Přehled_body!$A$3:$A$130,0),MATCH(Tabulka!P$2,Přehled_body!$E$1:$ED$1,0)),)=0,0.00000000001,IFERROR(INDEX(Přehled_body!$E$3:$ED$130,MATCH(Tabulka!$AI67,Přehled_body!$A$3:$A$130,0),MATCH(Tabulka!P$2,Přehled_body!$E$1:$ED$1,0)),)))","v":0},{"$f":"IF(IFERROR(INDEX(Přehled_body!$E$3:$ED$130,MATCH(Tabulka!$AI67,Přehled_body!$A$3:$A$130,0),MATCH(Tabulka!Q$2,Přehled_body!$E$1:$ED$1,0)),)=\"\",,IF(IFERROR(INDEX(Přehled_body!$E$3:$ED$130,MATCH(Tabulka!$AI67,Přehled_body!$A$3:$A$130,0),MATCH(Tabulka!Q$2,Přehled_body!$E$1:$ED$1,0)),)=0,0.00000000001,IFERROR(INDEX(Přehled_body!$E$3:$ED$130,MATCH(Tabulka!$AI67,Přehled_body!$A$3:$A$130,0),MATCH(Tabulka!Q$2,Přehled_body!$E$1:$ED$1,0)),)))","v":0},{"$f":"IF(IFERROR(INDEX(Přehled_body!$E$3:$ED$130,MATCH(Tabulka!$AI67,Přehled_body!$A$3:$A$130,0),MATCH(Tabulka!R$2,Přehled_body!$E$1:$ED$1,0)),)=\"\",,IF(IFERROR(INDEX(Přehled_body!$E$3:$ED$130,MATCH(Tabulka!$AI67,Přehled_body!$A$3:$A$130,0),MATCH(Tabulka!R$2,Přehled_body!$E$1:$ED$1,0)),)=0,0.00000000001,IFERROR(INDEX(Přehled_body!$E$3:$ED$130,MATCH(Tabulka!$AI67,Přehled_body!$A$3:$A$130,0),MATCH(Tabulka!R$2,Přehled_body!$E$1:$ED$1,0)),)))","v":0},{"$f":"IF(IFERROR(INDEX(Přehled_body!$E$3:$ED$130,MATCH(Tabulka!$AI67,Přehled_body!$A$3:$A$130,0),MATCH(Tabulka!S$2,Přehled_body!$E$1:$ED$1,0)),)=\"\",,IF(IFERROR(INDEX(Přehled_body!$E$3:$ED$130,MATCH(Tabulka!$AI67,Přehled_body!$A$3:$A$130,0),MATCH(Tabulka!S$2,Přehled_body!$E$1:$ED$1,0)),)=0,0.00000000001,IFERROR(INDEX(Přehled_body!$E$3:$ED$130,MATCH(Tabulka!$AI67,Přehled_body!$A$3:$A$130,0),MATCH(Tabulka!S$2,Přehled_body!$E$1:$ED$1,0)),)))","v":0},{"$f":"IF(IFERROR(INDEX(Přehled_body!$E$3:$ED$130,MATCH(Tabulka!$AI67,Přehled_body!$A$3:$A$130,0),MATCH(Tabulka!T$2,Přehled_body!$E$1:$ED$1,0)),)=\"\",,IF(IFERROR(INDEX(Přehled_body!$E$3:$ED$130,MATCH(Tabulka!$AI67,Přehled_body!$A$3:$A$130,0),MATCH(Tabulka!T$2,Přehled_body!$E$1:$ED$1,0)),)=0,0.00000000001,IFERROR(INDEX(Přehled_body!$E$3:$ED$130,MATCH(Tabulka!$AI67,Přehled_body!$A$3:$A$130,0),MATCH(Tabulka!T$2,Přehled_body!$E$1:$ED$1,0)),)))","v":0},{"$f":"IF(IFERROR(INDEX(Přehled_body!$E$3:$ED$130,MATCH(Tabulka!$AI67,Přehled_body!$A$3:$A$130,0),MATCH(Tabulka!U$2,Přehled_body!$E$1:$ED$1,0)),)=\"\",,IF(IFERROR(INDEX(Přehled_body!$E$3:$ED$130,MATCH(Tabulka!$AI67,Přehled_body!$A$3:$A$130,0),MATCH(Tabulka!U$2,Přehled_body!$E$1:$ED$1,0)),)=0,0.00000000001,IFERROR(INDEX(Přehled_body!$E$3:$ED$130,MATCH(Tabulka!$AI67,Přehled_body!$A$3:$A$130,0),MATCH(Tabulka!U$2,Přehled_body!$E$1:$ED$1,0)),)))","v":0},{"$f":"IF(IFERROR(INDEX(Přehled_body!$E$3:$ED$130,MATCH(Tabulka!$AI67,Přehled_body!$A$3:$A$130,0),MATCH(Tabulka!V$2,Přehled_body!$E$1:$ED$1,0)),)=\"\",,IF(IFERROR(INDEX(Přehled_body!$E$3:$ED$130,MATCH(Tabulka!$AI67,Přehled_body!$A$3:$A$130,0),MATCH(Tabulka!V$2,Přehled_body!$E$1:$ED$1,0)),)=0,0.00000000001,IFERROR(INDEX(Přehled_body!$E$3:$ED$130,MATCH(Tabulka!$AI67,Přehled_body!$A$3:$A$130,0),MATCH(Tabulka!V$2,Přehled_body!$E$1:$ED$1,0)),)))","v":0},{"$f":"IF(IFERROR(INDEX(Přehled_body!$E$3:$ED$130,MATCH(Tabulka!$AI67,Přehled_body!$A$3:$A$130,0),MATCH(Tabulka!W$2,Přehled_body!$E$1:$ED$1,0)),)=\"\",,IF(IFERROR(INDEX(Přehled_body!$E$3:$ED$130,MATCH(Tabulka!$AI67,Přehled_body!$A$3:$A$130,0),MATCH(Tabulka!W$2,Přehled_body!$E$1:$ED$1,0)),)=0,0.00000000001,IFERROR(INDEX(Přehled_body!$E$3:$ED$130,MATCH(Tabulka!$AI67,Přehled_body!$A$3:$A$130,0),MATCH(Tabulka!W$2,Přehled_body!$E$1:$ED$1,0)),)))","v":0},{"$f":"IF(IFERROR(INDEX(Přehled_body!$E$3:$ED$130,MATCH(Tabulka!$AI67,Přehled_body!$A$3:$A$130,0),MATCH(Tabulka!X$2,Přehled_body!$E$1:$ED$1,0)),)=\"\",,IF(IFERROR(INDEX(Přehled_body!$E$3:$ED$130,MATCH(Tabulka!$AI67,Přehled_body!$A$3:$A$130,0),MATCH(Tabulka!X$2,Přehled_body!$E$1:$ED$1,0)),)=0,0.00000000001,IFERROR(INDEX(Přehled_body!$E$3:$ED$130,MATCH(Tabulka!$AI67,Přehled_body!$A$3:$A$130,0),MATCH(Tabulka!X$2,Přehled_body!$E$1:$ED$1,0)),)))","v":0},{"$f":"IF(IFERROR(INDEX(Přehled_body!$E$3:$ED$130,MATCH(Tabulka!$AI67,Přehled_body!$A$3:$A$130,0),MATCH(Tabulka!Y$2,Přehled_body!$E$1:$ED$1,0)),)=\"\",,IF(IFERROR(INDEX(Přehled_body!$E$3:$ED$130,MATCH(Tabulka!$AI67,Přehled_body!$A$3:$A$130,0),MATCH(Tabulka!Y$2,Přehled_body!$E$1:$ED$1,0)),)=0,0.00000000001,IFERROR(INDEX(Přehled_body!$E$3:$ED$130,MATCH(Tabulka!$AI67,Přehled_body!$A$3:$A$130,0),MATCH(Tabulka!Y$2,Přehled_body!$E$1:$ED$1,0)),)))","v":0},{"$f":"IF(IFERROR(INDEX(Přehled_body!$E$3:$ED$130,MATCH(Tabulka!$AI67,Přehled_body!$A$3:$A$130,0),MATCH(Tabulka!Z$2,Přehled_body!$E$1:$ED$1,0)),)=\"\",,IF(IFERROR(INDEX(Přehled_body!$E$3:$ED$130,MATCH(Tabulka!$AI67,Přehled_body!$A$3:$A$130,0),MATCH(Tabulka!Z$2,Přehled_body!$E$1:$ED$1,0)),)=0,0.00000000001,IFERROR(INDEX(Přehled_body!$E$3:$ED$130,MATCH(Tabulka!$AI67,Přehled_body!$A$3:$A$130,0),MATCH(Tabulka!Z$2,Přehled_body!$E$1:$ED$1,0)),)))","v":0},{"$f":"IF(IFERROR(INDEX(Přehled_body!$E$3:$ED$130,MATCH(Tabulka!$AI67,Přehled_body!$A$3:$A$130,0),MATCH(Tabulka!AA$2,Přehled_body!$E$1:$ED$1,0)),)=\"\",,IF(IFERROR(INDEX(Přehled_body!$E$3:$ED$130,MATCH(Tabulka!$AI67,Přehled_body!$A$3:$A$130,0),MATCH(Tabulka!AA$2,Přehled_body!$E$1:$ED$1,0)),)=0,0.00000000001,IFERROR(INDEX(Přehled_body!$E$3:$ED$130,MATCH(Tabulka!$AI67,Přehled_body!$A$3:$A$130,0),MATCH(Tabulka!AA$2,Přehled_body!$E$1:$ED$1,0)),)))","v":0},{"$f":"IF(IFERROR(INDEX(Přehled_body!$E$3:$ED$130,MATCH(Tabulka!$AI67,Přehled_body!$A$3:$A$130,0),MATCH(Tabulka!AB$2,Přehled_body!$E$1:$ED$1,0)),)=\"\",,IF(IFERROR(INDEX(Přehled_body!$E$3:$ED$130,MATCH(Tabulka!$AI67,Přehled_body!$A$3:$A$130,0),MATCH(Tabulka!AB$2,Přehled_body!$E$1:$ED$1,0)),)=0,0.00000000001,IFERROR(INDEX(Přehled_body!$E$3:$ED$130,MATCH(Tabulka!$AI67,Přehled_body!$A$3:$A$130,0),MATCH(Tabulka!AB$2,Přehled_body!$E$1:$ED$1,0)),)))","v":0},{"$f":"IF(IFERROR(INDEX(Přehled_body!$E$3:$ED$130,MATCH(Tabulka!$AI67,Přehled_body!$A$3:$A$130,0),MATCH(Tabulka!AC$2,Přehled_body!$E$1:$ED$1,0)),)=\"\",,IF(IFERROR(INDEX(Přehled_body!$E$3:$ED$130,MATCH(Tabulka!$AI67,Přehled_body!$A$3:$A$130,0),MATCH(Tabulka!AC$2,Přehled_body!$E$1:$ED$1,0)),)=0,0.00000000001,IFERROR(INDEX(Přehled_body!$E$3:$ED$130,MATCH(Tabulka!$AI67,Přehled_body!$A$3:$A$130,0),MATCH(Tabulka!AC$2,Přehled_body!$E$1:$ED$1,0)),)))","v":0},{"$f":"IF(IFERROR(INDEX(Přehled_body!$E$3:$ED$130,MATCH(Tabulka!$AI67,Přehled_body!$A$3:$A$130,0),MATCH(Tabulka!AD$2,Přehled_body!$E$1:$ED$1,0)),)=\"\",,IF(IFERROR(INDEX(Přehled_body!$E$3:$ED$130,MATCH(Tabulka!$AI67,Přehled_body!$A$3:$A$130,0),MATCH(Tabulka!AD$2,Přehled_body!$E$1:$ED$1,0)),)=0,0.00000000001,IFERROR(INDEX(Přehled_body!$E$3:$ED$130,MATCH(Tabulka!$AI67,Přehled_body!$A$3:$A$130,0),MATCH(Tabulka!AD$2,Přehled_body!$E$1:$ED$1,0)),)))","v":0},{"$f":"IF(SUM($D$64:$AD$68)<1,-90000,SUM(D67:AD67))","v":9.9999999999999994E-12},null,null,null,{"$f":"CONCATENATE($B$65,\" \",$B$66,C67)","v":"Ostatní hráčiPřehozy"}]
[null,null,"Poč. kol",{"$f":"IF(IFERROR(INDEX(Přehled_body!$E$3:$ED$130,MATCH(Tabulka!$AI68,Přehled_body!$A$3:$A$130,0),MATCH(Tabulka!D$2,Přehled_body!$E$1:$ED$1,0)),)=\"\",,IF(IFERROR(INDEX(Přehled_body!$E$3:$ED$130,MATCH(Tabulka!$AI68,Přehled_body!$A$3:$A$130,0),MATCH(Tabulka!D$2,Přehled_body!$E$1:$ED$1,0)),)=0,0.00000000001,IFERROR(INDEX(Přehled_body!$E$3:$ED$130,MATCH(Tabulka!$AI68,Přehled_body!$A$3:$A$130,0),MATCH(Tabulka!D$2,Přehled_body!$E$1:$ED$1,0)),)))","v":0},{"$f":"IF(IFERROR(INDEX(Přehled_body!$E$3:$ED$130,MATCH(Tabulka!$AI68,Přehled_body!$A$3:$A$130,0),MATCH(Tabulka!E$2,Přehled_body!$E$1:$ED$1,0)),)=\"\",,IF(IFERROR(INDEX(Přehled_body!$E$3:$ED$130,MATCH(Tabulka!$AI68,Přehled_body!$A$3:$A$130,0),MATCH(Tabulka!E$2,Přehled_body!$E$1:$ED$1,0)),)=0,0.00000000001,IFERROR(INDEX(Přehled_body!$E$3:$ED$130,MATCH(Tabulka!$AI68,Přehled_body!$A$3:$A$130,0),MATCH(Tabulka!E$2,Přehled_body!$E$1:$ED$1,0)),)))","v":0},{"$f":"IF(IFERROR(INDEX(Přehled_body!$E$3:$ED$130,MATCH(Tabulka!$AI68,Přehled_body!$A$3:$A$130,0),MATCH(Tabulka!F$2,Přehled_body!$E$1:$ED$1,0)),)=\"\",,IF(IFERROR(INDEX(Přehled_body!$E$3:$ED$130,MATCH(Tabulka!$AI68,Přehled_body!$A$3:$A$130,0),MATCH(Tabulka!F$2,Přehled_body!$E$1:$ED$1,0)),)=0,0.00000000001,IFERROR(INDEX(Přehled_body!$E$3:$ED$130,MATCH(Tabulka!$AI68,Přehled_body!$A$3:$A$130,0),MATCH(Tabulka!F$2,Přehled_body!$E$1:$ED$1,0)),)))","v":0},{"$f":"IF(IFERROR(INDEX(Přehled_body!$E$3:$ED$130,MATCH(Tabulka!$AI68,Přehled_body!$A$3:$A$130,0),MATCH(Tabulka!G$2,Přehled_body!$E$1:$ED$1,0)),)=\"\",,IF(IFERROR(INDEX(Přehled_body!$E$3:$ED$130,MATCH(Tabulka!$AI68,Přehled_body!$A$3:$A$130,0),MATCH(Tabulka!G$2,Přehled_body!$E$1:$ED$1,0)),)=0,0.00000000001,IFERROR(INDEX(Přehled_body!$E$3:$ED$130,MATCH(Tabulka!$AI68,Přehled_body!$A$3:$A$130,0),MATCH(Tabulka!G$2,Přehled_body!$E$1:$ED$1,0)),)))","v":0},{"$f":"IF(IFERROR(INDEX(Přehled_body!$E$3:$ED$130,MATCH(Tabulka!$AI68,Přehled_body!$A$3:$A$130,0),MATCH(Tabulka!H$2,Přehled_body!$E$1:$ED$1,0)),)=\"\",,IF(IFERROR(INDEX(Přehled_body!$E$3:$ED$130,MATCH(Tabulka!$AI68,Přehled_body!$A$3:$A$130,0),MATCH(Tabulka!H$2,Přehled_body!$E$1:$ED$1,0)),)=0,0.00000000001,IFERROR(INDEX(Přehled_body!$E$3:$ED$130,MATCH(Tabulka!$AI68,Přehled_body!$A$3:$A$130,0),MATCH(Tabulka!H$2,Přehled_body!$E$1:$ED$1,0)),)))","v":4},{"$f":"IF(IFERROR(INDEX(Přehled_body!$E$3:$ED$130,MATCH(Tabulka!$AI68,Přehled_body!$A$3:$A$130,0),MATCH(Tabulka!I$2,Přehled_body!$E$1:$ED$1,0)),)=\"\",,IF(IFERROR(INDEX(Přehled_body!$E$3:$ED$130,MATCH(Tabulka!$AI68,Přehled_body!$A$3:$A$130,0),MATCH(Tabulka!I$2,Přehled_body!$E$1:$ED$1,0)),)=0,0.00000000001,IFERROR(INDEX(Přehled_body!$E$3:$ED$130,MATCH(Tabulka!$AI68,Přehled_body!$A$3:$A$130,0),MATCH(Tabulka!I$2,Přehled_body!$E$1:$ED$1,0)),)))","v":0},{"$f":"IF(IFERROR(INDEX(Přehled_body!$E$3:$ED$130,MATCH(Tabulka!$AI68,Přehled_body!$A$3:$A$130,0),MATCH(Tabulka!J$2,Přehled_body!$E$1:$ED$1,0)),)=\"\",,IF(IFERROR(INDEX(Přehled_body!$E$3:$ED$130,MATCH(Tabulka!$AI68,Přehled_body!$A$3:$A$130,0),MATCH(Tabulka!J$2,Přehled_body!$E$1:$ED$1,0)),)=0,0.00000000001,IFERROR(INDEX(Přehled_body!$E$3:$ED$130,MATCH(Tabulka!$AI68,Přehled_body!$A$3:$A$130,0),MATCH(Tabulka!J$2,Přehled_body!$E$1:$ED$1,0)),)))","v":0},{"$f":"IF(IFERROR(INDEX(Přehled_body!$E$3:$ED$130,MATCH(Tabulka!$AI68,Přehled_body!$A$3:$A$130,0),MATCH(Tabulka!K$2,Přehled_body!$E$1:$ED$1,0)),)=\"\",,IF(IFERROR(INDEX(Přehled_body!$E$3:$ED$130,MATCH(Tabulka!$AI68,Přehled_body!$A$3:$A$130,0),MATCH(Tabulka!K$2,Přehled_body!$E$1:$ED$1,0)),)=0,0.00000000001,IFERROR(INDEX(Přehled_body!$E$3:$ED$130,MATCH(Tabulka!$AI68,Přehled_body!$A$3:$A$130,0),MATCH(Tabulka!K$2,Přehled_body!$E$1:$ED$1,0)),)))","v":0},{"$f":"IF(IFERROR(INDEX(Přehled_body!$E$3:$ED$130,MATCH(Tabulka!$AI68,Přehled_body!$A$3:$A$130,0),MATCH(Tabulka!L$2,Přehled_body!$E$1:$ED$1,0)),)=\"\",,IF(IFERROR(INDEX(Přehled_body!$E$3:$ED$130,MATCH(Tabulka!$AI68,Přehled_body!$A$3:$A$130,0),MATCH(Tabulka!L$2,Přehled_body!$E$1:$ED$1,0)),)=0,0.00000000001,IFERROR(INDEX(Přehled_body!$E$3:$ED$130,MATCH(Tabulka!$AI68,Přehled_body!$A$3:$A$130,0),MATCH(Tabulka!L$2,Přehled_body!$E$1:$ED$1,0)),)))","v":0},{"$f":"IF(IFERROR(INDEX(Přehled_body!$E$3:$ED$130,MATCH(Tabulka!$AI68,Přehled_body!$A$3:$A$130,0),MATCH(Tabulka!M$2,Přehled_body!$E$1:$ED$1,0)),)=\"\",,IF(IFERROR(INDEX(Přehled_body!$E$3:$ED$130,MATCH(Tabulka!$AI68,Přehled_body!$A$3:$A$130,0),MATCH(Tabulka!M$2,Přehled_body!$E$1:$ED$1,0)),)=0,0.00000000001,IFERROR(INDEX(Přehled_body!$E$3:$ED$130,MATCH(Tabulka!$AI68,Přehled_body!$A$3:$A$130,0),MATCH(Tabulka!M$2,Přehled_body!$E$1:$ED$1,0)),)))","v":0},{"$f":"IF(IFERROR(INDEX(Přehled_body!$E$3:$ED$130,MATCH(Tabulka!$AI68,Přehled_body!$A$3:$A$130,0),MATCH(Tabulka!N$2,Přehled_body!$E$1:$ED$1,0)),)=\"\",,IF(IFERROR(INDEX(Přehled_body!$E$3:$ED$130,MATCH(Tabulka!$AI68,Přehled_body!$A$3:$A$130,0),MATCH(Tabulka!N$2,Přehled_body!$E$1:$ED$1,0)),)=0,0.00000000001,IFERROR(INDEX(Přehled_body!$E$3:$ED$130,MATCH(Tabulka!$AI68,Přehled_body!$A$3:$A$130,0),MATCH(Tabulka!N$2,Přehled_body!$E$1:$ED$1,0)),)))","v":0},{"$f":"IF(IFERROR(INDEX(Přehled_body!$E$3:$ED$130,MATCH(Tabulka!$AI68,Přehled_body!$A$3:$A$130,0),MATCH(Tabulka!O$2,Přehled_body!$E$1:$ED$1,0)),)=\"\",,IF(IFERROR(INDEX(Přehled_body!$E$3:$ED$130,MATCH(Tabulka!$AI68,Přehled_body!$A$3:$A$130,0),MATCH(Tabulka!O$2,Přehled_body!$E$1:$ED$1,0)),)=0,0.00000000001,IFERROR(INDEX(Přehled_body!$E$3:$ED$130,MATCH(Tabulka!$AI68,Přehled_body!$A$3:$A$130,0),MATCH(Tabulka!O$2,Přehled_body!$E$1:$ED$1,0)),)))","v":0},{"$f":"IF(IFERROR(INDEX(Přehled_body!$E$3:$ED$130,MATCH(Tabulka!$AI68,Přehled_body!$A$3:$A$130,0),MATCH(Tabulka!P$2,Přehled_body!$E$1:$ED$1,0)),)=\"\",,IF(IFERROR(INDEX(Přehled_body!$E$3:$ED$130,MATCH(Tabulka!$AI68,Přehled_body!$A$3:$A$130,0),MATCH(Tabulka!P$2,Přehled_body!$E$1:$ED$1,0)),)=0,0.00000000001,IFERROR(INDEX(Přehled_body!$E$3:$ED$130,MATCH(Tabulka!$AI68,Přehled_body!$A$3:$A$130,0),MATCH(Tabulka!P$2,Přehled_body!$E$1:$ED$1,0)),)))","v":0},{"$f":"IF(IFERROR(INDEX(Přehled_body!$E$3:$ED$130,MATCH(Tabulka!$AI68,Přehled_body!$A$3:$A$130,0),MATCH(Tabulka!Q$2,Přehled_body!$E$1:$ED$1,0)),)=\"\",,IF(IFERROR(INDEX(Přehled_body!$E$3:$ED$130,MATCH(Tabulka!$AI68,Přehled_body!$A$3:$A$130,0),MATCH(Tabulka!Q$2,Přehled_body!$E$1:$ED$1,0)),)=0,0.00000000001,IFERROR(INDEX(Přehled_body!$E$3:$ED$130,MATCH(Tabulka!$AI68,Přehled_body!$A$3:$A$130,0),MATCH(Tabulka!Q$2,Přehled_body!$E$1:$ED$1,0)),)))","v":0},{"$f":"IF(IFERROR(INDEX(Přehled_body!$E$3:$ED$130,MATCH(Tabulka!$AI68,Přehled_body!$A$3:$A$130,0),MATCH(Tabulka!R$2,Přehled_body!$E$1:$ED$1,0)),)=\"\",,IF(IFERROR(INDEX(Přehled_body!$E$3:$ED$130,MATCH(Tabulka!$AI68,Přehled_body!$A$3:$A$130,0),MATCH(Tabulka!R$2,Přehled_body!$E$1:$ED$1,0)),)=0,0.00000000001,IFERROR(INDEX(Přehled_body!$E$3:$ED$130,MATCH(Tabulka!$AI68,Přehled_body!$A$3:$A$130,0),MATCH(Tabulka!R$2,Přehled_body!$E$1:$ED$1,0)),)))","v":0},{"$f":"IF(IFERROR(INDEX(Přehled_body!$E$3:$ED$130,MATCH(Tabulka!$AI68,Přehled_body!$A$3:$A$130,0),MATCH(Tabulka!S$2,Přehled_body!$E$1:$ED$1,0)),)=\"\",,IF(IFERROR(INDEX(Přehled_body!$E$3:$ED$130,MATCH(Tabulka!$AI68,Přehled_body!$A$3:$A$130,0),MATCH(Tabulka!S$2,Přehled_body!$E$1:$ED$1,0)),)=0,0.00000000001,IFERROR(INDEX(Přehled_body!$E$3:$ED$130,MATCH(Tabulka!$AI68,Přehled_body!$A$3:$A$130,0),MATCH(Tabulka!S$2,Přehled_body!$E$1:$ED$1,0)),)))","v":0},{"$f":"IF(IFERROR(INDEX(Přehled_body!$E$3:$ED$130,MATCH(Tabulka!$AI68,Přehled_body!$A$3:$A$130,0),MATCH(Tabulka!T$2,Přehled_body!$E$1:$ED$1,0)),)=\"\",,IF(IFERROR(INDEX(Přehled_body!$E$3:$ED$130,MATCH(Tabulka!$AI68,Přehled_body!$A$3:$A$130,0),MATCH(Tabulka!T$2,Přehled_body!$E$1:$ED$1,0)),)=0,0.00000000001,IFERROR(INDEX(Přehled_body!$E$3:$ED$130,MATCH(Tabulka!$AI68,Přehled_body!$A$3:$A$130,0),MATCH(Tabulka!T$2,Přehled_body!$E$1:$ED$1,0)),)))","v":0},{"$f":"IF(IFERROR(INDEX(Přehled_body!$E$3:$ED$130,MATCH(Tabulka!$AI68,Přehled_body!$A$3:$A$130,0),MATCH(Tabulka!U$2,Přehled_body!$E$1:$ED$1,0)),)=\"\",,IF(IFERROR(INDEX(Přehled_body!$E$3:$ED$130,MATCH(Tabulka!$AI68,Přehled_body!$A$3:$A$130,0),MATCH(Tabulka!U$2,Přehled_body!$E$1:$ED$1,0)),)=0,0.00000000001,IFERROR(INDEX(Přehled_body!$E$3:$ED$130,MATCH(Tabulka!$AI68,Přehled_body!$A$3:$A$130,0),MATCH(Tabulka!U$2,Přehled_body!$E$1:$ED$1,0)),)))","v":0},{"$f":"IF(IFERROR(INDEX(Přehled_body!$E$3:$ED$130,MATCH(Tabulka!$AI68,Přehled_body!$A$3:$A$130,0),MATCH(Tabulka!V$2,Přehled_body!$E$1:$ED$1,0)),)=\"\",,IF(IFERROR(INDEX(Přehled_body!$E$3:$ED$130,MATCH(Tabulka!$AI68,Přehled_body!$A$3:$A$130,0),MATCH(Tabulka!V$2,Přehled_body!$E$1:$ED$1,0)),)=0,0.00000000001,IFERROR(INDEX(Přehled_body!$E$3:$ED$130,MATCH(Tabulka!$AI68,Přehled_body!$A$3:$A$130,0),MATCH(Tabulka!V$2,Přehled_body!$E$1:$ED$1,0)),)))","v":0},{"$f":"IF(IFERROR(INDEX(Přehled_body!$E$3:$ED$130,MATCH(Tabulka!$AI68,Přehled_body!$A$3:$A$130,0),MATCH(Tabulka!W$2,Přehled_body!$E$1:$ED$1,0)),)=\"\",,IF(IFERROR(INDEX(Přehled_body!$E$3:$ED$130,MATCH(Tabulka!$AI68,Přehled_body!$A$3:$A$130,0),MATCH(Tabulka!W$2,Přehled_body!$E$1:$ED$1,0)),)=0,0.00000000001,IFERROR(INDEX(Přehled_body!$E$3:$ED$130,MATCH(Tabulka!$AI68,Přehled_body!$A$3:$A$130,0),MATCH(Tabulka!W$2,Přehled_body!$E$1:$ED$1,0)),)))","v":0},{"$f":"IF(IFERROR(INDEX(Přehled_body!$E$3:$ED$130,MATCH(Tabulka!$AI68,Přehled_body!$A$3:$A$130,0),MATCH(Tabulka!X$2,Přehled_body!$E$1:$ED$1,0)),)=\"\",,IF(IFERROR(INDEX(Přehled_body!$E$3:$ED$130,MATCH(Tabulka!$AI68,Přehled_body!$A$3:$A$130,0),MATCH(Tabulka!X$2,Přehled_body!$E$1:$ED$1,0)),)=0,0.00000000001,IFERROR(INDEX(Přehled_body!$E$3:$ED$130,MATCH(Tabulka!$AI68,Přehled_body!$A$3:$A$130,0),MATCH(Tabulka!X$2,Přehled_body!$E$1:$ED$1,0)),)))","v":0},{"$f":"IF(IFERROR(INDEX(Přehled_body!$E$3:$ED$130,MATCH(Tabulka!$AI68,Přehled_body!$A$3:$A$130,0),MATCH(Tabulka!Y$2,Přehled_body!$E$1:$ED$1,0)),)=\"\",,IF(IFERROR(INDEX(Přehled_body!$E$3:$ED$130,MATCH(Tabulka!$AI68,Přehled_body!$A$3:$A$130,0),MATCH(Tabulka!Y$2,Přehled_body!$E$1:$ED$1,0)),)=0,0.00000000001,IFERROR(INDEX(Přehled_body!$E$3:$ED$130,MATCH(Tabulka!$AI68,Přehled_body!$A$3:$A$130,0),MATCH(Tabulka!Y$2,Přehled_body!$E$1:$ED$1,0)),)))","v":0},{"$f":"IF(IFERROR(INDEX(Přehled_body!$E$3:$ED$130,MATCH(Tabulka!$AI68,Přehled_body!$A$3:$A$130,0),MATCH(Tabulka!Z$2,Přehled_body!$E$1:$ED$1,0)),)=\"\",,IF(IFERROR(INDEX(Přehled_body!$E$3:$ED$130,MATCH(Tabulka!$AI68,Přehled_body!$A$3:$A$130,0),MATCH(Tabulka!Z$2,Přehled_body!$E$1:$ED$1,0)),)=0,0.00000000001,IFERROR(INDEX(Přehled_body!$E$3:$ED$130,MATCH(Tabulka!$AI68,Přehled_body!$A$3:$A$130,0),MATCH(Tabulka!Z$2,Přehled_body!$E$1:$ED$1,0)),)))","v":0},{"$f":"IF(IFERROR(INDEX(Přehled_body!$E$3:$ED$130,MATCH(Tabulka!$AI68,Přehled_body!$A$3:$A$130,0),MATCH(Tabulka!AA$2,Přehled_body!$E$1:$ED$1,0)),)=\"\",,IF(IFERROR(INDEX(Přehled_body!$E$3:$ED$130,MATCH(Tabulka!$AI68,Přehled_body!$A$3:$A$130,0),MATCH(Tabulka!AA$2,Přehled_body!$E$1:$ED$1,0)),)=0,0.00000000001,IFERROR(INDEX(Přehled_body!$E$3:$ED$130,MATCH(Tabulka!$AI68,Přehled_body!$A$3:$A$130,0),MATCH(Tabulka!AA$2,Přehled_body!$E$1:$ED$1,0)),)))","v":0},{"$f":"IF(IFERROR(INDEX(Přehled_body!$E$3:$ED$130,MATCH(Tabulka!$AI68,Přehled_body!$A$3:$A$130,0),MATCH(Tabulka!AB$2,Přehled_body!$E$1:$ED$1,0)),)=\"\",,IF(IFERROR(INDEX(Přehled_body!$E$3:$ED$130,MATCH(Tabulka!$AI68,Přehled_body!$A$3:$A$130,0),MATCH(Tabulka!AB$2,Přehled_body!$E$1:$ED$1,0)),)=0,0.00000000001,IFERROR(INDEX(Přehled_body!$E$3:$ED$130,MATCH(Tabulka!$AI68,Přehled_body!$A$3:$A$130,0),MATCH(Tabulka!AB$2,Přehled_body!$E$1:$ED$1,0)),)))","v":0},{"$f":"IF(IFERROR(INDEX(Přehled_body!$E$3:$ED$130,MATCH(Tabulka!$AI68,Přehled_body!$A$3:$A$130,0),MATCH(Tabulka!AC$2,Přehled_body!$E$1:$ED$1,0)),)=\"\",,IF(IFERROR(INDEX(Přehled_body!$E$3:$ED$130,MATCH(Tabulka!$AI68,Přehled_body!$A$3:$A$130,0),MATCH(Tabulka!AC$2,Přehled_body!$E$1:$ED$1,0)),)=0,0.00000000001,IFERROR(INDEX(Přehled_body!$E$3:$ED$130,MATCH(Tabulka!$AI68,Přehled_body!$A$3:$A$130,0),MATCH(Tabulka!AC$2,Přehled_body!$E$1:$ED$1,0)),)))","v":0},{"$f":"IF(IFERROR(INDEX(Přehled_body!$E$3:$ED$130,MATCH(Tabulka!$AI68,Přehled_body!$A$3:$A$130,0),MATCH(Tabulka!AD$2,Přehled_body!$E$1:$ED$1,0)),)=\"\",,IF(IFERROR(INDEX(Přehled_body!$E$3:$ED$130,MATCH(Tabulka!$AI68,Přehled_body!$A$3:$A$130,0),MATCH(Tabulka!AD$2,Přehled_body!$E$1:$ED$1,0)),)=0,0.00000000001,IFERROR(INDEX(Přehled_body!$E$3:$ED$130,MATCH(Tabulka!$AI68,Přehled_body!$A$3:$A$130,0),MATCH(Tabulka!AD$2,Přehled_body!$E$1:$ED$1,0)),)))","v":0},{"$f":"IF(SUM($D$64:$AD$68)<1,-90000,SUM(D68:AD68))","v":4},null,null,null,{"$f":"CONCATENATE($B$65,\" \",$B$66,C68)","v":"Ostatní hráčiPoč. kol"}]
[null,null,"Výhry",{"$f":"IF(IFERROR(INDEX(Přehled_body!$E$3:$ED$130,MATCH(Tabulka!$AI69,Přehled_body!$A$3:$A$130,0),MATCH(Tabulka!D$2,Přehled_body!$E$1:$ED$1,0)),)=\"\",,IF(IFERROR(INDEX(Přehled_body!$E$3:$ED$130,MATCH(Tabulka!$AI69,Přehled_body!$A$3:$A$130,0),MATCH(Tabulka!D$2,Přehled_body!$E$1:$ED$1,0)),)=0,0.00000000001,IFERROR(INDEX(Přehled_body!$E$3:$ED$130,MATCH(Tabulka!$AI69,Přehled_body!$A$3:$A$130,0),MATCH(Tabulka!D$2,Přehled_body!$E$1:$ED$1,0)),)))","v":0},{"$f":"IF(IFERROR(INDEX(Přehled_body!$E$3:$ED$130,MATCH(Tabulka!$AI69,Přehled_body!$A$3:$A$130,0),MATCH(Tabulka!E$2,Přehled_body!$E$1:$ED$1,0)),)=\"\",,IF(IFERROR(INDEX(Přehled_body!$E$3:$ED$130,MATCH(Tabulka!$AI69,Přehled_body!$A$3:$A$130,0),MATCH(Tabulka!E$2,Přehled_body!$E$1:$ED$1,0)),)=0,0.00000000001,IFERROR(INDEX(Přehled_body!$E$3:$ED$130,MATCH(Tabulka!$AI69,Přehled_body!$A$3:$A$130,0),MATCH(Tabulka!E$2,Přehled_body!$E$1:$ED$1,0)),)))","v":0},{"$f":"IF(IFERROR(INDEX(Přehled_body!$E$3:$ED$130,MATCH(Tabulka!$AI69,Přehled_body!$A$3:$A$130,0),MATCH(Tabulka!F$2,Přehled_body!$E$1:$ED$1,0)),)=\"\",,IF(IFERROR(INDEX(Přehled_body!$E$3:$ED$130,MATCH(Tabulka!$AI69,Přehled_body!$A$3:$A$130,0),MATCH(Tabulka!F$2,Přehled_body!$E$1:$ED$1,0)),)=0,0.00000000001,IFERROR(INDEX(Přehled_body!$E$3:$ED$130,MATCH(Tabulka!$AI69,Přehled_body!$A$3:$A$130,0),MATCH(Tabulka!F$2,Přehled_body!$E$1:$ED$1,0)),)))","v":0},{"$f":"IF(IFERROR(INDEX(Přehled_body!$E$3:$ED$130,MATCH(Tabulka!$AI69,Přehled_body!$A$3:$A$130,0),MATCH(Tabulka!G$2,Přehled_body!$E$1:$ED$1,0)),)=\"\",,IF(IFERROR(INDEX(Přehled_body!$E$3:$ED$130,MATCH(Tabulka!$AI69,Přehled_body!$A$3:$A$130,0),MATCH(Tabulka!G$2,Přehled_body!$E$1:$ED$1,0)),)=0,0.00000000001,IFERROR(INDEX(Přehled_body!$E$3:$ED$130,MATCH(Tabulka!$AI69,Přehled_body!$A$3:$A$130,0),MATCH(Tabulka!G$2,Přehled_body!$E$1:$ED$1,0)),)))","v":0},{"$f":"IF(IFERROR(INDEX(Přehled_body!$E$3:$ED$130,MATCH(Tabulka!$AI69,Přehled_body!$A$3:$A$130,0),MATCH(Tabulka!H$2,Přehled_body!$E$1:$ED$1,0)),)=\"\",,IF(IFERROR(INDEX(Přehled_body!$E$3:$ED$130,MATCH(Tabulka!$AI69,Přehled_body!$A$3:$A$130,0),MATCH(Tabulka!H$2,Přehled_body!$E$1:$ED$1,0)),)=0,0.00000000001,IFERROR(INDEX(Přehled_body!$E$3:$ED$130,MATCH(Tabulka!$AI69,Přehled_body!$A$3:$A$130,0),MATCH(Tabulka!H$2,Přehled_body!$E$1:$ED$1,0)),)))","v":0},{"$f":"IF(IFERROR(INDEX(Přehled_body!$E$3:$ED$130,MATCH(Tabulka!$AI69,Přehled_body!$A$3:$A$130,0),MATCH(Tabulka!I$2,Přehled_body!$E$1:$ED$1,0)),)=\"\",,IF(IFERROR(INDEX(Přehled_body!$E$3:$ED$130,MATCH(Tabulka!$AI69,Přehled_body!$A$3:$A$130,0),MATCH(Tabulka!I$2,Přehled_body!$E$1:$ED$1,0)),)=0,0.00000000001,IFERROR(INDEX(Přehled_body!$E$3:$ED$130,MATCH(Tabulka!$AI69,Přehled_body!$A$3:$A$130,0),MATCH(Tabulka!I$2,Přehled_body!$E$1:$ED$1,0)),)))","v":0},{"$f":"IF(IFERROR(INDEX(Přehled_body!$E$3:$ED$130,MATCH(Tabulka!$AI69,Přehled_body!$A$3:$A$130,0),MATCH(Tabulka!J$2,Přehled_body!$E$1:$ED$1,0)),)=\"\",,IF(IFERROR(INDEX(Přehled_body!$E$3:$ED$130,MATCH(Tabulka!$AI69,Přehled_body!$A$3:$A$130,0),MATCH(Tabulka!J$2,Přehled_body!$E$1:$ED$1,0)),)=0,0.00000000001,IFERROR(INDEX(Přehled_body!$E$3:$ED$130,MATCH(Tabulka!$AI69,Přehled_body!$A$3:$A$130,0),MATCH(Tabulka!J$2,Přehled_body!$E$1:$ED$1,0)),)))","v":0},{"$f":"IF(IFERROR(INDEX(Přehled_body!$E$3:$ED$130,MATCH(Tabulka!$AI69,Přehled_body!$A$3:$A$130,0),MATCH(Tabulka!K$2,Přehled_body!$E$1:$ED$1,0)),)=\"\",,IF(IFERROR(INDEX(Přehled_body!$E$3:$ED$130,MATCH(Tabulka!$AI69,Přehled_body!$A$3:$A$130,0),MATCH(Tabulka!K$2,Přehled_body!$E$1:$ED$1,0)),)=0,0.00000000001,IFERROR(INDEX(Přehled_body!$E$3:$ED$130,MATCH(Tabulka!$AI69,Přehled_body!$A$3:$A$130,0),MATCH(Tabulka!K$2,Přehled_body!$E$1:$ED$1,0)),)))","v":0},{"$f":"IF(IFERROR(INDEX(Přehled_body!$E$3:$ED$130,MATCH(Tabulka!$AI69,Přehled_body!$A$3:$A$130,0),MATCH(Tabulka!L$2,Přehled_body!$E$1:$ED$1,0)),)=\"\",,IF(IFERROR(INDEX(Přehled_body!$E$3:$ED$130,MATCH(Tabulka!$AI69,Přehled_body!$A$3:$A$130,0),MATCH(Tabulka!L$2,Přehled_body!$E$1:$ED$1,0)),)=0,0.00000000001,IFERROR(INDEX(Přehled_body!$E$3:$ED$130,MATCH(Tabulka!$AI69,Přehled_body!$A$3:$A$130,0),MATCH(Tabulka!L$2,Přehled_body!$E$1:$ED$1,0)),)))","v":0},{"$f":"IF(IFERROR(INDEX(Přehled_body!$E$3:$ED$130,MATCH(Tabulka!$AI69,Přehled_body!$A$3:$A$130,0),MATCH(Tabulka!M$2,Přehled_body!$E$1:$ED$1,0)),)=\"\",,IF(IFERROR(INDEX(Přehled_body!$E$3:$ED$130,MATCH(Tabulka!$AI69,Přehled_body!$A$3:$A$130,0),MATCH(Tabulka!M$2,Přehled_body!$E$1:$ED$1,0)),)=0,0.00000000001,IFERROR(INDEX(Přehled_body!$E$3:$ED$130,MATCH(Tabulka!$AI69,Přehled_body!$A$3:$A$130,0),MATCH(Tabulka!M$2,Přehled_body!$E$1:$ED$1,0)),)))","v":0},{"$f":"IF(IFERROR(INDEX(Přehled_body!$E$3:$ED$130,MATCH(Tabulka!$AI69,Přehled_body!$A$3:$A$130,0),MATCH(Tabulka!N$2,Přehled_body!$E$1:$ED$1,0)),)=\"\",,IF(IFERROR(INDEX(Přehled_body!$E$3:$ED$130,MATCH(Tabulka!$AI69,Přehled_body!$A$3:$A$130,0),MATCH(Tabulka!N$2,Přehled_body!$E$1:$ED$1,0)),)=0,0.00000000001,IFERROR(INDEX(Přehled_body!$E$3:$ED$130,MATCH(Tabulka!$AI69,Přehled_body!$A$3:$A$130,0),MATCH(Tabulka!N$2,Přehled_body!$E$1:$ED$1,0)),)))","v":0},{"$f":"IF(IFERROR(INDEX(Přehled_body!$E$3:$ED$130,MATCH(Tabulka!$AI69,Přehled_body!$A$3:$A$130,0),MATCH(Tabulka!O$2,Přehled_body!$E$1:$ED$1,0)),)=\"\",,IF(IFERROR(INDEX(Přehled_body!$E$3:$ED$130,MATCH(Tabulka!$AI69,Přehled_body!$A$3:$A$130,0),MATCH(Tabulka!O$2,Přehled_body!$E$1:$ED$1,0)),)=0,0.00000000001,IFERROR(INDEX(Přehled_body!$E$3:$ED$130,MATCH(Tabulka!$AI69,Přehled_body!$A$3:$A$130,0),MATCH(Tabulka!O$2,Přehled_body!$E$1:$ED$1,0)),)))","v":0},{"$f":"IF(IFERROR(INDEX(Přehled_body!$E$3:$ED$130,MATCH(Tabulka!$AI69,Přehled_body!$A$3:$A$130,0),MATCH(Tabulka!P$2,Přehled_body!$E$1:$ED$1,0)),)=\"\",,IF(IFERROR(INDEX(Přehled_body!$E$3:$ED$130,MATCH(Tabulka!$AI69,Přehled_body!$A$3:$A$130,0),MATCH(Tabulka!P$2,Přehled_body!$E$1:$ED$1,0)),)=0,0.00000000001,IFERROR(INDEX(Přehled_body!$E$3:$ED$130,MATCH(Tabulka!$AI69,Přehled_body!$A$3:$A$130,0),MATCH(Tabulka!P$2,Přehled_body!$E$1:$ED$1,0)),)))","v":0},{"$f":"IF(IFERROR(INDEX(Přehled_body!$E$3:$ED$130,MATCH(Tabulka!$AI69,Přehled_body!$A$3:$A$130,0),MATCH(Tabulka!Q$2,Přehled_body!$E$1:$ED$1,0)),)=\"\",,IF(IFERROR(INDEX(Přehled_body!$E$3:$ED$130,MATCH(Tabulka!$AI69,Přehled_body!$A$3:$A$130,0),MATCH(Tabulka!Q$2,Přehled_body!$E$1:$ED$1,0)),)=0,0.00000000001,IFERROR(INDEX(Přehled_body!$E$3:$ED$130,MATCH(Tabulka!$AI69,Přehled_body!$A$3:$A$130,0),MATCH(Tabulka!Q$2,Přehled_body!$E$1:$ED$1,0)),)))","v":0},{"$f":"IF(IFERROR(INDEX(Přehled_body!$E$3:$ED$130,MATCH(Tabulka!$AI69,Přehled_body!$A$3:$A$130,0),MATCH(Tabulka!R$2,Přehled_body!$E$1:$ED$1,0)),)=\"\",,IF(IFERROR(INDEX(Přehled_body!$E$3:$ED$130,MATCH(Tabulka!$AI69,Přehled_body!$A$3:$A$130,0),MATCH(Tabulka!R$2,Přehled_body!$E$1:$ED$1,0)),)=0,0.00000000001,IFERROR(INDEX(Přehled_body!$E$3:$ED$130,MATCH(Tabulka!$AI69,Přehled_body!$A$3:$A$130,0),MATCH(Tabulka!R$2,Přehled_body!$E$1:$ED$1,0)),)))","v":0},{"$f":"IF(IFERROR(INDEX(Přehled_body!$E$3:$ED$130,MATCH(Tabulka!$AI69,Přehled_body!$A$3:$A$130,0),MATCH(Tabulka!S$2,Přehled_body!$E$1:$ED$1,0)),)=\"\",,IF(IFERROR(INDEX(Přehled_body!$E$3:$ED$130,MATCH(Tabulka!$AI69,Přehled_body!$A$3:$A$130,0),MATCH(Tabulka!S$2,Přehled_body!$E$1:$ED$1,0)),)=0,0.00000000001,IFERROR(INDEX(Přehled_body!$E$3:$ED$130,MATCH(Tabulka!$AI69,Přehled_body!$A$3:$A$130,0),MATCH(Tabulka!S$2,Přehled_body!$E$1:$ED$1,0)),)))","v":0},{"$f":"IF(IFERROR(INDEX(Přehled_body!$E$3:$ED$130,MATCH(Tabulka!$AI69,Přehled_body!$A$3:$A$130,0),MATCH(Tabulka!T$2,Přehled_body!$E$1:$ED$1,0)),)=\"\",,IF(IFERROR(INDEX(Přehled_body!$E$3:$ED$130,MATCH(Tabulka!$AI69,Přehled_body!$A$3:$A$130,0),MATCH(Tabulka!T$2,Přehled_body!$E$1:$ED$1,0)),)=0,0.00000000001,IFERROR(INDEX(Přehled_body!$E$3:$ED$130,MATCH(Tabulka!$AI69,Přehled_body!$A$3:$A$130,0),MATCH(Tabulka!T$2,Přehled_body!$E$1:$ED$1,0)),)))","v":0},{"$f":"IF(IFERROR(INDEX(Přehled_body!$E$3:$ED$130,MATCH(Tabulka!$AI69,Přehled_body!$A$3:$A$130,0),MATCH(Tabulka!U$2,Přehled_body!$E$1:$ED$1,0)),)=\"\",,IF(IFERROR(INDEX(Přehled_body!$E$3:$ED$130,MATCH(Tabulka!$AI69,Přehled_body!$A$3:$A$130,0),MATCH(Tabulka!U$2,Přehled_body!$E$1:$ED$1,0)),)=0,0.00000000001,IFERROR(INDEX(Přehled_body!$E$3:$ED$130,MATCH(Tabulka!$AI69,Přehled_body!$A$3:$A$130,0),MATCH(Tabulka!U$2,Přehled_body!$E$1:$ED$1,0)),)))","v":0},{"$f":"IF(IFERROR(INDEX(Přehled_body!$E$3:$ED$130,MATCH(Tabulka!$AI69,Přehled_body!$A$3:$A$130,0),MATCH(Tabulka!V$2,Přehled_body!$E$1:$ED$1,0)),)=\"\",,IF(IFERROR(INDEX(Přehled_body!$E$3:$ED$130,MATCH(Tabulka!$AI69,Přehled_body!$A$3:$A$130,0),MATCH(Tabulka!V$2,Přehled_body!$E$1:$ED$1,0)),)=0,0.00000000001,IFERROR(INDEX(Přehled_body!$E$3:$ED$130,MATCH(Tabulka!$AI69,Přehled_body!$A$3:$A$130,0),MATCH(Tabulka!V$2,Přehled_body!$E$1:$ED$1,0)),)))","v":0},{"$f":"IF(IFERROR(INDEX(Přehled_body!$E$3:$ED$130,MATCH(Tabulka!$AI69,Přehled_body!$A$3:$A$130,0),MATCH(Tabulka!W$2,Přehled_body!$E$1:$ED$1,0)),)=\"\",,IF(IFERROR(INDEX(Přehled_body!$E$3:$ED$130,MATCH(Tabulka!$AI69,Přehled_body!$A$3:$A$130,0),MATCH(Tabulka!W$2,Přehled_body!$E$1:$ED$1,0)),)=0,0.00000000001,IFERROR(INDEX(Přehled_body!$E$3:$ED$130,MATCH(Tabulka!$AI69,Přehled_body!$A$3:$A$130,0),MATCH(Tabulka!W$2,Přehled_body!$E$1:$ED$1,0)),)))","v":0},{"$f":"IF(IFERROR(INDEX(Přehled_body!$E$3:$ED$130,MATCH(Tabulka!$AI69,Přehled_body!$A$3:$A$130,0),MATCH(Tabulka!X$2,Přehled_body!$E$1:$ED$1,0)),)=\"\",,IF(IFERROR(INDEX(Přehled_body!$E$3:$ED$130,MATCH(Tabulka!$AI69,Přehled_body!$A$3:$A$130,0),MATCH(Tabulka!X$2,Přehled_body!$E$1:$ED$1,0)),)=0,0.00000000001,IFERROR(INDEX(Přehled_body!$E$3:$ED$130,MATCH(Tabulka!$AI69,Přehled_body!$A$3:$A$130,0),MATCH(Tabulka!X$2,Přehled_body!$E$1:$ED$1,0)),)))","v":0},{"$f":"IF(IFERROR(INDEX(Přehled_body!$E$3:$ED$130,MATCH(Tabulka!$AI69,Přehled_body!$A$3:$A$130,0),MATCH(Tabulka!Y$2,Přehled_body!$E$1:$ED$1,0)),)=\"\",,IF(IFERROR(INDEX(Přehled_body!$E$3:$ED$130,MATCH(Tabulka!$AI69,Přehled_body!$A$3:$A$130,0),MATCH(Tabulka!Y$2,Přehled_body!$E$1:$ED$1,0)),)=0,0.00000000001,IFERROR(INDEX(Přehled_body!$E$3:$ED$130,MATCH(Tabulka!$AI69,Přehled_body!$A$3:$A$130,0),MATCH(Tabulka!Y$2,Přehled_body!$E$1:$ED$1,0)),)))","v":0},{"$f":"IF(IFERROR(INDEX(Přehled_body!$E$3:$ED$130,MATCH(Tabulka!$AI69,Přehled_body!$A$3:$A$130,0),MATCH(Tabulka!Z$2,Přehled_body!$E$1:$ED$1,0)),)=\"\",,IF(IFERROR(INDEX(Přehled_body!$E$3:$ED$130,MATCH(Tabulka!$AI69,Přehled_body!$A$3:$A$130,0),MATCH(Tabulka!Z$2,Přehled_body!$E$1:$ED$1,0)),)=0,0.00000000001,IFERROR(INDEX(Přehled_body!$E$3:$ED$130,MATCH(Tabulka!$AI69,Přehled_body!$A$3:$A$130,0),MATCH(Tabulka!Z$2,Přehled_body!$E$1:$ED$1,0)),)))","v":0},{"$f":"IF(IFERROR(INDEX(Přehled_body!$E$3:$ED$130,MATCH(Tabulka!$AI69,Přehled_body!$A$3:$A$130,0),MATCH(Tabulka!AA$2,Přehled_body!$E$1:$ED$1,0)),)=\"\",,IF(IFERROR(INDEX(Přehled_body!$E$3:$ED$130,MATCH(Tabulka!$AI69,Přehled_body!$A$3:$A$130,0),MATCH(Tabulka!AA$2,Přehled_body!$E$1:$ED$1,0)),)=0,0.00000000001,IFERROR(INDEX(Přehled_body!$E$3:$ED$130,MATCH(Tabulka!$AI69,Přehled_body!$A$3:$A$130,0),MATCH(Tabulka!AA$2,Přehled_body!$E$1:$ED$1,0)),)))","v":0},{"$f":"IF(IFERROR(INDEX(Přehled_body!$E$3:$ED$130,MATCH(Tabulka!$AI69,Přehled_body!$A$3:$A$130,0),MATCH(Tabulka!AB$2,Přehled_body!$E$1:$ED$1,0)),)=\"\",,IF(IFERROR(INDEX(Přehled_body!$E$3:$ED$130,MATCH(Tabulka!$AI69,Přehled_body!$A$3:$A$130,0),MATCH(Tabulka!AB$2,Přehled_body!$E$1:$ED$1,0)),)=0,0.00000000001,IFERROR(INDEX(Přehled_body!$E$3:$ED$130,MATCH(Tabulka!$AI69,Přehled_body!$A$3:$A$130,0),MATCH(Tabulka!AB$2,Přehled_body!$E$1:$ED$1,0)),)))","v":0},{"$f":"IF(IFERROR(INDEX(Přehled_body!$E$3:$ED$130,MATCH(Tabulka!$AI69,Přehled_body!$A$3:$A$130,0),MATCH(Tabulka!AC$2,Přehled_body!$E$1:$ED$1,0)),)=\"\",,IF(IFERROR(INDEX(Přehled_body!$E$3:$ED$130,MATCH(Tabulka!$AI69,Přehled_body!$A$3:$A$130,0),MATCH(Tabulka!AC$2,Přehled_body!$E$1:$ED$1,0)),)=0,0.00000000001,IFERROR(INDEX(Přehled_body!$E$3:$ED$130,MATCH(Tabulka!$AI69,Přehled_body!$A$3:$A$130,0),MATCH(Tabulka!AC$2,Přehled_body!$E$1:$ED$1,0)),)))","v":0},{"$f":"IF(IFERROR(INDEX(Přehled_body!$E$3:$ED$130,MATCH(Tabulka!$AI69,Přehled_body!$A$3:$A$130,0),MATCH(Tabulka!AD$2,Přehled_body!$E$1:$ED$1,0)),)=\"\",,IF(IFERROR(INDEX(Přehled_body!$E$3:$ED$130,MATCH(Tabulka!$AI69,Přehled_body!$A$3:$A$130,0),MATCH(Tabulka!AD$2,Přehled_body!$E$1:$ED$1,0)),)=0,0.00000000001,IFERROR(INDEX(Přehled_body!$E$3:$ED$130,MATCH(Tabulka!$AI69,Přehled_body!$A$3:$A$130,0),MATCH(Tabulka!AD$2,Přehled_body!$E$1:$ED$1,0)),)))","v":0},{"$f":"IF(SUM($D$69:$AD$73)<1,-90000,SUM(D69:AD69))","v":-90000},null,{"$f":"COUNTIF(D69:AD69,\">0\")","v":0},null,{"$f":"CONCATENATE($B$70,\" \",$B$71,C69)","v":"Míra KulhanVýhry"}]
[{"$f":"CONCATENATE(B70,\" \",B71)","v":"Míra Kulhan"},"Míra","Prohry",{"$f":"IF(IFERROR(INDEX(Přehled_body!$E$3:$ED$130,MATCH(Tabulka!$AI70,Přehled_body!$A$3:$A$130,0),MATCH(Tabulka!D$2,Přehled_body!$E$1:$ED$1,0)),)=\"\",,IF(IFERROR(INDEX(Přehled_body!$E$3:$ED$130,MATCH(Tabulka!$AI70,Přehled_body!$A$3:$A$130,0),MATCH(Tabulka!D$2,Přehled_body!$E$1:$ED$1,0)),)=0,0.00000000001,IFERROR(INDEX(Přehled_body!$E$3:$ED$130,MATCH(Tabulka!$AI70,Přehled_body!$A$3:$A$130,0),MATCH(Tabulka!D$2,Přehled_body!$E$1:$ED$1,0)),)))","v":0},{"$f":"IF(IFERROR(INDEX(Přehled_body!$E$3:$ED$130,MATCH(Tabulka!$AI70,Přehled_body!$A$3:$A$130,0),MATCH(Tabulka!E$2,Přehled_body!$E$1:$ED$1,0)),)=\"\",,IF(IFERROR(INDEX(Přehled_body!$E$3:$ED$130,MATCH(Tabulka!$AI70,Přehled_body!$A$3:$A$130,0),MATCH(Tabulka!E$2,Přehled_body!$E$1:$ED$1,0)),)=0,0.00000000001,IFERROR(INDEX(Přehled_body!$E$3:$ED$130,MATCH(Tabulka!$AI70,Přehled_body!$A$3:$A$130,0),MATCH(Tabulka!E$2,Přehled_body!$E$1:$ED$1,0)),)))","v":0},{"$f":"IF(IFERROR(INDEX(Přehled_body!$E$3:$ED$130,MATCH(Tabulka!$AI70,Přehled_body!$A$3:$A$130,0),MATCH(Tabulka!F$2,Přehled_body!$E$1:$ED$1,0)),)=\"\",,IF(IFERROR(INDEX(Přehled_body!$E$3:$ED$130,MATCH(Tabulka!$AI70,Přehled_body!$A$3:$A$130,0),MATCH(Tabulka!F$2,Přehled_body!$E$1:$ED$1,0)),)=0,0.00000000001,IFERROR(INDEX(Přehled_body!$E$3:$ED$130,MATCH(Tabulka!$AI70,Přehled_body!$A$3:$A$130,0),MATCH(Tabulka!F$2,Přehled_body!$E$1:$ED$1,0)),)))","v":0},{"$f":"IF(IFERROR(INDEX(Přehled_body!$E$3:$ED$130,MATCH(Tabulka!$AI70,Přehled_body!$A$3:$A$130,0),MATCH(Tabulka!G$2,Přehled_body!$E$1:$ED$1,0)),)=\"\",,IF(IFERROR(INDEX(Přehled_body!$E$3:$ED$130,MATCH(Tabulka!$AI70,Přehled_body!$A$3:$A$130,0),MATCH(Tabulka!G$2,Přehled_body!$E$1:$ED$1,0)),)=0,0.00000000001,IFERROR(INDEX(Přehled_body!$E$3:$ED$130,MATCH(Tabulka!$AI70,Přehled_body!$A$3:$A$130,0),MATCH(Tabulka!G$2,Přehled_body!$E$1:$ED$1,0)),)))","v":0},{"$f":"IF(IFERROR(INDEX(Přehled_body!$E$3:$ED$130,MATCH(Tabulka!$AI70,Přehled_body!$A$3:$A$130,0),MATCH(Tabulka!H$2,Přehled_body!$E$1:$ED$1,0)),)=\"\",,IF(IFERROR(INDEX(Přehled_body!$E$3:$ED$130,MATCH(Tabulka!$AI70,Přehled_body!$A$3:$A$130,0),MATCH(Tabulka!H$2,Přehled_body!$E$1:$ED$1,0)),)=0,0.00000000001,IFERROR(INDEX(Přehled_body!$E$3:$ED$130,MATCH(Tabulka!$AI70,Přehled_body!$A$3:$A$130,0),MATCH(Tabulka!H$2,Přehled_body!$E$1:$ED$1,0)),)))","v":0},{"$f":"IF(IFERROR(INDEX(Přehled_body!$E$3:$ED$130,MATCH(Tabulka!$AI70,Přehled_body!$A$3:$A$130,0),MATCH(Tabulka!I$2,Přehled_body!$E$1:$ED$1,0)),)=\"\",,IF(IFERROR(INDEX(Přehled_body!$E$3:$ED$130,MATCH(Tabulka!$AI70,Přehled_body!$A$3:$A$130,0),MATCH(Tabulka!I$2,Přehled_body!$E$1:$ED$1,0)),)=0,0.00000000001,IFERROR(INDEX(Přehled_body!$E$3:$ED$130,MATCH(Tabulka!$AI70,Přehled_body!$A$3:$A$130,0),MATCH(Tabulka!I$2,Přehled_body!$E$1:$ED$1,0)),)))","v":0},{"$f":"IF(IFERROR(INDEX(Přehled_body!$E$3:$ED$130,MATCH(Tabulka!$AI70,Přehled_body!$A$3:$A$130,0),MATCH(Tabulka!J$2,Přehled_body!$E$1:$ED$1,0)),)=\"\",,IF(IFERROR(INDEX(Přehled_body!$E$3:$ED$130,MATCH(Tabulka!$AI70,Přehled_body!$A$3:$A$130,0),MATCH(Tabulka!J$2,Přehled_body!$E$1:$ED$1,0)),)=0,0.00000000001,IFERROR(INDEX(Přehled_body!$E$3:$ED$130,MATCH(Tabulka!$AI70,Přehled_body!$A$3:$A$130,0),MATCH(Tabulka!J$2,Přehled_body!$E$1:$ED$1,0)),)))","v":0},{"$f":"IF(IFERROR(INDEX(Přehled_body!$E$3:$ED$130,MATCH(Tabulka!$AI70,Přehled_body!$A$3:$A$130,0),MATCH(Tabulka!K$2,Přehled_body!$E$1:$ED$1,0)),)=\"\",,IF(IFERROR(INDEX(Přehled_body!$E$3:$ED$130,MATCH(Tabulka!$AI70,Přehled_body!$A$3:$A$130,0),MATCH(Tabulka!K$2,Přehled_body!$E$1:$ED$1,0)),)=0,0.00000000001,IFERROR(INDEX(Přehled_body!$E$3:$ED$130,MATCH(Tabulka!$AI70,Přehled_body!$A$3:$A$130,0),MATCH(Tabulka!K$2,Přehled_body!$E$1:$ED$1,0)),)))","v":0},{"$f":"IF(IFERROR(INDEX(Přehled_body!$E$3:$ED$130,MATCH(Tabulka!$AI70,Přehled_body!$A$3:$A$130,0),MATCH(Tabulka!L$2,Přehled_body!$E$1:$ED$1,0)),)=\"\",,IF(IFERROR(INDEX(Přehled_body!$E$3:$ED$130,MATCH(Tabulka!$AI70,Přehled_body!$A$3:$A$130,0),MATCH(Tabulka!L$2,Přehled_body!$E$1:$ED$1,0)),)=0,0.00000000001,IFERROR(INDEX(Přehled_body!$E$3:$ED$130,MATCH(Tabulka!$AI70,Přehled_body!$A$3:$A$130,0),MATCH(Tabulka!L$2,Přehled_body!$E$1:$ED$1,0)),)))","v":0},{"$f":"IF(IFERROR(INDEX(Přehled_body!$E$3:$ED$130,MATCH(Tabulka!$AI70,Přehled_body!$A$3:$A$130,0),MATCH(Tabulka!M$2,Přehled_body!$E$1:$ED$1,0)),)=\"\",,IF(IFERROR(INDEX(Přehled_body!$E$3:$ED$130,MATCH(Tabulka!$AI70,Přehled_body!$A$3:$A$130,0),MATCH(Tabulka!M$2,Přehled_body!$E$1:$ED$1,0)),)=0,0.00000000001,IFERROR(INDEX(Přehled_body!$E$3:$ED$130,MATCH(Tabulka!$AI70,Přehled_body!$A$3:$A$130,0),MATCH(Tabulka!M$2,Přehled_body!$E$1:$ED$1,0)),)))","v":0},{"$f":"IF(IFERROR(INDEX(Přehled_body!$E$3:$ED$130,MATCH(Tabulka!$AI70,Přehled_body!$A$3:$A$130,0),MATCH(Tabulka!N$2,Přehled_body!$E$1:$ED$1,0)),)=\"\",,IF(IFERROR(INDEX(Přehled_body!$E$3:$ED$130,MATCH(Tabulka!$AI70,Přehled_body!$A$3:$A$130,0),MATCH(Tabulka!N$2,Přehled_body!$E$1:$ED$1,0)),)=0,0.00000000001,IFERROR(INDEX(Přehled_body!$E$3:$ED$130,MATCH(Tabulka!$AI70,Přehled_body!$A$3:$A$130,0),MATCH(Tabulka!N$2,Přehled_body!$E$1:$ED$1,0)),)))","v":0},{"$f":"IF(IFERROR(INDEX(Přehled_body!$E$3:$ED$130,MATCH(Tabulka!$AI70,Přehled_body!$A$3:$A$130,0),MATCH(Tabulka!O$2,Přehled_body!$E$1:$ED$1,0)),)=\"\",,IF(IFERROR(INDEX(Přehled_body!$E$3:$ED$130,MATCH(Tabulka!$AI70,Přehled_body!$A$3:$A$130,0),MATCH(Tabulka!O$2,Přehled_body!$E$1:$ED$1,0)),)=0,0.00000000001,IFERROR(INDEX(Přehled_body!$E$3:$ED$130,MATCH(Tabulka!$AI70,Přehled_body!$A$3:$A$130,0),MATCH(Tabulka!O$2,Přehled_body!$E$1:$ED$1,0)),)))","v":0},{"$f":"IF(IFERROR(INDEX(Přehled_body!$E$3:$ED$130,MATCH(Tabulka!$AI70,Přehled_body!$A$3:$A$130,0),MATCH(Tabulka!P$2,Přehled_body!$E$1:$ED$1,0)),)=\"\",,IF(IFERROR(INDEX(Přehled_body!$E$3:$ED$130,MATCH(Tabulka!$AI70,Přehled_body!$A$3:$A$130,0),MATCH(Tabulka!P$2,Přehled_body!$E$1:$ED$1,0)),)=0,0.00000000001,IFERROR(INDEX(Přehled_body!$E$3:$ED$130,MATCH(Tabulka!$AI70,Přehled_body!$A$3:$A$130,0),MATCH(Tabulka!P$2,Přehled_body!$E$1:$ED$1,0)),)))","v":0},{"$f":"IF(IFERROR(INDEX(Přehled_body!$E$3:$ED$130,MATCH(Tabulka!$AI70,Přehled_body!$A$3:$A$130,0),MATCH(Tabulka!Q$2,Přehled_body!$E$1:$ED$1,0)),)=\"\",,IF(IFERROR(INDEX(Přehled_body!$E$3:$ED$130,MATCH(Tabulka!$AI70,Přehled_body!$A$3:$A$130,0),MATCH(Tabulka!Q$2,Přehled_body!$E$1:$ED$1,0)),)=0,0.00000000001,IFERROR(INDEX(Přehled_body!$E$3:$ED$130,MATCH(Tabulka!$AI70,Přehled_body!$A$3:$A$130,0),MATCH(Tabulka!Q$2,Přehled_body!$E$1:$ED$1,0)),)))","v":0},{"$f":"IF(IFERROR(INDEX(Přehled_body!$E$3:$ED$130,MATCH(Tabulka!$AI70,Přehled_body!$A$3:$A$130,0),MATCH(Tabulka!R$2,Přehled_body!$E$1:$ED$1,0)),)=\"\",,IF(IFERROR(INDEX(Přehled_body!$E$3:$ED$130,MATCH(Tabulka!$AI70,Přehled_body!$A$3:$A$130,0),MATCH(Tabulka!R$2,Přehled_body!$E$1:$ED$1,0)),)=0,0.00000000001,IFERROR(INDEX(Přehled_body!$E$3:$ED$130,MATCH(Tabulka!$AI70,Přehled_body!$A$3:$A$130,0),MATCH(Tabulka!R$2,Přehled_body!$E$1:$ED$1,0)),)))","v":0},{"$f":"IF(IFERROR(INDEX(Přehled_body!$E$3:$ED$130,MATCH(Tabulka!$AI70,Přehled_body!$A$3:$A$130,0),MATCH(Tabulka!S$2,Přehled_body!$E$1:$ED$1,0)),)=\"\",,IF(IFERROR(INDEX(Přehled_body!$E$3:$ED$130,MATCH(Tabulka!$AI70,Přehled_body!$A$3:$A$130,0),MATCH(Tabulka!S$2,Přehled_body!$E$1:$ED$1,0)),)=0,0.00000000001,IFERROR(INDEX(Přehled_body!$E$3:$ED$130,MATCH(Tabulka!$AI70,Přehled_body!$A$3:$A$130,0),MATCH(Tabulka!S$2,Přehled_body!$E$1:$ED$1,0)),)))","v":0},{"$f":"IF(IFERROR(INDEX(Přehled_body!$E$3:$ED$130,MATCH(Tabulka!$AI70,Přehled_body!$A$3:$A$130,0),MATCH(Tabulka!T$2,Přehled_body!$E$1:$ED$1,0)),)=\"\",,IF(IFERROR(INDEX(Přehled_body!$E$3:$ED$130,MATCH(Tabulka!$AI70,Přehled_body!$A$3:$A$130,0),MATCH(Tabulka!T$2,Přehled_body!$E$1:$ED$1,0)),)=0,0.00000000001,IFERROR(INDEX(Přehled_body!$E$3:$ED$130,MATCH(Tabulka!$AI70,Přehled_body!$A$3:$A$130,0),MATCH(Tabulka!T$2,Přehled_body!$E$1:$ED$1,0)),)))","v":0},{"$f":"IF(IFERROR(INDEX(Přehled_body!$E$3:$ED$130,MATCH(Tabulka!$AI70,Přehled_body!$A$3:$A$130,0),MATCH(Tabulka!U$2,Přehled_body!$E$1:$ED$1,0)),)=\"\",,IF(IFERROR(INDEX(Přehled_body!$E$3:$ED$130,MATCH(Tabulka!$AI70,Přehled_body!$A$3:$A$130,0),MATCH(Tabulka!U$2,Přehled_body!$E$1:$ED$1,0)),)=0,0.00000000001,IFERROR(INDEX(Přehled_body!$E$3:$ED$130,MATCH(Tabulka!$AI70,Přehled_body!$A$3:$A$130,0),MATCH(Tabulka!U$2,Přehled_body!$E$1:$ED$1,0)),)))","v":0},{"$f":"IF(IFERROR(INDEX(Přehled_body!$E$3:$ED$130,MATCH(Tabulka!$AI70,Přehled_body!$A$3:$A$130,0),MATCH(Tabulka!V$2,Přehled_body!$E$1:$ED$1,0)),)=\"\",,IF(IFERROR(INDEX(Přehled_body!$E$3:$ED$130,MATCH(Tabulka!$AI70,Přehled_body!$A$3:$A$130,0),MATCH(Tabulka!V$2,Přehled_body!$E$1:$ED$1,0)),)=0,0.00000000001,IFERROR(INDEX(Přehled_body!$E$3:$ED$130,MATCH(Tabulka!$AI70,Přehled_body!$A$3:$A$130,0),MATCH(Tabulka!V$2,Přehled_body!$E$1:$ED$1,0)),)))","v":0},{"$f":"IF(IFERROR(INDEX(Přehled_body!$E$3:$ED$130,MATCH(Tabulka!$AI70,Přehled_body!$A$3:$A$130,0),MATCH(Tabulka!W$2,Přehled_body!$E$1:$ED$1,0)),)=\"\",,IF(IFERROR(INDEX(Přehled_body!$E$3:$ED$130,MATCH(Tabulka!$AI70,Přehled_body!$A$3:$A$130,0),MATCH(Tabulka!W$2,Přehled_body!$E$1:$ED$1,0)),)=0,0.00000000001,IFERROR(INDEX(Přehled_body!$E$3:$ED$130,MATCH(Tabulka!$AI70,Přehled_body!$A$3:$A$130,0),MATCH(Tabulka!W$2,Přehled_body!$E$1:$ED$1,0)),)))","v":0},{"$f":"IF(IFERROR(INDEX(Přehled_body!$E$3:$ED$130,MATCH(Tabulka!$AI70,Přehled_body!$A$3:$A$130,0),MATCH(Tabulka!X$2,Přehled_body!$E$1:$ED$1,0)),)=\"\",,IF(IFERROR(INDEX(Přehled_body!$E$3:$ED$130,MATCH(Tabulka!$AI70,Přehled_body!$A$3:$A$130,0),MATCH(Tabulka!X$2,Přehled_body!$E$1:$ED$1,0)),)=0,0.00000000001,IFERROR(INDEX(Přehled_body!$E$3:$ED$130,MATCH(Tabulka!$AI70,Přehled_body!$A$3:$A$130,0),MATCH(Tabulka!X$2,Přehled_body!$E$1:$ED$1,0)),)))","v":0},{"$f":"IF(IFERROR(INDEX(Přehled_body!$E$3:$ED$130,MATCH(Tabulka!$AI70,Přehled_body!$A$3:$A$130,0),MATCH(Tabulka!Y$2,Přehled_body!$E$1:$ED$1,0)),)=\"\",,IF(IFERROR(INDEX(Přehled_body!$E$3:$ED$130,MATCH(Tabulka!$AI70,Přehled_body!$A$3:$A$130,0),MATCH(Tabulka!Y$2,Přehled_body!$E$1:$ED$1,0)),)=0,0.00000000001,IFERROR(INDEX(Přehled_body!$E$3:$ED$130,MATCH(Tabulka!$AI70,Přehled_body!$A$3:$A$130,0),MATCH(Tabulka!Y$2,Přehled_body!$E$1:$ED$1,0)),)))","v":0},{"$f":"IF(IFERROR(INDEX(Přehled_body!$E$3:$ED$130,MATCH(Tabulka!$AI70,Přehled_body!$A$3:$A$130,0),MATCH(Tabulka!Z$2,Přehled_body!$E$1:$ED$1,0)),)=\"\",,IF(IFERROR(INDEX(Přehled_body!$E$3:$ED$130,MATCH(Tabulka!$AI70,Přehled_body!$A$3:$A$130,0),MATCH(Tabulka!Z$2,Přehled_body!$E$1:$ED$1,0)),)=0,0.00000000001,IFERROR(INDEX(Přehled_body!$E$3:$ED$130,MATCH(Tabulka!$AI70,Přehled_body!$A$3:$A$130,0),MATCH(Tabulka!Z$2,Přehled_body!$E$1:$ED$1,0)),)))","v":0},{"$f":"IF(IFERROR(INDEX(Přehled_body!$E$3:$ED$130,MATCH(Tabulka!$AI70,Přehled_body!$A$3:$A$130,0),MATCH(Tabulka!AA$2,Přehled_body!$E$1:$ED$1,0)),)=\"\",,IF(IFERROR(INDEX(Přehled_body!$E$3:$ED$130,MATCH(Tabulka!$AI70,Přehled_body!$A$3:$A$130,0),MATCH(Tabulka!AA$2,Přehled_body!$E$1:$ED$1,0)),)=0,0.00000000001,IFERROR(INDEX(Přehled_body!$E$3:$ED$130,MATCH(Tabulka!$AI70,Přehled_body!$A$3:$A$130,0),MATCH(Tabulka!AA$2,Přehled_body!$E$1:$ED$1,0)),)))","v":0},{"$f":"IF(IFERROR(INDEX(Přehled_body!$E$3:$ED$130,MATCH(Tabulka!$AI70,Přehled_body!$A$3:$A$130,0),MATCH(Tabulka!AB$2,Přehled_body!$E$1:$ED$1,0)),)=\"\",,IF(IFERROR(INDEX(Přehled_body!$E$3:$ED$130,MATCH(Tabulka!$AI70,Přehled_body!$A$3:$A$130,0),MATCH(Tabulka!AB$2,Přehled_body!$E$1:$ED$1,0)),)=0,0.00000000001,IFERROR(INDEX(Přehled_body!$E$3:$ED$130,MATCH(Tabulka!$AI70,Přehled_body!$A$3:$A$130,0),MATCH(Tabulka!AB$2,Přehled_body!$E$1:$ED$1,0)),)))","v":0},{"$f":"IF(IFERROR(INDEX(Přehled_body!$E$3:$ED$130,MATCH(Tabulka!$AI70,Přehled_body!$A$3:$A$130,0),MATCH(Tabulka!AC$2,Přehled_body!$E$1:$ED$1,0)),)=\"\",,IF(IFERROR(INDEX(Přehled_body!$E$3:$ED$130,MATCH(Tabulka!$AI70,Přehled_body!$A$3:$A$130,0),MATCH(Tabulka!AC$2,Přehled_body!$E$1:$ED$1,0)),)=0,0.00000000001,IFERROR(INDEX(Přehled_body!$E$3:$ED$130,MATCH(Tabulka!$AI70,Přehled_body!$A$3:$A$130,0),MATCH(Tabulka!AC$2,Přehled_body!$E$1:$ED$1,0)),)))","v":0},{"$f":"IF(IFERROR(INDEX(Přehled_body!$E$3:$ED$130,MATCH(Tabulka!$AI70,Přehled_body!$A$3:$A$130,0),MATCH(Tabulka!AD$2,Přehled_body!$E$1:$ED$1,0)),)=\"\",,IF(IFERROR(INDEX(Přehled_body!$E$3:$ED$130,MATCH(Tabulka!$AI70,Přehled_body!$A$3:$A$130,0),MATCH(Tabulka!AD$2,Přehled_body!$E$1:$ED$1,0)),)=0,0.00000000001,IFERROR(INDEX(Přehled_body!$E$3:$ED$130,MATCH(Tabulka!$AI70,Přehled_body!$A$3:$A$130,0),MATCH(Tabulka!AD$2,Přehled_body!$E$1:$ED$1,0)),)))","v":0},{"$f":"IF(SUM($D$69:$AD$73)<1,-90000,SUM(D70:AD70))","v":-90000},{"$f":"IF(AE73>0.9,SUM(AE69-AE70)+0.00000001,0)","v":0},null,null,{"$f":"CONCATENATE($B$70,\" \",$B$71,C70)","v":"Míra KulhanProhry"}]
[{"$f":"CONCATENATE(B71,\" \",B70)","v":"Kulhan Míra"},"Kulhan","Placeno panáků",{"$f":"IF(IFERROR(INDEX(Přehled_body!$E$3:$ED$130,MATCH(Tabulka!$AI71,Přehled_body!$A$3:$A$130,0),MATCH(Tabulka!D$2,Přehled_body!$E$1:$ED$1,0)),)=\"\",,IF(IFERROR(INDEX(Přehled_body!$E$3:$ED$130,MATCH(Tabulka!$AI71,Přehled_body!$A$3:$A$130,0),MATCH(Tabulka!D$2,Přehled_body!$E$1:$ED$1,0)),)=0,0.00000000001,IFERROR(INDEX(Přehled_body!$E$3:$ED$130,MATCH(Tabulka!$AI71,Přehled_body!$A$3:$A$130,0),MATCH(Tabulka!D$2,Přehled_body!$E$1:$ED$1,0)),)))","v":0},{"$f":"IF(IFERROR(INDEX(Přehled_body!$E$3:$ED$130,MATCH(Tabulka!$AI71,Přehled_body!$A$3:$A$130,0),MATCH(Tabulka!E$2,Přehled_body!$E$1:$ED$1,0)),)=\"\",,IF(IFERROR(INDEX(Přehled_body!$E$3:$ED$130,MATCH(Tabulka!$AI71,Přehled_body!$A$3:$A$130,0),MATCH(Tabulka!E$2,Přehled_body!$E$1:$ED$1,0)),)=0,0.00000000001,IFERROR(INDEX(Přehled_body!$E$3:$ED$130,MATCH(Tabulka!$AI71,Přehled_body!$A$3:$A$130,0),MATCH(Tabulka!E$2,Přehled_body!$E$1:$ED$1,0)),)))","v":0},{"$f":"IF(IFERROR(INDEX(Přehled_body!$E$3:$ED$130,MATCH(Tabulka!$AI71,Přehled_body!$A$3:$A$130,0),MATCH(Tabulka!F$2,Přehled_body!$E$1:$ED$1,0)),)=\"\",,IF(IFERROR(INDEX(Přehled_body!$E$3:$ED$130,MATCH(Tabulka!$AI71,Přehled_body!$A$3:$A$130,0),MATCH(Tabulka!F$2,Přehled_body!$E$1:$ED$1,0)),)=0,0.00000000001,IFERROR(INDEX(Přehled_body!$E$3:$ED$130,MATCH(Tabulka!$AI71,Přehled_body!$A$3:$A$130,0),MATCH(Tabulka!F$2,Přehled_body!$E$1:$ED$1,0)),)))","v":0},{"$f":"IF(IFERROR(INDEX(Přehled_body!$E$3:$ED$130,MATCH(Tabulka!$AI71,Přehled_body!$A$3:$A$130,0),MATCH(Tabulka!G$2,Přehled_body!$E$1:$ED$1,0)),)=\"\",,IF(IFERROR(INDEX(Přehled_body!$E$3:$ED$130,MATCH(Tabulka!$AI71,Přehled_body!$A$3:$A$130,0),MATCH(Tabulka!G$2,Přehled_body!$E$1:$ED$1,0)),)=0,0.00000000001,IFERROR(INDEX(Přehled_body!$E$3:$ED$130,MATCH(Tabulka!$AI71,Přehled_body!$A$3:$A$130,0),MATCH(Tabulka!G$2,Přehled_body!$E$1:$ED$1,0)),)))","v":0},{"$f":"IF(IFERROR(INDEX(Přehled_body!$E$3:$ED$130,MATCH(Tabulka!$AI71,Přehled_body!$A$3:$A$130,0),MATCH(Tabulka!H$2,Přehled_body!$E$1:$ED$1,0)),)=\"\",,IF(IFERROR(INDEX(Přehled_body!$E$3:$ED$130,MATCH(Tabulka!$AI71,Přehled_body!$A$3:$A$130,0),MATCH(Tabulka!H$2,Přehled_body!$E$1:$ED$1,0)),)=0,0.00000000001,IFERROR(INDEX(Přehled_body!$E$3:$ED$130,MATCH(Tabulka!$AI71,Přehled_body!$A$3:$A$130,0),MATCH(Tabulka!H$2,Přehled_body!$E$1:$ED$1,0)),)))","v":0},{"$f":"IF(IFERROR(INDEX(Přehled_body!$E$3:$ED$130,MATCH(Tabulka!$AI71,Přehled_body!$A$3:$A$130,0),MATCH(Tabulka!I$2,Přehled_body!$E$1:$ED$1,0)),)=\"\",,IF(IFERROR(INDEX(Přehled_body!$E$3:$ED$130,MATCH(Tabulka!$AI71,Přehled_body!$A$3:$A$130,0),MATCH(Tabulka!I$2,Přehled_body!$E$1:$ED$1,0)),)=0,0.00000000001,IFERROR(INDEX(Přehled_body!$E$3:$ED$130,MATCH(Tabulka!$AI71,Přehled_body!$A$3:$A$130,0),MATCH(Tabulka!I$2,Přehled_body!$E$1:$ED$1,0)),)))","v":0},{"$f":"IF(IFERROR(INDEX(Přehled_body!$E$3:$ED$130,MATCH(Tabulka!$AI71,Přehled_body!$A$3:$A$130,0),MATCH(Tabulka!J$2,Přehled_body!$E$1:$ED$1,0)),)=\"\",,IF(IFERROR(INDEX(Přehled_body!$E$3:$ED$130,MATCH(Tabulka!$AI71,Přehled_body!$A$3:$A$130,0),MATCH(Tabulka!J$2,Přehled_body!$E$1:$ED$1,0)),)=0,0.00000000001,IFERROR(INDEX(Přehled_body!$E$3:$ED$130,MATCH(Tabulka!$AI71,Přehled_body!$A$3:$A$130,0),MATCH(Tabulka!J$2,Přehled_body!$E$1:$ED$1,0)),)))","v":0},{"$f":"IF(IFERROR(INDEX(Přehled_body!$E$3:$ED$130,MATCH(Tabulka!$AI71,Přehled_body!$A$3:$A$130,0),MATCH(Tabulka!K$2,Přehled_body!$E$1:$ED$1,0)),)=\"\",,IF(IFERROR(INDEX(Přehled_body!$E$3:$ED$130,MATCH(Tabulka!$AI71,Přehled_body!$A$3:$A$130,0),MATCH(Tabulka!K$2,Přehled_body!$E$1:$ED$1,0)),)=0,0.00000000001,IFERROR(INDEX(Přehled_body!$E$3:$ED$130,MATCH(Tabulka!$AI71,Přehled_body!$A$3:$A$130,0),MATCH(Tabulka!K$2,Přehled_body!$E$1:$ED$1,0)),)))","v":0},{"$f":"IF(IFERROR(INDEX(Přehled_body!$E$3:$ED$130,MATCH(Tabulka!$AI71,Přehled_body!$A$3:$A$130,0),MATCH(Tabulka!L$2,Přehled_body!$E$1:$ED$1,0)),)=\"\",,IF(IFERROR(INDEX(Přehled_body!$E$3:$ED$130,MATCH(Tabulka!$AI71,Přehled_body!$A$3:$A$130,0),MATCH(Tabulka!L$2,Přehled_body!$E$1:$ED$1,0)),)=0,0.00000000001,IFERROR(INDEX(Přehled_body!$E$3:$ED$130,MATCH(Tabulka!$AI71,Přehled_body!$A$3:$A$130,0),MATCH(Tabulka!L$2,Přehled_body!$E$1:$ED$1,0)),)))","v":0},{"$f":"IF(IFERROR(INDEX(Přehled_body!$E$3:$ED$130,MATCH(Tabulka!$AI71,Přehled_body!$A$3:$A$130,0),MATCH(Tabulka!M$2,Přehled_body!$E$1:$ED$1,0)),)=\"\",,IF(IFERROR(INDEX(Přehled_body!$E$3:$ED$130,MATCH(Tabulka!$AI71,Přehled_body!$A$3:$A$130,0),MATCH(Tabulka!M$2,Přehled_body!$E$1:$ED$1,0)),)=0,0.00000000001,IFERROR(INDEX(Přehled_body!$E$3:$ED$130,MATCH(Tabulka!$AI71,Přehled_body!$A$3:$A$130,0),MATCH(Tabulka!M$2,Přehled_body!$E$1:$ED$1,0)),)))","v":0},{"$f":"IF(IFERROR(INDEX(Přehled_body!$E$3:$ED$130,MATCH(Tabulka!$AI71,Přehled_body!$A$3:$A$130,0),MATCH(Tabulka!N$2,Přehled_body!$E$1:$ED$1,0)),)=\"\",,IF(IFERROR(INDEX(Přehled_body!$E$3:$ED$130,MATCH(Tabulka!$AI71,Přehled_body!$A$3:$A$130,0),MATCH(Tabulka!N$2,Přehled_body!$E$1:$ED$1,0)),)=0,0.00000000001,IFERROR(INDEX(Přehled_body!$E$3:$ED$130,MATCH(Tabulka!$AI71,Přehled_body!$A$3:$A$130,0),MATCH(Tabulka!N$2,Přehled_body!$E$1:$ED$1,0)),)))","v":0},{"$f":"IF(IFERROR(INDEX(Přehled_body!$E$3:$ED$130,MATCH(Tabulka!$AI71,Přehled_body!$A$3:$A$130,0),MATCH(Tabulka!O$2,Přehled_body!$E$1:$ED$1,0)),)=\"\",,IF(IFERROR(INDEX(Přehled_body!$E$3:$ED$130,MATCH(Tabulka!$AI71,Přehled_body!$A$3:$A$130,0),MATCH(Tabulka!O$2,Přehled_body!$E$1:$ED$1,0)),)=0,0.00000000001,IFERROR(INDEX(Přehled_body!$E$3:$ED$130,MATCH(Tabulka!$AI71,Přehled_body!$A$3:$A$130,0),MATCH(Tabulka!O$2,Přehled_body!$E$1:$ED$1,0)),)))","v":0},{"$f":"IF(IFERROR(INDEX(Přehled_body!$E$3:$ED$130,MATCH(Tabulka!$AI71,Přehled_body!$A$3:$A$130,0),MATCH(Tabulka!P$2,Přehled_body!$E$1:$ED$1,0)),)=\"\",,IF(IFERROR(INDEX(Přehled_body!$E$3:$ED$130,MATCH(Tabulka!$AI71,Přehled_body!$A$3:$A$130,0),MATCH(Tabulka!P$2,Přehled_body!$E$1:$ED$1,0)),)=0,0.00000000001,IFERROR(INDEX(Přehled_body!$E$3:$ED$130,MATCH(Tabulka!$AI71,Přehled_body!$A$3:$A$130,0),MATCH(Tabulka!P$2,Přehled_body!$E$1:$ED$1,0)),)))","v":0},{"$f":"IF(IFERROR(INDEX(Přehled_body!$E$3:$ED$130,MATCH(Tabulka!$AI71,Přehled_body!$A$3:$A$130,0),MATCH(Tabulka!Q$2,Přehled_body!$E$1:$ED$1,0)),)=\"\",,IF(IFERROR(INDEX(Přehled_body!$E$3:$ED$130,MATCH(Tabulka!$AI71,Přehled_body!$A$3:$A$130,0),MATCH(Tabulka!Q$2,Přehled_body!$E$1:$ED$1,0)),)=0,0.00000000001,IFERROR(INDEX(Přehled_body!$E$3:$ED$130,MATCH(Tabulka!$AI71,Přehled_body!$A$3:$A$130,0),MATCH(Tabulka!Q$2,Přehled_body!$E$1:$ED$1,0)),)))","v":0},{"$f":"IF(IFERROR(INDEX(Přehled_body!$E$3:$ED$130,MATCH(Tabulka!$AI71,Přehled_body!$A$3:$A$130,0),MATCH(Tabulka!R$2,Přehled_body!$E$1:$ED$1,0)),)=\"\",,IF(IFERROR(INDEX(Přehled_body!$E$3:$ED$130,MATCH(Tabulka!$AI71,Přehled_body!$A$3:$A$130,0),MATCH(Tabulka!R$2,Přehled_body!$E$1:$ED$1,0)),)=0,0.00000000001,IFERROR(INDEX(Přehled_body!$E$3:$ED$130,MATCH(Tabulka!$AI71,Přehled_body!$A$3:$A$130,0),MATCH(Tabulka!R$2,Přehled_body!$E$1:$ED$1,0)),)))","v":0},{"$f":"IF(IFERROR(INDEX(Přehled_body!$E$3:$ED$130,MATCH(Tabulka!$AI71,Přehled_body!$A$3:$A$130,0),MATCH(Tabulka!S$2,Přehled_body!$E$1:$ED$1,0)),)=\"\",,IF(IFERROR(INDEX(Přehled_body!$E$3:$ED$130,MATCH(Tabulka!$AI71,Přehled_body!$A$3:$A$130,0),MATCH(Tabulka!S$2,Přehled_body!$E$1:$ED$1,0)),)=0,0.00000000001,IFERROR(INDEX(Přehled_body!$E$3:$ED$130,MATCH(Tabulka!$AI71,Přehled_body!$A$3:$A$130,0),MATCH(Tabulka!S$2,Přehled_body!$E$1:$ED$1,0)),)))","v":0},{"$f":"IF(IFERROR(INDEX(Přehled_body!$E$3:$ED$130,MATCH(Tabulka!$AI71,Přehled_body!$A$3:$A$130,0),MATCH(Tabulka!T$2,Přehled_body!$E$1:$ED$1,0)),)=\"\",,IF(IFERROR(INDEX(Přehled_body!$E$3:$ED$130,MATCH(Tabulka!$AI71,Přehled_body!$A$3:$A$130,0),MATCH(Tabulka!T$2,Přehled_body!$E$1:$ED$1,0)),)=0,0.00000000001,IFERROR(INDEX(Přehled_body!$E$3:$ED$130,MATCH(Tabulka!$AI71,Přehled_body!$A$3:$A$130,0),MATCH(Tabulka!T$2,Přehled_body!$E$1:$ED$1,0)),)))","v":0},{"$f":"IF(IFERROR(INDEX(Přehled_body!$E$3:$ED$130,MATCH(Tabulka!$AI71,Přehled_body!$A$3:$A$130,0),MATCH(Tabulka!U$2,Přehled_body!$E$1:$ED$1,0)),)=\"\",,IF(IFERROR(INDEX(Přehled_body!$E$3:$ED$130,MATCH(Tabulka!$AI71,Přehled_body!$A$3:$A$130,0),MATCH(Tabulka!U$2,Přehled_body!$E$1:$ED$1,0)),)=0,0.00000000001,IFERROR(INDEX(Přehled_body!$E$3:$ED$130,MATCH(Tabulka!$AI71,Přehled_body!$A$3:$A$130,0),MATCH(Tabulka!U$2,Přehled_body!$E$1:$ED$1,0)),)))","v":0},{"$f":"IF(IFERROR(INDEX(Přehled_body!$E$3:$ED$130,MATCH(Tabulka!$AI71,Přehled_body!$A$3:$A$130,0),MATCH(Tabulka!V$2,Přehled_body!$E$1:$ED$1,0)),)=\"\",,IF(IFERROR(INDEX(Přehled_body!$E$3:$ED$130,MATCH(Tabulka!$AI71,Přehled_body!$A$3:$A$130,0),MATCH(Tabulka!V$2,Přehled_body!$E$1:$ED$1,0)),)=0,0.00000000001,IFERROR(INDEX(Přehled_body!$E$3:$ED$130,MATCH(Tabulka!$AI71,Přehled_body!$A$3:$A$130,0),MATCH(Tabulka!V$2,Přehled_body!$E$1:$ED$1,0)),)))","v":0},{"$f":"IF(IFERROR(INDEX(Přehled_body!$E$3:$ED$130,MATCH(Tabulka!$AI71,Přehled_body!$A$3:$A$130,0),MATCH(Tabulka!W$2,Přehled_body!$E$1:$ED$1,0)),)=\"\",,IF(IFERROR(INDEX(Přehled_body!$E$3:$ED$130,MATCH(Tabulka!$AI71,Přehled_body!$A$3:$A$130,0),MATCH(Tabulka!W$2,Přehled_body!$E$1:$ED$1,0)),)=0,0.00000000001,IFERROR(INDEX(Přehled_body!$E$3:$ED$130,MATCH(Tabulka!$AI71,Přehled_body!$A$3:$A$130,0),MATCH(Tabulka!W$2,Přehled_body!$E$1:$ED$1,0)),)))","v":0},{"$f":"IF(IFERROR(INDEX(Přehled_body!$E$3:$ED$130,MATCH(Tabulka!$AI71,Přehled_body!$A$3:$A$130,0),MATCH(Tabulka!X$2,Přehled_body!$E$1:$ED$1,0)),)=\"\",,IF(IFERROR(INDEX(Přehled_body!$E$3:$ED$130,MATCH(Tabulka!$AI71,Přehled_body!$A$3:$A$130,0),MATCH(Tabulka!X$2,Přehled_body!$E$1:$ED$1,0)),)=0,0.00000000001,IFERROR(INDEX(Přehled_body!$E$3:$ED$130,MATCH(Tabulka!$AI71,Přehled_body!$A$3:$A$130,0),MATCH(Tabulka!X$2,Přehled_body!$E$1:$ED$1,0)),)))","v":0},{"$f":"IF(IFERROR(INDEX(Přehled_body!$E$3:$ED$130,MATCH(Tabulka!$AI71,Přehled_body!$A$3:$A$130,0),MATCH(Tabulka!Y$2,Přehled_body!$E$1:$ED$1,0)),)=\"\",,IF(IFERROR(INDEX(Přehled_body!$E$3:$ED$130,MATCH(Tabulka!$AI71,Přehled_body!$A$3:$A$130,0),MATCH(Tabulka!Y$2,Přehled_body!$E$1:$ED$1,0)),)=0,0.00000000001,IFERROR(INDEX(Přehled_body!$E$3:$ED$130,MATCH(Tabulka!$AI71,Přehled_body!$A$3:$A$130,0),MATCH(Tabulka!Y$2,Přehled_body!$E$1:$ED$1,0)),)))","v":0},{"$f":"IF(IFERROR(INDEX(Přehled_body!$E$3:$ED$130,MATCH(Tabulka!$AI71,Přehled_body!$A$3:$A$130,0),MATCH(Tabulka!Z$2,Přehled_body!$E$1:$ED$1,0)),)=\"\",,IF(IFERROR(INDEX(Přehled_body!$E$3:$ED$130,MATCH(Tabulka!$AI71,Přehled_body!$A$3:$A$130,0),MATCH(Tabulka!Z$2,Přehled_body!$E$1:$ED$1,0)),)=0,0.00000000001,IFERROR(INDEX(Přehled_body!$E$3:$ED$130,MATCH(Tabulka!$AI71,Přehled_body!$A$3:$A$130,0),MATCH(Tabulka!Z$2,Přehled_body!$E$1:$ED$1,0)),)))","v":0},{"$f":"IF(IFERROR(INDEX(Přehled_body!$E$3:$ED$130,MATCH(Tabulka!$AI71,Přehled_body!$A$3:$A$130,0),MATCH(Tabulka!AA$2,Přehled_body!$E$1:$ED$1,0)),)=\"\",,IF(IFERROR(INDEX(Přehled_body!$E$3:$ED$130,MATCH(Tabulka!$AI71,Přehled_body!$A$3:$A$130,0),MATCH(Tabulka!AA$2,Přehled_body!$E$1:$ED$1,0)),)=0,0.00000000001,IFERROR(INDEX(Přehled_body!$E$3:$ED$130,MATCH(Tabulka!$AI71,Přehled_body!$A$3:$A$130,0),MATCH(Tabulka!AA$2,Přehled_body!$E$1:$ED$1,0)),)))","v":0},{"$f":"IF(IFERROR(INDEX(Přehled_body!$E$3:$ED$130,MATCH(Tabulka!$AI71,Přehled_body!$A$3:$A$130,0),MATCH(Tabulka!AB$2,Přehled_body!$E$1:$ED$1,0)),)=\"\",,IF(IFERROR(INDEX(Přehled_body!$E$3:$ED$130,MATCH(Tabulka!$AI71,Přehled_body!$A$3:$A$130,0),MATCH(Tabulka!AB$2,Přehled_body!$E$1:$ED$1,0)),)=0,0.00000000001,IFERROR(INDEX(Přehled_body!$E$3:$ED$130,MATCH(Tabulka!$AI71,Přehled_body!$A$3:$A$130,0),MATCH(Tabulka!AB$2,Přehled_body!$E$1:$ED$1,0)),)))","v":0},{"$f":"IF(IFERROR(INDEX(Přehled_body!$E$3:$ED$130,MATCH(Tabulka!$AI71,Přehled_body!$A$3:$A$130,0),MATCH(Tabulka!AC$2,Přehled_body!$E$1:$ED$1,0)),)=\"\",,IF(IFERROR(INDEX(Přehled_body!$E$3:$ED$130,MATCH(Tabulka!$AI71,Přehled_body!$A$3:$A$130,0),MATCH(Tabulka!AC$2,Přehled_body!$E$1:$ED$1,0)),)=0,0.00000000001,IFERROR(INDEX(Přehled_body!$E$3:$ED$130,MATCH(Tabulka!$AI71,Přehled_body!$A$3:$A$130,0),MATCH(Tabulka!AC$2,Přehled_body!$E$1:$ED$1,0)),)))","v":0},{"$f":"IF(IFERROR(INDEX(Přehled_body!$E$3:$ED$130,MATCH(Tabulka!$AI71,Přehled_body!$A$3:$A$130,0),MATCH(Tabulka!AD$2,Přehled_body!$E$1:$ED$1,0)),)=\"\",,IF(IFERROR(INDEX(Přehled_body!$E$3:$ED$130,MATCH(Tabulka!$AI71,Přehled_body!$A$3:$A$130,0),MATCH(Tabulka!AD$2,Přehled_body!$E$1:$ED$1,0)),)=0,0.00000000001,IFERROR(INDEX(Přehled_body!$E$3:$ED$130,MATCH(Tabulka!$AI71,Přehled_body!$A$3:$A$130,0),MATCH(Tabulka!AD$2,Přehled_body!$E$1:$ED$1,0)),)))","v":0},{"$f":"IF(SUM($D$69:$AD$73)<1,-90000,SUM(D71:AD71))","v":-90000},null,null,null,{"$f":"CONCATENATE($B$70,\" \",$B$71,C71)","v":"Míra KulhanPlaceno panáků"}]
[null,null,"Přehozy",{"$f":"IF(IFERROR(INDEX(Přehled_body!$E$3:$ED$130,MATCH(Tabulka!$AI72,Přehled_body!$A$3:$A$130,0),MATCH(Tabulka!D$2,Přehled_body!$E$1:$ED$1,0)),)=\"\",,IF(IFERROR(INDEX(Přehled_body!$E$3:$ED$130,MATCH(Tabulka!$AI72,Přehled_body!$A$3:$A$130,0),MATCH(Tabulka!D$2,Přehled_body!$E$1:$ED$1,0)),)=0,0.00000000001,IFERROR(INDEX(Přehled_body!$E$3:$ED$130,MATCH(Tabulka!$AI72,Přehled_body!$A$3:$A$130,0),MATCH(Tabulka!D$2,Přehled_body!$E$1:$ED$1,0)),)))","v":0},{"$f":"IF(IFERROR(INDEX(Přehled_body!$E$3:$ED$130,MATCH(Tabulka!$AI72,Přehled_body!$A$3:$A$130,0),MATCH(Tabulka!E$2,Přehled_body!$E$1:$ED$1,0)),)=\"\",,IF(IFERROR(INDEX(Přehled_body!$E$3:$ED$130,MATCH(Tabulka!$AI72,Přehled_body!$A$3:$A$130,0),MATCH(Tabulka!E$2,Přehled_body!$E$1:$ED$1,0)),)=0,0.00000000001,IFERROR(INDEX(Přehled_body!$E$3:$ED$130,MATCH(Tabulka!$AI72,Přehled_body!$A$3:$A$130,0),MATCH(Tabulka!E$2,Přehled_body!$E$1:$ED$1,0)),)))","v":0},{"$f":"IF(IFERROR(INDEX(Přehled_body!$E$3:$ED$130,MATCH(Tabulka!$AI72,Přehled_body!$A$3:$A$130,0),MATCH(Tabulka!F$2,Přehled_body!$E$1:$ED$1,0)),)=\"\",,IF(IFERROR(INDEX(Přehled_body!$E$3:$ED$130,MATCH(Tabulka!$AI72,Přehled_body!$A$3:$A$130,0),MATCH(Tabulka!F$2,Přehled_body!$E$1:$ED$1,0)),)=0,0.00000000001,IFERROR(INDEX(Přehled_body!$E$3:$ED$130,MATCH(Tabulka!$AI72,Přehled_body!$A$3:$A$130,0),MATCH(Tabulka!F$2,Přehled_body!$E$1:$ED$1,0)),)))","v":0},{"$f":"IF(IFERROR(INDEX(Přehled_body!$E$3:$ED$130,MATCH(Tabulka!$AI72,Přehled_body!$A$3:$A$130,0),MATCH(Tabulka!G$2,Přehled_body!$E$1:$ED$1,0)),)=\"\",,IF(IFERROR(INDEX(Přehled_body!$E$3:$ED$130,MATCH(Tabulka!$AI72,Přehled_body!$A$3:$A$130,0),MATCH(Tabulka!G$2,Přehled_body!$E$1:$ED$1,0)),)=0,0.00000000001,IFERROR(INDEX(Přehled_body!$E$3:$ED$130,MATCH(Tabulka!$AI72,Přehled_body!$A$3:$A$130,0),MATCH(Tabulka!G$2,Přehled_body!$E$1:$ED$1,0)),)))","v":0},{"$f":"IF(IFERROR(INDEX(Přehled_body!$E$3:$ED$130,MATCH(Tabulka!$AI72,Přehled_body!$A$3:$A$130,0),MATCH(Tabulka!H$2,Přehled_body!$E$1:$ED$1,0)),)=\"\",,IF(IFERROR(INDEX(Přehled_body!$E$3:$ED$130,MATCH(Tabulka!$AI72,Přehled_body!$A$3:$A$130,0),MATCH(Tabulka!H$2,Přehled_body!$E$1:$ED$1,0)),)=0,0.00000000001,IFERROR(INDEX(Přehled_body!$E$3:$ED$130,MATCH(Tabulka!$AI72,Přehled_body!$A$3:$A$130,0),MATCH(Tabulka!H$2,Přehled_body!$E$1:$ED$1,0)),)))","v":0},{"$f":"IF(IFERROR(INDEX(Přehled_body!$E$3:$ED$130,MATCH(Tabulka!$AI72,Přehled_body!$A$3:$A$130,0),MATCH(Tabulka!I$2,Přehled_body!$E$1:$ED$1,0)),)=\"\",,IF(IFERROR(INDEX(Přehled_body!$E$3:$ED$130,MATCH(Tabulka!$AI72,Přehled_body!$A$3:$A$130,0),MATCH(Tabulka!I$2,Přehled_body!$E$1:$ED$1,0)),)=0,0.00000000001,IFERROR(INDEX(Přehled_body!$E$3:$ED$130,MATCH(Tabulka!$AI72,Přehled_body!$A$3:$A$130,0),MATCH(Tabulka!I$2,Přehled_body!$E$1:$ED$1,0)),)))","v":0},{"$f":"IF(IFERROR(INDEX(Přehled_body!$E$3:$ED$130,MATCH(Tabulka!$AI72,Přehled_body!$A$3:$A$130,0),MATCH(Tabulka!J$2,Přehled_body!$E$1:$ED$1,0)),)=\"\",,IF(IFERROR(INDEX(Přehled_body!$E$3:$ED$130,MATCH(Tabulka!$AI72,Přehled_body!$A$3:$A$130,0),MATCH(Tabulka!J$2,Přehled_body!$E$1:$ED$1,0)),)=0,0.00000000001,IFERROR(INDEX(Přehled_body!$E$3:$ED$130,MATCH(Tabulka!$AI72,Přehled_body!$A$3:$A$130,0),MATCH(Tabulka!J$2,Přehled_body!$E$1:$ED$1,0)),)))","v":0},{"$f":"IF(IFERROR(INDEX(Přehled_body!$E$3:$ED$130,MATCH(Tabulka!$AI72,Přehled_body!$A$3:$A$130,0),MATCH(Tabulka!K$2,Přehled_body!$E$1:$ED$1,0)),)=\"\",,IF(IFERROR(INDEX(Přehled_body!$E$3:$ED$130,MATCH(Tabulka!$AI72,Přehled_body!$A$3:$A$130,0),MATCH(Tabulka!K$2,Přehled_body!$E$1:$ED$1,0)),)=0,0.00000000001,IFERROR(INDEX(Přehled_body!$E$3:$ED$130,MATCH(Tabulka!$AI72,Přehled_body!$A$3:$A$130,0),MATCH(Tabulka!K$2,Přehled_body!$E$1:$ED$1,0)),)))","v":0},{"$f":"IF(IFERROR(INDEX(Přehled_body!$E$3:$ED$130,MATCH(Tabulka!$AI72,Přehled_body!$A$3:$A$130,0),MATCH(Tabulka!L$2,Přehled_body!$E$1:$ED$1,0)),)=\"\",,IF(IFERROR(INDEX(Přehled_body!$E$3:$ED$130,MATCH(Tabulka!$AI72,Přehled_body!$A$3:$A$130,0),MATCH(Tabulka!L$2,Přehled_body!$E$1:$ED$1,0)),)=0,0.00000000001,IFERROR(INDEX(Přehled_body!$E$3:$ED$130,MATCH(Tabulka!$AI72,Přehled_body!$A$3:$A$130,0),MATCH(Tabulka!L$2,Přehled_body!$E$1:$ED$1,0)),)))","v":0},{"$f":"IF(IFERROR(INDEX(Přehled_body!$E$3:$ED$130,MATCH(Tabulka!$AI72,Přehled_body!$A$3:$A$130,0),MATCH(Tabulka!M$2,Přehled_body!$E$1:$ED$1,0)),)=\"\",,IF(IFERROR(INDEX(Přehled_body!$E$3:$ED$130,MATCH(Tabulka!$AI72,Přehled_body!$A$3:$A$130,0),MATCH(Tabulka!M$2,Přehled_body!$E$1:$ED$1,0)),)=0,0.00000000001,IFERROR(INDEX(Přehled_body!$E$3:$ED$130,MATCH(Tabulka!$AI72,Přehled_body!$A$3:$A$130,0),MATCH(Tabulka!M$2,Přehled_body!$E$1:$ED$1,0)),)))","v":0},{"$f":"IF(IFERROR(INDEX(Přehled_body!$E$3:$ED$130,MATCH(Tabulka!$AI72,Přehled_body!$A$3:$A$130,0),MATCH(Tabulka!N$2,Přehled_body!$E$1:$ED$1,0)),)=\"\",,IF(IFERROR(INDEX(Přehled_body!$E$3:$ED$130,MATCH(Tabulka!$AI72,Přehled_body!$A$3:$A$130,0),MATCH(Tabulka!N$2,Přehled_body!$E$1:$ED$1,0)),)=0,0.00000000001,IFERROR(INDEX(Přehled_body!$E$3:$ED$130,MATCH(Tabulka!$AI72,Přehled_body!$A$3:$A$130,0),MATCH(Tabulka!N$2,Přehled_body!$E$1:$ED$1,0)),)))","v":0},{"$f":"IF(IFERROR(INDEX(Přehled_body!$E$3:$ED$130,MATCH(Tabulka!$AI72,Přehled_body!$A$3:$A$130,0),MATCH(Tabulka!O$2,Přehled_body!$E$1:$ED$1,0)),)=\"\",,IF(IFERROR(INDEX(Přehled_body!$E$3:$ED$130,MATCH(Tabulka!$AI72,Přehled_body!$A$3:$A$130,0),MATCH(Tabulka!O$2,Přehled_body!$E$1:$ED$1,0)),)=0,0.00000000001,IFERROR(INDEX(Přehled_body!$E$3:$ED$130,MATCH(Tabulka!$AI72,Přehled_body!$A$3:$A$130,0),MATCH(Tabulka!O$2,Přehled_body!$E$1:$ED$1,0)),)))","v":0},{"$f":"IF(IFERROR(INDEX(Přehled_body!$E$3:$ED$130,MATCH(Tabulka!$AI72,Přehled_body!$A$3:$A$130,0),MATCH(Tabulka!P$2,Přehled_body!$E$1:$ED$1,0)),)=\"\",,IF(IFERROR(INDEX(Přehled_body!$E$3:$ED$130,MATCH(Tabulka!$AI72,Přehled_body!$A$3:$A$130,0),MATCH(Tabulka!P$2,Přehled_body!$E$1:$ED$1,0)),)=0,0.00000000001,IFERROR(INDEX(Přehled_body!$E$3:$ED$130,MATCH(Tabulka!$AI72,Přehled_body!$A$3:$A$130,0),MATCH(Tabulka!P$2,Přehled_body!$E$1:$ED$1,0)),)))","v":0},{"$f":"IF(IFERROR(INDEX(Přehled_body!$E$3:$ED$130,MATCH(Tabulka!$AI72,Přehled_body!$A$3:$A$130,0),MATCH(Tabulka!Q$2,Přehled_body!$E$1:$ED$1,0)),)=\"\",,IF(IFERROR(INDEX(Přehled_body!$E$3:$ED$130,MATCH(Tabulka!$AI72,Přehled_body!$A$3:$A$130,0),MATCH(Tabulka!Q$2,Přehled_body!$E$1:$ED$1,0)),)=0,0.00000000001,IFERROR(INDEX(Přehled_body!$E$3:$ED$130,MATCH(Tabulka!$AI72,Přehled_body!$A$3:$A$130,0),MATCH(Tabulka!Q$2,Přehled_body!$E$1:$ED$1,0)),)))","v":0},{"$f":"IF(IFERROR(INDEX(Přehled_body!$E$3:$ED$130,MATCH(Tabulka!$AI72,Přehled_body!$A$3:$A$130,0),MATCH(Tabulka!R$2,Přehled_body!$E$1:$ED$1,0)),)=\"\",,IF(IFERROR(INDEX(Přehled_body!$E$3:$ED$130,MATCH(Tabulka!$AI72,Přehled_body!$A$3:$A$130,0),MATCH(Tabulka!R$2,Přehled_body!$E$1:$ED$1,0)),)=0,0.00000000001,IFERROR(INDEX(Přehled_body!$E$3:$ED$130,MATCH(Tabulka!$AI72,Přehled_body!$A$3:$A$130,0),MATCH(Tabulka!R$2,Přehled_body!$E$1:$ED$1,0)),)))","v":0},{"$f":"IF(IFERROR(INDEX(Přehled_body!$E$3:$ED$130,MATCH(Tabulka!$AI72,Přehled_body!$A$3:$A$130,0),MATCH(Tabulka!S$2,Přehled_body!$E$1:$ED$1,0)),)=\"\",,IF(IFERROR(INDEX(Přehled_body!$E$3:$ED$130,MATCH(Tabulka!$AI72,Přehled_body!$A$3:$A$130,0),MATCH(Tabulka!S$2,Přehled_body!$E$1:$ED$1,0)),)=0,0.00000000001,IFERROR(INDEX(Přehled_body!$E$3:$ED$130,MATCH(Tabulka!$AI72,Přehled_body!$A$3:$A$130,0),MATCH(Tabulka!S$2,Přehled_body!$E$1:$ED$1,0)),)))","v":0},{"$f":"IF(IFERROR(INDEX(Přehled_body!$E$3:$ED$130,MATCH(Tabulka!$AI72,Přehled_body!$A$3:$A$130,0),MATCH(Tabulka!T$2,Přehled_body!$E$1:$ED$1,0)),)=\"\",,IF(IFERROR(INDEX(Přehled_body!$E$3:$ED$130,MATCH(Tabulka!$AI72,Přehled_body!$A$3:$A$130,0),MATCH(Tabulka!T$2,Přehled_body!$E$1:$ED$1,0)),)=0,0.00000000001,IFERROR(INDEX(Přehled_body!$E$3:$ED$130,MATCH(Tabulka!$AI72,Přehled_body!$A$3:$A$130,0),MATCH(Tabulka!T$2,Přehled_body!$E$1:$ED$1,0)),)))","v":0},{"$f":"IF(IFERROR(INDEX(Přehled_body!$E$3:$ED$130,MATCH(Tabulka!$AI72,Přehled_body!$A$3:$A$130,0),MATCH(Tabulka!U$2,Přehled_body!$E$1:$ED$1,0)),)=\"\",,IF(IFERROR(INDEX(Přehled_body!$E$3:$ED$130,MATCH(Tabulka!$AI72,Přehled_body!$A$3:$A$130,0),MATCH(Tabulka!U$2,Přehled_body!$E$1:$ED$1,0)),)=0,0.00000000001,IFERROR(INDEX(Přehled_body!$E$3:$ED$130,MATCH(Tabulka!$AI72,Přehled_body!$A$3:$A$130,0),MATCH(Tabulka!U$2,Přehled_body!$E$1:$ED$1,0)),)))","v":0},{"$f":"IF(IFERROR(INDEX(Přehled_body!$E$3:$ED$130,MATCH(Tabulka!$AI72,Přehled_body!$A$3:$A$130,0),MATCH(Tabulka!V$2,Přehled_body!$E$1:$ED$1,0)),)=\"\",,IF(IFERROR(INDEX(Přehled_body!$E$3:$ED$130,MATCH(Tabulka!$AI72,Přehled_body!$A$3:$A$130,0),MATCH(Tabulka!V$2,Přehled_body!$E$1:$ED$1,0)),)=0,0.00000000001,IFERROR(INDEX(Přehled_body!$E$3:$ED$130,MATCH(Tabulka!$AI72,Přehled_body!$A$3:$A$130,0),MATCH(Tabulka!V$2,Přehled_body!$E$1:$ED$1,0)),)))","v":0},{"$f":"IF(IFERROR(INDEX(Přehled_body!$E$3:$ED$130,MATCH(Tabulka!$AI72,Přehled_body!$A$3:$A$130,0),MATCH(Tabulka!W$2,Přehled_body!$E$1:$ED$1,0)),)=\"\",,IF(IFERROR(INDEX(Přehled_body!$E$3:$ED$130,MATCH(Tabulka!$AI72,Přehled_body!$A$3:$A$130,0),MATCH(Tabulka!W$2,Přehled_body!$E$1:$ED$1,0)),)=0,0.00000000001,IFERROR(INDEX(Přehled_body!$E$3:$ED$130,MATCH(Tabulka!$AI72,Přehled_body!$A$3:$A$130,0),MATCH(Tabulka!W$2,Přehled_body!$E$1:$ED$1,0)),)))","v":0},{"$f":"IF(IFERROR(INDEX(Přehled_body!$E$3:$ED$130,MATCH(Tabulka!$AI72,Přehled_body!$A$3:$A$130,0),MATCH(Tabulka!X$2,Přehled_body!$E$1:$ED$1,0)),)=\"\",,IF(IFERROR(INDEX(Přehled_body!$E$3:$ED$130,MATCH(Tabulka!$AI72,Přehled_body!$A$3:$A$130,0),MATCH(Tabulka!X$2,Přehled_body!$E$1:$ED$1,0)),)=0,0.00000000001,IFERROR(INDEX(Přehled_body!$E$3:$ED$130,MATCH(Tabulka!$AI72,Přehled_body!$A$3:$A$130,0),MATCH(Tabulka!X$2,Přehled_body!$E$1:$ED$1,0)),)))","v":0},{"$f":"IF(IFERROR(INDEX(Přehled_body!$E$3:$ED$130,MATCH(Tabulka!$AI72,Přehled_body!$A$3:$A$130,0),MATCH(Tabulka!Y$2,Přehled_body!$E$1:$ED$1,0)),)=\"\",,IF(IFERROR(INDEX(Přehled_body!$E$3:$ED$130,MATCH(Tabulka!$AI72,Přehled_body!$A$3:$A$130,0),MATCH(Tabulka!Y$2,Přehled_body!$E$1:$ED$1,0)),)=0,0.00000000001,IFERROR(INDEX(Přehled_body!$E$3:$ED$130,MATCH(Tabulka!$AI72,Přehled_body!$A$3:$A$130,0),MATCH(Tabulka!Y$2,Přehled_body!$E$1:$ED$1,0)),)))","v":0},{"$f":"IF(IFERROR(INDEX(Přehled_body!$E$3:$ED$130,MATCH(Tabulka!$AI72,Přehled_body!$A$3:$A$130,0),MATCH(Tabulka!Z$2,Přehled_body!$E$1:$ED$1,0)),)=\"\",,IF(IFERROR(INDEX(Přehled_body!$E$3:$ED$130,MATCH(Tabulka!$AI72,Přehled_body!$A$3:$A$130,0),MATCH(Tabulka!Z$2,Přehled_body!$E$1:$ED$1,0)),)=0,0.00000000001,IFERROR(INDEX(Přehled_body!$E$3:$ED$130,MATCH(Tabulka!$AI72,Přehled_body!$A$3:$A$130,0),MATCH(Tabulka!Z$2,Přehled_body!$E$1:$ED$1,0)),)))","v":0},{"$f":"IF(IFERROR(INDEX(Přehled_body!$E$3:$ED$130,MATCH(Tabulka!$AI72,Přehled_body!$A$3:$A$130,0),MATCH(Tabulka!AA$2,Přehled_body!$E$1:$ED$1,0)),)=\"\",,IF(IFERROR(INDEX(Přehled_body!$E$3:$ED$130,MATCH(Tabulka!$AI72,Přehled_body!$A$3:$A$130,0),MATCH(Tabulka!AA$2,Přehled_body!$E$1:$ED$1,0)),)=0,0.00000000001,IFERROR(INDEX(Přehled_body!$E$3:$ED$130,MATCH(Tabulka!$AI72,Přehled_body!$A$3:$A$130,0),MATCH(Tabulka!AA$2,Přehled_body!$E$1:$ED$1,0)),)))","v":0},{"$f":"IF(IFERROR(INDEX(Přehled_body!$E$3:$ED$130,MATCH(Tabulka!$AI72,Přehled_body!$A$3:$A$130,0),MATCH(Tabulka!AB$2,Přehled_body!$E$1:$ED$1,0)),)=\"\",,IF(IFERROR(INDEX(Přehled_body!$E$3:$ED$130,MATCH(Tabulka!$AI72,Přehled_body!$A$3:$A$130,0),MATCH(Tabulka!AB$2,Přehled_body!$E$1:$ED$1,0)),)=0,0.00000000001,IFERROR(INDEX(Přehled_body!$E$3:$ED$130,MATCH(Tabulka!$AI72,Přehled_body!$A$3:$A$130,0),MATCH(Tabulka!AB$2,Přehled_body!$E$1:$ED$1,0)),)))","v":0},{"$f":"IF(IFERROR(INDEX(Přehled_body!$E$3:$ED$130,MATCH(Tabulka!$AI72,Přehled_body!$A$3:$A$130,0),MATCH(Tabulka!AC$2,Přehled_body!$E$1:$ED$1,0)),)=\"\",,IF(IFERROR(INDEX(Přehled_body!$E$3:$ED$130,MATCH(Tabulka!$AI72,Přehled_body!$A$3:$A$130,0),MATCH(Tabulka!AC$2,Přehled_body!$E$1:$ED$1,0)),)=0,0.00000000001,IFERROR(INDEX(Přehled_body!$E$3:$ED$130,MATCH(Tabulka!$AI72,Přehled_body!$A$3:$A$130,0),MATCH(Tabulka!AC$2,Přehled_body!$E$1:$ED$1,0)),)))","v":0},{"$f":"IF(IFERROR(INDEX(Přehled_body!$E$3:$ED$130,MATCH(Tabulka!$AI72,Přehled_body!$A$3:$A$130,0),MATCH(Tabulka!AD$2,Přehled_body!$E$1:$ED$1,0)),)=\"\",,IF(IFERROR(INDEX(Přehled_body!$E$3:$ED$130,MATCH(Tabulka!$AI72,Přehled_body!$A$3:$A$130,0),MATCH(Tabulka!AD$2,Přehled_body!$E$1:$ED$1,0)),)=0,0.00000000001,IFERROR(INDEX(Přehled_body!$E$3:$ED$130,MATCH(Tabulka!$AI72,Přehled_body!$A$3:$A$130,0),MATCH(Tabulka!AD$2,Přehled_body!$E$1:$ED$1,0)),)))","v":0},{"$f":"IF(SUM($D$69:$AD$73)<1,-90000,SUM(D72:AD72))","v":-90000},null,null,null,{"$f":"CONCATENATE($B$70,\" \",$B$71,C72)","v":"Míra KulhanPřehozy"}]
[null,null,"Poč. kol",{"$f":"IF(IFERROR(INDEX(Přehled_body!$E$3:$ED$130,MATCH(Tabulka!$AI73,Přehled_body!$A$3:$A$130,0),MATCH(Tabulka!D$2,Přehled_body!$E$1:$ED$1,0)),)=\"\",,IF(IFERROR(INDEX(Přehled_body!$E$3:$ED$130,MATCH(Tabulka!$AI73,Přehled_body!$A$3:$A$130,0),MATCH(Tabulka!D$2,Přehled_body!$E$1:$ED$1,0)),)=0,0.00000000001,IFERROR(INDEX(Přehled_body!$E$3:$ED$130,MATCH(Tabulka!$AI73,Přehled_body!$A$3:$A$130,0),MATCH(Tabulka!D$2,Přehled_body!$E$1:$ED$1,0)),)))","v":0},{"$f":"IF(IFERROR(INDEX(Přehled_body!$E$3:$ED$130,MATCH(Tabulka!$AI73,Přehled_body!$A$3:$A$130,0),MATCH(Tabulka!E$2,Přehled_body!$E$1:$ED$1,0)),)=\"\",,IF(IFERROR(INDEX(Přehled_body!$E$3:$ED$130,MATCH(Tabulka!$AI73,Přehled_body!$A$3:$A$130,0),MATCH(Tabulka!E$2,Přehled_body!$E$1:$ED$1,0)),)=0,0.00000000001,IFERROR(INDEX(Přehled_body!$E$3:$ED$130,MATCH(Tabulka!$AI73,Přehled_body!$A$3:$A$130,0),MATCH(Tabulka!E$2,Přehled_body!$E$1:$ED$1,0)),)))","v":0},{"$f":"IF(IFERROR(INDEX(Přehled_body!$E$3:$ED$130,MATCH(Tabulka!$AI73,Přehled_body!$A$3:$A$130,0),MATCH(Tabulka!F$2,Přehled_body!$E$1:$ED$1,0)),)=\"\",,IF(IFERROR(INDEX(Přehled_body!$E$3:$ED$130,MATCH(Tabulka!$AI73,Přehled_body!$A$3:$A$130,0),MATCH(Tabulka!F$2,Přehled_body!$E$1:$ED$1,0)),)=0,0.00000000001,IFERROR(INDEX(Přehled_body!$E$3:$ED$130,MATCH(Tabulka!$AI73,Přehled_body!$A$3:$A$130,0),MATCH(Tabulka!F$2,Přehled_body!$E$1:$ED$1,0)),)))","v":0},{"$f":"IF(IFERROR(INDEX(Přehled_body!$E$3:$ED$130,MATCH(Tabulka!$AI73,Přehled_body!$A$3:$A$130,0),MATCH(Tabulka!G$2,Přehled_body!$E$1:$ED$1,0)),)=\"\",,IF(IFERROR(INDEX(Přehled_body!$E$3:$ED$130,MATCH(Tabulka!$AI73,Přehled_body!$A$3:$A$130,0),MATCH(Tabulka!G$2,Přehled_body!$E$1:$ED$1,0)),)=0,0.00000000001,IFERROR(INDEX(Přehled_body!$E$3:$ED$130,MATCH(Tabulka!$AI73,Přehled_body!$A$3:$A$130,0),MATCH(Tabulka!G$2,Přehled_body!$E$1:$ED$1,0)),)))","v":0},{"$f":"IF(IFERROR(INDEX(Přehled_body!$E$3:$ED$130,MATCH(Tabulka!$AI73,Přehled_body!$A$3:$A$130,0),MATCH(Tabulka!H$2,Přehled_body!$E$1:$ED$1,0)),)=\"\",,IF(IFERROR(INDEX(Přehled_body!$E$3:$ED$130,MATCH(Tabulka!$AI73,Přehled_body!$A$3:$A$130,0),MATCH(Tabulka!H$2,Přehled_body!$E$1:$ED$1,0)),)=0,0.00000000001,IFERROR(INDEX(Přehled_body!$E$3:$ED$130,MATCH(Tabulka!$AI73,Přehled_body!$A$3:$A$130,0),MATCH(Tabulka!H$2,Přehled_body!$E$1:$ED$1,0)),)))","v":0},{"$f":"IF(IFERROR(INDEX(Přehled_body!$E$3:$ED$130,MATCH(Tabulka!$AI73,Přehled_body!$A$3:$A$130,0),MATCH(Tabulka!I$2,Přehled_body!$E$1:$ED$1,0)),)=\"\",,IF(IFERROR(INDEX(Přehled_body!$E$3:$ED$130,MATCH(Tabulka!$AI73,Přehled_body!$A$3:$A$130,0),MATCH(Tabulka!I$2,Přehled_body!$E$1:$ED$1,0)),)=0,0.00000000001,IFERROR(INDEX(Přehled_body!$E$3:$ED$130,MATCH(Tabulka!$AI73,Přehled_body!$A$3:$A$130,0),MATCH(Tabulka!I$2,Přehled_body!$E$1:$ED$1,0)),)))","v":0},{"$f":"IF(IFERROR(INDEX(Přehled_body!$E$3:$ED$130,MATCH(Tabulka!$AI73,Přehled_body!$A$3:$A$130,0),MATCH(Tabulka!J$2,Přehled_body!$E$1:$ED$1,0)),)=\"\",,IF(IFERROR(INDEX(Přehled_body!$E$3:$ED$130,MATCH(Tabulka!$AI73,Přehled_body!$A$3:$A$130,0),MATCH(Tabulka!J$2,Přehled_body!$E$1:$ED$1,0)),)=0,0.00000000001,IFERROR(INDEX(Přehled_body!$E$3:$ED$130,MATCH(Tabulka!$AI73,Přehled_body!$A$3:$A$130,0),MATCH(Tabulka!J$2,Přehled_body!$E$1:$ED$1,0)),)))","v":0},{"$f":"IF(IFERROR(INDEX(Přehled_body!$E$3:$ED$130,MATCH(Tabulka!$AI73,Přehled_body!$A$3:$A$130,0),MATCH(Tabulka!K$2,Přehled_body!$E$1:$ED$1,0)),)=\"\",,IF(IFERROR(INDEX(Přehled_body!$E$3:$ED$130,MATCH(Tabulka!$AI73,Přehled_body!$A$3:$A$130,0),MATCH(Tabulka!K$2,Přehled_body!$E$1:$ED$1,0)),)=0,0.00000000001,IFERROR(INDEX(Přehled_body!$E$3:$ED$130,MATCH(Tabulka!$AI73,Přehled_body!$A$3:$A$130,0),MATCH(Tabulka!K$2,Přehled_body!$E$1:$ED$1,0)),)))","v":0},{"$f":"IF(IFERROR(INDEX(Přehled_body!$E$3:$ED$130,MATCH(Tabulka!$AI73,Přehled_body!$A$3:$A$130,0),MATCH(Tabulka!L$2,Přehled_body!$E$1:$ED$1,0)),)=\"\",,IF(IFERROR(INDEX(Přehled_body!$E$3:$ED$130,MATCH(Tabulka!$AI73,Přehled_body!$A$3:$A$130,0),MATCH(Tabulka!L$2,Přehled_body!$E$1:$ED$1,0)),)=0,0.00000000001,IFERROR(INDEX(Přehled_body!$E$3:$ED$130,MATCH(Tabulka!$AI73,Přehled_body!$A$3:$A$130,0),MATCH(Tabulka!L$2,Přehled_body!$E$1:$ED$1,0)),)))","v":0},{"$f":"IF(IFERROR(INDEX(Přehled_body!$E$3:$ED$130,MATCH(Tabulka!$AI73,Přehled_body!$A$3:$A$130,0),MATCH(Tabulka!M$2,Přehled_body!$E$1:$ED$1,0)),)=\"\",,IF(IFERROR(INDEX(Přehled_body!$E$3:$ED$130,MATCH(Tabulka!$AI73,Přehled_body!$A$3:$A$130,0),MATCH(Tabulka!M$2,Přehled_body!$E$1:$ED$1,0)),)=0,0.00000000001,IFERROR(INDEX(Přehled_body!$E$3:$ED$130,MATCH(Tabulka!$AI73,Přehled_body!$A$3:$A$130,0),MATCH(Tabulka!M$2,Přehled_body!$E$1:$ED$1,0)),)))","v":0},{"$f":"IF(IFERROR(INDEX(Přehled_body!$E$3:$ED$130,MATCH(Tabulka!$AI73,Přehled_body!$A$3:$A$130,0),MATCH(Tabulka!N$2,Přehled_body!$E$1:$ED$1,0)),)=\"\",,IF(IFERROR(INDEX(Přehled_body!$E$3:$ED$130,MATCH(Tabulka!$AI73,Přehled_body!$A$3:$A$130,0),MATCH(Tabulka!N$2,Přehled_body!$E$1:$ED$1,0)),)=0,0.00000000001,IFERROR(INDEX(Přehled_body!$E$3:$ED$130,MATCH(Tabulka!$AI73,Přehled_body!$A$3:$A$130,0),MATCH(Tabulka!N$2,Přehled_body!$E$1:$ED$1,0)),)))","v":0},{"$f":"IF(IFERROR(INDEX(Přehled_body!$E$3:$ED$130,MATCH(Tabulka!$AI73,Přehled_body!$A$3:$A$130,0),MATCH(Tabulka!O$2,Přehled_body!$E$1:$ED$1,0)),)=\"\",,IF(IFERROR(INDEX(Přehled_body!$E$3:$ED$130,MATCH(Tabulka!$AI73,Přehled_body!$A$3:$A$130,0),MATCH(Tabulka!O$2,Přehled_body!$E$1:$ED$1,0)),)=0,0.00000000001,IFERROR(INDEX(Přehled_body!$E$3:$ED$130,MATCH(Tabulka!$AI73,Přehled_body!$A$3:$A$130,0),MATCH(Tabulka!O$2,Přehled_body!$E$1:$ED$1,0)),)))","v":0},{"$f":"IF(IFERROR(INDEX(Přehled_body!$E$3:$ED$130,MATCH(Tabulka!$AI73,Přehled_body!$A$3:$A$130,0),MATCH(Tabulka!P$2,Přehled_body!$E$1:$ED$1,0)),)=\"\",,IF(IFERROR(INDEX(Přehled_body!$E$3:$ED$130,MATCH(Tabulka!$AI73,Přehled_body!$A$3:$A$130,0),MATCH(Tabulka!P$2,Přehled_body!$E$1:$ED$1,0)),)=0,0.00000000001,IFERROR(INDEX(Přehled_body!$E$3:$ED$130,MATCH(Tabulka!$AI73,Přehled_body!$A$3:$A$130,0),MATCH(Tabulka!P$2,Přehled_body!$E$1:$ED$1,0)),)))","v":0},{"$f":"IF(IFERROR(INDEX(Přehled_body!$E$3:$ED$130,MATCH(Tabulka!$AI73,Přehled_body!$A$3:$A$130,0),MATCH(Tabulka!Q$2,Přehled_body!$E$1:$ED$1,0)),)=\"\",,IF(IFERROR(INDEX(Přehled_body!$E$3:$ED$130,MATCH(Tabulka!$AI73,Přehled_body!$A$3:$A$130,0),MATCH(Tabulka!Q$2,Přehled_body!$E$1:$ED$1,0)),)=0,0.00000000001,IFERROR(INDEX(Přehled_body!$E$3:$ED$130,MATCH(Tabulka!$AI73,Přehled_body!$A$3:$A$130,0),MATCH(Tabulka!Q$2,Přehled_body!$E$1:$ED$1,0)),)))","v":0},{"$f":"IF(IFERROR(INDEX(Přehled_body!$E$3:$ED$130,MATCH(Tabulka!$AI73,Přehled_body!$A$3:$A$130,0),MATCH(Tabulka!R$2,Přehled_body!$E$1:$ED$1,0)),)=\"\",,IF(IFERROR(INDEX(Přehled_body!$E$3:$ED$130,MATCH(Tabulka!$AI73,Přehled_body!$A$3:$A$130,0),MATCH(Tabulka!R$2,Přehled_body!$E$1:$ED$1,0)),)=0,0.00000000001,IFERROR(INDEX(Přehled_body!$E$3:$ED$130,MATCH(Tabulka!$AI73,Přehled_body!$A$3:$A$130,0),MATCH(Tabulka!R$2,Přehled_body!$E$1:$ED$1,0)),)))","v":0},{"$f":"IF(IFERROR(INDEX(Přehled_body!$E$3:$ED$130,MATCH(Tabulka!$AI73,Přehled_body!$A$3:$A$130,0),MATCH(Tabulka!S$2,Přehled_body!$E$1:$ED$1,0)),)=\"\",,IF(IFERROR(INDEX(Přehled_body!$E$3:$ED$130,MATCH(Tabulka!$AI73,Přehled_body!$A$3:$A$130,0),MATCH(Tabulka!S$2,Přehled_body!$E$1:$ED$1,0)),)=0,0.00000000001,IFERROR(INDEX(Přehled_body!$E$3:$ED$130,MATCH(Tabulka!$AI73,Přehled_body!$A$3:$A$130,0),MATCH(Tabulka!S$2,Přehled_body!$E$1:$ED$1,0)),)))","v":0},{"$f":"IF(IFERROR(INDEX(Přehled_body!$E$3:$ED$130,MATCH(Tabulka!$AI73,Přehled_body!$A$3:$A$130,0),MATCH(Tabulka!T$2,Přehled_body!$E$1:$ED$1,0)),)=\"\",,IF(IFERROR(INDEX(Přehled_body!$E$3:$ED$130,MATCH(Tabulka!$AI73,Přehled_body!$A$3:$A$130,0),MATCH(Tabulka!T$2,Přehled_body!$E$1:$ED$1,0)),)=0,0.00000000001,IFERROR(INDEX(Přehled_body!$E$3:$ED$130,MATCH(Tabulka!$AI73,Přehled_body!$A$3:$A$130,0),MATCH(Tabulka!T$2,Přehled_body!$E$1:$ED$1,0)),)))","v":0},{"$f":"IF(IFERROR(INDEX(Přehled_body!$E$3:$ED$130,MATCH(Tabulka!$AI73,Přehled_body!$A$3:$A$130,0),MATCH(Tabulka!U$2,Přehled_body!$E$1:$ED$1,0)),)=\"\",,IF(IFERROR(INDEX(Přehled_body!$E$3:$ED$130,MATCH(Tabulka!$AI73,Přehled_body!$A$3:$A$130,0),MATCH(Tabulka!U$2,Přehled_body!$E$1:$ED$1,0)),)=0,0.00000000001,IFERROR(INDEX(Přehled_body!$E$3:$ED$130,MATCH(Tabulka!$AI73,Přehled_body!$A$3:$A$130,0),MATCH(Tabulka!U$2,Přehled_body!$E$1:$ED$1,0)),)))","v":0},{"$f":"IF(IFERROR(INDEX(Přehled_body!$E$3:$ED$130,MATCH(Tabulka!$AI73,Přehled_body!$A$3:$A$130,0),MATCH(Tabulka!V$2,Přehled_body!$E$1:$ED$1,0)),)=\"\",,IF(IFERROR(INDEX(Přehled_body!$E$3:$ED$130,MATCH(Tabulka!$AI73,Přehled_body!$A$3:$A$130,0),MATCH(Tabulka!V$2,Přehled_body!$E$1:$ED$1,0)),)=0,0.00000000001,IFERROR(INDEX(Přehled_body!$E$3:$ED$130,MATCH(Tabulka!$AI73,Přehled_body!$A$3:$A$130,0),MATCH(Tabulka!V$2,Přehled_body!$E$1:$ED$1,0)),)))","v":0},{"$f":"IF(IFERROR(INDEX(Přehled_body!$E$3:$ED$130,MATCH(Tabulka!$AI73,Přehled_body!$A$3:$A$130,0),MATCH(Tabulka!W$2,Přehled_body!$E$1:$ED$1,0)),)=\"\",,IF(IFERROR(INDEX(Přehled_body!$E$3:$ED$130,MATCH(Tabulka!$AI73,Přehled_body!$A$3:$A$130,0),MATCH(Tabulka!W$2,Přehled_body!$E$1:$ED$1,0)),)=0,0.00000000001,IFERROR(INDEX(Přehled_body!$E$3:$ED$130,MATCH(Tabulka!$AI73,Přehled_body!$A$3:$A$130,0),MATCH(Tabulka!W$2,Přehled_body!$E$1:$ED$1,0)),)))","v":0},{"$f":"IF(IFERROR(INDEX(Přehled_body!$E$3:$ED$130,MATCH(Tabulka!$AI73,Přehled_body!$A$3:$A$130,0),MATCH(Tabulka!X$2,Přehled_body!$E$1:$ED$1,0)),)=\"\",,IF(IFERROR(INDEX(Přehled_body!$E$3:$ED$130,MATCH(Tabulka!$AI73,Přehled_body!$A$3:$A$130,0),MATCH(Tabulka!X$2,Přehled_body!$E$1:$ED$1,0)),)=0,0.00000000001,IFERROR(INDEX(Přehled_body!$E$3:$ED$130,MATCH(Tabulka!$AI73,Přehled_body!$A$3:$A$130,0),MATCH(Tabulka!X$2,Přehled_body!$E$1:$ED$1,0)),)))","v":0},{"$f":"IF(IFERROR(INDEX(Přehled_body!$E$3:$ED$130,MATCH(Tabulka!$AI73,Přehled_body!$A$3:$A$130,0),MATCH(Tabulka!Y$2,Přehled_body!$E$1:$ED$1,0)),)=\"\",,IF(IFERROR(INDEX(Přehled_body!$E$3:$ED$130,MATCH(Tabulka!$AI73,Přehled_body!$A$3:$A$130,0),MATCH(Tabulka!Y$2,Přehled_body!$E$1:$ED$1,0)),)=0,0.00000000001,IFERROR(INDEX(Přehled_body!$E$3:$ED$130,MATCH(Tabulka!$AI73,Přehled_body!$A$3:$A$130,0),MATCH(Tabulka!Y$2,Přehled_body!$E$1:$ED$1,0)),)))","v":0},{"$f":"IF(IFERROR(INDEX(Přehled_body!$E$3:$ED$130,MATCH(Tabulka!$AI73,Přehled_body!$A$3:$A$130,0),MATCH(Tabulka!Z$2,Přehled_body!$E$1:$ED$1,0)),)=\"\",,IF(IFERROR(INDEX(Přehled_body!$E$3:$ED$130,MATCH(Tabulka!$AI73,Přehled_body!$A$3:$A$130,0),MATCH(Tabulka!Z$2,Přehled_body!$E$1:$ED$1,0)),)=0,0.00000000001,IFERROR(INDEX(Přehled_body!$E$3:$ED$130,MATCH(Tabulka!$AI73,Přehled_body!$A$3:$A$130,0),MATCH(Tabulka!Z$2,Přehled_body!$E$1:$ED$1,0)),)))","v":0},{"$f":"IF(IFERROR(INDEX(Přehled_body!$E$3:$ED$130,MATCH(Tabulka!$AI73,Přehled_body!$A$3:$A$130,0),MATCH(Tabulka!AA$2,Přehled_body!$E$1:$ED$1,0)),)=\"\",,IF(IFERROR(INDEX(Přehled_body!$E$3:$ED$130,MATCH(Tabulka!$AI73,Přehled_body!$A$3:$A$130,0),MATCH(Tabulka!AA$2,Přehled_body!$E$1:$ED$1,0)),)=0,0.00000000001,IFERROR(INDEX(Přehled_body!$E$3:$ED$130,MATCH(Tabulka!$AI73,Přehled_body!$A$3:$A$130,0),MATCH(Tabulka!AA$2,Přehled_body!$E$1:$ED$1,0)),)))","v":0},{"$f":"IF(IFERROR(INDEX(Přehled_body!$E$3:$ED$130,MATCH(Tabulka!$AI73,Přehled_body!$A$3:$A$130,0),MATCH(Tabulka!AB$2,Přehled_body!$E$1:$ED$1,0)),)=\"\",,IF(IFERROR(INDEX(Přehled_body!$E$3:$ED$130,MATCH(Tabulka!$AI73,Přehled_body!$A$3:$A$130,0),MATCH(Tabulka!AB$2,Přehled_body!$E$1:$ED$1,0)),)=0,0.00000000001,IFERROR(INDEX(Přehled_body!$E$3:$ED$130,MATCH(Tabulka!$AI73,Přehled_body!$A$3:$A$130,0),MATCH(Tabulka!AB$2,Přehled_body!$E$1:$ED$1,0)),)))","v":0},{"$f":"IF(IFERROR(INDEX(Přehled_body!$E$3:$ED$130,MATCH(Tabulka!$AI73,Přehled_body!$A$3:$A$130,0),MATCH(Tabulka!AC$2,Přehled_body!$E$1:$ED$1,0)),)=\"\",,IF(IFERROR(INDEX(Přehled_body!$E$3:$ED$130,MATCH(Tabulka!$AI73,Přehled_body!$A$3:$A$130,0),MATCH(Tabulka!AC$2,Přehled_body!$E$1:$ED$1,0)),)=0,0.00000000001,IFERROR(INDEX(Přehled_body!$E$3:$ED$130,MATCH(Tabulka!$AI73,Přehled_body!$A$3:$A$130,0),MATCH(Tabulka!AC$2,Přehled_body!$E$1:$ED$1,0)),)))","v":0},{"$f":"IF(IFERROR(INDEX(Přehled_body!$E$3:$ED$130,MATCH(Tabulka!$AI73,Přehled_body!$A$3:$A$130,0),MATCH(Tabulka!AD$2,Přehled_body!$E$1:$ED$1,0)),)=\"\",,IF(IFERROR(INDEX(Přehled_body!$E$3:$ED$130,MATCH(Tabulka!$AI73,Přehled_body!$A$3:$A$130,0),MATCH(Tabulka!AD$2,Přehled_body!$E$1:$ED$1,0)),)=0,0.00000000001,IFERROR(INDEX(Přehled_body!$E$3:$ED$130,MATCH(Tabulka!$AI73,Přehled_body!$A$3:$A$130,0),MATCH(Tabulka!AD$2,Přehled_body!$E$1:$ED$1,0)),)))","v":0},{"$f":"IF(SUM($D$69:$AD$73)<1,-90000,SUM(D73:AD73))","v":-90000},null,null,null,{"$f":"CONCATENATE($B$70,\" \",$B$71,C73)","v":"Míra KulhanPoč. kol"}]
[null,null,"Výhry",{"$f":"IF(IFERROR(INDEX(Přehled_body!$E$3:$ED$130,MATCH(Tabulka!$AI74,Přehled_body!$A$3:$A$130,0),MATCH(Tabulka!D$2,Přehled_body!$E$1:$ED$1,0)),)=\"\",,IF(IFERROR(INDEX(Přehled_body!$E$3:$ED$130,MATCH(Tabulka!$AI74,Přehled_body!$A$3:$A$130,0),MATCH(Tabulka!D$2,Přehled_body!$E$1:$ED$1,0)),)=0,0.00000000001,IFERROR(INDEX(Přehled_body!$E$3:$ED$130,MATCH(Tabulka!$AI74,Přehled_body!$A$3:$A$130,0),MATCH(Tabulka!D$2,Přehled_body!$E$1:$ED$1,0)),)))","v":0},{"$f":"IF(IFERROR(INDEX(Přehled_body!$E$3:$ED$130,MATCH(Tabulka!$AI74,Přehled_body!$A$3:$A$130,0),MATCH(Tabulka!E$2,Přehled_body!$E$1:$ED$1,0)),)=\"\",,IF(IFERROR(INDEX(Přehled_body!$E$3:$ED$130,MATCH(Tabulka!$AI74,Přehled_body!$A$3:$A$130,0),MATCH(Tabulka!E$2,Přehled_body!$E$1:$ED$1,0)),)=0,0.00000000001,IFERROR(INDEX(Přehled_body!$E$3:$ED$130,MATCH(Tabulka!$AI74,Přehled_body!$A$3:$A$130,0),MATCH(Tabulka!E$2,Přehled_body!$E$1:$ED$1,0)),)))","v":0},{"$f":"IF(IFERROR(INDEX(Přehled_body!$E$3:$ED$130,MATCH(Tabulka!$AI74,Přehled_body!$A$3:$A$130,0),MATCH(Tabulka!F$2,Přehled_body!$E$1:$ED$1,0)),)=\"\",,IF(IFERROR(INDEX(Přehled_body!$E$3:$ED$130,MATCH(Tabulka!$AI74,Přehled_body!$A$3:$A$130,0),MATCH(Tabulka!F$2,Přehled_body!$E$1:$ED$1,0)),)=0,0.00000000001,IFERROR(INDEX(Přehled_body!$E$3:$ED$130,MATCH(Tabulka!$AI74,Přehled_body!$A$3:$A$130,0),MATCH(Tabulka!F$2,Přehled_body!$E$1:$ED$1,0)),)))","v":0},{"$f":"IF(IFERROR(INDEX(Přehled_body!$E$3:$ED$130,MATCH(Tabulka!$AI74,Přehled_body!$A$3:$A$130,0),MATCH(Tabulka!G$2,Přehled_body!$E$1:$ED$1,0)),)=\"\",,IF(IFERROR(INDEX(Přehled_body!$E$3:$ED$130,MATCH(Tabulka!$AI74,Přehled_body!$A$3:$A$130,0),MATCH(Tabulka!G$2,Přehled_body!$E$1:$ED$1,0)),)=0,0.00000000001,IFERROR(INDEX(Přehled_body!$E$3:$ED$130,MATCH(Tabulka!$AI74,Přehled_body!$A$3:$A$130,0),MATCH(Tabulka!G$2,Přehled_body!$E$1:$ED$1,0)),)))","v":0},{"$f":"IF(IFERROR(INDEX(Přehled_body!$E$3:$ED$130,MATCH(Tabulka!$AI74,Přehled_body!$A$3:$A$130,0),MATCH(Tabulka!H$2,Přehled_body!$E$1:$ED$1,0)),)=\"\",,IF(IFERROR(INDEX(Přehled_body!$E$3:$ED$130,MATCH(Tabulka!$AI74,Přehled_body!$A$3:$A$130,0),MATCH(Tabulka!H$2,Přehled_body!$E$1:$ED$1,0)),)=0,0.00000000001,IFERROR(INDEX(Přehled_body!$E$3:$ED$130,MATCH(Tabulka!$AI74,Přehled_body!$A$3:$A$130,0),MATCH(Tabulka!H$2,Přehled_body!$E$1:$ED$1,0)),)))","v":0},{"$f":"IF(IFERROR(INDEX(Přehled_body!$E$3:$ED$130,MATCH(Tabulka!$AI74,Přehled_body!$A$3:$A$130,0),MATCH(Tabulka!I$2,Přehled_body!$E$1:$ED$1,0)),)=\"\",,IF(IFERROR(INDEX(Přehled_body!$E$3:$ED$130,MATCH(Tabulka!$AI74,Přehled_body!$A$3:$A$130,0),MATCH(Tabulka!I$2,Přehled_body!$E$1:$ED$1,0)),)=0,0.00000000001,IFERROR(INDEX(Přehled_body!$E$3:$ED$130,MATCH(Tabulka!$AI74,Přehled_body!$A$3:$A$130,0),MATCH(Tabulka!I$2,Přehled_body!$E$1:$ED$1,0)),)))","v":0},{"$f":"IF(IFERROR(INDEX(Přehled_body!$E$3:$ED$130,MATCH(Tabulka!$AI74,Přehled_body!$A$3:$A$130,0),MATCH(Tabulka!J$2,Přehled_body!$E$1:$ED$1,0)),)=\"\",,IF(IFERROR(INDEX(Přehled_body!$E$3:$ED$130,MATCH(Tabulka!$AI74,Přehled_body!$A$3:$A$130,0),MATCH(Tabulka!J$2,Přehled_body!$E$1:$ED$1,0)),)=0,0.00000000001,IFERROR(INDEX(Přehled_body!$E$3:$ED$130,MATCH(Tabulka!$AI74,Přehled_body!$A$3:$A$130,0),MATCH(Tabulka!J$2,Přehled_body!$E$1:$ED$1,0)),)))","v":0},{"$f":"IF(IFERROR(INDEX(Přehled_body!$E$3:$ED$130,MATCH(Tabulka!$AI74,Přehled_body!$A$3:$A$130,0),MATCH(Tabulka!K$2,Přehled_body!$E$1:$ED$1,0)),)=\"\",,IF(IFERROR(INDEX(Přehled_body!$E$3:$ED$130,MATCH(Tabulka!$AI74,Přehled_body!$A$3:$A$130,0),MATCH(Tabulka!K$2,Přehled_body!$E$1:$ED$1,0)),)=0,0.00000000001,IFERROR(INDEX(Přehled_body!$E$3:$ED$130,MATCH(Tabulka!$AI74,Přehled_body!$A$3:$A$130,0),MATCH(Tabulka!K$2,Přehled_body!$E$1:$ED$1,0)),)))","v":0},{"$f":"IF(IFERROR(INDEX(Přehled_body!$E$3:$ED$130,MATCH(Tabulka!$AI74,Přehled_body!$A$3:$A$130,0),MATCH(Tabulka!L$2,Přehled_body!$E$1:$ED$1,0)),)=\"\",,IF(IFERROR(INDEX(Přehled_body!$E$3:$ED$130,MATCH(Tabulka!$AI74,Přehled_body!$A$3:$A$130,0),MATCH(Tabulka!L$2,Přehled_body!$E$1:$ED$1,0)),)=0,0.00000000001,IFERROR(INDEX(Přehled_body!$E$3:$ED$130,MATCH(Tabulka!$AI74,Přehled_body!$A$3:$A$130,0),MATCH(Tabulka!L$2,Přehled_body!$E$1:$ED$1,0)),)))","v":0},{"$f":"IF(IFERROR(INDEX(Přehled_body!$E$3:$ED$130,MATCH(Tabulka!$AI74,Přehled_body!$A$3:$A$130,0),MATCH(Tabulka!M$2,Přehled_body!$E$1:$ED$1,0)),)=\"\",,IF(IFERROR(INDEX(Přehled_body!$E$3:$ED$130,MATCH(Tabulka!$AI74,Přehled_body!$A$3:$A$130,0),MATCH(Tabulka!M$2,Přehled_body!$E$1:$ED$1,0)),)=0,0.00000000001,IFERROR(INDEX(Přehled_body!$E$3:$ED$130,MATCH(Tabulka!$AI74,Přehled_body!$A$3:$A$130,0),MATCH(Tabulka!M$2,Přehled_body!$E$1:$ED$1,0)),)))","v":0},{"$f":"IF(IFERROR(INDEX(Přehled_body!$E$3:$ED$130,MATCH(Tabulka!$AI74,Přehled_body!$A$3:$A$130,0),MATCH(Tabulka!N$2,Přehled_body!$E$1:$ED$1,0)),)=\"\",,IF(IFERROR(INDEX(Přehled_body!$E$3:$ED$130,MATCH(Tabulka!$AI74,Přehled_body!$A$3:$A$130,0),MATCH(Tabulka!N$2,Přehled_body!$E$1:$ED$1,0)),)=0,0.00000000001,IFERROR(INDEX(Přehled_body!$E$3:$ED$130,MATCH(Tabulka!$AI74,Přehled_body!$A$3:$A$130,0),MATCH(Tabulka!N$2,Přehled_body!$E$1:$ED$1,0)),)))","v":0},{"$f":"IF(IFERROR(INDEX(Přehled_body!$E$3:$ED$130,MATCH(Tabulka!$AI74,Přehled_body!$A$3:$A$130,0),MATCH(Tabulka!O$2,Přehled_body!$E$1:$ED$1,0)),)=\"\",,IF(IFERROR(INDEX(Přehled_body!$E$3:$ED$130,MATCH(Tabulka!$AI74,Přehled_body!$A$3:$A$130,0),MATCH(Tabulka!O$2,Přehled_body!$E$1:$ED$1,0)),)=0,0.00000000001,IFERROR(INDEX(Přehled_body!$E$3:$ED$130,MATCH(Tabulka!$AI74,Přehled_body!$A$3:$A$130,0),MATCH(Tabulka!O$2,Přehled_body!$E$1:$ED$1,0)),)))","v":0},{"$f":"IF(IFERROR(INDEX(Přehled_body!$E$3:$ED$130,MATCH(Tabulka!$AI74,Přehled_body!$A$3:$A$130,0),MATCH(Tabulka!P$2,Přehled_body!$E$1:$ED$1,0)),)=\"\",,IF(IFERROR(INDEX(Přehled_body!$E$3:$ED$130,MATCH(Tabulka!$AI74,Přehled_body!$A$3:$A$130,0),MATCH(Tabulka!P$2,Přehled_body!$E$1:$ED$1,0)),)=0,0.00000000001,IFERROR(INDEX(Přehled_body!$E$3:$ED$130,MATCH(Tabulka!$AI74,Přehled_body!$A$3:$A$130,0),MATCH(Tabulka!P$2,Přehled_body!$E$1:$ED$1,0)),)))","v":0},{"$f":"IF(IFERROR(INDEX(Přehled_body!$E$3:$ED$130,MATCH(Tabulka!$AI74,Přehled_body!$A$3:$A$130,0),MATCH(Tabulka!Q$2,Přehled_body!$E$1:$ED$1,0)),)=\"\",,IF(IFERROR(INDEX(Přehled_body!$E$3:$ED$130,MATCH(Tabulka!$AI74,Přehled_body!$A$3:$A$130,0),MATCH(Tabulka!Q$2,Přehled_body!$E$1:$ED$1,0)),)=0,0.00000000001,IFERROR(INDEX(Přehled_body!$E$3:$ED$130,MATCH(Tabulka!$AI74,Přehled_body!$A$3:$A$130,0),MATCH(Tabulka!Q$2,Přehled_body!$E$1:$ED$1,0)),)))","v":0},{"$f":"IF(IFERROR(INDEX(Přehled_body!$E$3:$ED$130,MATCH(Tabulka!$AI74,Přehled_body!$A$3:$A$130,0),MATCH(Tabulka!R$2,Přehled_body!$E$1:$ED$1,0)),)=\"\",,IF(IFERROR(INDEX(Přehled_body!$E$3:$ED$130,MATCH(Tabulka!$AI74,Přehled_body!$A$3:$A$130,0),MATCH(Tabulka!R$2,Přehled_body!$E$1:$ED$1,0)),)=0,0.00000000001,IFERROR(INDEX(Přehled_body!$E$3:$ED$130,MATCH(Tabulka!$AI74,Přehled_body!$A$3:$A$130,0),MATCH(Tabulka!R$2,Přehled_body!$E$1:$ED$1,0)),)))","v":0},{"$f":"IF(IFERROR(INDEX(Přehled_body!$E$3:$ED$130,MATCH(Tabulka!$AI74,Přehled_body!$A$3:$A$130,0),MATCH(Tabulka!S$2,Přehled_body!$E$1:$ED$1,0)),)=\"\",,IF(IFERROR(INDEX(Přehled_body!$E$3:$ED$130,MATCH(Tabulka!$AI74,Přehled_body!$A$3:$A$130,0),MATCH(Tabulka!S$2,Přehled_body!$E$1:$ED$1,0)),)=0,0.00000000001,IFERROR(INDEX(Přehled_body!$E$3:$ED$130,MATCH(Tabulka!$AI74,Přehled_body!$A$3:$A$130,0),MATCH(Tabulka!S$2,Přehled_body!$E$1:$ED$1,0)),)))","v":0},{"$f":"IF(IFERROR(INDEX(Přehled_body!$E$3:$ED$130,MATCH(Tabulka!$AI74,Přehled_body!$A$3:$A$130,0),MATCH(Tabulka!T$2,Přehled_body!$E$1:$ED$1,0)),)=\"\",,IF(IFERROR(INDEX(Přehled_body!$E$3:$ED$130,MATCH(Tabulka!$AI74,Přehled_body!$A$3:$A$130,0),MATCH(Tabulka!T$2,Přehled_body!$E$1:$ED$1,0)),)=0,0.00000000001,IFERROR(INDEX(Přehled_body!$E$3:$ED$130,MATCH(Tabulka!$AI74,Přehled_body!$A$3:$A$130,0),MATCH(Tabulka!T$2,Přehled_body!$E$1:$ED$1,0)),)))","v":0},{"$f":"IF(IFERROR(INDEX(Přehled_body!$E$3:$ED$130,MATCH(Tabulka!$AI74,Přehled_body!$A$3:$A$130,0),MATCH(Tabulka!U$2,Přehled_body!$E$1:$ED$1,0)),)=\"\",,IF(IFERROR(INDEX(Přehled_body!$E$3:$ED$130,MATCH(Tabulka!$AI74,Přehled_body!$A$3:$A$130,0),MATCH(Tabulka!U$2,Přehled_body!$E$1:$ED$1,0)),)=0,0.00000000001,IFERROR(INDEX(Přehled_body!$E$3:$ED$130,MATCH(Tabulka!$AI74,Přehled_body!$A$3:$A$130,0),MATCH(Tabulka!U$2,Přehled_body!$E$1:$ED$1,0)),)))","v":0},{"$f":"IF(IFERROR(INDEX(Přehled_body!$E$3:$ED$130,MATCH(Tabulka!$AI74,Přehled_body!$A$3:$A$130,0),MATCH(Tabulka!V$2,Přehled_body!$E$1:$ED$1,0)),)=\"\",,IF(IFERROR(INDEX(Přehled_body!$E$3:$ED$130,MATCH(Tabulka!$AI74,Přehled_body!$A$3:$A$130,0),MATCH(Tabulka!V$2,Přehled_body!$E$1:$ED$1,0)),)=0,0.00000000001,IFERROR(INDEX(Přehled_body!$E$3:$ED$130,MATCH(Tabulka!$AI74,Přehled_body!$A$3:$A$130,0),MATCH(Tabulka!V$2,Přehled_body!$E$1:$ED$1,0)),)))","v":0},{"$f":"IF(IFERROR(INDEX(Přehled_body!$E$3:$ED$130,MATCH(Tabulka!$AI74,Přehled_body!$A$3:$A$130,0),MATCH(Tabulka!W$2,Přehled_body!$E$1:$ED$1,0)),)=\"\",,IF(IFERROR(INDEX(Přehled_body!$E$3:$ED$130,MATCH(Tabulka!$AI74,Přehled_body!$A$3:$A$130,0),MATCH(Tabulka!W$2,Přehled_body!$E$1:$ED$1,0)),)=0,0.00000000001,IFERROR(INDEX(Přehled_body!$E$3:$ED$130,MATCH(Tabulka!$AI74,Přehled_body!$A$3:$A$130,0),MATCH(Tabulka!W$2,Přehled_body!$E$1:$ED$1,0)),)))","v":0},{"$f":"IF(IFERROR(INDEX(Přehled_body!$E$3:$ED$130,MATCH(Tabulka!$AI74,Přehled_body!$A$3:$A$130,0),MATCH(Tabulka!X$2,Přehled_body!$E$1:$ED$1,0)),)=\"\",,IF(IFERROR(INDEX(Přehled_body!$E$3:$ED$130,MATCH(Tabulka!$AI74,Přehled_body!$A$3:$A$130,0),MATCH(Tabulka!X$2,Přehled_body!$E$1:$ED$1,0)),)=0,0.00000000001,IFERROR(INDEX(Přehled_body!$E$3:$ED$130,MATCH(Tabulka!$AI74,Přehled_body!$A$3:$A$130,0),MATCH(Tabulka!X$2,Přehled_body!$E$1:$ED$1,0)),)))","v":0},{"$f":"IF(IFERROR(INDEX(Přehled_body!$E$3:$ED$130,MATCH(Tabulka!$AI74,Přehled_body!$A$3:$A$130,0),MATCH(Tabulka!Y$2,Přehled_body!$E$1:$ED$1,0)),)=\"\",,IF(IFERROR(INDEX(Přehled_body!$E$3:$ED$130,MATCH(Tabulka!$AI74,Přehled_body!$A$3:$A$130,0),MATCH(Tabulka!Y$2,Přehled_body!$E$1:$ED$1,0)),)=0,0.00000000001,IFERROR(INDEX(Přehled_body!$E$3:$ED$130,MATCH(Tabulka!$AI74,Přehled_body!$A$3:$A$130,0),MATCH(Tabulka!Y$2,Přehled_body!$E$1:$ED$1,0)),)))","v":0},{"$f":"IF(IFERROR(INDEX(Přehled_body!$E$3:$ED$130,MATCH(Tabulka!$AI74,Přehled_body!$A$3:$A$130,0),MATCH(Tabulka!Z$2,Přehled_body!$E$1:$ED$1,0)),)=\"\",,IF(IFERROR(INDEX(Přehled_body!$E$3:$ED$130,MATCH(Tabulka!$AI74,Přehled_body!$A$3:$A$130,0),MATCH(Tabulka!Z$2,Přehled_body!$E$1:$ED$1,0)),)=0,0.00000000001,IFERROR(INDEX(Přehled_body!$E$3:$ED$130,MATCH(Tabulka!$AI74,Přehled_body!$A$3:$A$130,0),MATCH(Tabulka!Z$2,Přehled_body!$E$1:$ED$1,0)),)))","v":0},{"$f":"IF(IFERROR(INDEX(Přehled_body!$E$3:$ED$130,MATCH(Tabulka!$AI74,Přehled_body!$A$3:$A$130,0),MATCH(Tabulka!AA$2,Přehled_body!$E$1:$ED$1,0)),)=\"\",,IF(IFERROR(INDEX(Přehled_body!$E$3:$ED$130,MATCH(Tabulka!$AI74,Přehled_body!$A$3:$A$130,0),MATCH(Tabulka!AA$2,Přehled_body!$E$1:$ED$1,0)),)=0,0.00000000001,IFERROR(INDEX(Přehled_body!$E$3:$ED$130,MATCH(Tabulka!$AI74,Přehled_body!$A$3:$A$130,0),MATCH(Tabulka!AA$2,Přehled_body!$E$1:$ED$1,0)),)))","v":0},{"$f":"IF(IFERROR(INDEX(Přehled_body!$E$3:$ED$130,MATCH(Tabulka!$AI74,Přehled_body!$A$3:$A$130,0),MATCH(Tabulka!AB$2,Přehled_body!$E$1:$ED$1,0)),)=\"\",,IF(IFERROR(INDEX(Přehled_body!$E$3:$ED$130,MATCH(Tabulka!$AI74,Přehled_body!$A$3:$A$130,0),MATCH(Tabulka!AB$2,Přehled_body!$E$1:$ED$1,0)),)=0,0.00000000001,IFERROR(INDEX(Přehled_body!$E$3:$ED$130,MATCH(Tabulka!$AI74,Přehled_body!$A$3:$A$130,0),MATCH(Tabulka!AB$2,Přehled_body!$E$1:$ED$1,0)),)))","v":0},{"$f":"IF(IFERROR(INDEX(Přehled_body!$E$3:$ED$130,MATCH(Tabulka!$AI74,Přehled_body!$A$3:$A$130,0),MATCH(Tabulka!AC$2,Přehled_body!$E$1:$ED$1,0)),)=\"\",,IF(IFERROR(INDEX(Přehled_body!$E$3:$ED$130,MATCH(Tabulka!$AI74,Přehled_body!$A$3:$A$130,0),MATCH(Tabulka!AC$2,Přehled_body!$E$1:$ED$1,0)),)=0,0.00000000001,IFERROR(INDEX(Přehled_body!$E$3:$ED$130,MATCH(Tabulka!$AI74,Přehled_body!$A$3:$A$130,0),MATCH(Tabulka!AC$2,Přehled_body!$E$1:$ED$1,0)),)))","v":0},{"$f":"IF(IFERROR(INDEX(Přehled_body!$E$3:$ED$130,MATCH(Tabulka!$AI74,Přehled_body!$A$3:$A$130,0),MATCH(Tabulka!AD$2,Přehled_body!$E$1:$ED$1,0)),)=\"\",,IF(IFERROR(INDEX(Přehled_body!$E$3:$ED$130,MATCH(Tabulka!$AI74,Přehled_body!$A$3:$A$130,0),MATCH(Tabulka!AD$2,Přehled_body!$E$1:$ED$1,0)),)=0,0.00000000001,IFERROR(INDEX(Přehled_body!$E$3:$ED$130,MATCH(Tabulka!$AI74,Přehled_body!$A$3:$A$130,0),MATCH(Tabulka!AD$2,Přehled_body!$E$1:$ED$1,0)),)))","v":0},{"$f":"IF(SUM($D$74:$AD$78)<1,-90000,SUM(D74:AD74))","v":-90000},null,{"$f":"COUNTIF(D74:AD74,\">0\")","v":0},null,{"$f":"CONCATENATE($B$75,\" \",$B$76,C74)","v":"Míla WeinerováVýhry"}]
[{"$f":"CONCATENATE(B75,\" \",B76)","v":"Míla Weinerová"},"Míla","Prohry",{"$f":"IF(IFERROR(INDEX(Přehled_body!$E$3:$ED$130,MATCH(Tabulka!$AI75,Přehled_body!$A$3:$A$130,0),MATCH(Tabulka!D$2,Přehled_body!$E$1:$ED$1,0)),)=\"\",,IF(IFERROR(INDEX(Přehled_body!$E$3:$ED$130,MATCH(Tabulka!$AI75,Přehled_body!$A$3:$A$130,0),MATCH(Tabulka!D$2,Přehled_body!$E$1:$ED$1,0)),)=0,0.00000000001,IFERROR(INDEX(Přehled_body!$E$3:$ED$130,MATCH(Tabulka!$AI75,Přehled_body!$A$3:$A$130,0),MATCH(Tabulka!D$2,Přehled_body!$E$1:$ED$1,0)),)))","v":0},{"$f":"IF(IFERROR(INDEX(Přehled_body!$E$3:$ED$130,MATCH(Tabulka!$AI75,Přehled_body!$A$3:$A$130,0),MATCH(Tabulka!E$2,Přehled_body!$E$1:$ED$1,0)),)=\"\",,IF(IFERROR(INDEX(Přehled_body!$E$3:$ED$130,MATCH(Tabulka!$AI75,Přehled_body!$A$3:$A$130,0),MATCH(Tabulka!E$2,Přehled_body!$E$1:$ED$1,0)),)=0,0.00000000001,IFERROR(INDEX(Přehled_body!$E$3:$ED$130,MATCH(Tabulka!$AI75,Přehled_body!$A$3:$A$130,0),MATCH(Tabulka!E$2,Přehled_body!$E$1:$ED$1,0)),)))","v":0},{"$f":"IF(IFERROR(INDEX(Přehled_body!$E$3:$ED$130,MATCH(Tabulka!$AI75,Přehled_body!$A$3:$A$130,0),MATCH(Tabulka!F$2,Přehled_body!$E$1:$ED$1,0)),)=\"\",,IF(IFERROR(INDEX(Přehled_body!$E$3:$ED$130,MATCH(Tabulka!$AI75,Přehled_body!$A$3:$A$130,0),MATCH(Tabulka!F$2,Přehled_body!$E$1:$ED$1,0)),)=0,0.00000000001,IFERROR(INDEX(Přehled_body!$E$3:$ED$130,MATCH(Tabulka!$AI75,Přehled_body!$A$3:$A$130,0),MATCH(Tabulka!F$2,Přehled_body!$E$1:$ED$1,0)),)))","v":0},{"$f":"IF(IFERROR(INDEX(Přehled_body!$E$3:$ED$130,MATCH(Tabulka!$AI75,Přehled_body!$A$3:$A$130,0),MATCH(Tabulka!G$2,Přehled_body!$E$1:$ED$1,0)),)=\"\",,IF(IFERROR(INDEX(Přehled_body!$E$3:$ED$130,MATCH(Tabulka!$AI75,Přehled_body!$A$3:$A$130,0),MATCH(Tabulka!G$2,Přehled_body!$E$1:$ED$1,0)),)=0,0.00000000001,IFERROR(INDEX(Přehled_body!$E$3:$ED$130,MATCH(Tabulka!$AI75,Přehled_body!$A$3:$A$130,0),MATCH(Tabulka!G$2,Přehled_body!$E$1:$ED$1,0)),)))","v":0},{"$f":"IF(IFERROR(INDEX(Přehled_body!$E$3:$ED$130,MATCH(Tabulka!$AI75,Přehled_body!$A$3:$A$130,0),MATCH(Tabulka!H$2,Přehled_body!$E$1:$ED$1,0)),)=\"\",,IF(IFERROR(INDEX(Přehled_body!$E$3:$ED$130,MATCH(Tabulka!$AI75,Přehled_body!$A$3:$A$130,0),MATCH(Tabulka!H$2,Přehled_body!$E$1:$ED$1,0)),)=0,0.00000000001,IFERROR(INDEX(Přehled_body!$E$3:$ED$130,MATCH(Tabulka!$AI75,Přehled_body!$A$3:$A$130,0),MATCH(Tabulka!H$2,Přehled_body!$E$1:$ED$1,0)),)))","v":0},{"$f":"IF(IFERROR(INDEX(Přehled_body!$E$3:$ED$130,MATCH(Tabulka!$AI75,Přehled_body!$A$3:$A$130,0),MATCH(Tabulka!I$2,Přehled_body!$E$1:$ED$1,0)),)=\"\",,IF(IFERROR(INDEX(Přehled_body!$E$3:$ED$130,MATCH(Tabulka!$AI75,Přehled_body!$A$3:$A$130,0),MATCH(Tabulka!I$2,Přehled_body!$E$1:$ED$1,0)),)=0,0.00000000001,IFERROR(INDEX(Přehled_body!$E$3:$ED$130,MATCH(Tabulka!$AI75,Přehled_body!$A$3:$A$130,0),MATCH(Tabulka!I$2,Přehled_body!$E$1:$ED$1,0)),)))","v":0},{"$f":"IF(IFERROR(INDEX(Přehled_body!$E$3:$ED$130,MATCH(Tabulka!$AI75,Přehled_body!$A$3:$A$130,0),MATCH(Tabulka!J$2,Přehled_body!$E$1:$ED$1,0)),)=\"\",,IF(IFERROR(INDEX(Přehled_body!$E$3:$ED$130,MATCH(Tabulka!$AI75,Přehled_body!$A$3:$A$130,0),MATCH(Tabulka!J$2,Přehled_body!$E$1:$ED$1,0)),)=0,0.00000000001,IFERROR(INDEX(Přehled_body!$E$3:$ED$130,MATCH(Tabulka!$AI75,Přehled_body!$A$3:$A$130,0),MATCH(Tabulka!J$2,Přehled_body!$E$1:$ED$1,0)),)))","v":0},{"$f":"IF(IFERROR(INDEX(Přehled_body!$E$3:$ED$130,MATCH(Tabulka!$AI75,Přehled_body!$A$3:$A$130,0),MATCH(Tabulka!K$2,Přehled_body!$E$1:$ED$1,0)),)=\"\",,IF(IFERROR(INDEX(Přehled_body!$E$3:$ED$130,MATCH(Tabulka!$AI75,Přehled_body!$A$3:$A$130,0),MATCH(Tabulka!K$2,Přehled_body!$E$1:$ED$1,0)),)=0,0.00000000001,IFERROR(INDEX(Přehled_body!$E$3:$ED$130,MATCH(Tabulka!$AI75,Přehled_body!$A$3:$A$130,0),MATCH(Tabulka!K$2,Přehled_body!$E$1:$ED$1,0)),)))","v":0},{"$f":"IF(IFERROR(INDEX(Přehled_body!$E$3:$ED$130,MATCH(Tabulka!$AI75,Přehled_body!$A$3:$A$130,0),MATCH(Tabulka!L$2,Přehled_body!$E$1:$ED$1,0)),)=\"\",,IF(IFERROR(INDEX(Přehled_body!$E$3:$ED$130,MATCH(Tabulka!$AI75,Přehled_body!$A$3:$A$130,0),MATCH(Tabulka!L$2,Přehled_body!$E$1:$ED$1,0)),)=0,0.00000000001,IFERROR(INDEX(Přehled_body!$E$3:$ED$130,MATCH(Tabulka!$AI75,Přehled_body!$A$3:$A$130,0),MATCH(Tabulka!L$2,Přehled_body!$E$1:$ED$1,0)),)))","v":0},{"$f":"IF(IFERROR(INDEX(Přehled_body!$E$3:$ED$130,MATCH(Tabulka!$AI75,Přehled_body!$A$3:$A$130,0),MATCH(Tabulka!M$2,Přehled_body!$E$1:$ED$1,0)),)=\"\",,IF(IFERROR(INDEX(Přehled_body!$E$3:$ED$130,MATCH(Tabulka!$AI75,Přehled_body!$A$3:$A$130,0),MATCH(Tabulka!M$2,Přehled_body!$E$1:$ED$1,0)),)=0,0.00000000001,IFERROR(INDEX(Přehled_body!$E$3:$ED$130,MATCH(Tabulka!$AI75,Přehled_body!$A$3:$A$130,0),MATCH(Tabulka!M$2,Přehled_body!$E$1:$ED$1,0)),)))","v":0},{"$f":"IF(IFERROR(INDEX(Přehled_body!$E$3:$ED$130,MATCH(Tabulka!$AI75,Přehled_body!$A$3:$A$130,0),MATCH(Tabulka!N$2,Přehled_body!$E$1:$ED$1,0)),)=\"\",,IF(IFERROR(INDEX(Přehled_body!$E$3:$ED$130,MATCH(Tabulka!$AI75,Přehled_body!$A$3:$A$130,0),MATCH(Tabulka!N$2,Přehled_body!$E$1:$ED$1,0)),)=0,0.00000000001,IFERROR(INDEX(Přehled_body!$E$3:$ED$130,MATCH(Tabulka!$AI75,Přehled_body!$A$3:$A$130,0),MATCH(Tabulka!N$2,Přehled_body!$E$1:$ED$1,0)),)))","v":0},{"$f":"IF(IFERROR(INDEX(Přehled_body!$E$3:$ED$130,MATCH(Tabulka!$AI75,Přehled_body!$A$3:$A$130,0),MATCH(Tabulka!O$2,Přehled_body!$E$1:$ED$1,0)),)=\"\",,IF(IFERROR(INDEX(Přehled_body!$E$3:$ED$130,MATCH(Tabulka!$AI75,Přehled_body!$A$3:$A$130,0),MATCH(Tabulka!O$2,Přehled_body!$E$1:$ED$1,0)),)=0,0.00000000001,IFERROR(INDEX(Přehled_body!$E$3:$ED$130,MATCH(Tabulka!$AI75,Přehled_body!$A$3:$A$130,0),MATCH(Tabulka!O$2,Přehled_body!$E$1:$ED$1,0)),)))","v":0},{"$f":"IF(IFERROR(INDEX(Přehled_body!$E$3:$ED$130,MATCH(Tabulka!$AI75,Přehled_body!$A$3:$A$130,0),MATCH(Tabulka!P$2,Přehled_body!$E$1:$ED$1,0)),)=\"\",,IF(IFERROR(INDEX(Přehled_body!$E$3:$ED$130,MATCH(Tabulka!$AI75,Přehled_body!$A$3:$A$130,0),MATCH(Tabulka!P$2,Přehled_body!$E$1:$ED$1,0)),)=0,0.00000000001,IFERROR(INDEX(Přehled_body!$E$3:$ED$130,MATCH(Tabulka!$AI75,Přehled_body!$A$3:$A$130,0),MATCH(Tabulka!P$2,Přehled_body!$E$1:$ED$1,0)),)))","v":0},{"$f":"IF(IFERROR(INDEX(Přehled_body!$E$3:$ED$130,MATCH(Tabulka!$AI75,Přehled_body!$A$3:$A$130,0),MATCH(Tabulka!Q$2,Přehled_body!$E$1:$ED$1,0)),)=\"\",,IF(IFERROR(INDEX(Přehled_body!$E$3:$ED$130,MATCH(Tabulka!$AI75,Přehled_body!$A$3:$A$130,0),MATCH(Tabulka!Q$2,Přehled_body!$E$1:$ED$1,0)),)=0,0.00000000001,IFERROR(INDEX(Přehled_body!$E$3:$ED$130,MATCH(Tabulka!$AI75,Přehled_body!$A$3:$A$130,0),MATCH(Tabulka!Q$2,Přehled_body!$E$1:$ED$1,0)),)))","v":0},{"$f":"IF(IFERROR(INDEX(Přehled_body!$E$3:$ED$130,MATCH(Tabulka!$AI75,Přehled_body!$A$3:$A$130,0),MATCH(Tabulka!R$2,Přehled_body!$E$1:$ED$1,0)),)=\"\",,IF(IFERROR(INDEX(Přehled_body!$E$3:$ED$130,MATCH(Tabulka!$AI75,Přehled_body!$A$3:$A$130,0),MATCH(Tabulka!R$2,Přehled_body!$E$1:$ED$1,0)),)=0,0.00000000001,IFERROR(INDEX(Přehled_body!$E$3:$ED$130,MATCH(Tabulka!$AI75,Přehled_body!$A$3:$A$130,0),MATCH(Tabulka!R$2,Přehled_body!$E$1:$ED$1,0)),)))","v":0},{"$f":"IF(IFERROR(INDEX(Přehled_body!$E$3:$ED$130,MATCH(Tabulka!$AI75,Přehled_body!$A$3:$A$130,0),MATCH(Tabulka!S$2,Přehled_body!$E$1:$ED$1,0)),)=\"\",,IF(IFERROR(INDEX(Přehled_body!$E$3:$ED$130,MATCH(Tabulka!$AI75,Přehled_body!$A$3:$A$130,0),MATCH(Tabulka!S$2,Přehled_body!$E$1:$ED$1,0)),)=0,0.00000000001,IFERROR(INDEX(Přehled_body!$E$3:$ED$130,MATCH(Tabulka!$AI75,Přehled_body!$A$3:$A$130,0),MATCH(Tabulka!S$2,Přehled_body!$E$1:$ED$1,0)),)))","v":0},{"$f":"IF(IFERROR(INDEX(Přehled_body!$E$3:$ED$130,MATCH(Tabulka!$AI75,Přehled_body!$A$3:$A$130,0),MATCH(Tabulka!T$2,Přehled_body!$E$1:$ED$1,0)),)=\"\",,IF(IFERROR(INDEX(Přehled_body!$E$3:$ED$130,MATCH(Tabulka!$AI75,Přehled_body!$A$3:$A$130,0),MATCH(Tabulka!T$2,Přehled_body!$E$1:$ED$1,0)),)=0,0.00000000001,IFERROR(INDEX(Přehled_body!$E$3:$ED$130,MATCH(Tabulka!$AI75,Přehled_body!$A$3:$A$130,0),MATCH(Tabulka!T$2,Přehled_body!$E$1:$ED$1,0)),)))","v":0},{"$f":"IF(IFERROR(INDEX(Přehled_body!$E$3:$ED$130,MATCH(Tabulka!$AI75,Přehled_body!$A$3:$A$130,0),MATCH(Tabulka!U$2,Přehled_body!$E$1:$ED$1,0)),)=\"\",,IF(IFERROR(INDEX(Přehled_body!$E$3:$ED$130,MATCH(Tabulka!$AI75,Přehled_body!$A$3:$A$130,0),MATCH(Tabulka!U$2,Přehled_body!$E$1:$ED$1,0)),)=0,0.00000000001,IFERROR(INDEX(Přehled_body!$E$3:$ED$130,MATCH(Tabulka!$AI75,Přehled_body!$A$3:$A$130,0),MATCH(Tabulka!U$2,Přehled_body!$E$1:$ED$1,0)),)))","v":0},{"$f":"IF(IFERROR(INDEX(Přehled_body!$E$3:$ED$130,MATCH(Tabulka!$AI75,Přehled_body!$A$3:$A$130,0),MATCH(Tabulka!V$2,Přehled_body!$E$1:$ED$1,0)),)=\"\",,IF(IFERROR(INDEX(Přehled_body!$E$3:$ED$130,MATCH(Tabulka!$AI75,Přehled_body!$A$3:$A$130,0),MATCH(Tabulka!V$2,Přehled_body!$E$1:$ED$1,0)),)=0,0.00000000001,IFERROR(INDEX(Přehled_body!$E$3:$ED$130,MATCH(Tabulka!$AI75,Přehled_body!$A$3:$A$130,0),MATCH(Tabulka!V$2,Přehled_body!$E$1:$ED$1,0)),)))","v":0},{"$f":"IF(IFERROR(INDEX(Přehled_body!$E$3:$ED$130,MATCH(Tabulka!$AI75,Přehled_body!$A$3:$A$130,0),MATCH(Tabulka!W$2,Přehled_body!$E$1:$ED$1,0)),)=\"\",,IF(IFERROR(INDEX(Přehled_body!$E$3:$ED$130,MATCH(Tabulka!$AI75,Přehled_body!$A$3:$A$130,0),MATCH(Tabulka!W$2,Přehled_body!$E$1:$ED$1,0)),)=0,0.00000000001,IFERROR(INDEX(Přehled_body!$E$3:$ED$130,MATCH(Tabulka!$AI75,Přehled_body!$A$3:$A$130,0),MATCH(Tabulka!W$2,Přehled_body!$E$1:$ED$1,0)),)))","v":0},{"$f":"IF(IFERROR(INDEX(Přehled_body!$E$3:$ED$130,MATCH(Tabulka!$AI75,Přehled_body!$A$3:$A$130,0),MATCH(Tabulka!X$2,Přehled_body!$E$1:$ED$1,0)),)=\"\",,IF(IFERROR(INDEX(Přehled_body!$E$3:$ED$130,MATCH(Tabulka!$AI75,Přehled_body!$A$3:$A$130,0),MATCH(Tabulka!X$2,Přehled_body!$E$1:$ED$1,0)),)=0,0.00000000001,IFERROR(INDEX(Přehled_body!$E$3:$ED$130,MATCH(Tabulka!$AI75,Přehled_body!$A$3:$A$130,0),MATCH(Tabulka!X$2,Přehled_body!$E$1:$ED$1,0)),)))","v":0},{"$f":"IF(IFERROR(INDEX(Přehled_body!$E$3:$ED$130,MATCH(Tabulka!$AI75,Přehled_body!$A$3:$A$130,0),MATCH(Tabulka!Y$2,Přehled_body!$E$1:$ED$1,0)),)=\"\",,IF(IFERROR(INDEX(Přehled_body!$E$3:$ED$130,MATCH(Tabulka!$AI75,Přehled_body!$A$3:$A$130,0),MATCH(Tabulka!Y$2,Přehled_body!$E$1:$ED$1,0)),)=0,0.00000000001,IFERROR(INDEX(Přehled_body!$E$3:$ED$130,MATCH(Tabulka!$AI75,Přehled_body!$A$3:$A$130,0),MATCH(Tabulka!Y$2,Přehled_body!$E$1:$ED$1,0)),)))","v":0},{"$f":"IF(IFERROR(INDEX(Přehled_body!$E$3:$ED$130,MATCH(Tabulka!$AI75,Přehled_body!$A$3:$A$130,0),MATCH(Tabulka!Z$2,Přehled_body!$E$1:$ED$1,0)),)=\"\",,IF(IFERROR(INDEX(Přehled_body!$E$3:$ED$130,MATCH(Tabulka!$AI75,Přehled_body!$A$3:$A$130,0),MATCH(Tabulka!Z$2,Přehled_body!$E$1:$ED$1,0)),)=0,0.00000000001,IFERROR(INDEX(Přehled_body!$E$3:$ED$130,MATCH(Tabulka!$AI75,Přehled_body!$A$3:$A$130,0),MATCH(Tabulka!Z$2,Přehled_body!$E$1:$ED$1,0)),)))","v":0},{"$f":"IF(IFERROR(INDEX(Přehled_body!$E$3:$ED$130,MATCH(Tabulka!$AI75,Přehled_body!$A$3:$A$130,0),MATCH(Tabulka!AA$2,Přehled_body!$E$1:$ED$1,0)),)=\"\",,IF(IFERROR(INDEX(Přehled_body!$E$3:$ED$130,MATCH(Tabulka!$AI75,Přehled_body!$A$3:$A$130,0),MATCH(Tabulka!AA$2,Přehled_body!$E$1:$ED$1,0)),)=0,0.00000000001,IFERROR(INDEX(Přehled_body!$E$3:$ED$130,MATCH(Tabulka!$AI75,Přehled_body!$A$3:$A$130,0),MATCH(Tabulka!AA$2,Přehled_body!$E$1:$ED$1,0)),)))","v":0},{"$f":"IF(IFERROR(INDEX(Přehled_body!$E$3:$ED$130,MATCH(Tabulka!$AI75,Přehled_body!$A$3:$A$130,0),MATCH(Tabulka!AB$2,Přehled_body!$E$1:$ED$1,0)),)=\"\",,IF(IFERROR(INDEX(Přehled_body!$E$3:$ED$130,MATCH(Tabulka!$AI75,Přehled_body!$A$3:$A$130,0),MATCH(Tabulka!AB$2,Přehled_body!$E$1:$ED$1,0)),)=0,0.00000000001,IFERROR(INDEX(Přehled_body!$E$3:$ED$130,MATCH(Tabulka!$AI75,Přehled_body!$A$3:$A$130,0),MATCH(Tabulka!AB$2,Přehled_body!$E$1:$ED$1,0)),)))","v":0},{"$f":"IF(IFERROR(INDEX(Přehled_body!$E$3:$ED$130,MATCH(Tabulka!$AI75,Přehled_body!$A$3:$A$130,0),MATCH(Tabulka!AC$2,Přehled_body!$E$1:$ED$1,0)),)=\"\",,IF(IFERROR(INDEX(Přehled_body!$E$3:$ED$130,MATCH(Tabulka!$AI75,Přehled_body!$A$3:$A$130,0),MATCH(Tabulka!AC$2,Přehled_body!$E$1:$ED$1,0)),)=0,0.00000000001,IFERROR(INDEX(Přehled_body!$E$3:$ED$130,MATCH(Tabulka!$AI75,Přehled_body!$A$3:$A$130,0),MATCH(Tabulka!AC$2,Přehled_body!$E$1:$ED$1,0)),)))","v":0},{"$f":"IF(IFERROR(INDEX(Přehled_body!$E$3:$ED$130,MATCH(Tabulka!$AI75,Přehled_body!$A$3:$A$130,0),MATCH(Tabulka!AD$2,Přehled_body!$E$1:$ED$1,0)),)=\"\",,IF(IFERROR(INDEX(Přehled_body!$E$3:$ED$130,MATCH(Tabulka!$AI75,Přehled_body!$A$3:$A$130,0),MATCH(Tabulka!AD$2,Přehled_body!$E$1:$ED$1,0)),)=0,0.00000000001,IFERROR(INDEX(Přehled_body!$E$3:$ED$130,MATCH(Tabulka!$AI75,Přehled_body!$A$3:$A$130,0),MATCH(Tabulka!AD$2,Přehled_body!$E$1:$ED$1,0)),)))","v":0},{"$f":"IF(SUM($D$74:$AD$78)<1,-90000,SUM(D75:AD75))","v":-90000},{"$f":"IF(AE78>0.9,SUM(AE74-AE75)+0.00000001,0)","v":0},null,null,{"$f":"CONCATENATE($B$75,\" \",$B$76,C75)","v":"Míla WeinerováProhry"}]
[{"$f":"CONCATENATE(B76,\" \",B75)","v":"Weinerová Míla"},"Weinerová","Placeno panáků",{"$f":"IF(IFERROR(INDEX(Přehled_body!$E$3:$ED$130,MATCH(Tabulka!$AI76,Přehled_body!$A$3:$A$130,0),MATCH(Tabulka!D$2,Přehled_body!$E$1:$ED$1,0)),)=\"\",,IF(IFERROR(INDEX(Přehled_body!$E$3:$ED$130,MATCH(Tabulka!$AI76,Přehled_body!$A$3:$A$130,0),MATCH(Tabulka!D$2,Přehled_body!$E$1:$ED$1,0)),)=0,0.00000000001,IFERROR(INDEX(Přehled_body!$E$3:$ED$130,MATCH(Tabulka!$AI76,Přehled_body!$A$3:$A$130,0),MATCH(Tabulka!D$2,Přehled_body!$E$1:$ED$1,0)),)))","v":0},{"$f":"IF(IFERROR(INDEX(Přehled_body!$E$3:$ED$130,MATCH(Tabulka!$AI76,Přehled_body!$A$3:$A$130,0),MATCH(Tabulka!E$2,Přehled_body!$E$1:$ED$1,0)),)=\"\",,IF(IFERROR(INDEX(Přehled_body!$E$3:$ED$130,MATCH(Tabulka!$AI76,Přehled_body!$A$3:$A$130,0),MATCH(Tabulka!E$2,Přehled_body!$E$1:$ED$1,0)),)=0,0.00000000001,IFERROR(INDEX(Přehled_body!$E$3:$ED$130,MATCH(Tabulka!$AI76,Přehled_body!$A$3:$A$130,0),MATCH(Tabulka!E$2,Přehled_body!$E$1:$ED$1,0)),)))","v":0},{"$f":"IF(IFERROR(INDEX(Přehled_body!$E$3:$ED$130,MATCH(Tabulka!$AI76,Přehled_body!$A$3:$A$130,0),MATCH(Tabulka!F$2,Přehled_body!$E$1:$ED$1,0)),)=\"\",,IF(IFERROR(INDEX(Přehled_body!$E$3:$ED$130,MATCH(Tabulka!$AI76,Přehled_body!$A$3:$A$130,0),MATCH(Tabulka!F$2,Přehled_body!$E$1:$ED$1,0)),)=0,0.00000000001,IFERROR(INDEX(Přehled_body!$E$3:$ED$130,MATCH(Tabulka!$AI76,Přehled_body!$A$3:$A$130,0),MATCH(Tabulka!F$2,Přehled_body!$E$1:$ED$1,0)),)))","v":0},{"$f":"IF(IFERROR(INDEX(Přehled_body!$E$3:$ED$130,MATCH(Tabulka!$AI76,Přehled_body!$A$3:$A$130,0),MATCH(Tabulka!G$2,Přehled_body!$E$1:$ED$1,0)),)=\"\",,IF(IFERROR(INDEX(Přehled_body!$E$3:$ED$130,MATCH(Tabulka!$AI76,Přehled_body!$A$3:$A$130,0),MATCH(Tabulka!G$2,Přehled_body!$E$1:$ED$1,0)),)=0,0.00000000001,IFERROR(INDEX(Přehled_body!$E$3:$ED$130,MATCH(Tabulka!$AI76,Přehled_body!$A$3:$A$130,0),MATCH(Tabulka!G$2,Přehled_body!$E$1:$ED$1,0)),)))","v":0},{"$f":"IF(IFERROR(INDEX(Přehled_body!$E$3:$ED$130,MATCH(Tabulka!$AI76,Přehled_body!$A$3:$A$130,0),MATCH(Tabulka!H$2,Přehled_body!$E$1:$ED$1,0)),)=\"\",,IF(IFERROR(INDEX(Přehled_body!$E$3:$ED$130,MATCH(Tabulka!$AI76,Přehled_body!$A$3:$A$130,0),MATCH(Tabulka!H$2,Přehled_body!$E$1:$ED$1,0)),)=0,0.00000000001,IFERROR(INDEX(Přehled_body!$E$3:$ED$130,MATCH(Tabulka!$AI76,Přehled_body!$A$3:$A$130,0),MATCH(Tabulka!H$2,Přehled_body!$E$1:$ED$1,0)),)))","v":0},{"$f":"IF(IFERROR(INDEX(Přehled_body!$E$3:$ED$130,MATCH(Tabulka!$AI76,Přehled_body!$A$3:$A$130,0),MATCH(Tabulka!I$2,Přehled_body!$E$1:$ED$1,0)),)=\"\",,IF(IFERROR(INDEX(Přehled_body!$E$3:$ED$130,MATCH(Tabulka!$AI76,Přehled_body!$A$3:$A$130,0),MATCH(Tabulka!I$2,Přehled_body!$E$1:$ED$1,0)),)=0,0.00000000001,IFERROR(INDEX(Přehled_body!$E$3:$ED$130,MATCH(Tabulka!$AI76,Přehled_body!$A$3:$A$130,0),MATCH(Tabulka!I$2,Přehled_body!$E$1:$ED$1,0)),)))","v":0},{"$f":"IF(IFERROR(INDEX(Přehled_body!$E$3:$ED$130,MATCH(Tabulka!$AI76,Přehled_body!$A$3:$A$130,0),MATCH(Tabulka!J$2,Přehled_body!$E$1:$ED$1,0)),)=\"\",,IF(IFERROR(INDEX(Přehled_body!$E$3:$ED$130,MATCH(Tabulka!$AI76,Přehled_body!$A$3:$A$130,0),MATCH(Tabulka!J$2,Přehled_body!$E$1:$ED$1,0)),)=0,0.00000000001,IFERROR(INDEX(Přehled_body!$E$3:$ED$130,MATCH(Tabulka!$AI76,Přehled_body!$A$3:$A$130,0),MATCH(Tabulka!J$2,Přehled_body!$E$1:$ED$1,0)),)))","v":0},{"$f":"IF(IFERROR(INDEX(Přehled_body!$E$3:$ED$130,MATCH(Tabulka!$AI76,Přehled_body!$A$3:$A$130,0),MATCH(Tabulka!K$2,Přehled_body!$E$1:$ED$1,0)),)=\"\",,IF(IFERROR(INDEX(Přehled_body!$E$3:$ED$130,MATCH(Tabulka!$AI76,Přehled_body!$A$3:$A$130,0),MATCH(Tabulka!K$2,Přehled_body!$E$1:$ED$1,0)),)=0,0.00000000001,IFERROR(INDEX(Přehled_body!$E$3:$ED$130,MATCH(Tabulka!$AI76,Přehled_body!$A$3:$A$130,0),MATCH(Tabulka!K$2,Přehled_body!$E$1:$ED$1,0)),)))","v":0},{"$f":"IF(IFERROR(INDEX(Přehled_body!$E$3:$ED$130,MATCH(Tabulka!$AI76,Přehled_body!$A$3:$A$130,0),MATCH(Tabulka!L$2,Přehled_body!$E$1:$ED$1,0)),)=\"\",,IF(IFERROR(INDEX(Přehled_body!$E$3:$ED$130,MATCH(Tabulka!$AI76,Přehled_body!$A$3:$A$130,0),MATCH(Tabulka!L$2,Přehled_body!$E$1:$ED$1,0)),)=0,0.00000000001,IFERROR(INDEX(Přehled_body!$E$3:$ED$130,MATCH(Tabulka!$AI76,Přehled_body!$A$3:$A$130,0),MATCH(Tabulka!L$2,Přehled_body!$E$1:$ED$1,0)),)))","v":0},{"$f":"IF(IFERROR(INDEX(Přehled_body!$E$3:$ED$130,MATCH(Tabulka!$AI76,Přehled_body!$A$3:$A$130,0),MATCH(Tabulka!M$2,Přehled_body!$E$1:$ED$1,0)),)=\"\",,IF(IFERROR(INDEX(Přehled_body!$E$3:$ED$130,MATCH(Tabulka!$AI76,Přehled_body!$A$3:$A$130,0),MATCH(Tabulka!M$2,Přehled_body!$E$1:$ED$1,0)),)=0,0.00000000001,IFERROR(INDEX(Přehled_body!$E$3:$ED$130,MATCH(Tabulka!$AI76,Přehled_body!$A$3:$A$130,0),MATCH(Tabulka!M$2,Přehled_body!$E$1:$ED$1,0)),)))","v":0},{"$f":"IF(IFERROR(INDEX(Přehled_body!$E$3:$ED$130,MATCH(Tabulka!$AI76,Přehled_body!$A$3:$A$130,0),MATCH(Tabulka!N$2,Přehled_body!$E$1:$ED$1,0)),)=\"\",,IF(IFERROR(INDEX(Přehled_body!$E$3:$ED$130,MATCH(Tabulka!$AI76,Přehled_body!$A$3:$A$130,0),MATCH(Tabulka!N$2,Přehled_body!$E$1:$ED$1,0)),)=0,0.00000000001,IFERROR(INDEX(Přehled_body!$E$3:$ED$130,MATCH(Tabulka!$AI76,Přehled_body!$A$3:$A$130,0),MATCH(Tabulka!N$2,Přehled_body!$E$1:$ED$1,0)),)))","v":0},{"$f":"IF(IFERROR(INDEX(Přehled_body!$E$3:$ED$130,MATCH(Tabulka!$AI76,Přehled_body!$A$3:$A$130,0),MATCH(Tabulka!O$2,Přehled_body!$E$1:$ED$1,0)),)=\"\",,IF(IFERROR(INDEX(Přehled_body!$E$3:$ED$130,MATCH(Tabulka!$AI76,Přehled_body!$A$3:$A$130,0),MATCH(Tabulka!O$2,Přehled_body!$E$1:$ED$1,0)),)=0,0.00000000001,IFERROR(INDEX(Přehled_body!$E$3:$ED$130,MATCH(Tabulka!$AI76,Přehled_body!$A$3:$A$130,0),MATCH(Tabulka!O$2,Přehled_body!$E$1:$ED$1,0)),)))","v":0},{"$f":"IF(IFERROR(INDEX(Přehled_body!$E$3:$ED$130,MATCH(Tabulka!$AI76,Přehled_body!$A$3:$A$130,0),MATCH(Tabulka!P$2,Přehled_body!$E$1:$ED$1,0)),)=\"\",,IF(IFERROR(INDEX(Přehled_body!$E$3:$ED$130,MATCH(Tabulka!$AI76,Přehled_body!$A$3:$A$130,0),MATCH(Tabulka!P$2,Přehled_body!$E$1:$ED$1,0)),)=0,0.00000000001,IFERROR(INDEX(Přehled_body!$E$3:$ED$130,MATCH(Tabulka!$AI76,Přehled_body!$A$3:$A$130,0),MATCH(Tabulka!P$2,Přehled_body!$E$1:$ED$1,0)),)))","v":0},{"$f":"IF(IFERROR(INDEX(Přehled_body!$E$3:$ED$130,MATCH(Tabulka!$AI76,Přehled_body!$A$3:$A$130,0),MATCH(Tabulka!Q$2,Přehled_body!$E$1:$ED$1,0)),)=\"\",,IF(IFERROR(INDEX(Přehled_body!$E$3:$ED$130,MATCH(Tabulka!$AI76,Přehled_body!$A$3:$A$130,0),MATCH(Tabulka!Q$2,Přehled_body!$E$1:$ED$1,0)),)=0,0.00000000001,IFERROR(INDEX(Přehled_body!$E$3:$ED$130,MATCH(Tabulka!$AI76,Přehled_body!$A$3:$A$130,0),MATCH(Tabulka!Q$2,Přehled_body!$E$1:$ED$1,0)),)))","v":0},{"$f":"IF(IFERROR(INDEX(Přehled_body!$E$3:$ED$130,MATCH(Tabulka!$AI76,Přehled_body!$A$3:$A$130,0),MATCH(Tabulka!R$2,Přehled_body!$E$1:$ED$1,0)),)=\"\",,IF(IFERROR(INDEX(Přehled_body!$E$3:$ED$130,MATCH(Tabulka!$AI76,Přehled_body!$A$3:$A$130,0),MATCH(Tabulka!R$2,Přehled_body!$E$1:$ED$1,0)),)=0,0.00000000001,IFERROR(INDEX(Přehled_body!$E$3:$ED$130,MATCH(Tabulka!$AI76,Přehled_body!$A$3:$A$130,0),MATCH(Tabulka!R$2,Přehled_body!$E$1:$ED$1,0)),)))","v":0},{"$f":"IF(IFERROR(INDEX(Přehled_body!$E$3:$ED$130,MATCH(Tabulka!$AI76,Přehled_body!$A$3:$A$130,0),MATCH(Tabulka!S$2,Přehled_body!$E$1:$ED$1,0)),)=\"\",,IF(IFERROR(INDEX(Přehled_body!$E$3:$ED$130,MATCH(Tabulka!$AI76,Přehled_body!$A$3:$A$130,0),MATCH(Tabulka!S$2,Přehled_body!$E$1:$ED$1,0)),)=0,0.00000000001,IFERROR(INDEX(Přehled_body!$E$3:$ED$130,MATCH(Tabulka!$AI76,Přehled_body!$A$3:$A$130,0),MATCH(Tabulka!S$2,Přehled_body!$E$1:$ED$1,0)),)))","v":0},{"$f":"IF(IFERROR(INDEX(Přehled_body!$E$3:$ED$130,MATCH(Tabulka!$AI76,Přehled_body!$A$3:$A$130,0),MATCH(Tabulka!T$2,Přehled_body!$E$1:$ED$1,0)),)=\"\",,IF(IFERROR(INDEX(Přehled_body!$E$3:$ED$130,MATCH(Tabulka!$AI76,Přehled_body!$A$3:$A$130,0),MATCH(Tabulka!T$2,Přehled_body!$E$1:$ED$1,0)),)=0,0.00000000001,IFERROR(INDEX(Přehled_body!$E$3:$ED$130,MATCH(Tabulka!$AI76,Přehled_body!$A$3:$A$130,0),MATCH(Tabulka!T$2,Přehled_body!$E$1:$ED$1,0)),)))","v":0},{"$f":"IF(IFERROR(INDEX(Přehled_body!$E$3:$ED$130,MATCH(Tabulka!$AI76,Přehled_body!$A$3:$A$130,0),MATCH(Tabulka!U$2,Přehled_body!$E$1:$ED$1,0)),)=\"\",,IF(IFERROR(INDEX(Přehled_body!$E$3:$ED$130,MATCH(Tabulka!$AI76,Přehled_body!$A$3:$A$130,0),MATCH(Tabulka!U$2,Přehled_body!$E$1:$ED$1,0)),)=0,0.00000000001,IFERROR(INDEX(Přehled_body!$E$3:$ED$130,MATCH(Tabulka!$AI76,Přehled_body!$A$3:$A$130,0),MATCH(Tabulka!U$2,Přehled_body!$E$1:$ED$1,0)),)))","v":0},{"$f":"IF(IFERROR(INDEX(Přehled_body!$E$3:$ED$130,MATCH(Tabulka!$AI76,Přehled_body!$A$3:$A$130,0),MATCH(Tabulka!V$2,Přehled_body!$E$1:$ED$1,0)),)=\"\",,IF(IFERROR(INDEX(Přehled_body!$E$3:$ED$130,MATCH(Tabulka!$AI76,Přehled_body!$A$3:$A$130,0),MATCH(Tabulka!V$2,Přehled_body!$E$1:$ED$1,0)),)=0,0.00000000001,IFERROR(INDEX(Přehled_body!$E$3:$ED$130,MATCH(Tabulka!$AI76,Přehled_body!$A$3:$A$130,0),MATCH(Tabulka!V$2,Přehled_body!$E$1:$ED$1,0)),)))","v":0},{"$f":"IF(IFERROR(INDEX(Přehled_body!$E$3:$ED$130,MATCH(Tabulka!$AI76,Přehled_body!$A$3:$A$130,0),MATCH(Tabulka!W$2,Přehled_body!$E$1:$ED$1,0)),)=\"\",,IF(IFERROR(INDEX(Přehled_body!$E$3:$ED$130,MATCH(Tabulka!$AI76,Přehled_body!$A$3:$A$130,0),MATCH(Tabulka!W$2,Přehled_body!$E$1:$ED$1,0)),)=0,0.00000000001,IFERROR(INDEX(Přehled_body!$E$3:$ED$130,MATCH(Tabulka!$AI76,Přehled_body!$A$3:$A$130,0),MATCH(Tabulka!W$2,Přehled_body!$E$1:$ED$1,0)),)))","v":0},{"$f":"IF(IFERROR(INDEX(Přehled_body!$E$3:$ED$130,MATCH(Tabulka!$AI76,Přehled_body!$A$3:$A$130,0),MATCH(Tabulka!X$2,Přehled_body!$E$1:$ED$1,0)),)=\"\",,IF(IFERROR(INDEX(Přehled_body!$E$3:$ED$130,MATCH(Tabulka!$AI76,Přehled_body!$A$3:$A$130,0),MATCH(Tabulka!X$2,Přehled_body!$E$1:$ED$1,0)),)=0,0.00000000001,IFERROR(INDEX(Přehled_body!$E$3:$ED$130,MATCH(Tabulka!$AI76,Přehled_body!$A$3:$A$130,0),MATCH(Tabulka!X$2,Přehled_body!$E$1:$ED$1,0)),)))","v":0},{"$f":"IF(IFERROR(INDEX(Přehled_body!$E$3:$ED$130,MATCH(Tabulka!$AI76,Přehled_body!$A$3:$A$130,0),MATCH(Tabulka!Y$2,Přehled_body!$E$1:$ED$1,0)),)=\"\",,IF(IFERROR(INDEX(Přehled_body!$E$3:$ED$130,MATCH(Tabulka!$AI76,Přehled_body!$A$3:$A$130,0),MATCH(Tabulka!Y$2,Přehled_body!$E$1:$ED$1,0)),)=0,0.00000000001,IFERROR(INDEX(Přehled_body!$E$3:$ED$130,MATCH(Tabulka!$AI76,Přehled_body!$A$3:$A$130,0),MATCH(Tabulka!Y$2,Přehled_body!$E$1:$ED$1,0)),)))","v":0},{"$f":"IF(IFERROR(INDEX(Přehled_body!$E$3:$ED$130,MATCH(Tabulka!$AI76,Přehled_body!$A$3:$A$130,0),MATCH(Tabulka!Z$2,Přehled_body!$E$1:$ED$1,0)),)=\"\",,IF(IFERROR(INDEX(Přehled_body!$E$3:$ED$130,MATCH(Tabulka!$AI76,Přehled_body!$A$3:$A$130,0),MATCH(Tabulka!Z$2,Přehled_body!$E$1:$ED$1,0)),)=0,0.00000000001,IFERROR(INDEX(Přehled_body!$E$3:$ED$130,MATCH(Tabulka!$AI76,Přehled_body!$A$3:$A$130,0),MATCH(Tabulka!Z$2,Přehled_body!$E$1:$ED$1,0)),)))","v":0},{"$f":"IF(IFERROR(INDEX(Přehled_body!$E$3:$ED$130,MATCH(Tabulka!$AI76,Přehled_body!$A$3:$A$130,0),MATCH(Tabulka!AA$2,Přehled_body!$E$1:$ED$1,0)),)=\"\",,IF(IFERROR(INDEX(Přehled_body!$E$3:$ED$130,MATCH(Tabulka!$AI76,Přehled_body!$A$3:$A$130,0),MATCH(Tabulka!AA$2,Přehled_body!$E$1:$ED$1,0)),)=0,0.00000000001,IFERROR(INDEX(Přehled_body!$E$3:$ED$130,MATCH(Tabulka!$AI76,Přehled_body!$A$3:$A$130,0),MATCH(Tabulka!AA$2,Přehled_body!$E$1:$ED$1,0)),)))","v":0},{"$f":"IF(IFERROR(INDEX(Přehled_body!$E$3:$ED$130,MATCH(Tabulka!$AI76,Přehled_body!$A$3:$A$130,0),MATCH(Tabulka!AB$2,Přehled_body!$E$1:$ED$1,0)),)=\"\",,IF(IFERROR(INDEX(Přehled_body!$E$3:$ED$130,MATCH(Tabulka!$AI76,Přehled_body!$A$3:$A$130,0),MATCH(Tabulka!AB$2,Přehled_body!$E$1:$ED$1,0)),)=0,0.00000000001,IFERROR(INDEX(Přehled_body!$E$3:$ED$130,MATCH(Tabulka!$AI76,Přehled_body!$A$3:$A$130,0),MATCH(Tabulka!AB$2,Přehled_body!$E$1:$ED$1,0)),)))","v":0},{"$f":"IF(IFERROR(INDEX(Přehled_body!$E$3:$ED$130,MATCH(Tabulka!$AI76,Přehled_body!$A$3:$A$130,0),MATCH(Tabulka!AC$2,Přehled_body!$E$1:$ED$1,0)),)=\"\",,IF(IFERROR(INDEX(Přehled_body!$E$3:$ED$130,MATCH(Tabulka!$AI76,Přehled_body!$A$3:$A$130,0),MATCH(Tabulka!AC$2,Přehled_body!$E$1:$ED$1,0)),)=0,0.00000000001,IFERROR(INDEX(Přehled_body!$E$3:$ED$130,MATCH(Tabulka!$AI76,Přehled_body!$A$3:$A$130,0),MATCH(Tabulka!AC$2,Přehled_body!$E$1:$ED$1,0)),)))","v":0},{"$f":"IF(IFERROR(INDEX(Přehled_body!$E$3:$ED$130,MATCH(Tabulka!$AI76,Přehled_body!$A$3:$A$130,0),MATCH(Tabulka!AD$2,Přehled_body!$E$1:$ED$1,0)),)=\"\",,IF(IFERROR(INDEX(Přehled_body!$E$3:$ED$130,MATCH(Tabulka!$AI76,Přehled_body!$A$3:$A$130,0),MATCH(Tabulka!AD$2,Přehled_body!$E$1:$ED$1,0)),)=0,0.00000000001,IFERROR(INDEX(Přehled_body!$E$3:$ED$130,MATCH(Tabulka!$AI76,Přehled_body!$A$3:$A$130,0),MATCH(Tabulka!AD$2,Přehled_body!$E$1:$ED$1,0)),)))","v":0},{"$f":"IF(SUM($D$74:$AD$78)<1,-90000,SUM(D76:AD76))","v":-90000},null,null,null,{"$f":"CONCATENATE($B$75,\" \",$B$76,C76)","v":"Míla WeinerováPlaceno panáků"}]
[null,null,"Přehozy",{"$f":"IF(IFERROR(INDEX(Přehled_body!$E$3:$ED$130,MATCH(Tabulka!$AI77,Přehled_body!$A$3:$A$130,0),MATCH(Tabulka!D$2,Přehled_body!$E$1:$ED$1,0)),)=\"\",,IF(IFERROR(INDEX(Přehled_body!$E$3:$ED$130,MATCH(Tabulka!$AI77,Přehled_body!$A$3:$A$130,0),MATCH(Tabulka!D$2,Přehled_body!$E$1:$ED$1,0)),)=0,0.00000000001,IFERROR(INDEX(Přehled_body!$E$3:$ED$130,MATCH(Tabulka!$AI77,Přehled_body!$A$3:$A$130,0),MATCH(Tabulka!D$2,Přehled_body!$E$1:$ED$1,0)),)))","v":0},{"$f":"IF(IFERROR(INDEX(Přehled_body!$E$3:$ED$130,MATCH(Tabulka!$AI77,Přehled_body!$A$3:$A$130,0),MATCH(Tabulka!E$2,Přehled_body!$E$1:$ED$1,0)),)=\"\",,IF(IFERROR(INDEX(Přehled_body!$E$3:$ED$130,MATCH(Tabulka!$AI77,Přehled_body!$A$3:$A$130,0),MATCH(Tabulka!E$2,Přehled_body!$E$1:$ED$1,0)),)=0,0.00000000001,IFERROR(INDEX(Přehled_body!$E$3:$ED$130,MATCH(Tabulka!$AI77,Přehled_body!$A$3:$A$130,0),MATCH(Tabulka!E$2,Přehled_body!$E$1:$ED$1,0)),)))","v":0},{"$f":"IF(IFERROR(INDEX(Přehled_body!$E$3:$ED$130,MATCH(Tabulka!$AI77,Přehled_body!$A$3:$A$130,0),MATCH(Tabulka!F$2,Přehled_body!$E$1:$ED$1,0)),)=\"\",,IF(IFERROR(INDEX(Přehled_body!$E$3:$ED$130,MATCH(Tabulka!$AI77,Přehled_body!$A$3:$A$130,0),MATCH(Tabulka!F$2,Přehled_body!$E$1:$ED$1,0)),)=0,0.00000000001,IFERROR(INDEX(Přehled_body!$E$3:$ED$130,MATCH(Tabulka!$AI77,Přehled_body!$A$3:$A$130,0),MATCH(Tabulka!F$2,Přehled_body!$E$1:$ED$1,0)),)))","v":0},{"$f":"IF(IFERROR(INDEX(Přehled_body!$E$3:$ED$130,MATCH(Tabulka!$AI77,Přehled_body!$A$3:$A$130,0),MATCH(Tabulka!G$2,Přehled_body!$E$1:$ED$1,0)),)=\"\",,IF(IFERROR(INDEX(Přehled_body!$E$3:$ED$130,MATCH(Tabulka!$AI77,Přehled_body!$A$3:$A$130,0),MATCH(Tabulka!G$2,Přehled_body!$E$1:$ED$1,0)),)=0,0.00000000001,IFERROR(INDEX(Přehled_body!$E$3:$ED$130,MATCH(Tabulka!$AI77,Přehled_body!$A$3:$A$130,0),MATCH(Tabulka!G$2,Přehled_body!$E$1:$ED$1,0)),)))","v":0},{"$f":"IF(IFERROR(INDEX(Přehled_body!$E$3:$ED$130,MATCH(Tabulka!$AI77,Přehled_body!$A$3:$A$130,0),MATCH(Tabulka!H$2,Přehled_body!$E$1:$ED$1,0)),)=\"\",,IF(IFERROR(INDEX(Přehled_body!$E$3:$ED$130,MATCH(Tabulka!$AI77,Přehled_body!$A$3:$A$130,0),MATCH(Tabulka!H$2,Přehled_body!$E$1:$ED$1,0)),)=0,0.00000000001,IFERROR(INDEX(Přehled_body!$E$3:$ED$130,MATCH(Tabulka!$AI77,Přehled_body!$A$3:$A$130,0),MATCH(Tabulka!H$2,Přehled_body!$E$1:$ED$1,0)),)))","v":0},{"$f":"IF(IFERROR(INDEX(Přehled_body!$E$3:$ED$130,MATCH(Tabulka!$AI77,Přehled_body!$A$3:$A$130,0),MATCH(Tabulka!I$2,Přehled_body!$E$1:$ED$1,0)),)=\"\",,IF(IFERROR(INDEX(Přehled_body!$E$3:$ED$130,MATCH(Tabulka!$AI77,Přehled_body!$A$3:$A$130,0),MATCH(Tabulka!I$2,Přehled_body!$E$1:$ED$1,0)),)=0,0.00000000001,IFERROR(INDEX(Přehled_body!$E$3:$ED$130,MATCH(Tabulka!$AI77,Přehled_body!$A$3:$A$130,0),MATCH(Tabulka!I$2,Přehled_body!$E$1:$ED$1,0)),)))","v":0},{"$f":"IF(IFERROR(INDEX(Přehled_body!$E$3:$ED$130,MATCH(Tabulka!$AI77,Přehled_body!$A$3:$A$130,0),MATCH(Tabulka!J$2,Přehled_body!$E$1:$ED$1,0)),)=\"\",,IF(IFERROR(INDEX(Přehled_body!$E$3:$ED$130,MATCH(Tabulka!$AI77,Přehled_body!$A$3:$A$130,0),MATCH(Tabulka!J$2,Přehled_body!$E$1:$ED$1,0)),)=0,0.00000000001,IFERROR(INDEX(Přehled_body!$E$3:$ED$130,MATCH(Tabulka!$AI77,Přehled_body!$A$3:$A$130,0),MATCH(Tabulka!J$2,Přehled_body!$E$1:$ED$1,0)),)))","v":0},{"$f":"IF(IFERROR(INDEX(Přehled_body!$E$3:$ED$130,MATCH(Tabulka!$AI77,Přehled_body!$A$3:$A$130,0),MATCH(Tabulka!K$2,Přehled_body!$E$1:$ED$1,0)),)=\"\",,IF(IFERROR(INDEX(Přehled_body!$E$3:$ED$130,MATCH(Tabulka!$AI77,Přehled_body!$A$3:$A$130,0),MATCH(Tabulka!K$2,Přehled_body!$E$1:$ED$1,0)),)=0,0.00000000001,IFERROR(INDEX(Přehled_body!$E$3:$ED$130,MATCH(Tabulka!$AI77,Přehled_body!$A$3:$A$130,0),MATCH(Tabulka!K$2,Přehled_body!$E$1:$ED$1,0)),)))","v":0},{"$f":"IF(IFERROR(INDEX(Přehled_body!$E$3:$ED$130,MATCH(Tabulka!$AI77,Přehled_body!$A$3:$A$130,0),MATCH(Tabulka!L$2,Přehled_body!$E$1:$ED$1,0)),)=\"\",,IF(IFERROR(INDEX(Přehled_body!$E$3:$ED$130,MATCH(Tabulka!$AI77,Přehled_body!$A$3:$A$130,0),MATCH(Tabulka!L$2,Přehled_body!$E$1:$ED$1,0)),)=0,0.00000000001,IFERROR(INDEX(Přehled_body!$E$3:$ED$130,MATCH(Tabulka!$AI77,Přehled_body!$A$3:$A$130,0),MATCH(Tabulka!L$2,Přehled_body!$E$1:$ED$1,0)),)))","v":0},{"$f":"IF(IFERROR(INDEX(Přehled_body!$E$3:$ED$130,MATCH(Tabulka!$AI77,Přehled_body!$A$3:$A$130,0),MATCH(Tabulka!M$2,Přehled_body!$E$1:$ED$1,0)),)=\"\",,IF(IFERROR(INDEX(Přehled_body!$E$3:$ED$130,MATCH(Tabulka!$AI77,Přehled_body!$A$3:$A$130,0),MATCH(Tabulka!M$2,Přehled_body!$E$1:$ED$1,0)),)=0,0.00000000001,IFERROR(INDEX(Přehled_body!$E$3:$ED$130,MATCH(Tabulka!$AI77,Přehled_body!$A$3:$A$130,0),MATCH(Tabulka!M$2,Přehled_body!$E$1:$ED$1,0)),)))","v":0},{"$f":"IF(IFERROR(INDEX(Přehled_body!$E$3:$ED$130,MATCH(Tabulka!$AI77,Přehled_body!$A$3:$A$130,0),MATCH(Tabulka!N$2,Přehled_body!$E$1:$ED$1,0)),)=\"\",,IF(IFERROR(INDEX(Přehled_body!$E$3:$ED$130,MATCH(Tabulka!$AI77,Přehled_body!$A$3:$A$130,0),MATCH(Tabulka!N$2,Přehled_body!$E$1:$ED$1,0)),)=0,0.00000000001,IFERROR(INDEX(Přehled_body!$E$3:$ED$130,MATCH(Tabulka!$AI77,Přehled_body!$A$3:$A$130,0),MATCH(Tabulka!N$2,Přehled_body!$E$1:$ED$1,0)),)))","v":0},{"$f":"IF(IFERROR(INDEX(Přehled_body!$E$3:$ED$130,MATCH(Tabulka!$AI77,Přehled_body!$A$3:$A$130,0),MATCH(Tabulka!O$2,Přehled_body!$E$1:$ED$1,0)),)=\"\",,IF(IFERROR(INDEX(Přehled_body!$E$3:$ED$130,MATCH(Tabulka!$AI77,Přehled_body!$A$3:$A$130,0),MATCH(Tabulka!O$2,Přehled_body!$E$1:$ED$1,0)),)=0,0.00000000001,IFERROR(INDEX(Přehled_body!$E$3:$ED$130,MATCH(Tabulka!$AI77,Přehled_body!$A$3:$A$130,0),MATCH(Tabulka!O$2,Přehled_body!$E$1:$ED$1,0)),)))","v":0},{"$f":"IF(IFERROR(INDEX(Přehled_body!$E$3:$ED$130,MATCH(Tabulka!$AI77,Přehled_body!$A$3:$A$130,0),MATCH(Tabulka!P$2,Přehled_body!$E$1:$ED$1,0)),)=\"\",,IF(IFERROR(INDEX(Přehled_body!$E$3:$ED$130,MATCH(Tabulka!$AI77,Přehled_body!$A$3:$A$130,0),MATCH(Tabulka!P$2,Přehled_body!$E$1:$ED$1,0)),)=0,0.00000000001,IFERROR(INDEX(Přehled_body!$E$3:$ED$130,MATCH(Tabulka!$AI77,Přehled_body!$A$3:$A$130,0),MATCH(Tabulka!P$2,Přehled_body!$E$1:$ED$1,0)),)))","v":0},{"$f":"IF(IFERROR(INDEX(Přehled_body!$E$3:$ED$130,MATCH(Tabulka!$AI77,Přehled_body!$A$3:$A$130,0),MATCH(Tabulka!Q$2,Přehled_body!$E$1:$ED$1,0)),)=\"\",,IF(IFERROR(INDEX(Přehled_body!$E$3:$ED$130,MATCH(Tabulka!$AI77,Přehled_body!$A$3:$A$130,0),MATCH(Tabulka!Q$2,Přehled_body!$E$1:$ED$1,0)),)=0,0.00000000001,IFERROR(INDEX(Přehled_body!$E$3:$ED$130,MATCH(Tabulka!$AI77,Přehled_body!$A$3:$A$130,0),MATCH(Tabulka!Q$2,Přehled_body!$E$1:$ED$1,0)),)))","v":0},{"$f":"IF(IFERROR(INDEX(Přehled_body!$E$3:$ED$130,MATCH(Tabulka!$AI77,Přehled_body!$A$3:$A$130,0),MATCH(Tabulka!R$2,Přehled_body!$E$1:$ED$1,0)),)=\"\",,IF(IFERROR(INDEX(Přehled_body!$E$3:$ED$130,MATCH(Tabulka!$AI77,Přehled_body!$A$3:$A$130,0),MATCH(Tabulka!R$2,Přehled_body!$E$1:$ED$1,0)),)=0,0.00000000001,IFERROR(INDEX(Přehled_body!$E$3:$ED$130,MATCH(Tabulka!$AI77,Přehled_body!$A$3:$A$130,0),MATCH(Tabulka!R$2,Přehled_body!$E$1:$ED$1,0)),)))","v":0},{"$f":"IF(IFERROR(INDEX(Přehled_body!$E$3:$ED$130,MATCH(Tabulka!$AI77,Přehled_body!$A$3:$A$130,0),MATCH(Tabulka!S$2,Přehled_body!$E$1:$ED$1,0)),)=\"\",,IF(IFERROR(INDEX(Přehled_body!$E$3:$ED$130,MATCH(Tabulka!$AI77,Přehled_body!$A$3:$A$130,0),MATCH(Tabulka!S$2,Přehled_body!$E$1:$ED$1,0)),)=0,0.00000000001,IFERROR(INDEX(Přehled_body!$E$3:$ED$130,MATCH(Tabulka!$AI77,Přehled_body!$A$3:$A$130,0),MATCH(Tabulka!S$2,Přehled_body!$E$1:$ED$1,0)),)))","v":0},{"$f":"IF(IFERROR(INDEX(Přehled_body!$E$3:$ED$130,MATCH(Tabulka!$AI77,Přehled_body!$A$3:$A$130,0),MATCH(Tabulka!T$2,Přehled_body!$E$1:$ED$1,0)),)=\"\",,IF(IFERROR(INDEX(Přehled_body!$E$3:$ED$130,MATCH(Tabulka!$AI77,Přehled_body!$A$3:$A$130,0),MATCH(Tabulka!T$2,Přehled_body!$E$1:$ED$1,0)),)=0,0.00000000001,IFERROR(INDEX(Přehled_body!$E$3:$ED$130,MATCH(Tabulka!$AI77,Přehled_body!$A$3:$A$130,0),MATCH(Tabulka!T$2,Přehled_body!$E$1:$ED$1,0)),)))","v":0},{"$f":"IF(IFERROR(INDEX(Přehled_body!$E$3:$ED$130,MATCH(Tabulka!$AI77,Přehled_body!$A$3:$A$130,0),MATCH(Tabulka!U$2,Přehled_body!$E$1:$ED$1,0)),)=\"\",,IF(IFERROR(INDEX(Přehled_body!$E$3:$ED$130,MATCH(Tabulka!$AI77,Přehled_body!$A$3:$A$130,0),MATCH(Tabulka!U$2,Přehled_body!$E$1:$ED$1,0)),)=0,0.00000000001,IFERROR(INDEX(Přehled_body!$E$3:$ED$130,MATCH(Tabulka!$AI77,Přehled_body!$A$3:$A$130,0),MATCH(Tabulka!U$2,Přehled_body!$E$1:$ED$1,0)),)))","v":0},{"$f":"IF(IFERROR(INDEX(Přehled_body!$E$3:$ED$130,MATCH(Tabulka!$AI77,Přehled_body!$A$3:$A$130,0),MATCH(Tabulka!V$2,Přehled_body!$E$1:$ED$1,0)),)=\"\",,IF(IFERROR(INDEX(Přehled_body!$E$3:$ED$130,MATCH(Tabulka!$AI77,Přehled_body!$A$3:$A$130,0),MATCH(Tabulka!V$2,Přehled_body!$E$1:$ED$1,0)),)=0,0.00000000001,IFERROR(INDEX(Přehled_body!$E$3:$ED$130,MATCH(Tabulka!$AI77,Přehled_body!$A$3:$A$130,0),MATCH(Tabulka!V$2,Přehled_body!$E$1:$ED$1,0)),)))","v":0},{"$f":"IF(IFERROR(INDEX(Přehled_body!$E$3:$ED$130,MATCH(Tabulka!$AI77,Přehled_body!$A$3:$A$130,0),MATCH(Tabulka!W$2,Přehled_body!$E$1:$ED$1,0)),)=\"\",,IF(IFERROR(INDEX(Přehled_body!$E$3:$ED$130,MATCH(Tabulka!$AI77,Přehled_body!$A$3:$A$130,0),MATCH(Tabulka!W$2,Přehled_body!$E$1:$ED$1,0)),)=0,0.00000000001,IFERROR(INDEX(Přehled_body!$E$3:$ED$130,MATCH(Tabulka!$AI77,Přehled_body!$A$3:$A$130,0),MATCH(Tabulka!W$2,Přehled_body!$E$1:$ED$1,0)),)))","v":0},{"$f":"IF(IFERROR(INDEX(Přehled_body!$E$3:$ED$130,MATCH(Tabulka!$AI77,Přehled_body!$A$3:$A$130,0),MATCH(Tabulka!X$2,Přehled_body!$E$1:$ED$1,0)),)=\"\",,IF(IFERROR(INDEX(Přehled_body!$E$3:$ED$130,MATCH(Tabulka!$AI77,Přehled_body!$A$3:$A$130,0),MATCH(Tabulka!X$2,Přehled_body!$E$1:$ED$1,0)),)=0,0.00000000001,IFERROR(INDEX(Přehled_body!$E$3:$ED$130,MATCH(Tabulka!$AI77,Přehled_body!$A$3:$A$130,0),MATCH(Tabulka!X$2,Přehled_body!$E$1:$ED$1,0)),)))","v":0},{"$f":"IF(IFERROR(INDEX(Přehled_body!$E$3:$ED$130,MATCH(Tabulka!$AI77,Přehled_body!$A$3:$A$130,0),MATCH(Tabulka!Y$2,Přehled_body!$E$1:$ED$1,0)),)=\"\",,IF(IFERROR(INDEX(Přehled_body!$E$3:$ED$130,MATCH(Tabulka!$AI77,Přehled_body!$A$3:$A$130,0),MATCH(Tabulka!Y$2,Přehled_body!$E$1:$ED$1,0)),)=0,0.00000000001,IFERROR(INDEX(Přehled_body!$E$3:$ED$130,MATCH(Tabulka!$AI77,Přehled_body!$A$3:$A$130,0),MATCH(Tabulka!Y$2,Přehled_body!$E$1:$ED$1,0)),)))","v":0},{"$f":"IF(IFERROR(INDEX(Přehled_body!$E$3:$ED$130,MATCH(Tabulka!$AI77,Přehled_body!$A$3:$A$130,0),MATCH(Tabulka!Z$2,Přehled_body!$E$1:$ED$1,0)),)=\"\",,IF(IFERROR(INDEX(Přehled_body!$E$3:$ED$130,MATCH(Tabulka!$AI77,Přehled_body!$A$3:$A$130,0),MATCH(Tabulka!Z$2,Přehled_body!$E$1:$ED$1,0)),)=0,0.00000000001,IFERROR(INDEX(Přehled_body!$E$3:$ED$130,MATCH(Tabulka!$AI77,Přehled_body!$A$3:$A$130,0),MATCH(Tabulka!Z$2,Přehled_body!$E$1:$ED$1,0)),)))","v":0},{"$f":"IF(IFERROR(INDEX(Přehled_body!$E$3:$ED$130,MATCH(Tabulka!$AI77,Přehled_body!$A$3:$A$130,0),MATCH(Tabulka!AA$2,Přehled_body!$E$1:$ED$1,0)),)=\"\",,IF(IFERROR(INDEX(Přehled_body!$E$3:$ED$130,MATCH(Tabulka!$AI77,Přehled_body!$A$3:$A$130,0),MATCH(Tabulka!AA$2,Přehled_body!$E$1:$ED$1,0)),)=0,0.00000000001,IFERROR(INDEX(Přehled_body!$E$3:$ED$130,MATCH(Tabulka!$AI77,Přehled_body!$A$3:$A$130,0),MATCH(Tabulka!AA$2,Přehled_body!$E$1:$ED$1,0)),)))","v":0},{"$f":"IF(IFERROR(INDEX(Přehled_body!$E$3:$ED$130,MATCH(Tabulka!$AI77,Přehled_body!$A$3:$A$130,0),MATCH(Tabulka!AB$2,Přehled_body!$E$1:$ED$1,0)),)=\"\",,IF(IFERROR(INDEX(Přehled_body!$E$3:$ED$130,MATCH(Tabulka!$AI77,Přehled_body!$A$3:$A$130,0),MATCH(Tabulka!AB$2,Přehled_body!$E$1:$ED$1,0)),)=0,0.00000000001,IFERROR(INDEX(Přehled_body!$E$3:$ED$130,MATCH(Tabulka!$AI77,Přehled_body!$A$3:$A$130,0),MATCH(Tabulka!AB$2,Přehled_body!$E$1:$ED$1,0)),)))","v":0},{"$f":"IF(IFERROR(INDEX(Přehled_body!$E$3:$ED$130,MATCH(Tabulka!$AI77,Přehled_body!$A$3:$A$130,0),MATCH(Tabulka!AC$2,Přehled_body!$E$1:$ED$1,0)),)=\"\",,IF(IFERROR(INDEX(Přehled_body!$E$3:$ED$130,MATCH(Tabulka!$AI77,Přehled_body!$A$3:$A$130,0),MATCH(Tabulka!AC$2,Přehled_body!$E$1:$ED$1,0)),)=0,0.00000000001,IFERROR(INDEX(Přehled_body!$E$3:$ED$130,MATCH(Tabulka!$AI77,Přehled_body!$A$3:$A$130,0),MATCH(Tabulka!AC$2,Přehled_body!$E$1:$ED$1,0)),)))","v":0},{"$f":"IF(IFERROR(INDEX(Přehled_body!$E$3:$ED$130,MATCH(Tabulka!$AI77,Přehled_body!$A$3:$A$130,0),MATCH(Tabulka!AD$2,Přehled_body!$E$1:$ED$1,0)),)=\"\",,IF(IFERROR(INDEX(Přehled_body!$E$3:$ED$130,MATCH(Tabulka!$AI77,Přehled_body!$A$3:$A$130,0),MATCH(Tabulka!AD$2,Přehled_body!$E$1:$ED$1,0)),)=0,0.00000000001,IFERROR(INDEX(Přehled_body!$E$3:$ED$130,MATCH(Tabulka!$AI77,Přehled_body!$A$3:$A$130,0),MATCH(Tabulka!AD$2,Přehled_body!$E$1:$ED$1,0)),)))","v":0},{"$f":"IF(SUM($D$74:$AD$78)<1,-90000,SUM(D77:AD77))","v":-90000},null,null,null,{"$f":"CONCATENATE($B$75,\" \",$B$76,C77)","v":"Míla WeinerováPřehozy"}]
[null,null,"Poč. kol",{"$f":"IF(IFERROR(INDEX(Přehled_body!$E$3:$ED$130,MATCH(Tabulka!$AI78,Přehled_body!$A$3:$A$130,0),MATCH(Tabulka!D$2,Přehled_body!$E$1:$ED$1,0)),)=\"\",,IF(IFERROR(INDEX(Přehled_body!$E$3:$ED$130,MATCH(Tabulka!$AI78,Přehled_body!$A$3:$A$130,0),MATCH(Tabulka!D$2,Přehled_body!$E$1:$ED$1,0)),)=0,0.00000000001,IFERROR(INDEX(Přehled_body!$E$3:$ED$130,MATCH(Tabulka!$AI78,Přehled_body!$A$3:$A$130,0),MATCH(Tabulka!D$2,Přehled_body!$E$1:$ED$1,0)),)))","v":0},{"$f":"IF(IFERROR(INDEX(Přehled_body!$E$3:$ED$130,MATCH(Tabulka!$AI78,Přehled_body!$A$3:$A$130,0),MATCH(Tabulka!E$2,Přehled_body!$E$1:$ED$1,0)),)=\"\",,IF(IFERROR(INDEX(Přehled_body!$E$3:$ED$130,MATCH(Tabulka!$AI78,Přehled_body!$A$3:$A$130,0),MATCH(Tabulka!E$2,Přehled_body!$E$1:$ED$1,0)),)=0,0.00000000001,IFERROR(INDEX(Přehled_body!$E$3:$ED$130,MATCH(Tabulka!$AI78,Přehled_body!$A$3:$A$130,0),MATCH(Tabulka!E$2,Přehled_body!$E$1:$ED$1,0)),)))","v":0},{"$f":"IF(IFERROR(INDEX(Přehled_body!$E$3:$ED$130,MATCH(Tabulka!$AI78,Přehled_body!$A$3:$A$130,0),MATCH(Tabulka!F$2,Přehled_body!$E$1:$ED$1,0)),)=\"\",,IF(IFERROR(INDEX(Přehled_body!$E$3:$ED$130,MATCH(Tabulka!$AI78,Přehled_body!$A$3:$A$130,0),MATCH(Tabulka!F$2,Přehled_body!$E$1:$ED$1,0)),)=0,0.00000000001,IFERROR(INDEX(Přehled_body!$E$3:$ED$130,MATCH(Tabulka!$AI78,Přehled_body!$A$3:$A$130,0),MATCH(Tabulka!F$2,Přehled_body!$E$1:$ED$1,0)),)))","v":0},{"$f":"IF(IFERROR(INDEX(Přehled_body!$E$3:$ED$130,MATCH(Tabulka!$AI78,Přehled_body!$A$3:$A$130,0),MATCH(Tabulka!G$2,Přehled_body!$E$1:$ED$1,0)),)=\"\",,IF(IFERROR(INDEX(Přehled_body!$E$3:$ED$130,MATCH(Tabulka!$AI78,Přehled_body!$A$3:$A$130,0),MATCH(Tabulka!G$2,Přehled_body!$E$1:$ED$1,0)),)=0,0.00000000001,IFERROR(INDEX(Přehled_body!$E$3:$ED$130,MATCH(Tabulka!$AI78,Přehled_body!$A$3:$A$130,0),MATCH(Tabulka!G$2,Přehled_body!$E$1:$ED$1,0)),)))","v":0},{"$f":"IF(IFERROR(INDEX(Přehled_body!$E$3:$ED$130,MATCH(Tabulka!$AI78,Přehled_body!$A$3:$A$130,0),MATCH(Tabulka!H$2,Přehled_body!$E$1:$ED$1,0)),)=\"\",,IF(IFERROR(INDEX(Přehled_body!$E$3:$ED$130,MATCH(Tabulka!$AI78,Přehled_body!$A$3:$A$130,0),MATCH(Tabulka!H$2,Přehled_body!$E$1:$ED$1,0)),)=0,0.00000000001,IFERROR(INDEX(Přehled_body!$E$3:$ED$130,MATCH(Tabulka!$AI78,Přehled_body!$A$3:$A$130,0),MATCH(Tabulka!H$2,Přehled_body!$E$1:$ED$1,0)),)))","v":0},{"$f":"IF(IFERROR(INDEX(Přehled_body!$E$3:$ED$130,MATCH(Tabulka!$AI78,Přehled_body!$A$3:$A$130,0),MATCH(Tabulka!I$2,Přehled_body!$E$1:$ED$1,0)),)=\"\",,IF(IFERROR(INDEX(Přehled_body!$E$3:$ED$130,MATCH(Tabulka!$AI78,Přehled_body!$A$3:$A$130,0),MATCH(Tabulka!I$2,Přehled_body!$E$1:$ED$1,0)),)=0,0.00000000001,IFERROR(INDEX(Přehled_body!$E$3:$ED$130,MATCH(Tabulka!$AI78,Přehled_body!$A$3:$A$130,0),MATCH(Tabulka!I$2,Přehled_body!$E$1:$ED$1,0)),)))","v":0},{"$f":"IF(IFERROR(INDEX(Přehled_body!$E$3:$ED$130,MATCH(Tabulka!$AI78,Přehled_body!$A$3:$A$130,0),MATCH(Tabulka!J$2,Přehled_body!$E$1:$ED$1,0)),)=\"\",,IF(IFERROR(INDEX(Přehled_body!$E$3:$ED$130,MATCH(Tabulka!$AI78,Přehled_body!$A$3:$A$130,0),MATCH(Tabulka!J$2,Přehled_body!$E$1:$ED$1,0)),)=0,0.00000000001,IFERROR(INDEX(Přehled_body!$E$3:$ED$130,MATCH(Tabulka!$AI78,Přehled_body!$A$3:$A$130,0),MATCH(Tabulka!J$2,Přehled_body!$E$1:$ED$1,0)),)))","v":0},{"$f":"IF(IFERROR(INDEX(Přehled_body!$E$3:$ED$130,MATCH(Tabulka!$AI78,Přehled_body!$A$3:$A$130,0),MATCH(Tabulka!K$2,Přehled_body!$E$1:$ED$1,0)),)=\"\",,IF(IFERROR(INDEX(Přehled_body!$E$3:$ED$130,MATCH(Tabulka!$AI78,Přehled_body!$A$3:$A$130,0),MATCH(Tabulka!K$2,Přehled_body!$E$1:$ED$1,0)),)=0,0.00000000001,IFERROR(INDEX(Přehled_body!$E$3:$ED$130,MATCH(Tabulka!$AI78,Přehled_body!$A$3:$A$130,0),MATCH(Tabulka!K$2,Přehled_body!$E$1:$ED$1,0)),)))","v":0},{"$f":"IF(IFERROR(INDEX(Přehled_body!$E$3:$ED$130,MATCH(Tabulka!$AI78,Přehled_body!$A$3:$A$130,0),MATCH(Tabulka!L$2,Přehled_body!$E$1:$ED$1,0)),)=\"\",,IF(IFERROR(INDEX(Přehled_body!$E$3:$ED$130,MATCH(Tabulka!$AI78,Přehled_body!$A$3:$A$130,0),MATCH(Tabulka!L$2,Přehled_body!$E$1:$ED$1,0)),)=0,0.00000000001,IFERROR(INDEX(Přehled_body!$E$3:$ED$130,MATCH(Tabulka!$AI78,Přehled_body!$A$3:$A$130,0),MATCH(Tabulka!L$2,Přehled_body!$E$1:$ED$1,0)),)))","v":0},{"$f":"IF(IFERROR(INDEX(Přehled_body!$E$3:$ED$130,MATCH(Tabulka!$AI78,Přehled_body!$A$3:$A$130,0),MATCH(Tabulka!M$2,Přehled_body!$E$1:$ED$1,0)),)=\"\",,IF(IFERROR(INDEX(Přehled_body!$E$3:$ED$130,MATCH(Tabulka!$AI78,Přehled_body!$A$3:$A$130,0),MATCH(Tabulka!M$2,Přehled_body!$E$1:$ED$1,0)),)=0,0.00000000001,IFERROR(INDEX(Přehled_body!$E$3:$ED$130,MATCH(Tabulka!$AI78,Přehled_body!$A$3:$A$130,0),MATCH(Tabulka!M$2,Přehled_body!$E$1:$ED$1,0)),)))","v":0},{"$f":"IF(IFERROR(INDEX(Přehled_body!$E$3:$ED$130,MATCH(Tabulka!$AI78,Přehled_body!$A$3:$A$130,0),MATCH(Tabulka!N$2,Přehled_body!$E$1:$ED$1,0)),)=\"\",,IF(IFERROR(INDEX(Přehled_body!$E$3:$ED$130,MATCH(Tabulka!$AI78,Přehled_body!$A$3:$A$130,0),MATCH(Tabulka!N$2,Přehled_body!$E$1:$ED$1,0)),)=0,0.00000000001,IFERROR(INDEX(Přehled_body!$E$3:$ED$130,MATCH(Tabulka!$AI78,Přehled_body!$A$3:$A$130,0),MATCH(Tabulka!N$2,Přehled_body!$E$1:$ED$1,0)),)))","v":0},{"$f":"IF(IFERROR(INDEX(Přehled_body!$E$3:$ED$130,MATCH(Tabulka!$AI78,Přehled_body!$A$3:$A$130,0),MATCH(Tabulka!O$2,Přehled_body!$E$1:$ED$1,0)),)=\"\",,IF(IFERROR(INDEX(Přehled_body!$E$3:$ED$130,MATCH(Tabulka!$AI78,Přehled_body!$A$3:$A$130,0),MATCH(Tabulka!O$2,Přehled_body!$E$1:$ED$1,0)),)=0,0.00000000001,IFERROR(INDEX(Přehled_body!$E$3:$ED$130,MATCH(Tabulka!$AI78,Přehled_body!$A$3:$A$130,0),MATCH(Tabulka!O$2,Přehled_body!$E$1:$ED$1,0)),)))","v":0},{"$f":"IF(IFERROR(INDEX(Přehled_body!$E$3:$ED$130,MATCH(Tabulka!$AI78,Přehled_body!$A$3:$A$130,0),MATCH(Tabulka!P$2,Přehled_body!$E$1:$ED$1,0)),)=\"\",,IF(IFERROR(INDEX(Přehled_body!$E$3:$ED$130,MATCH(Tabulka!$AI78,Přehled_body!$A$3:$A$130,0),MATCH(Tabulka!P$2,Přehled_body!$E$1:$ED$1,0)),)=0,0.00000000001,IFERROR(INDEX(Přehled_body!$E$3:$ED$130,MATCH(Tabulka!$AI78,Přehled_body!$A$3:$A$130,0),MATCH(Tabulka!P$2,Přehled_body!$E$1:$ED$1,0)),)))","v":0},{"$f":"IF(IFERROR(INDEX(Přehled_body!$E$3:$ED$130,MATCH(Tabulka!$AI78,Přehled_body!$A$3:$A$130,0),MATCH(Tabulka!Q$2,Přehled_body!$E$1:$ED$1,0)),)=\"\",,IF(IFERROR(INDEX(Přehled_body!$E$3:$ED$130,MATCH(Tabulka!$AI78,Přehled_body!$A$3:$A$130,0),MATCH(Tabulka!Q$2,Přehled_body!$E$1:$ED$1,0)),)=0,0.00000000001,IFERROR(INDEX(Přehled_body!$E$3:$ED$130,MATCH(Tabulka!$AI78,Přehled_body!$A$3:$A$130,0),MATCH(Tabulka!Q$2,Přehled_body!$E$1:$ED$1,0)),)))","v":0},{"$f":"IF(IFERROR(INDEX(Přehled_body!$E$3:$ED$130,MATCH(Tabulka!$AI78,Přehled_body!$A$3:$A$130,0),MATCH(Tabulka!R$2,Přehled_body!$E$1:$ED$1,0)),)=\"\",,IF(IFERROR(INDEX(Přehled_body!$E$3:$ED$130,MATCH(Tabulka!$AI78,Přehled_body!$A$3:$A$130,0),MATCH(Tabulka!R$2,Přehled_body!$E$1:$ED$1,0)),)=0,0.00000000001,IFERROR(INDEX(Přehled_body!$E$3:$ED$130,MATCH(Tabulka!$AI78,Přehled_body!$A$3:$A$130,0),MATCH(Tabulka!R$2,Přehled_body!$E$1:$ED$1,0)),)))","v":0},{"$f":"IF(IFERROR(INDEX(Přehled_body!$E$3:$ED$130,MATCH(Tabulka!$AI78,Přehled_body!$A$3:$A$130,0),MATCH(Tabulka!S$2,Přehled_body!$E$1:$ED$1,0)),)=\"\",,IF(IFERROR(INDEX(Přehled_body!$E$3:$ED$130,MATCH(Tabulka!$AI78,Přehled_body!$A$3:$A$130,0),MATCH(Tabulka!S$2,Přehled_body!$E$1:$ED$1,0)),)=0,0.00000000001,IFERROR(INDEX(Přehled_body!$E$3:$ED$130,MATCH(Tabulka!$AI78,Přehled_body!$A$3:$A$130,0),MATCH(Tabulka!S$2,Přehled_body!$E$1:$ED$1,0)),)))","v":0},{"$f":"IF(IFERROR(INDEX(Přehled_body!$E$3:$ED$130,MATCH(Tabulka!$AI78,Přehled_body!$A$3:$A$130,0),MATCH(Tabulka!T$2,Přehled_body!$E$1:$ED$1,0)),)=\"\",,IF(IFERROR(INDEX(Přehled_body!$E$3:$ED$130,MATCH(Tabulka!$AI78,Přehled_body!$A$3:$A$130,0),MATCH(Tabulka!T$2,Přehled_body!$E$1:$ED$1,0)),)=0,0.00000000001,IFERROR(INDEX(Přehled_body!$E$3:$ED$130,MATCH(Tabulka!$AI78,Přehled_body!$A$3:$A$130,0),MATCH(Tabulka!T$2,Přehled_body!$E$1:$ED$1,0)),)))","v":0},{"$f":"IF(IFERROR(INDEX(Přehled_body!$E$3:$ED$130,MATCH(Tabulka!$AI78,Přehled_body!$A$3:$A$130,0),MATCH(Tabulka!U$2,Přehled_body!$E$1:$ED$1,0)),)=\"\",,IF(IFERROR(INDEX(Přehled_body!$E$3:$ED$130,MATCH(Tabulka!$AI78,Přehled_body!$A$3:$A$130,0),MATCH(Tabulka!U$2,Přehled_body!$E$1:$ED$1,0)),)=0,0.00000000001,IFERROR(INDEX(Přehled_body!$E$3:$ED$130,MATCH(Tabulka!$AI78,Přehled_body!$A$3:$A$130,0),MATCH(Tabulka!U$2,Přehled_body!$E$1:$ED$1,0)),)))","v":0},{"$f":"IF(IFERROR(INDEX(Přehled_body!$E$3:$ED$130,MATCH(Tabulka!$AI78,Přehled_body!$A$3:$A$130,0),MATCH(Tabulka!V$2,Přehled_body!$E$1:$ED$1,0)),)=\"\",,IF(IFERROR(INDEX(Přehled_body!$E$3:$ED$130,MATCH(Tabulka!$AI78,Přehled_body!$A$3:$A$130,0),MATCH(Tabulka!V$2,Přehled_body!$E$1:$ED$1,0)),)=0,0.00000000001,IFERROR(INDEX(Přehled_body!$E$3:$ED$130,MATCH(Tabulka!$AI78,Přehled_body!$A$3:$A$130,0),MATCH(Tabulka!V$2,Přehled_body!$E$1:$ED$1,0)),)))","v":0},{"$f":"IF(IFERROR(INDEX(Přehled_body!$E$3:$ED$130,MATCH(Tabulka!$AI78,Přehled_body!$A$3:$A$130,0),MATCH(Tabulka!W$2,Přehled_body!$E$1:$ED$1,0)),)=\"\",,IF(IFERROR(INDEX(Přehled_body!$E$3:$ED$130,MATCH(Tabulka!$AI78,Přehled_body!$A$3:$A$130,0),MATCH(Tabulka!W$2,Přehled_body!$E$1:$ED$1,0)),)=0,0.00000000001,IFERROR(INDEX(Přehled_body!$E$3:$ED$130,MATCH(Tabulka!$AI78,Přehled_body!$A$3:$A$130,0),MATCH(Tabulka!W$2,Přehled_body!$E$1:$ED$1,0)),)))","v":0},{"$f":"IF(IFERROR(INDEX(Přehled_body!$E$3:$ED$130,MATCH(Tabulka!$AI78,Přehled_body!$A$3:$A$130,0),MATCH(Tabulka!X$2,Přehled_body!$E$1:$ED$1,0)),)=\"\",,IF(IFERROR(INDEX(Přehled_body!$E$3:$ED$130,MATCH(Tabulka!$AI78,Přehled_body!$A$3:$A$130,0),MATCH(Tabulka!X$2,Přehled_body!$E$1:$ED$1,0)),)=0,0.00000000001,IFERROR(INDEX(Přehled_body!$E$3:$ED$130,MATCH(Tabulka!$AI78,Přehled_body!$A$3:$A$130,0),MATCH(Tabulka!X$2,Přehled_body!$E$1:$ED$1,0)),)))","v":0},{"$f":"IF(IFERROR(INDEX(Přehled_body!$E$3:$ED$130,MATCH(Tabulka!$AI78,Přehled_body!$A$3:$A$130,0),MATCH(Tabulka!Y$2,Přehled_body!$E$1:$ED$1,0)),)=\"\",,IF(IFERROR(INDEX(Přehled_body!$E$3:$ED$130,MATCH(Tabulka!$AI78,Přehled_body!$A$3:$A$130,0),MATCH(Tabulka!Y$2,Přehled_body!$E$1:$ED$1,0)),)=0,0.00000000001,IFERROR(INDEX(Přehled_body!$E$3:$ED$130,MATCH(Tabulka!$AI78,Přehled_body!$A$3:$A$130,0),MATCH(Tabulka!Y$2,Přehled_body!$E$1:$ED$1,0)),)))","v":0},{"$f":"IF(IFERROR(INDEX(Přehled_body!$E$3:$ED$130,MATCH(Tabulka!$AI78,Přehled_body!$A$3:$A$130,0),MATCH(Tabulka!Z$2,Přehled_body!$E$1:$ED$1,0)),)=\"\",,IF(IFERROR(INDEX(Přehled_body!$E$3:$ED$130,MATCH(Tabulka!$AI78,Přehled_body!$A$3:$A$130,0),MATCH(Tabulka!Z$2,Přehled_body!$E$1:$ED$1,0)),)=0,0.00000000001,IFERROR(INDEX(Přehled_body!$E$3:$ED$130,MATCH(Tabulka!$AI78,Přehled_body!$A$3:$A$130,0),MATCH(Tabulka!Z$2,Přehled_body!$E$1:$ED$1,0)),)))","v":0},{"$f":"IF(IFERROR(INDEX(Přehled_body!$E$3:$ED$130,MATCH(Tabulka!$AI78,Přehled_body!$A$3:$A$130,0),MATCH(Tabulka!AA$2,Přehled_body!$E$1:$ED$1,0)),)=\"\",,IF(IFERROR(INDEX(Přehled_body!$E$3:$ED$130,MATCH(Tabulka!$AI78,Přehled_body!$A$3:$A$130,0),MATCH(Tabulka!AA$2,Přehled_body!$E$1:$ED$1,0)),)=0,0.00000000001,IFERROR(INDEX(Přehled_body!$E$3:$ED$130,MATCH(Tabulka!$AI78,Přehled_body!$A$3:$A$130,0),MATCH(Tabulka!AA$2,Přehled_body!$E$1:$ED$1,0)),)))","v":0},{"$f":"IF(IFERROR(INDEX(Přehled_body!$E$3:$ED$130,MATCH(Tabulka!$AI78,Přehled_body!$A$3:$A$130,0),MATCH(Tabulka!AB$2,Přehled_body!$E$1:$ED$1,0)),)=\"\",,IF(IFERROR(INDEX(Přehled_body!$E$3:$ED$130,MATCH(Tabulka!$AI78,Přehled_body!$A$3:$A$130,0),MATCH(Tabulka!AB$2,Přehled_body!$E$1:$ED$1,0)),)=0,0.00000000001,IFERROR(INDEX(Přehled_body!$E$3:$ED$130,MATCH(Tabulka!$AI78,Přehled_body!$A$3:$A$130,0),MATCH(Tabulka!AB$2,Přehled_body!$E$1:$ED$1,0)),)))","v":0},{"$f":"IF(IFERROR(INDEX(Přehled_body!$E$3:$ED$130,MATCH(Tabulka!$AI78,Přehled_body!$A$3:$A$130,0),MATCH(Tabulka!AC$2,Přehled_body!$E$1:$ED$1,0)),)=\"\",,IF(IFERROR(INDEX(Přehled_body!$E$3:$ED$130,MATCH(Tabulka!$AI78,Přehled_body!$A$3:$A$130,0),MATCH(Tabulka!AC$2,Přehled_body!$E$1:$ED$1,0)),)=0,0.00000000001,IFERROR(INDEX(Přehled_body!$E$3:$ED$130,MATCH(Tabulka!$AI78,Přehled_body!$A$3:$A$130,0),MATCH(Tabulka!AC$2,Přehled_body!$E$1:$ED$1,0)),)))","v":0},{"$f":"IF(IFERROR(INDEX(Přehled_body!$E$3:$ED$130,MATCH(Tabulka!$AI78,Přehled_body!$A$3:$A$130,0),MATCH(Tabulka!AD$2,Přehled_body!$E$1:$ED$1,0)),)=\"\",,IF(IFERROR(INDEX(Přehled_body!$E$3:$ED$130,MATCH(Tabulka!$AI78,Přehled_body!$A$3:$A$130,0),MATCH(Tabulka!AD$2,Přehled_body!$E$1:$ED$1,0)),)=0,0.00000000001,IFERROR(INDEX(Přehled_body!$E$3:$ED$130,MATCH(Tabulka!$AI78,Přehled_body!$A$3:$A$130,0),MATCH(Tabulka!AD$2,Přehled_body!$E$1:$ED$1,0)),)))","v":0},{"$f":"IF(SUM($D$74:$AD$78)<1,-90000,SUM(D78:AD78))","v":-90000},null,null,null,{"$f":"CONCATENATE($B$75,\" \",$B$76,C78)","v":"Míla WeinerováPoč. kol"}]
[null,null,"Výhry",{"$f":"IF(IFERROR(INDEX(Přehled_body!$E$3:$ED$130,MATCH(Tabulka!$AI79,Přehled_body!$A$3:$A$130,0),MATCH(Tabulka!D$2,Přehled_body!$E$1:$ED$1,0)),)=\"\",,IF(IFERROR(INDEX(Přehled_body!$E$3:$ED$130,MATCH(Tabulka!$AI79,Přehled_body!$A$3:$A$130,0),MATCH(Tabulka!D$2,Přehled_body!$E$1:$ED$1,0)),)=0,0.00000000001,IFERROR(INDEX(Přehled_body!$E$3:$ED$130,MATCH(Tabulka!$AI79,Přehled_body!$A$3:$A$130,0),MATCH(Tabulka!D$2,Přehled_body!$E$1:$ED$1,0)),)))","v":0},{"$f":"IF(IFERROR(INDEX(Přehled_body!$E$3:$ED$130,MATCH(Tabulka!$AI79,Přehled_body!$A$3:$A$130,0),MATCH(Tabulka!E$2,Přehled_body!$E$1:$ED$1,0)),)=\"\",,IF(IFERROR(INDEX(Přehled_body!$E$3:$ED$130,MATCH(Tabulka!$AI79,Přehled_body!$A$3:$A$130,0),MATCH(Tabulka!E$2,Přehled_body!$E$1:$ED$1,0)),)=0,0.00000000001,IFERROR(INDEX(Přehled_body!$E$3:$ED$130,MATCH(Tabulka!$AI79,Přehled_body!$A$3:$A$130,0),MATCH(Tabulka!E$2,Přehled_body!$E$1:$ED$1,0)),)))","v":0},{"$f":"IF(IFERROR(INDEX(Přehled_body!$E$3:$ED$130,MATCH(Tabulka!$AI79,Přehled_body!$A$3:$A$130,0),MATCH(Tabulka!F$2,Přehled_body!$E$1:$ED$1,0)),)=\"\",,IF(IFERROR(INDEX(Přehled_body!$E$3:$ED$130,MATCH(Tabulka!$AI79,Přehled_body!$A$3:$A$130,0),MATCH(Tabulka!F$2,Přehled_body!$E$1:$ED$1,0)),)=0,0.00000000001,IFERROR(INDEX(Přehled_body!$E$3:$ED$130,MATCH(Tabulka!$AI79,Přehled_body!$A$3:$A$130,0),MATCH(Tabulka!F$2,Přehled_body!$E$1:$ED$1,0)),)))","v":0},{"$f":"IF(IFERROR(INDEX(Přehled_body!$E$3:$ED$130,MATCH(Tabulka!$AI79,Přehled_body!$A$3:$A$130,0),MATCH(Tabulka!G$2,Přehled_body!$E$1:$ED$1,0)),)=\"\",,IF(IFERROR(INDEX(Přehled_body!$E$3:$ED$130,MATCH(Tabulka!$AI79,Přehled_body!$A$3:$A$130,0),MATCH(Tabulka!G$2,Přehled_body!$E$1:$ED$1,0)),)=0,0.00000000001,IFERROR(INDEX(Přehled_body!$E$3:$ED$130,MATCH(Tabulka!$AI79,Přehled_body!$A$3:$A$130,0),MATCH(Tabulka!G$2,Přehled_body!$E$1:$ED$1,0)),)))","v":0},{"$f":"IF(IFERROR(INDEX(Přehled_body!$E$3:$ED$130,MATCH(Tabulka!$AI79,Přehled_body!$A$3:$A$130,0),MATCH(Tabulka!H$2,Přehled_body!$E$1:$ED$1,0)),)=\"\",,IF(IFERROR(INDEX(Přehled_body!$E$3:$ED$130,MATCH(Tabulka!$AI79,Přehled_body!$A$3:$A$130,0),MATCH(Tabulka!H$2,Přehled_body!$E$1:$ED$1,0)),)=0,0.00000000001,IFERROR(INDEX(Přehled_body!$E$3:$ED$130,MATCH(Tabulka!$AI79,Přehled_body!$A$3:$A$130,0),MATCH(Tabulka!H$2,Přehled_body!$E$1:$ED$1,0)),)))","v":0},{"$f":"IF(IFERROR(INDEX(Přehled_body!$E$3:$ED$130,MATCH(Tabulka!$AI79,Přehled_body!$A$3:$A$130,0),MATCH(Tabulka!I$2,Přehled_body!$E$1:$ED$1,0)),)=\"\",,IF(IFERROR(INDEX(Přehled_body!$E$3:$ED$130,MATCH(Tabulka!$AI79,Přehled_body!$A$3:$A$130,0),MATCH(Tabulka!I$2,Přehled_body!$E$1:$ED$1,0)),)=0,0.00000000001,IFERROR(INDEX(Přehled_body!$E$3:$ED$130,MATCH(Tabulka!$AI79,Přehled_body!$A$3:$A$130,0),MATCH(Tabulka!I$2,Přehled_body!$E$1:$ED$1,0)),)))","v":0},{"$f":"IF(IFERROR(INDEX(Přehled_body!$E$3:$ED$130,MATCH(Tabulka!$AI79,Přehled_body!$A$3:$A$130,0),MATCH(Tabulka!J$2,Přehled_body!$E$1:$ED$1,0)),)=\"\",,IF(IFERROR(INDEX(Přehled_body!$E$3:$ED$130,MATCH(Tabulka!$AI79,Přehled_body!$A$3:$A$130,0),MATCH(Tabulka!J$2,Přehled_body!$E$1:$ED$1,0)),)=0,0.00000000001,IFERROR(INDEX(Přehled_body!$E$3:$ED$130,MATCH(Tabulka!$AI79,Přehled_body!$A$3:$A$130,0),MATCH(Tabulka!J$2,Přehled_body!$E$1:$ED$1,0)),)))","v":0},{"$f":"IF(IFERROR(INDEX(Přehled_body!$E$3:$ED$130,MATCH(Tabulka!$AI79,Přehled_body!$A$3:$A$130,0),MATCH(Tabulka!K$2,Přehled_body!$E$1:$ED$1,0)),)=\"\",,IF(IFERROR(INDEX(Přehled_body!$E$3:$ED$130,MATCH(Tabulka!$AI79,Přehled_body!$A$3:$A$130,0),MATCH(Tabulka!K$2,Přehled_body!$E$1:$ED$1,0)),)=0,0.00000000001,IFERROR(INDEX(Přehled_body!$E$3:$ED$130,MATCH(Tabulka!$AI79,Přehled_body!$A$3:$A$130,0),MATCH(Tabulka!K$2,Přehled_body!$E$1:$ED$1,0)),)))","v":0},{"$f":"IF(IFERROR(INDEX(Přehled_body!$E$3:$ED$130,MATCH(Tabulka!$AI79,Přehled_body!$A$3:$A$130,0),MATCH(Tabulka!L$2,Přehled_body!$E$1:$ED$1,0)),)=\"\",,IF(IFERROR(INDEX(Přehled_body!$E$3:$ED$130,MATCH(Tabulka!$AI79,Přehled_body!$A$3:$A$130,0),MATCH(Tabulka!L$2,Přehled_body!$E$1:$ED$1,0)),)=0,0.00000000001,IFERROR(INDEX(Přehled_body!$E$3:$ED$130,MATCH(Tabulka!$AI79,Přehled_body!$A$3:$A$130,0),MATCH(Tabulka!L$2,Přehled_body!$E$1:$ED$1,0)),)))","v":0},{"$f":"IF(IFERROR(INDEX(Přehled_body!$E$3:$ED$130,MATCH(Tabulka!$AI79,Přehled_body!$A$3:$A$130,0),MATCH(Tabulka!M$2,Přehled_body!$E$1:$ED$1,0)),)=\"\",,IF(IFERROR(INDEX(Přehled_body!$E$3:$ED$130,MATCH(Tabulka!$AI79,Přehled_body!$A$3:$A$130,0),MATCH(Tabulka!M$2,Přehled_body!$E$1:$ED$1,0)),)=0,0.00000000001,IFERROR(INDEX(Přehled_body!$E$3:$ED$130,MATCH(Tabulka!$AI79,Přehled_body!$A$3:$A$130,0),MATCH(Tabulka!M$2,Přehled_body!$E$1:$ED$1,0)),)))","v":0},{"$f":"IF(IFERROR(INDEX(Přehled_body!$E$3:$ED$130,MATCH(Tabulka!$AI79,Přehled_body!$A$3:$A$130,0),MATCH(Tabulka!N$2,Přehled_body!$E$1:$ED$1,0)),)=\"\",,IF(IFERROR(INDEX(Přehled_body!$E$3:$ED$130,MATCH(Tabulka!$AI79,Přehled_body!$A$3:$A$130,0),MATCH(Tabulka!N$2,Přehled_body!$E$1:$ED$1,0)),)=0,0.00000000001,IFERROR(INDEX(Přehled_body!$E$3:$ED$130,MATCH(Tabulka!$AI79,Přehled_body!$A$3:$A$130,0),MATCH(Tabulka!N$2,Přehled_body!$E$1:$ED$1,0)),)))","v":0},{"$f":"IF(IFERROR(INDEX(Přehled_body!$E$3:$ED$130,MATCH(Tabulka!$AI79,Přehled_body!$A$3:$A$130,0),MATCH(Tabulka!O$2,Přehled_body!$E$1:$ED$1,0)),)=\"\",,IF(IFERROR(INDEX(Přehled_body!$E$3:$ED$130,MATCH(Tabulka!$AI79,Přehled_body!$A$3:$A$130,0),MATCH(Tabulka!O$2,Přehled_body!$E$1:$ED$1,0)),)=0,0.00000000001,IFERROR(INDEX(Přehled_body!$E$3:$ED$130,MATCH(Tabulka!$AI79,Přehled_body!$A$3:$A$130,0),MATCH(Tabulka!O$2,Přehled_body!$E$1:$ED$1,0)),)))","v":0},{"$f":"IF(IFERROR(INDEX(Přehled_body!$E$3:$ED$130,MATCH(Tabulka!$AI79,Přehled_body!$A$3:$A$130,0),MATCH(Tabulka!P$2,Přehled_body!$E$1:$ED$1,0)),)=\"\",,IF(IFERROR(INDEX(Přehled_body!$E$3:$ED$130,MATCH(Tabulka!$AI79,Přehled_body!$A$3:$A$130,0),MATCH(Tabulka!P$2,Přehled_body!$E$1:$ED$1,0)),)=0,0.00000000001,IFERROR(INDEX(Přehled_body!$E$3:$ED$130,MATCH(Tabulka!$AI79,Přehled_body!$A$3:$A$130,0),MATCH(Tabulka!P$2,Přehled_body!$E$1:$ED$1,0)),)))","v":0},{"$f":"IF(IFERROR(INDEX(Přehled_body!$E$3:$ED$130,MATCH(Tabulka!$AI79,Přehled_body!$A$3:$A$130,0),MATCH(Tabulka!Q$2,Přehled_body!$E$1:$ED$1,0)),)=\"\",,IF(IFERROR(INDEX(Přehled_body!$E$3:$ED$130,MATCH(Tabulka!$AI79,Přehled_body!$A$3:$A$130,0),MATCH(Tabulka!Q$2,Přehled_body!$E$1:$ED$1,0)),)=0,0.00000000001,IFERROR(INDEX(Přehled_body!$E$3:$ED$130,MATCH(Tabulka!$AI79,Přehled_body!$A$3:$A$130,0),MATCH(Tabulka!Q$2,Přehled_body!$E$1:$ED$1,0)),)))","v":0},{"$f":"IF(IFERROR(INDEX(Přehled_body!$E$3:$ED$130,MATCH(Tabulka!$AI79,Přehled_body!$A$3:$A$130,0),MATCH(Tabulka!R$2,Přehled_body!$E$1:$ED$1,0)),)=\"\",,IF(IFERROR(INDEX(Přehled_body!$E$3:$ED$130,MATCH(Tabulka!$AI79,Přehled_body!$A$3:$A$130,0),MATCH(Tabulka!R$2,Přehled_body!$E$1:$ED$1,0)),)=0,0.00000000001,IFERROR(INDEX(Přehled_body!$E$3:$ED$130,MATCH(Tabulka!$AI79,Přehled_body!$A$3:$A$130,0),MATCH(Tabulka!R$2,Přehled_body!$E$1:$ED$1,0)),)))","v":0},{"$f":"IF(IFERROR(INDEX(Přehled_body!$E$3:$ED$130,MATCH(Tabulka!$AI79,Přehled_body!$A$3:$A$130,0),MATCH(Tabulka!S$2,Přehled_body!$E$1:$ED$1,0)),)=\"\",,IF(IFERROR(INDEX(Přehled_body!$E$3:$ED$130,MATCH(Tabulka!$AI79,Přehled_body!$A$3:$A$130,0),MATCH(Tabulka!S$2,Přehled_body!$E$1:$ED$1,0)),)=0,0.00000000001,IFERROR(INDEX(Přehled_body!$E$3:$ED$130,MATCH(Tabulka!$AI79,Přehled_body!$A$3:$A$130,0),MATCH(Tabulka!S$2,Přehled_body!$E$1:$ED$1,0)),)))","v":0},{"$f":"IF(IFERROR(INDEX(Přehled_body!$E$3:$ED$130,MATCH(Tabulka!$AI79,Přehled_body!$A$3:$A$130,0),MATCH(Tabulka!T$2,Přehled_body!$E$1:$ED$1,0)),)=\"\",,IF(IFERROR(INDEX(Přehled_body!$E$3:$ED$130,MATCH(Tabulka!$AI79,Přehled_body!$A$3:$A$130,0),MATCH(Tabulka!T$2,Přehled_body!$E$1:$ED$1,0)),)=0,0.00000000001,IFERROR(INDEX(Přehled_body!$E$3:$ED$130,MATCH(Tabulka!$AI79,Přehled_body!$A$3:$A$130,0),MATCH(Tabulka!T$2,Přehled_body!$E$1:$ED$1,0)),)))","v":0},{"$f":"IF(IFERROR(INDEX(Přehled_body!$E$3:$ED$130,MATCH(Tabulka!$AI79,Přehled_body!$A$3:$A$130,0),MATCH(Tabulka!U$2,Přehled_body!$E$1:$ED$1,0)),)=\"\",,IF(IFERROR(INDEX(Přehled_body!$E$3:$ED$130,MATCH(Tabulka!$AI79,Přehled_body!$A$3:$A$130,0),MATCH(Tabulka!U$2,Přehled_body!$E$1:$ED$1,0)),)=0,0.00000000001,IFERROR(INDEX(Přehled_body!$E$3:$ED$130,MATCH(Tabulka!$AI79,Přehled_body!$A$3:$A$130,0),MATCH(Tabulka!U$2,Přehled_body!$E$1:$ED$1,0)),)))","v":0},{"$f":"IF(IFERROR(INDEX(Přehled_body!$E$3:$ED$130,MATCH(Tabulka!$AI79,Přehled_body!$A$3:$A$130,0),MATCH(Tabulka!V$2,Přehled_body!$E$1:$ED$1,0)),)=\"\",,IF(IFERROR(INDEX(Přehled_body!$E$3:$ED$130,MATCH(Tabulka!$AI79,Přehled_body!$A$3:$A$130,0),MATCH(Tabulka!V$2,Přehled_body!$E$1:$ED$1,0)),)=0,0.00000000001,IFERROR(INDEX(Přehled_body!$E$3:$ED$130,MATCH(Tabulka!$AI79,Přehled_body!$A$3:$A$130,0),MATCH(Tabulka!V$2,Přehled_body!$E$1:$ED$1,0)),)))","v":0},{"$f":"IF(IFERROR(INDEX(Přehled_body!$E$3:$ED$130,MATCH(Tabulka!$AI79,Přehled_body!$A$3:$A$130,0),MATCH(Tabulka!W$2,Přehled_body!$E$1:$ED$1,0)),)=\"\",,IF(IFERROR(INDEX(Přehled_body!$E$3:$ED$130,MATCH(Tabulka!$AI79,Přehled_body!$A$3:$A$130,0),MATCH(Tabulka!W$2,Přehled_body!$E$1:$ED$1,0)),)=0,0.00000000001,IFERROR(INDEX(Přehled_body!$E$3:$ED$130,MATCH(Tabulka!$AI79,Přehled_body!$A$3:$A$130,0),MATCH(Tabulka!W$2,Přehled_body!$E$1:$ED$1,0)),)))","v":0},{"$f":"IF(IFERROR(INDEX(Přehled_body!$E$3:$ED$130,MATCH(Tabulka!$AI79,Přehled_body!$A$3:$A$130,0),MATCH(Tabulka!X$2,Přehled_body!$E$1:$ED$1,0)),)=\"\",,IF(IFERROR(INDEX(Přehled_body!$E$3:$ED$130,MATCH(Tabulka!$AI79,Přehled_body!$A$3:$A$130,0),MATCH(Tabulka!X$2,Přehled_body!$E$1:$ED$1,0)),)=0,0.00000000001,IFERROR(INDEX(Přehled_body!$E$3:$ED$130,MATCH(Tabulka!$AI79,Přehled_body!$A$3:$A$130,0),MATCH(Tabulka!X$2,Přehled_body!$E$1:$ED$1,0)),)))","v":0},{"$f":"IF(IFERROR(INDEX(Přehled_body!$E$3:$ED$130,MATCH(Tabulka!$AI79,Přehled_body!$A$3:$A$130,0),MATCH(Tabulka!Y$2,Přehled_body!$E$1:$ED$1,0)),)=\"\",,IF(IFERROR(INDEX(Přehled_body!$E$3:$ED$130,MATCH(Tabulka!$AI79,Přehled_body!$A$3:$A$130,0),MATCH(Tabulka!Y$2,Přehled_body!$E$1:$ED$1,0)),)=0,0.00000000001,IFERROR(INDEX(Přehled_body!$E$3:$ED$130,MATCH(Tabulka!$AI79,Přehled_body!$A$3:$A$130,0),MATCH(Tabulka!Y$2,Přehled_body!$E$1:$ED$1,0)),)))","v":0},{"$f":"IF(IFERROR(INDEX(Přehled_body!$E$3:$ED$130,MATCH(Tabulka!$AI79,Přehled_body!$A$3:$A$130,0),MATCH(Tabulka!Z$2,Přehled_body!$E$1:$ED$1,0)),)=\"\",,IF(IFERROR(INDEX(Přehled_body!$E$3:$ED$130,MATCH(Tabulka!$AI79,Přehled_body!$A$3:$A$130,0),MATCH(Tabulka!Z$2,Přehled_body!$E$1:$ED$1,0)),)=0,0.00000000001,IFERROR(INDEX(Přehled_body!$E$3:$ED$130,MATCH(Tabulka!$AI79,Přehled_body!$A$3:$A$130,0),MATCH(Tabulka!Z$2,Přehled_body!$E$1:$ED$1,0)),)))","v":0},{"$f":"IF(IFERROR(INDEX(Přehled_body!$E$3:$ED$130,MATCH(Tabulka!$AI79,Přehled_body!$A$3:$A$130,0),MATCH(Tabulka!AA$2,Přehled_body!$E$1:$ED$1,0)),)=\"\",,IF(IFERROR(INDEX(Přehled_body!$E$3:$ED$130,MATCH(Tabulka!$AI79,Přehled_body!$A$3:$A$130,0),MATCH(Tabulka!AA$2,Přehled_body!$E$1:$ED$1,0)),)=0,0.00000000001,IFERROR(INDEX(Přehled_body!$E$3:$ED$130,MATCH(Tabulka!$AI79,Přehled_body!$A$3:$A$130,0),MATCH(Tabulka!AA$2,Přehled_body!$E$1:$ED$1,0)),)))","v":0},{"$f":"IF(IFERROR(INDEX(Přehled_body!$E$3:$ED$130,MATCH(Tabulka!$AI79,Přehled_body!$A$3:$A$130,0),MATCH(Tabulka!AB$2,Přehled_body!$E$1:$ED$1,0)),)=\"\",,IF(IFERROR(INDEX(Přehled_body!$E$3:$ED$130,MATCH(Tabulka!$AI79,Přehled_body!$A$3:$A$130,0),MATCH(Tabulka!AB$2,Přehled_body!$E$1:$ED$1,0)),)=0,0.00000000001,IFERROR(INDEX(Přehled_body!$E$3:$ED$130,MATCH(Tabulka!$AI79,Přehled_body!$A$3:$A$130,0),MATCH(Tabulka!AB$2,Přehled_body!$E$1:$ED$1,0)),)))","v":0},{"$f":"IF(IFERROR(INDEX(Přehled_body!$E$3:$ED$130,MATCH(Tabulka!$AI79,Přehled_body!$A$3:$A$130,0),MATCH(Tabulka!AC$2,Přehled_body!$E$1:$ED$1,0)),)=\"\",,IF(IFERROR(INDEX(Přehled_body!$E$3:$ED$130,MATCH(Tabulka!$AI79,Přehled_body!$A$3:$A$130,0),MATCH(Tabulka!AC$2,Přehled_body!$E$1:$ED$1,0)),)=0,0.00000000001,IFERROR(INDEX(Přehled_body!$E$3:$ED$130,MATCH(Tabulka!$AI79,Přehled_body!$A$3:$A$130,0),MATCH(Tabulka!AC$2,Přehled_body!$E$1:$ED$1,0)),)))","v":0},{"$f":"IF(IFERROR(INDEX(Přehled_body!$E$3:$ED$130,MATCH(Tabulka!$AI79,Přehled_body!$A$3:$A$130,0),MATCH(Tabulka!AD$2,Přehled_body!$E$1:$ED$1,0)),)=\"\",,IF(IFERROR(INDEX(Přehled_body!$E$3:$ED$130,MATCH(Tabulka!$AI79,Přehled_body!$A$3:$A$130,0),MATCH(Tabulka!AD$2,Přehled_body!$E$1:$ED$1,0)),)=0,0.00000000001,IFERROR(INDEX(Přehled_body!$E$3:$ED$130,MATCH(Tabulka!$AI79,Přehled_body!$A$3:$A$130,0),MATCH(Tabulka!AD$2,Přehled_body!$E$1:$ED$1,0)),)))","v":0},{"$f":"IF(SUM($D$79:$AD$83)<1,-90000,SUM(D79:AD79))","v":-90000},null,{"$f":"COUNTIF(D79:AD79,\">0\")","v":0},null,{"$f":"CONCATENATE($B$80,\" \",$B$81,C79)","v":"Iva IvankaVýhry"}]
[{"$f":"CONCATENATE(B80,\" \",B81)","v":"Iva Ivanka"},"Iva","Prohry",{"$f":"IF(IFERROR(INDEX(Přehled_body!$E$3:$ED$130,MATCH(Tabulka!$AI80,Přehled_body!$A$3:$A$130,0),MATCH(Tabulka!D$2,Přehled_body!$E$1:$ED$1,0)),)=\"\",,IF(IFERROR(INDEX(Přehled_body!$E$3:$ED$130,MATCH(Tabulka!$AI80,Přehled_body!$A$3:$A$130,0),MATCH(Tabulka!D$2,Přehled_body!$E$1:$ED$1,0)),)=0,0.00000000001,IFERROR(INDEX(Přehled_body!$E$3:$ED$130,MATCH(Tabulka!$AI80,Přehled_body!$A$3:$A$130,0),MATCH(Tabulka!D$2,Přehled_body!$E$1:$ED$1,0)),)))","v":0},{"$f":"IF(IFERROR(INDEX(Přehled_body!$E$3:$ED$130,MATCH(Tabulka!$AI80,Přehled_body!$A$3:$A$130,0),MATCH(Tabulka!E$2,Přehled_body!$E$1:$ED$1,0)),)=\"\",,IF(IFERROR(INDEX(Přehled_body!$E$3:$ED$130,MATCH(Tabulka!$AI80,Přehled_body!$A$3:$A$130,0),MATCH(Tabulka!E$2,Přehled_body!$E$1:$ED$1,0)),)=0,0.00000000001,IFERROR(INDEX(Přehled_body!$E$3:$ED$130,MATCH(Tabulka!$AI80,Přehled_body!$A$3:$A$130,0),MATCH(Tabulka!E$2,Přehled_body!$E$1:$ED$1,0)),)))","v":0},{"$f":"IF(IFERROR(INDEX(Přehled_body!$E$3:$ED$130,MATCH(Tabulka!$AI80,Přehled_body!$A$3:$A$130,0),MATCH(Tabulka!F$2,Přehled_body!$E$1:$ED$1,0)),)=\"\",,IF(IFERROR(INDEX(Přehled_body!$E$3:$ED$130,MATCH(Tabulka!$AI80,Přehled_body!$A$3:$A$130,0),MATCH(Tabulka!F$2,Přehled_body!$E$1:$ED$1,0)),)=0,0.00000000001,IFERROR(INDEX(Přehled_body!$E$3:$ED$130,MATCH(Tabulka!$AI80,Přehled_body!$A$3:$A$130,0),MATCH(Tabulka!F$2,Přehled_body!$E$1:$ED$1,0)),)))","v":0},{"$f":"IF(IFERROR(INDEX(Přehled_body!$E$3:$ED$130,MATCH(Tabulka!$AI80,Přehled_body!$A$3:$A$130,0),MATCH(Tabulka!G$2,Přehled_body!$E$1:$ED$1,0)),)=\"\",,IF(IFERROR(INDEX(Přehled_body!$E$3:$ED$130,MATCH(Tabulka!$AI80,Přehled_body!$A$3:$A$130,0),MATCH(Tabulka!G$2,Přehled_body!$E$1:$ED$1,0)),)=0,0.00000000001,IFERROR(INDEX(Přehled_body!$E$3:$ED$130,MATCH(Tabulka!$AI80,Přehled_body!$A$3:$A$130,0),MATCH(Tabulka!G$2,Přehled_body!$E$1:$ED$1,0)),)))","v":0},{"$f":"IF(IFERROR(INDEX(Přehled_body!$E$3:$ED$130,MATCH(Tabulka!$AI80,Přehled_body!$A$3:$A$130,0),MATCH(Tabulka!H$2,Přehled_body!$E$1:$ED$1,0)),)=\"\",,IF(IFERROR(INDEX(Přehled_body!$E$3:$ED$130,MATCH(Tabulka!$AI80,Přehled_body!$A$3:$A$130,0),MATCH(Tabulka!H$2,Přehled_body!$E$1:$ED$1,0)),)=0,0.00000000001,IFERROR(INDEX(Přehled_body!$E$3:$ED$130,MATCH(Tabulka!$AI80,Přehled_body!$A$3:$A$130,0),MATCH(Tabulka!H$2,Přehled_body!$E$1:$ED$1,0)),)))","v":0},{"$f":"IF(IFERROR(INDEX(Přehled_body!$E$3:$ED$130,MATCH(Tabulka!$AI80,Přehled_body!$A$3:$A$130,0),MATCH(Tabulka!I$2,Přehled_body!$E$1:$ED$1,0)),)=\"\",,IF(IFERROR(INDEX(Přehled_body!$E$3:$ED$130,MATCH(Tabulka!$AI80,Přehled_body!$A$3:$A$130,0),MATCH(Tabulka!I$2,Přehled_body!$E$1:$ED$1,0)),)=0,0.00000000001,IFERROR(INDEX(Přehled_body!$E$3:$ED$130,MATCH(Tabulka!$AI80,Přehled_body!$A$3:$A$130,0),MATCH(Tabulka!I$2,Přehled_body!$E$1:$ED$1,0)),)))","v":0},{"$f":"IF(IFERROR(INDEX(Přehled_body!$E$3:$ED$130,MATCH(Tabulka!$AI80,Přehled_body!$A$3:$A$130,0),MATCH(Tabulka!J$2,Přehled_body!$E$1:$ED$1,0)),)=\"\",,IF(IFERROR(INDEX(Přehled_body!$E$3:$ED$130,MATCH(Tabulka!$AI80,Přehled_body!$A$3:$A$130,0),MATCH(Tabulka!J$2,Přehled_body!$E$1:$ED$1,0)),)=0,0.00000000001,IFERROR(INDEX(Přehled_body!$E$3:$ED$130,MATCH(Tabulka!$AI80,Přehled_body!$A$3:$A$130,0),MATCH(Tabulka!J$2,Přehled_body!$E$1:$ED$1,0)),)))","v":0},{"$f":"IF(IFERROR(INDEX(Přehled_body!$E$3:$ED$130,MATCH(Tabulka!$AI80,Přehled_body!$A$3:$A$130,0),MATCH(Tabulka!K$2,Přehled_body!$E$1:$ED$1,0)),)=\"\",,IF(IFERROR(INDEX(Přehled_body!$E$3:$ED$130,MATCH(Tabulka!$AI80,Přehled_body!$A$3:$A$130,0),MATCH(Tabulka!K$2,Přehled_body!$E$1:$ED$1,0)),)=0,0.00000000001,IFERROR(INDEX(Přehled_body!$E$3:$ED$130,MATCH(Tabulka!$AI80,Přehled_body!$A$3:$A$130,0),MATCH(Tabulka!K$2,Přehled_body!$E$1:$ED$1,0)),)))","v":0},{"$f":"IF(IFERROR(INDEX(Přehled_body!$E$3:$ED$130,MATCH(Tabulka!$AI80,Přehled_body!$A$3:$A$130,0),MATCH(Tabulka!L$2,Přehled_body!$E$1:$ED$1,0)),)=\"\",,IF(IFERROR(INDEX(Přehled_body!$E$3:$ED$130,MATCH(Tabulka!$AI80,Přehled_body!$A$3:$A$130,0),MATCH(Tabulka!L$2,Přehled_body!$E$1:$ED$1,0)),)=0,0.00000000001,IFERROR(INDEX(Přehled_body!$E$3:$ED$130,MATCH(Tabulka!$AI80,Přehled_body!$A$3:$A$130,0),MATCH(Tabulka!L$2,Přehled_body!$E$1:$ED$1,0)),)))","v":0},{"$f":"IF(IFERROR(INDEX(Přehled_body!$E$3:$ED$130,MATCH(Tabulka!$AI80,Přehled_body!$A$3:$A$130,0),MATCH(Tabulka!M$2,Přehled_body!$E$1:$ED$1,0)),)=\"\",,IF(IFERROR(INDEX(Přehled_body!$E$3:$ED$130,MATCH(Tabulka!$AI80,Přehled_body!$A$3:$A$130,0),MATCH(Tabulka!M$2,Přehled_body!$E$1:$ED$1,0)),)=0,0.00000000001,IFERROR(INDEX(Přehled_body!$E$3:$ED$130,MATCH(Tabulka!$AI80,Přehled_body!$A$3:$A$130,0),MATCH(Tabulka!M$2,Přehled_body!$E$1:$ED$1,0)),)))","v":0},{"$f":"IF(IFERROR(INDEX(Přehled_body!$E$3:$ED$130,MATCH(Tabulka!$AI80,Přehled_body!$A$3:$A$130,0),MATCH(Tabulka!N$2,Přehled_body!$E$1:$ED$1,0)),)=\"\",,IF(IFERROR(INDEX(Přehled_body!$E$3:$ED$130,MATCH(Tabulka!$AI80,Přehled_body!$A$3:$A$130,0),MATCH(Tabulka!N$2,Přehled_body!$E$1:$ED$1,0)),)=0,0.00000000001,IFERROR(INDEX(Přehled_body!$E$3:$ED$130,MATCH(Tabulka!$AI80,Přehled_body!$A$3:$A$130,0),MATCH(Tabulka!N$2,Přehled_body!$E$1:$ED$1,0)),)))","v":0},{"$f":"IF(IFERROR(INDEX(Přehled_body!$E$3:$ED$130,MATCH(Tabulka!$AI80,Přehled_body!$A$3:$A$130,0),MATCH(Tabulka!O$2,Přehled_body!$E$1:$ED$1,0)),)=\"\",,IF(IFERROR(INDEX(Přehled_body!$E$3:$ED$130,MATCH(Tabulka!$AI80,Přehled_body!$A$3:$A$130,0),MATCH(Tabulka!O$2,Přehled_body!$E$1:$ED$1,0)),)=0,0.00000000001,IFERROR(INDEX(Přehled_body!$E$3:$ED$130,MATCH(Tabulka!$AI80,Přehled_body!$A$3:$A$130,0),MATCH(Tabulka!O$2,Přehled_body!$E$1:$ED$1,0)),)))","v":0},{"$f":"IF(IFERROR(INDEX(Přehled_body!$E$3:$ED$130,MATCH(Tabulka!$AI80,Přehled_body!$A$3:$A$130,0),MATCH(Tabulka!P$2,Přehled_body!$E$1:$ED$1,0)),)=\"\",,IF(IFERROR(INDEX(Přehled_body!$E$3:$ED$130,MATCH(Tabulka!$AI80,Přehled_body!$A$3:$A$130,0),MATCH(Tabulka!P$2,Přehled_body!$E$1:$ED$1,0)),)=0,0.00000000001,IFERROR(INDEX(Přehled_body!$E$3:$ED$130,MATCH(Tabulka!$AI80,Přehled_body!$A$3:$A$130,0),MATCH(Tabulka!P$2,Přehled_body!$E$1:$ED$1,0)),)))","v":0},{"$f":"IF(IFERROR(INDEX(Přehled_body!$E$3:$ED$130,MATCH(Tabulka!$AI80,Přehled_body!$A$3:$A$130,0),MATCH(Tabulka!Q$2,Přehled_body!$E$1:$ED$1,0)),)=\"\",,IF(IFERROR(INDEX(Přehled_body!$E$3:$ED$130,MATCH(Tabulka!$AI80,Přehled_body!$A$3:$A$130,0),MATCH(Tabulka!Q$2,Přehled_body!$E$1:$ED$1,0)),)=0,0.00000000001,IFERROR(INDEX(Přehled_body!$E$3:$ED$130,MATCH(Tabulka!$AI80,Přehled_body!$A$3:$A$130,0),MATCH(Tabulka!Q$2,Přehled_body!$E$1:$ED$1,0)),)))","v":0},{"$f":"IF(IFERROR(INDEX(Přehled_body!$E$3:$ED$130,MATCH(Tabulka!$AI80,Přehled_body!$A$3:$A$130,0),MATCH(Tabulka!R$2,Přehled_body!$E$1:$ED$1,0)),)=\"\",,IF(IFERROR(INDEX(Přehled_body!$E$3:$ED$130,MATCH(Tabulka!$AI80,Přehled_body!$A$3:$A$130,0),MATCH(Tabulka!R$2,Přehled_body!$E$1:$ED$1,0)),)=0,0.00000000001,IFERROR(INDEX(Přehled_body!$E$3:$ED$130,MATCH(Tabulka!$AI80,Přehled_body!$A$3:$A$130,0),MATCH(Tabulka!R$2,Přehled_body!$E$1:$ED$1,0)),)))","v":0},{"$f":"IF(IFERROR(INDEX(Přehled_body!$E$3:$ED$130,MATCH(Tabulka!$AI80,Přehled_body!$A$3:$A$130,0),MATCH(Tabulka!S$2,Přehled_body!$E$1:$ED$1,0)),)=\"\",,IF(IFERROR(INDEX(Přehled_body!$E$3:$ED$130,MATCH(Tabulka!$AI80,Přehled_body!$A$3:$A$130,0),MATCH(Tabulka!S$2,Přehled_body!$E$1:$ED$1,0)),)=0,0.00000000001,IFERROR(INDEX(Přehled_body!$E$3:$ED$130,MATCH(Tabulka!$AI80,Přehled_body!$A$3:$A$130,0),MATCH(Tabulka!S$2,Přehled_body!$E$1:$ED$1,0)),)))","v":0},{"$f":"IF(IFERROR(INDEX(Přehled_body!$E$3:$ED$130,MATCH(Tabulka!$AI80,Přehled_body!$A$3:$A$130,0),MATCH(Tabulka!T$2,Přehled_body!$E$1:$ED$1,0)),)=\"\",,IF(IFERROR(INDEX(Přehled_body!$E$3:$ED$130,MATCH(Tabulka!$AI80,Přehled_body!$A$3:$A$130,0),MATCH(Tabulka!T$2,Přehled_body!$E$1:$ED$1,0)),)=0,0.00000000001,IFERROR(INDEX(Přehled_body!$E$3:$ED$130,MATCH(Tabulka!$AI80,Přehled_body!$A$3:$A$130,0),MATCH(Tabulka!T$2,Přehled_body!$E$1:$ED$1,0)),)))","v":0},{"$f":"IF(IFERROR(INDEX(Přehled_body!$E$3:$ED$130,MATCH(Tabulka!$AI80,Přehled_body!$A$3:$A$130,0),MATCH(Tabulka!U$2,Přehled_body!$E$1:$ED$1,0)),)=\"\",,IF(IFERROR(INDEX(Přehled_body!$E$3:$ED$130,MATCH(Tabulka!$AI80,Přehled_body!$A$3:$A$130,0),MATCH(Tabulka!U$2,Přehled_body!$E$1:$ED$1,0)),)=0,0.00000000001,IFERROR(INDEX(Přehled_body!$E$3:$ED$130,MATCH(Tabulka!$AI80,Přehled_body!$A$3:$A$130,0),MATCH(Tabulka!U$2,Přehled_body!$E$1:$ED$1,0)),)))","v":0},{"$f":"IF(IFERROR(INDEX(Přehled_body!$E$3:$ED$130,MATCH(Tabulka!$AI80,Přehled_body!$A$3:$A$130,0),MATCH(Tabulka!V$2,Přehled_body!$E$1:$ED$1,0)),)=\"\",,IF(IFERROR(INDEX(Přehled_body!$E$3:$ED$130,MATCH(Tabulka!$AI80,Přehled_body!$A$3:$A$130,0),MATCH(Tabulka!V$2,Přehled_body!$E$1:$ED$1,0)),)=0,0.00000000001,IFERROR(INDEX(Přehled_body!$E$3:$ED$130,MATCH(Tabulka!$AI80,Přehled_body!$A$3:$A$130,0),MATCH(Tabulka!V$2,Přehled_body!$E$1:$ED$1,0)),)))","v":0},{"$f":"IF(IFERROR(INDEX(Přehled_body!$E$3:$ED$130,MATCH(Tabulka!$AI80,Přehled_body!$A$3:$A$130,0),MATCH(Tabulka!W$2,Přehled_body!$E$1:$ED$1,0)),)=\"\",,IF(IFERROR(INDEX(Přehled_body!$E$3:$ED$130,MATCH(Tabulka!$AI80,Přehled_body!$A$3:$A$130,0),MATCH(Tabulka!W$2,Přehled_body!$E$1:$ED$1,0)),)=0,0.00000000001,IFERROR(INDEX(Přehled_body!$E$3:$ED$130,MATCH(Tabulka!$AI80,Přehled_body!$A$3:$A$130,0),MATCH(Tabulka!W$2,Přehled_body!$E$1:$ED$1,0)),)))","v":0},{"$f":"IF(IFERROR(INDEX(Přehled_body!$E$3:$ED$130,MATCH(Tabulka!$AI80,Přehled_body!$A$3:$A$130,0),MATCH(Tabulka!X$2,Přehled_body!$E$1:$ED$1,0)),)=\"\",,IF(IFERROR(INDEX(Přehled_body!$E$3:$ED$130,MATCH(Tabulka!$AI80,Přehled_body!$A$3:$A$130,0),MATCH(Tabulka!X$2,Přehled_body!$E$1:$ED$1,0)),)=0,0.00000000001,IFERROR(INDEX(Přehled_body!$E$3:$ED$130,MATCH(Tabulka!$AI80,Přehled_body!$A$3:$A$130,0),MATCH(Tabulka!X$2,Přehled_body!$E$1:$ED$1,0)),)))","v":0},{"$f":"IF(IFERROR(INDEX(Přehled_body!$E$3:$ED$130,MATCH(Tabulka!$AI80,Přehled_body!$A$3:$A$130,0),MATCH(Tabulka!Y$2,Přehled_body!$E$1:$ED$1,0)),)=\"\",,IF(IFERROR(INDEX(Přehled_body!$E$3:$ED$130,MATCH(Tabulka!$AI80,Přehled_body!$A$3:$A$130,0),MATCH(Tabulka!Y$2,Přehled_body!$E$1:$ED$1,0)),)=0,0.00000000001,IFERROR(INDEX(Přehled_body!$E$3:$ED$130,MATCH(Tabulka!$AI80,Přehled_body!$A$3:$A$130,0),MATCH(Tabulka!Y$2,Přehled_body!$E$1:$ED$1,0)),)))","v":0},{"$f":"IF(IFERROR(INDEX(Přehled_body!$E$3:$ED$130,MATCH(Tabulka!$AI80,Přehled_body!$A$3:$A$130,0),MATCH(Tabulka!Z$2,Přehled_body!$E$1:$ED$1,0)),)=\"\",,IF(IFERROR(INDEX(Přehled_body!$E$3:$ED$130,MATCH(Tabulka!$AI80,Přehled_body!$A$3:$A$130,0),MATCH(Tabulka!Z$2,Přehled_body!$E$1:$ED$1,0)),)=0,0.00000000001,IFERROR(INDEX(Přehled_body!$E$3:$ED$130,MATCH(Tabulka!$AI80,Přehled_body!$A$3:$A$130,0),MATCH(Tabulka!Z$2,Přehled_body!$E$1:$ED$1,0)),)))","v":0},{"$f":"IF(IFERROR(INDEX(Přehled_body!$E$3:$ED$130,MATCH(Tabulka!$AI80,Přehled_body!$A$3:$A$130,0),MATCH(Tabulka!AA$2,Přehled_body!$E$1:$ED$1,0)),)=\"\",,IF(IFERROR(INDEX(Přehled_body!$E$3:$ED$130,MATCH(Tabulka!$AI80,Přehled_body!$A$3:$A$130,0),MATCH(Tabulka!AA$2,Přehled_body!$E$1:$ED$1,0)),)=0,0.00000000001,IFERROR(INDEX(Přehled_body!$E$3:$ED$130,MATCH(Tabulka!$AI80,Přehled_body!$A$3:$A$130,0),MATCH(Tabulka!AA$2,Přehled_body!$E$1:$ED$1,0)),)))","v":0},{"$f":"IF(IFERROR(INDEX(Přehled_body!$E$3:$ED$130,MATCH(Tabulka!$AI80,Přehled_body!$A$3:$A$130,0),MATCH(Tabulka!AB$2,Přehled_body!$E$1:$ED$1,0)),)=\"\",,IF(IFERROR(INDEX(Přehled_body!$E$3:$ED$130,MATCH(Tabulka!$AI80,Přehled_body!$A$3:$A$130,0),MATCH(Tabulka!AB$2,Přehled_body!$E$1:$ED$1,0)),)=0,0.00000000001,IFERROR(INDEX(Přehled_body!$E$3:$ED$130,MATCH(Tabulka!$AI80,Přehled_body!$A$3:$A$130,0),MATCH(Tabulka!AB$2,Přehled_body!$E$1:$ED$1,0)),)))","v":0},{"$f":"IF(IFERROR(INDEX(Přehled_body!$E$3:$ED$130,MATCH(Tabulka!$AI80,Přehled_body!$A$3:$A$130,0),MATCH(Tabulka!AC$2,Přehled_body!$E$1:$ED$1,0)),)=\"\",,IF(IFERROR(INDEX(Přehled_body!$E$3:$ED$130,MATCH(Tabulka!$AI80,Přehled_body!$A$3:$A$130,0),MATCH(Tabulka!AC$2,Přehled_body!$E$1:$ED$1,0)),)=0,0.00000000001,IFERROR(INDEX(Přehled_body!$E$3:$ED$130,MATCH(Tabulka!$AI80,Přehled_body!$A$3:$A$130,0),MATCH(Tabulka!AC$2,Přehled_body!$E$1:$ED$1,0)),)))","v":0},{"$f":"IF(IFERROR(INDEX(Přehled_body!$E$3:$ED$130,MATCH(Tabulka!$AI80,Přehled_body!$A$3:$A$130,0),MATCH(Tabulka!AD$2,Přehled_body!$E$1:$ED$1,0)),)=\"\",,IF(IFERROR(INDEX(Přehled_body!$E$3:$ED$130,MATCH(Tabulka!$AI80,Přehled_body!$A$3:$A$130,0),MATCH(Tabulka!AD$2,Přehled_body!$E$1:$ED$1,0)),)=0,0.00000000001,IFERROR(INDEX(Přehled_body!$E$3:$ED$130,MATCH(Tabulka!$AI80,Přehled_body!$A$3:$A$130,0),MATCH(Tabulka!AD$2,Přehled_body!$E$1:$ED$1,0)),)))","v":0},{"$f":"IF(SUM($D$79:$AD$83)<1,-90000,SUM(D80:AD80))","v":-90000},{"$f":"IF(AE83>0.9,SUM(AE79-AE80)+0.00000001,0)","v":0},null,null,{"$f":"CONCATENATE($B$80,\" \",$B$81,C80)","v":"Iva IvankaProhry"}]
[{"$f":"CONCATENATE(B81,\" \",B80)","v":"Ivanka Iva"},"Ivanka","Placeno panáků",{"$f":"IF(IFERROR(INDEX(Přehled_body!$E$3:$ED$130,MATCH(Tabulka!$AI81,Přehled_body!$A$3:$A$130,0),MATCH(Tabulka!D$2,Přehled_body!$E$1:$ED$1,0)),)=\"\",,IF(IFERROR(INDEX(Přehled_body!$E$3:$ED$130,MATCH(Tabulka!$AI81,Přehled_body!$A$3:$A$130,0),MATCH(Tabulka!D$2,Přehled_body!$E$1:$ED$1,0)),)=0,0.00000000001,IFERROR(INDEX(Přehled_body!$E$3:$ED$130,MATCH(Tabulka!$AI81,Přehled_body!$A$3:$A$130,0),MATCH(Tabulka!D$2,Přehled_body!$E$1:$ED$1,0)),)))","v":0},{"$f":"IF(IFERROR(INDEX(Přehled_body!$E$3:$ED$130,MATCH(Tabulka!$AI81,Přehled_body!$A$3:$A$130,0),MATCH(Tabulka!E$2,Přehled_body!$E$1:$ED$1,0)),)=\"\",,IF(IFERROR(INDEX(Přehled_body!$E$3:$ED$130,MATCH(Tabulka!$AI81,Přehled_body!$A$3:$A$130,0),MATCH(Tabulka!E$2,Přehled_body!$E$1:$ED$1,0)),)=0,0.00000000001,IFERROR(INDEX(Přehled_body!$E$3:$ED$130,MATCH(Tabulka!$AI81,Přehled_body!$A$3:$A$130,0),MATCH(Tabulka!E$2,Přehled_body!$E$1:$ED$1,0)),)))","v":0},{"$f":"IF(IFERROR(INDEX(Přehled_body!$E$3:$ED$130,MATCH(Tabulka!$AI81,Přehled_body!$A$3:$A$130,0),MATCH(Tabulka!F$2,Přehled_body!$E$1:$ED$1,0)),)=\"\",,IF(IFERROR(INDEX(Přehled_body!$E$3:$ED$130,MATCH(Tabulka!$AI81,Přehled_body!$A$3:$A$130,0),MATCH(Tabulka!F$2,Přehled_body!$E$1:$ED$1,0)),)=0,0.00000000001,IFERROR(INDEX(Přehled_body!$E$3:$ED$130,MATCH(Tabulka!$AI81,Přehled_body!$A$3:$A$130,0),MATCH(Tabulka!F$2,Přehled_body!$E$1:$ED$1,0)),)))","v":0},{"$f":"IF(IFERROR(INDEX(Přehled_body!$E$3:$ED$130,MATCH(Tabulka!$AI81,Přehled_body!$A$3:$A$130,0),MATCH(Tabulka!G$2,Přehled_body!$E$1:$ED$1,0)),)=\"\",,IF(IFERROR(INDEX(Přehled_body!$E$3:$ED$130,MATCH(Tabulka!$AI81,Přehled_body!$A$3:$A$130,0),MATCH(Tabulka!G$2,Přehled_body!$E$1:$ED$1,0)),)=0,0.00000000001,IFERROR(INDEX(Přehled_body!$E$3:$ED$130,MATCH(Tabulka!$AI81,Přehled_body!$A$3:$A$130,0),MATCH(Tabulka!G$2,Přehled_body!$E$1:$ED$1,0)),)))","v":0},{"$f":"IF(IFERROR(INDEX(Přehled_body!$E$3:$ED$130,MATCH(Tabulka!$AI81,Přehled_body!$A$3:$A$130,0),MATCH(Tabulka!H$2,Přehled_body!$E$1:$ED$1,0)),)=\"\",,IF(IFERROR(INDEX(Přehled_body!$E$3:$ED$130,MATCH(Tabulka!$AI81,Přehled_body!$A$3:$A$130,0),MATCH(Tabulka!H$2,Přehled_body!$E$1:$ED$1,0)),)=0,0.00000000001,IFERROR(INDEX(Přehled_body!$E$3:$ED$130,MATCH(Tabulka!$AI81,Přehled_body!$A$3:$A$130,0),MATCH(Tabulka!H$2,Přehled_body!$E$1:$ED$1,0)),)))","v":0},{"$f":"IF(IFERROR(INDEX(Přehled_body!$E$3:$ED$130,MATCH(Tabulka!$AI81,Přehled_body!$A$3:$A$130,0),MATCH(Tabulka!I$2,Přehled_body!$E$1:$ED$1,0)),)=\"\",,IF(IFERROR(INDEX(Přehled_body!$E$3:$ED$130,MATCH(Tabulka!$AI81,Přehled_body!$A$3:$A$130,0),MATCH(Tabulka!I$2,Přehled_body!$E$1:$ED$1,0)),)=0,0.00000000001,IFERROR(INDEX(Přehled_body!$E$3:$ED$130,MATCH(Tabulka!$AI81,Přehled_body!$A$3:$A$130,0),MATCH(Tabulka!I$2,Přehled_body!$E$1:$ED$1,0)),)))","v":0},{"$f":"IF(IFERROR(INDEX(Přehled_body!$E$3:$ED$130,MATCH(Tabulka!$AI81,Přehled_body!$A$3:$A$130,0),MATCH(Tabulka!J$2,Přehled_body!$E$1:$ED$1,0)),)=\"\",,IF(IFERROR(INDEX(Přehled_body!$E$3:$ED$130,MATCH(Tabulka!$AI81,Přehled_body!$A$3:$A$130,0),MATCH(Tabulka!J$2,Přehled_body!$E$1:$ED$1,0)),)=0,0.00000000001,IFERROR(INDEX(Přehled_body!$E$3:$ED$130,MATCH(Tabulka!$AI81,Přehled_body!$A$3:$A$130,0),MATCH(Tabulka!J$2,Přehled_body!$E$1:$ED$1,0)),)))","v":0},{"$f":"IF(IFERROR(INDEX(Přehled_body!$E$3:$ED$130,MATCH(Tabulka!$AI81,Přehled_body!$A$3:$A$130,0),MATCH(Tabulka!K$2,Přehled_body!$E$1:$ED$1,0)),)=\"\",,IF(IFERROR(INDEX(Přehled_body!$E$3:$ED$130,MATCH(Tabulka!$AI81,Přehled_body!$A$3:$A$130,0),MATCH(Tabulka!K$2,Přehled_body!$E$1:$ED$1,0)),)=0,0.00000000001,IFERROR(INDEX(Přehled_body!$E$3:$ED$130,MATCH(Tabulka!$AI81,Přehled_body!$A$3:$A$130,0),MATCH(Tabulka!K$2,Přehled_body!$E$1:$ED$1,0)),)))","v":0},{"$f":"IF(IFERROR(INDEX(Přehled_body!$E$3:$ED$130,MATCH(Tabulka!$AI81,Přehled_body!$A$3:$A$130,0),MATCH(Tabulka!L$2,Přehled_body!$E$1:$ED$1,0)),)=\"\",,IF(IFERROR(INDEX(Přehled_body!$E$3:$ED$130,MATCH(Tabulka!$AI81,Přehled_body!$A$3:$A$130,0),MATCH(Tabulka!L$2,Přehled_body!$E$1:$ED$1,0)),)=0,0.00000000001,IFERROR(INDEX(Přehled_body!$E$3:$ED$130,MATCH(Tabulka!$AI81,Přehled_body!$A$3:$A$130,0),MATCH(Tabulka!L$2,Přehled_body!$E$1:$ED$1,0)),)))","v":0},{"$f":"IF(IFERROR(INDEX(Přehled_body!$E$3:$ED$130,MATCH(Tabulka!$AI81,Přehled_body!$A$3:$A$130,0),MATCH(Tabulka!M$2,Přehled_body!$E$1:$ED$1,0)),)=\"\",,IF(IFERROR(INDEX(Přehled_body!$E$3:$ED$130,MATCH(Tabulka!$AI81,Přehled_body!$A$3:$A$130,0),MATCH(Tabulka!M$2,Přehled_body!$E$1:$ED$1,0)),)=0,0.00000000001,IFERROR(INDEX(Přehled_body!$E$3:$ED$130,MATCH(Tabulka!$AI81,Přehled_body!$A$3:$A$130,0),MATCH(Tabulka!M$2,Přehled_body!$E$1:$ED$1,0)),)))","v":0},{"$f":"IF(IFERROR(INDEX(Přehled_body!$E$3:$ED$130,MATCH(Tabulka!$AI81,Přehled_body!$A$3:$A$130,0),MATCH(Tabulka!N$2,Přehled_body!$E$1:$ED$1,0)),)=\"\",,IF(IFERROR(INDEX(Přehled_body!$E$3:$ED$130,MATCH(Tabulka!$AI81,Přehled_body!$A$3:$A$130,0),MATCH(Tabulka!N$2,Přehled_body!$E$1:$ED$1,0)),)=0,0.00000000001,IFERROR(INDEX(Přehled_body!$E$3:$ED$130,MATCH(Tabulka!$AI81,Přehled_body!$A$3:$A$130,0),MATCH(Tabulka!N$2,Přehled_body!$E$1:$ED$1,0)),)))","v":0},{"$f":"IF(IFERROR(INDEX(Přehled_body!$E$3:$ED$130,MATCH(Tabulka!$AI81,Přehled_body!$A$3:$A$130,0),MATCH(Tabulka!O$2,Přehled_body!$E$1:$ED$1,0)),)=\"\",,IF(IFERROR(INDEX(Přehled_body!$E$3:$ED$130,MATCH(Tabulka!$AI81,Přehled_body!$A$3:$A$130,0),MATCH(Tabulka!O$2,Přehled_body!$E$1:$ED$1,0)),)=0,0.00000000001,IFERROR(INDEX(Přehled_body!$E$3:$ED$130,MATCH(Tabulka!$AI81,Přehled_body!$A$3:$A$130,0),MATCH(Tabulka!O$2,Přehled_body!$E$1:$ED$1,0)),)))","v":0},{"$f":"IF(IFERROR(INDEX(Přehled_body!$E$3:$ED$130,MATCH(Tabulka!$AI81,Přehled_body!$A$3:$A$130,0),MATCH(Tabulka!P$2,Přehled_body!$E$1:$ED$1,0)),)=\"\",,IF(IFERROR(INDEX(Přehled_body!$E$3:$ED$130,MATCH(Tabulka!$AI81,Přehled_body!$A$3:$A$130,0),MATCH(Tabulka!P$2,Přehled_body!$E$1:$ED$1,0)),)=0,0.00000000001,IFERROR(INDEX(Přehled_body!$E$3:$ED$130,MATCH(Tabulka!$AI81,Přehled_body!$A$3:$A$130,0),MATCH(Tabulka!P$2,Přehled_body!$E$1:$ED$1,0)),)))","v":0},{"$f":"IF(IFERROR(INDEX(Přehled_body!$E$3:$ED$130,MATCH(Tabulka!$AI81,Přehled_body!$A$3:$A$130,0),MATCH(Tabulka!Q$2,Přehled_body!$E$1:$ED$1,0)),)=\"\",,IF(IFERROR(INDEX(Přehled_body!$E$3:$ED$130,MATCH(Tabulka!$AI81,Přehled_body!$A$3:$A$130,0),MATCH(Tabulka!Q$2,Přehled_body!$E$1:$ED$1,0)),)=0,0.00000000001,IFERROR(INDEX(Přehled_body!$E$3:$ED$130,MATCH(Tabulka!$AI81,Přehled_body!$A$3:$A$130,0),MATCH(Tabulka!Q$2,Přehled_body!$E$1:$ED$1,0)),)))","v":0},{"$f":"IF(IFERROR(INDEX(Přehled_body!$E$3:$ED$130,MATCH(Tabulka!$AI81,Přehled_body!$A$3:$A$130,0),MATCH(Tabulka!R$2,Přehled_body!$E$1:$ED$1,0)),)=\"\",,IF(IFERROR(INDEX(Přehled_body!$E$3:$ED$130,MATCH(Tabulka!$AI81,Přehled_body!$A$3:$A$130,0),MATCH(Tabulka!R$2,Přehled_body!$E$1:$ED$1,0)),)=0,0.00000000001,IFERROR(INDEX(Přehled_body!$E$3:$ED$130,MATCH(Tabulka!$AI81,Přehled_body!$A$3:$A$130,0),MATCH(Tabulka!R$2,Přehled_body!$E$1:$ED$1,0)),)))","v":0},{"$f":"IF(IFERROR(INDEX(Přehled_body!$E$3:$ED$130,MATCH(Tabulka!$AI81,Přehled_body!$A$3:$A$130,0),MATCH(Tabulka!S$2,Přehled_body!$E$1:$ED$1,0)),)=\"\",,IF(IFERROR(INDEX(Přehled_body!$E$3:$ED$130,MATCH(Tabulka!$AI81,Přehled_body!$A$3:$A$130,0),MATCH(Tabulka!S$2,Přehled_body!$E$1:$ED$1,0)),)=0,0.00000000001,IFERROR(INDEX(Přehled_body!$E$3:$ED$130,MATCH(Tabulka!$AI81,Přehled_body!$A$3:$A$130,0),MATCH(Tabulka!S$2,Přehled_body!$E$1:$ED$1,0)),)))","v":0},{"$f":"IF(IFERROR(INDEX(Přehled_body!$E$3:$ED$130,MATCH(Tabulka!$AI81,Přehled_body!$A$3:$A$130,0),MATCH(Tabulka!T$2,Přehled_body!$E$1:$ED$1,0)),)=\"\",,IF(IFERROR(INDEX(Přehled_body!$E$3:$ED$130,MATCH(Tabulka!$AI81,Přehled_body!$A$3:$A$130,0),MATCH(Tabulka!T$2,Přehled_body!$E$1:$ED$1,0)),)=0,0.00000000001,IFERROR(INDEX(Přehled_body!$E$3:$ED$130,MATCH(Tabulka!$AI81,Přehled_body!$A$3:$A$130,0),MATCH(Tabulka!T$2,Přehled_body!$E$1:$ED$1,0)),)))","v":0},{"$f":"IF(IFERROR(INDEX(Přehled_body!$E$3:$ED$130,MATCH(Tabulka!$AI81,Přehled_body!$A$3:$A$130,0),MATCH(Tabulka!U$2,Přehled_body!$E$1:$ED$1,0)),)=\"\",,IF(IFERROR(INDEX(Přehled_body!$E$3:$ED$130,MATCH(Tabulka!$AI81,Přehled_body!$A$3:$A$130,0),MATCH(Tabulka!U$2,Přehled_body!$E$1:$ED$1,0)),)=0,0.00000000001,IFERROR(INDEX(Přehled_body!$E$3:$ED$130,MATCH(Tabulka!$AI81,Přehled_body!$A$3:$A$130,0),MATCH(Tabulka!U$2,Přehled_body!$E$1:$ED$1,0)),)))","v":0},{"$f":"IF(IFERROR(INDEX(Přehled_body!$E$3:$ED$130,MATCH(Tabulka!$AI81,Přehled_body!$A$3:$A$130,0),MATCH(Tabulka!V$2,Přehled_body!$E$1:$ED$1,0)),)=\"\",,IF(IFERROR(INDEX(Přehled_body!$E$3:$ED$130,MATCH(Tabulka!$AI81,Přehled_body!$A$3:$A$130,0),MATCH(Tabulka!V$2,Přehled_body!$E$1:$ED$1,0)),)=0,0.00000000001,IFERROR(INDEX(Přehled_body!$E$3:$ED$130,MATCH(Tabulka!$AI81,Přehled_body!$A$3:$A$130,0),MATCH(Tabulka!V$2,Přehled_body!$E$1:$ED$1,0)),)))","v":0},{"$f":"IF(IFERROR(INDEX(Přehled_body!$E$3:$ED$130,MATCH(Tabulka!$AI81,Přehled_body!$A$3:$A$130,0),MATCH(Tabulka!W$2,Přehled_body!$E$1:$ED$1,0)),)=\"\",,IF(IFERROR(INDEX(Přehled_body!$E$3:$ED$130,MATCH(Tabulka!$AI81,Přehled_body!$A$3:$A$130,0),MATCH(Tabulka!W$2,Přehled_body!$E$1:$ED$1,0)),)=0,0.00000000001,IFERROR(INDEX(Přehled_body!$E$3:$ED$130,MATCH(Tabulka!$AI81,Přehled_body!$A$3:$A$130,0),MATCH(Tabulka!W$2,Přehled_body!$E$1:$ED$1,0)),)))","v":0},{"$f":"IF(IFERROR(INDEX(Přehled_body!$E$3:$ED$130,MATCH(Tabulka!$AI81,Přehled_body!$A$3:$A$130,0),MATCH(Tabulka!X$2,Přehled_body!$E$1:$ED$1,0)),)=\"\",,IF(IFERROR(INDEX(Přehled_body!$E$3:$ED$130,MATCH(Tabulka!$AI81,Přehled_body!$A$3:$A$130,0),MATCH(Tabulka!X$2,Přehled_body!$E$1:$ED$1,0)),)=0,0.00000000001,IFERROR(INDEX(Přehled_body!$E$3:$ED$130,MATCH(Tabulka!$AI81,Přehled_body!$A$3:$A$130,0),MATCH(Tabulka!X$2,Přehled_body!$E$1:$ED$1,0)),)))","v":0},{"$f":"IF(IFERROR(INDEX(Přehled_body!$E$3:$ED$130,MATCH(Tabulka!$AI81,Přehled_body!$A$3:$A$130,0),MATCH(Tabulka!Y$2,Přehled_body!$E$1:$ED$1,0)),)=\"\",,IF(IFERROR(INDEX(Přehled_body!$E$3:$ED$130,MATCH(Tabulka!$AI81,Přehled_body!$A$3:$A$130,0),MATCH(Tabulka!Y$2,Přehled_body!$E$1:$ED$1,0)),)=0,0.00000000001,IFERROR(INDEX(Přehled_body!$E$3:$ED$130,MATCH(Tabulka!$AI81,Přehled_body!$A$3:$A$130,0),MATCH(Tabulka!Y$2,Přehled_body!$E$1:$ED$1,0)),)))","v":0},{"$f":"IF(IFERROR(INDEX(Přehled_body!$E$3:$ED$130,MATCH(Tabulka!$AI81,Přehled_body!$A$3:$A$130,0),MATCH(Tabulka!Z$2,Přehled_body!$E$1:$ED$1,0)),)=\"\",,IF(IFERROR(INDEX(Přehled_body!$E$3:$ED$130,MATCH(Tabulka!$AI81,Přehled_body!$A$3:$A$130,0),MATCH(Tabulka!Z$2,Přehled_body!$E$1:$ED$1,0)),)=0,0.00000000001,IFERROR(INDEX(Přehled_body!$E$3:$ED$130,MATCH(Tabulka!$AI81,Přehled_body!$A$3:$A$130,0),MATCH(Tabulka!Z$2,Přehled_body!$E$1:$ED$1,0)),)))","v":0},{"$f":"IF(IFERROR(INDEX(Přehled_body!$E$3:$ED$130,MATCH(Tabulka!$AI81,Přehled_body!$A$3:$A$130,0),MATCH(Tabulka!AA$2,Přehled_body!$E$1:$ED$1,0)),)=\"\",,IF(IFERROR(INDEX(Přehled_body!$E$3:$ED$130,MATCH(Tabulka!$AI81,Přehled_body!$A$3:$A$130,0),MATCH(Tabulka!AA$2,Přehled_body!$E$1:$ED$1,0)),)=0,0.00000000001,IFERROR(INDEX(Přehled_body!$E$3:$ED$130,MATCH(Tabulka!$AI81,Přehled_body!$A$3:$A$130,0),MATCH(Tabulka!AA$2,Přehled_body!$E$1:$ED$1,0)),)))","v":0},{"$f":"IF(IFERROR(INDEX(Přehled_body!$E$3:$ED$130,MATCH(Tabulka!$AI81,Přehled_body!$A$3:$A$130,0),MATCH(Tabulka!AB$2,Přehled_body!$E$1:$ED$1,0)),)=\"\",,IF(IFERROR(INDEX(Přehled_body!$E$3:$ED$130,MATCH(Tabulka!$AI81,Přehled_body!$A$3:$A$130,0),MATCH(Tabulka!AB$2,Přehled_body!$E$1:$ED$1,0)),)=0,0.00000000001,IFERROR(INDEX(Přehled_body!$E$3:$ED$130,MATCH(Tabulka!$AI81,Přehled_body!$A$3:$A$130,0),MATCH(Tabulka!AB$2,Přehled_body!$E$1:$ED$1,0)),)))","v":0},{"$f":"IF(IFERROR(INDEX(Přehled_body!$E$3:$ED$130,MATCH(Tabulka!$AI81,Přehled_body!$A$3:$A$130,0),MATCH(Tabulka!AC$2,Přehled_body!$E$1:$ED$1,0)),)=\"\",,IF(IFERROR(INDEX(Přehled_body!$E$3:$ED$130,MATCH(Tabulka!$AI81,Přehled_body!$A$3:$A$130,0),MATCH(Tabulka!AC$2,Přehled_body!$E$1:$ED$1,0)),)=0,0.00000000001,IFERROR(INDEX(Přehled_body!$E$3:$ED$130,MATCH(Tabulka!$AI81,Přehled_body!$A$3:$A$130,0),MATCH(Tabulka!AC$2,Přehled_body!$E$1:$ED$1,0)),)))","v":0},{"$f":"IF(IFERROR(INDEX(Přehled_body!$E$3:$ED$130,MATCH(Tabulka!$AI81,Přehled_body!$A$3:$A$130,0),MATCH(Tabulka!AD$2,Přehled_body!$E$1:$ED$1,0)),)=\"\",,IF(IFERROR(INDEX(Přehled_body!$E$3:$ED$130,MATCH(Tabulka!$AI81,Přehled_body!$A$3:$A$130,0),MATCH(Tabulka!AD$2,Přehled_body!$E$1:$ED$1,0)),)=0,0.00000000001,IFERROR(INDEX(Přehled_body!$E$3:$ED$130,MATCH(Tabulka!$AI81,Přehled_body!$A$3:$A$130,0),MATCH(Tabulka!AD$2,Přehled_body!$E$1:$ED$1,0)),)))","v":0},{"$f":"IF(SUM($D$79:$AD$83)<1,-90000,SUM(D81:AD81))","v":-90000},null,null,null,{"$f":"CONCATENATE($B$80,\" \",$B$81,C81)","v":"Iva IvankaPlaceno panáků"}]
[null,null,"Přehozy",{"$f":"IF(IFERROR(INDEX(Přehled_body!$E$3:$ED$130,MATCH(Tabulka!$AI82,Přehled_body!$A$3:$A$130,0),MATCH(Tabulka!D$2,Přehled_body!$E$1:$ED$1,0)),)=\"\",,IF(IFERROR(INDEX(Přehled_body!$E$3:$ED$130,MATCH(Tabulka!$AI82,Přehled_body!$A$3:$A$130,0),MATCH(Tabulka!D$2,Přehled_body!$E$1:$ED$1,0)),)=0,0.00000000001,IFERROR(INDEX(Přehled_body!$E$3:$ED$130,MATCH(Tabulka!$AI82,Přehled_body!$A$3:$A$130,0),MATCH(Tabulka!D$2,Přehled_body!$E$1:$ED$1,0)),)))","v":0},{"$f":"IF(IFERROR(INDEX(Přehled_body!$E$3:$ED$130,MATCH(Tabulka!$AI82,Přehled_body!$A$3:$A$130,0),MATCH(Tabulka!E$2,Přehled_body!$E$1:$ED$1,0)),)=\"\",,IF(IFERROR(INDEX(Přehled_body!$E$3:$ED$130,MATCH(Tabulka!$AI82,Přehled_body!$A$3:$A$130,0),MATCH(Tabulka!E$2,Přehled_body!$E$1:$ED$1,0)),)=0,0.00000000001,IFERROR(INDEX(Přehled_body!$E$3:$ED$130,MATCH(Tabulka!$AI82,Přehled_body!$A$3:$A$130,0),MATCH(Tabulka!E$2,Přehled_body!$E$1:$ED$1,0)),)))","v":0},{"$f":"IF(IFERROR(INDEX(Přehled_body!$E$3:$ED$130,MATCH(Tabulka!$AI82,Přehled_body!$A$3:$A$130,0),MATCH(Tabulka!F$2,Přehled_body!$E$1:$ED$1,0)),)=\"\",,IF(IFERROR(INDEX(Přehled_body!$E$3:$ED$130,MATCH(Tabulka!$AI82,Přehled_body!$A$3:$A$130,0),MATCH(Tabulka!F$2,Přehled_body!$E$1:$ED$1,0)),)=0,0.00000000001,IFERROR(INDEX(Přehled_body!$E$3:$ED$130,MATCH(Tabulka!$AI82,Přehled_body!$A$3:$A$130,0),MATCH(Tabulka!F$2,Přehled_body!$E$1:$ED$1,0)),)))","v":0},{"$f":"IF(IFERROR(INDEX(Přehled_body!$E$3:$ED$130,MATCH(Tabulka!$AI82,Přehled_body!$A$3:$A$130,0),MATCH(Tabulka!G$2,Přehled_body!$E$1:$ED$1,0)),)=\"\",,IF(IFERROR(INDEX(Přehled_body!$E$3:$ED$130,MATCH(Tabulka!$AI82,Přehled_body!$A$3:$A$130,0),MATCH(Tabulka!G$2,Přehled_body!$E$1:$ED$1,0)),)=0,0.00000000001,IFERROR(INDEX(Přehled_body!$E$3:$ED$130,MATCH(Tabulka!$AI82,Přehled_body!$A$3:$A$130,0),MATCH(Tabulka!G$2,Přehled_body!$E$1:$ED$1,0)),)))","v":0},{"$f":"IF(IFERROR(INDEX(Přehled_body!$E$3:$ED$130,MATCH(Tabulka!$AI82,Přehled_body!$A$3:$A$130,0),MATCH(Tabulka!H$2,Přehled_body!$E$1:$ED$1,0)),)=\"\",,IF(IFERROR(INDEX(Přehled_body!$E$3:$ED$130,MATCH(Tabulka!$AI82,Přehled_body!$A$3:$A$130,0),MATCH(Tabulka!H$2,Přehled_body!$E$1:$ED$1,0)),)=0,0.00000000001,IFERROR(INDEX(Přehled_body!$E$3:$ED$130,MATCH(Tabulka!$AI82,Přehled_body!$A$3:$A$130,0),MATCH(Tabulka!H$2,Přehled_body!$E$1:$ED$1,0)),)))","v":0},{"$f":"IF(IFERROR(INDEX(Přehled_body!$E$3:$ED$130,MATCH(Tabulka!$AI82,Přehled_body!$A$3:$A$130,0),MATCH(Tabulka!I$2,Přehled_body!$E$1:$ED$1,0)),)=\"\",,IF(IFERROR(INDEX(Přehled_body!$E$3:$ED$130,MATCH(Tabulka!$AI82,Přehled_body!$A$3:$A$130,0),MATCH(Tabulka!I$2,Přehled_body!$E$1:$ED$1,0)),)=0,0.00000000001,IFERROR(INDEX(Přehled_body!$E$3:$ED$130,MATCH(Tabulka!$AI82,Přehled_body!$A$3:$A$130,0),MATCH(Tabulka!I$2,Přehled_body!$E$1:$ED$1,0)),)))","v":0},{"$f":"IF(IFERROR(INDEX(Přehled_body!$E$3:$ED$130,MATCH(Tabulka!$AI82,Přehled_body!$A$3:$A$130,0),MATCH(Tabulka!J$2,Přehled_body!$E$1:$ED$1,0)),)=\"\",,IF(IFERROR(INDEX(Přehled_body!$E$3:$ED$130,MATCH(Tabulka!$AI82,Přehled_body!$A$3:$A$130,0),MATCH(Tabulka!J$2,Přehled_body!$E$1:$ED$1,0)),)=0,0.00000000001,IFERROR(INDEX(Přehled_body!$E$3:$ED$130,MATCH(Tabulka!$AI82,Přehled_body!$A$3:$A$130,0),MATCH(Tabulka!J$2,Přehled_body!$E$1:$ED$1,0)),)))","v":0},{"$f":"IF(IFERROR(INDEX(Přehled_body!$E$3:$ED$130,MATCH(Tabulka!$AI82,Přehled_body!$A$3:$A$130,0),MATCH(Tabulka!K$2,Přehled_body!$E$1:$ED$1,0)),)=\"\",,IF(IFERROR(INDEX(Přehled_body!$E$3:$ED$130,MATCH(Tabulka!$AI82,Přehled_body!$A$3:$A$130,0),MATCH(Tabulka!K$2,Přehled_body!$E$1:$ED$1,0)),)=0,0.00000000001,IFERROR(INDEX(Přehled_body!$E$3:$ED$130,MATCH(Tabulka!$AI82,Přehled_body!$A$3:$A$130,0),MATCH(Tabulka!K$2,Přehled_body!$E$1:$ED$1,0)),)))","v":0},{"$f":"IF(IFERROR(INDEX(Přehled_body!$E$3:$ED$130,MATCH(Tabulka!$AI82,Přehled_body!$A$3:$A$130,0),MATCH(Tabulka!L$2,Přehled_body!$E$1:$ED$1,0)),)=\"\",,IF(IFERROR(INDEX(Přehled_body!$E$3:$ED$130,MATCH(Tabulka!$AI82,Přehled_body!$A$3:$A$130,0),MATCH(Tabulka!L$2,Přehled_body!$E$1:$ED$1,0)),)=0,0.00000000001,IFERROR(INDEX(Přehled_body!$E$3:$ED$130,MATCH(Tabulka!$AI82,Přehled_body!$A$3:$A$130,0),MATCH(Tabulka!L$2,Přehled_body!$E$1:$ED$1,0)),)))","v":0},{"$f":"IF(IFERROR(INDEX(Přehled_body!$E$3:$ED$130,MATCH(Tabulka!$AI82,Přehled_body!$A$3:$A$130,0),MATCH(Tabulka!M$2,Přehled_body!$E$1:$ED$1,0)),)=\"\",,IF(IFERROR(INDEX(Přehled_body!$E$3:$ED$130,MATCH(Tabulka!$AI82,Přehled_body!$A$3:$A$130,0),MATCH(Tabulka!M$2,Přehled_body!$E$1:$ED$1,0)),)=0,0.00000000001,IFERROR(INDEX(Přehled_body!$E$3:$ED$130,MATCH(Tabulka!$AI82,Přehled_body!$A$3:$A$130,0),MATCH(Tabulka!M$2,Přehled_body!$E$1:$ED$1,0)),)))","v":0},{"$f":"IF(IFERROR(INDEX(Přehled_body!$E$3:$ED$130,MATCH(Tabulka!$AI82,Přehled_body!$A$3:$A$130,0),MATCH(Tabulka!N$2,Přehled_body!$E$1:$ED$1,0)),)=\"\",,IF(IFERROR(INDEX(Přehled_body!$E$3:$ED$130,MATCH(Tabulka!$AI82,Přehled_body!$A$3:$A$130,0),MATCH(Tabulka!N$2,Přehled_body!$E$1:$ED$1,0)),)=0,0.00000000001,IFERROR(INDEX(Přehled_body!$E$3:$ED$130,MATCH(Tabulka!$AI82,Přehled_body!$A$3:$A$130,0),MATCH(Tabulka!N$2,Přehled_body!$E$1:$ED$1,0)),)))","v":0},{"$f":"IF(IFERROR(INDEX(Přehled_body!$E$3:$ED$130,MATCH(Tabulka!$AI82,Přehled_body!$A$3:$A$130,0),MATCH(Tabulka!O$2,Přehled_body!$E$1:$ED$1,0)),)=\"\",,IF(IFERROR(INDEX(Přehled_body!$E$3:$ED$130,MATCH(Tabulka!$AI82,Přehled_body!$A$3:$A$130,0),MATCH(Tabulka!O$2,Přehled_body!$E$1:$ED$1,0)),)=0,0.00000000001,IFERROR(INDEX(Přehled_body!$E$3:$ED$130,MATCH(Tabulka!$AI82,Přehled_body!$A$3:$A$130,0),MATCH(Tabulka!O$2,Přehled_body!$E$1:$ED$1,0)),)))","v":0},{"$f":"IF(IFERROR(INDEX(Přehled_body!$E$3:$ED$130,MATCH(Tabulka!$AI82,Přehled_body!$A$3:$A$130,0),MATCH(Tabulka!P$2,Přehled_body!$E$1:$ED$1,0)),)=\"\",,IF(IFERROR(INDEX(Přehled_body!$E$3:$ED$130,MATCH(Tabulka!$AI82,Přehled_body!$A$3:$A$130,0),MATCH(Tabulka!P$2,Přehled_body!$E$1:$ED$1,0)),)=0,0.00000000001,IFERROR(INDEX(Přehled_body!$E$3:$ED$130,MATCH(Tabulka!$AI82,Přehled_body!$A$3:$A$130,0),MATCH(Tabulka!P$2,Přehled_body!$E$1:$ED$1,0)),)))","v":0},{"$f":"IF(IFERROR(INDEX(Přehled_body!$E$3:$ED$130,MATCH(Tabulka!$AI82,Přehled_body!$A$3:$A$130,0),MATCH(Tabulka!Q$2,Přehled_body!$E$1:$ED$1,0)),)=\"\",,IF(IFERROR(INDEX(Přehled_body!$E$3:$ED$130,MATCH(Tabulka!$AI82,Přehled_body!$A$3:$A$130,0),MATCH(Tabulka!Q$2,Přehled_body!$E$1:$ED$1,0)),)=0,0.00000000001,IFERROR(INDEX(Přehled_body!$E$3:$ED$130,MATCH(Tabulka!$AI82,Přehled_body!$A$3:$A$130,0),MATCH(Tabulka!Q$2,Přehled_body!$E$1:$ED$1,0)),)))","v":0},{"$f":"IF(IFERROR(INDEX(Přehled_body!$E$3:$ED$130,MATCH(Tabulka!$AI82,Přehled_body!$A$3:$A$130,0),MATCH(Tabulka!R$2,Přehled_body!$E$1:$ED$1,0)),)=\"\",,IF(IFERROR(INDEX(Přehled_body!$E$3:$ED$130,MATCH(Tabulka!$AI82,Přehled_body!$A$3:$A$130,0),MATCH(Tabulka!R$2,Přehled_body!$E$1:$ED$1,0)),)=0,0.00000000001,IFERROR(INDEX(Přehled_body!$E$3:$ED$130,MATCH(Tabulka!$AI82,Přehled_body!$A$3:$A$130,0),MATCH(Tabulka!R$2,Přehled_body!$E$1:$ED$1,0)),)))","v":0},{"$f":"IF(IFERROR(INDEX(Přehled_body!$E$3:$ED$130,MATCH(Tabulka!$AI82,Přehled_body!$A$3:$A$130,0),MATCH(Tabulka!S$2,Přehled_body!$E$1:$ED$1,0)),)=\"\",,IF(IFERROR(INDEX(Přehled_body!$E$3:$ED$130,MATCH(Tabulka!$AI82,Přehled_body!$A$3:$A$130,0),MATCH(Tabulka!S$2,Přehled_body!$E$1:$ED$1,0)),)=0,0.00000000001,IFERROR(INDEX(Přehled_body!$E$3:$ED$130,MATCH(Tabulka!$AI82,Přehled_body!$A$3:$A$130,0),MATCH(Tabulka!S$2,Přehled_body!$E$1:$ED$1,0)),)))","v":0},{"$f":"IF(IFERROR(INDEX(Přehled_body!$E$3:$ED$130,MATCH(Tabulka!$AI82,Přehled_body!$A$3:$A$130,0),MATCH(Tabulka!T$2,Přehled_body!$E$1:$ED$1,0)),)=\"\",,IF(IFERROR(INDEX(Přehled_body!$E$3:$ED$130,MATCH(Tabulka!$AI82,Přehled_body!$A$3:$A$130,0),MATCH(Tabulka!T$2,Přehled_body!$E$1:$ED$1,0)),)=0,0.00000000001,IFERROR(INDEX(Přehled_body!$E$3:$ED$130,MATCH(Tabulka!$AI82,Přehled_body!$A$3:$A$130,0),MATCH(Tabulka!T$2,Přehled_body!$E$1:$ED$1,0)),)))","v":0},{"$f":"IF(IFERROR(INDEX(Přehled_body!$E$3:$ED$130,MATCH(Tabulka!$AI82,Přehled_body!$A$3:$A$130,0),MATCH(Tabulka!U$2,Přehled_body!$E$1:$ED$1,0)),)=\"\",,IF(IFERROR(INDEX(Přehled_body!$E$3:$ED$130,MATCH(Tabulka!$AI82,Přehled_body!$A$3:$A$130,0),MATCH(Tabulka!U$2,Přehled_body!$E$1:$ED$1,0)),)=0,0.00000000001,IFERROR(INDEX(Přehled_body!$E$3:$ED$130,MATCH(Tabulka!$AI82,Přehled_body!$A$3:$A$130,0),MATCH(Tabulka!U$2,Přehled_body!$E$1:$ED$1,0)),)))","v":0},{"$f":"IF(IFERROR(INDEX(Přehled_body!$E$3:$ED$130,MATCH(Tabulka!$AI82,Přehled_body!$A$3:$A$130,0),MATCH(Tabulka!V$2,Přehled_body!$E$1:$ED$1,0)),)=\"\",,IF(IFERROR(INDEX(Přehled_body!$E$3:$ED$130,MATCH(Tabulka!$AI82,Přehled_body!$A$3:$A$130,0),MATCH(Tabulka!V$2,Přehled_body!$E$1:$ED$1,0)),)=0,0.00000000001,IFERROR(INDEX(Přehled_body!$E$3:$ED$130,MATCH(Tabulka!$AI82,Přehled_body!$A$3:$A$130,0),MATCH(Tabulka!V$2,Přehled_body!$E$1:$ED$1,0)),)))","v":0},{"$f":"IF(IFERROR(INDEX(Přehled_body!$E$3:$ED$130,MATCH(Tabulka!$AI82,Přehled_body!$A$3:$A$130,0),MATCH(Tabulka!W$2,Přehled_body!$E$1:$ED$1,0)),)=\"\",,IF(IFERROR(INDEX(Přehled_body!$E$3:$ED$130,MATCH(Tabulka!$AI82,Přehled_body!$A$3:$A$130,0),MATCH(Tabulka!W$2,Přehled_body!$E$1:$ED$1,0)),)=0,0.00000000001,IFERROR(INDEX(Přehled_body!$E$3:$ED$130,MATCH(Tabulka!$AI82,Přehled_body!$A$3:$A$130,0),MATCH(Tabulka!W$2,Přehled_body!$E$1:$ED$1,0)),)))","v":0},{"$f":"IF(IFERROR(INDEX(Přehled_body!$E$3:$ED$130,MATCH(Tabulka!$AI82,Přehled_body!$A$3:$A$130,0),MATCH(Tabulka!X$2,Přehled_body!$E$1:$ED$1,0)),)=\"\",,IF(IFERROR(INDEX(Přehled_body!$E$3:$ED$130,MATCH(Tabulka!$AI82,Přehled_body!$A$3:$A$130,0),MATCH(Tabulka!X$2,Přehled_body!$E$1:$ED$1,0)),)=0,0.00000000001,IFERROR(INDEX(Přehled_body!$E$3:$ED$130,MATCH(Tabulka!$AI82,Přehled_body!$A$3:$A$130,0),MATCH(Tabulka!X$2,Přehled_body!$E$1:$ED$1,0)),)))","v":0},{"$f":"IF(IFERROR(INDEX(Přehled_body!$E$3:$ED$130,MATCH(Tabulka!$AI82,Přehled_body!$A$3:$A$130,0),MATCH(Tabulka!Y$2,Přehled_body!$E$1:$ED$1,0)),)=\"\",,IF(IFERROR(INDEX(Přehled_body!$E$3:$ED$130,MATCH(Tabulka!$AI82,Přehled_body!$A$3:$A$130,0),MATCH(Tabulka!Y$2,Přehled_body!$E$1:$ED$1,0)),)=0,0.00000000001,IFERROR(INDEX(Přehled_body!$E$3:$ED$130,MATCH(Tabulka!$AI82,Přehled_body!$A$3:$A$130,0),MATCH(Tabulka!Y$2,Přehled_body!$E$1:$ED$1,0)),)))","v":0},{"$f":"IF(IFERROR(INDEX(Přehled_body!$E$3:$ED$130,MATCH(Tabulka!$AI82,Přehled_body!$A$3:$A$130,0),MATCH(Tabulka!Z$2,Přehled_body!$E$1:$ED$1,0)),)=\"\",,IF(IFERROR(INDEX(Přehled_body!$E$3:$ED$130,MATCH(Tabulka!$AI82,Přehled_body!$A$3:$A$130,0),MATCH(Tabulka!Z$2,Přehled_body!$E$1:$ED$1,0)),)=0,0.00000000001,IFERROR(INDEX(Přehled_body!$E$3:$ED$130,MATCH(Tabulka!$AI82,Přehled_body!$A$3:$A$130,0),MATCH(Tabulka!Z$2,Přehled_body!$E$1:$ED$1,0)),)))","v":0},{"$f":"IF(IFERROR(INDEX(Přehled_body!$E$3:$ED$130,MATCH(Tabulka!$AI82,Přehled_body!$A$3:$A$130,0),MATCH(Tabulka!AA$2,Přehled_body!$E$1:$ED$1,0)),)=\"\",,IF(IFERROR(INDEX(Přehled_body!$E$3:$ED$130,MATCH(Tabulka!$AI82,Přehled_body!$A$3:$A$130,0),MATCH(Tabulka!AA$2,Přehled_body!$E$1:$ED$1,0)),)=0,0.00000000001,IFERROR(INDEX(Přehled_body!$E$3:$ED$130,MATCH(Tabulka!$AI82,Přehled_body!$A$3:$A$130,0),MATCH(Tabulka!AA$2,Přehled_body!$E$1:$ED$1,0)),)))","v":0},{"$f":"IF(IFERROR(INDEX(Přehled_body!$E$3:$ED$130,MATCH(Tabulka!$AI82,Přehled_body!$A$3:$A$130,0),MATCH(Tabulka!AB$2,Přehled_body!$E$1:$ED$1,0)),)=\"\",,IF(IFERROR(INDEX(Přehled_body!$E$3:$ED$130,MATCH(Tabulka!$AI82,Přehled_body!$A$3:$A$130,0),MATCH(Tabulka!AB$2,Přehled_body!$E$1:$ED$1,0)),)=0,0.00000000001,IFERROR(INDEX(Přehled_body!$E$3:$ED$130,MATCH(Tabulka!$AI82,Přehled_body!$A$3:$A$130,0),MATCH(Tabulka!AB$2,Přehled_body!$E$1:$ED$1,0)),)))","v":0},{"$f":"IF(IFERROR(INDEX(Přehled_body!$E$3:$ED$130,MATCH(Tabulka!$AI82,Přehled_body!$A$3:$A$130,0),MATCH(Tabulka!AC$2,Přehled_body!$E$1:$ED$1,0)),)=\"\",,IF(IFERROR(INDEX(Přehled_body!$E$3:$ED$130,MATCH(Tabulka!$AI82,Přehled_body!$A$3:$A$130,0),MATCH(Tabulka!AC$2,Přehled_body!$E$1:$ED$1,0)),)=0,0.00000000001,IFERROR(INDEX(Přehled_body!$E$3:$ED$130,MATCH(Tabulka!$AI82,Přehled_body!$A$3:$A$130,0),MATCH(Tabulka!AC$2,Přehled_body!$E$1:$ED$1,0)),)))","v":0},{"$f":"IF(IFERROR(INDEX(Přehled_body!$E$3:$ED$130,MATCH(Tabulka!$AI82,Přehled_body!$A$3:$A$130,0),MATCH(Tabulka!AD$2,Přehled_body!$E$1:$ED$1,0)),)=\"\",,IF(IFERROR(INDEX(Přehled_body!$E$3:$ED$130,MATCH(Tabulka!$AI82,Přehled_body!$A$3:$A$130,0),MATCH(Tabulka!AD$2,Přehled_body!$E$1:$ED$1,0)),)=0,0.00000000001,IFERROR(INDEX(Přehled_body!$E$3:$ED$130,MATCH(Tabulka!$AI82,Přehled_body!$A$3:$A$130,0),MATCH(Tabulka!AD$2,Přehled_body!$E$1:$ED$1,0)),)))","v":0},{"$f":"IF(SUM($D$79:$AD$83)<1,-90000,SUM(D82:AD82))","v":-90000},null,null,null,{"$f":"CONCATENATE($B$80,\" \",$B$81,C82)","v":"Iva IvankaPřehozy"}]
[null,null,"Poč. kol",{"$f":"IF(IFERROR(INDEX(Přehled_body!$E$3:$ED$130,MATCH(Tabulka!$AI83,Přehled_body!$A$3:$A$130,0),MATCH(Tabulka!D$2,Přehled_body!$E$1:$ED$1,0)),)=\"\",,IF(IFERROR(INDEX(Přehled_body!$E$3:$ED$130,MATCH(Tabulka!$AI83,Přehled_body!$A$3:$A$130,0),MATCH(Tabulka!D$2,Přehled_body!$E$1:$ED$1,0)),)=0,0.00000000001,IFERROR(INDEX(Přehled_body!$E$3:$ED$130,MATCH(Tabulka!$AI83,Přehled_body!$A$3:$A$130,0),MATCH(Tabulka!D$2,Přehled_body!$E$1:$ED$1,0)),)))","v":0},{"$f":"IF(IFERROR(INDEX(Přehled_body!$E$3:$ED$130,MATCH(Tabulka!$AI83,Přehled_body!$A$3:$A$130,0),MATCH(Tabulka!E$2,Přehled_body!$E$1:$ED$1,0)),)=\"\",,IF(IFERROR(INDEX(Přehled_body!$E$3:$ED$130,MATCH(Tabulka!$AI83,Přehled_body!$A$3:$A$130,0),MATCH(Tabulka!E$2,Přehled_body!$E$1:$ED$1,0)),)=0,0.00000000001,IFERROR(INDEX(Přehled_body!$E$3:$ED$130,MATCH(Tabulka!$AI83,Přehled_body!$A$3:$A$130,0),MATCH(Tabulka!E$2,Přehled_body!$E$1:$ED$1,0)),)))","v":0},{"$f":"IF(IFERROR(INDEX(Přehled_body!$E$3:$ED$130,MATCH(Tabulka!$AI83,Přehled_body!$A$3:$A$130,0),MATCH(Tabulka!F$2,Přehled_body!$E$1:$ED$1,0)),)=\"\",,IF(IFERROR(INDEX(Přehled_body!$E$3:$ED$130,MATCH(Tabulka!$AI83,Přehled_body!$A$3:$A$130,0),MATCH(Tabulka!F$2,Přehled_body!$E$1:$ED$1,0)),)=0,0.00000000001,IFERROR(INDEX(Přehled_body!$E$3:$ED$130,MATCH(Tabulka!$AI83,Přehled_body!$A$3:$A$130,0),MATCH(Tabulka!F$2,Přehled_body!$E$1:$ED$1,0)),)))","v":0},{"$f":"IF(IFERROR(INDEX(Přehled_body!$E$3:$ED$130,MATCH(Tabulka!$AI83,Přehled_body!$A$3:$A$130,0),MATCH(Tabulka!G$2,Přehled_body!$E$1:$ED$1,0)),)=\"\",,IF(IFERROR(INDEX(Přehled_body!$E$3:$ED$130,MATCH(Tabulka!$AI83,Přehled_body!$A$3:$A$130,0),MATCH(Tabulka!G$2,Přehled_body!$E$1:$ED$1,0)),)=0,0.00000000001,IFERROR(INDEX(Přehled_body!$E$3:$ED$130,MATCH(Tabulka!$AI83,Přehled_body!$A$3:$A$130,0),MATCH(Tabulka!G$2,Přehled_body!$E$1:$ED$1,0)),)))","v":0},{"$f":"IF(IFERROR(INDEX(Přehled_body!$E$3:$ED$130,MATCH(Tabulka!$AI83,Přehled_body!$A$3:$A$130,0),MATCH(Tabulka!H$2,Přehled_body!$E$1:$ED$1,0)),)=\"\",,IF(IFERROR(INDEX(Přehled_body!$E$3:$ED$130,MATCH(Tabulka!$AI83,Přehled_body!$A$3:$A$130,0),MATCH(Tabulka!H$2,Přehled_body!$E$1:$ED$1,0)),)=0,0.00000000001,IFERROR(INDEX(Přehled_body!$E$3:$ED$130,MATCH(Tabulka!$AI83,Přehled_body!$A$3:$A$130,0),MATCH(Tabulka!H$2,Přehled_body!$E$1:$ED$1,0)),)))","v":0},{"$f":"IF(IFERROR(INDEX(Přehled_body!$E$3:$ED$130,MATCH(Tabulka!$AI83,Přehled_body!$A$3:$A$130,0),MATCH(Tabulka!I$2,Přehled_body!$E$1:$ED$1,0)),)=\"\",,IF(IFERROR(INDEX(Přehled_body!$E$3:$ED$130,MATCH(Tabulka!$AI83,Přehled_body!$A$3:$A$130,0),MATCH(Tabulka!I$2,Přehled_body!$E$1:$ED$1,0)),)=0,0.00000000001,IFERROR(INDEX(Přehled_body!$E$3:$ED$130,MATCH(Tabulka!$AI83,Přehled_body!$A$3:$A$130,0),MATCH(Tabulka!I$2,Přehled_body!$E$1:$ED$1,0)),)))","v":0},{"$f":"IF(IFERROR(INDEX(Přehled_body!$E$3:$ED$130,MATCH(Tabulka!$AI83,Přehled_body!$A$3:$A$130,0),MATCH(Tabulka!J$2,Přehled_body!$E$1:$ED$1,0)),)=\"\",,IF(IFERROR(INDEX(Přehled_body!$E$3:$ED$130,MATCH(Tabulka!$AI83,Přehled_body!$A$3:$A$130,0),MATCH(Tabulka!J$2,Přehled_body!$E$1:$ED$1,0)),)=0,0.00000000001,IFERROR(INDEX(Přehled_body!$E$3:$ED$130,MATCH(Tabulka!$AI83,Přehled_body!$A$3:$A$130,0),MATCH(Tabulka!J$2,Přehled_body!$E$1:$ED$1,0)),)))","v":0},{"$f":"IF(IFERROR(INDEX(Přehled_body!$E$3:$ED$130,MATCH(Tabulka!$AI83,Přehled_body!$A$3:$A$130,0),MATCH(Tabulka!K$2,Přehled_body!$E$1:$ED$1,0)),)=\"\",,IF(IFERROR(INDEX(Přehled_body!$E$3:$ED$130,MATCH(Tabulka!$AI83,Přehled_body!$A$3:$A$130,0),MATCH(Tabulka!K$2,Přehled_body!$E$1:$ED$1,0)),)=0,0.00000000001,IFERROR(INDEX(Přehled_body!$E$3:$ED$130,MATCH(Tabulka!$AI83,Přehled_body!$A$3:$A$130,0),MATCH(Tabulka!K$2,Přehled_body!$E$1:$ED$1,0)),)))","v":0},{"$f":"IF(IFERROR(INDEX(Přehled_body!$E$3:$ED$130,MATCH(Tabulka!$AI83,Přehled_body!$A$3:$A$130,0),MATCH(Tabulka!L$2,Přehled_body!$E$1:$ED$1,0)),)=\"\",,IF(IFERROR(INDEX(Přehled_body!$E$3:$ED$130,MATCH(Tabulka!$AI83,Přehled_body!$A$3:$A$130,0),MATCH(Tabulka!L$2,Přehled_body!$E$1:$ED$1,0)),)=0,0.00000000001,IFERROR(INDEX(Přehled_body!$E$3:$ED$130,MATCH(Tabulka!$AI83,Přehled_body!$A$3:$A$130,0),MATCH(Tabulka!L$2,Přehled_body!$E$1:$ED$1,0)),)))","v":0},{"$f":"IF(IFERROR(INDEX(Přehled_body!$E$3:$ED$130,MATCH(Tabulka!$AI83,Přehled_body!$A$3:$A$130,0),MATCH(Tabulka!M$2,Přehled_body!$E$1:$ED$1,0)),)=\"\",,IF(IFERROR(INDEX(Přehled_body!$E$3:$ED$130,MATCH(Tabulka!$AI83,Přehled_body!$A$3:$A$130,0),MATCH(Tabulka!M$2,Přehled_body!$E$1:$ED$1,0)),)=0,0.00000000001,IFERROR(INDEX(Přehled_body!$E$3:$ED$130,MATCH(Tabulka!$AI83,Přehled_body!$A$3:$A$130,0),MATCH(Tabulka!M$2,Přehled_body!$E$1:$ED$1,0)),)))","v":0},{"$f":"IF(IFERROR(INDEX(Přehled_body!$E$3:$ED$130,MATCH(Tabulka!$AI83,Přehled_body!$A$3:$A$130,0),MATCH(Tabulka!N$2,Přehled_body!$E$1:$ED$1,0)),)=\"\",,IF(IFERROR(INDEX(Přehled_body!$E$3:$ED$130,MATCH(Tabulka!$AI83,Přehled_body!$A$3:$A$130,0),MATCH(Tabulka!N$2,Přehled_body!$E$1:$ED$1,0)),)=0,0.00000000001,IFERROR(INDEX(Přehled_body!$E$3:$ED$130,MATCH(Tabulka!$AI83,Přehled_body!$A$3:$A$130,0),MATCH(Tabulka!N$2,Přehled_body!$E$1:$ED$1,0)),)))","v":0},{"$f":"IF(IFERROR(INDEX(Přehled_body!$E$3:$ED$130,MATCH(Tabulka!$AI83,Přehled_body!$A$3:$A$130,0),MATCH(Tabulka!O$2,Přehled_body!$E$1:$ED$1,0)),)=\"\",,IF(IFERROR(INDEX(Přehled_body!$E$3:$ED$130,MATCH(Tabulka!$AI83,Přehled_body!$A$3:$A$130,0),MATCH(Tabulka!O$2,Přehled_body!$E$1:$ED$1,0)),)=0,0.00000000001,IFERROR(INDEX(Přehled_body!$E$3:$ED$130,MATCH(Tabulka!$AI83,Přehled_body!$A$3:$A$130,0),MATCH(Tabulka!O$2,Přehled_body!$E$1:$ED$1,0)),)))","v":0},{"$f":"IF(IFERROR(INDEX(Přehled_body!$E$3:$ED$130,MATCH(Tabulka!$AI83,Přehled_body!$A$3:$A$130,0),MATCH(Tabulka!P$2,Přehled_body!$E$1:$ED$1,0)),)=\"\",,IF(IFERROR(INDEX(Přehled_body!$E$3:$ED$130,MATCH(Tabulka!$AI83,Přehled_body!$A$3:$A$130,0),MATCH(Tabulka!P$2,Přehled_body!$E$1:$ED$1,0)),)=0,0.00000000001,IFERROR(INDEX(Přehled_body!$E$3:$ED$130,MATCH(Tabulka!$AI83,Přehled_body!$A$3:$A$130,0),MATCH(Tabulka!P$2,Přehled_body!$E$1:$ED$1,0)),)))","v":0},{"$f":"IF(IFERROR(INDEX(Přehled_body!$E$3:$ED$130,MATCH(Tabulka!$AI83,Přehled_body!$A$3:$A$130,0),MATCH(Tabulka!Q$2,Přehled_body!$E$1:$ED$1,0)),)=\"\",,IF(IFERROR(INDEX(Přehled_body!$E$3:$ED$130,MATCH(Tabulka!$AI83,Přehled_body!$A$3:$A$130,0),MATCH(Tabulka!Q$2,Přehled_body!$E$1:$ED$1,0)),)=0,0.00000000001,IFERROR(INDEX(Přehled_body!$E$3:$ED$130,MATCH(Tabulka!$AI83,Přehled_body!$A$3:$A$130,0),MATCH(Tabulka!Q$2,Přehled_body!$E$1:$ED$1,0)),)))","v":0},{"$f":"IF(IFERROR(INDEX(Přehled_body!$E$3:$ED$130,MATCH(Tabulka!$AI83,Přehled_body!$A$3:$A$130,0),MATCH(Tabulka!R$2,Přehled_body!$E$1:$ED$1,0)),)=\"\",,IF(IFERROR(INDEX(Přehled_body!$E$3:$ED$130,MATCH(Tabulka!$AI83,Přehled_body!$A$3:$A$130,0),MATCH(Tabulka!R$2,Přehled_body!$E$1:$ED$1,0)),)=0,0.00000000001,IFERROR(INDEX(Přehled_body!$E$3:$ED$130,MATCH(Tabulka!$AI83,Přehled_body!$A$3:$A$130,0),MATCH(Tabulka!R$2,Přehled_body!$E$1:$ED$1,0)),)))","v":0},{"$f":"IF(IFERROR(INDEX(Přehled_body!$E$3:$ED$130,MATCH(Tabulka!$AI83,Přehled_body!$A$3:$A$130,0),MATCH(Tabulka!S$2,Přehled_body!$E$1:$ED$1,0)),)=\"\",,IF(IFERROR(INDEX(Přehled_body!$E$3:$ED$130,MATCH(Tabulka!$AI83,Přehled_body!$A$3:$A$130,0),MATCH(Tabulka!S$2,Přehled_body!$E$1:$ED$1,0)),)=0,0.00000000001,IFERROR(INDEX(Přehled_body!$E$3:$ED$130,MATCH(Tabulka!$AI83,Přehled_body!$A$3:$A$130,0),MATCH(Tabulka!S$2,Přehled_body!$E$1:$ED$1,0)),)))","v":0},{"$f":"IF(IFERROR(INDEX(Přehled_body!$E$3:$ED$130,MATCH(Tabulka!$AI83,Přehled_body!$A$3:$A$130,0),MATCH(Tabulka!T$2,Přehled_body!$E$1:$ED$1,0)),)=\"\",,IF(IFERROR(INDEX(Přehled_body!$E$3:$ED$130,MATCH(Tabulka!$AI83,Přehled_body!$A$3:$A$130,0),MATCH(Tabulka!T$2,Přehled_body!$E$1:$ED$1,0)),)=0,0.00000000001,IFERROR(INDEX(Přehled_body!$E$3:$ED$130,MATCH(Tabulka!$AI83,Přehled_body!$A$3:$A$130,0),MATCH(Tabulka!T$2,Přehled_body!$E$1:$ED$1,0)),)))","v":0},{"$f":"IF(IFERROR(INDEX(Přehled_body!$E$3:$ED$130,MATCH(Tabulka!$AI83,Přehled_body!$A$3:$A$130,0),MATCH(Tabulka!U$2,Přehled_body!$E$1:$ED$1,0)),)=\"\",,IF(IFERROR(INDEX(Přehled_body!$E$3:$ED$130,MATCH(Tabulka!$AI83,Přehled_body!$A$3:$A$130,0),MATCH(Tabulka!U$2,Přehled_body!$E$1:$ED$1,0)),)=0,0.00000000001,IFERROR(INDEX(Přehled_body!$E$3:$ED$130,MATCH(Tabulka!$AI83,Přehled_body!$A$3:$A$130,0),MATCH(Tabulka!U$2,Přehled_body!$E$1:$ED$1,0)),)))","v":0},{"$f":"IF(IFERROR(INDEX(Přehled_body!$E$3:$ED$130,MATCH(Tabulka!$AI83,Přehled_body!$A$3:$A$130,0),MATCH(Tabulka!V$2,Přehled_body!$E$1:$ED$1,0)),)=\"\",,IF(IFERROR(INDEX(Přehled_body!$E$3:$ED$130,MATCH(Tabulka!$AI83,Přehled_body!$A$3:$A$130,0),MATCH(Tabulka!V$2,Přehled_body!$E$1:$ED$1,0)),)=0,0.00000000001,IFERROR(INDEX(Přehled_body!$E$3:$ED$130,MATCH(Tabulka!$AI83,Přehled_body!$A$3:$A$130,0),MATCH(Tabulka!V$2,Přehled_body!$E$1:$ED$1,0)),)))","v":0},{"$f":"IF(IFERROR(INDEX(Přehled_body!$E$3:$ED$130,MATCH(Tabulka!$AI83,Přehled_body!$A$3:$A$130,0),MATCH(Tabulka!W$2,Přehled_body!$E$1:$ED$1,0)),)=\"\",,IF(IFERROR(INDEX(Přehled_body!$E$3:$ED$130,MATCH(Tabulka!$AI83,Přehled_body!$A$3:$A$130,0),MATCH(Tabulka!W$2,Přehled_body!$E$1:$ED$1,0)),)=0,0.00000000001,IFERROR(INDEX(Přehled_body!$E$3:$ED$130,MATCH(Tabulka!$AI83,Přehled_body!$A$3:$A$130,0),MATCH(Tabulka!W$2,Přehled_body!$E$1:$ED$1,0)),)))","v":0},{"$f":"IF(IFERROR(INDEX(Přehled_body!$E$3:$ED$130,MATCH(Tabulka!$AI83,Přehled_body!$A$3:$A$130,0),MATCH(Tabulka!X$2,Přehled_body!$E$1:$ED$1,0)),)=\"\",,IF(IFERROR(INDEX(Přehled_body!$E$3:$ED$130,MATCH(Tabulka!$AI83,Přehled_body!$A$3:$A$130,0),MATCH(Tabulka!X$2,Přehled_body!$E$1:$ED$1,0)),)=0,0.00000000001,IFERROR(INDEX(Přehled_body!$E$3:$ED$130,MATCH(Tabulka!$AI83,Přehled_body!$A$3:$A$130,0),MATCH(Tabulka!X$2,Přehled_body!$E$1:$ED$1,0)),)))","v":0},{"$f":"IF(IFERROR(INDEX(Přehled_body!$E$3:$ED$130,MATCH(Tabulka!$AI83,Přehled_body!$A$3:$A$130,0),MATCH(Tabulka!Y$2,Přehled_body!$E$1:$ED$1,0)),)=\"\",,IF(IFERROR(INDEX(Přehled_body!$E$3:$ED$130,MATCH(Tabulka!$AI83,Přehled_body!$A$3:$A$130,0),MATCH(Tabulka!Y$2,Přehled_body!$E$1:$ED$1,0)),)=0,0.00000000001,IFERROR(INDEX(Přehled_body!$E$3:$ED$130,MATCH(Tabulka!$AI83,Přehled_body!$A$3:$A$130,0),MATCH(Tabulka!Y$2,Přehled_body!$E$1:$ED$1,0)),)))","v":0},{"$f":"IF(IFERROR(INDEX(Přehled_body!$E$3:$ED$130,MATCH(Tabulka!$AI83,Přehled_body!$A$3:$A$130,0),MATCH(Tabulka!Z$2,Přehled_body!$E$1:$ED$1,0)),)=\"\",,IF(IFERROR(INDEX(Přehled_body!$E$3:$ED$130,MATCH(Tabulka!$AI83,Přehled_body!$A$3:$A$130,0),MATCH(Tabulka!Z$2,Přehled_body!$E$1:$ED$1,0)),)=0,0.00000000001,IFERROR(INDEX(Přehled_body!$E$3:$ED$130,MATCH(Tabulka!$AI83,Přehled_body!$A$3:$A$130,0),MATCH(Tabulka!Z$2,Přehled_body!$E$1:$ED$1,0)),)))","v":0},{"$f":"IF(IFERROR(INDEX(Přehled_body!$E$3:$ED$130,MATCH(Tabulka!$AI83,Přehled_body!$A$3:$A$130,0),MATCH(Tabulka!AA$2,Přehled_body!$E$1:$ED$1,0)),)=\"\",,IF(IFERROR(INDEX(Přehled_body!$E$3:$ED$130,MATCH(Tabulka!$AI83,Přehled_body!$A$3:$A$130,0),MATCH(Tabulka!AA$2,Přehled_body!$E$1:$ED$1,0)),)=0,0.00000000001,IFERROR(INDEX(Přehled_body!$E$3:$ED$130,MATCH(Tabulka!$AI83,Přehled_body!$A$3:$A$130,0),MATCH(Tabulka!AA$2,Přehled_body!$E$1:$ED$1,0)),)))","v":0},{"$f":"IF(IFERROR(INDEX(Přehled_body!$E$3:$ED$130,MATCH(Tabulka!$AI83,Přehled_body!$A$3:$A$130,0),MATCH(Tabulka!AB$2,Přehled_body!$E$1:$ED$1,0)),)=\"\",,IF(IFERROR(INDEX(Přehled_body!$E$3:$ED$130,MATCH(Tabulka!$AI83,Přehled_body!$A$3:$A$130,0),MATCH(Tabulka!AB$2,Přehled_body!$E$1:$ED$1,0)),)=0,0.00000000001,IFERROR(INDEX(Přehled_body!$E$3:$ED$130,MATCH(Tabulka!$AI83,Přehled_body!$A$3:$A$130,0),MATCH(Tabulka!AB$2,Přehled_body!$E$1:$ED$1,0)),)))","v":0},{"$f":"IF(IFERROR(INDEX(Přehled_body!$E$3:$ED$130,MATCH(Tabulka!$AI83,Přehled_body!$A$3:$A$130,0),MATCH(Tabulka!AC$2,Přehled_body!$E$1:$ED$1,0)),)=\"\",,IF(IFERROR(INDEX(Přehled_body!$E$3:$ED$130,MATCH(Tabulka!$AI83,Přehled_body!$A$3:$A$130,0),MATCH(Tabulka!AC$2,Přehled_body!$E$1:$ED$1,0)),)=0,0.00000000001,IFERROR(INDEX(Přehled_body!$E$3:$ED$130,MATCH(Tabulka!$AI83,Přehled_body!$A$3:$A$130,0),MATCH(Tabulka!AC$2,Přehled_body!$E$1:$ED$1,0)),)))","v":0},{"$f":"IF(IFERROR(INDEX(Přehled_body!$E$3:$ED$130,MATCH(Tabulka!$AI83,Přehled_body!$A$3:$A$130,0),MATCH(Tabulka!AD$2,Přehled_body!$E$1:$ED$1,0)),)=\"\",,IF(IFERROR(INDEX(Přehled_body!$E$3:$ED$130,MATCH(Tabulka!$AI83,Přehled_body!$A$3:$A$130,0),MATCH(Tabulka!AD$2,Přehled_body!$E$1:$ED$1,0)),)=0,0.00000000001,IFERROR(INDEX(Přehled_body!$E$3:$ED$130,MATCH(Tabulka!$AI83,Přehled_body!$A$3:$A$130,0),MATCH(Tabulka!AD$2,Přehled_body!$E$1:$ED$1,0)),)))","v":0},{"$f":"IF(SUM($D$79:$AD$83)<1,-90000,SUM(D83:AD83))","v":-90000},null,null,null,{"$f":"CONCATENATE($B$80,\" \",$B$81,C83)","v":"Iva IvankaPoč. kol"}]

{"sheet":"Pořadí","index":2,"n_rows":54,"n_cols":19,"rows_kept":54,"cut":false,"hidden":false,"merged":[[52,9,52,10],[53,9,53,10],[52,3,52,4],[52,6,52,7],[53,3,53,4],[53,6,53,7],[35,3,35,4],[35,6,35,7],[35,9,35,10],[36,3,36,4],[36,6,36,7],[36,9,36,10],[38,3,38,4],[38,6,38,7],[38,9,38,10],[39,3,39,4],[39,6,39,7],[39,9,39,10],[40,3,40,4],[40,6,40,7],[40,9,40,10],[44,9,44,10],[41,3,41,4],[41,6,41,7],[41,9,41,10],[42,3,42,4],[24,3,24,4],[24,6,24,7],[24,9,24,10],[0,0,0,7],[25,3,25,4],[25,6,25,7],[25,9,25,10],[20,1,20,2],[20,3,20,5],[20,6,20,8],[20,9,20,11],[21,3,21,4],[21,6,21,7],[21,9,21,10],[22,3,22,4],[22,6,22,7],[26,3,26,4],[26,6,26,7],[26,9,26,10],[27,3,27,4],[27,6,27,7],[27,9,27,10],[28,3,28,4],[28,6,28,7],[28,9,28,10],[29,3,29,4],[29,6,29,7],[29,9,29,10],[30,3,30,4],[30,6,30,7],[30,9,30,10],[31,3,31,4],[31,6,31,7],[31,9,31,10],[32,6,32,7],[32,9,32,10],[33,3,33,4],[33,6,33,7],[33,9,33,10],[37,1,37,2],[37,3,37,5],[37,6,37,8],[37,9,37,11],[42,6,42,7],[42,9,42,10],[22,9,22,10],[23,3,23,4],[23,6,23,7],[23,9,23,10],[49,3,49,4],[49,6,49,7],[49,9,49,10],[45,3,45,4],[45,6,45,7],[45,9,45,10],[46,3,46,4],[46,6,46,7],[46,9,46,10],[43,3,43,4],[43,6,43,7],[43,9,43,10],[34,3,34,4],[34,6,34,7],[34,9,34,10],[44,3,44,4],[44,6,44,7],[32,3,32,4],[51,3,51,4],[51,6,51,7],[50,3,50,4],[50,6,50,7],[50,9,50,10],[47,3,47,4],[47,6,47,7],[47,9,47,10],[48,3,48,4],[48,6,48,7],[48,9,48,10],[51,9,51,10]]}
[{"$f":"\"Pořadí v šípech k \"&TEXT(MAX(Tabulka!D2:AE2),\"ddd d. M. rrrr\")&\"      na www.sipy.zlatyruce.cz\"","v":"Pořadí v šípech k út 12. 10. 2021      na www.sipy.zlatyruce.cz"}]
["Pořadí","Jméno","Body","Výhry","Prohry","Přehozy","Počet her","Plac. panáků","Účast dny","Průměr\nzůst.\nbodů",null,null,null,"Jméno","Průměr konečných bodů na kolo"]
[1,{"$f":"List4!S2","v":"Milan Veselý"},{"$f":"IF(List4!K2<-88888,-90000,INDEX(List4!$S$2:$U$17,MATCH(B3,List4!$S$2:$S$17,0),3))","v":13.000002079950001},{"$f":"INDEX(Tabulka!$A$4:$AF$84,MATCH(B3,Tabulka!$A$4:$A$84,0)-1,31)","v":18},{"$f":"INDEX(Tabulka!$B$4:$AF$84,MATCH(B3,Tabulka!$A$4:$A$84,0),30)","v":5.00000000005},{"$f":"INDEX(Tabulka!$B$4:$AF$84,MATCH(B3,Tabulka!$A$4:$A$84,0)+2,30)","v":10.00000000004},{"$f":"INDEX(Tabulka!$B$4:$AF$84,MATCH(B3,Tabulka!$A$4:$A$84,0)+3,30)","v":39},{"$f":"INDEX(Tabulka!$B$4:$AF$84,MATCH(B3,Tabulka!$A$4:$A$84,0)+1,30)","v":6.00000000005},{"$f":"INDEX(Tabulka!$AG$4:$AG$84,MATCH($B3,Tabulka!$A$4:$A$84,0)-1,1)","v":10},{"$f":"List4!AC2","v":27.923079223076922},null,null,null,{"$f":"IFERROR(List4!AB2,\"\")","v":"Kuba Šedivý"},{"$f":"IFERROR(List4!AA2,\"\")","v":19.000002169999998},null,null,null,"Výhry"]
[2,{"$f":"List4!S3","v":"Jarda Klein"},{"$f":"IF(List4!K3<-88888,-90000,INDEX(List4!$S$2:$U$17,MATCH(B4,List4!$S$2:$S$17,0),3))","v":6.0000021599700002},{"$f":"INDEX(Tabulka!$A$4:$AF$84,MATCH(B4,Tabulka!$A$4:$A$84,0)-1,31)","v":11.00000000002},{"$f":"INDEX(Tabulka!$B$4:$AF$84,MATCH(B4,Tabulka!$A$4:$A$84,0),30)","v":5.00000000005},{"$f":"INDEX(Tabulka!$B$4:$AF$84,MATCH(B4,Tabulka!$A$4:$A$84,0)+2,30)","v":14.00000000002},{"$f":"INDEX(Tabulka!$B$4:$AF$84,MATCH(B4,Tabulka!$A$4:$A$84,0)+3,30)","v":35},{"$f":"INDEX(Tabulka!$B$4:$AF$84,MATCH(B4,Tabulka!$A$4:$A$84,0)+1,30)","v":7.00000000005},{"$f":"INDEX(Tabulka!$AG$4:$AG$84,MATCH($B4,Tabulka!$A$4:$A$84,0)-1,1)","v":9},{"$f":"List4!AC3","v":38.800002309999996},null,null,null,{"$f":"IFERROR(List4!AB3,\"\")","v":"Milan Veselý"},{"$f":"IFERROR(List4!AA3,\"\")","v":27.923079123076924},null,null,null,"Prohry"]
[3,{"$f":"List4!S4","v":"Libor Hruška"},{"$f":"IF(List4!K4<-88888,-90000,INDEX(List4!$S$2:$U$17,MATCH(B5,List4!$S$2:$S$17,0),3))","v":6.0000021899499982},{"$f":"INDEX(Tabulka!$A$4:$AF$84,MATCH(B5,Tabulka!$A$4:$A$84,0)-1,31)","v":8.0000000000399982},{"$f":"INDEX(Tabulka!$B$4:$AF$84,MATCH(B5,Tabulka!$A$4:$A$84,0),30)","v":2.00000000009},{"$f":"INDEX(Tabulka!$B$4:$AF$84,MATCH(B5,Tabulka!$A$4:$A$84,0)+2,30)","v":10.000000000039998},{"$f":"INDEX(Tabulka!$B$4:$AF$84,MATCH(B5,Tabulka!$A$4:$A$84,0)+3,30)","v":39},{"$f":"INDEX(Tabulka!$B$4:$AF$84,MATCH(B5,Tabulka!$A$4:$A$84,0)+1,30)","v":2.00000000009},{"$f":"INDEX(Tabulka!$AG$4:$AG$84,MATCH($B5,Tabulka!$A$4:$A$84,0)-1,1)","v":10},{"$f":"List4!AC4","v":46.897438217435898},null,null,null,{"$f":"IFERROR(List4!AB4,\"\")","v":"Jarda Klein"},{"$f":"IFERROR(List4!AA4,\"\")","v":38.800002189999994},null,null,null,"Placeno panáků"]
[4,{"$f":"List4!S5","v":"Kuba Šedivý"},{"$f":"IF(List4!K5<-88888,-90000,INDEX(List4!$S$2:$U$17,MATCH(B6,List4!$S$2:$S$17,0),3))","v":3.00000211998},{"$f":"INDEX(Tabulka!$A$4:$AF$84,MATCH(B6,Tabulka!$A$4:$A$84,0)-1,31)","v":3},{"$f":"INDEX(Tabulka!$B$4:$AF$84,MATCH(B6,Tabulka!$A$4:$A$84,0),30)","v":1.9999999999999999E-11},{"$f":"INDEX(Tabulka!$B$4:$AF$84,MATCH(B6,Tabulka!$A$4:$A$84,0)+2,30)","v":6},{"$f":"INDEX(Tabulka!$B$4:$AF$84,MATCH(B6,Tabulka!$A$4:$A$84,0)+3,30)","v":7},{"$f":"INDEX(Tabulka!$B$4:$AF$84,MATCH(B6,Tabulka!$A$4:$A$84,0)+1,30)","v":1.9999999999999999E-11},{"$f":"INDEX(Tabulka!$AG$4:$AG$84,MATCH($B6,Tabulka!$A$4:$A$84,0)-1,1)","v":2},{"$f":"List4!AC5","v":19.000002330000001},null,null,null,{"$f":"IFERROR(List4!AB5,\"\")","v":"Libor Hruška"},{"$f":"IFERROR(List4!AA5,\"\")","v":46.897438077435901},null,null,null,"Přehozy"]
[5,{"$f":"List4!S6","v":"Standa Roth"},{"$f":"IF(List4!K6<-88888,-90000,INDEX(List4!$S$2:$U$17,MATCH(B7,List4!$S$2:$S$17,0),3))","v":2.0000021299799999},{"$f":"INDEX(Tabulka!$A$4:$AF$84,MATCH(B7,Tabulka!$A$4:$A$84,0)-1,31)","v":6.00000000004},{"$f":"INDEX(Tabulka!$B$4:$AF$84,MATCH(B7,Tabulka!$A$4:$A$84,0),30)","v":4.00000000006},{"$f":"INDEX(Tabulka!$B$4:$AF$84,MATCH(B7,Tabulka!$A$4:$A$84,0)+2,30)","v":7.00000000006},{"$f":"INDEX(Tabulka!$B$4:$AF$84,MATCH(B7,Tabulka!$A$4:$A$84,0)+3,30)","v":35},{"$f":"INDEX(Tabulka!$B$4:$AF$84,MATCH(B7,Tabulka!$A$4:$A$84,0)+1,30)","v":7.00000000006},{"$f":"INDEX(Tabulka!$AG$4:$AG$84,MATCH($B7,Tabulka!$A$4:$A$84,0)-1,1)","v":9},{"$f":"List4!AC6","v":58.257145197142862},null,null,null,{"$f":"IFERROR(List4!AB6,\"\")","v":"Standa Roth"},{"$f":"IFERROR(List4!AA6,\"\")","v":58.257145017142861},null,null,null,"Poč. kol"]
[6,{"$f":"List4!S7","v":"Ostatní hráči"},{"$f":"IF(List4!K7<-88888,-90000,INDEX(List4!$S$2:$U$17,MATCH(B8,List4!$S$2:$S$17,0),3))","v":-0.99999790999999993},{"$f":"INDEX(Tabulka!$A$4:$AF$84,MATCH(B8,Tabulka!$A$4:$A$84,0)-1,31)","v":1},{"$f":"INDEX(Tabulka!$B$4:$AF$84,MATCH(B8,Tabulka!$A$4:$A$84,0),30)","v":2},{"$f":"INDEX(Tabulka!$B$4:$AF$84,MATCH(B8,Tabulka!$A$4:$A$84,0)+2,30)","v":9.9999999999999994E-12},{"$f":"INDEX(Tabulka!$B$4:$AF$84,MATCH(B8,Tabulka!$A$4:$A$84,0)+3,30)","v":4},{"$f":"INDEX(Tabulka!$B$4:$AF$84,MATCH(B8,Tabulka!$A$4:$A$84,0)+1,30)","v":2},{"$f":"INDEX(Tabulka!$AG$4:$AG$84,MATCH($B8,Tabulka!$A$4:$A$84,0)-1,1)","v":1},{"$f":"List4!AC7","v":141.50000234999999},null,null,null,{"$f":"IFERROR(List4!AB7,\"\")","v":"Míra Šedivý"},{"$f":"IFERROR(List4!AA7,\"\")","v":73.100002129999993},null,null,null,"Počet konečných bodů"]
[7,{"$f":"List4!S8","v":"Míra Chalupník"},{"$f":"IF(List4!K8<-88888,-90000,INDEX(List4!$S$2:$U$17,MATCH(B9,List4!$S$2:$S$17,0),3))","v":-1.9999978199900001},{"$f":"INDEX(Tabulka!$A$4:$AF$84,MATCH(B9,Tabulka!$A$4:$A$84,0)-1,31)","v":9.9999999999999994E-12},{"$f":"INDEX(Tabulka!$B$4:$AF$84,MATCH(B9,Tabulka!$A$4:$A$84,0),30)","v":2},{"$f":"INDEX(Tabulka!$B$4:$AF$84,MATCH(B9,Tabulka!$A$4:$A$84,0)+2,30)","v":1},{"$f":"INDEX(Tabulka!$B$4:$AF$84,MATCH(B9,Tabulka!$A$4:$A$84,0)+3,30)","v":4},{"$f":"INDEX(Tabulka!$B$4:$AF$84,MATCH(B9,Tabulka!$A$4:$A$84,0)+1,30)","v":2},{"$f":"INDEX(Tabulka!$AG$4:$AG$84,MATCH($B9,Tabulka!$A$4:$A$84,0)-1,1)","v":1},{"$f":"List4!AC8","v":81.250002359999996},null,null,null,{"$f":"IFERROR(List4!AB8,\"\")","v":"Jiří Blín"},{"$f":"IFERROR(List4!AA8,\"\")","v":74.769232879230771},null,null,null,"Průměr konečných bodů na kolo"]
[8,{"$f":"List4!S9","v":"Míra Šedivý"},{"$f":"IF(List4!K9<-88888,-90000,INDEX(List4!$S$2:$U$17,MATCH(B10,List4!$S$2:$S$17,0),3))","v":-3.9999978899699999},{"$f":"INDEX(Tabulka!$A$4:$AF$84,MATCH(B10,Tabulka!$A$4:$A$84,0)-1,31)","v":4.9999999999999995E-11},{"$f":"INDEX(Tabulka!$B$4:$AF$84,MATCH(B10,Tabulka!$A$4:$A$84,0),30)","v":4.00000000002},{"$f":"INDEX(Tabulka!$B$4:$AF$84,MATCH(B10,Tabulka!$A$4:$A$84,0)+2,30)","v":4.9999999999999995E-11},{"$f":"INDEX(Tabulka!$B$4:$AF$84,MATCH(B10,Tabulka!$A$4:$A$84,0)+3,30)","v":20},{"$f":"INDEX(Tabulka!$B$4:$AF$84,MATCH(B10,Tabulka!$A$4:$A$84,0)+1,30)","v":4.00000000002},{"$f":"INDEX(Tabulka!$AG$4:$AG$84,MATCH($B10,Tabulka!$A$4:$A$84,0)-1,1)","v":5},{"$f":"List4!AC9","v":73.100002369999999},null,null,null,{"$f":"IFERROR(List4!AB9,\"\")","v":"Míra Chalupník"},{"$f":"IFERROR(List4!AA9,\"\")","v":81.250002140000007}]
[9,{"$f":"List4!S10","v":"Adam Šmíd"},{"$f":"IF(List4!K10<-88888,-90000,INDEX(List4!$S$2:$U$17,MATCH(B11,List4!$S$2:$S$17,0),3))","v":-3.9999978999599999},{"$f":"INDEX(Tabulka!$A$4:$AF$84,MATCH(B11,Tabulka!$A$4:$A$84,0)-1,31)","v":7.0000000000000004E-11},{"$f":"INDEX(Tabulka!$B$4:$AF$84,MATCH(B11,Tabulka!$A$4:$A$84,0),30)","v":4.00000000003},{"$f":"INDEX(Tabulka!$B$4:$AF$84,MATCH(B11,Tabulka!$A$4:$A$84,0)+2,30)","v":2.00000000006},{"$f":"INDEX(Tabulka!$B$4:$AF$84,MATCH(B11,Tabulka!$A$4:$A$84,0)+3,30)","v":12},{"$f":"INDEX(Tabulka!$B$4:$AF$84,MATCH(B11,Tabulka!$A$4:$A$84,0)+1,30)","v":10.00000000002},{"$f":"INDEX(Tabulka!$AG$4:$AG$84,MATCH($B11,Tabulka!$A$4:$A$84,0)-1,1)","v":7},{"$f":"List4!AC10","v":93.916669046666669},null,null,null,{"$f":"IFERROR(List4!AB10,\"\")","v":"Adam Šmíd"},{"$f":"IFERROR(List4!AA10,\"\")","v":93.916668786666676}]
[10,{"$f":"List4!S11","v":"Jiří Blín"},{"$f":"IF(List4!K11<-88888,-90000,INDEX(List4!$S$2:$U$17,MATCH(B12,List4!$S$2:$S$17,0),3))","v":-7.9999977899599992},{"$f":"INDEX(Tabulka!$A$4:$AF$84,MATCH(B12,Tabulka!$A$4:$A$84,0)-1,31)","v":3.00000000007},{"$f":"INDEX(Tabulka!$B$4:$AF$84,MATCH(B12,Tabulka!$A$4:$A$84,0),30)","v":11.000000000029999},{"$f":"INDEX(Tabulka!$B$4:$AF$84,MATCH(B12,Tabulka!$A$4:$A$84,0)+2,30)","v":6.00000000007},{"$f":"INDEX(Tabulka!$B$4:$AF$84,MATCH(B12,Tabulka!$A$4:$A$84,0)+3,30)","v":39},{"$f":"INDEX(Tabulka!$B$4:$AF$84,MATCH(B12,Tabulka!$A$4:$A$84,0)+1,30)","v":15.000000000029997},{"$f":"INDEX(Tabulka!$AG$4:$AG$84,MATCH($B12,Tabulka!$A$4:$A$84,0)-1,1)","v":10},{"$f":"List4!AC11","v":74.76923315923078},null,null,null,{"$f":"IFERROR(List4!AB11,\"\")","v":"Ostatní hráči"},{"$f":"IFERROR(List4!AA11,\"\")","v":141.50000215}]
[11,{"$f":"List4!S12","v":"Jiří Fiala"},{"$f":"IF(List4!K12<-88888,-90000,INDEX(List4!$S$2:$U$17,MATCH(B13,List4!$S$2:$S$17,0),3))","v":-90000},{"$f":"INDEX(Tabulka!$A$4:$AF$84,MATCH(B13,Tabulka!$A$4:$A$84,0)-1,31)","v":-90000},{"$f":"INDEX(Tabulka!$B$4:$AF$84,MATCH(B13,Tabulka!$A$4:$A$84,0),30)","v":-90000},{"$f":"INDEX(Tabulka!$B$4:$AF$84,MATCH(B13,Tabulka!$A$4:$A$84,0)+2,30)","v":-90000},{"$f":"INDEX(Tabulka!$B$4:$AF$84,MATCH(B13,Tabulka!$A$4:$A$84,0)+3,30)","v":-90000},{"$f":"INDEX(Tabulka!$B$4:$AF$84,MATCH(B13,Tabulka!$A$4:$A$84,0)+1,30)","v":-90000},{"$f":"INDEX(Tabulka!$AG$4:$AG$84,MATCH($B13,Tabulka!$A$4:$A$84,0)-1,1)","v":0},{"$f":"List4!AC12","v":90000.000002400004},null,null,null,{"$f":"IFERROR(List4!AB12,\"\")","v":"Jiří Fiala"},{"$f":"IFERROR(List4!AA12,\"\")","v":"Neklas"}]
[12,{"$f":"List4!S13","v":"Iva Ivanka"},{"$f":"IF(List4!K13<-88888,-90000,INDEX(List4!$S$2:$U$17,MATCH(B14,List4!$S$2:$S$17,0),3))","v":-90000},{"$f":"INDEX(Tabulka!$A$4:$AF$84,MATCH(B14,Tabulka!$A$4:$A$84,0)-1,31)","v":-90000},{"$f":"INDEX(Tabulka!$B$4:$AF$84,MATCH(B14,Tabulka!$A$4:$A$84,0),30)","v":-90000},{"$f":"INDEX(Tabulka!$B$4:$AF$84,MATCH(B14,Tabulka!$A$4:$A$84,0)+2,30)","v":-90000},{"$f":"INDEX(Tabulka!$B$4:$AF$84,MATCH(B14,Tabulka!$A$4:$A$84,0)+3,30)","v":-90000},{"$f":"INDEX(Tabulka!$B$4:$AF$84,MATCH(B14,Tabulka!$A$4:$A$84,0)+1,30)","v":-90000},{"$f":"INDEX(Tabulka!$AG$4:$AG$84,MATCH($B14,Tabulka!$A$4:$A$84,0)-1,1)","v":0},{"$f":"List4!AC13","v":90000.000002410001},null,null,null,{"$f":"IFERROR(List4!AB13,\"\")","v":"Iva Ivanka"},{"$f":"IFERROR(List4!AA13,\"\")","v":"Neklas"}]
[13,{"$f":"List4!S14","v":"Míra Kulhan"},{"$f":"IF(List4!K14<-88888,-90000,INDEX(List4!$S$2:$U$17,MATCH(B15,List4!$S$2:$S$17,0),3))","v":-90000},{"$f":"INDEX(Tabulka!$A$4:$AF$84,MATCH(B15,Tabulka!$A$4:$A$84,0)-1,31)","v":-90000},{"$f":"INDEX(Tabulka!$B$4:$AF$84,MATCH(B15,Tabulka!$A$4:$A$84,0),30)","v":-90000},{"$f":"INDEX(Tabulka!$B$4:$AF$84,MATCH(B15,Tabulka!$A$4:$A$84,0)+2,30)","v":-90000},{"$f":"INDEX(Tabulka!$B$4:$AF$84,MATCH(B15,Tabulka!$A$4:$A$84,0)+3,30)","v":-90000},{"$f":"INDEX(Tabulka!$B$4:$AF$84,MATCH(B15,Tabulka!$A$4:$A$84,0)+1,30)","v":-90000},{"$f":"INDEX(Tabulka!$AG$4:$AG$84,MATCH($B15,Tabulka!$A$4:$A$84,0)-1,1)","v":0},{"$f":"List4!AC14","v":90000.000002419998},null,null,null,{"$f":"IFERROR(List4!AB14,\"\")","v":"Míra Kulhan"},{"$f":"IFERROR(List4!AA14,\"\")","v":"Neklas"}]
[14,{"$f":"List4!S15","v":"Pavel Pernekr"},{"$f":"IF(List4!K15<-88888,-90000,INDEX(List4!$S$2:$U$17,MATCH(B16,List4!$S$2:$S$17,0),3))","v":-90000},{"$f":"INDEX(Tabulka!$A$4:$AF$84,MATCH(B16,Tabulka!$A$4:$A$84,0)-1,31)","v":-90000},{"$f":"INDEX(Tabulka!$B$4:$AF$84,MATCH(B16,Tabulka!$A$4:$A$84,0),30)","v":-90000},{"$f":"INDEX(Tabulka!$B$4:$AF$84,MATCH(B16,Tabulka!$A$4:$A$84,0)+2,30)","v":-90000},{"$f":"INDEX(Tabulka!$B$4:$AF$84,MATCH(B16,Tabulka!$A$4:$A$84,0)+3,30)","v":-90000},{"$f":"INDEX(Tabulka!$B$4:$AF$84,MATCH(B16,Tabulka!$A$4:$A$84,0)+1,30)","v":-90000},{"$f":"INDEX(Tabulka!$AG$4:$AG$84,MATCH($B16,Tabulka!$A$4:$A$84,0)-1,1)","v":0},{"$f":"List4!AC15","v":90000.000002429995},null,null,null,{"$f":"IFERROR(List4!AB15,\"\")","v":"Pavel Pernekr"},{"$f":"IFERROR(List4!AA15,\"\")","v":"Neklas"}]
[15,{"$f":"List4!S16","v":"Petr Weiner"},{"$f":"IF(List4!K16<-88888,-90000,INDEX(List4!$S$2:$U$17,MATCH(B17,List4!$S$2:$S$17,0),3))","v":-90000},{"$f":"INDEX(Tabulka!$A$4:$AF$84,MATCH(B17,Tabulka!$A$4:$A$84,0)-1,31)","v":-90000},{"$f":"INDEX(Tabulka!$B$4:$AF$84,MATCH(B17,Tabulka!$A$4:$A$84,0),30)","v":-90000},{"$f":"INDEX(Tabulka!$B$4:$AF$84,MATCH(B17,Tabulka!$A$4:$A$84,0)+2,30)","v":-90000},{"$f":"INDEX(Tabulka!$B$4:$AF$84,MATCH(B17,Tabulka!$A$4:$A$84,0)+3,30)","v":-90000},{"$f":"INDEX(Tabulka!$B$4:$AF$84,MATCH(B17,Tabulka!$A$4:$A$84,0)+1,30)","v":-90000},{"$f":"INDEX(Tabulka!$AG$4:$AG$84,MATCH($B17,Tabulka!$A$4:$A$84,0)-1,1)","v":0},{"$f":"List4!AC16","v":90000.000002440007},null,null,null,{"$f":"IFERROR(List4!AB16,\"\")","v":"Petr Weiner"},{"$f":"IFERROR(List4!AA16,\"\")","v":"Neklas"}]
[16,{"$f":"List4!S17","v":"Míla Weinerová"},{"$f":"IF(List4!K17<-88888,-90000,INDEX(List4!$S$2:$U$17,MATCH(B18,List4!$S$2:$S$17,0),3))","v":-90000},{"$f":"INDEX(Tabulka!$A$4:$AF$84,MATCH(B18,Tabulka!$A$4:$A$84,0)-1,31)","v":-90000},{"$f":"INDEX(Tabulka!$B$4:$AF$84,MATCH(B18,Tabulka!$A$4:$A$84,0),30)","v":-90000},{"$f":"INDEX(Tabulka!$B$4:$AF$84,MATCH(B18,Tabulka!$A$4:$A$84,0)+2,30)","v":-90000},{"$f":"INDEX(Tabulka!$B$4:$AF$84,MATCH(B18,Tabulka!$A$4:$A$84,0)+3,30)","v":-90000},{"$f":"INDEX(Tabulka!$B$4:$AF$84,MATCH(B18,Tabulka!$A$4:$A$84,0)+1,30)","v":-90000},{"$f":"INDEX(Tabulka!$AG$4:$AG$84,MATCH($B18,Tabulka!$A$4:$A$84,0)-1,1)","v":0},{"$f":"List4!AC17","v":90000.000002450004},null,null,null,{"$f":"IFERROR(List4!AB17,\"\")","v":"Míla Weinerová"},{"$f":"IFERROR(List4!AA17,\"\")","v":"Neklas"}]
[]
[]
["Pořadí",{"$f":"List4!AI21","v":"Výhry"},null,{"$f":"List4!AL21","v":"Prohry"},null,null,{"$f":"List4!AO21","v":"Placeno panáků"},null,null,{"$f":"List4!AR21","v":"Přehozy"}]
[1,{"$f":"List4!AI22","v":"Milan Veselý"},{"$f":"List4!AJ22","v":18.000002070000001},{"$f":"List4!AL22","v":"Kuba Šedivý"},null,{"$f":"List4!AM22","v":2.3900199999999993E-6},{"$f":"List4!AO22","v":"Kuba Šedivý"},null,{"$f":"List4!AP22","v":2.3900199999999993E-6},{"$f":"List4!AR22","v":"Míra Šedivý"},null,{"$f":"List4!AS22","v":2.4000499999999992E-6}]
[2,{"$f":"List4!AI23","v":"Jarda Klein"},{"$f":"List4!AJ23","v":11.00000215002},{"$f":"List4!AL23","v":"Libor Hruška"},null,{"$f":"List4!AM23","v":2.0000023200900001},{"$f":"List4!AO23","v":"Libor Hruška"},null,{"$f":"List4!AP23","v":2.0000023200900001},{"$f":"List4!AR23","v":"Ostatní hráči"},null,{"$f":"List4!AS23","v":2.4200099999999987E-6}]
[3,{"$f":"List4!AI24","v":"Libor Hruška"},{"$f":"List4!AJ24","v":8.0000021800399974},{"$f":"List4!AL24","v":"Míra Chalupník"},null,{"$f":"List4!AM24","v":2.0000023300000001},{"$f":"List4!AO24","v":"Míra Chalupník"},null,{"$f":"List4!AP24","v":2.0000023300000001},{"$f":"List4!AR24","v":"Míra Chalupník"},null,{"$f":"List4!AS24","v":1.0000023300000001}]
[4,{"$f":"List4!AI25","v":"Standa Roth"},{"$f":"List4!AJ25","v":6.0000021200400004},{"$f":"List4!AL25","v":"Ostatní hráči"},null,{"$f":"List4!AM25","v":2.0000024199999999},{"$f":"List4!AO25","v":"Ostatní hráči"},null,{"$f":"List4!AP25","v":2.0000024199999999},{"$f":"List4!AR25","v":"Adam Šmíd"},null,{"$f":"List4!AS25","v":2.00000241006}]
[5,{"$f":"List4!AI26","v":"Jiří Blín"},{"$f":"List4!AJ26","v":3.00000220007},{"$f":"List4!AL26","v":"Standa Roth"},null,{"$f":"List4!AM26","v":4.0000023800599998},{"$f":"List4!AO26","v":"Míra Šedivý"},null,{"$f":"List4!AP26","v":4.0000024000199996},{"$f":"List4!AR26","v":"Jiří Blín"},null,{"$f":"List4!AS26","v":6.0000023000700002}]
[6,{"$f":"List4!AI27","v":"Kuba Šedivý"},{"$f":"List4!AJ27","v":3.0000021100000001},{"$f":"List4!AL27","v":"Míra Šedivý"},null,{"$f":"List4!AM27","v":4.0000024000199996},{"$f":"List4!AO27","v":"Milan Veselý"},null,{"$f":"List4!AP27","v":6.0000024300500003},{"$f":"List4!AR27","v":"Kuba Šedivý"},null,{"$f":"List4!AS27","v":6.0000023899999997}]
[7,{"$f":"List4!AI28","v":"Ostatní hráči"},{"$f":"List4!AJ28","v":1.00000208},{"$f":"List4!AL28","v":"Adam Šmíd"},null,{"$f":"List4!AM28","v":4.0000024100299996},{"$f":"List4!AO28","v":"Jarda Klein"},null,{"$f":"List4!AP28","v":7.0000023500499999},{"$f":"List4!AR28","v":"Standa Roth"},null,{"$f":"List4!AS28","v":7.0000023800599998}]
[8,{"$f":"List4!AI29","v":"Míra Chalupník"},{"$f":"List4!AJ29","v":2.1700100000000003E-6},{"$f":"List4!AL29","v":"Jarda Klein"},null,{"$f":"List4!AM29","v":5.0000023500499999},{"$f":"List4!AO29","v":"Standa Roth"},null,{"$f":"List4!AP29","v":7.0000023800599998},{"$f":"List4!AR29","v":"Libor Hruška"},null,{"$f":"List4!AS29","v":10.000002320039998}]
[9,{"$f":"List4!AI30","v":"Míra Šedivý"},{"$f":"List4!AJ30","v":2.1000500000000012E-6},{"$f":"List4!AL30","v":"Milan Veselý"},null,{"$f":"List4!AM30","v":5.0000024300500003},{"$f":"List4!AO30","v":"Adam Šmíd"},null,{"$f":"List4!AP30","v":10.00000241002},{"$f":"List4!AR30","v":"Milan Veselý"},null,{"$f":"List4!AS30","v":10.00000243004}]
[10,{"$f":"List4!AI31","v":"Adam Šmíd"},{"$f":"List4!AJ31","v":2.090070000000001E-6},{"$f":"List4!AL31","v":"Jiří Blín"},null,{"$f":"List4!AM31","v":11.000002300029999},{"$f":"List4!AO31","v":"Jiří Blín"},null,{"$f":"List4!AP31","v":15.000002300029998},{"$f":"List4!AR31","v":"Jarda Klein"},null,{"$f":"List4!AS31","v":14.000002350020001}]
[11,{"$f":"List4!AI32","v":"Jiří Fiala"},{"$f":"List4!AJ32","v":"Neklas"},{"$f":"List4!AL32","v":"Jiří Fiala"},null,{"$f":"List4!AM32","v":"Neklas"},{"$f":"List4!AO32","v":"Jiří Fiala"},null,{"$f":"List4!AP32","v":"Neklas"},{"$f":"List4!AR32","v":"Jiří Fiala"},null,{"$f":"List4!AS32","v":"Neklas"}]
[12,{"$f":"List4!AI33","v":"Iva Ivanka"},{"$f":"List4!AJ33","v":"Neklas"},{"$f":"List4!AL33","v":"Iva Ivanka"},null,{"$f":"List4!AM33","v":"Neklas"},{"$f":"List4!AO33","v":"Iva Ivanka"},null,{"$f":"List4!AP33","v":"Neklas"},{"$f":"List4!AR33","v":"Iva Ivanka"},null,{"$f":"List4!AS33","v":"Neklas"}]
[13,{"$f":"List4!AI34","v":"Míra Kulhan"},{"$f":"List4!AJ34","v":"Neklas"},{"$f":"List4!AL34","v":"Míra Kulhan"},null,{"$f":"List4!AM34","v":"Neklas"},{"$f":"List4!AO34","v":"Míra Kulhan"},null,{"$f":"List4!AP34","v":"Neklas"},{"$f":"List4!AR34","v":"Míra Kulhan"},null,{"$f":"List4!AS34","v":"Neklas"}]
[14,{"$f":"List4!AI35","v":"Pavel Pernekr"},{"$f":"List4!AJ35","v":"Neklas"},{"$f":"List4!AL35","v":"Pavel Pernekr"},null,{"$f":"List4!AM35","v":"Neklas"},{"$f":"List4!AO35","v":"Pavel Pernekr"},null,{"$f":"List4!AP35","v":"Neklas"},{"$f":"List4!AR35","v":"Pavel Pernekr"},null,{"$f":"List4!AS35","v":"Neklas"}]
[15,{"$f":"List4!AI36","v":"Petr Weiner"},{"$f":"List4!AJ36","v":"Neklas"},{"$f":"List4!AL36","v":"Petr Weiner"},null,{"$f":"List4!AM36","v":"Neklas"},{"$f":"List4!AO36","v":"Petr Weiner"},null,{"$f":"List4!AP36","v":"Neklas"},{"$f":"List4!AR36","v":"Petr Weiner"},null,{"$f":"List4!AS36","v":"Neklas"}]
[16,{"$f":"List4!AI37","v":"Míla Weinerová"},{"$f":"List4!AJ37","v":"Neklas"},{"$f":"List4!AL37","v":"Míla Weinerová"},null,{"$f":"List4!AM37","v":"Neklas"},{"$f":"List4!AO37","v":"Míla Weinerová"},null,{"$f":"List4!AP37","v":"Neklas"},{"$f":"List4!AR37","v":"Míla Weinerová"},null,{"$f":"List4!AS37","v":"Neklas"}]
["Pořadí",{"$f":"List4!AI38","v":"Poč. kol"},null,"Celkem zůstatek bodů",null,null,"Průměr zůstatek bodů",null,null,"Účast dny"]
[1,{"$f":"List4!AI39","v":"Jiří Blín"},{"$f":"List4!AJ39","v":39.000002199999997},{"$f":"List4!AL39","v":"Kuba Šedivý"},null,{"$f":"List4!AM39","v":133.00000233},{"$f":"List4!AO39","v":"Kuba Šedivý"},null,{"$f":"List4!AP39","v":19.000002330000001},{"$f":"List4!AR39","v":"Jiří Blín"},null,{"$f":"IF(List4!AS39<-89000,\"Neklas\",List4!AS39)","v":10.000002200000001}]
[2,{"$f":"List4!AI40","v":"Libor Hruška"},{"$f":"List4!AJ40","v":39.000002180000003},{"$f":"List4!AL40","v":"Míra Chalupník"},null,{"$f":"List4!AM40","v":325.00000236},{"$f":"List4!AO40","v":"Milan Veselý"},null,{"$f":"List4!AP40","v":27.923079223076922},{"$f":"List4!AR40","v":"Libor Hruška"},null,{"$f":"IF(List4!AS40<-89000,\"Neklas\",List4!AS40)","v":10.000002179999999}]
[3,{"$f":"List4!AI41","v":"Milan Veselý"},{"$f":"List4!AJ41","v":39.000002070000001},{"$f":"List4!AL41","v":"Ostatní hráči"},null,{"$f":"List4!AM41","v":566.00000235000005},{"$f":"List4!AO41","v":"Jarda Klein"},null,{"$f":"List4!AP41","v":38.800002309999996},{"$f":"List4!AR41","v":"Milan Veselý"},null,{"$f":"IF(List4!AS41<-89000,\"Neklas\",List4!AS41)","v":10.000002070000001}]
[4,{"$f":"List4!AI42","v":"Jarda Klein"},{"$f":"List4!AJ42","v":35.00000215},{"$f":"List4!AL42","v":"Milan Veselý"},null,{"$f":"List4!AM42","v":1089.0000023},{"$f":"List4!AO42","v":"Libor Hruška"},null,{"$f":"List4!AP42","v":46.897438217435898},{"$f":"List4!AR42","v":"Jarda Klein"},null,{"$f":"IF(List4!AS42<-89000,\"Neklas\",List4!AS42)","v":9.0000021500000003}]
[5,{"$f":"List4!AI43","v":"Standa Roth"},{"$f":"List4!AJ43","v":35.000002119999998},{"$f":"List4!AL43","v":"Adam Šmíd"},null,{"$f":"List4!AM43","v":1127.0000023800001},{"$f":"List4!AO43","v":"Standa Roth"},null,{"$f":"List4!AP43","v":58.257145197142862},{"$f":"List4!AR43","v":"Standa Roth"},null,{"$f":"IF(List4!AS43<-89000,\"Neklas\",List4!AS43)","v":9.0000021199999996}]
[6,{"$f":"List4!AI44","v":"Míra Šedivý"},{"$f":"List4!AJ44","v":20.0000021},{"$f":"List4!AL44","v":"Jarda Klein"},null,{"$f":"List4!AM44","v":1358.0000023099999},{"$f":"List4!AO44","v":"Míra Šedivý"},null,{"$f":"List4!AP44","v":73.100002369999999},{"$f":"List4!AR44","v":"Adam Šmíd"},null,{"$f":"IF(List4!AS44<-89000,\"Neklas\",List4!AS44)","v":7.0000020899999997}]
[7,{"$f":"List4!AI45","v":"Adam Šmíd"},{"$f":"List4!AJ45","v":12.000002090000001},{"$f":"List4!AL45","v":"Míra Šedivý"},null,{"$f":"List4!AM45","v":1462.0000023699999},{"$f":"List4!AO45","v":"Jiří Blín"},null,{"$f":"List4!AP45","v":74.76923315923078},{"$f":"List4!AR45","v":"Míra Šedivý"},null,{"$f":"IF(List4!AS45<-89000,\"Neklas\",List4!AS45)","v":5.0000020999999997}]
[8,{"$f":"List4!AI46","v":"Kuba Šedivý"},{"$f":"List4!AJ46","v":7.0000021099999996},{"$f":"List4!AL46","v":"Libor Hruška"},null,{"$f":"List4!AM46","v":1829.00000232},{"$f":"List4!AO46","v":"Míra Chalupník"},null,{"$f":"List4!AP46","v":81.250002359999996},{"$f":"List4!AR46","v":"Kuba Šedivý"},null,{"$f":"IF(List4!AS46<-89000,\"Neklas\",List4!AS46)","v":2.0000021100000001}]
[9,{"$f":"List4!AI47","v":"Míra Chalupník"},{"$f":"List4!AJ47","v":4.0000021700000001},{"$f":"List4!AL47","v":"Standa Roth"},null,{"$f":"List4!AM47","v":2039.00000234},{"$f":"List4!AO47","v":"Adam Šmíd"},null,{"$f":"List4!AP47","v":93.916669046666669},{"$f":"List4!AR47","v":"Míra Chalupník"},null,{"$f":"IF(List4!AS47<-89000,\"Neklas\",List4!AS47)","v":1.0000021699999999}]
[10,{"$f":"List4!AI48","v":"Ostatní hráči"},{"$f":"List4!AJ48","v":4.0000020799999998},{"$f":"List4!AL48","v":"Jiří Blín"},null,{"$f":"List4!AM48","v":2916.0000023900002},{"$f":"List4!AO48","v":"Ostatní hráči"},null,{"$f":"List4!AP48","v":141.50000234999999},{"$f":"List4!AR48","v":"Ostatní hráči"},null,{"$f":"IF(List4!AS48<-89000,\"Neklas\",List4!AS48)","v":1.00000208}]
[11,{"$f":"List4!AI49","v":"Jiří Fiala"},{"$f":"List4!AJ49","v":"Neklas"},{"$f":"List4!AL49","v":"Jiří Fiala"},null,{"$f":"List4!AM49","v":"Neklas"},{"$f":"List4!AO49","v":"Jiří Fiala"},null,{"$f":"List4!AP49","v":"Neklas"},{"$f":"List4!AR49","v":"Jiří Fiala"},null,{"$f":"IF(List4!AS49<-89000,\"Neklas\",List4!AS49)","v":"Neklas"}]
[12,{"$f":"List4!AI50","v":"Iva Ivanka"},{"$f":"List4!AJ50","v":"Neklas"},{"$f":"List4!AL50","v":"Iva Ivanka"},null,{"$f":"List4!AM50","v":"Neklas"},{"$f":"List4!AO50","v":"Iva Ivanka"},null,{"$f":"List4!AP50","v":"Neklas"},{"$f":"List4!AR50","v":"Iva Ivanka"},null,{"$f":"IF(List4!AS50<-89000,\"Neklas\",List4!AS50)","v":"Neklas"}]
[13,{"$f":"List4!AI51","v":"Míra Kulhan"},{"$f":"List4!AJ51","v":"Neklas"},{"$f":"List4!AL51","v":"Míra Kulhan"},null,{"$f":"List4!AM51","v":"Neklas"},{"$f":"List4!AO51","v":"Míra Kulhan"},null,{"$f":"List4!AP51","v":"Neklas"},{"$f":"List4!AR51","v":"Míra Kulhan"},null,{"$f":"IF(List4!AS51<-89000,\"Neklas\",List4!AS51)","v":"Neklas"}]
[14,{"$f":"List4!AI52","v":"Pavel Pernekr"},{"$f":"List4!AJ52","v":"Neklas"},{"$f":"List4!AL52","v":"Pavel Pernekr"},null,{"$f":"List4!AM52","v":"Neklas"},{"$f":"List4!AO52","v":"Pavel Pernekr"},null,{"$f":"List4!AP52","v":"Neklas"},{"$f":"List4!AR52","v":"Pavel Pernekr"},null,{"$f":"IF(List4!AS52<-89000,\"Neklas\",List4!AS52)","v":"Neklas"}]
[15,{"$f":"List4!AI53","v":"Petr Weiner"},{"$f":"List4!AJ53","v":"Neklas"},{"$f":"List4!AL53","v":"Petr Weiner"},null,{"$f":"List4!AM53","v":"Neklas"},{"$f":"List4!AO53","v":"Petr Weiner"},null,{"$f":"List4!AP53","v":"Neklas"},{"$f":"List4!AR53","v":"Petr Weiner"},null,{"$f":"IF(List4!AS53<-89000,\"Neklas\",List4!AS53)","v":"Neklas"}]
[16,{"$f":"List4!AI54","v":"Míla Weinerová"},{"$f":"List4!AJ54","v":"Neklas"},{"$f":"List4!AL54","v":"Míla Weinerová"},null,{"$f":"List4!AM54","v":"Neklas"},{"$f":"List4!AO54","v":"Míla Weinerová"},null,{"$f":"List4!AP54","v":"Neklas"},{"$f":"List4!AR54","v":"Míla Weinerová"},null,{"$f":"IF(List4!AS54<-89000,\"Neklas\",List4!AS54)","v":"Neklas"}]

{"sheet":"List4","index":3,"n_rows":144,"n_cols":45,"rows_kept":144,"cut":false,"hidden":true,"merged":[[20,34,20,35],[20,37,20,38],[20,40,20,41],[20,43,20,44],[37,34,37,35],[37,37,37,38],[37,40,37,41],[37,43,37,44]]}
["Jm.tabulka","Prijmeni_jmeno","Body","Jmeno_prijmeni","index_plus","Index_minus","Sloupec4","Pozice _v_ tabulce","průměr\nzůst\nbodů","Sloupec7","Body_od nejvic","Výhry","Počet_her","Prohry","Přehozy","Placeno panáků","Sloupec12","Počet šipek","Sloupec1","Sloupec2",null,null,{"$f":"AA1","v":"Průměr konečných bodů na kolo"},null,null,null,{"$f":"Pořadí!O2","v":"Průměr konečných bodů na kolo"},{"$f":"Pořadí!O2","v":"Průměr konečných bodů na kolo"},"Průměr konečných bodů na kolo","Počet konečných bodů",null,null,null,null,"Prům. kon. bodů - jména","Průměr konečných bodů na kolo","Prům. koneč. bod","Počet koneč. bodů - jména","Počet konečných bodů","Počet koneč. bod","Účast dny","ucast_hledani",null,"Ucast_jmeno_serazeno","Ucast_dny"]
[{"$f":"INDEX(Tabulka!$A$2:$A$125,MATCH(B2,Tabulka!$A$2:$A$125,0)-1,1)","v":"Jiří Blín"},{"$f":"Tabulka!$A$36","v":"Blín Jiří"},{"$f":"IF(INDEX(Tabulka!$A$2:$AF$180,MATCH(D2,Tabulka!$A$2:$A$180,0)+3,31)<1,-90000,INDEX(Tabulka!$A$2:$AF$180,MATCH(D2,Tabulka!$A$2:$A$180,0),32))+E2","v":-7.9999977899599992},{"$f":"A2","v":"Jiří Blín"},{"$f":"0.0000022","v":2.2000000000000001E-6},{"$f":"0.0000023","v":2.3E-6},{"$f":"CONCATENATE(D2,TEXT(E2,\"0,000000000\"))","v":"Jiří Blín0,000002200"},{"$f":"IF(ISERROR(MATCH(D2,Tabulka!$A$4:$A$84,0)),,MATCH(D2,Tabulka!$A$4:$A$84,0))","v":32},null,{"$f":"INDEX($C$2:$D$17,MATCH(K2,$C$2:$C$17,0),2)","v":"Milan Veselý"},{"$f":"LARGE($C$2:$C$17,ROW(I2)-1)","v":13.000002079950001},{"$f":"INDEX(Tabulka!$A$4:$AF$84,MATCH(J2,Tabulka!$A$4:$A$84,0)-1,31)+INDEX($D$2:$E$17,MATCH(K2,$C$2:$C$17,0),2)","v":18.000002070000001},{"$f":"INDEX(Tabulka!$A$4:$AF$84,MATCH($J2,Tabulka!$A$4:$A$84,0)+3,31)+INDEX($D$2:$E$17,MATCH(K2,$C$2:$C$17,0),2)","v":39.000002070000001},{"$f":"INDEX(Tabulka!$B$4:$AF$84,MATCH(J2,Tabulka!$A$4:$A$84,0),30)+IF(K2<-89000,INDEX($E$2:$F$17,MATCH(K2,$C$2:$C$17,0),1),INDEX($E$2:$F$17,MATCH(K2,$C$2:$C$17,0),2))","v":5.0000024300500003},{"$f":"INDEX(Tabulka!$B$4:$AF$84,MATCH(J2,Tabulka!$A$4:$A$84,0)+2,30)+IF(K2<-89000,INDEX($E$2:$F$17,MATCH(K2,$C$2:$C$17,0),1),INDEX($E$2:$F$17,MATCH(K2,$C$2:$C$17,0),2))","v":10.00000243004},{"$f":"INDEX(Tabulka!$B$4:$AF$84,MATCH(J2,Tabulka!$A$4:$A$84,0)+1,30)+IF(K2<-89000,INDEX($E$2:$F$17,MATCH(K2,$C$2:$C$17,0),1),INDEX($E$2:$F$17,MATCH(K2,$C$2:$C$17,0),2))","v":6.0000024300500003},{"$f":"IF(K2<-888,K2*100000,K2*138000+IF(K2<0,IF(AVERAGE($M$2:$M$17)-20<M2,M2*100,M2*150),IF(AVERAGE($M$2:$M$17)-20<M2,M2*-100,M2*-150)+P2*-100+O2*-20+L2*4000)-I2)","v":1861300.2948144944},{"$f":"IFERROR(INDEX(Přehled_body!$A$4:$EF$130,MATCH(CONCATENATE(S2,$R$1),Přehled_body!$A$4:$A$130,0),31),\"Neklas\")+E2","v":2.2000000000000001E-6},{"$f":"INDEX($J$2:$J$17,MATCH(T2,$Q$2:$Q$17,0))","v":"Milan Veselý"},{"$f":"LARGE($Q$2:$Q$17,ROW(S2)-1)","v":1861300.2948144944},{"$f":"INDEX($K$2:$K$17,MATCH($S2,$J$2:$J$17,0))","v":13.000002079950001},{"$f":"INDEX($K$2:$K$17,MATCH($S2,$J$2:$J$17,0))*-1","v":-13.000002079950001},{"$f":"IF(AND(INDEX(Přehled_body!$A$1:$EF$130,MATCH(CONCATENATE(S2,$AA$1),Přehled_body!$A$1:$A$130,0),COLUMN(Přehled_body!EE3))+E2<-89888,$W$1<>\"Výhry\",$W$1<>\"Poč. kol\"),(INDEX(Přehled_body!$A$1:$EF$130,MATCH(CONCATENATE(S2,$AA$1),Přehled_body!$A$1:$A$130,0),COLUMN(Přehled_body!EE3)))*-1+F2,INDEX(Přehled_body!$A$1:$EF$130,MATCH(CONCATENATE(S2,$AA$1),Přehled_body!$A$1:$A$130,0),COLUMN(Přehled_body!EE3))+E2)","v":27.923079123076924},1,{"$f":"IF(OR($AA$1=\"Výhry\",$AA$1=\"Poč. kol\")=TRUE,LARGE($W$2:$W$17,X2),SMALL($W$2:$W$17,X2))","v":19.000002169999998},null,{"$f":"IF(ROUND(ABS(W2),0)=ABS(90000),\"Neklas\",IF(OR($AA$1=\"Výhry\",$AA$1=\"Poč. kol\")=TRUE,LARGE($W$2:$W$15,X2),SMALL($W$2:$W$15,X2)))","v":19.000002169999998},{"$f":"INDEX($S$2:$S$17,MATCH($Y2,$W$2:$W$17,0),1)","v":"Kuba Šedivý"},{"$f":"IFERROR(IF(AND(INDEX(Přehled_body!$A$1:$EF$130,MATCH(CONCATENATE(S2,$AC$1),Přehled_body!$A$1:$A$130,0),COLUMN(Přehled_body!$EE3))+$F2<-89888,$AC$1<>\"Výhry\",$AC$1<>\"Poč. kol\"),(INDEX(Přehled_body!$A$1:$EF$130,MATCH(CONCATENATE(S2,$AC$1),Přehled_body!$A$1:$A$130,0),COLUMN(Přehled_body!$EE3)))*-1+$F2,INDEX(Přehled_body!$A$1:$EF$130,MATCH(CONCATENATE(S2,$AC$1),Přehled_body!$A$1:$A$130,0),COLUMN(Přehled_body!$EE3))+$F2),INDEX($F$2:$F$17,MATCH($AB2,$D$2:$D$17,0),1))","v":27.923079223076922},{"$f":"IF(AND(INDEX(Přehled_body!$A$1:$EF$130,MATCH(CONCATENATE(S2,$AD$1),Přehled_body!$A$1:$A$130,0),COLUMN(Přehled_body!EE3))+F2<-89888,$AD$1<>\"Výhry\",$AD$1<>\"Poč. kol\"),(INDEX(Přehled_body!$A$1:$EF$130,MATCH(CONCATENATE(S2,$AD$1),Přehled_body!$A$1:$A$130,0),COLUMN(Přehled_body!EE3)))*-1+F2,INDEX(Přehled_body!$A$1:$EF$130,MATCH(CONCATENATE(S2,$AD$1),Přehled_body!$A$1:$A$130,0),COLUMN(Přehled_body!EE3))+F2)","v":1089.0000023},null,null,"Výhry",null,{"$f":"INDEX($S$2:$S$17,MATCH(AK2,$AC$2:$AC$17,0),1)","v":"Kuba Šedivý"},{"$f":"IF(ROUND(ABS(AC2),0)=ABS(90000),\"Neklas\",IF(OR($AJ$1=\"Výhry\",$AJ$1=\"Poč. kol\")=TRUE,LARGE($AC$2:$AC$17,X2),SMALL($AC$2:$AC$17,X2)))","v":19.000002330000001},{"$f":"SMALL($AC$2:$AC$17,X2)","v":19.000002330000001},{"$f":"INDEX($S$2:$S$17,MATCH(AN2,$AD$2:$AD$17,0),1)","v":"Kuba Šedivý"},{"$f":"IF(ROUND(ABS(AD2),0)=ABS(90000),\"Neklas\",IF(OR($AL$1=\"Výhry\",$AL$1=\"Poč. kol\")=TRUE,LARGE($AD$2:$AD$17,X2),SMALL($AD$2:$AD$17,X2)))","v":133.00000233},{"$f":"SMALL($AD$2:$AD$17,X2)","v":133.00000233},{"$f":"A2","v":"Jiří Blín"},{"$f":"IF(INDEX(Tabulka!$AG$4:$AG$83,MATCH(List4!D2,Tabulka!$A$4:$A$83,0)-1,1)<1,-90000+E2,INDEX(Tabulka!$AG$4:$AG$83,MATCH(List4!D2,Tabulka!$A$4:$A$83,0)-1,1)+E2)","v":10.000002200000001},null,{"$f":"INDEX($AO$2:$AO$17,MATCH(AS2,$AP$2:$AP$17,0),1)","v":"Jiří Blín"},{"$f":"LARGE($AP$2:$AP$17,X2)","v":10.000002200000001}]
[{"$f":"INDEX(Tabulka!$A$2:$A$125,MATCH(B3,Tabulka!$A$2:$A$125,0)-1,1)","v":"Jiří Fiala"},{"$f":"Tabulka!$A$6","v":"Fiala Jiří"},{"$f":"IF(INDEX(Tabulka!$A$2:$AF$180,MATCH(D3,Tabulka!$A$2:$A$180,0)+3,31)<1,-90000,INDEX(Tabulka!$A$2:$AF$180,MATCH(D3,Tabulka!$A$2:$A$180,0),32))+E3","v":-89999.999997809995},"Jiří Fiala",{"$f":"E2-0.00000001","v":2.1900000000000002E-6},{"$f":"F2+0.00000001","v":2.3099999999999999E-6},"Jiří Fiala0,000002190",{"$f":"IF(ISERROR(MATCH(D3,Tabulka!$A$4:$A$84,0)),,MATCH(D3,Tabulka!$A$4:$A$84,0))","v":2},null,"Libor Hruška",6.0000021899499982,{"$f":"INDEX(Tabulka!$A$4:$AF$84,MATCH(J3,Tabulka!$A$4:$A$84,0)-1,31)+INDEX($D$2:$E$17,MATCH(K3,$C$2:$C$17,0),2)","v":8.0000021800399974},{"$f":"INDEX(Tabulka!$A$4:$AF$84,MATCH($J3,Tabulka!$A$4:$A$84,0)+3,31)+INDEX($D$2:$E$17,MATCH(K3,$C$2:$C$17,0),2)","v":39.000002180000003},{"$f":"INDEX(Tabulka!$B$4:$AF$84,MATCH(J3,Tabulka!$A$4:$A$84,0),30)+IF(K3<-89000,INDEX($E$2:$F$17,MATCH(K3,$C$2:$C$17,0),1),INDEX($E$2:$F$17,MATCH(K3,$C$2:$C$17,0),2))","v":2.0000023200900001},{"$f":"INDEX(Tabulka!$B$4:$AF$84,MATCH(J3,Tabulka!$A$4:$A$84,0)+2,30)+IF(K3<-89000,INDEX($E$2:$F$17,MATCH(K3,$C$2:$C$17,0),1),INDEX($E$2:$F$17,MATCH(K3,$C$2:$C$17,0),2))","v":10.000002320039998},{"$f":"INDEX(Tabulka!$B$4:$AF$84,MATCH(J3,Tabulka!$A$4:$A$84,0)+1,30)+IF(K3<-89000,INDEX($E$2:$F$17,MATCH(K3,$C$2:$C$17,0),1),INDEX($E$2:$F$17,MATCH(K3,$C$2:$C$17,0),2))","v":2.0000023200900001},855700.31043684995,{"$f":"IFERROR(INDEX(Přehled_body!$A$4:$EF$130,MATCH(CONCATENATE(S3,$R$1),Přehled_body!$A$4:$A$130,0),31),\"Neklas\")+E3","v":2.1900000000000002E-6},"Jarda Klein",867520.30617893464,{"$f":"INDEX($K$2:$K$17,MATCH($S3,$J$2:$J$17,0))","v":6.0000021599700002},{"$f":"INDEX($K$2:$K$17,MATCH($S3,$J$2:$J$17,0))*-1","v":-6.0000021599700002},{"$f":"IF(AND(INDEX(Přehled_body!$A$1:$EF$130,MATCH(CONCATENATE(S3,$AA$1),Přehled_body!$A$1:$A$130,0),COLUMN(Přehled_body!EE4))+E3<-89888,$W$1<>\"Výhry\",$W$1<>\"Poč. kol\"),(INDEX(Přehled_body!$A$1:$EF$130,MATCH(CONCATENATE(S3,$AA$1),Přehled_body!$A$1:$A$130,0),COLUMN(Přehled_body!EE4)))*-1+F3,INDEX(Přehled_body!$A$1:$EF$130,MATCH(CONCATENATE(S3,$AA$1),Přehled_body!$A$1:$A$130,0),COLUMN(Přehled_body!EE4))+E3)","v":38.800002189999994},2,{"$f":"IF(OR($AA$1=\"Výhry\",$AA$1=\"Poč. kol\")=TRUE,LARGE($W$2:$W$17,X3),SMALL($W$2:$W$17,X3))","v":27.923079123076924},null,27.923079123076924,{"$f":"INDEX($S$2:$S$17,MATCH($Y3,$W$2:$W$17,0),1)","v":"Milan Veselý"},{"$f":"IFERROR(IF(AND(INDEX(Přehled_body!$A$1:$EF$130,MATCH(CONCATENATE(S3,$AC$1),Přehled_body!$A$1:$A$130,0),COLUMN(Přehled_body!$EE4))+$F3<-89888,$AC$1<>\"Výhry\",$AC$1<>\"Poč. kol\"),(INDEX(Přehled_body!$A$1:$EF$130,MATCH(CONCATENATE(S3,$AC$1),Přehled_body!$A$1:$A$130,0),COLUMN(Přehled_body!$EE4)))*-1+$F3,INDEX(Přehled_body!$A$1:$EF$130,MATCH(CONCATENATE(S3,$AC$1),Přehled_body!$A$1:$A$130,0),COLUMN(Přehled_body!$EE4))+$F3),INDEX($F$2:$F$17,MATCH($AB3,$D$2:$D$17,0),1))","v":38.800002309999996},{"$f":"IF(AND(INDEX(Přehled_body!$A$1:$EF$130,MATCH(CONCATENATE(S3,$AD$1),Přehled_body!$A$1:$A$130,0),COLUMN(Přehled_body!EE4))+F3<-89888,$AD$1<>\"Výhry\",$AD$1<>\"Poč. kol\"),(INDEX(Přehled_body!$A$1:$EF$130,MATCH(CONCATENATE(S3,$AD$1),Přehled_body!$A$1:$A$130,0),COLUMN(Přehled_body!EE4)))*-1+F3,INDEX(Přehled_body!$A$1:$EF$130,MATCH(CONCATENATE(S3,$AD$1),Přehled_body!$A$1:$A$130,0),COLUMN(Přehled_body!EE4))+F3)","v":1358.0000023099999},null,null,"Prohry",null,{"$f":"INDEX($S$2:$S$17,MATCH(AK3,$AC$2:$AC$17,0),1)","v":"Milan Veselý"},{"$f":"IF(ROUND(ABS(AC3),0)=ABS(90000),\"Neklas\",IF(OR($AJ$1=\"Výhry\",$AJ$1=\"Poč. kol\")=TRUE,LARGE($AC$2:$AC$17,X3),SMALL($AC$2:$AC$17,X3)))","v":27.923079223076922},{"$f":"SMALL($AC$2:$AC$17,X3)","v":27.923079223076922},{"$f":"INDEX($S$2:$S$17,MATCH(AN3,$AD$2:$AD$17,0),1)","v":"Míra Chalupník"},{"$f":"IF(ROUND(ABS(AD3),0)=ABS(90000),\"Neklas\",IF(OR($AL$1=\"Výhry\",$AL$1=\"Poč. kol\")=TRUE,LARGE($AD$2:$AD$17,X3),SMALL($AD$2:$AD$17,X3)))","v":325.00000236},{"$f":"SMALL($AD$2:$AD$17,X3)","v":325.00000236},"Jiří Fiala",{"$f":"IF(INDEX(Tabulka!$AG$4:$AG$83,MATCH(List4!D3,Tabulka!$A$4:$A$83,0)-1,1)<1,-90000+E3,INDEX(Tabulka!$AG$4:$AG$83,MATCH(List4!D3,Tabulka!$A$4:$A$83,0)-1,1)+E3)","v":-89999.999997809995},null,{"$f":"INDEX($AO$2:$AO$17,MATCH(AS3,$AP$2:$AP$17,0),1)","v":"Libor Hruška"},{"$f":"LARGE($AP$2:$AP$17,X3)","v":10.000002179999999}]
[{"$f":"INDEX(Tabulka!$A$2:$A$125,MATCH(B4,Tabulka!$A$2:$A$125,0)-1,1)","v":"Libor Hruška"},{"$f":"Tabulka!$A$11","v":"Hruška Libor"},{"$f":"IF(INDEX(Tabulka!$A$2:$AF$180,MATCH(D4,Tabulka!$A$2:$A$180,0)+3,31)<1,-90000,INDEX(Tabulka!$A$2:$AF$180,MATCH(D4,Tabulka!$A$2:$A$180,0),32))+E4","v":6.0000021899499982},"Libor Hruška",2.1800000000000003E-6,2.3199999999999998E-6,"Libor Hruška0,000002180",{"$f":"IF(ISERROR(MATCH(D4,Tabulka!$A$4:$A$84,0)),,MATCH(D4,Tabulka!$A$4:$A$84,0))","v":7},null,"Jarda Klein",6.0000021599700002,{"$f":"INDEX(Tabulka!$A$4:$AF$84,MATCH(J4,Tabulka!$A$4:$A$84,0)-1,31)+INDEX($D$2:$E$17,MATCH(K4,$C$2:$C$17,0),2)","v":11.00000215002},{"$f":"INDEX(Tabulka!$A$4:$AF$84,MATCH($J4,Tabulka!$A$4:$A$84,0)+3,31)+INDEX($D$2:$E$17,MATCH(K4,$C$2:$C$17,0),2)","v":35.00000215},{"$f":"INDEX(Tabulka!$B$4:$AF$84,MATCH(J4,Tabulka!$A$4:$A$84,0),30)+IF(K4<-89000,INDEX($E$2:$F$17,MATCH(K4,$C$2:$C$17,0),1),INDEX($E$2:$F$17,MATCH(K4,$C$2:$C$17,0),2))","v":5.0000023500499999},{"$f":"INDEX(Tabulka!$B$4:$AF$84,MATCH(J4,Tabulka!$A$4:$A$84,0)+2,30)+IF(K4<-89000,INDEX($E$2:$F$17,MATCH(K4,$C$2:$C$17,0),1),INDEX($E$2:$F$17,MATCH(K4,$C$2:$C$17,0),2))","v":14.000002350020001},{"$f":"INDEX(Tabulka!$B$4:$AF$84,MATCH(J4,Tabulka!$A$4:$A$84,0)+1,30)+IF(K4<-89000,INDEX($E$2:$F$17,MATCH(K4,$C$2:$C$17,0),1),INDEX($E$2:$F$17,MATCH(K4,$C$2:$C$17,0),2))","v":7.0000023500499999},867520.30617893464,{"$f":"IFERROR(INDEX(Přehled_body!$A$4:$EF$130,MATCH(CONCATENATE(S4,$R$1),Přehled_body!$A$4:$A$130,0),31),\"Neklas\")+E4","v":2.1800000000000003E-6},"Libor Hruška",855700.31043684995,6.0000021899499982,-6.0000021899499982,{"$f":"IF(AND(INDEX(Přehled_body!$A$1:$EF$130,MATCH(CONCATENATE(S4,$AA$1),Přehled_body!$A$1:$A$130,0),COLUMN(Přehled_body!EE5))+E4<-89888,$W$1<>\"Výhry\",$W$1<>\"Poč. kol\"),(INDEX(Přehled_body!$A$1:$EF$130,MATCH(CONCATENATE(S4,$AA$1),Přehled_body!$A$1:$A$130,0),COLUMN(Přehled_body!EE5)))*-1+F4,INDEX(Přehled_body!$A$1:$EF$130,MATCH(CONCATENATE(S4,$AA$1),Přehled_body!$A$1:$A$130,0),COLUMN(Přehled_body!EE5))+E4)","v":46.897438077435901},3,38.800002189999994,null,38.800002189999994,"Jarda Klein",{"$f":"IFERROR(IF(AND(INDEX(Přehled_body!$A$1:$EF$130,MATCH(CONCATENATE(S4,$AC$1),Přehled_body!$A$1:$A$130,0),COLUMN(Přehled_body!$EE5))+$F4<-89888,$AC$1<>\"Výhry\",$AC$1<>\"Poč. kol\"),(INDEX(Přehled_body!$A$1:$EF$130,MATCH(CONCATENATE(S4,$AC$1),Přehled_body!$A$1:$A$130,0),COLUMN(Přehled_body!$EE5)))*-1+$F4,INDEX(Přehled_body!$A$1:$EF$130,MATCH(CONCATENATE(S4,$AC$1),Přehled_body!$A$1:$A$130,0),COLUMN(Přehled_body!$EE5))+$F4),INDEX($F$2:$F$17,MATCH($AB4,$D$2:$D$17,0),1))","v":46.897438217435898},{"$f":"IF(AND(INDEX(Přehled_body!$A$1:$EF$130,MATCH(CONCATENATE(S4,$AD$1),Přehled_body!$A$1:$A$130,0),COLUMN(Přehled_body!EE5))+F4<-89888,$AD$1<>\"Výhry\",$AD$1<>\"Poč. kol\"),(INDEX(Přehled_body!$A$1:$EF$130,MATCH(CONCATENATE(S4,$AD$1),Přehled_body!$A$1:$A$130,0),COLUMN(Přehled_body!EE5)))*-1+F4,INDEX(Přehled_body!$A$1:$EF$130,MATCH(CONCATENATE(S4,$AD$1),Přehled_body!$A$1:$A$130,0),COLUMN(Přehled_body!EE5))+F4)","v":1829.00000232},null,null,"Placeno panáků",null,"Jarda Klein",38.800002309999996,38.800002309999996,"Ostatní hráči",566.00000235000005,566.00000235000005,"Libor Hruška",{"$f":"IF(INDEX(Tabulka!$AG$4:$AG$83,MATCH(List4!D4,Tabulka!$A$4:$A$83,0)-1,1)<1,-90000+E4,INDEX(Tabulka!$AG$4:$AG$83,MATCH(List4!D4,Tabulka!$A$4:$A$83,0)-1,1)+E4)","v":10.000002179999999},null,"Milan Veselý",10.000002070000001]
[{"$f":"INDEX(Tabulka!$A$2:$A$125,MATCH(B5,Tabulka!$A$2:$A$125,0)-1,1)","v":"Míra Chalupník"},{"$f":"Tabulka!$A$46","v":"Chalupník Míra"},{"$f":"IF(INDEX(Tabulka!$A$2:$AF$180,MATCH(D5,Tabulka!$A$2:$A$180,0)+3,31)<1,-90000,INDEX(Tabulka!$A$2:$AF$180,MATCH(D5,Tabulka!$A$2:$A$180,0),32))+E5","v":-1.9999978199900001},"Míra Chalupník",2.1700000000000004E-6,2.3299999999999997E-6,"Míra Chalupník0,000002170",{"$f":"IF(ISERROR(MATCH(D5,Tabulka!$A$4:$A$84,0)),,MATCH(D5,Tabulka!$A$4:$A$84,0))","v":42},null,"Kuba Šedivý",3.00000211998,{"$f":"INDEX(Tabulka!$A$4:$AF$84,MATCH(J5,Tabulka!$A$4:$A$84,0)-1,31)+INDEX($D$2:$E$17,MATCH(K5,$C$2:$C$17,0),2)","v":3.0000021100000001},{"$f":"INDEX(Tabulka!$A$4:$AF$84,MATCH($J5,Tabulka!$A$4:$A$84,0)+3,31)+INDEX($D$2:$E$17,MATCH(K5,$C$2:$C$17,0),2)","v":7.0000021099999996},{"$f":"INDEX(Tabulka!$B$4:$AF$84,MATCH(J5,Tabulka!$A$4:$A$84,0),30)+IF(K5<-89000,INDEX($E$2:$F$17,MATCH(K5,$C$2:$C$17,0),1),INDEX($E$2:$F$17,MATCH(K5,$C$2:$C$17,0),2))","v":2.3900199999999993E-6},{"$f":"INDEX(Tabulka!$B$4:$AF$84,MATCH(J5,Tabulka!$A$4:$A$84,0)+2,30)+IF(K5<-89000,INDEX($E$2:$F$17,MATCH(K5,$C$2:$C$17,0),1),INDEX($E$2:$F$17,MATCH(K5,$C$2:$C$17,0),2))","v":6.0000023899999997},{"$f":"INDEX(Tabulka!$B$4:$AF$84,MATCH(J5,Tabulka!$A$4:$A$84,0)+1,30)+IF(K5<-89000,INDEX($E$2:$F$17,MATCH(K5,$C$2:$C$17,0),1),INDEX($E$2:$F$17,MATCH(K5,$C$2:$C$17,0),2))","v":2.3900199999999993E-6},425180.30049943802,{"$f":"IFERROR(INDEX(Přehled_body!$A$4:$EF$130,MATCH(CONCATENATE(S5,$R$1),Přehled_body!$A$4:$A$130,0),31),\"Neklas\")+E5","v":2.1700000000000004E-6},"Kuba Šedivý",425180.30049943802,3.00000211998,-3.00000211998,{"$f":"IF(AND(INDEX(Přehled_body!$A$1:$EF$130,MATCH(CONCATENATE(S5,$AA$1),Přehled_body!$A$1:$A$130,0),COLUMN(Přehled_body!EE6))+E5<-89888,$W$1<>\"Výhry\",$W$1<>\"Poč. kol\"),(INDEX(Přehled_body!$A$1:$EF$130,MATCH(CONCATENATE(S5,$AA$1),Přehled_body!$A$1:$A$130,0),COLUMN(Přehled_body!EE6)))*-1+F5,INDEX(Přehled_body!$A$1:$EF$130,MATCH(CONCATENATE(S5,$AA$1),Přehled_body!$A$1:$A$130,0),COLUMN(Přehled_body!EE6))+E5)","v":19.000002169999998},4,46.897438077435901,null,46.897438077435901,"Libor Hruška",{"$f":"IFERROR(IF(AND(INDEX(Přehled_body!$A$1:$EF$130,MATCH(CONCATENATE(S5,$AC$1),Přehled_body!$A$1:$A$130,0),COLUMN(Přehled_body!$EE6))+$F5<-89888,$AC$1<>\"Výhry\",$AC$1<>\"Poč. kol\"),(INDEX(Přehled_body!$A$1:$EF$130,MATCH(CONCATENATE(S5,$AC$1),Přehled_body!$A$1:$A$130,0),COLUMN(Přehled_body!$EE6)))*-1+$F5,INDEX(Přehled_body!$A$1:$EF$130,MATCH(CONCATENATE(S5,$AC$1),Přehled_body!$A$1:$A$130,0),COLUMN(Přehled_body!$EE6))+$F5),INDEX($F$2:$F$17,MATCH($AB5,$D$2:$D$17,0),1))","v":19.000002330000001},{"$f":"IF(AND(INDEX(Přehled_body!$A$1:$EF$130,MATCH(CONCATENATE(S5,$AD$1),Přehled_body!$A$1:$A$130,0),COLUMN(Přehled_body!EE6))+F5<-89888,$AD$1<>\"Výhry\",$AD$1<>\"Poč. kol\"),(INDEX(Přehled_body!$A$1:$EF$130,MATCH(CONCATENATE(S5,$AD$1),Přehled_body!$A$1:$A$130,0),COLUMN(Přehled_body!EE6)))*-1+F5,INDEX(Přehled_body!$A$1:$EF$130,MATCH(CONCATENATE(S5,$AD$1),Přehled_body!$A$1:$A$130,0),COLUMN(Přehled_body!EE6))+F5)","v":133.00000233},null,null,"Přehozy",null,"Libor Hruška",46.897438217435898,46.897438217435898,"Milan Veselý",1089.0000023,1089.0000023,"Míra Chalupník",{"$f":"IF(INDEX(Tabulka!$AG$4:$AG$83,MATCH(List4!D5,Tabulka!$A$4:$A$83,0)-1,1)<1,-90000+E5,INDEX(Tabulka!$AG$4:$AG$83,MATCH(List4!D5,Tabulka!$A$4:$A$83,0)-1,1)+E5)","v":1.0000021699999999},null,"Jarda Klein",9.0000021500000003]
[{"$f":"INDEX(Tabulka!$A$2:$A$125,MATCH(B6,Tabulka!$A$2:$A$125,0)-1,1)","v":"Iva Ivanka"},{"$f":"Tabulka!$A$81","v":"Ivanka Iva"},{"$f":"IF(INDEX(Tabulka!$A$2:$AF$180,MATCH(D6,Tabulka!$A$2:$A$180,0)+3,31)<1,-90000,INDEX(Tabulka!$A$2:$AF$180,MATCH(D6,Tabulka!$A$2:$A$180,0),32))+E6","v":-89999.999997840001},"Iva Ivanka",2.1600000000000005E-6,2.3399999999999996E-6,"Iva Ivanka0,000002160",{"$f":"IF(ISERROR(MATCH(D6,Tabulka!$A$4:$A$84,0)),,MATCH(D6,Tabulka!$A$4:$A$84,0))","v":77},null,"Standa Roth",2.0000021299799999,{"$f":"INDEX(Tabulka!$A$4:$AF$84,MATCH(J6,Tabulka!$A$4:$A$84,0)-1,31)+INDEX($D$2:$E$17,MATCH(K6,$C$2:$C$17,0),2)","v":6.0000021200400004},{"$f":"INDEX(Tabulka!$A$4:$AF$84,MATCH($J6,Tabulka!$A$4:$A$84,0)+3,31)+INDEX($D$2:$E$17,MATCH(K6,$C$2:$C$17,0),2)","v":35.000002119999998},{"$f":"INDEX(Tabulka!$B$4:$AF$84,MATCH(J6,Tabulka!$A$4:$A$84,0),30)+IF(K6<-89000,INDEX($E$2:$F$17,MATCH(K6,$C$2:$C$17,0),1),INDEX($E$2:$F$17,MATCH(K6,$C$2:$C$17,0),2))","v":4.0000023800599998},{"$f":"INDEX(Tabulka!$B$4:$AF$84,MATCH(J6,Tabulka!$A$4:$A$84,0)+2,30)+IF(K6<-89000,INDEX($E$2:$F$17,MATCH(K6,$C$2:$C$17,0),1),INDEX($E$2:$F$17,MATCH(K6,$C$2:$C$17,0),2))","v":7.0000023800599998},{"$f":"INDEX(Tabulka!$B$4:$AF$84,MATCH(J6,Tabulka!$A$4:$A$84,0)+1,30)+IF(K6<-89000,INDEX($E$2:$F$17,MATCH(K6,$C$2:$C$17,0),1),INDEX($E$2:$F$17,MATCH(K6,$C$2:$C$17,0),2))","v":7.0000023800599998},295660.30191979278,{"$f":"IFERROR(INDEX(Přehled_body!$A$4:$EF$130,MATCH(CONCATENATE(S6,$R$1),Přehled_body!$A$4:$A$130,0),31),\"Neklas\")+E6","v":2.1600000000000005E-6},"Standa Roth",295660.30191979278,2.0000021299799999,-2.0000021299799999,{"$f":"IF(AND(INDEX(Přehled_body!$A$1:$EF$130,MATCH(CONCATENATE(S6,$AA$1),Přehled_body!$A$1:$A$130,0),COLUMN(Přehled_body!EE7))+E6<-89888,$W$1<>\"Výhry\",$W$1<>\"Poč. kol\"),(INDEX(Přehled_body!$A$1:$EF$130,MATCH(CONCATENATE(S6,$AA$1),Přehled_body!$A$1:$A$130,0),COLUMN(Přehled_body!EE7)))*-1+F6,INDEX(Přehled_body!$A$1:$EF$130,MATCH(CONCATENATE(S6,$AA$1),Přehled_body!$A$1:$A$130,0),COLUMN(Přehled_body!EE7))+E6)","v":58.257145017142861},5,58.257145017142861,null,58.257145017142861,"Standa Roth",{"$f":"IFERROR(IF(AND(INDEX(Přehled_body!$A$1:$EF$130,MATCH(CONCATENATE(S6,$AC$1),Přehled_body!$A$1:$A$130,0),COLUMN(Přehled_body!$EE7))+$F6<-89888,$AC$1<>\"Výhry\",$AC$1<>\"Poč. kol\"),(INDEX(Přehled_body!$A$1:$EF$130,MATCH(CONCATENATE(S6,$AC$1),Přehled_body!$A$1:$A$130,0),COLUMN(Přehled_body!$EE7)))*-1+$F6,INDEX(Přehled_body!$A$1:$EF$130,MATCH(CONCATENATE(S6,$AC$1),Přehled_body!$A$1:$A$130,0),COLUMN(Přehled_body!$EE7))+$F6),INDEX($F$2:$F$17,MATCH($AB6,$D$2:$D$17,0),1))","v":58.257145197142862},{"$f":"IF(AND(INDEX(Přehled_body!$A$1:$EF$130,MATCH(CONCATENATE(S6,$AD$1),Přehled_body!$A$1:$A$130,0),COLUMN(Přehled_body!EE7))+F6<-89888,$AD$1<>\"Výhry\",$AD$1<>\"Poč. kol\"),(INDEX(Přehled_body!$A$1:$EF$130,MATCH(CONCATENATE(S6,$AD$1),Přehled_body!$A$1:$A$130,0),COLUMN(Přehled_body!EE7)))*-1+F6,INDEX(Přehled_body!$A$1:$EF$130,MATCH(CONCATENATE(S6,$AD$1),Přehled_body!$A$1:$A$130,0),COLUMN(Přehled_body!EE7))+F6)","v":2039.00000234},null,null,"Poč. kol",null,"Standa Roth",58.257145197142862,58.257145197142862,"Adam Šmíd",1127.0000023800001,1127.0000023800001,"Iva Ivanka",{"$f":"IF(INDEX(Tabulka!$AG$4:$AG$83,MATCH(List4!D6,Tabulka!$A$4:$A$83,0)-1,1)<1,-90000+E6,INDEX(Tabulka!$AG$4:$AG$83,MATCH(List4!D6,Tabulka!$A$4:$A$83,0)-1,1)+E6)","v":-89999.999997840001},null,"Standa Roth",9.0000021199999996]
[{"$f":"INDEX(Tabulka!$A$2:$A$125,MATCH(B7,Tabulka!$A$2:$A$125,0)-1,1)","v":"Jarda Klein"},{"$f":"Tabulka!$A$51","v":"Klein Jarda"},{"$f":"IF(INDEX(Tabulka!$A$2:$AF$180,MATCH(D7,Tabulka!$A$2:$A$180,0)+3,31)<1,-90000,INDEX(Tabulka!$A$2:$AF$180,MATCH(D7,Tabulka!$A$2:$A$180,0),32))+E7","v":6.0000021599700002},"Jarda Klein",2.1500000000000006E-6,2.3499999999999995E-6,"Jarda Klein0,000002150",{"$f":"IF(ISERROR(MATCH(D7,Tabulka!$A$4:$A$84,0)),,MATCH(D7,Tabulka!$A$4:$A$84,0))","v":47},null,"Ostatní hráči",-0.99999790999999993,{"$f":"INDEX(Tabulka!$A$4:$AF$84,MATCH(J7,Tabulka!$A$4:$A$84,0)-1,31)+INDEX($D$2:$E$17,MATCH(K7,$C$2:$C$17,0),2)","v":1.00000208},{"$f":"INDEX(Tabulka!$A$4:$AF$84,MATCH($J7,Tabulka!$A$4:$A$84,0)+3,31)+INDEX($D$2:$E$17,MATCH(K7,$C$2:$C$17,0),2)","v":4.0000020799999998},{"$f":"INDEX(Tabulka!$B$4:$AF$84,MATCH(J7,Tabulka!$A$4:$A$84,0),30)+IF(K7<-89000,INDEX($E$2:$F$17,MATCH(K7,$C$2:$C$17,0),1),INDEX($E$2:$F$17,MATCH(K7,$C$2:$C$17,0),2))","v":2.0000024199999999},{"$f":"INDEX(Tabulka!$B$4:$AF$84,MATCH(J7,Tabulka!$A$4:$A$84,0)+2,30)+IF(K7<-89000,INDEX($E$2:$F$17,MATCH(K7,$C$2:$C$17,0),1),INDEX($E$2:$F$17,MATCH(K7,$C$2:$C$17,0),2))","v":2.4200099999999987E-6},{"$f":"INDEX(Tabulka!$B$4:$AF$84,MATCH(J7,Tabulka!$A$4:$A$84,0)+1,30)+IF(K7<-89000,INDEX($E$2:$F$17,MATCH(K7,$C$2:$C$17,0),1),INDEX($E$2:$F$17,MATCH(K7,$C$2:$C$17,0),2))","v":2.0000024199999999},-137599.71137199999,{"$f":"IFERROR(INDEX(Přehled_body!$A$4:$EF$130,MATCH(CONCATENATE(S7,$R$1),Přehled_body!$A$4:$A$130,0),31),\"Neklas\")+E7","v":2.1500000000000006E-6},"Ostatní hráči",-137599.71137199999,-0.99999790999999993,0.99999790999999993,{"$f":"IF(AND(INDEX(Přehled_body!$A$1:$EF$130,MATCH(CONCATENATE(S7,$AA$1),Přehled_body!$A$1:$A$130,0),COLUMN(Přehled_body!EE8))+E7<-89888,$W$1<>\"Výhry\",$W$1<>\"Poč. kol\"),(INDEX(Přehled_body!$A$1:$EF$130,MATCH(CONCATENATE(S7,$AA$1),Přehled_body!$A$1:$A$130,0),COLUMN(Přehled_body!EE8)))*-1+F7,INDEX(Přehled_body!$A$1:$EF$130,MATCH(CONCATENATE(S7,$AA$1),Přehled_body!$A$1:$A$130,0),COLUMN(Přehled_body!EE8))+E7)","v":141.50000215},6,73.100002129999993,null,73.100002129999993,"Míra Šedivý",{"$f":"IFERROR(IF(AND(INDEX(Přehled_body!$A$1:$EF$130,MATCH(CONCATENATE(S7,$AC$1),Přehled_body!$A$1:$A$130,0),COLUMN(Přehled_body!$EE8))+$F7<-89888,$AC$1<>\"Výhry\",$AC$1<>\"Poč. kol\"),(INDEX(Přehled_body!$A$1:$EF$130,MATCH(CONCATENATE(S7,$AC$1),Přehled_body!$A$1:$A$130,0),COLUMN(Přehled_body!$EE8)))*-1+$F7,INDEX(Přehled_body!$A$1:$EF$130,MATCH(CONCATENATE(S7,$AC$1),Přehled_body!$A$1:$A$130,0),COLUMN(Přehled_body!$EE8))+$F7),INDEX($F$2:$F$17,MATCH($AB7,$D$2:$D$17,0),1))","v":141.50000234999999},{"$f":"IF(AND(INDEX(Přehled_body!$A$1:$EF$130,MATCH(CONCATENATE(S7,$AD$1),Přehled_body!$A$1:$A$130,0),COLUMN(Přehled_body!EE8))+F7<-89888,$AD$1<>\"Výhry\",$AD$1<>\"Poč. kol\"),(INDEX(Přehled_body!$A$1:$EF$130,MATCH(CONCATENATE(S7,$AD$1),Přehled_body!$A$1:$A$130,0),COLUMN(Přehled_body!EE8)))*-1+F7,INDEX(Přehled_body!$A$1:$EF$130,MATCH(CONCATENATE(S7,$AD$1),Přehled_body!$A$1:$A$130,0),COLUMN(Přehled_body!EE8))+F7)","v":566.00000235000005},null,null,"Počet konečných bodů",null,"Míra Šedivý",73.100002369999999,73.100002369999999,"Jarda Klein",1358.0000023099999,1358.0000023099999,"Jarda Klein",{"$f":"IF(INDEX(Tabulka!$AG$4:$AG$83,MATCH(List4!D7,Tabulka!$A$4:$A$83,0)-1,1)<1,-90000+E7,INDEX(Tabulka!$AG$4:$AG$83,MATCH(List4!D7,Tabulka!$A$4:$A$83,0)-1,1)+E7)","v":9.0000021500000003},null,"Adam Šmíd",7.0000020899999997]
[{"$f":"INDEX(Tabulka!$A$2:$A$125,MATCH(B8,Tabulka!$A$2:$A$125,0)-1,1)","v":"Míra Kulhan"},{"$f":"Tabulka!A71","v":"Kulhan Míra"},{"$f":"IF(INDEX(Tabulka!$A$2:$AF$180,MATCH(D8,Tabulka!$A$2:$A$180,0)+3,31)<1,-90000,INDEX(Tabulka!$A$2:$AF$180,MATCH(D8,Tabulka!$A$2:$A$180,0),32))+E8","v":-89999.999997859995},"Míra Kulhan",2.1400000000000007E-6,2.3599999999999994E-6,"Míra Kulhan0,000002140",{"$f":"IF(ISERROR(MATCH(D8,Tabulka!$A$4:$A$84,0)),,MATCH(D8,Tabulka!$A$4:$A$84,0))","v":67},null,"Míra Chalupník",-1.9999978199900001,{"$f":"INDEX(Tabulka!$A$4:$AF$84,MATCH(J8,Tabulka!$A$4:$A$84,0)-1,31)+INDEX($D$2:$E$17,MATCH(K8,$C$2:$C$17,0),2)","v":2.1700100000000003E-6},{"$f":"INDEX(Tabulka!$A$4:$AF$84,MATCH($J8,Tabulka!$A$4:$A$84,0)+3,31)+INDEX($D$2:$E$17,MATCH(K8,$C$2:$C$17,0),2)","v":4.0000021700000001},{"$f":"INDEX(Tabulka!$B$4:$AF$84,MATCH(J8,Tabulka!$A$4:$A$84,0),30)+IF(K8<-89000,INDEX($E$2:$F$17,MATCH(K8,$C$2:$C$17,0),1),INDEX($E$2:$F$17,MATCH(K8,$C$2:$C$17,0),2))","v":2.0000023300000001},{"$f":"INDEX(Tabulka!$B$4:$AF$84,MATCH(J8,Tabulka!$A$4:$A$84,0)+2,30)+IF(K8<-89000,INDEX($E$2:$F$17,MATCH(K8,$C$2:$C$17,0),1),INDEX($E$2:$F$17,MATCH(K8,$C$2:$C$17,0),2))","v":1.0000023300000001},{"$f":"INDEX(Tabulka!$B$4:$AF$84,MATCH(J8,Tabulka!$A$4:$A$84,0)+1,30)+IF(K8<-89000,INDEX($E$2:$F$17,MATCH(K8,$C$2:$C$17,0),1),INDEX($E$2:$F$17,MATCH(K8,$C$2:$C$17,0),2))","v":2.0000023300000001},-275599.69894162001,{"$f":"IFERROR(INDEX(Přehled_body!$A$4:$EF$130,MATCH(CONCATENATE(S8,$R$1),Přehled_body!$A$4:$A$130,0),31),\"Neklas\")+E8","v":2.1400000000000007E-6},"Míra Chalupník",-275599.69894162001,-1.9999978199900001,1.9999978199900001,{"$f":"IF(AND(INDEX(Přehled_body!$A$1:$EF$130,MATCH(CONCATENATE(S8,$AA$1),Přehled_body!$A$1:$A$130,0),COLUMN(Přehled_body!EE9))+E8<-89888,$W$1<>\"Výhry\",$W$1<>\"Poč. kol\"),(INDEX(Přehled_body!$A$1:$EF$130,MATCH(CONCATENATE(S8,$AA$1),Přehled_body!$A$1:$A$130,0),COLUMN(Přehled_body!EE9)))*-1+F8,INDEX(Přehled_body!$A$1:$EF$130,MATCH(CONCATENATE(S8,$AA$1),Přehled_body!$A$1:$A$130,0),COLUMN(Přehled_body!EE9))+E8)","v":81.250002140000007},7,74.769232879230771,null,74.769232879230771,"Jiří Blín",{"$f":"IFERROR(IF(AND(INDEX(Přehled_body!$A$1:$EF$130,MATCH(CONCATENATE(S8,$AC$1),Přehled_body!$A$1:$A$130,0),COLUMN(Přehled_body!$EE9))+$F8<-89888,$AC$1<>\"Výhry\",$AC$1<>\"Poč. kol\"),(INDEX(Přehled_body!$A$1:$EF$130,MATCH(CONCATENATE(S8,$AC$1),Přehled_body!$A$1:$A$130,0),COLUMN(Přehled_body!$EE9)))*-1+$F8,INDEX(Přehled_body!$A$1:$EF$130,MATCH(CONCATENATE(S8,$AC$1),Přehled_body!$A$1:$A$130,0),COLUMN(Přehled_body!$EE9))+$F8),INDEX($F$2:$F$17,MATCH($AB8,$D$2:$D$17,0),1))","v":81.250002359999996},{"$f":"IF(AND(INDEX(Přehled_body!$A$1:$EF$130,MATCH(CONCATENATE(S8,$AD$1),Přehled_body!$A$1:$A$130,0),COLUMN(Přehled_body!EE9))+F8<-89888,$AD$1<>\"Výhry\",$AD$1<>\"Poč. kol\"),(INDEX(Přehled_body!$A$1:$EF$130,MATCH(CONCATENATE(S8,$AD$1),Přehled_body!$A$1:$A$130,0),COLUMN(Přehled_body!EE9)))*-1+F8,INDEX(Přehled_body!$A$1:$EF$130,MATCH(CONCATENATE(S8,$AD$1),Přehled_body!$A$1:$A$130,0),COLUMN(Přehled_body!EE9))+F8)","v":325.00000236},null,null,"Průměr konečných bodů na kolo",null,"Jiří Blín",74.76923315923078,74.76923315923078,"Míra Šedivý",1462.0000023699999,1462.0000023699999,"Míra Kulhan",{"$f":"IF(INDEX(Tabulka!$AG$4:$AG$83,MATCH(List4!D8,Tabulka!$A$4:$A$83,0)-1,1)<1,-90000+E8,INDEX(Tabulka!$AG$4:$AG$83,MATCH(List4!D8,Tabulka!$A$4:$A$83,0)-1,1)+E8)","v":-89999.999997859995},null,"Míra Šedivý",5.0000020999999997]
[{"$f":"INDEX(Tabulka!$A$2:$A$125,MATCH(B9,Tabulka!$A$2:$A$125,0)-1,1)","v":"Pavel Pernekr"},{"$f":"Tabulka!$A$21","v":"Pernekr Pavel"},{"$f":"IF(INDEX(Tabulka!$A$2:$AF$180,MATCH(D9,Tabulka!$A$2:$A$180,0)+3,31)<1,-90000,INDEX(Tabulka!$A$2:$AF$180,MATCH(D9,Tabulka!$A$2:$A$180,0),32))+E9","v":-89999.999997870007},"Pavel Pernekr",2.1300000000000008E-6,2.3699999999999993E-6,"Pavel Pernekr0,000002130",{"$f":"IF(ISERROR(MATCH(D9,Tabulka!$A$4:$A$84,0)),,MATCH(D9,Tabulka!$A$4:$A$84,0))","v":17},null,"Míra Šedivý",-3.9999978899699999,{"$f":"INDEX(Tabulka!$A$4:$AF$84,MATCH(J9,Tabulka!$A$4:$A$84,0)-1,31)+INDEX($D$2:$E$17,MATCH(K9,$C$2:$C$17,0),2)","v":2.1000500000000012E-6},{"$f":"INDEX(Tabulka!$A$4:$AF$84,MATCH($J9,Tabulka!$A$4:$A$84,0)+3,31)+INDEX($D$2:$E$17,MATCH(K9,$C$2:$C$17,0),2)","v":20.0000021},{"$f":"INDEX(Tabulka!$B$4:$AF$84,MATCH(J9,Tabulka!$A$4:$A$84,0),30)+IF(K9<-89000,INDEX($E$2:$F$17,MATCH(K9,$C$2:$C$17,0),1),INDEX($E$2:$F$17,MATCH(K9,$C$2:$C$17,0),2))","v":4.0000024000199996},{"$f":"INDEX(Tabulka!$B$4:$AF$84,MATCH(J9,Tabulka!$A$4:$A$84,0)+2,30)+IF(K9<-89000,INDEX($E$2:$F$17,MATCH(K9,$C$2:$C$17,0),1),INDEX($E$2:$F$17,MATCH(K9,$C$2:$C$17,0),2))","v":2.4000499999999992E-6},{"$f":"INDEX(Tabulka!$B$4:$AF$84,MATCH(J9,Tabulka!$A$4:$A$84,0)+1,30)+IF(K9<-89000,INDEX($E$2:$F$17,MATCH(K9,$C$2:$C$17,0),1),INDEX($E$2:$F$17,MATCH(K9,$C$2:$C$17,0),2))","v":4.0000024000199996},-549999.70860586001,{"$f":"IFERROR(INDEX(Přehled_body!$A$4:$EF$130,MATCH(CONCATENATE(S9,$R$1),Přehled_body!$A$4:$A$130,0),31),\"Neklas\")+E9","v":2.1300000000000008E-6},"Míra Šedivý",-549999.70860586001,-3.9999978899699999,3.9999978899699999,{"$f":"IF(AND(INDEX(Přehled_body!$A$1:$EF$130,MATCH(CONCATENATE(S9,$AA$1),Přehled_body!$A$1:$A$130,0),COLUMN(Přehled_body!EE10))+E9<-89888,$W$1<>\"Výhry\",$W$1<>\"Poč. kol\"),(INDEX(Přehled_body!$A$1:$EF$130,MATCH(CONCATENATE(S9,$AA$1),Přehled_body!$A$1:$A$130,0),COLUMN(Přehled_body!EE10)))*-1+F9,INDEX(Přehled_body!$A$1:$EF$130,MATCH(CONCATENATE(S9,$AA$1),Přehled_body!$A$1:$A$130,0),COLUMN(Přehled_body!EE10))+E9)","v":73.100002129999993},8,81.250002140000007,null,81.250002140000007,"Míra Chalupník",{"$f":"IFERROR(IF(AND(INDEX(Přehled_body!$A$1:$EF$130,MATCH(CONCATENATE(S9,$AC$1),Přehled_body!$A$1:$A$130,0),COLUMN(Přehled_body!$EE10))+$F9<-89888,$AC$1<>\"Výhry\",$AC$1<>\"Poč. kol\"),(INDEX(Přehled_body!$A$1:$EF$130,MATCH(CONCATENATE(S9,$AC$1),Přehled_body!$A$1:$A$130,0),COLUMN(Přehled_body!$EE10)))*-1+$F9,INDEX(Přehled_body!$A$1:$EF$130,MATCH(CONCATENATE(S9,$AC$1),Přehled_body!$A$1:$A$130,0),COLUMN(Přehled_body!$EE10))+$F9),INDEX($F$2:$F$17,MATCH($AB9,$D$2:$D$17,0),1))","v":73.100002369999999},{"$f":"IF(AND(INDEX(Přehled_body!$A$1:$EF$130,MATCH(CONCATENATE(S9,$AD$1),Přehled_body!$A$1:$A$130,0),COLUMN(Přehled_body!EE10))+F9<-89888,$AD$1<>\"Výhry\",$AD$1<>\"Poč. kol\"),(INDEX(Přehled_body!$A$1:$EF$130,MATCH(CONCATENATE(S9,$AD$1),Přehled_body!$A$1:$A$130,0),COLUMN(Přehled_body!EE10)))*-1+F9,INDEX(Přehled_body!$A$1:$EF$130,MATCH(CONCATENATE(S9,$AD$1),Přehled_body!$A$1:$A$130,0),COLUMN(Přehled_body!EE10))+F9)","v":1462.0000023699999},null,null,null,null,"Míra Chalupník",81.250002359999996,81.250002359999996,"Libor Hruška",1829.00000232,1829.00000232,"Pavel Pernekr",{"$f":"IF(INDEX(Tabulka!$AG$4:$AG$83,MATCH(List4!D9,Tabulka!$A$4:$A$83,0)-1,1)<1,-90000+E9,INDEX(Tabulka!$AG$4:$AG$83,MATCH(List4!D9,Tabulka!$A$4:$A$83,0)-1,1)+E9)","v":-89999.999997870007},null,"Kuba Šedivý",2.0000021100000001]
[{"$f":"INDEX(Tabulka!$A$2:$A$125,MATCH(B10,Tabulka!$A$2:$A$125,0)-1,1)","v":"Standa Roth"},{"$f":"Tabulka!$A$61","v":"Roth Standa"},{"$f":"IF(INDEX(Tabulka!$A$2:$AF$180,MATCH(D10,Tabulka!$A$2:$A$180,0)+3,31)<1,-90000,INDEX(Tabulka!$A$2:$AF$180,MATCH(D10,Tabulka!$A$2:$A$180,0),32))+E10","v":2.0000021299799999},"Standa Roth",2.1200000000000009E-6,2.3799999999999992E-6,"Standa Roth0,000002120",{"$f":"IF(ISERROR(MATCH(D10,Tabulka!$A$4:$A$84,0)),,MATCH(D10,Tabulka!$A$4:$A$84,0))","v":57},null,"Adam Šmíd",-3.9999978999599999,{"$f":"INDEX(Tabulka!$A$4:$AF$84,MATCH(J10,Tabulka!$A$4:$A$84,0)-1,31)+INDEX($D$2:$E$17,MATCH(K10,$C$2:$C$17,0),2)","v":2.090070000000001E-6},{"$f":"INDEX(Tabulka!$A$4:$AF$84,MATCH($J10,Tabulka!$A$4:$A$84,0)+3,31)+INDEX($D$2:$E$17,MATCH(K10,$C$2:$C$17,0),2)","v":12.000002090000001},{"$f":"INDEX(Tabulka!$B$4:$AF$84,MATCH(J10,Tabulka!$A$4:$A$84,0),30)+IF(K10<-89000,INDEX($E$2:$F$17,MATCH(K10,$C$2:$C$17,0),1),INDEX($E$2:$F$17,MATCH(K10,$C$2:$C$17,0),2))","v":4.0000024100299996},{"$f":"INDEX(Tabulka!$B$4:$AF$84,MATCH(J10,Tabulka!$A$4:$A$84,0)+2,30)+IF(K10<-89000,INDEX($E$2:$F$17,MATCH(K10,$C$2:$C$17,0),1),INDEX($E$2:$F$17,MATCH(K10,$C$2:$C$17,0),2))","v":2.00000241006},{"$f":"INDEX(Tabulka!$B$4:$AF$84,MATCH(J10,Tabulka!$A$4:$A$84,0)+1,30)+IF(K10<-89000,INDEX($E$2:$F$17,MATCH(K10,$C$2:$C$17,0),1),INDEX($E$2:$F$17,MATCH(K10,$C$2:$C$17,0),2))","v":10.00000241002},-550799.70998548006,{"$f":"IFERROR(INDEX(Přehled_body!$A$4:$EF$130,MATCH(CONCATENATE(S10,$R$1),Přehled_body!$A$4:$A$130,0),31),\"Neklas\")+E10","v":2.1200000000000009E-6},"Adam Šmíd",-550799.70998548006,-3.9999978999599999,3.9999978999599999,{"$f":"IF(AND(INDEX(Přehled_body!$A$1:$EF$130,MATCH(CONCATENATE(S10,$AA$1),Přehled_body!$A$1:$A$130,0),COLUMN(Přehled_body!EE11))+E10<-89888,$W$1<>\"Výhry\",$W$1<>\"Poč. kol\"),(INDEX(Přehled_body!$A$1:$EF$130,MATCH(CONCATENATE(S10,$AA$1),Přehled_body!$A$1:$A$130,0),COLUMN(Přehled_body!EE11)))*-1+F10,INDEX(Přehled_body!$A$1:$EF$130,MATCH(CONCATENATE(S10,$AA$1),Přehled_body!$A$1:$A$130,0),COLUMN(Přehled_body!EE11))+E10)","v":93.916668786666676},9,93.916668786666676,null,93.916668786666676,"Adam Šmíd",{"$f":"IFERROR(IF(AND(INDEX(Přehled_body!$A$1:$EF$130,MATCH(CONCATENATE(S10,$AC$1),Přehled_body!$A$1:$A$130,0),COLUMN(Přehled_body!$EE11))+$F10<-89888,$AC$1<>\"Výhry\",$AC$1<>\"Poč. kol\"),(INDEX(Přehled_body!$A$1:$EF$130,MATCH(CONCATENATE(S10,$AC$1),Přehled_body!$A$1:$A$130,0),COLUMN(Přehled_body!$EE11)))*-1+$F10,INDEX(Přehled_body!$A$1:$EF$130,MATCH(CONCATENATE(S10,$AC$1),Přehled_body!$A$1:$A$130,0),COLUMN(Přehled_body!$EE11))+$F10),INDEX($F$2:$F$17,MATCH($AB10,$D$2:$D$17,0),1))","v":93.916669046666669},{"$f":"IF(AND(INDEX(Přehled_body!$A$1:$EF$130,MATCH(CONCATENATE(S10,$AD$1),Přehled_body!$A$1:$A$130,0),COLUMN(Přehled_body!EE11))+F10<-89888,$AD$1<>\"Výhry\",$AD$1<>\"Poč. kol\"),(INDEX(Přehled_body!$A$1:$EF$130,MATCH(CONCATENATE(S10,$AD$1),Přehled_body!$A$1:$A$130,0),COLUMN(Přehled_body!EE11)))*-1+F10,INDEX(Přehled_body!$A$1:$EF$130,MATCH(CONCATENATE(S10,$AD$1),Přehled_body!$A$1:$A$130,0),COLUMN(Přehled_body!EE11))+F10)","v":1127.0000023800001},null,null,null,null,"Adam Šmíd",93.916669046666669,93.916669046666669,"Standa Roth",2039.00000234,2039.00000234,"Standa Roth",{"$f":"IF(INDEX(Tabulka!$AG$4:$AG$83,MATCH(List4!D10,Tabulka!$A$4:$A$83,0)-1,1)<1,-90000+E10,INDEX(Tabulka!$AG$4:$AG$83,MATCH(List4!D10,Tabulka!$A$4:$A$83,0)-1,1)+E10)","v":9.0000021199999996},null,"Míra Chalupník",1.0000021699999999]
[{"$f":"INDEX(Tabulka!$A$2:$A$125,MATCH(B11,Tabulka!$A$2:$A$125,0)-1,1)","v":"Kuba Šedivý"},{"$f":"Tabulka!$A$56","v":"Šedivý Kuba"},{"$f":"IF(INDEX(Tabulka!$A$2:$AF$180,MATCH(D11,Tabulka!$A$2:$A$180,0)+3,31)<1,-90000,INDEX(Tabulka!$A$2:$AF$180,MATCH(D11,Tabulka!$A$2:$A$180,0),32))+E11","v":3.00000211998},"Kuba Šedivý",2.110000000000001E-6,2.3899999999999991E-6,"Kuba Šedivý0,000002110",{"$f":"IF(ISERROR(MATCH(D11,Tabulka!$A$4:$A$84,0)),,MATCH(D11,Tabulka!$A$4:$A$84,0))","v":52},null,"Jiří Blín",-7.9999977899599992,{"$f":"INDEX(Tabulka!$A$4:$AF$84,MATCH(J11,Tabulka!$A$4:$A$84,0)-1,31)+INDEX($D$2:$E$17,MATCH(K11,$C$2:$C$17,0),2)","v":3.00000220007},{"$f":"INDEX(Tabulka!$A$4:$AF$84,MATCH($J11,Tabulka!$A$4:$A$84,0)+3,31)+INDEX($D$2:$E$17,MATCH(K11,$C$2:$C$17,0),2)","v":39.000002199999997},{"$f":"INDEX(Tabulka!$B$4:$AF$84,MATCH(J11,Tabulka!$A$4:$A$84,0),30)+IF(K11<-89000,INDEX($E$2:$F$17,MATCH(K11,$C$2:$C$17,0),1),INDEX($E$2:$F$17,MATCH(K11,$C$2:$C$17,0),2))","v":11.000002300029999},{"$f":"INDEX(Tabulka!$B$4:$AF$84,MATCH(J11,Tabulka!$A$4:$A$84,0)+2,30)+IF(K11<-89000,INDEX($E$2:$F$17,MATCH(K11,$C$2:$C$17,0),1),INDEX($E$2:$F$17,MATCH(K11,$C$2:$C$17,0),2))","v":6.0000023000700002},{"$f":"INDEX(Tabulka!$B$4:$AF$84,MATCH(J11,Tabulka!$A$4:$A$84,0)+1,30)+IF(K11<-89000,INDEX($E$2:$F$17,MATCH(K11,$C$2:$C$17,0),1),INDEX($E$2:$F$17,MATCH(K11,$C$2:$C$17,0),2))","v":15.000002300029998},-1100099.6947944798,{"$f":"IFERROR(INDEX(Přehled_body!$A$4:$EF$130,MATCH(CONCATENATE(S11,$R$1),Přehled_body!$A$4:$A$130,0),31),\"Neklas\")+E11","v":2.110000000000001E-6},"Jiří Blín",-1100099.6947944798,-7.9999977899599992,7.9999977899599992,{"$f":"IF(AND(INDEX(Přehled_body!$A$1:$EF$130,MATCH(CONCATENATE(S11,$AA$1),Přehled_body!$A$1:$A$130,0),COLUMN(Přehled_body!EE12))+E11<-89888,$W$1<>\"Výhry\",$W$1<>\"Poč. kol\"),(INDEX(Přehled_body!$A$1:$EF$130,MATCH(CONCATENATE(S11,$AA$1),Přehled_body!$A$1:$A$130,0),COLUMN(Přehled_body!EE12)))*-1+F11,INDEX(Přehled_body!$A$1:$EF$130,MATCH(CONCATENATE(S11,$AA$1),Přehled_body!$A$1:$A$130,0),COLUMN(Přehled_body!EE12))+E11)","v":74.769232879230771},10,141.50000215,null,141.50000215,"Ostatní hráči",{"$f":"IFERROR(IF(AND(INDEX(Přehled_body!$A$1:$EF$130,MATCH(CONCATENATE(S11,$AC$1),Přehled_body!$A$1:$A$130,0),COLUMN(Přehled_body!$EE12))+$F11<-89888,$AC$1<>\"Výhry\",$AC$1<>\"Poč. kol\"),(INDEX(Přehled_body!$A$1:$EF$130,MATCH(CONCATENATE(S11,$AC$1),Přehled_body!$A$1:$A$130,0),COLUMN(Přehled_body!$EE12)))*-1+$F11,INDEX(Přehled_body!$A$1:$EF$130,MATCH(CONCATENATE(S11,$AC$1),Přehled_body!$A$1:$A$130,0),COLUMN(Přehled_body!$EE12))+$F11),INDEX($F$2:$F$17,MATCH($AB11,$D$2:$D$17,0),1))","v":74.76923315923078},{"$f":"IF(AND(INDEX(Přehled_body!$A$1:$EF$130,MATCH(CONCATENATE(S11,$AD$1),Přehled_body!$A$1:$A$130,0),COLUMN(Přehled_body!EE12))+F11<-89888,$AD$1<>\"Výhry\",$AD$1<>\"Poč. kol\"),(INDEX(Přehled_body!$A$1:$EF$130,MATCH(CONCATENATE(S11,$AD$1),Přehled_body!$A$1:$A$130,0),COLUMN(Přehled_body!EE12)))*-1+F11,INDEX(Přehled_body!$A$1:$EF$130,MATCH(CONCATENATE(S11,$AD$1),Přehled_body!$A$1:$A$130,0),COLUMN(Přehled_body!EE12))+F11)","v":2916.0000023900002},null,null,null,null,"Ostatní hráči",141.50000234999999,141.50000234999999,"Jiří Blín",2916.0000023900002,2916.0000023900002,"Kuba Šedivý",{"$f":"IF(INDEX(Tabulka!$AG$4:$AG$83,MATCH(List4!D11,Tabulka!$A$4:$A$83,0)-1,1)<1,-90000+E11,INDEX(Tabulka!$AG$4:$AG$83,MATCH(List4!D11,Tabulka!$A$4:$A$83,0)-1,1)+E11)","v":2.0000021100000001},null,"Ostatní hráči",1.00000208]
[{"$f":"INDEX(Tabulka!$A$2:$A$125,MATCH(B12,Tabulka!$A$2:$A$125,0)-1,1)","v":"Míra Šedivý"},{"$f":"Tabulka!$A$31","v":"Šedivý Míra"},{"$f":"IF(INDEX(Tabulka!$A$2:$AF$180,MATCH(D12,Tabulka!$A$2:$A$180,0)+3,31)<1,-90000,INDEX(Tabulka!$A$2:$AF$180,MATCH(D12,Tabulka!$A$2:$A$180,0),32))+E12","v":-3.9999978899699999},"Míra Šedivý",2.1000000000000011E-6,2.399999999999999E-6,"Míra Šedivý0,000002100",{"$f":"IF(ISERROR(MATCH(D12,Tabulka!$A$4:$A$84,0)),,MATCH(D12,Tabulka!$A$4:$A$84,0))","v":27},null,"Jiří Fiala",-89999.999997809995,{"$f":"INDEX(Tabulka!$A$4:$AF$84,MATCH(J12,Tabulka!$A$4:$A$84,0)-1,31)+INDEX($D$2:$E$17,MATCH(K12,$C$2:$C$17,0),2)","v":-89999.999997809995},{"$f":"INDEX(Tabulka!$A$4:$AF$84,MATCH($J12,Tabulka!$A$4:$A$84,0)+3,31)+INDEX($D$2:$E$17,MATCH(K12,$C$2:$C$17,0),2)","v":-89999.999997809995},{"$f":"INDEX(Tabulka!$B$4:$AF$84,MATCH(J12,Tabulka!$A$4:$A$84,0),30)+IF(K12<-89000,INDEX($E$2:$F$17,MATCH(K12,$C$2:$C$17,0),1),INDEX($E$2:$F$17,MATCH(K12,$C$2:$C$17,0),2))","v":-89999.999997809995},{"$f":"INDEX(Tabulka!$B$4:$AF$84,MATCH(J12,Tabulka!$A$4:$A$84,0)+2,30)+IF(K12<-89000,INDEX($E$2:$F$17,MATCH(K12,$C$2:$C$17,0),1),INDEX($E$2:$F$17,MATCH(K12,$C$2:$C$17,0),2))","v":-89999.999997809995},{"$f":"INDEX(Tabulka!$B$4:$AF$84,MATCH(J12,Tabulka!$A$4:$A$84,0)+1,30)+IF(K12<-89000,INDEX($E$2:$F$17,MATCH(K12,$C$2:$C$17,0),1),INDEX($E$2:$F$17,MATCH(K12,$C$2:$C$17,0),2))","v":-89999.999997809995},-8999999999.7810001,{"$f":"IFERROR(INDEX(Přehled_body!$A$4:$EF$130,MATCH(CONCATENATE(S12,$R$1),Přehled_body!$A$4:$A$130,0),31),\"Neklas\")+E12","v":2.1000000000000011E-6},"Jiří Fiala",-8999999999.7810001,-89999.999997809995,89999.999997809995,{"$f":"IF(AND(INDEX(Přehled_body!$A$1:$EF$130,MATCH(CONCATENATE(S12,$AA$1),Přehled_body!$A$1:$A$130,0),COLUMN(Přehled_body!EE13))+E12<-89888,$W$1<>\"Výhry\",$W$1<>\"Poč. kol\"),(INDEX(Přehled_body!$A$1:$EF$130,MATCH(CONCATENATE(S12,$AA$1),Přehled_body!$A$1:$A$130,0),COLUMN(Přehled_body!EE13)))*-1+F12,INDEX(Přehled_body!$A$1:$EF$130,MATCH(CONCATENATE(S12,$AA$1),Přehled_body!$A$1:$A$130,0),COLUMN(Přehled_body!EE13))+E12)","v":90000.000002400004},11,90000.000002400004,null,"Neklas","Jiří Fiala",{"$f":"IFERROR(IF(AND(INDEX(Přehled_body!$A$1:$EF$130,MATCH(CONCATENATE(S12,$AC$1),Přehled_body!$A$1:$A$130,0),COLUMN(Přehled_body!$EE13))+$F12<-89888,$AC$1<>\"Výhry\",$AC$1<>\"Poč. kol\"),(INDEX(Přehled_body!$A$1:$EF$130,MATCH(CONCATENATE(S12,$AC$1),Přehled_body!$A$1:$A$130,0),COLUMN(Přehled_body!$EE13)))*-1+$F12,INDEX(Přehled_body!$A$1:$EF$130,MATCH(CONCATENATE(S12,$AC$1),Přehled_body!$A$1:$A$130,0),COLUMN(Přehled_body!$EE13))+$F12),INDEX($F$2:$F$17,MATCH($AB12,$D$2:$D$17,0),1))","v":90000.000002400004},{"$f":"IF(AND(INDEX(Přehled_body!$A$1:$EF$130,MATCH(CONCATENATE(S12,$AD$1),Přehled_body!$A$1:$A$130,0),COLUMN(Přehled_body!EE13))+F12<-89888,$AD$1<>\"Výhry\",$AD$1<>\"Poč. kol\"),(INDEX(Přehled_body!$A$1:$EF$130,MATCH(CONCATENATE(S12,$AD$1),Přehled_body!$A$1:$A$130,0),COLUMN(Přehled_body!EE13)))*-1+F12,INDEX(Přehled_body!$A$1:$EF$130,MATCH(CONCATENATE(S12,$AD$1),Přehled_body!$A$1:$A$130,0),COLUMN(Přehled_body!EE13))+F12)","v":90000.000002400004},null,null,null,null,"Jiří Fiala","Neklas",90000.000002400004,"Jiří Fiala","Neklas",90000.000002400004,"Míra Šedivý",{"$f":"IF(INDEX(Tabulka!$AG$4:$AG$83,MATCH(List4!D12,Tabulka!$A$4:$A$83,0)-1,1)<1,-90000+E12,INDEX(Tabulka!$AG$4:$AG$83,MATCH(List4!D12,Tabulka!$A$4:$A$83,0)-1,1)+E12)","v":5.0000020999999997},null,"Jiří Fiala",-89999.999997809995]
[{"$f":"INDEX(Tabulka!$A$2:$A$125,MATCH(B13,Tabulka!$A$2:$A$125,0)-1,1)","v":"Adam Šmíd"},{"$f":"Tabulka!$A$41","v":"Šmíd Adam"},{"$f":"IF(INDEX(Tabulka!$A$2:$AF$180,MATCH(D13,Tabulka!$A$2:$A$180,0)+3,31)<1,-90000,INDEX(Tabulka!$A$2:$AF$180,MATCH(D13,Tabulka!$A$2:$A$180,0),32))+E13","v":-3.9999978999599999},"Adam Šmíd",2.0900000000000012E-6,2.4099999999999989E-6,"Adam Šmíd0,000002090",{"$f":"IF(ISERROR(MATCH(D13,Tabulka!$A$4:$A$84,0)),,MATCH(D13,Tabulka!$A$4:$A$84,0))","v":37},null,"Iva Ivanka",-89999.999997840001,{"$f":"INDEX(Tabulka!$A$4:$AF$84,MATCH(J13,Tabulka!$A$4:$A$84,0)-1,31)+INDEX($D$2:$E$17,MATCH(K13,$C$2:$C$17,0),2)","v":-89999.999997840001},{"$f":"INDEX(Tabulka!$A$4:$AF$84,MATCH($J13,Tabulka!$A$4:$A$84,0)+3,31)+INDEX($D$2:$E$17,MATCH(K13,$C$2:$C$17,0),2)","v":-89999.999997840001},{"$f":"INDEX(Tabulka!$B$4:$AF$84,MATCH(J13,Tabulka!$A$4:$A$84,0),30)+IF(K13<-89000,INDEX($E$2:$F$17,MATCH(K13,$C$2:$C$17,0),1),INDEX($E$2:$F$17,MATCH(K13,$C$2:$C$17,0),2))","v":-89999.999997840001},{"$f":"INDEX(Tabulka!$B$4:$AF$84,MATCH(J13,Tabulka!$A$4:$A$84,0)+2,30)+IF(K13<-89000,INDEX($E$2:$F$17,MATCH(K13,$C$2:$C$17,0),1),INDEX($E$2:$F$17,MATCH(K13,$C$2:$C$17,0),2))","v":-89999.999997840001},{"$f":"INDEX(Tabulka!$B$4:$AF$84,MATCH(J13,Tabulka!$A$4:$A$84,0)+1,30)+IF(K13<-89000,INDEX($E$2:$F$17,MATCH(K13,$C$2:$C$17,0),1),INDEX($E$2:$F$17,MATCH(K13,$C$2:$C$17,0),2))","v":-89999.999997840001},-8999999999.7840004,{"$f":"IFERROR(INDEX(Přehled_body!$A$4:$EF$130,MATCH(CONCATENATE(S13,$R$1),Přehled_body!$A$4:$A$130,0),31),\"Neklas\")+E13","v":2.0900000000000012E-6},"Iva Ivanka",-8999999999.7840004,-89999.999997840001,89999.999997840001,{"$f":"IF(AND(INDEX(Přehled_body!$A$1:$EF$130,MATCH(CONCATENATE(S13,$AA$1),Přehled_body!$A$1:$A$130,0),COLUMN(Přehled_body!EE14))+E13<-89888,$W$1<>\"Výhry\",$W$1<>\"Poč. kol\"),(INDEX(Přehled_body!$A$1:$EF$130,MATCH(CONCATENATE(S13,$AA$1),Přehled_body!$A$1:$A$130,0),COLUMN(Přehled_body!EE14)))*-1+F13,INDEX(Přehled_body!$A$1:$EF$130,MATCH(CONCATENATE(S13,$AA$1),Přehled_body!$A$1:$A$130,0),COLUMN(Přehled_body!EE14))+E13)","v":90000.000002410001},12,90000.000002410001,null,"Neklas","Iva Ivanka",{"$f":"IFERROR(IF(AND(INDEX(Přehled_body!$A$1:$EF$130,MATCH(CONCATENATE(S13,$AC$1),Přehled_body!$A$1:$A$130,0),COLUMN(Přehled_body!$EE14))+$F13<-89888,$AC$1<>\"Výhry\",$AC$1<>\"Poč. kol\"),(INDEX(Přehled_body!$A$1:$EF$130,MATCH(CONCATENATE(S13,$AC$1),Přehled_body!$A$1:$A$130,0),COLUMN(Přehled_body!$EE14)))*-1+$F13,INDEX(Přehled_body!$A$1:$EF$130,MATCH(CONCATENATE(S13,$AC$1),Přehled_body!$A$1:$A$130,0),COLUMN(Přehled_body!$EE14))+$F13),INDEX($F$2:$F$17,MATCH($AB13,$D$2:$D$17,0),1))","v":90000.000002410001},{"$f":"IF(AND(INDEX(Přehled_body!$A$1:$EF$130,MATCH(CONCATENATE(S13,$AD$1),Přehled_body!$A$1:$A$130,0),COLUMN(Přehled_body!EE14))+F13<-89888,$AD$1<>\"Výhry\",$AD$1<>\"Poč. kol\"),(INDEX(Přehled_body!$A$1:$EF$130,MATCH(CONCATENATE(S13,$AD$1),Přehled_body!$A$1:$A$130,0),COLUMN(Přehled_body!EE14)))*-1+F13,INDEX(Přehled_body!$A$1:$EF$130,MATCH(CONCATENATE(S13,$AD$1),Přehled_body!$A$1:$A$130,0),COLUMN(Přehled_body!EE14))+F13)","v":90000.000002410001},null,null,null,null,"Iva Ivanka","Neklas",90000.000002410001,"Iva Ivanka","Neklas",90000.000002410001,"Adam Šmíd",{"$f":"IF(INDEX(Tabulka!$AG$4:$AG$83,MATCH(List4!D13,Tabulka!$A$4:$A$83,0)-1,1)<1,-90000+E13,INDEX(Tabulka!$AG$4:$AG$83,MATCH(List4!D13,Tabulka!$A$4:$A$83,0)-1,1)+E13)","v":7.0000020899999997},null,"Iva Ivanka",-89999.999997840001]
[{"$f":"INDEX(Tabulka!$A$2:$A$125,MATCH(B14,Tabulka!$A$2:$A$125,0)-1,1)","v":"Ostatní hráči"},{"$f":"Tabulka!$A$66","v":"hráči Ostatní"},{"$f":"IF(INDEX(Tabulka!$A$2:$AF$180,MATCH(D14,Tabulka!$A$2:$A$180,0)+3,31)<1,-90000,INDEX(Tabulka!$A$2:$AF$180,MATCH(D14,Tabulka!$A$2:$A$180,0),32))+E14","v":-0.99999790999999993},"Ostatní hráči",2.0800000000000013E-6,2.4199999999999989E-6,"Ostatní hráči0,000002080",{"$f":"IF(ISERROR(MATCH(D14,Tabulka!$A$4:$A$84,0)),,MATCH(D14,Tabulka!$A$4:$A$84,0))","v":62},null,"Míra Kulhan",-89999.999997859995,{"$f":"INDEX(Tabulka!$A$4:$AF$84,MATCH(J14,Tabulka!$A$4:$A$84,0)-1,31)+INDEX($D$2:$E$17,MATCH(K14,$C$2:$C$17,0),2)","v":-89999.999997859995},{"$f":"INDEX(Tabulka!$A$4:$AF$84,MATCH($J14,Tabulka!$A$4:$A$84,0)+3,31)+INDEX($D$2:$E$17,MATCH(K14,$C$2:$C$17,0),2)","v":-89999.999997859995},{"$f":"INDEX(Tabulka!$B$4:$AF$84,MATCH(J14,Tabulka!$A$4:$A$84,0),30)+IF(K14<-89000,INDEX($E$2:$F$17,MATCH(K14,$C$2:$C$17,0),1),INDEX($E$2:$F$17,MATCH(K14,$C$2:$C$17,0),2))","v":-89999.999997859995},{"$f":"INDEX(Tabulka!$B$4:$AF$84,MATCH(J14,Tabulka!$A$4:$A$84,0)+2,30)+IF(K14<-89000,INDEX($E$2:$F$17,MATCH(K14,$C$2:$C$17,0),1),INDEX($E$2:$F$17,MATCH(K14,$C$2:$C$17,0),2))","v":-89999.999997859995},{"$f":"INDEX(Tabulka!$B$4:$AF$84,MATCH(J14,Tabulka!$A$4:$A$84,0)+1,30)+IF(K14<-89000,INDEX($E$2:$F$17,MATCH(K14,$C$2:$C$17,0),1),INDEX($E$2:$F$17,MATCH(K14,$C$2:$C$17,0),2))","v":-89999.999997859995},-8999999999.7859993,{"$f":"IFERROR(INDEX(Přehled_body!$A$4:$EF$130,MATCH(CONCATENATE(S14,$R$1),Přehled_body!$A$4:$A$130,0),31),\"Neklas\")+E14","v":2.0800000000000013E-6},"Míra Kulhan",-8999999999.7859993,-89999.999997859995,89999.999997859995,{"$f":"IF(AND(INDEX(Přehled_body!$A$1:$EF$130,MATCH(CONCATENATE(S14,$AA$1),Přehled_body!$A$1:$A$130,0),COLUMN(Přehled_body!EE15))+E14<-89888,$W$1<>\"Výhry\",$W$1<>\"Poč. kol\"),(INDEX(Přehled_body!$A$1:$EF$130,MATCH(CONCATENATE(S14,$AA$1),Přehled_body!$A$1:$A$130,0),COLUMN(Přehled_body!EE15)))*-1+F14,INDEX(Přehled_body!$A$1:$EF$130,MATCH(CONCATENATE(S14,$AA$1),Přehled_body!$A$1:$A$130,0),COLUMN(Přehled_body!EE15))+E14)","v":90000.000002419998},13,90000.000002419998,null,"Neklas","Míra Kulhan",{"$f":"IFERROR(IF(AND(INDEX(Přehled_body!$A$1:$EF$130,MATCH(CONCATENATE(S14,$AC$1),Přehled_body!$A$1:$A$130,0),COLUMN(Přehled_body!$EE15))+$F14<-89888,$AC$1<>\"Výhry\",$AC$1<>\"Poč. kol\"),(INDEX(Přehled_body!$A$1:$EF$130,MATCH(CONCATENATE(S14,$AC$1),Přehled_body!$A$1:$A$130,0),COLUMN(Přehled_body!$EE15)))*-1+$F14,INDEX(Přehled_body!$A$1:$EF$130,MATCH(CONCATENATE(S14,$AC$1),Přehled_body!$A$1:$A$130,0),COLUMN(Přehled_body!$EE15))+$F14),INDEX($F$2:$F$17,MATCH($AB14,$D$2:$D$17,0),1))","v":90000.000002419998},{"$f":"IF(AND(INDEX(Přehled_body!$A$1:$EF$130,MATCH(CONCATENATE(S14,$AD$1),Přehled_body!$A$1:$A$130,0),COLUMN(Přehled_body!EE15))+F14<-89888,$AD$1<>\"Výhry\",$AD$1<>\"Poč. kol\"),(INDEX(Přehled_body!$A$1:$EF$130,MATCH(CONCATENATE(S14,$AD$1),Přehled_body!$A$1:$A$130,0),COLUMN(Přehled_body!EE15)))*-1+F14,INDEX(Přehled_body!$A$1:$EF$130,MATCH(CONCATENATE(S14,$AD$1),Přehled_body!$A$1:$A$130,0),COLUMN(Přehled_body!EE15))+F14)","v":90000.000002419998},null,null,null,null,"Míra Kulhan","Neklas",90000.000002419998,"Míra Kulhan","Neklas",90000.000002419998,"Ostatní hráči",{"$f":"IF(INDEX(Tabulka!$AG$4:$AG$83,MATCH(List4!D14,Tabulka!$A$4:$A$83,0)-1,1)<1,-90000+E14,INDEX(Tabulka!$AG$4:$AG$83,MATCH(List4!D14,Tabulka!$A$4:$A$83,0)-1,1)+E14)","v":1.00000208},null,"Míra Kulhan",-89999.999997859995]
[{"$f":"INDEX(Tabulka!$A$2:$A$125,MATCH(B15,Tabulka!$A$2:$A$125,0)-1,1)","v":"Milan Veselý"},{"$f":"Tabulka!$A$26","v":"Veselý Milan"},{"$f":"IF(INDEX(Tabulka!$A$2:$AF$180,MATCH(D15,Tabulka!$A$2:$A$180,0)+3,31)<1,-90000,INDEX(Tabulka!$A$2:$AF$180,MATCH(D15,Tabulka!$A$2:$A$180,0),32))+E15","v":13.000002079950001},"Milan Veselý",2.0700000000000014E-6,2.4299999999999988E-6,"Milan Veselý0,000002070",{"$f":"IF(ISERROR(MATCH(D15,Tabulka!$A$4:$A$84,0)),,MATCH(D15,Tabulka!$A$4:$A$84,0))","v":22},null,"Pavel Pernekr",-89999.999997870007,{"$f":"INDEX(Tabulka!$A$4:$AF$84,MATCH(J15,Tabulka!$A$4:$A$84,0)-1,31)+INDEX($D$2:$E$17,MATCH(K15,$C$2:$C$17,0),2)","v":-89999.999997870007},{"$f":"INDEX(Tabulka!$A$4:$AF$84,MATCH($J15,Tabulka!$A$4:$A$84,0)+3,31)+INDEX($D$2:$E$17,MATCH(K15,$C$2:$C$17,0),2)","v":-89999.999997870007},{"$f":"INDEX(Tabulka!$B$4:$AF$84,MATCH(J15,Tabulka!$A$4:$A$84,0),30)+IF(K15<-89000,INDEX($E$2:$F$17,MATCH(K15,$C$2:$C$17,0),1),INDEX($E$2:$F$17,MATCH(K15,$C$2:$C$17,0),2))","v":-89999.999997870007},{"$f":"INDEX(Tabulka!$B$4:$AF$84,MATCH(J15,Tabulka!$A$4:$A$84,0)+2,30)+IF(K15<-89000,INDEX($E$2:$F$17,MATCH(K15,$C$2:$C$17,0),1),INDEX($E$2:$F$17,MATCH(K15,$C$2:$C$17,0),2))","v":-89999.999997870007},{"$f":"INDEX(Tabulka!$B$4:$AF$84,MATCH(J15,Tabulka!$A$4:$A$84,0)+1,30)+IF(K15<-89000,INDEX($E$2:$F$17,MATCH(K15,$C$2:$C$17,0),1),INDEX($E$2:$F$17,MATCH(K15,$C$2:$C$17,0),2))","v":-89999.999997870007},-8999999999.7870007,{"$f":"IFERROR(INDEX(Přehled_body!$A$4:$EF$130,MATCH(CONCATENATE(S15,$R$1),Přehled_body!$A$4:$A$130,0),31),\"Neklas\")+E15","v":2.0700000000000014E-6},"Pavel Pernekr",-8999999999.7870007,-89999.999997870007,89999.999997870007,{"$f":"IF(AND(INDEX(Přehled_body!$A$1:$EF$130,MATCH(CONCATENATE(S15,$AA$1),Přehled_body!$A$1:$A$130,0),COLUMN(Přehled_body!EE16))+E15<-89888,$W$1<>\"Výhry\",$W$1<>\"Poč. kol\"),(INDEX(Přehled_body!$A$1:$EF$130,MATCH(CONCATENATE(S15,$AA$1),Přehled_body!$A$1:$A$130,0),COLUMN(Přehled_body!EE16)))*-1+F15,INDEX(Přehled_body!$A$1:$EF$130,MATCH(CONCATENATE(S15,$AA$1),Přehled_body!$A$1:$A$130,0),COLUMN(Přehled_body!EE16))+E15)","v":90000.000002429995},14,90000.000002429995,null,"Neklas","Pavel Pernekr",{"$f":"IFERROR(IF(AND(INDEX(Přehled_body!$A$1:$EF$130,MATCH(CONCATENATE(S15,$AC$1),Přehled_body!$A$1:$A$130,0),COLUMN(Přehled_body!$EE16))+$F15<-89888,$AC$1<>\"Výhry\",$AC$1<>\"Poč. kol\"),(INDEX(Přehled_body!$A$1:$EF$130,MATCH(CONCATENATE(S15,$AC$1),Přehled_body!$A$1:$A$130,0),COLUMN(Přehled_body!$EE16)))*-1+$F15,INDEX(Přehled_body!$A$1:$EF$130,MATCH(CONCATENATE(S15,$AC$1),Přehled_body!$A$1:$A$130,0),COLUMN(Přehled_body!$EE16))+$F15),INDEX($F$2:$F$17,MATCH($AB15,$D$2:$D$17,0),1))","v":90000.000002429995},{"$f":"IF(AND(INDEX(Přehled_body!$A$1:$EF$130,MATCH(CONCATENATE(S15,$AD$1),Přehled_body!$A$1:$A$130,0),COLUMN(Přehled_body!EE16))+F15<-89888,$AD$1<>\"Výhry\",$AD$1<>\"Poč. kol\"),(INDEX(Přehled_body!$A$1:$EF$130,MATCH(CONCATENATE(S15,$AD$1),Přehled_body!$A$1:$A$130,0),COLUMN(Přehled_body!EE16)))*-1+F15,INDEX(Přehled_body!$A$1:$EF$130,MATCH(CONCATENATE(S15,$AD$1),Přehled_body!$A$1:$A$130,0),COLUMN(Přehled_body!EE16))+F15)","v":90000.000002429995},null,null,null,null,"Pavel Pernekr","Neklas",90000.000002429995,"Pavel Pernekr","Neklas",90000.000002429995,"Milan Veselý",{"$f":"IF(INDEX(Tabulka!$AG$4:$AG$83,MATCH(List4!D15,Tabulka!$A$4:$A$83,0)-1,1)<1,-90000+E15,INDEX(Tabulka!$AG$4:$AG$83,MATCH(List4!D15,Tabulka!$A$4:$A$83,0)-1,1)+E15)","v":10.000002070000001},null,"Pavel Pernekr",-89999.999997870007]
[{"$f":"INDEX(Tabulka!$A$2:$A$125,MATCH(B16,Tabulka!$A$2:$A$125,0)-1,1)","v":"Petr Weiner"},{"$f":"Tabulka!$A$16","v":"Weiner Petr"},{"$f":"IF(INDEX(Tabulka!$A$2:$AF$180,MATCH(D16,Tabulka!$A$2:$A$180,0)+3,31)<1,-90000,INDEX(Tabulka!$A$2:$AF$180,MATCH(D16,Tabulka!$A$2:$A$180,0),32))+E16","v":-89999.999997940002},"Petr Weiner",2.0600000000000015E-6,2.4399999999999987E-6,"Petr Weiner0,000002060",{"$f":"IF(ISERROR(MATCH(D16,Tabulka!$A$4:$A$84,0)),,MATCH(D16,Tabulka!$A$4:$A$84,0))","v":12},null,"Petr Weiner",-89999.999997940002,{"$f":"INDEX(Tabulka!$A$4:$AF$84,MATCH(J16,Tabulka!$A$4:$A$84,0)-1,31)+INDEX($D$2:$E$17,MATCH(K16,$C$2:$C$17,0),2)","v":-89999.999997940002},{"$f":"INDEX(Tabulka!$A$4:$AF$84,MATCH($J16,Tabulka!$A$4:$A$84,0)+3,31)+INDEX($D$2:$E$17,MATCH(K16,$C$2:$C$17,0),2)","v":-89999.999997940002},{"$f":"INDEX(Tabulka!$B$4:$AF$84,MATCH(J16,Tabulka!$A$4:$A$84,0),30)+IF(K16<-89000,INDEX($E$2:$F$17,MATCH(K16,$C$2:$C$17,0),1),INDEX($E$2:$F$17,MATCH(K16,$C$2:$C$17,0),2))","v":-89999.999997940002},{"$f":"INDEX(Tabulka!$B$4:$AF$84,MATCH(J16,Tabulka!$A$4:$A$84,0)+2,30)+IF(K16<-89000,INDEX($E$2:$F$17,MATCH(K16,$C$2:$C$17,0),1),INDEX($E$2:$F$17,MATCH(K16,$C$2:$C$17,0),2))","v":-89999.999997940002},{"$f":"INDEX(Tabulka!$B$4:$AF$84,MATCH(J16,Tabulka!$A$4:$A$84,0)+1,30)+IF(K16<-89000,INDEX($E$2:$F$17,MATCH(K16,$C$2:$C$17,0),1),INDEX($E$2:$F$17,MATCH(K16,$C$2:$C$17,0),2))","v":-89999.999997940002},-8999999999.7940006,{"$f":"IFERROR(INDEX(Přehled_body!$A$4:$EF$130,MATCH(CONCATENATE(S16,$R$1),Přehled_body!$A$4:$A$130,0),31),\"Neklas\")+E16","v":2.0600000000000015E-6},"Petr Weiner",-8999999999.7940006,-89999.999997940002,89999.999997940002,{"$f":"IF(AND(INDEX(Přehled_body!$A$1:$EF$130,MATCH(CONCATENATE(S16,$AA$1),Přehled_body!$A$1:$A$130,0),COLUMN(Přehled_body!EE17))+E16<-89888,$W$1<>\"Výhry\",$W$1<>\"Poč. kol\"),(INDEX(Přehled_body!$A$1:$EF$130,MATCH(CONCATENATE(S16,$AA$1),Přehled_body!$A$1:$A$130,0),COLUMN(Přehled_body!EE17)))*-1+F16,INDEX(Přehled_body!$A$1:$EF$130,MATCH(CONCATENATE(S16,$AA$1),Přehled_body!$A$1:$A$130,0),COLUMN(Přehled_body!EE17))+E16)","v":90000.000002440007},15,90000.000002440007,null,{"$f":"IF(ROUND(ABS(W16),0)=ABS(90000),\"Neklas\",IF(OR($AA$1=\"Výhry\",$AA$1=\"Poč. kol\")=TRUE,LARGE($W$2:$W$15,X16),SMALL($W$2:$W$15,X16)))","v":"Neklas"},"Petr Weiner",{"$f":"IFERROR(IF(AND(INDEX(Přehled_body!$A$1:$EF$130,MATCH(CONCATENATE(S16,$AC$1),Přehled_body!$A$1:$A$130,0),COLUMN(Přehled_body!$EE17))+$F16<-89888,$AC$1<>\"Výhry\",$AC$1<>\"Poč. kol\"),(INDEX(Přehled_body!$A$1:$EF$130,MATCH(CONCATENATE(S16,$AC$1),Přehled_body!$A$1:$A$130,0),COLUMN(Přehled_body!$EE17)))*-1+$F16,INDEX(Přehled_body!$A$1:$EF$130,MATCH(CONCATENATE(S16,$AC$1),Přehled_body!$A$1:$A$130,0),COLUMN(Přehled_body!$EE17))+$F16),INDEX($F$2:$F$17,MATCH($AB16,$D$2:$D$17,0),1))","v":90000.000002440007},{"$f":"IF(AND(INDEX(Přehled_body!$A$1:$EF$130,MATCH(CONCATENATE(S16,$AD$1),Přehled_body!$A$1:$A$130,0),COLUMN(Přehled_body!EE17))+F16<-89888,$AD$1<>\"Výhry\",$AD$1<>\"Poč. kol\"),(INDEX(Přehled_body!$A$1:$EF$130,MATCH(CONCATENATE(S16,$AD$1),Přehled_body!$A$1:$A$130,0),COLUMN(Přehled_body!EE17)))*-1+F16,INDEX(Přehled_body!$A$1:$EF$130,MATCH(CONCATENATE(S16,$AD$1),Přehled_body!$A$1:$A$130,0),COLUMN(Přehled_body!EE17))+F16)","v":90000.000002440007},null,null,null,null,"Petr Weiner","Neklas",90000.000002440007,"Petr Weiner","Neklas",90000.000002440007,"Petr Weiner",{"$f":"IF(INDEX(Tabulka!$AG$4:$AG$83,MATCH(List4!D16,Tabulka!$A$4:$A$83,0)-1,1)<1,-90000+E16,INDEX(Tabulka!$AG$4:$AG$83,MATCH(List4!D16,Tabulka!$A$4:$A$83,0)-1,1)+E16)","v":-89999.999997940002},null,"Petr Weiner",-89999.999997940002]
[{"$f":"INDEX(Tabulka!$A$2:$A$125,MATCH(B17,Tabulka!$A$2:$A$125,0)-1,1)","v":"Míla Weinerová"},{"$f":"Tabulka!$A$76","v":"Weinerová Míla"},{"$f":"IF(INDEX(Tabulka!$A$2:$AF$180,MATCH(D17,Tabulka!$A$2:$A$180,0)+3,31)<1,-90000,INDEX(Tabulka!$A$2:$AF$180,MATCH(D17,Tabulka!$A$2:$A$180,0),32))+E17","v":-89999.999997949999},"Míla Weinerová",2.0500000000000015E-6,2.4499999999999986E-6,"Míla Weinerová0,000002050",{"$f":"IF(ISERROR(MATCH(D17,Tabulka!$A$4:$A$84,0)),,MATCH(D17,Tabulka!$A$4:$A$84,0))","v":72},null,"Míla Weinerová",-89999.999997949999,{"$f":"INDEX(Tabulka!$A$4:$AF$84,MATCH(J17,Tabulka!$A$4:$A$84,0)-1,31)+INDEX($D$2:$E$17,MATCH(K17,$C$2:$C$17,0),2)","v":-89999.999997949999},{"$f":"INDEX(Tabulka!$A$4:$AF$84,MATCH($J17,Tabulka!$A$4:$A$84,0)+3,31)+INDEX($D$2:$E$17,MATCH(K17,$C$2:$C$17,0),2)","v":-89999.999997949999},{"$f":"INDEX(Tabulka!$B$4:$AF$84,MATCH(J17,Tabulka!$A$4:$A$84,0),30)+IF(K17<-89000,INDEX($E$2:$F$17,MATCH(K17,$C$2:$C$17,0),1),INDEX($E$2:$F$17,MATCH(K17,$C$2:$C$17,0),2))","v":-89999.999997949999},{"$f":"INDEX(Tabulka!$B$4:$AF$84,MATCH(J17,Tabulka!$A$4:$A$84,0)+2,30)+IF(K17<-89000,INDEX($E$2:$F$17,MATCH(K17,$C$2:$C$17,0),1),INDEX($E$2:$F$17,MATCH(K17,$C$2:$C$17,0),2))","v":-89999.999997949999},{"$f":"INDEX(Tabulka!$B$4:$AF$84,MATCH(J17,Tabulka!$A$4:$A$84,0)+1,30)+IF(K17<-89000,INDEX($E$2:$F$17,MATCH(K17,$C$2:$C$17,0),1),INDEX($E$2:$F$17,MATCH(K17,$C$2:$C$17,0),2))","v":-89999.999997949999},-8999999999.7950001,{"$f":"IFERROR(INDEX(Přehled_body!$A$4:$EF$130,MATCH(CONCATENATE(S17,$R$1),Přehled_body!$A$4:$A$130,0),31),\"Neklas\")+E17","v":2.0500000000000015E-6},"Míla Weinerová",-8999999999.7950001,-89999.999997949999,89999.999997949999,{"$f":"IF(AND(INDEX(Přehled_body!$A$1:$EF$130,MATCH(CONCATENATE(S17,$AA$1),Přehled_body!$A$1:$A$130,0),COLUMN(Přehled_body!EE18))+E17<-89888,$W$1<>\"Výhry\",$W$1<>\"Poč. kol\"),(INDEX(Přehled_body!$A$1:$EF$130,MATCH(CONCATENATE(S17,$AA$1),Přehled_body!$A$1:$A$130,0),COLUMN(Přehled_body!EE18)))*-1+F17,INDEX(Přehled_body!$A$1:$EF$130,MATCH(CONCATENATE(S17,$AA$1),Přehled_body!$A$1:$A$130,0),COLUMN(Přehled_body!EE18))+E17)","v":90000.000002450004},16,90000.000002450004,null,"Neklas","Míla Weinerová",{"$f":"IFERROR(IF(AND(INDEX(Přehled_body!$A$1:$EF$130,MATCH(CONCATENATE(S17,$AC$1),Přehled_body!$A$1:$A$130,0),COLUMN(Přehled_body!$EE18))+$F17<-89888,$AC$1<>\"Výhry\",$AC$1<>\"Poč. kol\"),(INDEX(Přehled_body!$A$1:$EF$130,MATCH(CONCATENATE(S17,$AC$1),Přehled_body!$A$1:$A$130,0),COLUMN(Přehled_body!$EE18)))*-1+$F17,INDEX(Přehled_body!$A$1:$EF$130,MATCH(CONCATENATE(S17,$AC$1),Přehled_body!$A$1:$A$130,0),COLUMN(Přehled_body!$EE18))+$F17),INDEX($F$2:$F$17,MATCH($AB17,$D$2:$D$17,0),1))","v":90000.000002450004},{"$f":"IF(AND(INDEX(Přehled_body!$A$1:$EF$130,MATCH(CONCATENATE(S17,$AD$1),Přehled_body!$A$1:$A$130,0),COLUMN(Přehled_body!EE18))+F17<-89888,$AD$1<>\"Výhry\",$AD$1<>\"Poč. kol\"),(INDEX(Přehled_body!$A$1:$EF$130,MATCH(CONCATENATE(S17,$AD$1),Přehled_body!$A$1:$A$130,0),COLUMN(Přehled_body!EE18)))*-1+F17,INDEX(Přehled_body!$A$1:$EF$130,MATCH(CONCATENATE(S17,$AD$1),Přehled_body!$A$1:$A$130,0),COLUMN(Přehled_body!EE18))+F17)","v":90000.000002450004},null,null,null,null,"Míla Weinerová","Neklas",90000.000002450004,"Míla Weinerová","Neklas",90000.000002450004,"Míla Weinerová",{"$f":"IF(INDEX(Tabulka!$AG$4:$AG$83,MATCH(List4!D17,Tabulka!$A$4:$A$83,0)-1,1)<1,-90000+E17,INDEX(Tabulka!$AG$4:$AG$83,MATCH(List4!D17,Tabulka!$A$4:$A$83,0)-1,1)+E17)","v":-89999.999997949999},null,"Míla Weinerová",-89999.999997949999]
[]
[null,null,null,null,null,null,null,null,null,null,null,null,null,{"$f":"ABS(N2)","v":5.0000024300500003},10.00000243004,6.0000024300500003]
[null,null,null,null,null,null,null,null,null,null,null,null,null,2.0000023200900001,10.000002320039998,2.0000023200900001]
[null,null,null,null,null,null,null,null,null,null,null,null,null,5.0000023500499999,14.000002350020001,7.0000023500499999,null,null,null,null,null,null,null,null,null,null,null,null,null,null,null,null,null,null,{"$f":"AG2","v":"Výhry"},null,null,{"$f":"AG3","v":"Prohry"},null,null,{"$f":"AG4","v":"Placeno panáků"},null,null,{"$f":"AG5","v":"Přehozy"}]
[null,null,null,null,null,null,null,null,null,null,null,null,null,2.3900199999999993E-6,6.0000023899999997,2.3900199999999993E-6,null,null,null,null,null,null,null,null,null,null,null,null,null,null,null,null,null,null,{"$f":"INDEX($J$2:$J$17,MATCH(L50,$L$2:$L$17,0),1)","v":"Milan Veselý"},{"$f":"IF(L50<-89000,\"Neklas\",L50)","v":18.000002070000001},null,{"$f":"INDEX($J$2:$J$17,MATCH(N50,$N$2:$N$17,0),1)","v":"Kuba Šedivý"},{"$f":"IF(N50<-89000,\"Neklas\",N50)","v":2.3900199999999993E-6},null,{"$f":"INDEX($J$2:$J$17,MATCH(P50,$P$2:$P$17,0),1)","v":"Kuba Šedivý"},{"$f":"IF(P50<-89000,\"Neklas\",P50)","v":2.3900199999999993E-6},null,{"$f":"INDEX($J$2:$J$17,MATCH(O50,$O$2:$O$17,0),1)","v":"Míra Šedivý"},{"$f":"IF(O50<-89000,\"Neklas\",O50)","v":2.4000499999999992E-6}]
[null,null,null,null,null,null,null,null,null,null,null,null,null,4.0000023800599998,7.0000023800599998,7.0000023800599998,null,null,null,null,null,null,null,null,null,null,null,null,null,null,null,null,null,null,"Jarda Klein",11.00000215002,null,{"$f":"INDEX($J$2:$J$17,MATCH(N51,$N$2:$N$17,0),1)","v":"Libor Hruška"},2.0000023200900001,null,{"$f":"INDEX($J$2:$J$17,MATCH(P51,$P$2:$P$17,0),1)","v":"Libor Hruška"},2.0000023200900001,null,{"$f":"INDEX($J$2:$J$17,MATCH(O51,$O$2:$O$17,0),1)","v":"Ostatní hráči"},2.4200099999999987E-6]
[null,null,null,null,null,null,null,null,null,null,null,null,null,2.0000024199999999,2.4200099999999987E-6,2.0000024199999999,null,null,null,null,null,null,null,null,null,null,null,null,null,null,null,null,null,null,"Libor Hruška",8.0000021800399974,null,"Míra Chalupník",2.0000023300000001,null,"Míra Chalupník",2.0000023300000001,null,"Míra Chalupník",1.0000023300000001]
[null,null,null,null,null,null,null,null,null,null,null,null,null,2.0000023300000001,1.0000023300000001,2.0000023300000001,null,null,null,null,null,null,null,null,null,null,null,null,null,null,null,null,null,null,"Standa Roth",6.0000021200400004,null,"Ostatní hráči",2.0000024199999999,null,"Ostatní hráči",2.0000024199999999,null,"Adam Šmíd",2.00000241006]
[null,null,null,null,null,null,null,null,null,null,null,null,null,4.0000024000199996,2.4000499999999992E-6,4.0000024000199996,null,null,null,null,null,null,null,null,null,null,null,null,null,null,null,null,null,null,"Jiří Blín",3.00000220007,null,"Standa Roth",4.0000023800599998,null,"Míra Šedivý",4.0000024000199996,null,"Jiří Blín",6.0000023000700002]
[null,null,null,null,null,null,null,null,null,null,null,null,null,4.0000024100299996,2.00000241006,10.00000241002,null,null,null,null,null,null,null,null,null,null,null,null,null,null,null,null,null,null,"Kuba Šedivý",3.0000021100000001,null,"Míra Šedivý",4.0000024000199996,null,"Milan Veselý",6.0000024300500003,null,"Kuba Šedivý",6.0000023899999997]
[null,null,null,null,null,null,null,null,null,null,null,null,null,11.000002300029999,6.0000023000700002,15.000002300029998,null,null,null,null,null,null,null,null,null,null,null,null,null,null,null,null,null,null,"Ostatní hráči",1.00000208,null,"Adam Šmíd",4.0000024100299996,null,"Jarda Klein",7.0000023500499999,null,"Standa Roth",7.0000023800599998]
[null,null,null,null,null,null,null,null,null,null,null,null,null,89999.999997809995,89999.999997809995,89999.999997809995,null,null,null,null,null,null,null,null,null,null,null,null,null,null,null,null,null,null,"Míra Chalupník",2.1700100000000003E-6,null,"Jarda Klein",5.0000023500499999,null,"Standa Roth",7.0000023800599998,null,"Libor Hruška",10.000002320039998]
[null,null,null,null,null,null,null,null,null,null,null,null,null,89999.999997840001,89999.999997840001,89999.999997840001,null,null,null,null,null,null,null,null,null,null,null,null,null,null,null,null,null,null,"Míra Šedivý",2.1000500000000012E-6,null,"Milan Veselý",5.0000024300500003,null,"Adam Šmíd",10.00000241002,null,"Milan Veselý",10.00000243004]
[null,null,null,null,null,null,null,null,null,null,null,null,null,89999.999997859995,89999.999997859995,89999.999997859995,null,null,null,null,null,null,null,null,null,null,null,null,null,null,null,null,null,null,"Adam Šmíd",2.090070000000001E-6,null,"Jiří Blín",11.000002300029999,null,"Jiří Blín",15.000002300029998,null,"Jarda Klein",14.000002350020001]
[null,null,null,null,null,null,null,null,null,null,null,null,null,89999.999997870007,89999.999997870007,89999.999997870007,null,null,null,null,null,null,null,null,null,null,null,null,null,null,null,null,null,null,"Jiří Fiala","Neklas",null,"Jiří Fiala","Neklas",null,"Jiří Fiala","Neklas",null,"Jiří Fiala","Neklas"]
[null,null,null,null,null,null,null,null,null,null,null,null,null,{"$f":"ABS(N16)","v":89999.999997940002},89999.999997940002,89999.999997940002,null,null,null,null,null,null,null,null,null,null,null,null,null,null,null,null,null,null,"Iva Ivanka","Neklas",null,"Iva Ivanka","Neklas",null,"Iva Ivanka","Neklas",null,"Iva Ivanka",{"$f":"IF(O61<-89000,\"Neklas\",O61)","v":"Neklas"}]
[null,null,null,null,null,null,null,null,null,null,null,null,null,{"$f":"ABS(N17)","v":89999.999997949999},89999.999997949999,89999.999997949999,null,null,null,null,null,null,null,null,null,null,null,null,null,null,null,null,null,null,"Míra Kulhan","Neklas",null,"Míra Kulhan","Neklas",null,"Míra Kulhan",{"$f":"IF(P62<-89000,\"Neklas\",P62)","v":"Neklas"},null,"Míra Kulhan","Neklas"]
[null,null,null,null,null,null,null,null,null,null,null,null,null,null,null,null,null,null,null,null,null,null,null,null,null,null,null,null,null,null,null,null,null,null,{"$f":"INDEX($J$2:$J$17,MATCH(L63,$L$2:$L$17,0),1)","v":"Pavel Pernekr"},"Neklas",null,"Pavel Pernekr",{"$f":"IF(N63<-89000,\"Neklas\",N63)","v":"Neklas"},null,"Pavel Pernekr","Neklas",null,"Pavel Pernekr","Neklas"]
[null,null,null,null,null,null,null,null,null,null,null,null,null,null,null,null,null,null,null,null,null,null,null,null,null,null,null,null,null,null,null,null,null,null,"Petr Weiner",{"$f":"IF(L64<-89000,\"Neklas\",L64)","v":"Neklas"},null,"Petr Weiner","Neklas",null,"Petr Weiner","Neklas",null,"Petr Weiner","Neklas"]
[null,null,null,null,null,null,null,null,null,null,null,null,null,null,null,null,null,null,null,null,null,null,null,null,null,null,null,null,null,null,null,null,null,null,"Míla Weinerová","Neklas",null,"Míla Weinerová",{"$f":"IF(N65<-89000,\"Neklas\",N65)","v":"Neklas"},null,"Míla Weinerová",{"$f":"IF(P65<-89000,\"Neklas\",P65)","v":"Neklas"},null,"Míla Weinerová",{"$f":"IF(O65<-89000,\"Neklas\",O65)","v":"Neklas"}]
[null,null,null,null,null,null,null,null,null,null,null,null,null,null,null,null,null,null,null,null,null,null,null,null,null,null,null,null,null,null,null,null,null,null,{"$f":"AG6","v":"Poč. kol"},null,null,{"$f":"AG7","v":"Počet konečných bodů"},null,null,{"$f":"AG8","v":"Průměr konečných bodů na kolo"},null,null,{"$f":"AO1","v":"Účast dny"}]
[null,null,null,null,null,null,null,null,null,null,null,null,null,null,null,null,null,null,null,null,null,null,null,null,null,null,null,null,null,null,null,null,null,null,{"$f":"INDEX($J$2:$J$15,MATCH(M50,$M$2:$M$17,0),1)","v":"Jiří Blín"},{"$f":"IF(M50<-89000,\"Neklas\",M50)","v":39.000002199999997},null,{"$f":"AL2","v":"Kuba Šedivý"},{"$f":"AM2","v":133.00000233},null,{"$f":"AI2","v":"Kuba Šedivý"},{"$f":"AJ2","v":19.000002330000001},null,{"$f":"INDEX($AO$2:$AO$17,MATCH(AS39,$AP$2:$AP$17,0),1)","v":"Jiří Blín"},{"$f":"LARGE($AP$2:$AP$17,X2)","v":10.000002200000001}]
[null,null,null,null,null,null,null,null,null,null,null,null,null,null,null,null,null,null,null,null,null,null,null,null,null,null,null,null,null,null,null,null,null,null,{"$f":"INDEX($J$2:$J$17,MATCH(M51,$M$2:$M$17,0),1)","v":"Libor Hruška"},{"$f":"IF(M51<-89000,\"Neklas\",M51)","v":39.000002180000003},null,{"$f":"AL3","v":"Míra Chalupník"},{"$f":"AM3","v":325.00000236},null,{"$f":"AI3","v":"Milan Veselý"},{"$f":"AJ3","v":27.923079223076922},null,{"$f":"INDEX($AO$2:$AO$17,MATCH(AS40,$AP$2:$AP$17,0),1)","v":"Libor Hruška"},{"$f":"LARGE($AP$2:$AP$17,X3)","v":10.000002179999999}]
[null,null,null,null,null,null,null,null,null,null,null,null,null,null,null,null,null,null,null,null,null,null,null,null,null,null,null,null,null,null,null,null,null,null,{"$f":"INDEX($J$2:$J$17,MATCH(M52,$M$2:$M$17,0),1)","v":"Milan Veselý"},{"$f":"IF(M52<-89000,\"Neklas\",M52)","v":39.000002070000001},null,{"$f":"AL4","v":"Ostatní hráči"},566.00000235000005,null,{"$f":"AI4","v":"Jarda Klein"},38.800002309999996,null,"Milan Veselý",10.000002070000001]
[null,null,null,null,null,null,null,null,null,null,null,null,null,null,null,null,null,null,null,null,null,null,null,null,null,null,null,null,null,null,null,null,null,null,"Jarda Klein",35.00000215,null,{"$f":"AL5","v":"Milan Veselý"},1089.0000023,null,{"$f":"AI5","v":"Libor Hruška"},46.897438217435898,null,"Jarda Klein",9.0000021500000003]
[null,null,null,null,null,null,null,null,null,null,null,null,null,null,null,null,null,null,null,null,null,null,null,null,null,null,null,null,null,null,null,null,null,null,"Standa Roth",35.000002119999998,null,{"$f":"AL6","v":"Adam Šmíd"},1127.0000023800001,null,{"$f":"AI6","v":"Standa Roth"},58.257145197142862,null,"Standa Roth",9.0000021199999996]
[null,null,null,null,null,null,null,null,null,null,null,null,null,null,null,null,null,null,null,null,null,null,null,null,null,null,null,null,null,null,null,null,null,null,"Míra Šedivý",20.0000021,null,{"$f":"AL7","v":"Jarda Klein"},1358.0000023099999,null,{"$f":"AI7","v":"Míra Šedivý"},73.100002369999999,null,"Adam Šmíd",7.0000020899999997]
[null,null,null,null,null,null,null,null,null,null,null,null,null,null,null,null,null,null,null,null,null,null,null,null,null,null,null,null,null,null,null,null,null,null,"Adam Šmíd",12.000002090000001,null,{"$f":"AL8","v":"Míra Šedivý"},1462.0000023699999,null,{"$f":"AI8","v":"Jiří Blín"},74.76923315923078,null,"Míra Šedivý",5.0000020999999997]
[null,null,null,null,null,null,null,null,null,null,null,null,null,null,null,null,null,null,null,null,null,null,null,null,null,null,null,null,null,null,null,null,null,null,"Kuba Šedivý",7.0000021099999996,null,{"$f":"AL9","v":"Libor Hruška"},1829.00000232,null,{"$f":"AI9","v":"Míra Chalupník"},81.250002359999996,null,"Kuba Šedivý",2.0000021100000001]
[null,null,null,null,null,null,null,null,null,null,null,null,null,null,null,null,null,null,null,null,null,null,null,null,null,null,null,null,null,null,null,null,null,null,"Míra Chalupník",4.0000021700000001,null,{"$f":"AL10","v":"Standa Roth"},2039.00000234,null,{"$f":"AI10","v":"Adam Šmíd"},93.916669046666669,null,"Míra Chalupník",1.0000021699999999]
[null,null,null,null,null,null,null,null,null,null,null,null,null,null,null,null,null,null,null,null,null,null,null,null,null,null,null,null,null,null,null,null,null,null,"Ostatní hráči",4.0000020799999998,null,{"$f":"AL11","v":"Jiří Blín"},2916.0000023900002,null,{"$f":"AI11","v":"Ostatní hráči"},141.50000234999999,null,"Ostatní hráči",1.00000208]
[null,null,null,null,null,null,null,null,null,null,null,null,null,null,null,null,null,null,null,null,null,null,null,null,null,null,null,null,null,null,null,null,null,null,"Jiří Fiala","Neklas",null,{"$f":"AL12","v":"Jiří Fiala"},"Neklas",null,{"$f":"AI12","v":"Jiří Fiala"},"Neklas",null,"Jiří Fiala",-89999.999997809995]
[1,null,null,null,null,null,null,null,null,null,{"$f":"LARGE(K$2:K$17,$A50)","v":13.000002079950001},{"$f":"LARGE(L$2:L$17,$A50)","v":18.000002070000001},{"$f":"LARGE(M$2:M$17,$A50)","v":39.000002199999997},{"$f":"IF(SMALL(N$19:N$34,$A50)>89000,SMALL(N$19:N$34,$A50)*-1,SMALL(N$19:N$34,$A50))","v":2.3900199999999993E-6},{"$f":"IF(SMALL(O$19:O$34,$A50)>89000,SMALL(O$19:O$34,$A50)*-1,SMALL(O$19:O$34,$A50))","v":2.4000499999999992E-6},{"$f":"IF(SMALL(P$19:P$34,$A50)>89000,SMALL(P$19:P$34,$A50)*-1,SMALL(P$19:P$34,$A50))","v":2.3900199999999993E-6},null,null,null,null,null,null,null,null,null,null,null,null,null,null,null,null,null,null,"Iva Ivanka","Neklas",null,{"$f":"AL13","v":"Iva Ivanka"},"Neklas",null,{"$f":"AI13","v":"Iva Ivanka"},"Neklas",null,"Iva Ivanka",-89999.999997840001]
[2,null,null,null,null,null,null,null,null,null,{"$f":"LARGE(K$2:K$17,$A51)","v":6.0000021899499982},11.00000215002,39.000002180000003,{"$f":"IF(SMALL(N$19:N$34,$A51)>89000,SMALL(N$19:N$34,$A51)*-1,SMALL(N$19:N$34,$A51))","v":2.0000023200900001},2.4200099999999987E-6,2.0000023200900001,null,null,null,null,null,null,null,null,null,null,null,null,null,null,null,null,null,null,"Míra Kulhan","Neklas",null,{"$f":"AL14","v":"Míra Kulhan"},"Neklas",null,{"$f":"AI14","v":"Míra Kulhan"},"Neklas",null,"Míra Kulhan",-89999.999997859995]
[3,null,null,null,null,null,null,null,null,null,6.0000021599700002,8.0000021800399974,39.000002070000001,2.0000023300000001,1.0000023300000001,2.0000023300000001,null,null,null,null,null,null,null,null,null,null,null,null,null,null,null,null,null,null,"Pavel Pernekr","Neklas",null,{"$f":"AL15","v":"Pavel Pernekr"},"Neklas",null,{"$f":"AI15","v":"Pavel Pernekr"},"Neklas",null,"Pavel Pernekr",-89999.999997870007]
[4,null,null,null,null,null,null,null,null,null,3.00000211998,6.0000021200400004,35.00000215,2.0000024199999999,2.00000241006,2.0000024199999999,null,null,null,null,null,null,null,null,null,null,null,null,null,null,null,null,null,null,"Petr Weiner","Neklas",null,{"$f":"AL16","v":"Petr Weiner"},"Neklas",null,{"$f":"AI16","v":"Petr Weiner"},"Neklas",null,"Petr Weiner",-89999.999997940002]
[5,null,null,null,null,null,null,null,null,null,2.0000021299799999,3.00000220007,35.000002119999998,4.0000023800599998,6.0000023000700002,4.0000024000199996,null,null,null,null,null,null,null,null,null,null,null,null,null,null,null,null,null,null,"Míla Weinerová","Neklas",null,{"$f":"AL17","v":"Míla Weinerová"},"Neklas",null,{"$f":"AI17","v":"Míla Weinerová"},"Neklas",null,"Míla Weinerová",-89999.999997949999]
[6,null,null,null,null,null,null,null,null,null,-0.99999790999999993,3.0000021100000001,20.0000021,4.0000024000199996,6.0000023899999997,6.0000024300500003]
[7,null,null,null,null,null,null,null,null,null,-1.9999978199900001,1.00000208,12.000002090000001,4.0000024100299996,7.0000023800599998,7.0000023500499999]
[8,null,null,null,null,null,null,null,null,null,-3.9999978899699999,2.1700100000000003E-6,7.0000021099999996,5.0000023500499999,10.000002320039998,7.0000023800599998]
[9,null,null,null,null,null,null,null,null,null,-3.9999978999599999,2.1000500000000012E-6,4.0000021700000001,5.0000024300500003,10.00000243004,10.00000241002]
[10,null,null,null,null,null,null,null,null,null,-7.9999977899599992,2.090070000000001E-6,4.0000020799999998,11.000002300029999,14.000002350020001,15.000002300029998]
[11,null,null,null,null,null,null,null,null,null,-89999.999997809995,-89999.999997809995,-89999.999997809995,-89999.999997809995,-89999.999997809995,-89999.999997809995]
[12,null,null,null,null,null,null,null,null,null,-89999.999997840001,-89999.999997840001,-89999.999997840001,-89999.999997840001,-89999.999997840001,-89999.999997840001]
[13,null,null,null,null,null,null,null,null,null,-89999.999997859995,-89999.999997859995,-89999.999997859995,-89999.999997859995,-89999.999997859995,-89999.999997859995]
[14,null,null,null,null,null,null,null,null,null,-89999.999997870007,-89999.999997870007,-89999.999997870007,-89999.999997870007,-89999.999997870007,-89999.999997870007]
[15,null,null,null,null,null,null,null,null,null,-89999.999997940002,-89999.999997940002,-89999.999997940002,-89999.999997940002,-89999.999997940002,-89999.999997940002]
[16,null,null,null,null,null,null,null,null,null,-89999.999997949999,-89999.999997949999,-89999.999997949999,-89999.999997949999,-89999.999997949999,-89999.999997949999]
[]
[]
[]
[]
[]
[]
[]
[]
[]
[]
[]
[]
[]
[]
[]
[]
[]
[]
[]
[]
[]
[]
[]
[]
[]
[]
[]
[]
[]
[]
[]
[]
[]
[]
[]
[]
[]
[]
[]
[]
[]
[]
[]
[]
[]
[]
[]
[]
[]
[]
[]
[]
[]
[]
[]
[]
[]
[]
[]
[]
[]
[]
[]
[]
[]
[]
[]
[]
[]
[]
[]
[]
[]
[]
[]
[]
["2021-01-02"]
[1900]
["2021.06.29 11:12:59"]

{"sheet":"List1","index":4,"n_rows":0,"n_cols":0,"rows_kept":0,"cut":false,"hidden":true,"merged":[]}