{"text_format":"1","workbook":"xlsx","n_sheets":6,"sheets":["Přehled_body","Tabulka","Pořadí","List4","Zápisy_tisk","Zápisy"],"not_rendered":{"charts":0,"images":1,"macros":1,"external_links":0,"defined_names":19,"comments":0,"pivot_tables":0},"unopened":[],"bounds":{"document_bytes":16777216,"sheet_cells":100000,"rows_first":2000,"rows_last":500,"rows_between":2000,"halvings":0,"cell_chars":16384,"cell_head_chars":4096},"cells_cut":0,"cells_raw":0,"read":"whole","date_system":"1900"}

{"sheet":"Přehled_body","index":0,"n_rows":142,"n_cols":142,"rows_kept":142,"cut":false,"hidden":false,"merged":[[0,24,0,28],[0,29,0,33],[0,2,1,2],[0,4,0,8],[0,9,0,13],[0,14,0,18],[0,19,0,23],[0,135,1,135],[0,34,0,38],[0,39,0,43],[0,44,0,48],[0,49,0,53],[0,54,0,58],[0,59,0,63],[0,64,0,68],[0,119,0,123],[0,69,0,73],[0,124,0,128],[0,129,0,133],[0,74,0,78],[0,79,0,83],[0,114,0,118],[0,109,0,113],[0,104,0,108],[0,99,0,103],[0,94,0,98],[0,89,0,93],[0,84,0,88]]}
[null,null,2021,"2. pololetí","2021-07-13",null,null,null,null,"2021-07-20",null,null,null,null,"2021-07-27",null,null,null,null,"2021-08-10",null,null,null,null,"2021-08-31",null,null,null,null,"2021-09-07",null,null,null,null,"2021-09-14",null,null,null,null,"2021-09-21",null,null,null,null,"2021-10-05",null,null,null,null,"2021-10-12",null,null,null,null,"2021-10-19",null,null,null,null,"2021-10-26",null,null,null,null,"2021-11-02",null,null,null,null,"2021-11-09",null,null,null,null,"2021-11-23",null,null,null,null,"2021-11-30",null,null,null,null,"2021-12-07",null,null,null,null,null,null,null,null,null,null,null,null,null,null,null,null,null,null,null,null,null,null,null,null,null,null,null,null,null,null,null,null,null,null,null,null,null,null,null,null,null,null,null,null,null,null,null,null,null,{"$f":"Tabulka!AE2","v":"Součet"},{"$f":"Tabulka!AF2","v":"Body"},null,null,null,null,null,"1. pololetí"]
[null,null,null,"Kolo",1,2,3,4,5,1,2,3,4,5,1,2,3,4,5,1,2,3,4,5,1,2,3,4,5,1,2,3,4,5,1,2,3,4,5,1,2,3,4,5,1,2,3,4,5,1,2,3,4,5,1,2,3,4,5,1,2,3,4,5,1,2,3,4,5,1,2,3,4,5,1,2,3,4,5,1,2,3,4,5,1,2,3,4,5,1,2,3,4,5,1,2,3,4,5,1,2,3,4,5,1,2,3,4,5,1,2,3,4,5,1,2,3,4,5,1,2,3,4,5,1,2,3,4,5,1,2,3,4,5,{"$f":"Tabulka!AE3","v":"celkem"},{"$f":"Tabulka!AF3","v":0},null,null,null,null,null,"2. pololetí"]
[{"$f":"CONCATENATE($C$4,\" \",$C$5,D3)","v":"Jiří FialaVýhry"},{"$f":"CONCATENATE(C4,\" \",C5)","v":"Jiří Fiala"},{"$f":"Tabulka!B4","v":0},"Výhry",null,null,null,null,null,null,null,null,null,null,null,null,null,null,null,null,null,null,null,null,null,null,null,null,null,null,null,null,null,null,null,null,null,null,null,null,null,null,null,null,null,null,null,null,null,null,null,null,null,null,null,null,null,null,null,null,null,null,null,null,null,null,null,null,null,null,null,null,null,null,null,null,null,null,null,null,null,null,null,null,null,null,null,null,null,null,null,null,null,null,null,null,null,null,null,null,null,null,null,null,null,null,null,null,null,null,null,null,null,null,null,null,null,null,null,null,null,null,null,null,null,null,null,null,null,null,null,null,null,null,{"$f":"IF(AND(SUM(Tabulka!$AG$4)>0.99,(SUM(Tabulka!$AG$4)<2)),-50000+(SUM(E3:ED3)),IF(OR(SUM(Tabulka!$AG$4)<2),-90000,SUM(E3:ED3)))","v":-90000},null,{"$f":"SUM(E3:ED3)","v":0}]
[{"$f":"CONCATENATE($C$4,\" \",$C$5,D4)","v":"Jiří FialaProhry"},{"$f":"CONCATENATE(C4,\" \",C5)","v":"Jiří Fiala"},{"$f":"Tabulka!B5","v":"Jiří"},"Prohry",null,null,null,null,null,null,null,null,null,null,null,null,null,null,null,null,null,null,null,null,null,null,null,null,null,null,null,null,null,null,null,null,null,null,null,null,null,null,null,null,null,null,null,null,null,null,null,null,null,null,null,null,null,null,null,null,null,null,null,null,null,null,null,null,null,null,null,null,null,null,null,null,null,null,null,null,null,null,null,null,null,null,null,null,null,null,null,null,null,null,null,null,null,null,null,null,null,null,null,null,null,null,null,null,null,null,null,null,null,null,null,null,null,null,null,null,null,null,null,null,null,null,null,null,null,null,null,null,null,null,{"$f":"IF(AND(SUM(Tabulka!$AG$4)>0.99,(SUM(Tabulka!$AG$4)<2)),-50000+(SUM(E4:ED4)),IF(OR(SUM(Tabulka!$AG$4)<2),-90000,SUM(E4:ED4)))","v":-90000},{"$f":"SUM(EE3-EE4)","v":0},0]
["Jiří FialaPlaceno panáků",{"$f":"CONCATENATE(C4,\" \",C5)","v":"Jiří Fiala"},{"$f":"Tabulka!B6","v":"Fiala"},"Placeno panáků",null,null,null,null,null,null,null,null,null,null,null,null,null,null,null,null,null,null,null,null,null,null,null,null,null,null,null,null,null,null,null,null,null,null,null,null,null,null,null,null,null,null,null,null,null,null,null,null,null,null,null,null,null,null,null,null,null,null,null,null,null,null,null,null,null,null,null,null,null,null,null,null,null,null,null,null,null,null,null,null,null,null,null,null,null,null,null,null,null,null,null,null,null,null,null,null,null,null,null,null,null,null,null,null,null,null,null,null,null,null,null,null,null,null,null,null,null,null,null,null,null,null,null,null,null,null,null,null,null,null,{"$f":"IF(AND(SUM(Tabulka!$AG$4)>0.99,(SUM(Tabulka!$AG$4)<2)),-50000+(SUM(E5:ED5)),IF(OR(SUM(Tabulka!$AG$4)<2),-90000,SUM(E5:ED5)))","v":-90000},null,0]
["Jiří FialaPřehozy",{"$f":"CONCATENATE(C4,\" \",C5)","v":"Jiří Fiala"},{"$f":"Tabulka!B7","v":0},"Přehozy",null,null,null,null,null,null,null,null,null,null,null,null,null,null,null,null,null,null,null,null,null,null,null,null,null,null,null,null,null,null,null,null,null,null,null,null,null,null,null,null,null,null,null,null,null,null,null,null,null,null,null,null,null,null,null,null,null,null,null,null,null,null,null,null,null,null,null,null,null,null,null,null,null,null,null,null,null,null,null,null,null,null,null,null,null,null,null,null,null,null,null,null,null,null,null,null,null,null,null,null,null,null,null,null,null,null,null,null,null,null,null,null,null,null,null,null,null,null,null,null,null,null,null,null,null,null,null,null,null,null,{"$f":"IF(AND(SUM(Tabulka!$AG$4)>0.99,(SUM(Tabulka!$AG$4)<2)),-50000+(SUM(E6:ED6)),IF(OR(SUM(Tabulka!$AG$4)<2),-90000,SUM(E6:ED6)))","v":-90000},null,0]
["Jiří FialaPoč. kol",{"$f":"CONCATENATE(C4,\" \",C5)","v":"Jiří Fiala"},{"$f":"Tabulka!B8","v":0},"Poč. kol",null,null,null,null,null,null,null,null,null,null,null,null,null,null,null,null,null,null,null,null,null,null,null,null,null,null,null,null,null,null,null,null,null,null,null,null,null,null,null,null,null,null,null,null,null,null,null,null,null,null,null,null,null,null,null,null,null,null,null,null,null,null,null,null,null,null,null,null,null,null,null,null,null,null,null,null,null,null,null,null,null,null,null,null,null,null,null,null,null,null,null,null,null,null,null,null,null,null,null,null,null,null,null,null,null,null,null,null,null,null,null,null,null,null,null,null,null,null,null,null,null,null,null,null,null,null,null,null,null,null,{"$f":"IF(AND(SUM(Tabulka!$AG$4)>0.99,(SUM(Tabulka!$AG$4)<2)),-50000+(SUM(E7:ED7)),IF(OR(SUM(Tabulka!$AG$4)<2),-90000,SUM(E7:ED7)))","v":-90000},null,0]
["Jiří FialaPočet konečných bodů",{"$f":"CONCATENATE(C4,\" \",C5)","v":"Jiří Fiala"},null,"Počet konečných bodů",null,null,null,null,null,null,null,null,null,null,null,null,null,null,null,null,null,null,null,null,null,null,null,null,null,null,null,null,null,null,null,null,null,null,null,null,null,null,null,null,null,null,null,null,null,null,null,null,null,null,null,null,null,null,null,null,null,null,null,null,null,null,null,null,null,null,null,null,null,null,null,null,null,null,null,null,null,null,null,null,null,null,null,null,null,null,null,null,null,null,null,null,null,null,null,null,null,null,null,null,null,null,null,null,null,null,null,null,null,null,null,null,null,null,null,null,null,null,null,null,null,null,null,null,null,null,null,null,null,null,{"$f":"IF(AND(SUM(Tabulka!$AG$4)>0.99,(SUM(Tabulka!$AG$4)<2)),-50000-(SUM(E8:ED8)),IF(OR(SUM(Tabulka!$AG$4)<2),-90000,SUM(E8:ED8)))","v":-90000},null,0]
["Jiří FialaPrůměr konečných bodů na kolo",{"$f":"CONCATENATE(C4,\" \",C5)","v":"Jiří Fiala"},null,"Průměr konečných bodů na kolo",{"$f":"IF(E8<>\"\",AVERAGE($E8:E8)+$EI9,\"\")","v":""},{"$f":"IF(F8<>\"\",AVERAGE($E8:F8)+$EI9,\"\")","v":""},{"$f":"IF(G8<>\"\",AVERAGE($E8:G8)+$EI9,\"\")","v":""},{"$f":"IF(H8<>\"\",AVERAGE($E8:H8)+$EI9,\"\")","v":""},{"$f":"IF(I8<>\"\",AVERAGE($E8:I8)+$EI9,\"\")","v":""},{"$f":"IF(J8<>\"\",AVERAGE($E8:J8)+$EI9,\"\")","v":""},{"$f":"IF(K8<>\"\",AVERAGE($E8:K8)+$EI9,\"\")","v":""},{"$f":"IF(L8<>\"\",AVERAGE($E8:L8)+$EI9,\"\")","v":""},{"$f":"IF(M8<>\"\",AVERAGE($E8:M8)+$EI9,\"\")","v":""},{"$f":"IF(N8<>\"\",AVERAGE($E8:N8)+$EI9,\"\")","v":""},{"$f":"IF(O8<>\"\",AVERAGE($E8:O8)+$EI9,\"\")","v":""},{"$f":"IF(P8<>\"\",AVERAGE($E8:P8)+$EI9,\"\")","v":""},{"$f":"IF(Q8<>\"\",AVERAGE($E8:Q8)+$EI9,\"\")","v":""},{"$f":"IF(R8<>\"\",AVERAGE($E8:R8)+$EI9,\"\")","v":""},{"$f":"IF(S8<>\"\",AVERAGE($E8:S8)+$EI9,\"\")","v":""},{"$f":"IF(T8<>\"\",AVERAGE($E8:T8)+$EI9,\"\")","v":""},{"$f":"IF(U8<>\"\",AVERAGE($E8:U8)+$EI9,\"\")","v":""},{"$f":"IF(V8<>\"\",AVERAGE($E8:V8)+$EI9,\"\")","v":""},{"$f":"IF(W8<>\"\",AVERAGE($E8:W8)+$EI9,\"\")","v":""},{"$f":"IF(X8<>\"\",AVERAGE($E8:X8)+$EI9,\"\")","v":""},{"$f":"IF(Y8<>\"\",AVERAGE($E8:Y8)+$EI9,\"\")","v":""},{"$f":"IF(Z8<>\"\",AVERAGE($E8:Z8)+$EI9,\"\")","v":""},{"$f":"IF(AA8<>\"\",AVERAGE($E8:AA8)+$EI9,\"\")","v":""},{"$f":"IF(AB8<>\"\",AVERAGE($E8:AB8)+$EI9,\"\")","v":""},{"$f":"IF(AC8<>\"\",AVERAGE($E8:AC8)+$EI9,\"\")","v":""},{"$f":"IF(AD8<>\"\",AVERAGE($E8:AD8)+$EI9,\"\")","v":""},{"$f":"IF(AE8<>\"\",AVERAGE($E8:AE8)+$EI9,\"\")","v":""},{"$f":"IF(AF8<>\"\",AVERAGE($E8:AF8)+$EI9,\"\")","v":""},{"$f":"IF(AG8<>\"\",AVERAGE($E8:AG8)+$EI9,\"\")","v":""},{"$f":"IF(AH8<>\"\",AVERAGE($E8:AH8)+$EI9,\"\")","v":""},{"$f":"IF(AI8<>\"\",AVERAGE($E8:AI8)+$EI9,\"\")","v":""},{"$f":"IF(AJ8<>\"\",AVERAGE($E8:AJ8)+$EI9,\"\")","v":""},{"$f":"IF(AK8<>\"\",AVERAGE($E8:AK8)+$EI9,\"\")","v":""},{"$f":"IF(AL8<>\"\",AVERAGE($E8:AL8)+$EI9,\"\")","v":""},{"$f":"IF(AM8<>\"\",AVERAGE($E8:AM8)+$EI9,\"\")","v":""},{"$f":"IF(AN8<>\"\",AVERAGE($E8:AN8)+$EI9,\"\")","v":""},{"$f":"IF(AO8<>\"\",AVERAGE($E8:AO8)+$EI9,\"\")","v":""},{"$f":"IF(AP8<>\"\",AVERAGE($E8:AP8)+$EI9,\"\")","v":""},{"$f":"IF(AQ8<>\"\",AVERAGE($E8:AQ8)+$EI9,\"\")","v":""},{"$f":"IF(AR8<>\"\",AVERAGE($E8:AR8)+$EI9,\"\")","v":""},{"$f":"IF(AS8<>\"\",AVERAGE($E8:AS8)+$EI9,\"\")","v":""},{"$f":"IF(AT8<>\"\",AVERAGE($E8:AT8)+$EI9,\"\")","v":""},{"$f":"IF(AU8<>\"\",AVERAGE($E8:AU8)+$EI9,\"\")","v":""},{"$f":"IF(AV8<>\"\",AVERAGE($E8:AV8)+$EI9,\"\")","v":""},{"$f":"IF(AW8<>\"\",AVERAGE($E8:AW8)+$EI9,\"\")","v":""},{"$f":"IF(AX8<>\"\",AVERAGE($E8:AX8)+$EI9,\"\")","v":""},{"$f":"IF(AY8<>\"\",AVERAGE($E8:AY8)+$EI9,\"\")","v":""},{"$f":"IF(AZ8<>\"\",AVERAGE($E8:AZ8)+$EI9,\"\")","v":""},{"$f":"IF(BA8<>\"\",AVERAGE($E8:BA8)+$EI9,\"\")","v":""},{"$f":"IF(BB8<>\"\",AVERAGE($E8:BB8)+$EI9,\"\")","v":""},{"$f":"IF(BC8<>\"\",AVERAGE($E8:BC8)+$EI9,\"\")","v":""},{"$f":"IF(BD8<>\"\",AVERAGE($E8:BD8)+$EI9,\"\")","v":""},{"$f":"IF(BE8<>\"\",AVERAGE($E8:BE8)+$EI9,\"\")","v":""},{"$f":"IF(BF8<>\"\",AVERAGE($E8:BF8)+$EI9,\"\")","v":""},{"$f":"IF(BG8<>\"\",AVERAGE($E8:BG8)+$EI9,\"\")","v":""},{"$f":"IF(BH8<>\"\",AVERAGE($E8:BH8)+$EI9,\"\")","v":""},{"$f":"IF(BI8<>\"\",AVERAGE($E8:BI8)+$EI9,\"\")","v":""},{"$f":"IF(BJ8<>\"\",AVERAGE($E8:BJ8)+$EI9,\"\")","v":""},{"$f":"IF(BK8<>\"\",AVERAGE($E8:BK8)+$EI9,\"\")","v":""},{"$f":"IF(BL8<>\"\",AVERAGE($E8:BL8)+$EI9,\"\")","v":""},{"$f":"IF(BM8<>\"\",AVERAGE($E8:BM8)+$EI9,\"\")","v":""},{"$f":"IF(BN8<>\"\",AVERAGE($E8:BN8)+$EI9,\"\")","v":""},{"$f":"IF(BO8<>\"\",AVERAGE($E8:BO8)+$EI9,\"\")","v":""},{"$f":"IF(BP8<>\"\",AVERAGE($E8:BP8)+$EI9,\"\")","v":""},{"$f":"IF(BQ8<>\"\",AVERAGE($E8:BQ8)+$EI9,\"\")","v":""},{"$f":"IF(BR8<>\"\",AVERAGE($E8:BR8)+$EI9,\"\")","v":""},{"$f":"IF(BS8<>\"\",AVERAGE($E8:BS8)+$EI9,\"\")","v":""},{"$f":"IF(BT8<>\"\",AVERAGE($E8:BT8)+$EI9,\"\")","v":""},{"$f":"IF(BU8<>\"\",AVERAGE($E8:BU8)+$EI9,\"\")","v":""},{"$f":"IF(BV8<>\"\",AVERAGE($E8:BV8)+$EI9,\"\")","v":""},{"$f":"IF(BW8<>\"\",AVERAGE($E8:BW8)+$EI9,\"\")","v":""},{"$f":"IF(BX8<>\"\",AVERAGE($E8:BX8)+$EI9,\"\")","v":""},{"$f":"IF(BY8<>\"\",AVERAGE($E8:BY8)+$EI9,\"\")","v":""},{"$f":"IF(BZ8<>\"\",AVERAGE($E8:BZ8)+$EI9,\"\")","v":""},{"$f":"IF(CA8<>\"\",AVERAGE($E8:CA8)+$EI9,\"\")","v":""},{"$f":"IF(CB8<>\"\",AVERAGE($E8:CB8)+$EI9,\"\")","v":""},{"$f":"IF(CC8<>\"\",AVERAGE($E8:CC8)+$EI9,\"\")","v":""},{"$f":"IF(CD8<>\"\",AVERAGE($E8:CD8)+$EI9,\"\")","v":""},{"$f":"IF(CE8<>\"\",AVERAGE($E8:CE8)+$EI9,\"\")","v":""},{"$f":"IF(CF8<>\"\",AVERAGE($E8:CF8)+$EI9,\"\")","v":""},{"$f":"IF(CG8<>\"\",AVERAGE($E8:CG8)+$EI9,\"\")","v":""},{"$f":"IF(CH8<>\"\",AVERAGE($E8:CH8)+$EI9,\"\")","v":""},{"$f":"IF(CI8<>\"\",AVERAGE($E8:CI8)+$EI9,\"\")","v":""},{"$f":"IF(CJ8<>\"\",AVERAGE($E8:CJ8)+$EI9,\"\")","v":""},{"$f":"IF(CK8<>\"\",AVERAGE($E8:CK8)+$EI9,\"\")","v":""},{"$f":"IF(CL8<>\"\",AVERAGE($E8:CL8)+$EI9,\"\")","v":""},{"$f":"IF(CM8<>\"\",AVERAGE($E8:CM8)+$EI9,\"\")","v":""},{"$f":"IF(CN8<>\"\",AVERAGE($E8:CN8)+$EI9,\"\")","v":""},{"$f":"IF(CO8<>\"\",AVERAGE($E8:CO8)+$EI9,\"\")","v":""},{"$f":"IF(CP8<>\"\",AVERAGE($E8:CP8)+$EI9,\"\")","v":""},{"$f":"IF(CQ8<>\"\",AVERAGE($E8:CQ8)+$EI9,\"\")","v":""},{"$f":"IF(CR8<>\"\",AVERAGE($E8:CR8)+$EI9,\"\")","v":""},{"$f":"IF(CS8<>\"\",AVERAGE($E8:CS8)+$EI9,\"\")","v":""},{"$f":"IF(CT8<>\"\",AVERAGE($E8:CT8)+$EI9,\"\")","v":""},{"$f":"IF(CU8<>\"\",AVERAGE($E8:CU8)+$EI9,\"\")","v":""},{"$f":"IF(CV8<>\"\",AVERAGE($E8:CV8)+$EI9,\"\")","v":""},{"$f":"IF(CW8<>\"\",AVERAGE($E8:CW8)+$EI9,\"\")","v":""},{"$f":"IF(CX8<>\"\",AVERAGE($E8:CX8)+$EI9,\"\")","v":""},{"$f":"IF(CY8<>\"\",AVERAGE($E8:CY8)+$EI9,\"\")","v":""},{"$f":"IF(CZ8<>\"\",AVERAGE($E8:CZ8)+$EI9,\"\")","v":""},{"$f":"IF(DA8<>\"\",AVERAGE($E8:DA8)+$EI9,\"\")","v":""},{"$f":"IF(DB8<>\"\",AVERAGE($E8:DB8)+$EI9,\"\")","v":""},{"$f":"IF(DC8<>\"\",AVERAGE($E8:DC8)+$EI9,\"\")","v":""},{"$f":"IF(DD8<>\"\",AVERAGE($E8:DD8)+$EI9,\"\")","v":""},{"$f":"IF(DE8<>\"\",AVERAGE($E8:DE8)+$EI9,\"\")","v":""},{"$f":"IF(DF8<>\"\",AVERAGE($E8:DF8)+$EI9,\"\")","v":""},{"$f":"IF(DG8<>\"\",AVERAGE($E8:DG8)+$EI9,\"\")","v":""},{"$f":"IF(DH8<>\"\",AVERAGE($E8:DH8)+$EI9,\"\")","v":""},{"$f":"IF(DI8<>\"\",AVERAGE($E8:DI8)+$EI9,\"\")","v":""},{"$f":"IF(DJ8<>\"\",AVERAGE($E8:DJ8)+$EI9,\"\")","v":""},{"$f":"IF(DK8<>\"\",AVERAGE($E8:DK8)+$EI9,\"\")","v":""},{"$f":"IF(DL8<>\"\",AVERAGE($E8:DL8)+$EI9,\"\")","v":""},{"$f":"IF(DM8<>\"\",AVERAGE($E8:DM8)+$EI9,\"\")","v":""},{"$f":"IF(DN8<>\"\",AVERAGE($E8:DN8)+$EI9,\"\")","v":""},{"$f":"IF(DO8<>\"\",AVERAGE($E8:DO8)+$EI9,\"\")","v":""},{"$f":"IF(DP8<>\"\",AVERAGE($E8:DP8)+$EI9,\"\")","v":""},{"$f":"IF(DQ8<>\"\",AVERAGE($E8:DQ8)+$EI9,\"\")","v":""},{"$f":"IF(DR8<>\"\",AVERAGE($E8:DR8)+$EI9,\"\")","v":""},{"$f":"IF(DS8<>\"\",AVERAGE($E8:DS8)+$EI9,\"\")","v":""},{"$f":"IF(DT8<>\"\",AVERAGE($E8:DT8)+$EI9,\"\")","v":""},{"$f":"IF(DU8<>\"\",AVERAGE($E8:DU8)+$EI9,\"\")","v":""},{"$f":"IF(DV8<>\"\",AVERAGE($E8:DV8)+$EI9,\"\")","v":""},{"$f":"IF(DW8<>\"\",AVERAGE($E8:DW8)+$EI9,\"\")","v":""},{"$f":"IF(DX8<>\"\",AVERAGE($E8:DX8)+$EI9,\"\")","v":""},{"$f":"IF(DY8<>\"\",AVERAGE($E8:DY8)+$EI9,\"\")","v":""},{"$f":"IF(DZ8<>\"\",AVERAGE($E8:DZ8)+$EI9,\"\")","v":""},{"$f":"IF(EA8<>\"\",AVERAGE($E8:EA8)+$EI9,\"\")","v":""},{"$f":"IF(EB8<>\"\",AVERAGE($E8:EB8)+$EI9,\"\")","v":""},{"$f":"IF(EC8<>\"\",AVERAGE($E8:EC8)+$EI9,\"\")","v":""},{"$f":"IF(ED8<>\"\",AVERAGE($E8:ED8)+$EI9,\"\")","v":""},{"$f":"IF(AND(SUM(Tabulka!$AG$4)>0.99,(SUM(Tabulka!$AG$4)<2)),-50000+(SUM(E8:ED8)/COUNT(E9:ED9)),IF(OR(SUM(Tabulka!$AG$4)<2),-90000,SUM(E8:ED8)/COUNT(E9:ED9)))","v":-90000},null,{"$f":"IFERROR(SUM(E8:ED8)/COUNT(E8:ED8),)","v":0},{"$f":"CONCATENATE(C4,\" \",C5)","v":"Jiří Fiala"},{"$f":"INDEX(List4!$E$2:$E$17,MATCH(CONCATENATE(C4,\" \",C5),Tabulka1128[Jmeno_prijmeni],0),1)","v":-2.0999999999999999E-8}]
["Jiří FialaPočet šipek",{"$f":"CONCATENATE(C4,\" \",C5)","v":"Jiří Fiala"},null,"Počet šipek",null,null,null,null,null,null,null,null,null,null,null,null,null,null,null,null,null,null,null,null,null,null,null,null,null,null,null,null,null,null,null,null,null,null,null,null,null,null,null,null,null,null,null,null,null,null,null,null,null,null,null,null,null,null,null,null,null,null,null,null,null,null,null,null,null,null,null,null,null,null,null,null,null,null,null,null,null,null,null,null,null,null,null,null,null,null,null,null,null,null,null,null,null,null,null,null,null,null,null,null,null,null,null,null,null,null,null,null,null,null,null,null,null,null,null,null,null,null,null,null,null,null,null,null,null,null,null,null,null,null,{"$f":"IF(AND(SUM(Tabulka!$AG$4)>0.99,(SUM(Tabulka!$AG$4)<2)),-50000+(SUM(E10:ED10)),IF(OR(SUM(Tabulka!$AG$4)<2),-90000,SUM(E10:ED10)))","v":-90000},null,{"$f":"SUM(E10:ED10)","v":0}]
[{"$f":"CONCATENATE($C$12,\" \",$C$13,D11)","v":"Libor HruškaVýhry"},{"$f":"CONCATENATE(C12,\" \",C13)","v":"Libor Hruška"},{"$f":"Tabulka!B9","v":0},"Výhry",1,null,null,null,null,3,null,null,null,null,1,null,null,null,null,1,null,null,null,null,0,null,null,null,null,0,null,null,null,null,1,null,null,null,null,0,null,null,null,null,1,null,null,null,null,0,null,null,null,null,1,null,null,null,null,0,null,null,null,null,1,null,null,null,null,0,null,null,null,null,2,null,null,null,null,0,null,null,null,null,0,null,null,null,null,null,null,null,null,null,null,null,null,null,null,null,null,null,null,null,null,null,null,null,null,null,null,null,null,null,null,null,null,null,null,null,null,null,null,null,null,null,null,null,null,null,null,null,null,null,{"$f":"IF(AND(SUM(Tabulka!$AG$9)>0.99,(SUM(Tabulka!$AG$9)<2)),-50000+(SUM(E11:ED11)),IF(OR(SUM(Tabulka!$AG$9)<2),-90000,SUM(E11:ED11)))","v":12},null,12]
["Libor HruškaProhry","Libor Hruška",{"$f":"Tabulka!B10","v":"Libor"},"Prohry",0,null,null,null,null,0,null,null,null,null,0,null,null,null,null,2,null,null,null,null,0,null,null,null,null,0,null,null,null,null,0,null,null,null,null,0,null,null,null,null,0,null,null,null,null,0,null,null,null,null,2,null,null,null,null,0,null,null,null,null,0,null,null,null,null,1,null,null,null,null,0,null,null,null,null,1,null,null,null,null,0,null,null,null,null,null,null,null,null,null,null,null,null,null,null,null,null,null,null,null,null,null,null,null,null,null,null,null,null,null,null,null,null,null,null,null,null,null,null,null,null,null,null,null,null,null,null,null,null,null,{"$f":"IF(AND(SUM(Tabulka!$AG$9)>0.99,(SUM(Tabulka!$AG$9)<2)),-50000+(SUM(E12:ED12)),IF(OR(SUM(Tabulka!$AG$9)<2),-90000,SUM(E12:ED12)))","v":6},{"$f":"SUM(EE11-EE12)","v":6},6]
["Libor HruškaPlaceno panáků",{"$f":"CONCATENATE(C12,\" \",C13)","v":"Libor Hruška"},{"$f":"Tabulka!B11","v":"Hruška"},"Placeno panáků",0,null,null,null,null,0,null,null,null,null,0,null,null,null,null,2,null,null,null,null,0,null,null,null,null,0,null,null,null,null,0,null,null,null,null,0,null,null,null,null,0,null,null,null,null,0,null,null,null,null,6,null,null,null,null,0,null,null,null,null,0,null,null,null,null,1,null,null,null,null,0,null,null,null,null,1,null,null,null,null,0,null,null,null,null,null,null,null,null,null,null,null,null,null,null,null,null,null,null,null,null,null,null,null,null,null,null,null,null,null,null,null,null,null,null,null,null,null,null,null,null,null,null,null,null,null,null,null,null,null,{"$f":"IF(AND(SUM(Tabulka!$AG$9)>0.99,(SUM(Tabulka!$AG$9)<2)),-50000+(SUM(E13:ED13)),IF(OR(SUM(Tabulka!$AG$9)<2),-90000,SUM(E13:ED13)))","v":10},null,10]
["Libor HruškaPřehozy",{"$f":"CONCATENATE(C12,\" \",C13)","v":"Libor Hruška"},{"$f":"Tabulka!B12","v":0},"Přehozy",1,null,null,null,null,2,null,null,null,null,0,null,null,null,null,1,null,null,null,null,1,null,null,null,null,3,null,null,null,null,0,null,null,null,null,0,null,null,null,null,0,null,null,null,null,2,null,null,null,null,2,null,null,null,null,1,null,null,null,null,1,null,null,null,null,1,null,null,null,null,0,null,null,null,null,0,null,null,null,null,0,null,null,null,null,null,null,null,null,null,null,null,null,null,null,null,null,null,null,null,null,null,null,null,null,null,null,null,null,null,null,null,null,null,null,null,null,null,null,null,null,null,null,null,null,null,null,null,null,null,{"$f":"IF(AND(SUM(Tabulka!$AG$9)>0.99,(SUM(Tabulka!$AG$9)<2)),-50000+(SUM(E14:ED14)),IF(OR(SUM(Tabulka!$AG$9)<2),-90000,SUM(E14:ED14)))","v":15},null,15]
["Libor HruškaPoč. kol",{"$f":"CONCATENATE(C12,\" \",C13)","v":"Libor Hruška"},{"$f":"Tabulka!B13","v":0},"Poč. kol",4,null,null,null,null,4,null,null,null,null,4,null,null,null,null,4,null,null,null,null,4,null,null,null,null,4,null,null,null,null,4,null,null,null,null,4,null,null,null,null,3,null,null,null,null,4,null,null,null,null,5,null,null,null,null,4,null,null,null,null,4,null,null,null,null,5,null,null,null,null,4,null,null,null,null,4,null,null,null,null,4,null,null,null,null,null,null,null,null,null,null,null,null,null,null,null,null,null,null,null,null,null,null,null,null,null,null,null,null,null,null,null,null,null,null,null,null,null,null,null,null,null,null,null,null,null,null,null,null,null,{"$f":"IF(AND(SUM(Tabulka!$AG$9)>0.99,(SUM(Tabulka!$AG$9)<2)),-50000+(SUM(E15:ED15)),IF(OR(SUM(Tabulka!$AG$9)<2),-90000,SUM(E15:ED15)))","v":69},null,69]
["Libor HruškaPočet konečných bodů",{"$f":"CONCATENATE(C12,\" \",C13)","v":"Libor Hruška"},null,"Počet konečných bodů",19,45,98,0,null,0,0,25,0,null,0,16,70,74,null,140,0,56,182,null,118,178,33,21,null,33,74,3,67,null,85,0,11,90,null,71,108,41,33,null,26,0,23,null,null,16,22,23,28,null,50,54,0,53,21,30,67,98,91,null,56,0,110,15,null,9,52,122,64,44,31,0,0,23,null,96,122,52,69,null,145,36,22,38,null,null,null,null,null,null,null,null,null,null,null,null,null,null,null,null,null,null,null,null,null,null,null,null,null,null,null,null,null,null,null,null,null,null,null,null,null,null,null,null,null,null,null,null,null,null,{"$f":"IF(AND(SUM(Tabulka!$AG$9)>0.99,(SUM(Tabulka!$AG$9)<2)),-50000-(SUM(E16:ED16)),IF(OR(SUM(Tabulka!$AG$9)<2),-90000,SUM(E16:ED16)))","v":3399},null,3399]
["Libor HruškaPrůměr konečných bodů na kolo",{"$f":"CONCATENATE(C12,\" \",C13)","v":"Libor Hruška"},null,"Průměr konečných bodů na kolo",{"$f":"IF(E16<>\"\",AVERAGE($E16:E16)+$EI17,\"\")","v":18.999999969000001},{"$f":"IF(F16<>\"\",AVERAGE($E16:F16)+$EI17,\"\")","v":31.999999969000001},{"$f":"IF(G16<>\"\",AVERAGE($E16:G16)+$EI17,\"\")","v":53.999999969000001},{"$f":"IF(H16<>\"\",AVERAGE($E16:H16)+$EI17,\"\")","v":40.499999969000001},{"$f":"IF(I16<>\"\",AVERAGE($E16:I16)+$EI17,\"\")","v":""},{"$f":"IF(J16<>\"\",AVERAGE($E16:J16)+$EI17,\"\")","v":32.399999969},{"$f":"IF(K16<>\"\",AVERAGE($E16:K16)+$EI17,\"\")","v":26.999999969000001},{"$f":"IF(L16<>\"\",AVERAGE($E16:L16)+$EI17,\"\")","v":26.714285683285716},{"$f":"IF(M16<>\"\",AVERAGE($E16:M16)+$EI17,\"\")","v":23.374999969000001},{"$f":"IF(N16<>\"\",AVERAGE($E16:N16)+$EI17,\"\")","v":""},{"$f":"IF(O16<>\"\",AVERAGE($E16:O16)+$EI17,\"\")","v":20.77777774677778},{"$f":"IF(P16<>\"\",AVERAGE($E16:P16)+$EI17,\"\")","v":20.299999969000002},{"$f":"IF(Q16<>\"\",AVERAGE($E16:Q16)+$EI17,\"\")","v":24.818181787181818},{"$f":"IF(R16<>\"\",AVERAGE($E16:R16)+$EI17,\"\")","v":28.916666635666669},{"$f":"IF(S16<>\"\",AVERAGE($E16:S16)+$EI17,\"\")","v":""},{"$f":"IF(T16<>\"\",AVERAGE($E16:T16)+$EI17,\"\")","v":37.461538430538461},{"$f":"IF(U16<>\"\",AVERAGE($E16:U16)+$EI17,\"\")","v":34.785714254714286},{"$f":"IF(V16<>\"\",AVERAGE($E16:V16)+$EI17,\"\")","v":36.199999969000004},{"$f":"IF(W16<>\"\",AVERAGE($E16:W16)+$EI17,\"\")","v":45.312499969000001},{"$f":"IF(X16<>\"\",AVERAGE($E16:X16)+$EI17,\"\")","v":""},{"$f":"IF(Y16<>\"\",AVERAGE($E16:Y16)+$EI17,\"\")","v":49.588235263117646},{"$f":"IF(Z16<>\"\",AVERAGE($E16:Z16)+$EI17,\"\")","v":56.722222191222222},{"$f":"IF(AA16<>\"\",AVERAGE($E16:AA16)+$EI17,\"\")","v":55.473684179526316},{"$f":"IF(AB16<>\"\",AVERAGE($E16:AB16)+$EI17,\"\")","v":53.749999969000001},{"$f":"IF(AC16<>\"\",AVERAGE($E16:AC16)+$EI17,\"\")","v":""},{"$f":"IF(AD16<>\"\",AVERAGE($E16:AD16)+$EI17,\"\")","v":52.76190473090476},{"$f":"IF(AE16<>\"\",AVERAGE($E16:AE16)+$EI17,\"\")","v":53.727272696272728},{"$f":"IF(AF16<>\"\",AVERAGE($E16:AF16)+$EI17,\"\")","v":51.521739099434782},{"$f":"IF(AG16<>\"\",AVERAGE($E16:AG16)+$EI17,\"\")","v":52.166666635666665},{"$f":"IF(AH16<>\"\",AVERAGE($E16:AH16)+$EI17,\"\")","v":""},{"$f":"IF(AI16<>\"\",AVERAGE($E16:AI16)+$EI17,\"\")","v":53.479999968999998},{"$f":"IF(AJ16<>\"\",AVERAGE($E16:AJ16)+$EI17,\"\")","v":51.423076892076921},{"$f":"IF(AK16<>\"\",AVERAGE($E16:AK16)+$EI17,\"\")","v":49.925925894925925},{"$f":"IF(AL16<>\"\",AVERAGE($E16:AL16)+$EI17,\"\")","v":51.357142826142855},{"$f":"IF(AM16<>\"\",AVERAGE($E16:AM16)+$EI17,\"\")","v":""},{"$f":"IF(AN16<>\"\",AVERAGE($E16:AN16)+$EI17,\"\")","v":52.034482727620691},{"$f":"IF(AO16<>\"\",AVERAGE($E16:AO16)+$EI17,\"\")","v":53.899999969},{"$f":"IF(AP16<>\"\",AVERAGE($E16:AP16)+$EI17,\"\")","v":53.483870936741937},{"$f":"IF(AQ16<>\"\",AVERAGE($E16:AQ16)+$EI17,\"\")","v":52.843749969000001},{"$f":"IF(AR16<>\"\",AVERAGE($E16:AR16)+$EI17,\"\")","v":""},{"$f":"IF(AS16<>\"\",AVERAGE($E16:AS16)+$EI17,\"\")","v":52.030302999303032},{"$f":"IF(AT16<>\"\",AVERAGE($E16:AT16)+$EI17,\"\")","v":50.499999969000001},{"$f":"IF(AU16<>\"\",AVERAGE($E16:AU16)+$EI17,\"\")","v":49.714285683285716},{"$f":"IF(AV16<>\"\",AVERAGE($E16:AV16)+$EI17,\"\")","v":""},{"$f":"IF(AW16<>\"\",AVERAGE($E16:AW16)+$EI17,\"\")","v":""},{"$f":"IF(AX16<>\"\",AVERAGE($E16:AX16)+$EI17,\"\")","v":48.77777774677778},{"$f":"IF(AY16<>\"\",AVERAGE($E16:AY16)+$EI17,\"\")","v":48.054054023054057},{"$f":"IF(AZ16<>\"\",AVERAGE($E16:AZ16)+$EI17,\"\")","v":47.394736811105261},{"$f":"IF(BA16<>\"\",AVERAGE($E16:BA16)+$EI17,\"\")","v":46.897435866435899},{"$f":"IF(BB16<>\"\",AVERAGE($E16:BB16)+$EI17,\"\")","v":""},{"$f":"IF(BC16<>\"\",AVERAGE($E16:BC16)+$EI17,\"\")","v":46.974999969000002},{"$f":"IF(BD16<>\"\",AVERAGE($E16:BD16)+$EI17,\"\")","v":47.146341432414637},{"$f":"IF(BE16<>\"\",AVERAGE($E16:BE16)+$EI17,\"\")","v":46.023809492809526},{"$f":"IF(BF16<>\"\",AVERAGE($E16:BF16)+$EI17,\"\")","v":46.186046480627908},{"$f":"IF(BG16<>\"\",AVERAGE($E16:BG16)+$EI17,\"\")","v":45.613636332636368},{"$f":"IF(BH16<>\"\",AVERAGE($E16:BH16)+$EI17,\"\")","v":45.266666635666667},{"$f":"IF(BI16<>\"\",AVERAGE($E16:BI16)+$EI17,\"\")","v":45.73913040378261},{"$f":"IF(BJ16<>\"\",AVERAGE($E16:BJ16)+$EI17,\"\")","v":46.851063798787237},{"$f":"IF(BK16<>\"\",AVERAGE($E16:BK16)+$EI17,\"\")","v":47.770833302333337},{"$f":"IF(BL16<>\"\",AVERAGE($E16:BL16)+$EI17,\"\")","v":""},{"$f":"IF(BM16<>\"\",AVERAGE($E16:BM16)+$EI17,\"\")","v":47.938775479204082},{"$f":"IF(BN16<>\"\",AVERAGE($E16:BN16)+$EI17,\"\")","v":46.979999968999998},{"$f":"IF(BO16<>\"\",AVERAGE($E16:BO16)+$EI17,\"\")","v":48.215686243509808},{"$f":"IF(BP16<>\"\",AVERAGE($E16:BP16)+$EI17,\"\")","v":47.576923045923081},{"$f":"IF(BQ16<>\"\",AVERAGE($E16:BQ16)+$EI17,\"\")","v":""},{"$f":"IF(BR16<>\"\",AVERAGE($E16:BR16)+$EI17,\"\")","v":46.849056572773584},{"$f":"IF(BS16<>\"\",AVERAGE($E16:BS16)+$EI17,\"\")","v":46.944444413444444},{"$f":"IF(BT16<>\"\",AVERAGE($E16:BT16)+$EI17,\"\")","v":48.309090878090913},{"$f":"IF(BU16<>\"\",AVERAGE($E16:BU16)+$EI17,\"\")","v":48.589285683285716},{"$f":"IF(BV16<>\"\",AVERAGE($E16:BV16)+$EI17,\"\")","v":48.508771898824563},{"$f":"IF(BW16<>\"\",AVERAGE($E16:BW16)+$EI17,\"\")","v":48.206896520724136},{"$f":"IF(BX16<>\"\",AVERAGE($E16:BX16)+$EI17,\"\")","v":47.389830477474575},{"$f":"IF(BY16<>\"\",AVERAGE($E16:BY16)+$EI17,\"\")","v":46.599999969000002},{"$f":"IF(BZ16<>\"\",AVERAGE($E16:BZ16)+$EI17,\"\")","v":46.213114723098364},{"$f":"IF(CA16<>\"\",AVERAGE($E16:CA16)+$EI17,\"\")","v":""},{"$f":"IF(CB16<>\"\",AVERAGE($E16:CB16)+$EI17,\"\")","v":47.016129001258065},{"$f":"IF(CC16<>\"\",AVERAGE($E16:CC16)+$EI17,\"\")","v":48.20634917534921},{"$f":"IF(CD16<>\"\",AVERAGE($E16:CD16)+$EI17,\"\")","v":48.265624969000001},{"$f":"IF(CE16<>\"\",AVERAGE($E16:CE16)+$EI17,\"\")","v":48.584615353615384},{"$f":"IF(CF16<>\"\",AVERAGE($E16:CF16)+$EI17,\"\")","v":""},{"$f":"IF(CG16<>\"\",AVERAGE($E16:CG16)+$EI17,\"\")","v":50.045454514454548},{"$f":"IF(CH16<>\"\",AVERAGE($E16:CH16)+$EI17,\"\")","v":49.83582086452239},{"$f":"IF(CI16<>\"\",AVERAGE($E16:CI16)+$EI17,\"\")","v":49.426470557235298},{"$f":"IF(CJ16<>\"\",AVERAGE($E16:CJ16)+$EI17,\"\")","v":49.260869534217392},{"$f":"IF(CK16<>\"\",AVERAGE($E16:CK16)+$EI17,\"\")","v":""},{"$f":"IF(CL16<>\"\",AVERAGE($E16:CL16)+$EI17,\"\")","v":""},{"$f":"IF(CM16<>\"\",AVERAGE($E16:CM16)+$EI17,\"\")","v":""},{"$f":"IF(CN16<>\"\",AVERAGE($E16:CN16)+$EI17,\"\")","v":""},{"$f":"IF(CO16<>\"\",AVERAGE($E16:CO16)+$EI17,\"\")","v":""},{"$f":"IF(CP16<>\"\",AVERAGE($E16:CP16)+$EI17,\"\")","v":""},{"$f":"IF(CQ16<>\"\",AVERAGE($E16:CQ16)+$EI17,\"\")","v":""},{"$f":"IF(CR16<>\"\",AVERAGE($E16:CR16)+$EI17,\"\")","v":""},{"$f":"IF(CS16<>\"\",AVERAGE($E16:CS16)+$EI17,\"\")","v":""},{"$f":"IF(CT16<>\"\",AVERAGE($E16:CT16)+$EI17,\"\")","v":""},{"$f":"IF(CU16<>\"\",AVERAGE($E16:CU16)+$EI17,\"\")","v":""},{"$f":"IF(CV16<>\"\",AVERAGE($E16:CV16)+$EI17,\"\")","v":""},{"$f":"IF(CW16<>\"\",AVERAGE($E16:CW16)+$EI17,\"\")","v":""},{"$f":"IF(CX16<>\"\",AVERAGE($E16:CX16)+$EI17,\"\")","v":""},{"$f":"IF(CY16<>\"\",AVERAGE($E16:CY16)+$EI17,\"\")","v":""},{"$f":"IF(CZ16<>\"\",AVERAGE($E16:CZ16)+$EI17,\"\")","v":""},{"$f":"IF(DA16<>\"\",AVERAGE($E16:DA16)+$EI17,\"\")","v":""},{"$f":"IF(DB16<>\"\",AVERAGE($E16:DB16)+$EI17,\"\")","v":""},{"$f":"IF(DC16<>\"\",AVERAGE($E16:DC16)+$EI17,\"\")","v":""},{"$f":"IF(DD16<>\"\",AVERAGE($E16:DD16)+$EI17,\"\")","v":""},{"$f":"IF(DE16<>\"\",AVERAGE($E16:DE16)+$EI17,\"\")","v":""},{"$f":"IF(DF16<>\"\",AVERAGE($E16:DF16)+$EI17,\"\")","v":""},{"$f":"IF(DG16<>\"\",AVERAGE($E16:DG16)+$EI17,\"\")","v":""},{"$f":"IF(DH16<>\"\",AVERAGE($E16:DH16)+$EI17,\"\")","v":""},{"$f":"IF(DI16<>\"\",AVERAGE($E16:DI16)+$EI17,\"\")","v":""},{"$f":"IF(DJ16<>\"\",AVERAGE($E16:DJ16)+$EI17,\"\")","v":""},{"$f":"IF(DK16<>\"\",AVERAGE($E16:DK16)+$EI17,\"\")","v":""},{"$f":"IF(DL16<>\"\",AVERAGE($E16:DL16)+$EI17,\"\")","v":""},{"$f":"IF(DM16<>\"\",AVERAGE($E16:DM16)+$EI17,\"\")","v":""},{"$f":"IF(DN16<>\"\",AVERAGE($E16:DN16)+$EI17,\"\")","v":""},{"$f":"IF(DO16<>\"\",AVERAGE($E16:DO16)+$EI17,\"\")","v":""},{"$f":"IF(DP16<>\"\",AVERAGE($E16:DP16)+$EI17,\"\")","v":""},{"$f":"IF(DQ16<>\"\",AVERAGE($E16:DQ16)+$EI17,\"\")","v":""},{"$f":"IF(DR16<>\"\",AVERAGE($E16:DR16)+$EI17,\"\")","v":""},{"$f":"IF(DS16<>\"\",AVERAGE($E16:DS16)+$EI17,\"\")","v":""},{"$f":"IF(DT16<>\"\",AVERAGE($E16:DT16)+$EI17,\"\")","v":""},{"$f":"IF(DU16<>\"\",AVERAGE($E16:DU16)+$EI17,\"\")","v":""},{"$f":"IF(DV16<>\"\",AVERAGE($E16:DV16)+$EI17,\"\")","v":""},{"$f":"IF(DW16<>\"\",AVERAGE($E16:DW16)+$EI17,\"\")","v":""},{"$f":"IF(DX16<>\"\",AVERAGE($E16:DX16)+$EI17,\"\")","v":""},{"$f":"IF(DY16<>\"\",AVERAGE($E16:DY16)+$EI17,\"\")","v":""},{"$f":"IF(DZ16<>\"\",AVERAGE($E16:DZ16)+$EI17,\"\")","v":""},{"$f":"IF(EA16<>\"\",AVERAGE($E16:EA16)+$EI17,\"\")","v":""},{"$f":"IF(EB16<>\"\",AVERAGE($E16:EB16)+$EI17,\"\")","v":""},{"$f":"IF(EC16<>\"\",AVERAGE($E16:EC16)+$EI17,\"\")","v":""},{"$f":"IF(ED16<>\"\",AVERAGE($E16:ED16)+$EI17,\"\")","v":""},{"$f":"IF(AND(SUM(Tabulka!$AG$9)>0.99,(SUM(Tabulka!$AG$9)<2)),-50000+(SUM(E16:ED16)/COUNT(E17:ED17)),IF(OR(SUM(Tabulka!$AG$9)<2),-90000,SUM(E16:ED16)/COUNT(E17:ED17)))","v":49.260869565217391},null,{"$f":"IFERROR(SUM(E16:ED16)/COUNT(E16:ED16),)","v":49.260869565217391},{"$f":"CONCATENATE(C12,\" \",C13)","v":"Libor Hruška"},{"$f":"INDEX(List4!$E$2:$E$17,MATCH(CONCATENATE(C12,\" \",C13),Tabulka1128[Jmeno_prijmeni],0),1)","v":-3.1E-8}]
["Libor HruškaPočet šipek",{"$f":"CONCATENATE(C12,\" \",C13)","v":"Libor Hruška"},null,"Počet šipek",null,null,null,null,null,null,null,null,null,null,null,null,null,null,null,null,null,null,null,null,null,null,null,null,null,null,null,null,null,null,null,null,null,null,null,null,null,null,null,null,null,null,null,null,null,null,null,null,null,null,null,null,null,null,null,null,null,null,null,null,null,null,null,null,null,null,null,null,null,null,null,null,null,null,null,null,null,null,null,null,null,null,null,null,null,null,null,null,null,null,null,null,null,null,null,null,null,null,null,null,null,null,null,null,null,null,null,null,null,null,null,null,null,null,null,null,null,null,null,null,null,null,null,null,null,null,null,null,null,null,{"$f":"IF(AND(SUM(Tabulka!$AG$9)>0.99,(SUM(Tabulka!$AG$9)<2)),-50000+(SUM(E18:ED18)),IF(OR(SUM(Tabulka!$AG$9)<2),-90000,SUM(E18:ED18)))","v":0},null,0]
[{"$f":"CONCATENATE($C$20,\" \",$C$21,D19)","v":"Petr ŠumVýhry"},{"$f":"CONCATENATE(C20,\" \",C21)","v":"Petr Šum"},{"$f":"Tabulka!B14","v":0},"Výhry",null,null,null,null,null,null,null,null,null,null,null,null,null,null,null,null,null,null,null,null,null,null,null,null,null,null,null,null,null,null,null,null,null,null,null,null,null,null,null,null,null,null,null,null,null,null,null,null,null,null,null,null,null,null,null,null,null,null,null,null,null,null,null,null,null,null,null,null,null,null,null,null,null,null,null,null,null,null,null,null,0,null,null,null,null,null,null,null,null,null,null,null,null,null,null,null,null,null,null,null,null,null,null,null,null,null,null,null,null,null,null,null,null,null,null,null,null,null,null,null,null,null,null,null,null,null,null,null,null,null,{"$f":"IF(AND(SUM(Tabulka!$AG$14)>0.99,(SUM(Tabulka!$AG$14)<2)),-50000+(SUM(E19:ED19)),IF(OR(SUM(Tabulka!$AG$14)<2),-90000,SUM(E19:ED19)))","v":-50000},null,0]
["Petr ŠumProhry","Petr Šum",{"$f":"Tabulka!B15","v":"Petr"},"Prohry",null,null,null,null,null,null,null,null,null,null,null,null,null,null,null,null,null,null,null,null,null,null,null,null,null,null,null,null,null,null,null,null,null,null,null,null,null,null,null,null,null,null,null,null,null,null,null,null,null,null,null,null,null,null,null,null,null,null,null,null,null,null,null,null,null,null,null,null,null,null,null,null,null,null,null,null,null,null,null,null,4,null,null,null,null,null,null,null,null,null,null,null,null,null,null,null,null,null,null,null,null,null,null,null,null,null,null,null,null,null,null,null,null,null,null,null,null,null,null,null,null,null,null,null,null,null,null,null,null,null,{"$f":"IF(AND(SUM(Tabulka!$AG$14)>0.99,(SUM(Tabulka!$AG$14)<2)),-50000+(SUM(E20:ED20)),IF(OR(SUM(Tabulka!$AG$14)<2),-90000,SUM(E20:ED20)))","v":-49996},{"$f":"SUM(EE19-EE20)","v":-4},4]
["Petr ŠumPlaceno panáků",{"$f":"CONCATENATE(C20,\" \",C21)","v":"Petr Šum"},{"$f":"Tabulka!B16","v":"Šum"},"Placeno panáků",null,null,null,null,null,null,null,null,null,null,null,null,null,null,null,null,null,null,null,null,null,null,null,null,null,null,null,null,null,null,null,null,null,null,null,null,null,null,null,null,null,null,null,null,null,null,null,null,null,null,null,null,null,null,null,null,null,null,null,null,null,null,null,null,null,null,null,null,null,null,null,null,null,null,null,null,null,null,null,null,4,null,null,null,null,null,null,null,null,null,null,null,null,null,null,null,null,null,null,null,null,null,null,null,null,null,null,null,null,null,null,null,null,null,null,null,null,null,null,null,null,null,null,null,null,null,null,null,null,null,{"$f":"IF(AND(SUM(Tabulka!$AG$14)>0.99,(SUM(Tabulka!$AG$14)<2)),-50000+(SUM(E21:ED21)),IF(OR(SUM(Tabulka!$AG$14)<2),-90000,SUM(E21:ED21)))","v":-49996},null,4]
["Petr ŠumPřehozy",{"$f":"CONCATENATE(C20,\" \",C21)","v":"Petr Šum"},{"$f":"Tabulka!B17","v":0},"Přehozy",null,null,null,null,null,null,null,null,null,null,null,null,null,null,null,null,null,null,null,null,null,null,null,null,null,null,null,null,null,null,null,null,null,null,null,null,null,null,null,null,null,null,null,null,null,null,null,null,null,null,null,null,null,null,null,null,null,null,null,null,null,null,null,null,null,null,null,null,null,null,null,null,null,null,null,null,null,null,null,null,0,null,null,null,null,null,null,null,null,null,null,null,null,null,null,null,null,null,null,null,null,null,null,null,null,null,null,null,null,null,null,null,null,null,null,null,null,null,null,null,null,null,null,null,null,null,null,null,null,null,{"$f":"IF(AND(SUM(Tabulka!$AG$14)>0.99,(SUM(Tabulka!$AG$14)<2)),-50000+(SUM(E22:ED22)),IF(OR(SUM(Tabulka!$AG$14)<2),-90000,SUM(E22:ED22)))","v":-50000},null,0]
["Petr ŠumPoč. kol",{"$f":"CONCATENATE(C20,\" \",C21)","v":"Petr Šum"},{"$f":"Tabulka!B18","v":0},"Poč. kol",null,null,null,null,null,null,null,null,null,null,null,null,null,null,null,null,null,null,null,null,null,null,null,null,null,null,null,null,null,null,null,null,null,null,null,null,null,null,null,null,null,null,null,null,null,null,null,null,null,null,null,null,null,null,null,null,null,null,null,null,null,null,null,null,null,null,null,null,null,null,null,null,null,null,null,null,null,null,null,null,4,null,null,null,null,null,null,null,null,null,null,null,null,null,null,null,null,null,null,null,null,null,null,null,null,null,null,null,null,null,null,null,null,null,null,null,null,null,null,null,null,null,null,null,null,null,null,null,null,null,{"$f":"IF(AND(SUM(Tabulka!$AG$14)>0.99,(SUM(Tabulka!$AG$14)<2)),-50000+(SUM(E23:ED23)),IF(OR(SUM(Tabulka!$AG$14)<2),-90000,SUM(E23:ED23)))","v":-49996},null,4]
["Petr ŠumPočet konečných bodů",{"$f":"CONCATENATE(C20,\" \",C21)","v":"Petr Šum"},null,"Počet konečných bodů",null,null,null,null,null,null,null,null,null,null,null,null,null,null,null,null,null,null,null,null,null,null,null,null,null,null,null,null,null,null,null,null,null,null,null,null,null,null,null,null,null,null,null,null,null,null,null,null,null,null,null,null,null,null,null,null,null,null,null,null,null,null,null,null,null,null,null,null,null,null,null,null,null,null,null,null,null,null,null,null,186,262,55,124,null,null,null,null,null,null,null,null,null,null,null,null,null,null,null,null,null,null,null,null,null,null,null,null,null,null,null,null,null,null,null,null,null,null,null,null,null,null,null,null,null,null,null,null,null,null,{"$f":"IF(AND(SUM(Tabulka!$AG$14)>0.99,(SUM(Tabulka!$AG$14)<2)),-50000-(SUM(E24:ED24)),IF(OR(SUM(Tabulka!$AG$14)<2),-90000,SUM(E24:ED24)))","v":-50627},null,627]
["Petr ŠumPrůměr konečných bodů na kolo",{"$f":"CONCATENATE(C20,\" \",C21)","v":"Petr Šum"},null,"Průměr konečných bodů na kolo",{"$f":"IF(E24<>\"\",AVERAGE($E24:E24)+$EI25,\"\")","v":""},{"$f":"IF(F24<>\"\",AVERAGE($E24:F24)+$EI25,\"\")","v":""},{"$f":"IF(G24<>\"\",AVERAGE($E24:G24)+$EI25,\"\")","v":""},{"$f":"IF(H24<>\"\",AVERAGE($E24:H24)+$EI25,\"\")","v":""},{"$f":"IF(I24<>\"\",AVERAGE($E24:I24)+$EI25,\"\")","v":""},{"$f":"IF(J24<>\"\",AVERAGE($E24:J24)+$EI25,\"\")","v":""},{"$f":"IF(K24<>\"\",AVERAGE($E24:K24)+$EI25,\"\")","v":""},{"$f":"IF(L24<>\"\",AVERAGE($E24:L24)+$EI25,\"\")","v":""},{"$f":"IF(M24<>\"\",AVERAGE($E24:M24)+$EI25,\"\")","v":""},{"$f":"IF(N24<>\"\",AVERAGE($E24:N24)+$EI25,\"\")","v":""},{"$f":"IF(O24<>\"\",AVERAGE($E24:O24)+$EI25,\"\")","v":""},{"$f":"IF(P24<>\"\",AVERAGE($E24:P24)+$EI25,\"\")","v":""},{"$f":"IF(Q24<>\"\",AVERAGE($E24:Q24)+$EI25,\"\")","v":""},{"$f":"IF(R24<>\"\",AVERAGE($E24:R24)+$EI25,\"\")","v":""},{"$f":"IF(S24<>\"\",AVERAGE($E24:S24)+$EI25,\"\")","v":""},{"$f":"IF(T24<>\"\",AVERAGE($E24:T24)+$EI25,\"\")","v":""},{"$f":"IF(U24<>\"\",AVERAGE($E24:U24)+$EI25,\"\")","v":""},{"$f":"IF(V24<>\"\",AVERAGE($E24:V24)+$EI25,\"\")","v":""},{"$f":"IF(W24<>\"\",AVERAGE($E24:W24)+$EI25,\"\")","v":""},{"$f":"IF(X24<>\"\",AVERAGE($E24:X24)+$EI25,\"\")","v":""},{"$f":"IF(Y24<>\"\",AVERAGE($E24:Y24)+$EI25,\"\")","v":""},{"$f":"IF(Z24<>\"\",AVERAGE($E24:Z24)+$EI25,\"\")","v":""},{"$f":"IF(AA24<>\"\",AVERAGE($E24:AA24)+$EI25,\"\")","v":""},{"$f":"IF(AB24<>\"\",AVERAGE($E24:AB24)+$EI25,\"\")","v":""},{"$f":"IF(AC24<>\"\",AVERAGE($E24:AC24)+$EI25,\"\")","v":""},{"$f":"IF(AD24<>\"\",AVERAGE($E24:AD24)+$EI25,\"\")","v":""},{"$f":"IF(AE24<>\"\",AVERAGE($E24:AE24)+$EI25,\"\")","v":""},{"$f":"IF(AF24<>\"\",AVERAGE($E24:AF24)+$EI25,\"\")","v":""},{"$f":"IF(AG24<>\"\",AVERAGE($E24:AG24)+$EI25,\"\")","v":""},{"$f":"IF(AH24<>\"\",AVERAGE($E24:AH24)+$EI25,\"\")","v":""},{"$f":"IF(AI24<>\"\",AVERAGE($E24:AI24)+$EI25,\"\")","v":""},{"$f":"IF(AJ24<>\"\",AVERAGE($E24:AJ24)+$EI25,\"\")","v":""},{"$f":"IF(AK24<>\"\",AVERAGE($E24:AK24)+$EI25,\"\")","v":""},{"$f":"IF(AL24<>\"\",AVERAGE($E24:AL24)+$EI25,\"\")","v":""},{"$f":"IF(AM24<>\"\",AVERAGE($E24:AM24)+$EI25,\"\")","v":""},{"$f":"IF(AN24<>\"\",AVERAGE($E24:AN24)+$EI25,\"\")","v":""},{"$f":"IF(AO24<>\"\",AVERAGE($E24:AO24)+$EI25,\"\")","v":""},{"$f":"IF(AP24<>\"\",AVERAGE($E24:AP24)+$EI25,\"\")","v":""},{"$f":"IF(AQ24<>\"\",AVERAGE($E24:AQ24)+$EI25,\"\")","v":""},{"$f":"IF(AR24<>\"\",AVERAGE($E24:AR24)+$EI25,\"\")","v":""},{"$f":"IF(AS24<>\"\",AVERAGE($E24:AS24)+$EI25,\"\")","v":""},{"$f":"IF(AT24<>\"\",AVERAGE($E24:AT24)+$EI25,\"\")","v":""},{"$f":"IF(AU24<>\"\",AVERAGE($E24:AU24)+$EI25,\"\")","v":""},{"$f":"IF(AV24<>\"\",AVERAGE($E24:AV24)+$EI25,\"\")","v":""},{"$f":"IF(AW24<>\"\",AVERAGE($E24:AW24)+$EI25,\"\")","v":""},{"$f":"IF(AX24<>\"\",AVERAGE($E24:AX24)+$EI25,\"\")","v":""},{"$f":"IF(AY24<>\"\",AVERAGE($E24:AY24)+$EI25,\"\")","v":""},{"$f":"IF(AZ24<>\"\",AVERAGE($E24:AZ24)+$EI25,\"\")","v":""},{"$f":"IF(BA24<>\"\",AVERAGE($E24:BA24)+$EI25,\"\")","v":""},{"$f":"IF(BB24<>\"\",AVERAGE($E24:BB24)+$EI25,\"\")","v":""},{"$f":"IF(BC24<>\"\",AVERAGE($E24:BC24)+$EI25,\"\")","v":""},{"$f":"IF(BD24<>\"\",AVERAGE($E24:BD24)+$EI25,\"\")","v":""},{"$f":"IF(BE24<>\"\",AVERAGE($E24:BE24)+$EI25,\"\")","v":""},{"$f":"IF(BF24<>\"\",AVERAGE($E24:BF24)+$EI25,\"\")","v":""},{"$f":"IF(BG24<>\"\",AVERAGE($E24:BG24)+$EI25,\"\")","v":""},{"$f":"IF(BH24<>\"\",AVERAGE($E24:BH24)+$EI25,\"\")","v":""},{"$f":"IF(BI24<>\"\",AVERAGE($E24:BI24)+$EI25,\"\")","v":""},{"$f":"IF(BJ24<>\"\",AVERAGE($E24:BJ24)+$EI25,\"\")","v":""},{"$f":"IF(BK24<>\"\",AVERAGE($E24:BK24)+$EI25,\"\")","v":""},{"$f":"IF(BL24<>\"\",AVERAGE($E24:BL24)+$EI25,\"\")","v":""},{"$f":"IF(BM24<>\"\",AVERAGE($E24:BM24)+$EI25,\"\")","v":""},{"$f":"IF(BN24<>\"\",AVERAGE($E24:BN24)+$EI25,\"\")","v":""},{"$f":"IF(BO24<>\"\",AVERAGE($E24:BO24)+$EI25,\"\")","v":""},{"$f":"IF(BP24<>\"\",AVERAGE($E24:BP24)+$EI25,\"\")","v":""},{"$f":"IF(BQ24<>\"\",AVERAGE($E24:BQ24)+$EI25,\"\")","v":""},{"$f":"IF(BR24<>\"\",AVERAGE($E24:BR24)+$EI25,\"\")","v":""},{"$f":"IF(BS24<>\"\",AVERAGE($E24:BS24)+$EI25,\"\")","v":""},{"$f":"IF(BT24<>\"\",AVERAGE($E24:BT24)+$EI25,\"\")","v":""},{"$f":"IF(BU24<>\"\",AVERAGE($E24:BU24)+$EI25,\"\")","v":""},{"$f":"IF(BV24<>\"\",AVERAGE($E24:BV24)+$EI25,\"\")","v":""},{"$f":"IF(BW24<>\"\",AVERAGE($E24:BW24)+$EI25,\"\")","v":""},{"$f":"IF(BX24<>\"\",AVERAGE($E24:BX24)+$EI25,\"\")","v":""},{"$f":"IF(BY24<>\"\",AVERAGE($E24:BY24)+$EI25,\"\")","v":""},{"$f":"IF(BZ24<>\"\",AVERAGE($E24:BZ24)+$EI25,\"\")","v":""},{"$f":"IF(CA24<>\"\",AVERAGE($E24:CA24)+$EI25,\"\")","v":""},{"$f":"IF(CB24<>\"\",AVERAGE($E24:CB24)+$EI25,\"\")","v":""},{"$f":"IF(CC24<>\"\",AVERAGE($E24:CC24)+$EI25,\"\")","v":""},{"$f":"IF(CD24<>\"\",AVERAGE($E24:CD24)+$EI25,\"\")","v":""},{"$f":"IF(CE24<>\"\",AVERAGE($E24:CE24)+$EI25,\"\")","v":""},{"$f":"IF(CF24<>\"\",AVERAGE($E24:CF24)+$EI25,\"\")","v":""},{"$f":"IF(CG24<>\"\",AVERAGE($E24:CG24)+$EI25,\"\")","v":185.99999984900001},{"$f":"IF(CH24<>\"\",AVERAGE($E24:CH24)+$EI25,\"\")","v":223.99999984900001},{"$f":"IF(CI24<>\"\",AVERAGE($E24:CI24)+$EI25,\"\")","v":167.66666651566666},{"$f":"IF(CJ24<>\"\",AVERAGE($E24:CJ24)+$EI25,\"\")","v":156.74999984900001},{"$f":"IF(CK24<>\"\",AVERAGE($E24:CK24)+$EI25,\"\")","v":""},{"$f":"IF(CL24<>\"\",AVERAGE($E24:CL24)+$EI25,\"\")","v":""},{"$f":"IF(CM24<>\"\",AVERAGE($E24:CM24)+$EI25,\"\")","v":""},{"$f":"IF(CN24<>\"\",AVERAGE($E24:CN24)+$EI25,\"\")","v":""},{"$f":"IF(CO24<>\"\",AVERAGE($E24:CO24)+$EI25,\"\")","v":""},{"$f":"IF(CP24<>\"\",AVERAGE($E24:CP24)+$EI25,\"\")","v":""},{"$f":"IF(CQ24<>\"\",AVERAGE($E24:CQ24)+$EI25,\"\")","v":""},{"$f":"IF(CR24<>\"\",AVERAGE($E24:CR24)+$EI25,\"\")","v":""},{"$f":"IF(CS24<>\"\",AVERAGE($E24:CS24)+$EI25,\"\")","v":""},{"$f":"IF(CT24<>\"\",AVERAGE($E24:CT24)+$EI25,\"\")","v":""},{"$f":"IF(CU24<>\"\",AVERAGE($E24:CU24)+$EI25,\"\")","v":""},{"$f":"IF(CV24<>\"\",AVERAGE($E24:CV24)+$EI25,\"\")","v":""},{"$f":"IF(CW24<>\"\",AVERAGE($E24:CW24)+$EI25,\"\")","v":""},{"$f":"IF(CX24<>\"\",AVERAGE($E24:CX24)+$EI25,\"\")","v":""},{"$f":"IF(CY24<>\"\",AVERAGE($E24:CY24)+$EI25,\"\")","v":""},{"$f":"IF(CZ24<>\"\",AVERAGE($E24:CZ24)+$EI25,\"\")","v":""},{"$f":"IF(DA24<>\"\",AVERAGE($E24:DA24)+$EI25,\"\")","v":""},{"$f":"IF(DB24<>\"\",AVERAGE($E24:DB24)+$EI25,\"\")","v":""},{"$f":"IF(DC24<>\"\",AVERAGE($E24:DC24)+$EI25,\"\")","v":""},{"$f":"IF(DD24<>\"\",AVERAGE($E24:DD24)+$EI25,\"\")","v":""},{"$f":"IF(DE24<>\"\",AVERAGE($E24:DE24)+$EI25,\"\")","v":""},{"$f":"IF(DF24<>\"\",AVERAGE($E24:DF24)+$EI25,\"\")","v":""},{"$f":"IF(DG24<>\"\",AVERAGE($E24:DG24)+$EI25,\"\")","v":""},{"$f":"IF(DH24<>\"\",AVERAGE($E24:DH24)+$EI25,\"\")","v":""},{"$f":"IF(DI24<>\"\",AVERAGE($E24:DI24)+$EI25,\"\")","v":""},{"$f":"IF(DJ24<>\"\",AVERAGE($E24:DJ24)+$EI25,\"\")","v":""},{"$f":"IF(DK24<>\"\",AVERAGE($E24:DK24)+$EI25,\"\")","v":""},{"$f":"IF(DL24<>\"\",AVERAGE($E24:DL24)+$EI25,\"\")","v":""},{"$f":"IF(DM24<>\"\",AVERAGE($E24:DM24)+$EI25,\"\")","v":""},{"$f":"IF(DN24<>\"\",AVERAGE($E24:DN24)+$EI25,\"\")","v":""},{"$f":"IF(DO24<>\"\",AVERAGE($E24:DO24)+$EI25,\"\")","v":""},{"$f":"IF(DP24<>\"\",AVERAGE($E24:DP24)+$EI25,\"\")","v":""},{"$f":"IF(DQ24<>\"\",AVERAGE($E24:DQ24)+$EI25,\"\")","v":""},{"$f":"IF(DR24<>\"\",AVERAGE($E24:DR24)+$EI25,\"\")","v":""},{"$f":"IF(DS24<>\"\",AVERAGE($E24:DS24)+$EI25,\"\")","v":""},{"$f":"IF(DT24<>\"\",AVERAGE($E24:DT24)+$EI25,\"\")","v":""},{"$f":"IF(DU24<>\"\",AVERAGE($E24:DU24)+$EI25,\"\")","v":""},{"$f":"IF(DV24<>\"\",AVERAGE($E24:DV24)+$EI25,\"\")","v":""},{"$f":"IF(DW24<>\"\",AVERAGE($E24:DW24)+$EI25,\"\")","v":""},{"$f":"IF(DX24<>\"\",AVERAGE($E24:DX24)+$EI25,\"\")","v":""},{"$f":"IF(DY24<>\"\",AVERAGE($E24:DY24)+$EI25,\"\")","v":""},{"$f":"IF(DZ24<>\"\",AVERAGE($E24:DZ24)+$EI25,\"\")","v":""},{"$f":"IF(EA24<>\"\",AVERAGE($E24:EA24)+$EI25,\"\")","v":""},{"$f":"IF(EB24<>\"\",AVERAGE($E24:EB24)+$EI25,\"\")","v":""},{"$f":"IF(EC24<>\"\",AVERAGE($E24:EC24)+$EI25,\"\")","v":""},{"$f":"IF(ED24<>\"\",AVERAGE($E24:ED24)+$EI25,\"\")","v":""},{"$f":"IF(AND(SUM(Tabulka!$AG$14)>0.99,(SUM(Tabulka!$AG$14)<2)),-50000+(SUM(E24:ED24)/COUNT(E25:ED25)),IF(OR(SUM(Tabulka!$AG$14)<2),-90000,SUM(E24:ED24)/COUNT(E25:ED25)))","v":-49843.25},null,{"$f":"IFERROR(SUM(E24:ED24)/COUNT(E24:ED24),)","v":156.75},{"$f":"CONCATENATE(C20,\" \",C21)","v":"Petr Šum"},{"$f":"INDEX(List4!$E$2:$E$17,MATCH(CONCATENATE(C20,\" \",C21),Tabulka1128[Jmeno_prijmeni],0),1)","v":-1.5100000000000002E-7}]
["Petr ŠumPočet šipek",{"$f":"CONCATENATE(C20,\" \",C21)","v":"Petr Šum"},null,"Počet šipek",null,null,null,null,null,null,null,null,null,null,null,null,null,null,null,null,null,null,null,null,null,null,null,null,null,null,null,null,null,null,null,null,null,null,null,null,null,null,null,null,null,null,null,null,null,null,null,null,null,null,null,null,null,null,null,null,null,null,null,null,null,null,null,null,null,null,null,null,null,null,null,null,null,null,null,null,null,null,null,null,null,null,null,null,null,null,null,null,null,null,null,null,null,null,null,null,null,null,null,null,null,null,null,null,null,null,null,null,null,null,null,null,null,null,null,null,null,null,null,null,null,null,null,null,null,null,null,null,null,null,{"$f":"IF(AND(SUM(Tabulka!$AG$14)>0.99,(SUM(Tabulka!$AG$14)<2)),-50000+(SUM(E26:ED26)),IF(OR(SUM(Tabulka!$AG$14)<2),-90000,SUM(E26:ED26)))","v":-50000},null,0]
[{"$f":"CONCATENATE($C$28,\" \",$C$29,D27)","v":"Pavel PernekrVýhry"},{"$f":"CONCATENATE(C28,\" \",C29)","v":"Pavel Pernekr"},{"$f":"Tabulka!B19","v":0},"Výhry",null,null,null,null,null,null,null,null,null,null,null,null,null,null,null,null,null,null,null,null,null,null,null,null,null,null,null,null,null,null,null,null,null,null,null,null,null,null,null,null,null,null,null,null,null,null,null,null,null,null,null,null,null,null,null,null,null,null,null,null,null,null,null,null,null,null,null,null,null,null,null,null,null,null,null,null,null,null,null,null,null,null,null,null,null,null,null,null,null,null,null,null,null,null,null,null,null,null,null,null,null,null,null,null,null,null,null,null,null,null,null,null,null,null,null,null,null,null,null,null,null,null,null,null,null,null,null,null,null,null,{"$f":"IF(AND(SUM(Tabulka!$AG$19)>0.99,(SUM(Tabulka!$AG$19)<2)),-50000+(SUM(E27:ED27)),IF(OR(SUM(Tabulka!$AG$19)<2),-90000,SUM(E27:ED27)))","v":-90000},null,0]
["Pavel PernekrProhry","Pavel Pernekr",{"$f":"Tabulka!B20","v":"Pavel"},"Prohry",null,null,null,null,null,null,null,null,null,null,null,null,null,null,null,null,null,null,null,null,null,null,null,null,null,null,null,null,null,null,null,null,null,null,null,null,null,null,null,null,null,null,null,null,null,null,null,null,null,null,null,null,null,null,null,null,null,null,null,null,null,null,null,null,null,null,null,null,null,null,null,null,null,null,null,null,null,null,null,null,null,null,null,null,null,null,null,null,null,null,null,null,null,null,null,null,null,null,null,null,null,null,null,null,null,null,null,null,null,null,null,null,null,null,null,null,null,null,null,null,null,null,null,null,null,null,null,null,null,null,{"$f":"IF(AND(SUM(Tabulka!$AG$19)>0.99,(SUM(Tabulka!$AG$19)<2)),-50000+(SUM(E28:ED28)),IF(OR(SUM(Tabulka!$AG$19)<2),-90000,SUM(E28:ED28)))","v":-90000},{"$f":"SUM(EE27-EE28)","v":0},0]
["Pavel PernekrPlaceno panáků",{"$f":"CONCATENATE(C28,\" \",C29)","v":"Pavel Pernekr"},{"$f":"Tabulka!B21","v":"Pernekr"},"Placeno panáků",null,null,null,null,null,null,null,null,null,null,null,null,null,null,null,null,null,null,null,null,null,null,null,null,null,null,null,null,null,null,null,null,null,null,null,null,null,null,null,null,null,null,null,null,null,null,null,null,null,null,null,null,null,null,null,null,null,null,null,null,null,null,null,null,null,null,null,null,null,null,null,null,null,null,null,null,null,null,null,null,null,null,null,null,null,null,null,null,null,null,null,null,null,null,null,null,null,null,null,null,null,null,null,null,null,null,null,null,null,null,null,null,null,null,null,null,null,null,null,null,null,null,null,null,null,null,null,null,null,null,{"$f":"IF(AND(SUM(Tabulka!$AG$19)>0.99,(SUM(Tabulka!$AG$19)<2)),-50000+(SUM(E29:ED29)),IF(OR(SUM(Tabulka!$AG$19)<2),-90000,SUM(E29:ED29)))","v":-90000},null,0]
["Pavel PernekrPřehozy",{"$f":"CONCATENATE(C28,\" \",C29)","v":"Pavel Pernekr"},{"$f":"Tabulka!B22","v":0},"Přehozy",null,null,null,null,null,null,null,null,null,null,null,null,null,null,null,null,null,null,null,null,null,null,null,null,null,null,null,null,null,null,null,null,null,null,null,null,null,null,null,null,null,null,null,null,null,null,null,null,null,null,null,null,null,null,null,null,null,null,null,null,null,null,null,null,null,null,null,null,null,null,null,null,null,null,null,null,null,null,null,null,null,null,null,null,null,null,null,null,null,null,null,null,null,null,null,null,null,null,null,null,null,null,null,null,null,null,null,null,null,null,null,null,null,null,null,null,null,null,null,null,null,null,null,null,null,null,null,null,null,null,{"$f":"IF(AND(SUM(Tabulka!$AG$19)>0.99,(SUM(Tabulka!$AG$19)<2)),-50000+(SUM(E30:ED30)),IF(OR(SUM(Tabulka!$AG$19)<2),-90000,SUM(E30:ED30)))","v":-90000},null,0]
["Pavel PernekrPoč. kol",{"$f":"CONCATENATE(C28,\" \",C29)","v":"Pavel Pernekr"},{"$f":"Tabulka!B23","v":0},"Poč. kol",null,null,null,null,null,null,null,null,null,null,null,null,null,null,null,null,null,null,null,null,null,null,null,null,null,null,null,null,null,null,null,null,null,null,null,null,null,null,null,null,null,null,null,null,null,null,null,null,null,null,null,null,null,null,null,null,null,null,null,null,null,null,null,null,null,null,null,null,null,null,null,null,null,null,null,null,null,null,null,null,null,null,null,null,null,null,null,null,null,null,null,null,null,null,null,null,null,null,null,null,null,null,null,null,null,null,null,null,null,null,null,null,null,null,null,null,null,null,null,null,null,null,null,null,null,null,null,null,null,null,{"$f":"IF(AND(SUM(Tabulka!$AG$19)>0.99,(SUM(Tabulka!$AG$19)<2)),-50000+(SUM(E31:ED31)),IF(OR(SUM(Tabulka!$AG$19)<2),-90000,SUM(E31:ED31)))","v":-90000},null,0]
["Pavel PernekrPočet konečných bodů",{"$f":"CONCATENATE(C28,\" \",C29)","v":"Pavel Pernekr"},null,"Počet konečných bodů",null,null,null,null,null,null,null,null,null,null,null,null,null,null,null,null,null,null,null,null,null,null,null,null,null,null,null,null,null,null,null,null,null,null,null,null,null,null,null,null,null,null,null,null,null,null,null,null,null,null,null,null,null,null,null,null,null,null,null,null,null,null,null,null,null,null,null,null,null,null,null,null,null,null,null,null,null,null,null,null,null,null,null,null,null,null,null,null,null,null,null,null,null,null,null,null,null,null,null,null,null,null,null,null,null,null,null,null,null,null,null,null,null,null,null,null,null,null,null,null,null,null,null,null,null,null,null,null,null,null,{"$f":"IF(AND(SUM(Tabulka!$AG$19)>0.99,(SUM(Tabulka!$AG$19)<2)),-50000-(SUM(E32:ED32)),IF(OR(SUM(Tabulka!$AG$19)<2),-90000,SUM(E32:ED32)))","v":-90000},null,0]
["Pavel PernekrPrůměr konečných bodů na kolo",{"$f":"CONCATENATE(C28,\" \",C29)","v":"Pavel Pernekr"},null,"Průměr konečných bodů na kolo",{"$f":"IF(E32<>\"\",AVERAGE($E32:E32)+$EI33,\"\")","v":""},{"$f":"IF(F32<>\"\",AVERAGE($E32:F32)+$EI33,\"\")","v":""},{"$f":"IF(G32<>\"\",AVERAGE($E32:G32)+$EI33,\"\")","v":""},{"$f":"IF(H32<>\"\",AVERAGE($E32:H32)+$EI33,\"\")","v":""},{"$f":"IF(I32<>\"\",AVERAGE($E32:I32)+$EI33,\"\")","v":""},{"$f":"IF(J32<>\"\",AVERAGE($E32:J32)+$EI33,\"\")","v":""},{"$f":"IF(K32<>\"\",AVERAGE($E32:K32)+$EI33,\"\")","v":""},{"$f":"IF(L32<>\"\",AVERAGE($E32:L32)+$EI33,\"\")","v":""},{"$f":"IF(M32<>\"\",AVERAGE($E32:M32)+$EI33,\"\")","v":""},{"$f":"IF(N32<>\"\",AVERAGE($E32:N32)+$EI33,\"\")","v":""},{"$f":"IF(O32<>\"\",AVERAGE($E32:O32)+$EI33,\"\")","v":""},{"$f":"IF(P32<>\"\",AVERAGE($E32:P32)+$EI33,\"\")","v":""},{"$f":"IF(Q32<>\"\",AVERAGE($E32:Q32)+$EI33,\"\")","v":""},{"$f":"IF(R32<>\"\",AVERAGE($E32:R32)+$EI33,\"\")","v":""},{"$f":"IF(S32<>\"\",AVERAGE($E32:S32)+$EI33,\"\")","v":""},{"$f":"IF(T32<>\"\",AVERAGE($E32:T32)+$EI33,\"\")","v":""},{"$f":"IF(U32<>\"\",AVERAGE($E32:U32)+$EI33,\"\")","v":""},{"$f":"IF(V32<>\"\",AVERAGE($E32:V32)+$EI33,\"\")","v":""},{"$f":"IF(W32<>\"\",AVERAGE($E32:W32)+$EI33,\"\")","v":""},{"$f":"IF(X32<>\"\",AVERAGE($E32:X32)+$EI33,\"\")","v":""},{"$f":"IF(Y32<>\"\",AVERAGE($E32:Y32)+$EI33,\"\")","v":""},{"$f":"IF(Z32<>\"\",AVERAGE($E32:Z32)+$EI33,\"\")","v":""},{"$f":"IF(AA32<>\"\",AVERAGE($E32:AA32)+$EI33,\"\")","v":""},{"$f":"IF(AB32<>\"\",AVERAGE($E32:AB32)+$EI33,\"\")","v":""},{"$f":"IF(AC32<>\"\",AVERAGE($E32:AC32)+$EI33,\"\")","v":""},{"$f":"IF(AD32<>\"\",AVERAGE($E32:AD32)+$EI33,\"\")","v":""},{"$f":"IF(AE32<>\"\",AVERAGE($E32:AE32)+$EI33,\"\")","v":""},{"$f":"IF(AF32<>\"\",AVERAGE($E32:AF32)+$EI33,\"\")","v":""},{"$f":"IF(AG32<>\"\",AVERAGE($E32:AG32)+$EI33,\"\")","v":""},{"$f":"IF(AH32<>\"\",AVERAGE($E32:AH32)+$EI33,\"\")","v":""},{"$f":"IF(AI32<>\"\",AVERAGE($E32:AI32)+$EI33,\"\")","v":""},{"$f":"IF(AJ32<>\"\",AVERAGE($E32:AJ32)+$EI33,\"\")","v":""},{"$f":"IF(AK32<>\"\",AVERAGE($E32:AK32)+$EI33,\"\")","v":""},{"$f":"IF(AL32<>\"\",AVERAGE($E32:AL32)+$EI33,\"\")","v":""},{"$f":"IF(AM32<>\"\",AVERAGE($E32:AM32)+$EI33,\"\")","v":""},{"$f":"IF(AN32<>\"\",AVERAGE($E32:AN32)+$EI33,\"\")","v":""},{"$f":"IF(AO32<>\"\",AVERAGE($E32:AO32)+$EI33,\"\")","v":""},{"$f":"IF(AP32<>\"\",AVERAGE($E32:AP32)+$EI33,\"\")","v":""},{"$f":"IF(AQ32<>\"\",AVERAGE($E32:AQ32)+$EI33,\"\")","v":""},{"$f":"IF(AR32<>\"\",AVERAGE($E32:AR32)+$EI33,\"\")","v":""},{"$f":"IF(AS32<>\"\",AVERAGE($E32:AS32)+$EI33,\"\")","v":""},{"$f":"IF(AT32<>\"\",AVERAGE($E32:AT32)+$EI33,\"\")","v":""},{"$f":"IF(AU32<>\"\",AVERAGE($E32:AU32)+$EI33,\"\")","v":""},{"$f":"IF(AV32<>\"\",AVERAGE($E32:AV32)+$EI33,\"\")","v":""},{"$f":"IF(AW32<>\"\",AVERAGE($E32:AW32)+$EI33,\"\")","v":""},{"$f":"IF(AX32<>\"\",AVERAGE($E32:AX32)+$EI33,\"\")","v":""},{"$f":"IF(AY32<>\"\",AVERAGE($E32:AY32)+$EI33,\"\")","v":""},{"$f":"IF(AZ32<>\"\",AVERAGE($E32:AZ32)+$EI33,\"\")","v":""},{"$f":"IF(BA32<>\"\",AVERAGE($E32:BA32)+$EI33,\"\")","v":""},{"$f":"IF(BB32<>\"\",AVERAGE($E32:BB32)+$EI33,\"\")","v":""},{"$f":"IF(BC32<>\"\",AVERAGE($E32:BC32)+$EI33,\"\")","v":""},{"$f":"IF(BD32<>\"\",AVERAGE($E32:BD32)+$EI33,\"\")","v":""},{"$f":"IF(BE32<>\"\",AVERAGE($E32:BE32)+$EI33,\"\")","v":""},{"$f":"IF(BF32<>\"\",AVERAGE($E32:BF32)+$EI33,\"\")","v":""},{"$f":"IF(BG32<>\"\",AVERAGE($E32:BG32)+$EI33,\"\")","v":""},{"$f":"IF(BH32<>\"\",AVERAGE($E32:BH32)+$EI33,\"\")","v":""},{"$f":"IF(BI32<>\"\",AVERAGE($E32:BI32)+$EI33,\"\")","v":""},{"$f":"IF(BJ32<>\"\",AVERAGE($E32:BJ32)+$EI33,\"\")","v":""},{"$f":"IF(BK32<>\"\",AVERAGE($E32:BK32)+$EI33,\"\")","v":""},{"$f":"IF(BL32<>\"\",AVERAGE($E32:BL32)+$EI33,\"\")","v":""},{"$f":"IF(BM32<>\"\",AVERAGE($E32:BM32)+$EI33,\"\")","v":""},{"$f":"IF(BN32<>\"\",AVERAGE($E32:BN32)+$EI33,\"\")","v":""},{"$f":"IF(BO32<>\"\",AVERAGE($E32:BO32)+$EI33,\"\")","v":""},{"$f":"IF(BP32<>\"\",AVERAGE($E32:BP32)+$EI33,\"\")","v":""},{"$f":"IF(BQ32<>\"\",AVERAGE($E32:BQ32)+$EI33,\"\")","v":""},{"$f":"IF(BR32<>\"\",AVERAGE($E32:BR32)+$EI33,\"\")","v":""},{"$f":"IF(BS32<>\"\",AVERAGE($E32:BS32)+$EI33,\"\")","v":""},{"$f":"IF(BT32<>\"\",AVERAGE($E32:BT32)+$EI33,\"\")","v":""},{"$f":"IF(BU32<>\"\",AVERAGE($E32:BU32)+$EI33,\"\")","v":""},{"$f":"IF(BV32<>\"\",AVERAGE($E32:BV32)+$EI33,\"\")","v":""},{"$f":"IF(BW32<>\"\",AVERAGE($E32:BW32)+$EI33,\"\")","v":""},{"$f":"IF(BX32<>\"\",AVERAGE($E32:BX32)+$EI33,\"\")","v":""},{"$f":"IF(BY32<>\"\",AVERAGE($E32:BY32)+$EI33,\"\")","v":""},{"$f":"IF(BZ32<>\"\",AVERAGE($E32:BZ32)+$EI33,\"\")","v":""},{"$f":"IF(CA32<>\"\",AVERAGE($E32:CA32)+$EI33,\"\")","v":""},{"$f":"IF(CB32<>\"\",AVERAGE($E32:CB32)+$EI33,\"\")","v":""},{"$f":"IF(CC32<>\"\",AVERAGE($E32:CC32)+$EI33,\"\")","v":""},{"$f":"IF(CD32<>\"\",AVERAGE($E32:CD32)+$EI33,\"\")","v":""},{"$f":"IF(CE32<>\"\",AVERAGE($E32:CE32)+$EI33,\"\")","v":""},{"$f":"IF(CF32<>\"\",AVERAGE($E32:CF32)+$EI33,\"\")","v":""},{"$f":"IF(CG32<>\"\",AVERAGE($E32:CG32)+$EI33,\"\")","v":""},{"$f":"IF(CH32<>\"\",AVERAGE($E32:CH32)+$EI33,\"\")","v":""},{"$f":"IF(CI32<>\"\",AVERAGE($E32:CI32)+$EI33,\"\")","v":""},{"$f":"IF(CJ32<>\"\",AVERAGE($E32:CJ32)+$EI33,\"\")","v":""},{"$f":"IF(CK32<>\"\",AVERAGE($E32:CK32)+$EI33,\"\")","v":""},{"$f":"IF(CL32<>\"\",AVERAGE($E32:CL32)+$EI33,\"\")","v":""},{"$f":"IF(CM32<>\"\",AVERAGE($E32:CM32)+$EI33,\"\")","v":""},{"$f":"IF(CN32<>\"\",AVERAGE($E32:CN32)+$EI33,\"\")","v":""},{"$f":"IF(CO32<>\"\",AVERAGE($E32:CO32)+$EI33,\"\")","v":""},{"$f":"IF(CP32<>\"\",AVERAGE($E32:CP32)+$EI33,\"\")","v":""},{"$f":"IF(CQ32<>\"\",AVERAGE($E32:CQ32)+$EI33,\"\")","v":""},{"$f":"IF(CR32<>\"\",AVERAGE($E32:CR32)+$EI33,\"\")","v":""},{"$f":"IF(CS32<>\"\",AVERAGE($E32:CS32)+$EI33,\"\")","v":""},{"$f":"IF(CT32<>\"\",AVERAGE($E32:CT32)+$EI33,\"\")","v":""},{"$f":"IF(CU32<>\"\",AVERAGE($E32:CU32)+$EI33,\"\")","v":""},{"$f":"IF(CV32<>\"\",AVERAGE($E32:CV32)+$EI33,\"\")","v":""},{"$f":"IF(CW32<>\"\",AVERAGE($E32:CW32)+$EI33,\"\")","v":""},{"$f":"IF(CX32<>\"\",AVERAGE($E32:CX32)+$EI33,\"\")","v":""},{"$f":"IF(CY32<>\"\",AVERAGE($E32:CY32)+$EI33,\"\")","v":""},{"$f":"IF(CZ32<>\"\",AVERAGE($E32:CZ32)+$EI33,\"\")","v":""},{"$f":"IF(DA32<>\"\",AVERAGE($E32:DA32)+$EI33,\"\")","v":""},{"$f":"IF(DB32<>\"\",AVERAGE($E32:DB32)+$EI33,\"\")","v":""},{"$f":"IF(DC32<>\"\",AVERAGE($E32:DC32)+$EI33,\"\")","v":""},{"$f":"IF(DD32<>\"\",AVERAGE($E32:DD32)+$EI33,\"\")","v":""},{"$f":"IF(DE32<>\"\",AVERAGE($E32:DE32)+$EI33,\"\")","v":""},{"$f":"IF(DF32<>\"\",AVERAGE($E32:DF32)+$EI33,\"\")","v":""},{"$f":"IF(DG32<>\"\",AVERAGE($E32:DG32)+$EI33,\"\")","v":""},{"$f":"IF(DH32<>\"\",AVERAGE($E32:DH32)+$EI33,\"\")","v":""},{"$f":"IF(DI32<>\"\",AVERAGE($E32:DI32)+$EI33,\"\")","v":""},{"$f":"IF(DJ32<>\"\",AVERAGE($E32:DJ32)+$EI33,\"\")","v":""},{"$f":"IF(DK32<>\"\",AVERAGE($E32:DK32)+$EI33,\"\")","v":""},{"$f":"IF(DL32<>\"\",AVERAGE($E32:DL32)+$EI33,\"\")","v":""},{"$f":"IF(DM32<>\"\",AVERAGE($E32:DM32)+$EI33,\"\")","v":""},{"$f":"IF(DN32<>\"\",AVERAGE($E32:DN32)+$EI33,\"\")","v":""},{"$f":"IF(DO32<>\"\",AVERAGE($E32:DO32)+$EI33,\"\")","v":""},{"$f":"IF(DP32<>\"\",AVERAGE($E32:DP32)+$EI33,\"\")","v":""},{"$f":"IF(DQ32<>\"\",AVERAGE($E32:DQ32)+$EI33,\"\")","v":""},{"$f":"IF(DR32<>\"\",AVERAGE($E32:DR32)+$EI33,\"\")","v":""},{"$f":"IF(DS32<>\"\",AVERAGE($E32:DS32)+$EI33,\"\")","v":""},{"$f":"IF(DT32<>\"\",AVERAGE($E32:DT32)+$EI33,\"\")","v":""},{"$f":"IF(DU32<>\"\",AVERAGE($E32:DU32)+$EI33,\"\")","v":""},{"$f":"IF(DV32<>\"\",AVERAGE($E32:DV32)+$EI33,\"\")","v":""},{"$f":"IF(DW32<>\"\",AVERAGE($E32:DW32)+$EI33,\"\")","v":""},{"$f":"IF(DX32<>\"\",AVERAGE($E32:DX32)+$EI33,\"\")","v":""},{"$f":"IF(DY32<>\"\",AVERAGE($E32:DY32)+$EI33,\"\")","v":""},{"$f":"IF(DZ32<>\"\",AVERAGE($E32:DZ32)+$EI33,\"\")","v":""},{"$f":"IF(EA32<>\"\",AVERAGE($E32:EA32)+$EI33,\"\")","v":""},{"$f":"IF(EB32<>\"\",AVERAGE($E32:EB32)+$EI33,\"\")","v":""},{"$f":"IF(EC32<>\"\",AVERAGE($E32:EC32)+$EI33,\"\")","v":""},{"$f":"IF(ED32<>\"\",AVERAGE($E32:ED32)+$EI33,\"\")","v":""},{"$f":"IF(AND(SUM(Tabulka!$AG$19)>0.99,(SUM(Tabulka!$AG$19)<2)),-50000+(SUM(E32:ED32)/COUNT(E33:ED33)),IF(OR(SUM(Tabulka!$AG$19)<2),-90000,SUM(E32:ED32)/COUNT(E33:ED33)))","v":-90000},null,{"$f":"IFERROR(SUM(E32:ED32)/COUNT(E32:ED32),)","v":0},{"$f":"CONCATENATE(C28,\" \",C29)","v":"Pavel Pernekr"},{"$f":"INDEX(List4!$E$2:$E$17,MATCH(CONCATENATE(C28,\" \",C29),Tabulka1128[Jmeno_prijmeni],0),1)","v":-1.0099999999999998E-7}]
["Pavel PernekrPočet šipek",{"$f":"CONCATENATE(C28,\" \",C29)","v":"Pavel Pernekr"},null,"Počet šipek",null,null,null,null,null,null,null,null,null,null,null,null,null,null,null,null,null,null,null,null,null,null,null,null,null,null,null,null,null,null,null,null,null,null,null,null,null,null,null,null,null,null,null,null,null,null,null,null,null,null,null,null,null,null,null,null,null,null,null,null,null,null,null,null,null,null,null,null,null,null,null,null,null,null,null,null,null,null,null,null,null,null,null,null,null,null,null,null,null,null,null,null,null,null,null,null,null,null,null,null,null,null,null,null,null,null,null,null,null,null,null,null,null,null,null,null,null,null,null,null,null,null,null,null,null,null,null,null,null,null,{"$f":"IF(AND(SUM(Tabulka!$AG$19)>0.99,(SUM(Tabulka!$AG$19)<2)),-50000+(SUM(E34:ED34)),IF(OR(SUM(Tabulka!$AG$19)<2),-90000,SUM(E34:ED34)))","v":-90000},null,0]
[{"$f":"CONCATENATE($C$36,\" \",$C$37,D35)","v":"Milan VeselýVýhry"},{"$f":"CONCATENATE(C36,\" \",C37)","v":"Milan Veselý"},{"$f":"Tabulka!B24","v":0},"Výhry",1,null,null,null,null,3,null,null,null,null,2,null,null,null,null,1,null,null,null,null,2,null,null,null,null,2,null,null,null,null,2,null,null,null,null,2,null,null,null,null,1,null,null,null,null,2,null,null,null,null,3,null,null,null,null,1,null,null,null,null,1,null,null,null,null,1,null,null,null,null,0,null,null,null,null,3,null,null,null,null,0,null,null,null,null,null,null,null,null,null,null,null,null,null,null,null,null,null,null,null,null,null,null,null,null,null,null,null,null,null,null,null,null,null,null,null,null,null,null,null,null,null,null,null,null,null,null,null,null,null,{"$f":"IF(AND(SUM(Tabulka!$AG$24)>0.99,(SUM(Tabulka!$AG$24)<2)),-50000+(SUM(E35:ED35)),IF(OR(SUM(Tabulka!$AG$24)<2),-90000,SUM(E35:ED35)))","v":27},null,27]
["Milan VeselýProhry","Milan Veselý",{"$f":"Tabulka!B25","v":"Milan"},"Prohry",1,null,null,null,null,0,null,null,null,null,1,null,null,null,null,1,null,null,null,null,0,null,null,null,null,1,null,null,null,null,0,null,null,null,null,0,null,null,null,null,0,null,null,null,null,1,null,null,null,null,1,null,null,null,null,2,null,null,null,null,1,null,null,null,null,1,null,null,null,null,1,null,null,null,null,0,null,null,null,null,0,null,null,null,null,null,null,null,null,null,null,null,null,null,null,null,null,null,null,null,null,null,null,null,null,null,null,null,null,null,null,null,null,null,null,null,null,null,null,null,null,null,null,null,null,null,null,null,null,null,{"$f":"IF(AND(SUM(Tabulka!$AG$24)>0.99,(SUM(Tabulka!$AG$24)<2)),-50000+(SUM(E36:ED36)),IF(OR(SUM(Tabulka!$AG$24)<2),-90000,SUM(E36:ED36)))","v":11},{"$f":"SUM(EE35-EE36)","v":16},11]
["Milan VeselýPlaceno panáků",{"$f":"CONCATENATE(C36,\" \",C37)","v":"Milan Veselý"},{"$f":"Tabulka!B26","v":"Veselý"},"Placeno panáků",1,null,null,null,null,0,null,null,null,null,1,null,null,null,null,2,null,null,null,null,0,null,null,null,null,1,null,null,null,null,0,null,null,null,null,0,null,null,null,null,0,null,null,null,null,1,null,null,null,null,1,null,null,null,null,2,null,null,null,null,1,null,null,null,null,2,null,null,null,null,1,null,null,null,null,0,null,null,null,null,0,null,null,null,null,null,null,null,null,null,null,null,null,null,null,null,null,null,null,null,null,null,null,null,null,null,null,null,null,null,null,null,null,null,null,null,null,null,null,null,null,null,null,null,null,null,null,null,null,null,{"$f":"IF(AND(SUM(Tabulka!$AG$24)>0.99,(SUM(Tabulka!$AG$24)<2)),-50000+(SUM(E37:ED37)),IF(OR(SUM(Tabulka!$AG$24)<2),-90000,SUM(E37:ED37)))","v":13},null,13]
["Milan VeselýPřehozy",{"$f":"CONCATENATE(C36,\" \",C37)","v":"Milan Veselý"},{"$f":"Tabulka!B27","v":0},"Přehozy",0,null,null,null,null,3,null,null,null,null,0,null,null,null,null,1,null,null,null,null,1,null,null,null,null,0,null,null,null,null,0,null,null,null,null,1,null,null,null,null,1,null,null,null,null,3,null,null,null,null,0,null,null,null,null,0,null,null,null,null,0,null,null,null,null,1,null,null,null,null,3,null,null,null,null,0,null,null,null,null,2,null,null,null,null,null,null,null,null,null,null,null,null,null,null,null,null,null,null,null,null,null,null,null,null,null,null,null,null,null,null,null,null,null,null,null,null,null,null,null,null,null,null,null,null,null,null,null,null,null,{"$f":"IF(AND(SUM(Tabulka!$AG$24)>0.99,(SUM(Tabulka!$AG$24)<2)),-50000+(SUM(E38:ED38)),IF(OR(SUM(Tabulka!$AG$24)<2),-90000,SUM(E38:ED38)))","v":16},null,16]
["Milan VeselýPoč. kol",{"$f":"CONCATENATE(C36,\" \",C37)","v":"Milan Veselý"},{"$f":"Tabulka!B28","v":0},"Poč. kol",4,null,null,null,null,4,null,null,null,null,4,null,null,null,null,4,null,null,null,null,4,null,null,null,null,4,null,null,null,null,4,null,null,null,null,4,null,null,null,null,3,null,null,null,null,4,null,null,null,null,5,null,null,null,null,4,null,null,null,null,4,null,null,null,null,5,null,null,null,null,4,null,null,null,null,4,null,null,null,null,4,null,null,null,null,null,null,null,null,null,null,null,null,null,null,null,null,null,null,null,null,null,null,null,null,null,null,null,null,null,null,null,null,null,null,null,null,null,null,null,null,null,null,null,null,null,null,null,null,null,{"$f":"IF(AND(SUM(Tabulka!$AG$24)>0.99,(SUM(Tabulka!$AG$24)<2)),-50000+(SUM(E39:ED39)),IF(OR(SUM(Tabulka!$AG$24)<2),-90000,SUM(E39:ED39)))","v":69},null,69]
["Milan VeselýPočet konečných bodů",{"$f":"CONCATENATE(C36,\" \",C37)","v":"Milan Veselý"},null,"Počet konečných bodů",0,23,46,101,null,0,61,0,0,null,4,141,0,0,null,0,82,31,8,null,0,0,26,75,null,84,0,25,0,null,0,43,0,77,null,0,0,34,33,null,35,0,8,null,null,126,26,0,0,null,0,83,116,0,0,126,0,78,63,null,0,113,71,162,null,0,98,50,96,22,70,16,56,45,null,0,46,0,0,null,152,82,8,103,null,null,null,null,null,null,null,null,null,null,null,null,null,null,null,null,null,null,null,null,null,null,null,null,null,null,null,null,null,null,null,null,null,null,null,null,null,null,null,null,null,null,null,null,null,null,{"$f":"IF(AND(SUM(Tabulka!$AG$24)>0.99,(SUM(Tabulka!$AG$24)<2)),-50000-(SUM(E40:ED40)),IF(OR(SUM(Tabulka!$AG$24)<2),-90000,SUM(E40:ED40)))","v":2745},null,2745]
["Milan VeselýPrůměr konečných bodů na kolo",{"$f":"CONCATENATE(C36,\" \",C37)","v":"Milan Veselý"},null,"Průměr konečných bodů na kolo",{"$f":"IF(E40<>\"\",AVERAGE($E40:E40)+$EI41,\"\")","v":-1.6100000000000003E-7},{"$f":"IF(F40<>\"\",AVERAGE($E40:F40)+$EI41,\"\")","v":11.499999838999999},{"$f":"IF(G40<>\"\",AVERAGE($E40:G40)+$EI41,\"\")","v":22.999999839000001},{"$f":"IF(H40<>\"\",AVERAGE($E40:H40)+$EI41,\"\")","v":42.499999838999997},{"$f":"IF(I40<>\"\",AVERAGE($E40:I40)+$EI41,\"\")","v":""},{"$f":"IF(J40<>\"\",AVERAGE($E40:J40)+$EI41,\"\")","v":33.999999838999997},{"$f":"IF(K40<>\"\",AVERAGE($E40:K40)+$EI41,\"\")","v":38.499999838999997},{"$f":"IF(L40<>\"\",AVERAGE($E40:L40)+$EI41,\"\")","v":32.999999838999997},{"$f":"IF(M40<>\"\",AVERAGE($E40:M40)+$EI41,\"\")","v":28.874999839000001},{"$f":"IF(N40<>\"\",AVERAGE($E40:N40)+$EI41,\"\")","v":""},{"$f":"IF(O40<>\"\",AVERAGE($E40:O40)+$EI41,\"\")","v":26.111110950111112},{"$f":"IF(P40<>\"\",AVERAGE($E40:P40)+$EI41,\"\")","v":37.599999838999999},{"$f":"IF(Q40<>\"\",AVERAGE($E40:Q40)+$EI41,\"\")","v":34.181818020818177},{"$f":"IF(R40<>\"\",AVERAGE($E40:R40)+$EI41,\"\")","v":31.333333172333333},{"$f":"IF(S40<>\"\",AVERAGE($E40:S40)+$EI41,\"\")","v":""},{"$f":"IF(T40<>\"\",AVERAGE($E40:T40)+$EI41,\"\")","v":28.923076762076924},{"$f":"IF(U40<>\"\",AVERAGE($E40:U40)+$EI41,\"\")","v":32.714285553285713},{"$f":"IF(V40<>\"\",AVERAGE($E40:V40)+$EI41,\"\")","v":32.599999838999999},{"$f":"IF(W40<>\"\",AVERAGE($E40:W40)+$EI41,\"\")","v":31.062499839000001},{"$f":"IF(X40<>\"\",AVERAGE($E40:X40)+$EI41,\"\")","v":""},{"$f":"IF(Y40<>\"\",AVERAGE($E40:Y40)+$EI41,\"\")","v":29.235293956647059},{"$f":"IF(Z40<>\"\",AVERAGE($E40:Z40)+$EI41,\"\")","v":27.611110950111112},{"$f":"IF(AA40<>\"\",AVERAGE($E40:AA40)+$EI41,\"\")","v":27.526315628473686},{"$f":"IF(AB40<>\"\",AVERAGE($E40:AB40)+$EI41,\"\")","v":29.899999838999999},{"$f":"IF(AC40<>\"\",AVERAGE($E40:AC40)+$EI41,\"\")","v":""},{"$f":"IF(AD40<>\"\",AVERAGE($E40:AD40)+$EI41,\"\")","v":32.476190315190472},{"$f":"IF(AE40<>\"\",AVERAGE($E40:AE40)+$EI41,\"\")","v":30.999999839000001},{"$f":"IF(AF40<>\"\",AVERAGE($E40:AF40)+$EI41,\"\")","v":30.73913027378261},{"$f":"IF(AG40<>\"\",AVERAGE($E40:AG40)+$EI41,\"\")","v":29.458333172333333},{"$f":"IF(AH40<>\"\",AVERAGE($E40:AH40)+$EI41,\"\")","v":""},{"$f":"IF(AI40<>\"\",AVERAGE($E40:AI40)+$EI41,\"\")","v":28.279999839000002},{"$f":"IF(AJ40<>\"\",AVERAGE($E40:AJ40)+$EI41,\"\")","v":28.846153685153848},{"$f":"IF(AK40<>\"\",AVERAGE($E40:AK40)+$EI41,\"\")","v":27.777777616777779},{"$f":"IF(AL40<>\"\",AVERAGE($E40:AL40)+$EI41,\"\")","v":29.535714124714286},{"$f":"IF(AM40<>\"\",AVERAGE($E40:AM40)+$EI41,\"\")","v":""},{"$f":"IF(AN40<>\"\",AVERAGE($E40:AN40)+$EI41,\"\")","v":28.517241218310346},{"$f":"IF(AO40<>\"\",AVERAGE($E40:AO40)+$EI41,\"\")","v":27.566666505666667},{"$f":"IF(AP40<>\"\",AVERAGE($E40:AP40)+$EI41,\"\")","v":27.774193387387097},{"$f":"IF(AQ40<>\"\",AVERAGE($E40:AQ40)+$EI41,\"\")","v":27.937499839000001},{"$f":"IF(AR40<>\"\",AVERAGE($E40:AR40)+$EI41,\"\")","v":""},{"$f":"IF(AS40<>\"\",AVERAGE($E40:AS40)+$EI41,\"\")","v":28.151514990515153},{"$f":"IF(AT40<>\"\",AVERAGE($E40:AT40)+$EI41,\"\")","v":27.323529250764707},{"$f":"IF(AU40<>\"\",AVERAGE($E40:AU40)+$EI41,\"\")","v":26.771428410428573},{"$f":"IF(AV40<>\"\",AVERAGE($E40:AV40)+$EI41,\"\")","v":""},{"$f":"IF(AW40<>\"\",AVERAGE($E40:AW40)+$EI41,\"\")","v":""},{"$f":"IF(AX40<>\"\",AVERAGE($E40:AX40)+$EI41,\"\")","v":29.527777616777779},{"$f":"IF(AY40<>\"\",AVERAGE($E40:AY40)+$EI41,\"\")","v":29.432432271432432},{"$f":"IF(AZ40<>\"\",AVERAGE($E40:AZ40)+$EI41,\"\")","v":28.657894575842107},{"$f":"IF(BA40<>\"\",AVERAGE($E40:BA40)+$EI41,\"\")","v":27.923076762076924},{"$f":"IF(BB40<>\"\",AVERAGE($E40:BB40)+$EI41,\"\")","v":""},{"$f":"IF(BC40<>\"\",AVERAGE($E40:BC40)+$EI41,\"\")","v":27.224999839000002},{"$f":"IF(BD40<>\"\",AVERAGE($E40:BD40)+$EI41,\"\")","v":28.585365692658538},{"$f":"IF(BE40<>\"\",AVERAGE($E40:BE40)+$EI41,\"\")","v":30.666666505666669},{"$f":"IF(BF40<>\"\",AVERAGE($E40:BF40)+$EI41,\"\")","v":29.953488211093024},{"$f":"IF(BG40<>\"\",AVERAGE($E40:BG40)+$EI41,\"\")","v":29.272727111727274},{"$f":"IF(BH40<>\"\",AVERAGE($E40:BH40)+$EI41,\"\")","v":31.422222061222222},{"$f":"IF(BI40<>\"\",AVERAGE($E40:BI40)+$EI41,\"\")","v":30.73913027378261},{"$f":"IF(BJ40<>\"\",AVERAGE($E40:BJ40)+$EI41,\"\")","v":31.744680690063831},{"$f":"IF(BK40<>\"\",AVERAGE($E40:BK40)+$EI41,\"\")","v":32.395833172333333},{"$f":"IF(BL40<>\"\",AVERAGE($E40:BL40)+$EI41,\"\")","v":""},{"$f":"IF(BM40<>\"\",AVERAGE($E40:BM40)+$EI41,\"\")","v":31.734693716551021},{"$f":"IF(BN40<>\"\",AVERAGE($E40:BN40)+$EI41,\"\")","v":33.359999838999997},{"$f":"IF(BO40<>\"\",AVERAGE($E40:BO40)+$EI41,\"\")","v":34.098039054686275},{"$f":"IF(BP40<>\"\",AVERAGE($E40:BP40)+$EI41,\"\")","v":36.557692146692304},{"$f":"IF(BQ40<>\"\",AVERAGE($E40:BQ40)+$EI41,\"\")","v":""},{"$f":"IF(BR40<>\"\",AVERAGE($E40:BR40)+$EI41,\"\")","v":35.867924367301882},{"$f":"IF(BS40<>\"\",AVERAGE($E40:BS40)+$EI41,\"\")","v":37.018518357518516},{"$f":"IF(BT40<>\"\",AVERAGE($E40:BT40)+$EI41,\"\")","v":37.254545293545455},{"$f":"IF(BU40<>\"\",AVERAGE($E40:BU40)+$EI41,\"\")","v":38.303571267571428},{"$f":"IF(BV40<>\"\",AVERAGE($E40:BV40)+$EI41,\"\")","v":38.017543698649121},{"$f":"IF(BW40<>\"\",AVERAGE($E40:BW40)+$EI41,\"\")","v":38.568965356241378},{"$f":"IF(BX40<>\"\",AVERAGE($E40:BX40)+$EI41,\"\")","v":38.186440516966101},{"$f":"IF(BY40<>\"\",AVERAGE($E40:BY40)+$EI41,\"\")","v":38.483333172333332},{"$f":"IF(BZ40<>\"\",AVERAGE($E40:BZ40)+$EI41,\"\")","v":38.590163773426227},{"$f":"IF(CA40<>\"\",AVERAGE($E40:CA40)+$EI41,\"\")","v":""},{"$f":"IF(CB40<>\"\",AVERAGE($E40:CB40)+$EI41,\"\")","v":37.967741774483869},{"$f":"IF(CC40<>\"\",AVERAGE($E40:CC40)+$EI41,\"\")","v":38.095237934238092},{"$f":"IF(CD40<>\"\",AVERAGE($E40:CD40)+$EI41,\"\")","v":37.499999838999997},{"$f":"IF(CE40<>\"\",AVERAGE($E40:CE40)+$EI41,\"\")","v":36.923076762076917},{"$f":"IF(CF40<>\"\",AVERAGE($E40:CF40)+$EI41,\"\")","v":""},{"$f":"IF(CG40<>\"\",AVERAGE($E40:CG40)+$EI41,\"\")","v":38.666666505666662},{"$f":"IF(CH40<>\"\",AVERAGE($E40:CH40)+$EI41,\"\")","v":39.313432674820895},{"$f":"IF(CI40<>\"\",AVERAGE($E40:CI40)+$EI41,\"\")","v":38.852941015470584},{"$f":"IF(CJ40<>\"\",AVERAGE($E40:CJ40)+$EI41,\"\")","v":39.782608534652169},{"$f":"IF(CK40<>\"\",AVERAGE($E40:CK40)+$EI41,\"\")","v":""},{"$f":"IF(CL40<>\"\",AVERAGE($E40:CL40)+$EI41,\"\")","v":""},{"$f":"IF(CM40<>\"\",AVERAGE($E40:CM40)+$EI41,\"\")","v":""},{"$f":"IF(CN40<>\"\",AVERAGE($E40:CN40)+$EI41,\"\")","v":""},{"$f":"IF(CO40<>\"\",AVERAGE($E40:CO40)+$EI41,\"\")","v":""},{"$f":"IF(CP40<>\"\",AVERAGE($E40:CP40)+$EI41,\"\")","v":""},{"$f":"IF(CQ40<>\"\",AVERAGE($E40:CQ40)+$EI41,\"\")","v":""},{"$f":"IF(CR40<>\"\",AVERAGE($E40:CR40)+$EI41,\"\")","v":""},{"$f":"IF(CS40<>\"\",AVERAGE($E40:CS40)+$EI41,\"\")","v":""},{"$f":"IF(CT40<>\"\",AVERAGE($E40:CT40)+$EI41,\"\")","v":""},{"$f":"IF(CU40<>\"\",AVERAGE($E40:CU40)+$EI41,\"\")","v":""},{"$f":"IF(CV40<>\"\",AVERAGE($E40:CV40)+$EI41,\"\")","v":""},{"$f":"IF(CW40<>\"\",AVERAGE($E40:CW40)+$EI41,\"\")","v":""},{"$f":"IF(CX40<>\"\",AVERAGE($E40:CX40)+$EI41,\"\")","v":""},{"$f":"IF(CY40<>\"\",AVERAGE($E40:CY40)+$EI41,\"\")","v":""},{"$f":"IF(CZ40<>\"\",AVERAGE($E40:CZ40)+$EI41,\"\")","v":""},{"$f":"IF(DA40<>\"\",AVERAGE($E40:DA40)+$EI41,\"\")","v":""},{"$f":"IF(DB40<>\"\",AVERAGE($E40:DB40)+$EI41,\"\")","v":""},{"$f":"IF(DC40<>\"\",AVERAGE($E40:DC40)+$EI41,\"\")","v":""},{"$f":"IF(DD40<>\"\",AVERAGE($E40:DD40)+$EI41,\"\")","v":""},{"$f":"IF(DE40<>\"\",AVERAGE($E40:DE40)+$EI41,\"\")","v":""},{"$f":"IF(DF40<>\"\",AVERAGE($E40:DF40)+$EI41,\"\")","v":""},{"$f":"IF(DG40<>\"\",AVERAGE($E40:DG40)+$EI41,\"\")","v":""},{"$f":"IF(DH40<>\"\",AVERAGE($E40:DH40)+$EI41,\"\")","v":""},{"$f":"IF(DI40<>\"\",AVERAGE($E40:DI40)+$EI41,\"\")","v":""},{"$f":"IF(DJ40<>\"\",AVERAGE($E40:DJ40)+$EI41,\"\")","v":""},{"$f":"IF(DK40<>\"\",AVERAGE($E40:DK40)+$EI41,\"\")","v":""},{"$f":"IF(DL40<>\"\",AVERAGE($E40:DL40)+$EI41,\"\")","v":""},{"$f":"IF(DM40<>\"\",AVERAGE($E40:DM40)+$EI41,\"\")","v":""},{"$f":"IF(DN40<>\"\",AVERAGE($E40:DN40)+$EI41,\"\")","v":""},{"$f":"IF(DO40<>\"\",AVERAGE($E40:DO40)+$EI41,\"\")","v":""},{"$f":"IF(DP40<>\"\",AVERAGE($E40:DP40)+$EI41,\"\")","v":""},{"$f":"IF(DQ40<>\"\",AVERAGE($E40:DQ40)+$EI41,\"\")","v":""},{"$f":"IF(DR40<>\"\",AVERAGE($E40:DR40)+$EI41,\"\")","v":""},{"$f":"IF(DS40<>\"\",AVERAGE($E40:DS40)+$EI41,\"\")","v":""},{"$f":"IF(DT40<>\"\",AVERAGE($E40:DT40)+$EI41,\"\")","v":""},{"$f":"IF(DU40<>\"\",AVERAGE($E40:DU40)+$EI41,\"\")","v":""},{"$f":"IF(DV40<>\"\",AVERAGE($E40:DV40)+$EI41,\"\")","v":""},{"$f":"IF(DW40<>\"\",AVERAGE($E40:DW40)+$EI41,\"\")","v":""},{"$f":"IF(DX40<>\"\",AVERAGE($E40:DX40)+$EI41,\"\")","v":""},{"$f":"IF(DY40<>\"\",AVERAGE($E40:DY40)+$EI41,\"\")","v":""},{"$f":"IF(DZ40<>\"\",AVERAGE($E40:DZ40)+$EI41,\"\")","v":""},{"$f":"IF(EA40<>\"\",AVERAGE($E40:EA40)+$EI41,\"\")","v":""},{"$f":"IF(EB40<>\"\",AVERAGE($E40:EB40)+$EI41,\"\")","v":""},{"$f":"IF(EC40<>\"\",AVERAGE($E40:EC40)+$EI41,\"\")","v":""},{"$f":"IF(ED40<>\"\",AVERAGE($E40:ED40)+$EI41,\"\")","v":""},{"$f":"IF(AND(SUM(Tabulka!$AG$24)>0.99,(SUM(Tabulka!$AG$24)<2)),-50000+(SUM(E40:ED40)/COUNT(E41:ED41)),IF(OR(SUM(Tabulka!$AG$24)<2),-90000,SUM(E40:ED40)/COUNT(E41:ED41)))","v":39.782608695652172},null,{"$f":"IFERROR(SUM(E40:ED40)/COUNT(E40:ED40),)","v":39.782608695652172},{"$f":"CONCATENATE(C36,\" \",C37)","v":"Milan Veselý"},{"$f":"INDEX(List4!$E$2:$E$17,MATCH(CONCATENATE(C36,\" \",C37),Tabulka1128[Jmeno_prijmeni],0),1)","v":-1.6100000000000003E-7}]
["Milan VeselýPočet šipek",{"$f":"CONCATENATE(C36,\" \",C37)","v":"Milan Veselý"},null,"Počet šipek",null,null,null,null,null,null,null,null,null,null,null,null,null,null,null,null,null,null,null,null,null,null,null,null,null,null,null,null,null,null,null,null,null,null,null,null,null,null,null,null,null,null,null,null,null,null,null,null,null,null,null,null,null,null,null,null,null,null,null,null,null,null,null,null,null,null,null,null,null,null,null,null,null,null,null,null,null,null,null,null,null,null,null,null,null,null,null,null,null,null,null,null,null,null,null,null,null,null,null,null,null,null,null,null,null,null,null,null,null,null,null,null,null,null,null,null,null,null,null,null,null,null,null,null,null,null,null,null,null,null,{"$f":"IF(AND(SUM(Tabulka!$AG$24)>0.99,(SUM(Tabulka!$AG$24)<2)),-50000+(SUM(E42:ED42)),IF(OR(SUM(Tabulka!$AG$24)<2),-90000,SUM(E42:ED42)))","v":0},null,0]
[{"$f":"CONCATENATE($C$44,\" \",$C$45,D43)","v":"Míra ŠedivýVýhry"},{"$f":"CONCATENATE(C44,\" \",C45)","v":"Míra Šedivý"},{"$f":"Tabulka!B29","v":0},"Výhry",null,null,null,null,null,null,null,null,null,null,0,null,null,null,null,0,null,null,null,null,null,null,null,null,null,0,null,null,null,null,0,null,null,null,null,0,null,null,null,null,null,null,null,null,null,null,null,null,null,null,2,null,null,null,null,null,null,null,null,null,null,null,null,null,null,3,null,null,null,null,null,null,null,null,null,null,null,null,null,null,null,null,null,null,null,null,null,null,null,null,null,null,null,null,null,null,null,null,null,null,null,null,null,null,null,null,null,null,null,null,null,null,null,null,null,null,null,null,null,null,null,null,null,null,null,null,null,null,null,null,{"$f":"IF(AND(SUM(Tabulka!$AG$29)>0.99,(SUM(Tabulka!$AG$29)<2)),-50000+(SUM(E43:ED43)),IF(OR(SUM(Tabulka!$AG$29)<2),-90000,SUM(E43:ED43)))","v":5},null,5]
["Míra ŠedivýProhry","Míra Šedivý",{"$f":"Tabulka!B30","v":"Míra"},"Prohry",null,null,null,null,null,null,null,null,null,null,0,null,null,null,null,0,null,null,null,null,null,null,null,null,null,1,null,null,null,null,2,null,null,null,null,1,null,null,null,null,null,null,null,null,null,null,null,null,null,null,1,null,null,null,null,null,null,null,null,null,null,null,null,null,null,1,null,null,null,null,null,null,null,null,null,null,null,null,null,null,null,null,null,null,null,null,null,null,null,null,null,null,null,null,null,null,null,null,null,null,null,null,null,null,null,null,null,null,null,null,null,null,null,null,null,null,null,null,null,null,null,null,null,null,null,null,null,null,null,null,{"$f":"IF(AND(SUM(Tabulka!$AG$29)>0.99,(SUM(Tabulka!$AG$29)<2)),-50000+(SUM(E44:ED44)),IF(OR(SUM(Tabulka!$AG$29)<2),-90000,SUM(E44:ED44)))","v":6},{"$f":"SUM(EE43-EE44)","v":-1},6]
["Míra ŠedivýPlaceno panáků",{"$f":"CONCATENATE(C44,\" \",C45)","v":"Míra Šedivý"},{"$f":"Tabulka!B31","v":"Šedivý"},"Placeno panáků",null,null,null,null,null,null,null,null,null,null,0,null,null,null,null,0,null,null,null,null,null,null,null,null,null,1,null,null,null,null,2,null,null,null,null,1,null,null,null,null,null,null,null,null,null,null,null,null,null,null,1,null,null,null,null,null,null,null,null,null,null,null,null,null,null,1,null,null,null,null,null,null,null,null,null,null,null,null,null,null,null,null,null,null,null,null,null,null,null,null,null,null,null,null,null,null,null,null,null,null,null,null,null,null,null,null,null,null,null,null,null,null,null,null,null,null,null,null,null,null,null,null,null,null,null,null,null,null,null,null,{"$f":"IF(AND(SUM(Tabulka!$AG$29)>0.99,(SUM(Tabulka!$AG$29)<2)),-50000+(SUM(E45:ED45)),IF(OR(SUM(Tabulka!$AG$29)<2),-90000,SUM(E45:ED45)))","v":6},null,6]
["Míra ŠedivýPřehozy",{"$f":"CONCATENATE(C44,\" \",C45)","v":"Míra Šedivý"},{"$f":"Tabulka!B32","v":0},"Přehozy",null,null,null,null,null,null,null,null,null,null,0,null,null,null,null,0,null,null,null,null,null,null,null,null,null,0,null,null,null,null,0,null,null,null,null,0,null,null,null,null,null,null,null,null,null,null,null,null,null,null,1,null,null,null,null,null,null,null,null,null,null,null,null,null,null,1,null,null,null,null,null,null,null,null,null,null,null,null,null,null,null,null,null,null,null,null,null,null,null,null,null,null,null,null,null,null,null,null,null,null,null,null,null,null,null,null,null,null,null,null,null,null,null,null,null,null,null,null,null,null,null,null,null,null,null,null,null,null,null,null,{"$f":"IF(AND(SUM(Tabulka!$AG$29)>0.99,(SUM(Tabulka!$AG$29)<2)),-50000+(SUM(E46:ED46)),IF(OR(SUM(Tabulka!$AG$29)<2),-90000,SUM(E46:ED46)))","v":2},null,2]
["Míra ŠedivýPoč. kol",{"$f":"CONCATENATE(C44,\" \",C45)","v":"Míra Šedivý"},{"$f":"Tabulka!B33","v":0},"Poč. kol",null,null,null,null,null,null,null,null,null,null,4,null,null,null,null,4,null,null,null,null,null,null,null,null,null,4,null,null,null,null,4,null,null,null,null,4,null,null,null,null,null,null,null,null,null,null,null,null,null,null,5,null,null,null,null,null,null,null,null,null,null,null,null,null,null,5,null,null,null,null,null,null,null,null,null,null,null,null,null,null,null,null,null,null,null,null,null,null,null,null,null,null,null,null,null,null,null,null,null,null,null,null,null,null,null,null,null,null,null,null,null,null,null,null,null,null,null,null,null,null,null,null,null,null,null,null,null,null,null,null,{"$f":"IF(AND(SUM(Tabulka!$AG$29)>0.99,(SUM(Tabulka!$AG$29)<2)),-50000+(SUM(E47:ED47)),IF(OR(SUM(Tabulka!$AG$29)<2),-90000,SUM(E47:ED47)))","v":30},null,30]
["Míra ŠedivýPočet konečných bodů",{"$f":"CONCATENATE(C44,\" \",C45)","v":"Míra Šedivý"},null,"Počet konečných bodů",null,null,null,null,null,null,null,null,null,null,109,109,20,33,null,101,46,28,102,null,null,null,null,null,null,30,21,49,141,null,154,15,77,114,null,48,75,100,90,null,null,null,null,null,null,null,null,null,null,null,0,159,102,36,0,null,null,null,null,null,null,null,null,null,null,0,0,69,166,0,null,null,null,null,null,null,null,null,null,null,null,null,null,null,null,null,null,null,null,null,null,null,null,null,null,null,null,null,null,null,null,null,null,null,null,null,null,null,null,null,null,null,null,null,null,null,null,null,null,null,null,null,null,null,null,null,null,null,null,null,{"$f":"IF(AND(SUM(Tabulka!$AG$29)>0.99,(SUM(Tabulka!$AG$29)<2)),-50000-(SUM(E48:ED48)),IF(OR(SUM(Tabulka!$AG$29)<2),-90000,SUM(E48:ED48)))","v":1994},null,1994]
["Míra ŠedivýPrůměr konečných bodů na kolo",{"$f":"CONCATENATE(C44,\" \",C45)","v":"Míra Šedivý"},null,"Průměr konečných bodů na kolo",{"$f":"IF(E48<>\"\",AVERAGE($E48:E48)+$EI49,\"\")","v":""},{"$f":"IF(F48<>\"\",AVERAGE($E48:F48)+$EI49,\"\")","v":""},{"$f":"IF(G48<>\"\",AVERAGE($E48:G48)+$EI49,\"\")","v":""},{"$f":"IF(H48<>\"\",AVERAGE($E48:H48)+$EI49,\"\")","v":""},{"$f":"IF(I48<>\"\",AVERAGE($E48:I48)+$EI49,\"\")","v":""},{"$f":"IF(J48<>\"\",AVERAGE($E48:J48)+$EI49,\"\")","v":""},{"$f":"IF(K48<>\"\",AVERAGE($E48:K48)+$EI49,\"\")","v":""},{"$f":"IF(L48<>\"\",AVERAGE($E48:L48)+$EI49,\"\")","v":""},{"$f":"IF(M48<>\"\",AVERAGE($E48:M48)+$EI49,\"\")","v":""},{"$f":"IF(N48<>\"\",AVERAGE($E48:N48)+$EI49,\"\")","v":""},{"$f":"IF(O48<>\"\",AVERAGE($E48:O48)+$EI49,\"\")","v":108.99999986900001},{"$f":"IF(P48<>\"\",AVERAGE($E48:P48)+$EI49,\"\")","v":108.99999986900001},{"$f":"IF(Q48<>\"\",AVERAGE($E48:Q48)+$EI49,\"\")","v":79.333333202333336},{"$f":"IF(R48<>\"\",AVERAGE($E48:R48)+$EI49,\"\")","v":67.749999869000007},{"$f":"IF(S48<>\"\",AVERAGE($E48:S48)+$EI49,\"\")","v":""},{"$f":"IF(T48<>\"\",AVERAGE($E48:T48)+$EI49,\"\")","v":74.399999869000013},{"$f":"IF(U48<>\"\",AVERAGE($E48:U48)+$EI49,\"\")","v":69.666666535666678},{"$f":"IF(V48<>\"\",AVERAGE($E48:V48)+$EI49,\"\")","v":63.714285583285715},{"$f":"IF(W48<>\"\",AVERAGE($E48:W48)+$EI49,\"\")","v":68.499999869000007},{"$f":"IF(X48<>\"\",AVERAGE($E48:X48)+$EI49,\"\")","v":""},{"$f":"IF(Y48<>\"\",AVERAGE($E48:Y48)+$EI49,\"\")","v":""},{"$f":"IF(Z48<>\"\",AVERAGE($E48:Z48)+$EI49,\"\")","v":""},{"$f":"IF(AA48<>\"\",AVERAGE($E48:AA48)+$EI49,\"\")","v":""},{"$f":"IF(AB48<>\"\",AVERAGE($E48:AB48)+$EI49,\"\")","v":""},{"$f":"IF(AC48<>\"\",AVERAGE($E48:AC48)+$EI49,\"\")","v":""},{"$f":"IF(AD48<>\"\",AVERAGE($E48:AD48)+$EI49,\"\")","v":64.222222091222235},{"$f":"IF(AE48<>\"\",AVERAGE($E48:AE48)+$EI49,\"\")","v":59.899999868999998},{"$f":"IF(AF48<>\"\",AVERAGE($E48:AF48)+$EI49,\"\")","v":58.909090778090906},{"$f":"IF(AG48<>\"\",AVERAGE($E48:AG48)+$EI49,\"\")","v":65.749999869000007},{"$f":"IF(AH48<>\"\",AVERAGE($E48:AH48)+$EI49,\"\")","v":""},{"$f":"IF(AI48<>\"\",AVERAGE($E48:AI48)+$EI49,\"\")","v":72.53846140746154},{"$f":"IF(AJ48<>\"\",AVERAGE($E48:AJ48)+$EI49,\"\")","v":68.428571297571438},{"$f":"IF(AK48<>\"\",AVERAGE($E48:AK48)+$EI49,\"\")","v":68.999999869000007},{"$f":"IF(AL48<>\"\",AVERAGE($E48:AL48)+$EI49,\"\")","v":71.812499869000007},{"$f":"IF(AM48<>\"\",AVERAGE($E48:AM48)+$EI49,\"\")","v":""},{"$f":"IF(AN48<>\"\",AVERAGE($E48:AN48)+$EI49,\"\")","v":70.411764574882355},{"$f":"IF(AO48<>\"\",AVERAGE($E48:AO48)+$EI49,\"\")","v":70.666666535666678},{"$f":"IF(AP48<>\"\",AVERAGE($E48:AP48)+$EI49,\"\")","v":72.210526184789487},{"$f":"IF(AQ48<>\"\",AVERAGE($E48:AQ48)+$EI49,\"\")","v":73.099999869000001},{"$f":"IF(AR48<>\"\",AVERAGE($E48:AR48)+$EI49,\"\")","v":""},{"$f":"IF(AS48<>\"\",AVERAGE($E48:AS48)+$EI49,\"\")","v":""},{"$f":"IF(AT48<>\"\",AVERAGE($E48:AT48)+$EI49,\"\")","v":""},{"$f":"IF(AU48<>\"\",AVERAGE($E48:AU48)+$EI49,\"\")","v":""},{"$f":"IF(AV48<>\"\",AVERAGE($E48:AV48)+$EI49,\"\")","v":""},{"$f":"IF(AW48<>\"\",AVERAGE($E48:AW48)+$EI49,\"\")","v":""},{"$f":"IF(AX48<>\"\",AVERAGE($E48:AX48)+$EI49,\"\")","v":""},{"$f":"IF(AY48<>\"\",AVERAGE($E48:AY48)+$EI49,\"\")","v":""},{"$f":"IF(AZ48<>\"\",AVERAGE($E48:AZ48)+$EI49,\"\")","v":""},{"$f":"IF(BA48<>\"\",AVERAGE($E48:BA48)+$EI49,\"\")","v":""},{"$f":"IF(BB48<>\"\",AVERAGE($E48:BB48)+$EI49,\"\")","v":""},{"$f":"IF(BC48<>\"\",AVERAGE($E48:BC48)+$EI49,\"\")","v":69.619047488047627},{"$f":"IF(BD48<>\"\",AVERAGE($E48:BD48)+$EI49,\"\")","v":73.681818050818194},{"$f":"IF(BE48<>\"\",AVERAGE($E48:BE48)+$EI49,\"\")","v":74.913043347260881},{"$f":"IF(BF48<>\"\",AVERAGE($E48:BF48)+$EI49,\"\")","v":73.291666535666678},{"$f":"IF(BG48<>\"\",AVERAGE($E48:BG48)+$EI49,\"\")","v":70.359999869000006},{"$f":"IF(BH48<>\"\",AVERAGE($E48:BH48)+$EI49,\"\")","v":""},{"$f":"IF(BI48<>\"\",AVERAGE($E48:BI48)+$EI49,\"\")","v":""},{"$f":"IF(BJ48<>\"\",AVERAGE($E48:BJ48)+$EI49,\"\")","v":""},{"$f":"IF(BK48<>\"\",AVERAGE($E48:BK48)+$EI49,\"\")","v":""},{"$f":"IF(BL48<>\"\",AVERAGE($E48:BL48)+$EI49,\"\")","v":""},{"$f":"IF(BM48<>\"\",AVERAGE($E48:BM48)+$EI49,\"\")","v":""},{"$f":"IF(BN48<>\"\",AVERAGE($E48:BN48)+$EI49,\"\")","v":""},{"$f":"IF(BO48<>\"\",AVERAGE($E48:BO48)+$EI49,\"\")","v":""},{"$f":"IF(BP48<>\"\",AVERAGE($E48:BP48)+$EI49,\"\")","v":""},{"$f":"IF(BQ48<>\"\",AVERAGE($E48:BQ48)+$EI49,\"\")","v":""},{"$f":"IF(BR48<>\"\",AVERAGE($E48:BR48)+$EI49,\"\")","v":67.653846022846167},{"$f":"IF(BS48<>\"\",AVERAGE($E48:BS48)+$EI49,\"\")","v":65.148148017148159},{"$f":"IF(BT48<>\"\",AVERAGE($E48:BT48)+$EI49,\"\")","v":65.285714154714299},{"$f":"IF(BU48<>\"\",AVERAGE($E48:BU48)+$EI49,\"\")","v":68.758620558655181},{"$f":"IF(BV48<>\"\",AVERAGE($E48:BV48)+$EI49,\"\")","v":66.466666535666675},{"$f":"IF(BW48<>\"\",AVERAGE($E48:BW48)+$EI49,\"\")","v":""},{"$f":"IF(BX48<>\"\",AVERAGE($E48:BX48)+$EI49,\"\")","v":""},{"$f":"IF(BY48<>\"\",AVERAGE($E48:BY48)+$EI49,\"\")","v":""},{"$f":"IF(BZ48<>\"\",AVERAGE($E48:BZ48)+$EI49,\"\")","v":""},{"$f":"IF(CA48<>\"\",AVERAGE($E48:CA48)+$EI49,\"\")","v":""},{"$f":"IF(CB48<>\"\",AVERAGE($E48:CB48)+$EI49,\"\")","v":""},{"$f":"IF(CC48<>\"\",AVERAGE($E48:CC48)+$EI49,\"\")","v":""},{"$f":"IF(CD48<>\"\",AVERAGE($E48:CD48)+$EI49,\"\")","v":""},{"$f":"IF(CE48<>\"\",AVERAGE($E48:CE48)+$EI49,\"\")","v":""},{"$f":"IF(CF48<>\"\",AVERAGE($E48:CF48)+$EI49,\"\")","v":""},{"$f":"IF(CG48<>\"\",AVERAGE($E48:CG48)+$EI49,\"\")","v":""},{"$f":"IF(CH48<>\"\",AVERAGE($E48:CH48)+$EI49,\"\")","v":""},{"$f":"IF(CI48<>\"\",AVERAGE($E48:CI48)+$EI49,\"\")","v":""},{"$f":"IF(CJ48<>\"\",AVERAGE($E48:CJ48)+$EI49,\"\")","v":""},{"$f":"IF(CK48<>\"\",AVERAGE($E48:CK48)+$EI49,\"\")","v":""},{"$f":"IF(CL48<>\"\",AVERAGE($E48:CL48)+$EI49,\"\")","v":""},{"$f":"IF(CM48<>\"\",AVERAGE($E48:CM48)+$EI49,\"\")","v":""},{"$f":"IF(CN48<>\"\",AVERAGE($E48:CN48)+$EI49,\"\")","v":""},{"$f":"IF(CO48<>\"\",AVERAGE($E48:CO48)+$EI49,\"\")","v":""},{"$f":"IF(CP48<>\"\",AVERAGE($E48:CP48)+$EI49,\"\")","v":""},{"$f":"IF(CQ48<>\"\",AVERAGE($E48:CQ48)+$EI49,\"\")","v":""},{"$f":"IF(CR48<>\"\",AVERAGE($E48:CR48)+$EI49,\"\")","v":""},{"$f":"IF(CS48<>\"\",AVERAGE($E48:CS48)+$EI49,\"\")","v":""},{"$f":"IF(CT48<>\"\",AVERAGE($E48:CT48)+$EI49,\"\")","v":""},{"$f":"IF(CU48<>\"\",AVERAGE($E48:CU48)+$EI49,\"\")","v":""},{"$f":"IF(CV48<>\"\",AVERAGE($E48:CV48)+$EI49,\"\")","v":""},{"$f":"IF(CW48<>\"\",AVERAGE($E48:CW48)+$EI49,\"\")","v":""},{"$f":"IF(CX48<>\"\",AVERAGE($E48:CX48)+$EI49,\"\")","v":""},{"$f":"IF(CY48<>\"\",AVERAGE($E48:CY48)+$EI49,\"\")","v":""},{"$f":"IF(CZ48<>\"\",AVERAGE($E48:CZ48)+$EI49,\"\")","v":""},{"$f":"IF(DA48<>\"\",AVERAGE($E48:DA48)+$EI49,\"\")","v":""},{"$f":"IF(DB48<>\"\",AVERAGE($E48:DB48)+$EI49,\"\")","v":""},{"$f":"IF(DC48<>\"\",AVERAGE($E48:DC48)+$EI49,\"\")","v":""},{"$f":"IF(DD48<>\"\",AVERAGE($E48:DD48)+$EI49,\"\")","v":""},{"$f":"IF(DE48<>\"\",AVERAGE($E48:DE48)+$EI49,\"\")","v":""},{"$f":"IF(DF48<>\"\",AVERAGE($E48:DF48)+$EI49,\"\")","v":""},{"$f":"IF(DG48<>\"\",AVERAGE($E48:DG48)+$EI49,\"\")","v":""},{"$f":"IF(DH48<>\"\",AVERAGE($E48:DH48)+$EI49,\"\")","v":""},{"$f":"IF(DI48<>\"\",AVERAGE($E48:DI48)+$EI49,\"\")","v":""},{"$f":"IF(DJ48<>\"\",AVERAGE($E48:DJ48)+$EI49,\"\")","v":""},{"$f":"IF(DK48<>\"\",AVERAGE($E48:DK48)+$EI49,\"\")","v":""},{"$f":"IF(DL48<>\"\",AVERAGE($E48:DL48)+$EI49,\"\")","v":""},{"$f":"IF(DM48<>\"\",AVERAGE($E48:DM48)+$EI49,\"\")","v":""},{"$f":"IF(DN48<>\"\",AVERAGE($E48:DN48)+$EI49,\"\")","v":""},{"$f":"IF(DO48<>\"\",AVERAGE($E48:DO48)+$EI49,\"\")","v":""},{"$f":"IF(DP48<>\"\",AVERAGE($E48:DP48)+$EI49,\"\")","v":""},{"$f":"IF(DQ48<>\"\",AVERAGE($E48:DQ48)+$EI49,\"\")","v":""},{"$f":"IF(DR48<>\"\",AVERAGE($E48:DR48)+$EI49,\"\")","v":""},{"$f":"IF(DS48<>\"\",AVERAGE($E48:DS48)+$EI49,\"\")","v":""},{"$f":"IF(DT48<>\"\",AVERAGE($E48:DT48)+$EI49,\"\")","v":""},{"$f":"IF(DU48<>\"\",AVERAGE($E48:DU48)+$EI49,\"\")","v":""},{"$f":"IF(DV48<>\"\",AVERAGE($E48:DV48)+$EI49,\"\")","v":""},{"$f":"IF(DW48<>\"\",AVERAGE($E48:DW48)+$EI49,\"\")","v":""},{"$f":"IF(DX48<>\"\",AVERAGE($E48:DX48)+$EI49,\"\")","v":""},{"$f":"IF(DY48<>\"\",AVERAGE($E48:DY48)+$EI49,\"\")","v":""},{"$f":"IF(DZ48<>\"\",AVERAGE($E48:DZ48)+$EI49,\"\")","v":""},{"$f":"IF(EA48<>\"\",AVERAGE($E48:EA48)+$EI49,\"\")","v":""},{"$f":"IF(EB48<>\"\",AVERAGE($E48:EB48)+$EI49,\"\")","v":""},{"$f":"IF(EC48<>\"\",AVERAGE($E48:EC48)+$EI49,\"\")","v":""},{"$f":"IF(ED48<>\"\",AVERAGE($E48:ED48)+$EI49,\"\")","v":""},{"$f":"IF(AND(SUM(Tabulka!$AG$29)>0.99,(SUM(Tabulka!$AG$29)<2)),-50000+(SUM(E48:ED48)/COUNT(E49:ED49)),IF(OR(SUM(Tabulka!$AG$29)<2),-90000,SUM(E48:ED48)/COUNT(E49:ED49)))","v":66.466666666666669},null,{"$f":"IFERROR(SUM(E48:ED48)/COUNT(E48:ED48),)","v":66.466666666666669},{"$f":"CONCATENATE(C44,\" \",C45)","v":"Míra Šedivý"},{"$f":"INDEX(List4!$E$2:$E$17,MATCH(CONCATENATE(C44,\" \",C45),Tabulka1128[Jmeno_prijmeni],0),1)","v":-1.31E-7}]
["Míra ŠedivýPočet šipek",{"$f":"CONCATENATE(C44,\" \",C45)","v":"Míra Šedivý"},null,"Počet šipek",null,null,null,null,null,null,null,null,null,null,null,null,null,null,null,null,null,null,null,null,null,null,null,null,null,null,null,null,null,null,null,null,null,null,null,null,null,null,null,null,null,null,null,null,null,null,null,null,null,null,null,null,null,null,null,null,null,null,null,null,null,null,null,null,null,null,null,null,null,null,null,null,null,null,null,null,null,null,null,null,null,null,null,null,null,null,null,null,null,null,null,null,null,null,null,null,null,null,null,null,null,null,null,null,null,null,null,null,null,null,null,null,null,null,null,null,null,null,null,null,null,null,null,null,null,null,null,null,null,null,{"$f":"IF(AND(SUM(Tabulka!$AG$29)>0.99,(SUM(Tabulka!$AG$29)<2)),-50000+(SUM(E50:ED50)),IF(OR(SUM(Tabulka!$AG$29)<2),-90000,SUM(E50:ED50)))","v":0},null,0]
[{"$f":"CONCATENATE($C$52,\" \",$C$53,D51)","v":"Jiří BlínVýhry"},{"$f":"CONCATENATE(C52,\" \",C53)","v":"Jiří Blín"},{"$f":"Tabulka!B34","v":0},"Výhry",1,null,null,null,null,0,null,null,null,null,0,null,null,null,null,0,null,null,null,null,0,null,null,null,null,0,null,null,null,null,0,null,null,null,null,1,null,null,null,null,0,null,null,null,null,1,null,null,null,null,2,null,null,null,null,2,null,null,null,null,0,null,null,null,null,0,null,null,null,null,2,null,null,null,null,0,null,null,null,null,0,null,null,null,null,null,null,null,null,null,null,null,null,null,null,null,null,null,null,null,null,null,null,null,null,null,null,null,null,null,null,null,null,null,null,null,null,null,null,null,null,null,null,null,null,null,null,null,null,null,{"$f":"IF(AND(SUM(Tabulka!$AG$34)>0.99,(SUM(Tabulka!$AG$34)<2)),-50000+(SUM(E51:ED51)),IF(OR(SUM(Tabulka!$AG$34)<2),-90000,SUM(E51:ED51)))","v":9},null,9]
["Jiří BlínProhry","Jiří Blín",{"$f":"Tabulka!B35","v":"Jiří"},"Prohry",1,null,null,null,null,2,null,null,null,null,3,null,null,null,null,0,null,null,null,null,0,null,null,null,null,1,null,null,null,null,1,null,null,null,null,2,null,null,null,null,1,null,null,null,null,0,null,null,null,null,1,null,null,null,null,1,null,null,null,null,1,null,null,null,null,1,null,null,null,null,0,null,null,null,null,3,null,null,null,null,0,null,null,null,null,null,null,null,null,null,null,null,null,null,null,null,null,null,null,null,null,null,null,null,null,null,null,null,null,null,null,null,null,null,null,null,null,null,null,null,null,null,null,null,null,null,null,null,null,null,{"$f":"IF(AND(SUM(Tabulka!$AG$34)>0.99,(SUM(Tabulka!$AG$34)<2)),-50000+(SUM(E52:ED52)),IF(OR(SUM(Tabulka!$AG$34)<2),-90000,SUM(E52:ED52)))","v":18},{"$f":"SUM(EE51-EE52)","v":-9},18]
["Jiří BlínPlaceno panáků",{"$f":"CONCATENATE(C52,\" \",C53)","v":"Jiří Blín"},{"$f":"Tabulka!B36","v":"Blín"},"Placeno panáků",2,null,null,null,null,4,null,null,null,null,4,null,null,null,null,0,null,null,null,null,0,null,null,null,null,1,null,null,null,null,1,null,null,null,null,2,null,null,null,null,1,null,null,null,null,0,null,null,null,null,2,null,null,null,null,1,null,null,null,null,1,null,null,null,null,2,null,null,null,null,0,null,null,null,null,3,null,null,null,null,0,null,null,null,null,null,null,null,null,null,null,null,null,null,null,null,null,null,null,null,null,null,null,null,null,null,null,null,null,null,null,null,null,null,null,null,null,null,null,null,null,null,null,null,null,null,null,null,null,null,{"$f":"IF(AND(SUM(Tabulka!$AG$34)>0.99,(SUM(Tabulka!$AG$34)<2)),-50000+(SUM(E53:ED53)),IF(OR(SUM(Tabulka!$AG$34)<2),-90000,SUM(E53:ED53)))","v":24},null,24]
["Jiří BlínPřehozy",{"$f":"CONCATENATE(C52,\" \",C53)","v":"Jiří Blín"},{"$f":"Tabulka!B37","v":0},"Přehozy",0,null,null,null,null,0,null,null,null,null,0,null,null,null,null,0,null,null,null,null,1,null,null,null,null,3,null,null,null,null,2,null,null,null,null,0,null,null,null,null,0,null,null,null,null,0,null,null,null,null,1,null,null,null,null,0,null,null,null,null,0,null,null,null,null,0,null,null,null,null,2,null,null,null,null,1,null,null,null,null,1,null,null,null,null,null,null,null,null,null,null,null,null,null,null,null,null,null,null,null,null,null,null,null,null,null,null,null,null,null,null,null,null,null,null,null,null,null,null,null,null,null,null,null,null,null,null,null,null,null,{"$f":"IF(AND(SUM(Tabulka!$AG$34)>0.99,(SUM(Tabulka!$AG$34)<2)),-50000+(SUM(E54:ED54)),IF(OR(SUM(Tabulka!$AG$34)<2),-90000,SUM(E54:ED54)))","v":11},null,11]
["Jiří BlínPoč. kol",{"$f":"CONCATENATE(C52,\" \",C53)","v":"Jiří Blín"},{"$f":"Tabulka!B38","v":0},"Poč. kol",4,null,null,null,null,4,null,null,null,null,4,null,null,null,null,4,null,null,null,null,4,null,null,null,null,4,null,null,null,null,4,null,null,null,null,4,null,null,null,null,3,null,null,null,null,4,null,null,null,null,5,null,null,null,null,4,null,null,null,null,4,null,null,null,null,5,null,null,null,null,4,null,null,null,null,4,null,null,null,null,4,null,null,null,null,null,null,null,null,null,null,null,null,null,null,null,null,null,null,null,null,null,null,null,null,null,null,null,null,null,null,null,null,null,null,null,null,null,null,null,null,null,null,null,null,null,null,null,null,null,{"$f":"IF(AND(SUM(Tabulka!$AG$34)>0.99,(SUM(Tabulka!$AG$34)<2)),-50000+(SUM(E55:ED55)),IF(OR(SUM(Tabulka!$AG$34)<2),-90000,SUM(E55:ED55)))","v":69},null,69]
["Jiří BlínPočet konečných bodů",{"$f":"CONCATENATE(C52,\" \",C53)","v":"Jiří Blín"},null,"Počet konečných bodů",105,61,0,68,null,90,81,28,16,null,164,84,193,89,null,139,66,22,71,null,42,95,37,65,null,27,125,16,168,null,37,2,31,151,null,164,149,136,0,null,12,104,135,null,null,0,21,55,67,null,0,0,23,51,109,0,165,26,0,null,202,92,40,121,null,184,67,14,49,81,0,0,97,19,null,21,159,125,158,null,179,1,32,22,null,null,null,null,null,null,null,null,null,null,null,null,null,null,null,null,null,null,null,null,null,null,null,null,null,null,null,null,null,null,null,null,null,null,null,null,null,null,null,null,null,null,null,null,null,null,{"$f":"IF(AND(SUM(Tabulka!$AG$34)>0.99,(SUM(Tabulka!$AG$34)<2)),-50000-(SUM(E56:ED56)),IF(OR(SUM(Tabulka!$AG$34)<2),-90000,SUM(E56:ED56)))","v":4953},null,4953]
["Jiří BlínPrůměr konečných bodů na kolo",{"$f":"CONCATENATE(C52,\" \",C53)","v":"Jiří Blín"},null,"Průměr konečných bodů na kolo",{"$f":"IF(E56<>\"\",AVERAGE($E56:E56)+$EI57,\"\")","v":104.999999989},{"$f":"IF(F56<>\"\",AVERAGE($E56:F56)+$EI57,\"\")","v":82.999999989000003},{"$f":"IF(G56<>\"\",AVERAGE($E56:G56)+$EI57,\"\")","v":55.333333322333338},{"$f":"IF(H56<>\"\",AVERAGE($E56:H56)+$EI57,\"\")","v":58.499999989000003},{"$f":"IF(I56<>\"\",AVERAGE($E56:I56)+$EI57,\"\")","v":""},{"$f":"IF(J56<>\"\",AVERAGE($E56:J56)+$EI57,\"\")","v":64.799999989},{"$f":"IF(K56<>\"\",AVERAGE($E56:K56)+$EI57,\"\")","v":67.499999989000003},{"$f":"IF(L56<>\"\",AVERAGE($E56:L56)+$EI57,\"\")","v":61.857142846142857},{"$f":"IF(M56<>\"\",AVERAGE($E56:M56)+$EI57,\"\")","v":56.124999989000003},{"$f":"IF(N56<>\"\",AVERAGE($E56:N56)+$EI57,\"\")","v":""},{"$f":"IF(O56<>\"\",AVERAGE($E56:O56)+$EI57,\"\")","v":68.111111100111117},{"$f":"IF(P56<>\"\",AVERAGE($E56:P56)+$EI57,\"\")","v":69.699999989000005},{"$f":"IF(Q56<>\"\",AVERAGE($E56:Q56)+$EI57,\"\")","v":80.909090898090909},{"$f":"IF(R56<>\"\",AVERAGE($E56:R56)+$EI57,\"\")","v":81.583333322333331},{"$f":"IF(S56<>\"\",AVERAGE($E56:S56)+$EI57,\"\")","v":""},{"$f":"IF(T56<>\"\",AVERAGE($E56:T56)+$EI57,\"\")","v":85.999999989000003},{"$f":"IF(U56<>\"\",AVERAGE($E56:U56)+$EI57,\"\")","v":84.571428560428572},{"$f":"IF(V56<>\"\",AVERAGE($E56:V56)+$EI57,\"\")","v":80.399999989000008},{"$f":"IF(W56<>\"\",AVERAGE($E56:W56)+$EI57,\"\")","v":79.812499989000003},{"$f":"IF(X56<>\"\",AVERAGE($E56:X56)+$EI57,\"\")","v":""},{"$f":"IF(Y56<>\"\",AVERAGE($E56:Y56)+$EI57,\"\")","v":77.588235283117655},{"$f":"IF(Z56<>\"\",AVERAGE($E56:Z56)+$EI57,\"\")","v":78.55555554455556},{"$f":"IF(AA56<>\"\",AVERAGE($E56:AA56)+$EI57,\"\")","v":76.368421041631578},{"$f":"IF(AB56<>\"\",AVERAGE($E56:AB56)+$EI57,\"\")","v":75.799999989},{"$f":"IF(AC56<>\"\",AVERAGE($E56:AC56)+$EI57,\"\")","v":""},{"$f":"IF(AD56<>\"\",AVERAGE($E56:AD56)+$EI57,\"\")","v":73.476190465190484},{"$f":"IF(AE56<>\"\",AVERAGE($E56:AE56)+$EI57,\"\")","v":75.818181807181816},{"$f":"IF(AF56<>\"\",AVERAGE($E56:AF56)+$EI57,\"\")","v":73.217391293347831},{"$f":"IF(AG56<>\"\",AVERAGE($E56:AG56)+$EI57,\"\")","v":77.166666655666674},{"$f":"IF(AH56<>\"\",AVERAGE($E56:AH56)+$EI57,\"\")","v":""},{"$f":"IF(AI56<>\"\",AVERAGE($E56:AI56)+$EI57,\"\")","v":75.559999989000005},{"$f":"IF(AJ56<>\"\",AVERAGE($E56:AJ56)+$EI57,\"\")","v":72.730769219769229},{"$f":"IF(AK56<>\"\",AVERAGE($E56:AK56)+$EI57,\"\")","v":71.185185174185193},{"$f":"IF(AL56<>\"\",AVERAGE($E56:AL56)+$EI57,\"\")","v":74.035714274714294},{"$f":"IF(AM56<>\"\",AVERAGE($E56:AM56)+$EI57,\"\")","v":""},{"$f":"IF(AN56<>\"\",AVERAGE($E56:AN56)+$EI57,\"\")","v":77.137931023482764},{"$f":"IF(AO56<>\"\",AVERAGE($E56:AO56)+$EI57,\"\")","v":79.533333322333334},{"$f":"IF(AP56<>\"\",AVERAGE($E56:AP56)+$EI57,\"\")","v":81.354838698677426},{"$f":"IF(AQ56<>\"\",AVERAGE($E56:AQ56)+$EI57,\"\")","v":78.812499989000003},{"$f":"IF(AR56<>\"\",AVERAGE($E56:AR56)+$EI57,\"\")","v":""},{"$f":"IF(AS56<>\"\",AVERAGE($E56:AS56)+$EI57,\"\")","v":76.787878776878784},{"$f":"IF(AT56<>\"\",AVERAGE($E56:AT56)+$EI57,\"\")","v":77.588235283117655},{"$f":"IF(AU56<>\"\",AVERAGE($E56:AU56)+$EI57,\"\")","v":79.22857141757143},{"$f":"IF(AV56<>\"\",AVERAGE($E56:AV56)+$EI57,\"\")","v":""},{"$f":"IF(AW56<>\"\",AVERAGE($E56:AW56)+$EI57,\"\")","v":""},{"$f":"IF(AX56<>\"\",AVERAGE($E56:AX56)+$EI57,\"\")","v":77.027777766777774},{"$f":"IF(AY56<>\"\",AVERAGE($E56:AY56)+$EI57,\"\")","v":75.513513502513518},{"$f":"IF(AZ56<>\"\",AVERAGE($E56:AZ56)+$EI57,\"\")","v":74.973684199526318},{"$f":"IF(BA56<>\"\",AVERAGE($E56:BA56)+$EI57,\"\")","v":74.769230758230776},{"$f":"IF(BB56<>\"\",AVERAGE($E56:BB56)+$EI57,\"\")","v":""},{"$f":"IF(BC56<>\"\",AVERAGE($E56:BC56)+$EI57,\"\")","v":72.899999989000008},{"$f":"IF(BD56<>\"\",AVERAGE($E56:BD56)+$EI57,\"\")","v":71.121951208512201},{"$f":"IF(BE56<>\"\",AVERAGE($E56:BE56)+$EI57,\"\")","v":69.976190465190484},{"$f":"IF(BF56<>\"\",AVERAGE($E56:BF56)+$EI57,\"\")","v":69.534883709930241},{"$f":"IF(BG56<>\"\",AVERAGE($E56:BG56)+$EI57,\"\")","v":70.43181817081819},{"$f":"IF(BH56<>\"\",AVERAGE($E56:BH56)+$EI57,\"\")","v":68.866666655666663},{"$f":"IF(BI56<>\"\",AVERAGE($E56:BI56)+$EI57,\"\")","v":70.95652172813044},{"$f":"IF(BJ56<>\"\",AVERAGE($E56:BJ56)+$EI57,\"\")","v":69.999999989000003},{"$f":"IF(BK56<>\"\",AVERAGE($E56:BK56)+$EI57,\"\")","v":68.541666655666674},{"$f":"IF(BL56<>\"\",AVERAGE($E56:BL56)+$EI57,\"\")","v":""},{"$f":"IF(BM56<>\"\",AVERAGE($E56:BM56)+$EI57,\"\")","v":71.265306111448979},{"$f":"IF(BN56<>\"\",AVERAGE($E56:BN56)+$EI57,\"\")","v":71.679999989000009},{"$f":"IF(BO56<>\"\",AVERAGE($E56:BO56)+$EI57,\"\")","v":71.058823518411771},{"$f":"IF(BP56<>\"\",AVERAGE($E56:BP56)+$EI57,\"\")","v":72.019230758230776},{"$f":"IF(BQ56<>\"\",AVERAGE($E56:BQ56)+$EI57,\"\")","v":""},{"$f":"IF(BR56<>\"\",AVERAGE($E56:BR56)+$EI57,\"\")","v":74.132075460698118},{"$f":"IF(BS56<>\"\",AVERAGE($E56:BS56)+$EI57,\"\")","v":73.999999989000003},{"$f":"IF(BT56<>\"\",AVERAGE($E56:BT56)+$EI57,\"\")","v":72.909090898090909},{"$f":"IF(BU56<>\"\",AVERAGE($E56:BU56)+$EI57,\"\")","v":72.482142846142864},{"$f":"IF(BV56<>\"\",AVERAGE($E56:BV56)+$EI57,\"\")","v":72.631578936368427},{"$f":"IF(BW56<>\"\",AVERAGE($E56:BW56)+$EI57,\"\")","v":71.37931033382759},{"$f":"IF(BX56<>\"\",AVERAGE($E56:BX56)+$EI57,\"\")","v":70.169491514423726},{"$f":"IF(BY56<>\"\",AVERAGE($E56:BY56)+$EI57,\"\")","v":70.616666655666663},{"$f":"IF(BZ56<>\"\",AVERAGE($E56:BZ56)+$EI57,\"\")","v":69.77049179227869},{"$f":"IF(CA56<>\"\",AVERAGE($E56:CA56)+$EI57,\"\")","v":""},{"$f":"IF(CB56<>\"\",AVERAGE($E56:CB56)+$EI57,\"\")","v":68.983870956741939},{"$f":"IF(CC56<>\"\",AVERAGE($E56:CC56)+$EI57,\"\")","v":70.412698401698421},{"$f":"IF(CD56<>\"\",AVERAGE($E56:CD56)+$EI57,\"\")","v":71.265624989000003},{"$f":"IF(CE56<>\"\",AVERAGE($E56:CE56)+$EI57,\"\")","v":72.599999988999997},{"$f":"IF(CF56<>\"\",AVERAGE($E56:CF56)+$EI57,\"\")","v":""},{"$f":"IF(CG56<>\"\",AVERAGE($E56:CG56)+$EI57,\"\")","v":74.212121201121221},{"$f":"IF(CH56<>\"\",AVERAGE($E56:CH56)+$EI57,\"\")","v":73.119402974074632},{"$f":"IF(CI56<>\"\",AVERAGE($E56:CI56)+$EI57,\"\")","v":72.514705871352945},{"$f":"IF(CJ56<>\"\",AVERAGE($E56:CJ56)+$EI57,\"\")","v":71.782608684652175},{"$f":"IF(CK56<>\"\",AVERAGE($E56:CK56)+$EI57,\"\")","v":""},{"$f":"IF(CL56<>\"\",AVERAGE($E56:CL56)+$EI57,\"\")","v":""},{"$f":"IF(CM56<>\"\",AVERAGE($E56:CM56)+$EI57,\"\")","v":""},{"$f":"IF(CN56<>\"\",AVERAGE($E56:CN56)+$EI57,\"\")","v":""},{"$f":"IF(CO56<>\"\",AVERAGE($E56:CO56)+$EI57,\"\")","v":""},{"$f":"IF(CP56<>\"\",AVERAGE($E56:CP56)+$EI57,\"\")","v":""},{"$f":"IF(CQ56<>\"\",AVERAGE($E56:CQ56)+$EI57,\"\")","v":""},{"$f":"IF(CR56<>\"\",AVERAGE($E56:CR56)+$EI57,\"\")","v":""},{"$f":"IF(CS56<>\"\",AVERAGE($E56:CS56)+$EI57,\"\")","v":""},{"$f":"IF(CT56<>\"\",AVERAGE($E56:CT56)+$EI57,\"\")","v":""},{"$f":"IF(CU56<>\"\",AVERAGE($E56:CU56)+$EI57,\"\")","v":""},{"$f":"IF(CV56<>\"\",AVERAGE($E56:CV56)+$EI57,\"\")","v":""},{"$f":"IF(CW56<>\"\",AVERAGE($E56:CW56)+$EI57,\"\")","v":""},{"$f":"IF(CX56<>\"\",AVERAGE($E56:CX56)+$EI57,\"\")","v":""},{"$f":"IF(CY56<>\"\",AVERAGE($E56:CY56)+$EI57,\"\")","v":""},{"$f":"IF(CZ56<>\"\",AVERAGE($E56:CZ56)+$EI57,\"\")","v":""},{"$f":"IF(DA56<>\"\",AVERAGE($E56:DA56)+$EI57,\"\")","v":""},{"$f":"IF(DB56<>\"\",AVERAGE($E56:DB56)+$EI57,\"\")","v":""},{"$f":"IF(DC56<>\"\",AVERAGE($E56:DC56)+$EI57,\"\")","v":""},{"$f":"IF(DD56<>\"\",AVERAGE($E56:DD56)+$EI57,\"\")","v":""},{"$f":"IF(DE56<>\"\",AVERAGE($E56:DE56)+$EI57,\"\")","v":""},{"$f":"IF(DF56<>\"\",AVERAGE($E56:DF56)+$EI57,\"\")","v":""},{"$f":"IF(DG56<>\"\",AVERAGE($E56:DG56)+$EI57,\"\")","v":""},{"$f":"IF(DH56<>\"\",AVERAGE($E56:DH56)+$EI57,\"\")","v":""},{"$f":"IF(DI56<>\"\",AVERAGE($E56:DI56)+$EI57,\"\")","v":""},{"$f":"IF(DJ56<>\"\",AVERAGE($E56:DJ56)+$EI57,\"\")","v":""},{"$f":"IF(DK56<>\"\",AVERAGE($E56:DK56)+$EI57,\"\")","v":""},{"$f":"IF(DL56<>\"\",AVERAGE($E56:DL56)+$EI57,\"\")","v":""},{"$f":"IF(DM56<>\"\",AVERAGE($E56:DM56)+$EI57,\"\")","v":""},{"$f":"IF(DN56<>\"\",AVERAGE($E56:DN56)+$EI57,\"\")","v":""},{"$f":"IF(DO56<>\"\",AVERAGE($E56:DO56)+$EI57,\"\")","v":""},{"$f":"IF(DP56<>\"\",AVERAGE($E56:DP56)+$EI57,\"\")","v":""},{"$f":"IF(DQ56<>\"\",AVERAGE($E56:DQ56)+$EI57,\"\")","v":""},{"$f":"IF(DR56<>\"\",AVERAGE($E56:DR56)+$EI57,\"\")","v":""},{"$f":"IF(DS56<>\"\",AVERAGE($E56:DS56)+$EI57,\"\")","v":""},{"$f":"IF(DT56<>\"\",AVERAGE($E56:DT56)+$EI57,\"\")","v":""},{"$f":"IF(DU56<>\"\",AVERAGE($E56:DU56)+$EI57,\"\")","v":""},{"$f":"IF(DV56<>\"\",AVERAGE($E56:DV56)+$EI57,\"\")","v":""},{"$f":"IF(DW56<>\"\",AVERAGE($E56:DW56)+$EI57,\"\")","v":""},{"$f":"IF(DX56<>\"\",AVERAGE($E56:DX56)+$EI57,\"\")","v":""},{"$f":"IF(DY56<>\"\",AVERAGE($E56:DY56)+$EI57,\"\")","v":""},{"$f":"IF(DZ56<>\"\",AVERAGE($E56:DZ56)+$EI57,\"\")","v":""},{"$f":"IF(EA56<>\"\",AVERAGE($E56:EA56)+$EI57,\"\")","v":""},{"$f":"IF(EB56<>\"\",AVERAGE($E56:EB56)+$EI57,\"\")","v":""},{"$f":"IF(EC56<>\"\",AVERAGE($E56:EC56)+$EI57,\"\")","v":""},{"$f":"IF(ED56<>\"\",AVERAGE($E56:ED56)+$EI57,\"\")","v":""},{"$f":"IF(AND(SUM(Tabulka!$AG$34)>0.99,(SUM(Tabulka!$AG$34)<2)),-50000+(SUM(E56:ED56)/COUNT(E57:ED57)),IF(OR(SUM(Tabulka!$AG$34)<2),-90000,SUM(E56:ED56)/COUNT(E57:ED57)))","v":71.782608695652172},null,{"$f":"IFERROR(SUM(E56:ED56)/COUNT(E56:ED56),)","v":71.782608695652172},{"$f":"CONCATENATE(C52,\" \",C53)","v":"Jiří Blín"},{"$f":"INDEX(List4!$E$2:$E$17,MATCH(CONCATENATE(C52,\" \",C53),Tabulka1128[Jmeno_prijmeni],0),1)","v":-1.0999999999999999E-8}]
["Jiří BlínPočet šipek",{"$f":"CONCATENATE(C52,\" \",C53)","v":"Jiří Blín"},null,"Počet šipek",null,null,null,null,null,null,null,null,null,null,null,null,null,null,null,null,null,null,null,null,null,null,null,null,null,null,null,null,null,null,null,null,null,null,null,null,null,null,null,null,null,null,null,null,null,null,null,null,null,null,null,null,null,null,null,null,null,null,null,null,null,null,null,null,null,null,null,null,null,null,null,null,null,null,null,null,null,null,null,null,null,null,null,null,null,null,null,null,null,null,null,null,null,null,null,null,null,null,null,null,null,null,null,null,null,null,null,null,null,null,null,null,null,null,null,null,null,null,null,null,null,null,null,null,null,null,null,null,null,null,{"$f":"IF(AND(SUM(Tabulka!$AG$34)>0.99,(SUM(Tabulka!$AG$34)<2)),-50000+(SUM(E58:ED58)),IF(OR(SUM(Tabulka!$AG$34)<2),-90000,SUM(E58:ED58)))","v":0},null,0]
[{"$f":"CONCATENATE($C$60,\" \",$C$61,D59)","v":"Adam ŠmídVýhry"},{"$f":"CONCATENATE(C60,\" \",C61)","v":"Adam Šmíd"},{"$f":"Tabulka!B39","v":0},"Výhry",0,null,null,null,null,null,null,null,null,null,0,null,null,null,null,0,null,null,null,null,0,null,null,null,null,null,null,null,null,null,0,null,null,null,null,0,null,null,null,null,0,null,null,null,null,null,null,null,null,null,null,null,null,null,null,0,null,null,null,null,0,null,null,null,null,null,null,null,null,null,0,null,null,null,null,null,null,null,null,null,null,null,null,null,null,null,null,null,null,null,null,null,null,null,null,null,null,null,null,null,null,null,null,null,null,null,null,null,null,null,null,null,null,null,null,null,null,null,null,null,null,null,null,null,null,null,null,null,null,null,{"$f":"IF(AND(SUM(Tabulka!$AG$39)>0.99,(SUM(Tabulka!$AG$39)<2)),-50000+(SUM(E59:ED59)),IF(OR(SUM(Tabulka!$AG$39)<2),-90000,SUM(E59:ED59)))","v":0},null,0]
["Adam ŠmídProhry","Adam Šmíd",{"$f":"Tabulka!B40","v":"Adam"},"Prohry",0,null,null,null,null,null,null,null,null,null,0,null,null,null,null,1,null,null,null,null,1,null,null,null,null,null,null,null,null,null,0,null,null,null,null,1,null,null,null,null,1,null,null,null,null,null,null,null,null,null,null,null,null,null,null,0,null,null,null,null,0,null,null,null,null,null,null,null,null,null,3,null,null,null,null,null,null,null,null,null,null,null,null,null,null,null,null,null,null,null,null,null,null,null,null,null,null,null,null,null,null,null,null,null,null,null,null,null,null,null,null,null,null,null,null,null,null,null,null,null,null,null,null,null,null,null,null,null,null,null,{"$f":"IF(AND(SUM(Tabulka!$AG$39)>0.99,(SUM(Tabulka!$AG$39)<2)),-50000+(SUM(E60:ED60)),IF(OR(SUM(Tabulka!$AG$39)<2),-90000,SUM(E60:ED60)))","v":7},{"$f":"SUM(EE59-EE60)","v":-7},7]
["Adam ŠmídPlaceno panáků",{"$f":"CONCATENATE(C60,\" \",C61)","v":"Adam Šmíd"},{"$f":"Tabulka!B41","v":"Šmíd"},"Placeno panáků",0,null,null,null,null,null,null,null,null,null,5,null,null,null,null,1,null,null,null,null,1,null,null,null,null,null,null,null,null,null,0,null,null,null,null,1,null,null,null,null,2,null,null,null,null,null,null,null,null,null,null,null,null,null,null,0,null,null,null,null,0,null,null,null,null,null,null,null,null,null,4,null,null,null,null,null,null,null,null,null,null,null,null,null,null,null,null,null,null,null,null,null,null,null,null,null,null,null,null,null,null,null,null,null,null,null,null,null,null,null,null,null,null,null,null,null,null,null,null,null,null,null,null,null,null,null,null,null,null,null,{"$f":"IF(AND(SUM(Tabulka!$AG$39)>0.99,(SUM(Tabulka!$AG$39)<2)),-50000+(SUM(E61:ED61)),IF(OR(SUM(Tabulka!$AG$39)<2),-90000,SUM(E61:ED61)))","v":14},null,14]
["Adam ŠmídPřehozy",{"$f":"CONCATENATE(C60,\" \",C61)","v":"Adam Šmíd"},{"$f":"Tabulka!B42","v":0},"Přehozy",0,null,null,null,null,null,null,null,null,null,0,null,null,null,null,0,null,null,null,null,0,null,null,null,null,null,null,null,null,null,2,null,null,null,null,0,null,null,null,null,0,null,null,null,null,null,null,null,null,null,null,null,null,null,null,0,null,null,null,null,0,null,null,null,null,null,null,null,null,null,0,null,null,null,null,null,null,null,null,null,null,null,null,null,null,null,null,null,null,null,null,null,null,null,null,null,null,null,null,null,null,null,null,null,null,null,null,null,null,null,null,null,null,null,null,null,null,null,null,null,null,null,null,null,null,null,null,null,null,null,{"$f":"IF(AND(SUM(Tabulka!$AG$39)>0.99,(SUM(Tabulka!$AG$39)<2)),-50000+(SUM(E62:ED62)),IF(OR(SUM(Tabulka!$AG$39)<2),-90000,SUM(E62:ED62)))","v":2},null,2]
["Adam ŠmídPoč. kol",{"$f":"CONCATENATE(C60,\" \",C61)","v":"Adam Šmíd"},{"$f":"Tabulka!B43","v":0},"Poč. kol",1,null,null,null,null,null,null,null,null,null,2,null,null,null,null,2,null,null,null,null,1,null,null,null,null,null,null,null,null,null,2,null,null,null,null,2,null,null,null,null,2,null,null,null,null,null,null,null,null,null,null,null,null,null,null,1,null,null,null,null,3,null,null,null,null,null,null,null,null,null,3,null,null,null,null,null,null,null,null,null,null,null,null,null,null,null,null,null,null,null,null,null,null,null,null,null,null,null,null,null,null,null,null,null,null,null,null,null,null,null,null,null,null,null,null,null,null,null,null,null,null,null,null,null,null,null,null,null,null,null,{"$f":"IF(AND(SUM(Tabulka!$AG$39)>0.99,(SUM(Tabulka!$AG$39)<2)),-50000+(SUM(E63:ED63)),IF(OR(SUM(Tabulka!$AG$39)<2),-90000,SUM(E63:ED63)))","v":19},null,19]
["Adam ŠmídPočet konečných bodů",{"$f":"CONCATENATE(C60,\" \",C61)","v":"Adam Šmíd"},null,"Počet konečných bodů",null,null,null,15,null,null,null,null,null,null,null,null,156,49,null,null,null,115,132,null,null,null,null,85,null,null,null,null,null,null,null,null,49,65,null,null,null,195,53,null,null,132,81,null,null,null,null,null,null,null,null,null,null,null,null,null,null,null,12,null,null,60,106,97,null,null,null,null,null,null,null,109,232,85,null,null,null,null,null,null,null,null,null,null,null,null,null,null,null,null,null,null,null,null,null,null,null,null,null,null,null,null,null,null,null,null,null,null,null,null,null,null,null,null,null,null,null,null,null,null,null,null,null,null,null,null,null,null,null,null,{"$f":"IF(AND(SUM(Tabulka!$AG$39)>0.99,(SUM(Tabulka!$AG$39)<2)),-50000-(SUM(E64:ED64)),IF(OR(SUM(Tabulka!$AG$39)<2),-90000,SUM(E64:ED64)))","v":1828},null,1828]
["Adam ŠmídPrůměr konečných bodů na kolo",{"$f":"CONCATENATE(C60,\" \",C61)","v":"Adam Šmíd"},null,"Průměr konečných bodů na kolo",{"$f":"IF(E64<>\"\",AVERAGE($E64:E64)+$EI65,\"\")","v":""},{"$f":"IF(F64<>\"\",AVERAGE($E64:F64)+$EI65,\"\")","v":""},{"$f":"IF(G64<>\"\",AVERAGE($E64:G64)+$EI65,\"\")","v":""},{"$f":"IF(H64<>\"\",AVERAGE($E64:H64)+$EI65,\"\")","v":14.999999859000001},{"$f":"IF(I64<>\"\",AVERAGE($E64:I64)+$EI65,\"\")","v":""},{"$f":"IF(J64<>\"\",AVERAGE($E64:J64)+$EI65,\"\")","v":""},{"$f":"IF(K64<>\"\",AVERAGE($E64:K64)+$EI65,\"\")","v":""},{"$f":"IF(L64<>\"\",AVERAGE($E64:L64)+$EI65,\"\")","v":""},{"$f":"IF(M64<>\"\",AVERAGE($E64:M64)+$EI65,\"\")","v":""},{"$f":"IF(N64<>\"\",AVERAGE($E64:N64)+$EI65,\"\")","v":""},{"$f":"IF(O64<>\"\",AVERAGE($E64:O64)+$EI65,\"\")","v":""},{"$f":"IF(P64<>\"\",AVERAGE($E64:P64)+$EI65,\"\")","v":""},{"$f":"IF(Q64<>\"\",AVERAGE($E64:Q64)+$EI65,\"\")","v":85.499999858999999},{"$f":"IF(R64<>\"\",AVERAGE($E64:R64)+$EI65,\"\")","v":73.333333192333328},{"$f":"IF(S64<>\"\",AVERAGE($E64:S64)+$EI65,\"\")","v":""},{"$f":"IF(T64<>\"\",AVERAGE($E64:T64)+$EI65,\"\")","v":""},{"$f":"IF(U64<>\"\",AVERAGE($E64:U64)+$EI65,\"\")","v":""},{"$f":"IF(V64<>\"\",AVERAGE($E64:V64)+$EI65,\"\")","v":83.749999858999999},{"$f":"IF(W64<>\"\",AVERAGE($E64:W64)+$EI65,\"\")","v":93.399999859000005},{"$f":"IF(X64<>\"\",AVERAGE($E64:X64)+$EI65,\"\")","v":""},{"$f":"IF(Y64<>\"\",AVERAGE($E64:Y64)+$EI65,\"\")","v":""},{"$f":"IF(Z64<>\"\",AVERAGE($E64:Z64)+$EI65,\"\")","v":""},{"$f":"IF(AA64<>\"\",AVERAGE($E64:AA64)+$EI65,\"\")","v":""},{"$f":"IF(AB64<>\"\",AVERAGE($E64:AB64)+$EI65,\"\")","v":91.999999858999999},{"$f":"IF(AC64<>\"\",AVERAGE($E64:AC64)+$EI65,\"\")","v":""},{"$f":"IF(AD64<>\"\",AVERAGE($E64:AD64)+$EI65,\"\")","v":""},{"$f":"IF(AE64<>\"\",AVERAGE($E64:AE64)+$EI65,\"\")","v":""},{"$f":"IF(AF64<>\"\",AVERAGE($E64:AF64)+$EI65,\"\")","v":""},{"$f":"IF(AG64<>\"\",AVERAGE($E64:AG64)+$EI65,\"\")","v":""},{"$f":"IF(AH64<>\"\",AVERAGE($E64:AH64)+$EI65,\"\")","v":""},{"$f":"IF(AI64<>\"\",AVERAGE($E64:AI64)+$EI65,\"\")","v":""},{"$f":"IF(AJ64<>\"\",AVERAGE($E64:AJ64)+$EI65,\"\")","v":""},{"$f":"IF(AK64<>\"\",AVERAGE($E64:AK64)+$EI65,\"\")","v":85.85714271614286},{"$f":"IF(AL64<>\"\",AVERAGE($E64:AL64)+$EI65,\"\")","v":83.249999858999999},{"$f":"IF(AM64<>\"\",AVERAGE($E64:AM64)+$EI65,\"\")","v":""},{"$f":"IF(AN64<>\"\",AVERAGE($E64:AN64)+$EI65,\"\")","v":""},{"$f":"IF(AO64<>\"\",AVERAGE($E64:AO64)+$EI65,\"\")","v":""},{"$f":"IF(AP64<>\"\",AVERAGE($E64:AP64)+$EI65,\"\")","v":95.66666652566667},{"$f":"IF(AQ64<>\"\",AVERAGE($E64:AQ64)+$EI65,\"\")","v":91.399999859000005},{"$f":"IF(AR64<>\"\",AVERAGE($E64:AR64)+$EI65,\"\")","v":""},{"$f":"IF(AS64<>\"\",AVERAGE($E64:AS64)+$EI65,\"\")","v":""},{"$f":"IF(AT64<>\"\",AVERAGE($E64:AT64)+$EI65,\"\")","v":95.090908949909092},{"$f":"IF(AU64<>\"\",AVERAGE($E64:AU64)+$EI65,\"\")","v":93.91666652566667},{"$f":"IF(AV64<>\"\",AVERAGE($E64:AV64)+$EI65,\"\")","v":""},{"$f":"IF(AW64<>\"\",AVERAGE($E64:AW64)+$EI65,\"\")","v":""},{"$f":"IF(AX64<>\"\",AVERAGE($E64:AX64)+$EI65,\"\")","v":""},{"$f":"IF(AY64<>\"\",AVERAGE($E64:AY64)+$EI65,\"\")","v":""},{"$f":"IF(AZ64<>\"\",AVERAGE($E64:AZ64)+$EI65,\"\")","v":""},{"$f":"IF(BA64<>\"\",AVERAGE($E64:BA64)+$EI65,\"\")","v":""},{"$f":"IF(BB64<>\"\",AVERAGE($E64:BB64)+$EI65,\"\")","v":""},{"$f":"IF(BC64<>\"\",AVERAGE($E64:BC64)+$EI65,\"\")","v":""},{"$f":"IF(BD64<>\"\",AVERAGE($E64:BD64)+$EI65,\"\")","v":""},{"$f":"IF(BE64<>\"\",AVERAGE($E64:BE64)+$EI65,\"\")","v":""},{"$f":"IF(BF64<>\"\",AVERAGE($E64:BF64)+$EI65,\"\")","v":""},{"$f":"IF(BG64<>\"\",AVERAGE($E64:BG64)+$EI65,\"\")","v":""},{"$f":"IF(BH64<>\"\",AVERAGE($E64:BH64)+$EI65,\"\")","v":""},{"$f":"IF(BI64<>\"\",AVERAGE($E64:BI64)+$EI65,\"\")","v":""},{"$f":"IF(BJ64<>\"\",AVERAGE($E64:BJ64)+$EI65,\"\")","v":""},{"$f":"IF(BK64<>\"\",AVERAGE($E64:BK64)+$EI65,\"\")","v":87.615384474384612},{"$f":"IF(BL64<>\"\",AVERAGE($E64:BL64)+$EI65,\"\")","v":""},{"$f":"IF(BM64<>\"\",AVERAGE($E64:BM64)+$EI65,\"\")","v":""},{"$f":"IF(BN64<>\"\",AVERAGE($E64:BN64)+$EI65,\"\")","v":85.642857001857138},{"$f":"IF(BO64<>\"\",AVERAGE($E64:BO64)+$EI65,\"\")","v":86.999999858999999},{"$f":"IF(BP64<>\"\",AVERAGE($E64:BP64)+$EI65,\"\")","v":87.624999858999999},{"$f":"IF(BQ64<>\"\",AVERAGE($E64:BQ64)+$EI65,\"\")","v":""},{"$f":"IF(BR64<>\"\",AVERAGE($E64:BR64)+$EI65,\"\")","v":""},{"$f":"IF(BS64<>\"\",AVERAGE($E64:BS64)+$EI65,\"\")","v":""},{"$f":"IF(BT64<>\"\",AVERAGE($E64:BT64)+$EI65,\"\")","v":""},{"$f":"IF(BU64<>\"\",AVERAGE($E64:BU64)+$EI65,\"\")","v":""},{"$f":"IF(BV64<>\"\",AVERAGE($E64:BV64)+$EI65,\"\")","v":""},{"$f":"IF(BW64<>\"\",AVERAGE($E64:BW64)+$EI65,\"\")","v":""},{"$f":"IF(BX64<>\"\",AVERAGE($E64:BX64)+$EI65,\"\")","v":88.882352800176463},{"$f":"IF(BY64<>\"\",AVERAGE($E64:BY64)+$EI65,\"\")","v":96.833333192333328},{"$f":"IF(BZ64<>\"\",AVERAGE($E64:BZ64)+$EI65,\"\")","v":96.210526174789479},{"$f":"IF(CA64<>\"\",AVERAGE($E64:CA64)+$EI65,\"\")","v":""},{"$f":"IF(CB64<>\"\",AVERAGE($E64:CB64)+$EI65,\"\")","v":""},{"$f":"IF(CC64<>\"\",AVERAGE($E64:CC64)+$EI65,\"\")","v":""},{"$f":"IF(CD64<>\"\",AVERAGE($E64:CD64)+$EI65,\"\")","v":""},{"$f":"IF(CE64<>\"\",AVERAGE($E64:CE64)+$EI65,\"\")","v":""},{"$f":"IF(CF64<>\"\",AVERAGE($E64:CF64)+$EI65,\"\")","v":""},{"$f":"IF(CG64<>\"\",AVERAGE($E64:CG64)+$EI65,\"\")","v":""},{"$f":"IF(CH64<>\"\",AVERAGE($E64:CH64)+$EI65,\"\")","v":""},{"$f":"IF(CI64<>\"\",AVERAGE($E64:CI64)+$EI65,\"\")","v":""},{"$f":"IF(CJ64<>\"\",AVERAGE($E64:CJ64)+$EI65,\"\")","v":""},{"$f":"IF(CK64<>\"\",AVERAGE($E64:CK64)+$EI65,\"\")","v":""},{"$f":"IF(CL64<>\"\",AVERAGE($E64:CL64)+$EI65,\"\")","v":""},{"$f":"IF(CM64<>\"\",AVERAGE($E64:CM64)+$EI65,\"\")","v":""},{"$f":"IF(CN64<>\"\",AVERAGE($E64:CN64)+$EI65,\"\")","v":""},{"$f":"IF(CO64<>\"\",AVERAGE($E64:CO64)+$EI65,\"\")","v":""},{"$f":"IF(CP64<>\"\",AVERAGE($E64:CP64)+$EI65,\"\")","v":""},{"$f":"IF(CQ64<>\"\",AVERAGE($E64:CQ64)+$EI65,\"\")","v":""},{"$f":"IF(CR64<>\"\",AVERAGE($E64:CR64)+$EI65,\"\")","v":""},{"$f":"IF(CS64<>\"\",AVERAGE($E64:CS64)+$EI65,\"\")","v":""},{"$f":"IF(CT64<>\"\",AVERAGE($E64:CT64)+$EI65,\"\")","v":""},{"$f":"IF(CU64<>\"\",AVERAGE($E64:CU64)+$EI65,\"\")","v":""},{"$f":"IF(CV64<>\"\",AVERAGE($E64:CV64)+$EI65,\"\")","v":""},{"$f":"IF(CW64<>\"\",AVERAGE($E64:CW64)+$EI65,\"\")","v":""},{"$f":"IF(CX64<>\"\",AVERAGE($E64:CX64)+$EI65,\"\")","v":""},{"$f":"IF(CY64<>\"\",AVERAGE($E64:CY64)+$EI65,\"\")","v":""},{"$f":"IF(CZ64<>\"\",AVERAGE($E64:CZ64)+$EI65,\"\")","v":""},{"$f":"IF(DA64<>\"\",AVERAGE($E64:DA64)+$EI65,\"\")","v":""},{"$f":"IF(DB64<>\"\",AVERAGE($E64:DB64)+$EI65,\"\")","v":""},{"$f":"IF(DC64<>\"\",AVERAGE($E64:DC64)+$EI65,\"\")","v":""},{"$f":"IF(DD64<>\"\",AVERAGE($E64:DD64)+$EI65,\"\")","v":""},{"$f":"IF(DE64<>\"\",AVERAGE($E64:DE64)+$EI65,\"\")","v":""},{"$f":"IF(DF64<>\"\",AVERAGE($E64:DF64)+$EI65,\"\")","v":""},{"$f":"IF(DG64<>\"\",AVERAGE($E64:DG64)+$EI65,\"\")","v":""},{"$f":"IF(DH64<>\"\",AVERAGE($E64:DH64)+$EI65,\"\")","v":""},{"$f":"IF(DI64<>\"\",AVERAGE($E64:DI64)+$EI65,\"\")","v":""},{"$f":"IF(DJ64<>\"\",AVERAGE($E64:DJ64)+$EI65,\"\")","v":""},{"$f":"IF(DK64<>\"\",AVERAGE($E64:DK64)+$EI65,\"\")","v":""},{"$f":"IF(DL64<>\"\",AVERAGE($E64:DL64)+$EI65,\"\")","v":""},{"$f":"IF(DM64<>\"\",AVERAGE($E64:DM64)+$EI65,\"\")","v":""},{"$f":"IF(DN64<>\"\",AVERAGE($E64:DN64)+$EI65,\"\")","v":""},{"$f":"IF(DO64<>\"\",AVERAGE($E64:DO64)+$EI65,\"\")","v":""},{"$f":"IF(DP64<>\"\",AVERAGE($E64:DP64)+$EI65,\"\")","v":""},{"$f":"IF(DQ64<>\"\",AVERAGE($E64:DQ64)+$EI65,\"\")","v":""},{"$f":"IF(DR64<>\"\",AVERAGE($E64:DR64)+$EI65,\"\")","v":""},{"$f":"IF(DS64<>\"\",AVERAGE($E64:DS64)+$EI65,\"\")","v":""},{"$f":"IF(DT64<>\"\",AVERAGE($E64:DT64)+$EI65,\"\")","v":""},{"$f":"IF(DU64<>\"\",AVERAGE($E64:DU64)+$EI65,\"\")","v":""},{"$f":"IF(DV64<>\"\",AVERAGE($E64:DV64)+$EI65,\"\")","v":""},{"$f":"IF(DW64<>\"\",AVERAGE($E64:DW64)+$EI65,\"\")","v":""},{"$f":"IF(DX64<>\"\",AVERAGE($E64:DX64)+$EI65,\"\")","v":""},{"$f":"IF(DY64<>\"\",AVERAGE($E64:DY64)+$EI65,\"\")","v":""},{"$f":"IF(DZ64<>\"\",AVERAGE($E64:DZ64)+$EI65,\"\")","v":""},{"$f":"IF(EA64<>\"\",AVERAGE($E64:EA64)+$EI65,\"\")","v":""},{"$f":"IF(EB64<>\"\",AVERAGE($E64:EB64)+$EI65,\"\")","v":""},{"$f":"IF(EC64<>\"\",AVERAGE($E64:EC64)+$EI65,\"\")","v":""},{"$f":"IF(ED64<>\"\",AVERAGE($E64:ED64)+$EI65,\"\")","v":""},{"$f":"IF(AND(SUM(Tabulka!$AG$39)>0.99,(SUM(Tabulka!$AG$39)<2)),-50000+(SUM(E64:ED64)/COUNT(E65:ED65)),IF(OR(SUM(Tabulka!$AG$39)<2),-90000,SUM(E64:ED64)/COUNT(E65:ED65)))","v":96.21052631578948},null,{"$f":"IFERROR(SUM(E64:ED64)/COUNT(E64:ED64),)","v":96.21052631578948},{"$f":"CONCATENATE(C60,\" \",C61)","v":"Adam Šmíd"},{"$f":"INDEX(List4!$E$2:$E$17,MATCH(CONCATENATE(C60,\" \",C61),Tabulka1128[Jmeno_prijmeni],0),1)","v":-1.4100000000000001E-7}]
["Adam ŠmídPočet šipek",{"$f":"CONCATENATE(C60,\" \",C61)","v":"Adam Šmíd"},null,"Počet šipek",null,null,null,null,null,null,null,null,null,null,null,null,null,null,null,null,null,null,null,null,null,null,null,null,null,null,null,null,null,null,null,null,null,null,null,null,null,null,null,null,null,null,null,null,null,null,null,null,null,null,null,null,null,null,null,null,null,null,null,null,null,null,null,null,null,null,null,null,null,null,null,null,null,null,null,null,null,null,null,null,null,null,null,null,null,null,null,null,null,null,null,null,null,null,null,null,null,null,null,null,null,null,null,null,null,null,null,null,null,null,null,null,null,null,null,null,null,null,null,null,null,null,null,null,null,null,null,null,null,null,{"$f":"IF(AND(SUM(Tabulka!$AG$39)>0.99,(SUM(Tabulka!$AG$39)<2)),-50000+(SUM(E66:ED66)),IF(OR(SUM(Tabulka!$AG$39)<2),-90000,SUM(E66:ED66)))","v":0},null,0]
[{"$f":"CONCATENATE($C$68,\" \",$C$69,D67)","v":"Míra ChalupníkVýhry"},{"$f":"CONCATENATE(C68,\" \",C69)","v":"Míra Chalupník"},{"$f":"Tabulka!B44","v":0},"Výhry",0,null,null,null,null,null,null,null,null,null,null,null,null,null,null,null,null,null,null,null,null,null,null,null,null,null,null,null,null,null,null,null,null,null,null,null,null,null,null,null,null,null,null,null,null,null,null,null,null,null,null,null,null,null,null,null,null,null,null,null,null,null,null,null,null,null,null,null,null,null,null,null,null,null,null,null,null,null,null,null,null,null,null,null,null,null,null,null,null,null,null,null,null,null,null,null,null,null,null,null,null,null,null,null,null,null,null,null,null,null,null,null,null,null,null,null,null,null,null,null,null,null,null,null,null,null,null,null,null,null,{"$f":"IF(AND(SUM(Tabulka!$AG$44)>0.99,(SUM(Tabulka!$AG$44)<2)),-50000+(SUM(E67:ED67)),IF(OR(SUM(Tabulka!$AG$44)<2),-90000,SUM(E67:ED67)))","v":-50000},null,{"$f":"SUM(E67:ED67)","v":0}]
["Míra ChalupníkProhry",{"$f":"CONCATENATE(C68,\" \",C69)","v":"Míra Chalupník"},{"$f":"Tabulka!B45","v":"Míra"},"Prohry",2,null,null,null,null,null,null,null,null,null,null,null,null,null,null,null,null,null,null,null,null,null,null,null,null,null,null,null,null,null,null,null,null,null,null,null,null,null,null,null,null,null,null,null,null,null,null,null,null,null,null,null,null,null,null,null,null,null,null,null,null,null,null,null,null,null,null,null,null,null,null,null,null,null,null,null,null,null,null,null,null,null,null,null,null,null,null,null,null,null,null,null,null,null,null,null,null,null,null,null,null,null,null,null,null,null,null,null,null,null,null,null,null,null,null,null,null,null,null,null,null,null,null,null,null,null,null,null,null,null,{"$f":"IF(AND(SUM(Tabulka!$AG$44)>0.99,(SUM(Tabulka!$AG$44)<2)),-50000+(SUM(E68:ED68)),IF(OR(SUM(Tabulka!$AG$44)<2),-90000,SUM(E68:ED68)))","v":-49998},{"$f":"SUM(EE67-EE68)","v":-2},2]
["Míra ChalupníkPlaceno panáků",{"$f":"CONCATENATE(C68,\" \",C69)","v":"Míra Chalupník"},{"$f":"Tabulka!B46","v":"Chalupník"},"Placeno panáků",2,null,null,null,null,null,null,null,null,null,null,null,null,null,null,null,null,null,null,null,null,null,null,null,null,null,null,null,null,null,null,null,null,null,null,null,null,null,null,null,null,null,null,null,null,null,null,null,null,null,null,null,null,null,null,null,null,null,null,null,null,null,null,null,null,null,null,null,null,null,null,null,null,null,null,null,null,null,null,null,null,null,null,null,null,null,null,null,null,null,null,null,null,null,null,null,null,null,null,null,null,null,null,null,null,null,null,null,null,null,null,null,null,null,null,null,null,null,null,null,null,null,null,null,null,null,null,null,null,null,{"$f":"IF(AND(SUM(Tabulka!$AG$44)>0.99,(SUM(Tabulka!$AG$44)<2)),-50000+(SUM(E69:ED69)),IF(OR(SUM(Tabulka!$AG$44)<2),-90000,SUM(E69:ED69)))","v":-49998},null,{"$f":"SUM(E69:ED69)","v":2}]
["Míra ChalupníkPřehozy",{"$f":"CONCATENATE(C68,\" \",C69)","v":"Míra Chalupník"},{"$f":"Tabulka!B47","v":0},"Přehozy",1,null,null,null,null,null,null,null,null,null,null,null,null,null,null,null,null,null,null,null,null,null,null,null,null,null,null,null,null,null,null,null,null,null,null,null,null,null,null,null,null,null,null,null,null,null,null,null,null,null,null,null,null,null,null,null,null,null,null,null,null,null,null,null,null,null,null,null,null,null,null,null,null,null,null,null,null,null,null,null,null,null,null,null,null,null,null,null,null,null,null,null,null,null,null,null,null,null,null,null,null,null,null,null,null,null,null,null,null,null,null,null,null,null,null,null,null,null,null,null,null,null,null,null,null,null,null,null,null,null,{"$f":"IF(AND(SUM(Tabulka!$AG$44)>0.99,(SUM(Tabulka!$AG$44)<2)),-50000+(SUM(E70:ED70)),IF(OR(SUM(Tabulka!$AG$44)<2),-90000,SUM(E70:ED70)))","v":-49999},null,{"$f":"SUM(E70:ED70)","v":1}]
["Míra ChalupníkPoč. kol",{"$f":"CONCATENATE(C68,\" \",C69)","v":"Míra Chalupník"},{"$f":"Tabulka!B48","v":0},"Poč. kol",4,null,null,null,null,null,null,null,null,null,null,null,null,null,null,null,null,null,null,null,null,null,null,null,null,null,null,null,null,null,null,null,null,null,null,null,null,null,null,null,null,null,null,null,null,null,null,null,null,null,null,null,null,null,null,null,null,null,null,null,null,null,null,null,null,null,null,null,null,null,null,null,null,null,null,null,null,null,null,null,null,null,null,null,null,null,null,null,null,null,null,null,null,null,null,null,null,null,null,null,null,null,null,null,null,null,null,null,null,null,null,null,null,null,null,null,null,null,null,null,null,null,null,null,null,null,null,null,null,null,{"$f":"IF(AND(SUM(Tabulka!$AG$44)>0.99,(SUM(Tabulka!$AG$44)<2)),-50000+(SUM(E71:ED71)),IF(OR(SUM(Tabulka!$AG$44)<2),-90000,SUM(E71:ED71)))","v":-49996},null,4]
["Míra ChalupníkPočet konečných bodů",{"$f":"CONCATENATE(C68,\" \",C69)","v":"Míra Chalupník"},null,"Počet konečných bodů",28,138,116,43,null,null,null,null,null,null,null,null,null,null,null,null,null,null,null,null,null,null,null,null,null,null,null,null,null,null,null,null,null,null,null,null,null,null,null,null,null,null,null,null,null,null,null,null,null,null,null,null,null,null,null,null,null,null,null,null,null,null,null,null,null,null,null,null,null,null,null,null,null,null,null,null,null,null,null,null,null,null,null,null,null,null,null,null,null,null,null,null,null,null,null,null,null,null,null,null,null,null,null,null,null,null,null,null,null,null,null,null,null,null,null,null,null,null,null,null,null,null,null,null,null,null,null,null,null,null,{"$f":"IF(AND(SUM(Tabulka!$AG$44)>0.99,(SUM(Tabulka!$AG$44)<2)),-50000-(SUM(E72:ED72)),IF(OR(SUM(Tabulka!$AG$44)<2),-90000,SUM(E72:ED72)))","v":-50325},null,{"$f":"SUM(E72:ED72)","v":325},null,{"$f":"-49918.74999761-List4!E5","v":-49918.749997569001}]
["Míra ChalupníkPrůměr konečných bodů na kolo",{"$f":"CONCATENATE(C68,\" \",C69)","v":"Míra Chalupník"},null,"Průměr konečných bodů na kolo",{"$f":"IF(E72<>\"\",AVERAGE($E72:E72)+$EI73,\"\")","v":27.999999959},{"$f":"IF(F72<>\"\",AVERAGE($E72:F72)+$EI73,\"\")","v":82.999999958999993},{"$f":"IF(G72<>\"\",AVERAGE($E72:G72)+$EI73,\"\")","v":93.999999958999993},{"$f":"IF(H72<>\"\",AVERAGE($E72:H72)+$EI73,\"\")","v":81.249999958999993},{"$f":"IF(I72<>\"\",AVERAGE($E72:I72)+$EI73,\"\")","v":""},{"$f":"IF(J72<>\"\",AVERAGE($E72:J72)+$EI73,\"\")","v":""},{"$f":"IF(K72<>\"\",AVERAGE($E72:K72)+$EI73,\"\")","v":""},{"$f":"IF(L72<>\"\",AVERAGE($E72:L72)+$EI73,\"\")","v":""},{"$f":"IF(M72<>\"\",AVERAGE($E72:M72)+$EI73,\"\")","v":""},{"$f":"IF(N72<>\"\",AVERAGE($E72:N72)+$EI73,\"\")","v":""},{"$f":"IF(O72<>\"\",AVERAGE($E72:O72)+$EI73,\"\")","v":""},{"$f":"IF(P72<>\"\",AVERAGE($E72:P72)+$EI73,\"\")","v":""},{"$f":"IF(Q72<>\"\",AVERAGE($E72:Q72)+$EI73,\"\")","v":""},{"$f":"IF(R72<>\"\",AVERAGE($E72:R72)+$EI73,\"\")","v":""},{"$f":"IF(S72<>\"\",AVERAGE($E72:S72)+$EI73,\"\")","v":""},{"$f":"IF(T72<>\"\",AVERAGE($E72:T72)+$EI73,\"\")","v":""},{"$f":"IF(U72<>\"\",AVERAGE($E72:U72)+$EI73,\"\")","v":""},{"$f":"IF(V72<>\"\",AVERAGE($E72:V72)+$EI73,\"\")","v":""},{"$f":"IF(W72<>\"\",AVERAGE($E72:W72)+$EI73,\"\")","v":""},{"$f":"IF(X72<>\"\",AVERAGE($E72:X72)+$EI73,\"\")","v":""},{"$f":"IF(Y72<>\"\",AVERAGE($E72:Y72)+$EI73,\"\")","v":""},{"$f":"IF(Z72<>\"\",AVERAGE($E72:Z72)+$EI73,\"\")","v":""},{"$f":"IF(AA72<>\"\",AVERAGE($E72:AA72)+$EI73,\"\")","v":""},{"$f":"IF(AB72<>\"\",AVERAGE($E72:AB72)+$EI73,\"\")","v":""},{"$f":"IF(AC72<>\"\",AVERAGE($E72:AC72)+$EI73,\"\")","v":""},{"$f":"IF(AD72<>\"\",AVERAGE($E72:AD72)+$EI73,\"\")","v":""},{"$f":"IF(AE72<>\"\",AVERAGE($E72:AE72)+$EI73,\"\")","v":""},{"$f":"IF(AF72<>\"\",AVERAGE($E72:AF72)+$EI73,\"\")","v":""},{"$f":"IF(AG72<>\"\",AVERAGE($E72:AG72)+$EI73,\"\")","v":""},{"$f":"IF(AH72<>\"\",AVERAGE($E72:AH72)+$EI73,\"\")","v":""},{"$f":"IF(AI72<>\"\",AVERAGE($E72:AI72)+$EI73,\"\")","v":""},{"$f":"IF(AJ72<>\"\",AVERAGE($E72:AJ72)+$EI73,\"\")","v":""},{"$f":"IF(AK72<>\"\",AVERAGE($E72:AK72)+$EI73,\"\")","v":""},{"$f":"IF(AL72<>\"\",AVERAGE($E72:AL72)+$EI73,\"\")","v":""},{"$f":"IF(AM72<>\"\",AVERAGE($E72:AM72)+$EI73,\"\")","v":""},{"$f":"IF(AN72<>\"\",AVERAGE($E72:AN72)+$EI73,\"\")","v":""},{"$f":"IF(AO72<>\"\",AVERAGE($E72:AO72)+$EI73,\"\")","v":""},{"$f":"IF(AP72<>\"\",AVERAGE($E72:AP72)+$EI73,\"\")","v":""},{"$f":"IF(AQ72<>\"\",AVERAGE($E72:AQ72)+$EI73,\"\")","v":""},{"$f":"IF(AR72<>\"\",AVERAGE($E72:AR72)+$EI73,\"\")","v":""},{"$f":"IF(AS72<>\"\",AVERAGE($E72:AS72)+$EI73,\"\")","v":""},{"$f":"IF(AT72<>\"\",AVERAGE($E72:AT72)+$EI73,\"\")","v":""},{"$f":"IF(AU72<>\"\",AVERAGE($E72:AU72)+$EI73,\"\")","v":""},{"$f":"IF(AV72<>\"\",AVERAGE($E72:AV72)+$EI73,\"\")","v":""},{"$f":"IF(AW72<>\"\",AVERAGE($E72:AW72)+$EI73,\"\")","v":""},{"$f":"IF(AX72<>\"\",AVERAGE($E72:AX72)+$EI73,\"\")","v":""},{"$f":"IF(AY72<>\"\",AVERAGE($E72:AY72)+$EI73,\"\")","v":""},{"$f":"IF(AZ72<>\"\",AVERAGE($E72:AZ72)+$EI73,\"\")","v":""},{"$f":"IF(BA72<>\"\",AVERAGE($E72:BA72)+$EI73,\"\")","v":""},{"$f":"IF(BB72<>\"\",AVERAGE($E72:BB72)+$EI73,\"\")","v":""},{"$f":"IF(BC72<>\"\",AVERAGE($E72:BC72)+$EI73,\"\")","v":""},{"$f":"IF(BD72<>\"\",AVERAGE($E72:BD72)+$EI73,\"\")","v":""},{"$f":"IF(BE72<>\"\",AVERAGE($E72:BE72)+$EI73,\"\")","v":""},{"$f":"IF(BF72<>\"\",AVERAGE($E72:BF72)+$EI73,\"\")","v":""},{"$f":"IF(BG72<>\"\",AVERAGE($E72:BG72)+$EI73,\"\")","v":""},{"$f":"IF(BH72<>\"\",AVERAGE($E72:BH72)+$EI73,\"\")","v":""},{"$f":"IF(BI72<>\"\",AVERAGE($E72:BI72)+$EI73,\"\")","v":""},{"$f":"IF(BJ72<>\"\",AVERAGE($E72:BJ72)+$EI73,\"\")","v":""},{"$f":"IF(BK72<>\"\",AVERAGE($E72:BK72)+$EI73,\"\")","v":""},{"$f":"IF(BL72<>\"\",AVERAGE($E72:BL72)+$EI73,\"\")","v":""},{"$f":"IF(BM72<>\"\",AVERAGE($E72:BM72)+$EI73,\"\")","v":""},{"$f":"IF(BN72<>\"\",AVERAGE($E72:BN72)+$EI73,\"\")","v":""},{"$f":"IF(BO72<>\"\",AVERAGE($E72:BO72)+$EI73,\"\")","v":""},{"$f":"IF(BP72<>\"\",AVERAGE($E72:BP72)+$EI73,\"\")","v":""},{"$f":"IF(BQ72<>\"\",AVERAGE($E72:BQ72)+$EI73,\"\")","v":""},{"$f":"IF(BR72<>\"\",AVERAGE($E72:BR72)+$EI73,\"\")","v":""},{"$f":"IF(BS72<>\"\",AVERAGE($E72:BS72)+$EI73,\"\")","v":""},{"$f":"IF(BT72<>\"\",AVERAGE($E72:BT72)+$EI73,\"\")","v":""},{"$f":"IF(BU72<>\"\",AVERAGE($E72:BU72)+$EI73,\"\")","v":""},{"$f":"IF(BV72<>\"\",AVERAGE($E72:BV72)+$EI73,\"\")","v":""},{"$f":"IF(BW72<>\"\",AVERAGE($E72:BW72)+$EI73,\"\")","v":""},{"$f":"IF(BX72<>\"\",AVERAGE($E72:BX72)+$EI73,\"\")","v":""},{"$f":"IF(BY72<>\"\",AVERAGE($E72:BY72)+$EI73,\"\")","v":""},{"$f":"IF(BZ72<>\"\",AVERAGE($E72:BZ72)+$EI73,\"\")","v":""},{"$f":"IF(CA72<>\"\",AVERAGE($E72:CA72)+$EI73,\"\")","v":""},{"$f":"IF(CB72<>\"\",AVERAGE($E72:CB72)+$EI73,\"\")","v":""},{"$f":"IF(CC72<>\"\",AVERAGE($E72:CC72)+$EI73,\"\")","v":""},{"$f":"IF(CD72<>\"\",AVERAGE($E72:CD72)+$EI73,\"\")","v":""},{"$f":"IF(CE72<>\"\",AVERAGE($E72:CE72)+$EI73,\"\")","v":""},{"$f":"IF(CF72<>\"\",AVERAGE($E72:CF72)+$EI73,\"\")","v":""},{"$f":"IF(CG72<>\"\",AVERAGE($E72:CG72)+$EI73,\"\")","v":""},{"$f":"IF(CH72<>\"\",AVERAGE($E72:CH72)+$EI73,\"\")","v":""},{"$f":"IF(CI72<>\"\",AVERAGE($E72:CI72)+$EI73,\"\")","v":""},{"$f":"IF(CJ72<>\"\",AVERAGE($E72:CJ72)+$EI73,\"\")","v":""},{"$f":"IF(CK72<>\"\",AVERAGE($E72:CK72)+$EI73,\"\")","v":""},{"$f":"IF(CL72<>\"\",AVERAGE($E72:CL72)+$EI73,\"\")","v":""},{"$f":"IF(CM72<>\"\",AVERAGE($E72:CM72)+$EI73,\"\")","v":""},{"$f":"IF(CN72<>\"\",AVERAGE($E72:CN72)+$EI73,\"\")","v":""},{"$f":"IF(CO72<>\"\",AVERAGE($E72:CO72)+$EI73,\"\")","v":""},{"$f":"IF(CP72<>\"\",AVERAGE($E72:CP72)+$EI73,\"\")","v":""},{"$f":"IF(CQ72<>\"\",AVERAGE($E72:CQ72)+$EI73,\"\")","v":""},{"$f":"IF(CR72<>\"\",AVERAGE($E72:CR72)+$EI73,\"\")","v":""},{"$f":"IF(CS72<>\"\",AVERAGE($E72:CS72)+$EI73,\"\")","v":""},{"$f":"IF(CT72<>\"\",AVERAGE($E72:CT72)+$EI73,\"\")","v":""},{"$f":"IF(CU72<>\"\",AVERAGE($E72:CU72)+$EI73,\"\")","v":""},{"$f":"IF(CV72<>\"\",AVERAGE($E72:CV72)+$EI73,\"\")","v":""},{"$f":"IF(CW72<>\"\",AVERAGE($E72:CW72)+$EI73,\"\")","v":""},{"$f":"IF(CX72<>\"\",AVERAGE($E72:CX72)+$EI73,\"\")","v":""},{"$f":"IF(CY72<>\"\",AVERAGE($E72:CY72)+$EI73,\"\")","v":""},{"$f":"IF(CZ72<>\"\",AVERAGE($E72:CZ72)+$EI73,\"\")","v":""},{"$f":"IF(DA72<>\"\",AVERAGE($E72:DA72)+$EI73,\"\")","v":""},{"$f":"IF(DB72<>\"\",AVERAGE($E72:DB72)+$EI73,\"\")","v":""},{"$f":"IF(DC72<>\"\",AVERAGE($E72:DC72)+$EI73,\"\")","v":""},{"$f":"IF(DD72<>\"\",AVERAGE($E72:DD72)+$EI73,\"\")","v":""},{"$f":"IF(DE72<>\"\",AVERAGE($E72:DE72)+$EI73,\"\")","v":""},{"$f":"IF(DF72<>\"\",AVERAGE($E72:DF72)+$EI73,\"\")","v":""},{"$f":"IF(DG72<>\"\",AVERAGE($E72:DG72)+$EI73,\"\")","v":""},{"$f":"IF(DH72<>\"\",AVERAGE($E72:DH72)+$EI73,\"\")","v":""},{"$f":"IF(DI72<>\"\",AVERAGE($E72:DI72)+$EI73,\"\")","v":""},{"$f":"IF(DJ72<>\"\",AVERAGE($E72:DJ72)+$EI73,\"\")","v":""},{"$f":"IF(DK72<>\"\",AVERAGE($E72:DK72)+$EI73,\"\")","v":""},{"$f":"IF(DL72<>\"\",AVERAGE($E72:DL72)+$EI73,\"\")","v":""},{"$f":"IF(DM72<>\"\",AVERAGE($E72:DM72)+$EI73,\"\")","v":""},{"$f":"IF(DN72<>\"\",AVERAGE($E72:DN72)+$EI73,\"\")","v":""},{"$f":"IF(DO72<>\"\",AVERAGE($E72:DO72)+$EI73,\"\")","v":""},{"$f":"IF(DP72<>\"\",AVERAGE($E72:DP72)+$EI73,\"\")","v":""},{"$f":"IF(DQ72<>\"\",AVERAGE($E72:DQ72)+$EI73,\"\")","v":""},{"$f":"IF(DR72<>\"\",AVERAGE($E72:DR72)+$EI73,\"\")","v":""},{"$f":"IF(DS72<>\"\",AVERAGE($E72:DS72)+$EI73,\"\")","v":""},{"$f":"IF(DT72<>\"\",AVERAGE($E72:DT72)+$EI73,\"\")","v":""},{"$f":"IF(DU72<>\"\",AVERAGE($E72:DU72)+$EI73,\"\")","v":""},{"$f":"IF(DV72<>\"\",AVERAGE($E72:DV72)+$EI73,\"\")","v":""},{"$f":"IF(DW72<>\"\",AVERAGE($E72:DW72)+$EI73,\"\")","v":""},{"$f":"IF(DX72<>\"\",AVERAGE($E72:DX72)+$EI73,\"\")","v":""},{"$f":"IF(DY72<>\"\",AVERAGE($E72:DY72)+$EI73,\"\")","v":""},{"$f":"IF(DZ72<>\"\",AVERAGE($E72:DZ72)+$EI73,\"\")","v":""},{"$f":"IF(EA72<>\"\",AVERAGE($E72:EA72)+$EI73,\"\")","v":""},{"$f":"IF(EB72<>\"\",AVERAGE($E72:EB72)+$EI73,\"\")","v":""},{"$f":"IF(EC72<>\"\",AVERAGE($E72:EC72)+$EI73,\"\")","v":""},{"$f":"IF(ED72<>\"\",AVERAGE($E72:ED72)+$EI73,\"\")","v":""},{"$f":"IF(AND(SUM(Tabulka!$AG$44)>0.99,(SUM(Tabulka!$AG$44)<2)),-50000-(SUM(E72:ED72)/COUNT(E73:ED73)),IF(OR(SUM(Tabulka!$AG$44)<2),-90000,SUM(E72:ED72)/COUNT(E73:ED73)))","v":-50081.25},null,{"$f":"IFERROR(SUM(E72:ED72)/COUNT(E72:ED72),)","v":81.25},{"$f":"CONCATENATE(C68,\" \",C69)","v":"Míra Chalupník"},{"$f":"INDEX(List4!$E$2:$E$17,MATCH(CONCATENATE(C68,\" \",C69),Tabulka1128[Jmeno_prijmeni],0),1)","v":-4.0999999999999997E-8}]
["Míra ChalupníkPočet šipek",{"$f":"CONCATENATE(C68,\" \",C69)","v":"Míra Chalupník"},null,"Počet šipek",null,null,null,null,null,null,null,null,null,null,null,null,null,null,null,null,null,null,null,null,null,null,null,null,null,null,null,null,null,null,null,null,null,null,null,null,null,null,null,null,null,null,null,null,null,null,null,null,null,null,null,null,null,null,null,null,null,null,null,null,null,null,null,null,null,null,null,null,null,null,null,null,null,null,null,null,null,null,null,null,null,null,null,null,null,null,null,null,null,null,null,null,null,null,null,null,null,null,null,null,null,null,null,null,null,null,null,null,null,null,null,null,null,null,null,null,null,null,null,null,null,null,null,null,null,null,null,null,null,null,{"$f":"IF(AND(SUM(Tabulka!$AG$44)>0.99,(SUM(Tabulka!$AG$44)<2)),-50000+(SUM(E74:ED74)),IF(OR(SUM(Tabulka!$AG$44)<2),-90000,SUM(E74:ED74)))","v":-50000},null,{"$f":"SUM(E74:ED74)","v":0}]
[{"$f":"CONCATENATE($C$76,\" \",$C$77,D75)","v":"Jarda KleinVýhry"},{"$f":"CONCATENATE(C76,\" \",C77)","v":"Jarda Klein"},{"$f":"Tabulka!B49","v":0},"Výhry",1,null,null,null,null,0,null,null,null,null,2,null,null,null,null,3,null,null,null,null,2,null,null,null,null,1,null,null,null,null,0,null,null,null,null,null,null,null,null,null,1,null,null,null,null,1,null,null,null,null,2,null,null,null,null,0,null,null,null,null,0,null,null,null,null,1,null,null,null,null,null,null,null,null,null,0,null,null,null,null,2,null,null,null,null,null,null,null,null,null,null,null,null,null,null,null,null,null,null,null,null,null,null,null,null,null,null,null,null,null,null,null,null,null,null,null,null,null,null,null,null,null,null,null,null,null,null,null,null,null,{"$f":"IF(AND(SUM(Tabulka!$AG$49)>0.99,(SUM(Tabulka!$AG$49)<2)),-50000+(SUM(E75:ED75)),IF(OR(SUM(Tabulka!$AG$49)<2),-90000,SUM(E75:ED75)))","v":16},null,16]
["Jarda KleinProhry","Jarda Klein",{"$f":"Tabulka!B50","v":"Jarda"},"Prohry",0,null,null,null,null,2,null,null,null,null,0,null,null,null,null,0,null,null,null,null,0,null,null,null,null,1,null,null,null,null,0,null,null,null,null,null,null,null,null,null,1,null,null,null,null,1,null,null,null,null,0,null,null,null,null,1,null,null,null,null,2,null,null,null,null,0,null,null,null,null,null,null,null,null,null,0,null,null,null,null,0,null,null,null,null,null,null,null,null,null,null,null,null,null,null,null,null,null,null,null,null,null,null,null,null,null,null,null,null,null,null,null,null,null,null,null,null,null,null,null,null,null,null,null,null,null,null,null,null,null,{"$f":"IF(AND(SUM(Tabulka!$AG$49)>0.99,(SUM(Tabulka!$AG$49)<2)),-50000+(SUM(E76:ED76)),IF(OR(SUM(Tabulka!$AG$49)<2),-90000,SUM(E76:ED76)))","v":8},{"$f":"SUM(EE75-EE76)","v":8},8]
["Jarda KleinPlaceno panáků",{"$f":"CONCATENATE(C76,\" \",C77)","v":"Jarda Klein"},{"$f":"Tabulka!B51","v":"Klein"},"Placeno panáků",0,null,null,null,null,4,null,null,null,null,0,null,null,null,null,0,null,null,null,null,0,null,null,null,null,1,null,null,null,null,0,null,null,null,null,null,null,null,null,null,1,null,null,null,null,1,null,null,null,null,0,null,null,null,null,1,null,null,null,null,2,null,null,null,null,0,null,null,null,null,null,null,null,null,null,0,null,null,null,null,0,null,null,null,null,null,null,null,null,null,null,null,null,null,null,null,null,null,null,null,null,null,null,null,null,null,null,null,null,null,null,null,null,null,null,null,null,null,null,null,null,null,null,null,null,null,null,null,null,null,{"$f":"IF(AND(SUM(Tabulka!$AG$49)>0.99,(SUM(Tabulka!$AG$49)<2)),-50000+(SUM(E77:ED77)),IF(OR(SUM(Tabulka!$AG$49)<2),-90000,SUM(E77:ED77)))","v":10},null,{"$f":"SUM(E77:ED77)","v":10}]
["Jarda KleinPřehozy",{"$f":"CONCATENATE(C76,\" \",C77)","v":"Jarda Klein"},{"$f":"Tabulka!B52","v":0},"Přehozy",3,null,null,null,null,4,null,null,null,null,0,null,null,null,null,0,null,null,null,null,3,null,null,null,null,1,null,null,null,null,1,null,null,null,null,null,null,null,null,null,1,null,null,null,null,1,null,null,null,null,1,null,null,null,null,2,null,null,null,null,0,null,null,null,null,2,null,null,null,null,null,null,null,null,null,1,null,null,null,null,1,null,null,null,null,null,null,null,null,null,null,null,null,null,null,null,null,null,null,null,null,null,null,null,null,null,null,null,null,null,null,null,null,null,null,null,null,null,null,null,null,null,null,null,null,null,null,null,null,null,{"$f":"IF(AND(SUM(Tabulka!$AG$49)>0.99,(SUM(Tabulka!$AG$49)<2)),-50000+(SUM(E78:ED78)),IF(OR(SUM(Tabulka!$AG$49)<2),-90000,SUM(E78:ED78)))","v":21},null,{"$f":"SUM(E78:ED78)","v":21}]
["Jarda KleinPoč. kol",{"$f":"CONCATENATE(C76,\" \",C77)","v":"Jarda Klein"},{"$f":"Tabulka!B53","v":0},"Poč. kol",4,null,null,null,null,4,null,null,null,null,4,null,null,null,null,4,null,null,null,null,4,null,null,null,null,4,null,null,null,null,4,null,null,null,null,null,null,null,null,null,3,null,null,null,null,4,null,null,null,null,5,null,null,null,null,4,null,null,null,null,4,null,null,null,null,5,null,null,null,null,null,null,null,null,null,4,null,null,null,null,4,null,null,null,null,null,null,null,null,null,null,null,null,null,null,null,null,null,null,null,null,null,null,null,null,null,null,null,null,null,null,null,null,null,null,null,null,null,null,null,null,null,null,null,null,null,null,null,null,null,{"$f":"IF(AND(SUM(Tabulka!$AG$49)>0.99,(SUM(Tabulka!$AG$49)<2)),-50000+(SUM(E79:ED79)),IF(OR(SUM(Tabulka!$AG$49)<2),-90000,SUM(E79:ED79)))","v":61},null,61]
["Jarda KleinPočet konečných bodů",{"$f":"CONCATENATE(C76,\" \",C77)","v":"Jarda Klein"},null,"Počet konečných bodů",25,0,28,98,null,9,95,9,32,null,21,0,0,75,null,133,0,0,0,null,149,28,0,0,null,28,155,0,18,null,108,26,11,149,null,null,null,null,null,null,39,14,0,null,null,8,0,22,78,null,0,111,32,0,67,22,155,265,25,null,136,175,152,31,null,20,15,0,28,14,null,null,null,null,null,64,37,97,72,null,57,124,0,0,null,null,null,null,null,null,null,null,null,null,null,null,null,null,null,null,null,null,null,null,null,null,null,null,null,null,null,null,null,null,null,null,null,null,null,null,null,null,null,null,null,null,null,null,null,null,{"$f":"IF(AND(SUM(Tabulka!$AG$49)>0.99,(SUM(Tabulka!$AG$49)<2)),-50000-(SUM(E80:ED80)),IF(OR(SUM(Tabulka!$AG$49)<2),-90000,SUM(E80:ED80)))","v":3057},null,{"$f":"SUM(E80:ED80)","v":3057}]
["Jarda KleinPrůměr konečných bodů na kolo",{"$f":"CONCATENATE(C76,\" \",C77)","v":"Jarda Klein"},null,"Průměr konečných bodů na kolo",{"$f":"IF(E80<>\"\",AVERAGE($E80:E80)+$EI81,\"\")","v":24.999999919},{"$f":"IF(F80<>\"\",AVERAGE($E80:F80)+$EI81,\"\")","v":12.499999919},{"$f":"IF(G80<>\"\",AVERAGE($E80:G80)+$EI81,\"\")","v":17.666666585666668},{"$f":"IF(H80<>\"\",AVERAGE($E80:H80)+$EI81,\"\")","v":37.749999918999997},{"$f":"IF(I80<>\"\",AVERAGE($E80:I80)+$EI81,\"\")","v":""},{"$f":"IF(J80<>\"\",AVERAGE($E80:J80)+$EI81,\"\")","v":31.999999919},{"$f":"IF(K80<>\"\",AVERAGE($E80:K80)+$EI81,\"\")","v":42.499999918999997},{"$f":"IF(L80<>\"\",AVERAGE($E80:L80)+$EI81,\"\")","v":37.714285633285712},{"$f":"IF(M80<>\"\",AVERAGE($E80:M80)+$EI81,\"\")","v":36.999999918999997},{"$f":"IF(N80<>\"\",AVERAGE($E80:N80)+$EI81,\"\")","v":""},{"$f":"IF(O80<>\"\",AVERAGE($E80:O80)+$EI81,\"\")","v":35.222222141222218},{"$f":"IF(P80<>\"\",AVERAGE($E80:P80)+$EI81,\"\")","v":31.699999919},{"$f":"IF(Q80<>\"\",AVERAGE($E80:Q80)+$EI81,\"\")","v":28.818181737181817},{"$f":"IF(R80<>\"\",AVERAGE($E80:R80)+$EI81,\"\")","v":32.666666585666661},{"$f":"IF(S80<>\"\",AVERAGE($E80:S80)+$EI81,\"\")","v":""},{"$f":"IF(T80<>\"\",AVERAGE($E80:T80)+$EI81,\"\")","v":40.384615303615384},{"$f":"IF(U80<>\"\",AVERAGE($E80:U80)+$EI81,\"\")","v":37.499999918999997},{"$f":"IF(V80<>\"\",AVERAGE($E80:V80)+$EI81,\"\")","v":34.999999918999997},{"$f":"IF(W80<>\"\",AVERAGE($E80:W80)+$EI81,\"\")","v":32.812499918999997},{"$f":"IF(X80<>\"\",AVERAGE($E80:X80)+$EI81,\"\")","v":""},{"$f":"IF(Y80<>\"\",AVERAGE($E80:Y80)+$EI81,\"\")","v":39.64705874252941},{"$f":"IF(Z80<>\"\",AVERAGE($E80:Z80)+$EI81,\"\")","v":38.999999918999997},{"$f":"IF(AA80<>\"\",AVERAGE($E80:AA80)+$EI81,\"\")","v":36.947368340052627},{"$f":"IF(AB80<>\"\",AVERAGE($E80:AB80)+$EI81,\"\")","v":35.099999918999998},{"$f":"IF(AC80<>\"\",AVERAGE($E80:AC80)+$EI81,\"\")","v":""},{"$f":"IF(AD80<>\"\",AVERAGE($E80:AD80)+$EI81,\"\")","v":34.761904680904756},{"$f":"IF(AE80<>\"\",AVERAGE($E80:AE80)+$EI81,\"\")","v":40.227272646272723},{"$f":"IF(AF80<>\"\",AVERAGE($E80:AF80)+$EI81,\"\")","v":38.478260788565215},{"$f":"IF(AG80<>\"\",AVERAGE($E80:AG80)+$EI81,\"\")","v":37.624999918999997},{"$f":"IF(AH80<>\"\",AVERAGE($E80:AH80)+$EI81,\"\")","v":""},{"$f":"IF(AI80<>\"\",AVERAGE($E80:AI80)+$EI81,\"\")","v":40.439999918999995},{"$f":"IF(AJ80<>\"\",AVERAGE($E80:AJ80)+$EI81,\"\")","v":39.884615303615384},{"$f":"IF(AK80<>\"\",AVERAGE($E80:AK80)+$EI81,\"\")","v":38.814814733814814},{"$f":"IF(AL80<>\"\",AVERAGE($E80:AL80)+$EI81,\"\")","v":42.749999918999997},{"$f":"IF(AM80<>\"\",AVERAGE($E80:AM80)+$EI81,\"\")","v":""},{"$f":"IF(AN80<>\"\",AVERAGE($E80:AN80)+$EI81,\"\")","v":""},{"$f":"IF(AO80<>\"\",AVERAGE($E80:AO80)+$EI81,\"\")","v":""},{"$f":"IF(AP80<>\"\",AVERAGE($E80:AP80)+$EI81,\"\")","v":""},{"$f":"IF(AQ80<>\"\",AVERAGE($E80:AQ80)+$EI81,\"\")","v":""},{"$f":"IF(AR80<>\"\",AVERAGE($E80:AR80)+$EI81,\"\")","v":""},{"$f":"IF(AS80<>\"\",AVERAGE($E80:AS80)+$EI81,\"\")","v":42.62068957417241},{"$f":"IF(AT80<>\"\",AVERAGE($E80:AT80)+$EI81,\"\")","v":41.666666585666661},{"$f":"IF(AU80<>\"\",AVERAGE($E80:AU80)+$EI81,\"\")","v":40.322580564161285},{"$f":"IF(AV80<>\"\",AVERAGE($E80:AV80)+$EI81,\"\")","v":""},{"$f":"IF(AW80<>\"\",AVERAGE($E80:AW80)+$EI81,\"\")","v":""},{"$f":"IF(AX80<>\"\",AVERAGE($E80:AX80)+$EI81,\"\")","v":39.312499918999997},{"$f":"IF(AY80<>\"\",AVERAGE($E80:AY80)+$EI81,\"\")","v":38.121212040212122},{"$f":"IF(AZ80<>\"\",AVERAGE($E80:AZ80)+$EI81,\"\")","v":37.64705874252941},{"$f":"IF(BA80<>\"\",AVERAGE($E80:BA80)+$EI81,\"\")","v":38.799999918999994},{"$f":"IF(BB80<>\"\",AVERAGE($E80:BB80)+$EI81,\"\")","v":""},{"$f":"IF(BC80<>\"\",AVERAGE($E80:BC80)+$EI81,\"\")","v":37.722222141222218},{"$f":"IF(BD80<>\"\",AVERAGE($E80:BD80)+$EI81,\"\")","v":39.702702621702699},{"$f":"IF(BE80<>\"\",AVERAGE($E80:BE80)+$EI81,\"\")","v":39.499999918999997},{"$f":"IF(BF80<>\"\",AVERAGE($E80:BF80)+$EI81,\"\")","v":38.487179406179486},{"$f":"IF(BG80<>\"\",AVERAGE($E80:BG80)+$EI81,\"\")","v":39.199999919},{"$f":"IF(BH80<>\"\",AVERAGE($E80:BH80)+$EI81,\"\")","v":38.780487723878046},{"$f":"IF(BI80<>\"\",AVERAGE($E80:BI80)+$EI81,\"\")","v":41.547618966619048},{"$f":"IF(BJ80<>\"\",AVERAGE($E80:BJ80)+$EI81,\"\")","v":46.744185965511626},{"$f":"IF(BK80<>\"\",AVERAGE($E80:BK80)+$EI81,\"\")","v":46.249999918999997},{"$f":"IF(BL80<>\"\",AVERAGE($E80:BL80)+$EI81,\"\")","v":""},{"$f":"IF(BM80<>\"\",AVERAGE($E80:BM80)+$EI81,\"\")","v":48.244444363444444},{"$f":"IF(BN80<>\"\",AVERAGE($E80:BN80)+$EI81,\"\")","v":50.999999918999997},{"$f":"IF(BO80<>\"\",AVERAGE($E80:BO80)+$EI81,\"\")","v":53.148936089212761},{"$f":"IF(BP80<>\"\",AVERAGE($E80:BP80)+$EI81,\"\")","v":52.687499918999997},{"$f":"IF(BQ80<>\"\",AVERAGE($E80:BQ80)+$EI81,\"\")","v":""},{"$f":"IF(BR80<>\"\",AVERAGE($E80:BR80)+$EI81,\"\")","v":52.020408082265305},{"$f":"IF(BS80<>\"\",AVERAGE($E80:BS80)+$EI81,\"\")","v":51.279999918999998},{"$f":"IF(BT80<>\"\",AVERAGE($E80:BT80)+$EI81,\"\")","v":50.274509722921565},{"$f":"IF(BU80<>\"\",AVERAGE($E80:BU80)+$EI81,\"\")","v":49.846153765153844},{"$f":"IF(BV80<>\"\",AVERAGE($E80:BV80)+$EI81,\"\")","v":49.169811239754715},{"$f":"IF(BW80<>\"\",AVERAGE($E80:BW80)+$EI81,\"\")","v":""},{"$f":"IF(BX80<>\"\",AVERAGE($E80:BX80)+$EI81,\"\")","v":""},{"$f":"IF(BY80<>\"\",AVERAGE($E80:BY80)+$EI81,\"\")","v":""},{"$f":"IF(BZ80<>\"\",AVERAGE($E80:BZ80)+$EI81,\"\")","v":""},{"$f":"IF(CA80<>\"\",AVERAGE($E80:CA80)+$EI81,\"\")","v":""},{"$f":"IF(CB80<>\"\",AVERAGE($E80:CB80)+$EI81,\"\")","v":49.44444436344444},{"$f":"IF(CC80<>\"\",AVERAGE($E80:CC80)+$EI81,\"\")","v":49.218181737181816},{"$f":"IF(CD80<>\"\",AVERAGE($E80:CD80)+$EI81,\"\")","v":50.071428490428566},{"$f":"IF(CE80<>\"\",AVERAGE($E80:CE80)+$EI81,\"\")","v":50.456140269877189},{"$f":"IF(CF80<>\"\",AVERAGE($E80:CF80)+$EI81,\"\")","v":""},{"$f":"IF(CG80<>\"\",AVERAGE($E80:CG80)+$EI81,\"\")","v":50.568965436241378},{"$f":"IF(CH80<>\"\",AVERAGE($E80:CH80)+$EI81,\"\")","v":51.813559241033893},{"$f":"IF(CI80<>\"\",AVERAGE($E80:CI80)+$EI81,\"\")","v":50.949999919},{"$f":"IF(CJ80<>\"\",AVERAGE($E80:CJ80)+$EI81,\"\")","v":50.114754017360653},{"$f":"IF(CK80<>\"\",AVERAGE($E80:CK80)+$EI81,\"\")","v":""},{"$f":"IF(CL80<>\"\",AVERAGE($E80:CL80)+$EI81,\"\")","v":""},{"$f":"IF(CM80<>\"\",AVERAGE($E80:CM80)+$EI81,\"\")","v":""},{"$f":"IF(CN80<>\"\",AVERAGE($E80:CN80)+$EI81,\"\")","v":""},{"$f":"IF(CO80<>\"\",AVERAGE($E80:CO80)+$EI81,\"\")","v":""},{"$f":"IF(CP80<>\"\",AVERAGE($E80:CP80)+$EI81,\"\")","v":""},{"$f":"IF(CQ80<>\"\",AVERAGE($E80:CQ80)+$EI81,\"\")","v":""},{"$f":"IF(CR80<>\"\",AVERAGE($E80:CR80)+$EI81,\"\")","v":""},{"$f":"IF(CS80<>\"\",AVERAGE($E80:CS80)+$EI81,\"\")","v":""},{"$f":"IF(CT80<>\"\",AVERAGE($E80:CT80)+$EI81,\"\")","v":""},{"$f":"IF(CU80<>\"\",AVERAGE($E80:CU80)+$EI81,\"\")","v":""},{"$f":"IF(CV80<>\"\",AVERAGE($E80:CV80)+$EI81,\"\")","v":""},{"$f":"IF(CW80<>\"\",AVERAGE($E80:CW80)+$EI81,\"\")","v":""},{"$f":"IF(CX80<>\"\",AVERAGE($E80:CX80)+$EI81,\"\")","v":""},{"$f":"IF(CY80<>\"\",AVERAGE($E80:CY80)+$EI81,\"\")","v":""},{"$f":"IF(CZ80<>\"\",AVERAGE($E80:CZ80)+$EI81,\"\")","v":""},{"$f":"IF(DA80<>\"\",AVERAGE($E80:DA80)+$EI81,\"\")","v":""},{"$f":"IF(DB80<>\"\",AVERAGE($E80:DB80)+$EI81,\"\")","v":""},{"$f":"IF(DC80<>\"\",AVERAGE($E80:DC80)+$EI81,\"\")","v":""},{"$f":"IF(DD80<>\"\",AVERAGE($E80:DD80)+$EI81,\"\")","v":""},{"$f":"IF(DE80<>\"\",AVERAGE($E80:DE80)+$EI81,\"\")","v":""},{"$f":"IF(DF80<>\"\",AVERAGE($E80:DF80)+$EI81,\"\")","v":""},{"$f":"IF(DG80<>\"\",AVERAGE($E80:DG80)+$EI81,\"\")","v":""},{"$f":"IF(DH80<>\"\",AVERAGE($E80:DH80)+$EI81,\"\")","v":""},{"$f":"IF(DI80<>\"\",AVERAGE($E80:DI80)+$EI81,\"\")","v":""},{"$f":"IF(DJ80<>\"\",AVERAGE($E80:DJ80)+$EI81,\"\")","v":""},{"$f":"IF(DK80<>\"\",AVERAGE($E80:DK80)+$EI81,\"\")","v":""},{"$f":"IF(DL80<>\"\",AVERAGE($E80:DL80)+$EI81,\"\")","v":""},{"$f":"IF(DM80<>\"\",AVERAGE($E80:DM80)+$EI81,\"\")","v":""},{"$f":"IF(DN80<>\"\",AVERAGE($E80:DN80)+$EI81,\"\")","v":""},{"$f":"IF(DO80<>\"\",AVERAGE($E80:DO80)+$EI81,\"\")","v":""},{"$f":"IF(DP80<>\"\",AVERAGE($E80:DP80)+$EI81,\"\")","v":""},{"$f":"IF(DQ80<>\"\",AVERAGE($E80:DQ80)+$EI81,\"\")","v":""},{"$f":"IF(DR80<>\"\",AVERAGE($E80:DR80)+$EI81,\"\")","v":""},{"$f":"IF(DS80<>\"\",AVERAGE($E80:DS80)+$EI81,\"\")","v":""},{"$f":"IF(DT80<>\"\",AVERAGE($E80:DT80)+$EI81,\"\")","v":""},{"$f":"IF(DU80<>\"\",AVERAGE($E80:DU80)+$EI81,\"\")","v":""},{"$f":"IF(DV80<>\"\",AVERAGE($E80:DV80)+$EI81,\"\")","v":""},{"$f":"IF(DW80<>\"\",AVERAGE($E80:DW80)+$EI81,\"\")","v":""},{"$f":"IF(DX80<>\"\",AVERAGE($E80:DX80)+$EI81,\"\")","v":""},{"$f":"IF(DY80<>\"\",AVERAGE($E80:DY80)+$EI81,\"\")","v":""},{"$f":"IF(DZ80<>\"\",AVERAGE($E80:DZ80)+$EI81,\"\")","v":""},{"$f":"IF(EA80<>\"\",AVERAGE($E80:EA80)+$EI81,\"\")","v":""},{"$f":"IF(EB80<>\"\",AVERAGE($E80:EB80)+$EI81,\"\")","v":""},{"$f":"IF(EC80<>\"\",AVERAGE($E80:EC80)+$EI81,\"\")","v":""},{"$f":"IF(ED80<>\"\",AVERAGE($E80:ED80)+$EI81,\"\")","v":""},{"$f":"IF(AND(SUM(Tabulka!$AG$49)>0.99,(SUM(Tabulka!$AG$49)<2)),-50000+(SUM(E80:ED80)/COUNT(E81:ED81)),IF(OR(SUM(Tabulka!$AG$49)<2),-90000,SUM(E80:ED80)/COUNT(E81:ED81)))","v":50.114754098360656},null,{"$f":"IFERROR(SUM(E80:ED80)/COUNT(E80:ED80),)","v":50.114754098360656},{"$f":"CONCATENATE(C76,\" \",C77)","v":"Jarda Klein"},{"$f":"INDEX(List4!$E$2:$E$17,MATCH(CONCATENATE(C76,\" \",C77),Tabulka1128[Jmeno_prijmeni],0),1)","v":-8.0999999999999984E-8}]
["Jarda KleinPočet šipek",{"$f":"CONCATENATE(C76,\" \",C77)","v":"Jarda Klein"},null,"Počet šipek",null,null,null,null,null,null,null,null,null,null,null,null,null,null,null,null,null,null,null,null,null,null,null,null,null,null,null,null,null,null,null,null,null,null,null,null,null,null,null,null,null,null,null,null,null,null,null,null,null,null,null,null,null,null,null,null,null,null,null,null,null,null,null,null,null,null,null,null,null,null,null,null,null,null,null,null,null,null,null,null,null,null,null,null,null,null,null,null,null,null,null,null,null,null,null,null,null,null,null,null,null,null,null,null,null,null,null,null,null,null,null,null,null,null,null,null,null,null,null,null,null,null,null,null,null,null,null,null,null,null,{"$f":"IF(AND(SUM(Tabulka!$AG$49)>0.99,(SUM(Tabulka!$AG$49)<2)),-50000+(SUM(E82:ED82)),IF(OR(SUM(Tabulka!$AG$49)<2),-90000,SUM(E82:ED82)))","v":0},null,{"$f":"SUM(E82:ED82)","v":0}]
[{"$f":"CONCATENATE($C$84,\" \",$C$85,D83)","v":"Kuba ŠedivýVýhry"},{"$f":"CONCATENATE(C84,\" \",C85)","v":"Kuba Šedivý"},{"$f":"Tabulka!B54","v":0},"Výhry",1,null,null,null,null,null,null,null,null,null,null,null,null,null,null,null,null,null,null,null,null,null,null,null,null,null,null,null,null,null,null,null,null,null,null,null,null,null,null,null,null,null,null,null,null,2,null,null,null,null,null,null,null,null,null,null,null,null,null,null,null,null,null,null,null,null,null,null,null,null,null,null,null,null,null,null,null,null,null,null,1,null,null,null,null,null,null,null,null,null,null,null,null,null,null,null,null,null,null,null,null,null,null,null,null,null,null,null,null,null,null,null,null,null,null,null,null,null,null,null,null,null,null,null,null,null,null,null,null,null,{"$f":"IF(AND(SUM(Tabulka!$AG$54)>0.99,(SUM(Tabulka!$AG$54)<2)),-50000+(SUM(E83:ED83)),IF(OR(SUM(Tabulka!$AG$54)<2),-90000,SUM(E83:ED83)))","v":4},null,4]
["Kuba ŠedivýProhry","Kuba Šedivý",{"$f":"Tabulka!B55","v":"Kuba"},"Prohry",0,null,null,null,null,null,null,null,null,null,null,null,null,null,null,null,null,null,null,null,null,null,null,null,null,null,null,null,null,null,null,null,null,null,null,null,null,null,null,null,null,null,null,null,null,0,null,null,null,null,null,null,null,null,null,null,null,null,null,null,null,null,null,null,null,null,null,null,null,null,null,null,null,null,null,null,null,null,null,null,0.1,null,null,null,null,null,null,null,null,null,null,null,null,null,null,null,null,null,null,null,null,null,null,null,null,null,null,null,null,null,null,null,null,null,null,null,null,null,null,null,null,null,null,null,null,null,null,null,null,null,{"$f":"IF(AND(SUM(Tabulka!$AG$54)>0.99,(SUM(Tabulka!$AG$54)<2)),-50000+(SUM(E84:ED84)),IF(OR(SUM(Tabulka!$AG$54)<2),-90000,SUM(E84:ED84)))","v":0.1},{"$f":"SUM(EE83-EE84)","v":3.9},0.1]
["Kuba ŠedivýPlaceno panáků",{"$f":"CONCATENATE(C84,\" \",C85)","v":"Kuba Šedivý"},{"$f":"Tabulka!B56","v":"Šedivý"},"Placeno panáků",0,null,null,null,null,null,null,null,null,null,null,null,null,null,null,null,null,null,null,null,null,null,null,null,null,null,null,null,null,null,null,null,null,null,null,null,null,null,null,null,null,null,null,null,null,0,null,null,null,null,null,null,null,null,null,null,null,null,null,null,null,null,null,null,null,null,null,null,null,null,null,null,null,null,null,null,null,null,null,null,0,null,null,null,null,null,null,null,null,null,null,null,null,null,null,null,null,null,null,null,null,null,null,null,null,null,null,null,null,null,null,null,null,null,null,null,null,null,null,null,null,null,null,null,null,null,null,null,null,null,{"$f":"IF(AND(SUM(Tabulka!$AG$54)>0.99,(SUM(Tabulka!$AG$54)<2)),-50000+(SUM(E85:ED85)),IF(OR(SUM(Tabulka!$AG$54)<2),-90000,SUM(E85:ED85)))","v":0},null,0]
["Kuba ŠedivýPřehozy",{"$f":"CONCATENATE(C84,\" \",C85)","v":"Kuba Šedivý"},{"$f":"Tabulka!B57","v":0},"Přehozy",3,null,null,null,null,null,null,null,null,null,null,null,null,null,null,null,null,null,null,null,null,null,null,null,null,null,null,null,null,null,null,null,null,null,null,null,null,null,null,null,null,null,null,null,null,3,null,null,null,null,null,null,null,null,null,null,null,null,null,null,null,null,null,null,null,null,null,null,null,null,null,null,null,null,null,null,null,null,null,null,2,null,null,null,null,null,null,null,null,null,null,null,null,null,null,null,null,null,null,null,null,null,null,null,null,null,null,null,null,null,null,null,null,null,null,null,null,null,null,null,null,null,null,null,null,null,null,null,null,null,{"$f":"IF(AND(SUM(Tabulka!$AG$54)>0.99,(SUM(Tabulka!$AG$54)<2)),-50000+(SUM(E86:ED86)),IF(OR(SUM(Tabulka!$AG$54)<2),-90000,SUM(E86:ED86)))","v":8},null,8]
["Kuba ŠedivýPoč. kol",{"$f":"CONCATENATE(C84,\" \",C85)","v":"Kuba Šedivý"},{"$f":"Tabulka!B58","v":0},"Poč. kol",3,null,null,null,null,null,null,null,null,null,null,null,null,null,null,null,null,null,null,null,null,null,null,null,null,null,null,null,null,null,null,null,null,null,null,null,null,null,null,null,null,null,null,null,null,4,null,null,null,null,null,null,null,null,null,null,null,null,null,null,null,null,null,null,null,null,null,null,null,null,null,null,null,null,null,null,null,null,null,null,4,null,null,null,null,null,null,null,null,null,null,null,null,null,null,null,null,null,null,null,null,null,null,null,null,null,null,null,null,null,null,null,null,null,null,null,null,null,null,null,null,null,null,null,null,null,null,null,null,null,{"$f":"IF(AND(SUM(Tabulka!$AG$54)>0.99,(SUM(Tabulka!$AG$54)<2)),-50000+(SUM(E87:ED87)),IF(OR(SUM(Tabulka!$AG$54)<2),-90000,SUM(E87:ED87)))","v":11},null,11]
["Kuba ŠedivýPočet konečných bodů",{"$f":"CONCATENATE(C84,\" \",C85)","v":"Kuba Šedivý"},null,"Počet konečných bodů",0,40,1,null,null,null,null,null,null,null,null,null,null,null,null,null,null,null,null,null,null,null,null,null,null,null,null,null,null,null,null,null,null,null,null,null,null,null,null,null,null,null,null,null,null,54,0,0,38,null,null,null,null,null,null,null,null,null,null,null,null,null,null,null,null,null,null,null,null,null,null,null,null,null,null,null,null,null,null,null,0,19,16,110,null,null,null,null,null,null,null,null,null,null,null,null,null,null,null,null,null,null,null,null,null,null,null,null,null,null,null,null,null,null,null,null,null,null,null,null,null,null,null,null,null,null,null,null,null,null,{"$f":"IF(AND(SUM(Tabulka!$AG$54)>0.99,(SUM(Tabulka!$AG$54)<2)),-50000-(SUM(E88:ED88)),IF(OR(SUM(Tabulka!$AG$54)<2),-90000,SUM(E88:ED88)))","v":278},null,278]
["Kuba ŠedivýPrůměr konečných bodů na kolo",{"$f":"CONCATENATE(C84,\" \",C85)","v":"Kuba Šedivý"},null,"Průměr konečných bodů na kolo",{"$f":"IF(E88<>\"\",AVERAGE($E88:E88)+$EI89,\"\")","v":-1.2099999999999998E-7},{"$f":"IF(F88<>\"\",AVERAGE($E88:F88)+$EI89,\"\")","v":19.999999879000001},{"$f":"IF(G88<>\"\",AVERAGE($E88:G88)+$EI89,\"\")","v":13.666666545666667},{"$f":"IF(H88<>\"\",AVERAGE($E88:H88)+$EI89,\"\")","v":""},{"$f":"IF(I88<>\"\",AVERAGE($E88:I88)+$EI89,\"\")","v":""},{"$f":"IF(J88<>\"\",AVERAGE($E88:J88)+$EI89,\"\")","v":""},{"$f":"IF(K88<>\"\",AVERAGE($E88:K88)+$EI89,\"\")","v":""},{"$f":"IF(L88<>\"\",AVERAGE($E88:L88)+$EI89,\"\")","v":""},{"$f":"IF(M88<>\"\",AVERAGE($E88:M88)+$EI89,\"\")","v":""},{"$f":"IF(N88<>\"\",AVERAGE($E88:N88)+$EI89,\"\")","v":""},{"$f":"IF(O88<>\"\",AVERAGE($E88:O88)+$EI89,\"\")","v":""},{"$f":"IF(P88<>\"\",AVERAGE($E88:P88)+$EI89,\"\")","v":""},{"$f":"IF(Q88<>\"\",AVERAGE($E88:Q88)+$EI89,\"\")","v":""},{"$f":"IF(R88<>\"\",AVERAGE($E88:R88)+$EI89,\"\")","v":""},{"$f":"IF(S88<>\"\",AVERAGE($E88:S88)+$EI89,\"\")","v":""},{"$f":"IF(T88<>\"\",AVERAGE($E88:T88)+$EI89,\"\")","v":""},{"$f":"IF(U88<>\"\",AVERAGE($E88:U88)+$EI89,\"\")","v":""},{"$f":"IF(V88<>\"\",AVERAGE($E88:V88)+$EI89,\"\")","v":""},{"$f":"IF(W88<>\"\",AVERAGE($E88:W88)+$EI89,\"\")","v":""},{"$f":"IF(X88<>\"\",AVERAGE($E88:X88)+$EI89,\"\")","v":""},{"$f":"IF(Y88<>\"\",AVERAGE($E88:Y88)+$EI89,\"\")","v":""},{"$f":"IF(Z88<>\"\",AVERAGE($E88:Z88)+$EI89,\"\")","v":""},{"$f":"IF(AA88<>\"\",AVERAGE($E88:AA88)+$EI89,\"\")","v":""},{"$f":"IF(AB88<>\"\",AVERAGE($E88:AB88)+$EI89,\"\")","v":""},{"$f":"IF(AC88<>\"\",AVERAGE($E88:AC88)+$EI89,\"\")","v":""},{"$f":"IF(AD88<>\"\",AVERAGE($E88:AD88)+$EI89,\"\")","v":""},{"$f":"IF(AE88<>\"\",AVERAGE($E88:AE88)+$EI89,\"\")","v":""},{"$f":"IF(AF88<>\"\",AVERAGE($E88:AF88)+$EI89,\"\")","v":""},{"$f":"IF(AG88<>\"\",AVERAGE($E88:AG88)+$EI89,\"\")","v":""},{"$f":"IF(AH88<>\"\",AVERAGE($E88:AH88)+$EI89,\"\")","v":""},{"$f":"IF(AI88<>\"\",AVERAGE($E88:AI88)+$EI89,\"\")","v":""},{"$f":"IF(AJ88<>\"\",AVERAGE($E88:AJ88)+$EI89,\"\")","v":""},{"$f":"IF(AK88<>\"\",AVERAGE($E88:AK88)+$EI89,\"\")","v":""},{"$f":"IF(AL88<>\"\",AVERAGE($E88:AL88)+$EI89,\"\")","v":""},{"$f":"IF(AM88<>\"\",AVERAGE($E88:AM88)+$EI89,\"\")","v":""},{"$f":"IF(AN88<>\"\",AVERAGE($E88:AN88)+$EI89,\"\")","v":""},{"$f":"IF(AO88<>\"\",AVERAGE($E88:AO88)+$EI89,\"\")","v":""},{"$f":"IF(AP88<>\"\",AVERAGE($E88:AP88)+$EI89,\"\")","v":""},{"$f":"IF(AQ88<>\"\",AVERAGE($E88:AQ88)+$EI89,\"\")","v":""},{"$f":"IF(AR88<>\"\",AVERAGE($E88:AR88)+$EI89,\"\")","v":""},{"$f":"IF(AS88<>\"\",AVERAGE($E88:AS88)+$EI89,\"\")","v":""},{"$f":"IF(AT88<>\"\",AVERAGE($E88:AT88)+$EI89,\"\")","v":""},{"$f":"IF(AU88<>\"\",AVERAGE($E88:AU88)+$EI89,\"\")","v":""},{"$f":"IF(AV88<>\"\",AVERAGE($E88:AV88)+$EI89,\"\")","v":""},{"$f":"IF(AW88<>\"\",AVERAGE($E88:AW88)+$EI89,\"\")","v":""},{"$f":"IF(AX88<>\"\",AVERAGE($E88:AX88)+$EI89,\"\")","v":23.749999879000001},{"$f":"IF(AY88<>\"\",AVERAGE($E88:AY88)+$EI89,\"\")","v":18.999999879000001},{"$f":"IF(AZ88<>\"\",AVERAGE($E88:AZ88)+$EI89,\"\")","v":15.833333212333335},{"$f":"IF(BA88<>\"\",AVERAGE($E88:BA88)+$EI89,\"\")","v":18.999999879000001},{"$f":"IF(BB88<>\"\",AVERAGE($E88:BB88)+$EI89,\"\")","v":""},{"$f":"IF(BC88<>\"\",AVERAGE($E88:BC88)+$EI89,\"\")","v":""},{"$f":"IF(BD88<>\"\",AVERAGE($E88:BD88)+$EI89,\"\")","v":""},{"$f":"IF(BE88<>\"\",AVERAGE($E88:BE88)+$EI89,\"\")","v":""},{"$f":"IF(BF88<>\"\",AVERAGE($E88:BF88)+$EI89,\"\")","v":""},{"$f":"IF(BG88<>\"\",AVERAGE($E88:BG88)+$EI89,\"\")","v":""},{"$f":"IF(BH88<>\"\",AVERAGE($E88:BH88)+$EI89,\"\")","v":""},{"$f":"IF(BI88<>\"\",AVERAGE($E88:BI88)+$EI89,\"\")","v":""},{"$f":"IF(BJ88<>\"\",AVERAGE($E88:BJ88)+$EI89,\"\")","v":""},{"$f":"IF(BK88<>\"\",AVERAGE($E88:BK88)+$EI89,\"\")","v":""},{"$f":"IF(BL88<>\"\",AVERAGE($E88:BL88)+$EI89,\"\")","v":""},{"$f":"IF(BM88<>\"\",AVERAGE($E88:BM88)+$EI89,\"\")","v":""},{"$f":"IF(BN88<>\"\",AVERAGE($E88:BN88)+$EI89,\"\")","v":""},{"$f":"IF(BO88<>\"\",AVERAGE($E88:BO88)+$EI89,\"\")","v":""},{"$f":"IF(BP88<>\"\",AVERAGE($E88:BP88)+$EI89,\"\")","v":""},{"$f":"IF(BQ88<>\"\",AVERAGE($E88:BQ88)+$EI89,\"\")","v":""},{"$f":"IF(BR88<>\"\",AVERAGE($E88:BR88)+$EI89,\"\")","v":""},{"$f":"IF(BS88<>\"\",AVERAGE($E88:BS88)+$EI89,\"\")","v":""},{"$f":"IF(BT88<>\"\",AVERAGE($E88:BT88)+$EI89,\"\")","v":""},{"$f":"IF(BU88<>\"\",AVERAGE($E88:BU88)+$EI89,\"\")","v":""},{"$f":"IF(BV88<>\"\",AVERAGE($E88:BV88)+$EI89,\"\")","v":""},{"$f":"IF(BW88<>\"\",AVERAGE($E88:BW88)+$EI89,\"\")","v":""},{"$f":"IF(BX88<>\"\",AVERAGE($E88:BX88)+$EI89,\"\")","v":""},{"$f":"IF(BY88<>\"\",AVERAGE($E88:BY88)+$EI89,\"\")","v":""},{"$f":"IF(BZ88<>\"\",AVERAGE($E88:BZ88)+$EI89,\"\")","v":""},{"$f":"IF(CA88<>\"\",AVERAGE($E88:CA88)+$EI89,\"\")","v":""},{"$f":"IF(CB88<>\"\",AVERAGE($E88:CB88)+$EI89,\"\")","v":""},{"$f":"IF(CC88<>\"\",AVERAGE($E88:CC88)+$EI89,\"\")","v":""},{"$f":"IF(CD88<>\"\",AVERAGE($E88:CD88)+$EI89,\"\")","v":""},{"$f":"IF(CE88<>\"\",AVERAGE($E88:CE88)+$EI89,\"\")","v":""},{"$f":"IF(CF88<>\"\",AVERAGE($E88:CF88)+$EI89,\"\")","v":""},{"$f":"IF(CG88<>\"\",AVERAGE($E88:CG88)+$EI89,\"\")","v":16.624999879000001},{"$f":"IF(CH88<>\"\",AVERAGE($E88:CH88)+$EI89,\"\")","v":16.88888876788889},{"$f":"IF(CI88<>\"\",AVERAGE($E88:CI88)+$EI89,\"\")","v":16.799999879000001},{"$f":"IF(CJ88<>\"\",AVERAGE($E88:CJ88)+$EI89,\"\")","v":25.272727151727274},{"$f":"IF(CK88<>\"\",AVERAGE($E88:CK88)+$EI89,\"\")","v":""},{"$f":"IF(CL88<>\"\",AVERAGE($E88:CL88)+$EI89,\"\")","v":""},{"$f":"IF(CM88<>\"\",AVERAGE($E88:CM88)+$EI89,\"\")","v":""},{"$f":"IF(CN88<>\"\",AVERAGE($E88:CN88)+$EI89,\"\")","v":""},{"$f":"IF(CO88<>\"\",AVERAGE($E88:CO88)+$EI89,\"\")","v":""},{"$f":"IF(CP88<>\"\",AVERAGE($E88:CP88)+$EI89,\"\")","v":""},{"$f":"IF(CQ88<>\"\",AVERAGE($E88:CQ88)+$EI89,\"\")","v":""},{"$f":"IF(CR88<>\"\",AVERAGE($E88:CR88)+$EI89,\"\")","v":""},{"$f":"IF(CS88<>\"\",AVERAGE($E88:CS88)+$EI89,\"\")","v":""},{"$f":"IF(CT88<>\"\",AVERAGE($E88:CT88)+$EI89,\"\")","v":""},{"$f":"IF(CU88<>\"\",AVERAGE($E88:CU88)+$EI89,\"\")","v":""},{"$f":"IF(CV88<>\"\",AVERAGE($E88:CV88)+$EI89,\"\")","v":""},{"$f":"IF(CW88<>\"\",AVERAGE($E88:CW88)+$EI89,\"\")","v":""},{"$f":"IF(CX88<>\"\",AVERAGE($E88:CX88)+$EI89,\"\")","v":""},{"$f":"IF(CY88<>\"\",AVERAGE($E88:CY88)+$EI89,\"\")","v":""},{"$f":"IF(CZ88<>\"\",AVERAGE($E88:CZ88)+$EI89,\"\")","v":""},{"$f":"IF(DA88<>\"\",AVERAGE($E88:DA88)+$EI89,\"\")","v":""},{"$f":"IF(DB88<>\"\",AVERAGE($E88:DB88)+$EI89,\"\")","v":""},{"$f":"IF(DC88<>\"\",AVERAGE($E88:DC88)+$EI89,\"\")","v":""},{"$f":"IF(DD88<>\"\",AVERAGE($E88:DD88)+$EI89,\"\")","v":""},{"$f":"IF(DE88<>\"\",AVERAGE($E88:DE88)+$EI89,\"\")","v":""},{"$f":"IF(DF88<>\"\",AVERAGE($E88:DF88)+$EI89,\"\")","v":""},{"$f":"IF(DG88<>\"\",AVERAGE($E88:DG88)+$EI89,\"\")","v":""},{"$f":"IF(DH88<>\"\",AVERAGE($E88:DH88)+$EI89,\"\")","v":""},{"$f":"IF(DI88<>\"\",AVERAGE($E88:DI88)+$EI89,\"\")","v":""},{"$f":"IF(DJ88<>\"\",AVERAGE($E88:DJ88)+$EI89,\"\")","v":""},{"$f":"IF(DK88<>\"\",AVERAGE($E88:DK88)+$EI89,\"\")","v":""},{"$f":"IF(DL88<>\"\",AVERAGE($E88:DL88)+$EI89,\"\")","v":""},{"$f":"IF(DM88<>\"\",AVERAGE($E88:DM88)+$EI89,\"\")","v":""},{"$f":"IF(DN88<>\"\",AVERAGE($E88:DN88)+$EI89,\"\")","v":""},{"$f":"IF(DO88<>\"\",AVERAGE($E88:DO88)+$EI89,\"\")","v":""},{"$f":"IF(DP88<>\"\",AVERAGE($E88:DP88)+$EI89,\"\")","v":""},{"$f":"IF(DQ88<>\"\",AVERAGE($E88:DQ88)+$EI89,\"\")","v":""},{"$f":"IF(DR88<>\"\",AVERAGE($E88:DR88)+$EI89,\"\")","v":""},{"$f":"IF(DS88<>\"\",AVERAGE($E88:DS88)+$EI89,\"\")","v":""},{"$f":"IF(DT88<>\"\",AVERAGE($E88:DT88)+$EI89,\"\")","v":""},{"$f":"IF(DU88<>\"\",AVERAGE($E88:DU88)+$EI89,\"\")","v":""},{"$f":"IF(DV88<>\"\",AVERAGE($E88:DV88)+$EI89,\"\")","v":""},{"$f":"IF(DW88<>\"\",AVERAGE($E88:DW88)+$EI89,\"\")","v":""},{"$f":"IF(DX88<>\"\",AVERAGE($E88:DX88)+$EI89,\"\")","v":""},{"$f":"IF(DY88<>\"\",AVERAGE($E88:DY88)+$EI89,\"\")","v":""},{"$f":"IF(DZ88<>\"\",AVERAGE($E88:DZ88)+$EI89,\"\")","v":""},{"$f":"IF(EA88<>\"\",AVERAGE($E88:EA88)+$EI89,\"\")","v":""},{"$f":"IF(EB88<>\"\",AVERAGE($E88:EB88)+$EI89,\"\")","v":""},{"$f":"IF(EC88<>\"\",AVERAGE($E88:EC88)+$EI89,\"\")","v":""},{"$f":"IF(ED88<>\"\",AVERAGE($E88:ED88)+$EI89,\"\")","v":""},{"$f":"IF(AND(SUM(Tabulka!$AG$54)>0.99,(SUM(Tabulka!$AG$54)<2)),-50000+(SUM(E88:ED88)/COUNT(E89:ED89)),IF(OR(SUM(Tabulka!$AG$54)<2),-90000,SUM(E88:ED88)/COUNT(E89:ED89)))","v":25.272727272727273},null,{"$f":"IFERROR(SUM(E88:ED88)/COUNT(E88:ED88),)","v":25.272727272727273},{"$f":"CONCATENATE(C84,\" \",C85)","v":"Kuba Šedivý"},{"$f":"INDEX(List4!$E$2:$E$17,MATCH(CONCATENATE(C84,\" \",C85),Tabulka1128[Jmeno_prijmeni],0),1)","v":-1.2099999999999998E-7}]
["Kuba ŠedivýPočet šipek",{"$f":"CONCATENATE(C84,\" \",C85)","v":"Kuba Šedivý"},null,"Počet šipek",null,null,null,null,null,null,null,null,null,null,null,null,null,null,null,null,null,null,null,null,null,null,null,null,null,null,null,null,null,null,null,null,null,null,null,null,null,null,null,null,null,null,null,null,null,null,null,null,null,null,null,null,null,null,null,null,null,null,null,null,null,null,null,null,null,null,null,null,null,null,null,null,null,null,null,null,null,null,null,null,null,null,null,null,null,null,null,null,null,null,null,null,null,null,null,null,null,null,null,null,null,null,null,null,null,null,null,null,null,null,null,null,null,null,null,null,null,null,null,null,null,null,null,null,null,null,null,null,null,null,{"$f":"IF(AND(SUM(Tabulka!$AG$54)>0.99,(SUM(Tabulka!$AG$54)<2)),-50000+(SUM(E90:ED90)),IF(OR(SUM(Tabulka!$AG$54)<2),-90000,SUM(E90:ED90)))","v":0},null,{"$f":"SUM(E90:ED90)","v":0}]
[{"$f":"CONCATENATE($C$92,\" \",$C$93,D91)","v":"Standa RothVýhry"},{"$f":"CONCATENATE(C92,\" \",C93)","v":"Standa Roth"},{"$f":"Tabulka!B59","v":0},"Výhry",0,null,null,null,null,2,null,null,null,null,null,null,null,null,null,0,null,null,null,null,0,null,null,null,null,1,null,null,null,null,1,null,null,null,null,1,null,null,null,null,1,null,null,null,null,0,null,null,null,null,null,null,null,null,null,1,null,null,null,null,2,null,null,null,null,2,null,null,null,null,1,null,null,null,null,1,null,null,null,null,1,null,null,null,null,null,null,null,null,null,null,null,null,null,null,null,null,null,null,null,null,null,null,null,null,null,null,null,null,null,null,null,null,null,null,null,null,null,null,null,null,null,null,null,null,null,null,null,null,null,{"$f":"IF(AND(SUM(Tabulka!$AG$59)>0.99,(SUM(Tabulka!$AG$59)<2)),-50000+(SUM(E91:ED91)),IF(OR(SUM(Tabulka!$AG$59)<2),-90000,SUM(E91:ED91)))","v":14},null,14]
["Standa RothProhry","Standa Roth",{"$f":"Tabulka!B60","v":"Standa"},"Prohry",0,null,null,null,null,0,null,null,null,null,null,null,null,null,null,0,null,null,null,null,1,null,null,null,null,0,null,null,null,null,1,null,null,null,null,0,null,null,null,null,0,null,null,null,null,2,null,null,null,null,null,null,null,null,null,0,null,null,null,null,0,null,null,null,null,0,null,null,null,null,0,null,null,null,null,0,null,null,null,null,0,null,null,null,null,null,null,null,null,null,null,null,null,null,null,null,null,null,null,null,null,null,null,null,null,null,null,null,null,null,null,null,null,null,null,null,null,null,null,null,null,null,null,null,null,null,null,null,null,null,{"$f":"IF(AND(SUM(Tabulka!$AG$59)>0.99,(SUM(Tabulka!$AG$59)<2)),-50000+(SUM(E92:ED92)),IF(OR(SUM(Tabulka!$AG$59)<2),-90000,SUM(E92:ED92)))","v":4},{"$f":"SUM(EE91-EE92)","v":10},4]
["Standa RothPlaceno panáků",{"$f":"CONCATENATE(C92,\" \",C93)","v":"Standa Roth"},{"$f":"Tabulka!B61","v":"Roth"},"Placeno panáků",0,null,null,null,null,0,null,null,null,null,null,null,null,null,null,0,null,null,null,null,2,null,null,null,null,0,null,null,null,null,1,null,null,null,null,0,null,null,null,null,0,null,null,null,null,4,null,null,null,null,null,null,null,null,null,0,null,null,null,null,0,null,null,null,null,0,null,null,null,null,0,null,null,null,null,0,null,null,null,null,0,null,null,null,null,null,null,null,null,null,null,null,null,null,null,null,null,null,null,null,null,null,null,null,null,null,null,null,null,null,null,null,null,null,null,null,null,null,null,null,null,null,null,null,null,null,null,null,null,null,{"$f":"IF(AND(SUM(Tabulka!$AG$59)>0.99,(SUM(Tabulka!$AG$59)<2)),-50000+(SUM(E93:ED93)),IF(OR(SUM(Tabulka!$AG$59)<2),-90000,SUM(E93:ED93)))","v":7},null,7]
["Standa RothPřehozy",{"$f":"CONCATENATE(C92,\" \",C93)","v":"Standa Roth"},{"$f":"Tabulka!B62","v":0},"Přehozy",0,null,null,null,null,2,null,null,null,null,null,null,null,null,null,2,null,null,null,null,0,null,null,null,null,0,null,null,null,null,0,null,null,null,null,0,null,null,null,null,0,null,null,null,null,3,null,null,null,null,null,null,null,null,null,0,null,null,null,null,0,null,null,null,null,1,null,null,null,null,0,null,null,null,null,1,null,null,null,null,1,null,null,null,null,null,null,null,null,null,null,null,null,null,null,null,null,null,null,null,null,null,null,null,null,null,null,null,null,null,null,null,null,null,null,null,null,null,null,null,null,null,null,null,null,null,null,null,null,null,{"$f":"IF(AND(SUM(Tabulka!$AG$59)>0.99,(SUM(Tabulka!$AG$59)<2)),-50000+(SUM(E94:ED94)),IF(OR(SUM(Tabulka!$AG$59)<2),-90000,SUM(E94:ED94)))","v":10},null,10]
["Standa RothPoč. kol",{"$f":"CONCATENATE(C92,\" \",C93)","v":"Standa Roth"},{"$f":"Tabulka!B63","v":0},"Poč. kol",4,null,null,null,null,4,null,null,null,null,null,null,null,null,null,4,null,null,null,null,4,null,null,null,null,4,null,null,null,null,4,null,null,null,null,4,null,null,null,null,3,null,null,null,null,4,null,null,null,null,null,null,null,null,null,4,null,null,null,null,4,null,null,null,null,5,null,null,null,null,4,null,null,null,null,4,null,null,null,null,4,null,null,null,null,null,null,null,null,null,null,null,null,null,null,null,null,null,null,null,null,null,null,null,null,null,null,null,null,null,null,null,null,null,null,null,null,null,null,null,null,null,null,null,null,null,null,null,null,null,{"$f":"IF(AND(SUM(Tabulka!$AG$59)>0.99,(SUM(Tabulka!$AG$59)<2)),-50000+(SUM(E95:ED95)),IF(OR(SUM(Tabulka!$AG$59)<2),-90000,SUM(E95:ED95)))","v":60},null,60]
["Standa RothPočet konečných bodů",{"$f":"CONCATENATE(C92,\" \",C93)","v":"Standa Roth"},null,"Počet konečných bodů",8,116,88,93,null,1,72,0,0,null,null,null,null,null,null,50,44,96,19,null,105,193,93,30,null,0,70,17,132,null,105,61,58,0,null,144,49,0,16,null,0,64,115,null,null,45,75,64,16,null,null,null,null,null,null,55,108,0,31,null,93,15,0,0,null,28,14,25,0,0,3,58,60,0,null,85,0,78,98,null,64,0,22,66,null,null,null,null,null,null,null,null,null,null,null,null,null,null,null,null,null,null,null,null,null,null,null,null,null,null,null,null,null,null,null,null,null,null,null,null,null,null,null,null,null,null,null,null,null,null,{"$f":"IF(AND(SUM(Tabulka!$AG$59)>0.99,(SUM(Tabulka!$AG$59)<2)),-50000-(SUM(E96:ED96)),IF(OR(SUM(Tabulka!$AG$59)<2),-90000,SUM(E96:ED96)))","v":2942},null,2942]
["Standa RothPrůměr konečných bodů na kolo",{"$f":"CONCATENATE(C92,\" \",C93)","v":"Standa Roth"},null,"Průměr konečných bodů na kolo",{"$f":"IF(E96<>\"\",AVERAGE($E96:E96)+$EI97,\"\")","v":7.9999998889999997},{"$f":"IF(F96<>\"\",AVERAGE($E96:F96)+$EI97,\"\")","v":61.999999889000001},{"$f":"IF(G96<>\"\",AVERAGE($E96:G96)+$EI97,\"\")","v":70.666666555666666},{"$f":"IF(H96<>\"\",AVERAGE($E96:H96)+$EI97,\"\")","v":76.249999888999994},{"$f":"IF(I96<>\"\",AVERAGE($E96:I96)+$EI97,\"\")","v":""},{"$f":"IF(J96<>\"\",AVERAGE($E96:J96)+$EI97,\"\")","v":61.199999889000004},{"$f":"IF(K96<>\"\",AVERAGE($E96:K96)+$EI97,\"\")","v":62.999999889000001},{"$f":"IF(L96<>\"\",AVERAGE($E96:L96)+$EI97,\"\")","v":53.999999889000001},{"$f":"IF(M96<>\"\",AVERAGE($E96:M96)+$EI97,\"\")","v":47.249999889000001},{"$f":"IF(N96<>\"\",AVERAGE($E96:N96)+$EI97,\"\")","v":""},{"$f":"IF(O96<>\"\",AVERAGE($E96:O96)+$EI97,\"\")","v":""},{"$f":"IF(P96<>\"\",AVERAGE($E96:P96)+$EI97,\"\")","v":""},{"$f":"IF(Q96<>\"\",AVERAGE($E96:Q96)+$EI97,\"\")","v":""},{"$f":"IF(R96<>\"\",AVERAGE($E96:R96)+$EI97,\"\")","v":""},{"$f":"IF(S96<>\"\",AVERAGE($E96:S96)+$EI97,\"\")","v":""},{"$f":"IF(T96<>\"\",AVERAGE($E96:T96)+$EI97,\"\")","v":47.555555444555559},{"$f":"IF(U96<>\"\",AVERAGE($E96:U96)+$EI97,\"\")","v":47.199999889000004},{"$f":"IF(V96<>\"\",AVERAGE($E96:V96)+$EI97,\"\")","v":51.636363525363635},{"$f":"IF(W96<>\"\",AVERAGE($E96:W96)+$EI97,\"\")","v":48.916666555666666},{"$f":"IF(X96<>\"\",AVERAGE($E96:X96)+$EI97,\"\")","v":""},{"$f":"IF(Y96<>\"\",AVERAGE($E96:Y96)+$EI97,\"\")","v":53.230769119769235},{"$f":"IF(Z96<>\"\",AVERAGE($E96:Z96)+$EI97,\"\")","v":63.214285603285717},{"$f":"IF(AA96<>\"\",AVERAGE($E96:AA96)+$EI97,\"\")","v":65.199999888999997},{"$f":"IF(AB96<>\"\",AVERAGE($E96:AB96)+$EI97,\"\")","v":62.999999889000001},{"$f":"IF(AC96<>\"\",AVERAGE($E96:AC96)+$EI97,\"\")","v":""},{"$f":"IF(AD96<>\"\",AVERAGE($E96:AD96)+$EI97,\"\")","v":59.294117536058828},{"$f":"IF(AE96<>\"\",AVERAGE($E96:AE96)+$EI97,\"\")","v":59.888888777888887},{"$f":"IF(AF96<>\"\",AVERAGE($E96:AF96)+$EI97,\"\")","v":57.631578836368419},{"$f":"IF(AG96<>\"\",AVERAGE($E96:AG96)+$EI97,\"\")","v":61.349999889000003},{"$f":"IF(AH96<>\"\",AVERAGE($E96:AH96)+$EI97,\"\")","v":""},{"$f":"IF(AI96<>\"\",AVERAGE($E96:AI96)+$EI97,\"\")","v":63.428571317571432},{"$f":"IF(AJ96<>\"\",AVERAGE($E96:AJ96)+$EI97,\"\")","v":63.318181707181822},{"$f":"IF(AK96<>\"\",AVERAGE($E96:AK96)+$EI97,\"\")","v":63.086956410739134},{"$f":"IF(AL96<>\"\",AVERAGE($E96:AL96)+$EI97,\"\")","v":60.458333222333337},{"$f":"IF(AM96<>\"\",AVERAGE($E96:AM96)+$EI97,\"\")","v":""},{"$f":"IF(AN96<>\"\",AVERAGE($E96:AN96)+$EI97,\"\")","v":63.799999888999999},{"$f":"IF(AO96<>\"\",AVERAGE($E96:AO96)+$EI97,\"\")","v":63.230769119769235},{"$f":"IF(AP96<>\"\",AVERAGE($E96:AP96)+$EI97,\"\")","v":60.888888777888887},{"$f":"IF(AQ96<>\"\",AVERAGE($E96:AQ96)+$EI97,\"\")","v":59.285714174714286},{"$f":"IF(AR96<>\"\",AVERAGE($E96:AR96)+$EI97,\"\")","v":""},{"$f":"IF(AS96<>\"\",AVERAGE($E96:AS96)+$EI97,\"\")","v":57.241379199344827},{"$f":"IF(AT96<>\"\",AVERAGE($E96:AT96)+$EI97,\"\")","v":57.46666655566667},{"$f":"IF(AU96<>\"\",AVERAGE($E96:AU96)+$EI97,\"\")","v":59.32258053416129},{"$f":"IF(AV96<>\"\",AVERAGE($E96:AV96)+$EI97,\"\")","v":""},{"$f":"IF(AW96<>\"\",AVERAGE($E96:AW96)+$EI97,\"\")","v":""},{"$f":"IF(AX96<>\"\",AVERAGE($E96:AX96)+$EI97,\"\")","v":58.874999889000001},{"$f":"IF(AY96<>\"\",AVERAGE($E96:AY96)+$EI97,\"\")","v":59.363636252636368},{"$f":"IF(AZ96<>\"\",AVERAGE($E96:AZ96)+$EI97,\"\")","v":59.499999889000001},{"$f":"IF(BA96<>\"\",AVERAGE($E96:BA96)+$EI97,\"\")","v":58.257142746142861},{"$f":"IF(BB96<>\"\",AVERAGE($E96:BB96)+$EI97,\"\")","v":""},{"$f":"IF(BC96<>\"\",AVERAGE($E96:BC96)+$EI97,\"\")","v":""},{"$f":"IF(BD96<>\"\",AVERAGE($E96:BD96)+$EI97,\"\")","v":""},{"$f":"IF(BE96<>\"\",AVERAGE($E96:BE96)+$EI97,\"\")","v":""},{"$f":"IF(BF96<>\"\",AVERAGE($E96:BF96)+$EI97,\"\")","v":""},{"$f":"IF(BG96<>\"\",AVERAGE($E96:BG96)+$EI97,\"\")","v":""},{"$f":"IF(BH96<>\"\",AVERAGE($E96:BH96)+$EI97,\"\")","v":58.166666555666666},{"$f":"IF(BI96<>\"\",AVERAGE($E96:BI96)+$EI97,\"\")","v":59.513513402513517},{"$f":"IF(BJ96<>\"\",AVERAGE($E96:BJ96)+$EI97,\"\")","v":57.947368310052632},{"$f":"IF(BK96<>\"\",AVERAGE($E96:BK96)+$EI97,\"\")","v":57.256410145410257},{"$f":"IF(BL96<>\"\",AVERAGE($E96:BL96)+$EI97,\"\")","v":""},{"$f":"IF(BM96<>\"\",AVERAGE($E96:BM96)+$EI97,\"\")","v":58.149999889},{"$f":"IF(BN96<>\"\",AVERAGE($E96:BN96)+$EI97,\"\")","v":57.097560864609754},{"$f":"IF(BO96<>\"\",AVERAGE($E96:BO96)+$EI97,\"\")","v":55.738095127095242},{"$f":"IF(BP96<>\"\",AVERAGE($E96:BP96)+$EI97,\"\")","v":54.44186035411628},{"$f":"IF(BQ96<>\"\",AVERAGE($E96:BQ96)+$EI97,\"\")","v":""},{"$f":"IF(BR96<>\"\",AVERAGE($E96:BR96)+$EI97,\"\")","v":53.840908979909095},{"$f":"IF(BS96<>\"\",AVERAGE($E96:BS96)+$EI97,\"\")","v":52.955555444555557},{"$f":"IF(BT96<>\"\",AVERAGE($E96:BT96)+$EI97,\"\")","v":52.347825975956525},{"$f":"IF(BU96<>\"\",AVERAGE($E96:BU96)+$EI97,\"\")","v":51.234042442191488},{"$f":"IF(BV96<>\"\",AVERAGE($E96:BV96)+$EI97,\"\")","v":50.166666555666666},{"$f":"IF(BW96<>\"\",AVERAGE($E96:BW96)+$EI97,\"\")","v":49.204081521653066},{"$f":"IF(BX96<>\"\",AVERAGE($E96:BX96)+$EI97,\"\")","v":49.379999889000004},{"$f":"IF(BY96<>\"\",AVERAGE($E96:BY96)+$EI97,\"\")","v":49.588235183117646},{"$f":"IF(BZ96<>\"\",AVERAGE($E96:BZ96)+$EI97,\"\")","v":48.634615273615388},{"$f":"IF(CA96<>\"\",AVERAGE($E96:CA96)+$EI97,\"\")","v":""},{"$f":"IF(CB96<>\"\",AVERAGE($E96:CB96)+$EI97,\"\")","v":49.320754605981136},{"$f":"IF(CC96<>\"\",AVERAGE($E96:CC96)+$EI97,\"\")","v":48.407407296407406},{"$f":"IF(CD96<>\"\",AVERAGE($E96:CD96)+$EI97,\"\")","v":48.945454434454547},{"$f":"IF(CE96<>\"\",AVERAGE($E96:CE96)+$EI97,\"\")","v":49.821428460428571},{"$f":"IF(CF96<>\"\",AVERAGE($E96:CF96)+$EI97,\"\")","v":""},{"$f":"IF(CG96<>\"\",AVERAGE($E96:CG96)+$EI97,\"\")","v":50.070175327596495},{"$f":"IF(CH96<>\"\",AVERAGE($E96:CH96)+$EI97,\"\")","v":49.206896440724137},{"$f":"IF(CI96<>\"\",AVERAGE($E96:CI96)+$EI97,\"\")","v":48.74576260086441},{"$f":"IF(CJ96<>\"\",AVERAGE($E96:CJ96)+$EI97,\"\")","v":49.033333222333333},{"$f":"IF(CK96<>\"\",AVERAGE($E96:CK96)+$EI97,\"\")","v":""},{"$f":"IF(CL96<>\"\",AVERAGE($E96:CL96)+$EI97,\"\")","v":""},{"$f":"IF(CM96<>\"\",AVERAGE($E96:CM96)+$EI97,\"\")","v":""},{"$f":"IF(CN96<>\"\",AVERAGE($E96:CN96)+$EI97,\"\")","v":""},{"$f":"IF(CO96<>\"\",AVERAGE($E96:CO96)+$EI97,\"\")","v":""},{"$f":"IF(CP96<>\"\",AVERAGE($E96:CP96)+$EI97,\"\")","v":""},{"$f":"IF(CQ96<>\"\",AVERAGE($E96:CQ96)+$EI97,\"\")","v":""},{"$f":"IF(CR96<>\"\",AVERAGE($E96:CR96)+$EI97,\"\")","v":""},{"$f":"IF(CS96<>\"\",AVERAGE($E96:CS96)+$EI97,\"\")","v":""},{"$f":"IF(CT96<>\"\",AVERAGE($E96:CT96)+$EI97,\"\")","v":""},{"$f":"IF(CU96<>\"\",AVERAGE($E96:CU96)+$EI97,\"\")","v":""},{"$f":"IF(CV96<>\"\",AVERAGE($E96:CV96)+$EI97,\"\")","v":""},{"$f":"IF(CW96<>\"\",AVERAGE($E96:CW96)+$EI97,\"\")","v":""},{"$f":"IF(CX96<>\"\",AVERAGE($E96:CX96)+$EI97,\"\")","v":""},{"$f":"IF(CY96<>\"\",AVERAGE($E96:CY96)+$EI97,\"\")","v":""},{"$f":"IF(CZ96<>\"\",AVERAGE($E96:CZ96)+$EI97,\"\")","v":""},{"$f":"IF(DA96<>\"\",AVERAGE($E96:DA96)+$EI97,\"\")","v":""},{"$f":"IF(DB96<>\"\",AVERAGE($E96:DB96)+$EI97,\"\")","v":""},{"$f":"IF(DC96<>\"\",AVERAGE($E96:DC96)+$EI97,\"\")","v":""},{"$f":"IF(DD96<>\"\",AVERAGE($E96:DD96)+$EI97,\"\")","v":""},{"$f":"IF(DE96<>\"\",AVERAGE($E96:DE96)+$EI97,\"\")","v":""},{"$f":"IF(DF96<>\"\",AVERAGE($E96:DF96)+$EI97,\"\")","v":""},{"$f":"IF(DG96<>\"\",AVERAGE($E96:DG96)+$EI97,\"\")","v":""},{"$f":"IF(DH96<>\"\",AVERAGE($E96:DH96)+$EI97,\"\")","v":""},{"$f":"IF(DI96<>\"\",AVERAGE($E96:DI96)+$EI97,\"\")","v":""},{"$f":"IF(DJ96<>\"\",AVERAGE($E96:DJ96)+$EI97,\"\")","v":""},{"$f":"IF(DK96<>\"\",AVERAGE($E96:DK96)+$EI97,\"\")","v":""},{"$f":"IF(DL96<>\"\",AVERAGE($E96:DL96)+$EI97,\"\")","v":""},{"$f":"IF(DM96<>\"\",AVERAGE($E96:DM96)+$EI97,\"\")","v":""},{"$f":"IF(DN96<>\"\",AVERAGE($E96:DN96)+$EI97,\"\")","v":""},{"$f":"IF(DO96<>\"\",AVERAGE($E96:DO96)+$EI97,\"\")","v":""},{"$f":"IF(DP96<>\"\",AVERAGE($E96:DP96)+$EI97,\"\")","v":""},{"$f":"IF(DQ96<>\"\",AVERAGE($E96:DQ96)+$EI97,\"\")","v":""},{"$f":"IF(DR96<>\"\",AVERAGE($E96:DR96)+$EI97,\"\")","v":""},{"$f":"IF(DS96<>\"\",AVERAGE($E96:DS96)+$EI97,\"\")","v":""},{"$f":"IF(DT96<>\"\",AVERAGE($E96:DT96)+$EI97,\"\")","v":""},{"$f":"IF(DU96<>\"\",AVERAGE($E96:DU96)+$EI97,\"\")","v":""},{"$f":"IF(DV96<>\"\",AVERAGE($E96:DV96)+$EI97,\"\")","v":""},{"$f":"IF(DW96<>\"\",AVERAGE($E96:DW96)+$EI97,\"\")","v":""},{"$f":"IF(DX96<>\"\",AVERAGE($E96:DX96)+$EI97,\"\")","v":""},{"$f":"IF(DY96<>\"\",AVERAGE($E96:DY96)+$EI97,\"\")","v":""},{"$f":"IF(DZ96<>\"\",AVERAGE($E96:DZ96)+$EI97,\"\")","v":""},{"$f":"IF(EA96<>\"\",AVERAGE($E96:EA96)+$EI97,\"\")","v":""},{"$f":"IF(EB96<>\"\",AVERAGE($E96:EB96)+$EI97,\"\")","v":""},{"$f":"IF(EC96<>\"\",AVERAGE($E96:EC96)+$EI97,\"\")","v":""},{"$f":"IF(ED96<>\"\",AVERAGE($E96:ED96)+$EI97,\"\")","v":""},{"$f":"IF(AND(SUM(Tabulka!$AG$59)>0.99,(SUM(Tabulka!$AG$59)<2)),-50000+(SUM(E96:ED96)/COUNT(E97:ED97)),IF(OR(SUM(Tabulka!$AG$59)<2),-90000,SUM(E96:ED96)/COUNT(E97:ED97)))","v":49.033333333333331},null,{"$f":"IFERROR(SUM(E96:ED96)/COUNT(E96:ED96),)","v":49.033333333333331},{"$f":"CONCATENATE(C92,\" \",C93)","v":"Standa Roth"},{"$f":"INDEX(List4!$E$2:$E$17,MATCH(CONCATENATE(C92,\" \",C93),Tabulka1128[Jmeno_prijmeni],0),1)","v":-1.1099999999999997E-7}]
["Standa RothPočet šipek",{"$f":"CONCATENATE(C92,\" \",C93)","v":"Standa Roth"},null,"Počet šipek",null,null,null,null,null,null,null,null,null,null,null,null,null,null,null,null,null,null,null,null,null,null,null,null,null,null,null,null,null,null,null,null,null,null,null,null,null,null,null,null,null,null,null,null,null,null,null,null,null,null,null,null,null,null,null,null,null,null,null,null,null,null,null,null,null,null,null,null,null,null,null,null,null,null,null,null,null,null,null,null,null,null,null,null,null,null,null,null,null,null,null,null,null,null,null,null,null,null,null,null,null,null,null,null,null,null,null,null,null,null,null,null,null,null,null,null,null,null,null,null,null,null,null,null,null,null,null,null,null,null,{"$f":"IF(AND(SUM(Tabulka!$AG$59)>0.99,(SUM(Tabulka!$AG$59)<2)),-50000+(SUM(E98:ED98)),IF(OR(SUM(Tabulka!$AG$59)<2),-90000,SUM(E98:ED98)))","v":0},null,{"$f":"SUM(E98:ED98)","v":0}]
[{"$f":"CONCATENATE($C$100,\" \",$C$101,D99)","v":"Karel KarlVýhry"},{"$f":"CONCATENATE(C100,\" \",C101)","v":"Karel Karl"},{"$f":"Tabulka!B64","v":0},"Výhry",null,null,null,null,null,null,null,null,null,null,null,null,null,null,null,null,null,null,null,null,1,null,null,null,null,null,null,null,null,null,null,null,null,null,null,null,null,null,null,null,null,null,null,null,null,null,null,null,null,null,null,null,null,null,null,null,null,null,null,null,null,null,null,null,null,null,null,null,null,null,null,null,null,null,null,null,null,null,null,null,null,null,null,null,null,null,null,null,null,null,null,null,null,null,null,null,null,null,null,null,null,null,null,null,null,null,null,null,null,null,null,null,null,null,null,null,null,null,null,null,null,null,null,null,null,null,null,null,null,null,{"$f":"IF(AND(SUM(Tabulka!$AG$64)>0.99,(SUM(Tabulka!$AG$64)<2)),-50000+(SUM(E99:ED99)),IF(OR(SUM(Tabulka!$AG$64)<2),-90000,SUM(E99:ED99)))","v":-49999},null,1]
["Karel KarlProhry","Karel Karl",{"$f":"Tabulka!B65","v":"Karel"},"Prohry",null,null,null,null,null,null,null,null,null,null,null,null,null,null,null,null,null,null,null,null,2,null,null,null,null,null,null,null,null,null,null,null,null,null,null,null,null,null,null,null,null,null,null,null,null,null,null,null,null,null,null,null,null,null,null,null,null,null,null,null,null,null,null,null,null,null,null,null,null,null,null,null,null,null,null,null,null,null,null,null,null,null,null,null,null,null,null,null,null,null,null,null,null,null,null,null,null,null,null,null,null,null,null,null,null,null,null,null,null,null,null,null,null,null,null,null,null,null,null,null,null,null,null,null,null,null,null,null,null,null,{"$f":"IF(AND(SUM(Tabulka!$AG$64)>0.99,(SUM(Tabulka!$AG$64)<2)),-50000+(SUM(E100:ED100)),IF(OR(SUM(Tabulka!$AG$64)<2),-90000,SUM(E100:ED100)))","v":-49998},{"$f":"SUM(EE99-EE100)","v":-1},2]
["Karel KarlPlaceno panáků",{"$f":"CONCATENATE(C100,\" \",C101)","v":"Karel Karl"},{"$f":"Tabulka!B66","v":"Karl"},"Placeno panáků",null,null,null,null,null,null,null,null,null,null,null,null,null,null,null,null,null,null,null,null,2,null,null,null,null,null,null,null,null,null,null,null,null,null,null,null,null,null,null,null,null,null,null,null,null,null,null,null,null,null,null,null,null,null,null,null,null,null,null,null,null,null,null,null,null,null,null,null,null,null,null,null,null,null,null,null,null,null,null,null,null,null,null,null,null,null,null,null,null,null,null,null,null,null,null,null,null,null,null,null,null,null,null,null,null,null,null,null,null,null,null,null,null,null,null,null,null,null,null,null,null,null,null,null,null,null,null,null,null,null,{"$f":"IF(AND(SUM(Tabulka!$AG$64)>0.99,(SUM(Tabulka!$AG$64)<2)),-50000+(SUM(E101:ED101)),IF(OR(SUM(Tabulka!$AG$64)<2),-90000,SUM(E101:ED101)))","v":-49998},null,2]
["Karel KarlPřehozy",{"$f":"CONCATENATE(C100,\" \",C101)","v":"Karel Karl"},{"$f":"Tabulka!B67","v":0},"Přehozy",null,null,null,null,null,null,null,null,null,null,null,null,null,null,null,null,null,null,null,null,0,null,null,null,null,null,null,null,null,null,null,null,null,null,null,null,null,null,null,null,null,null,null,null,null,null,null,null,null,null,null,null,null,null,null,null,null,null,null,null,null,null,null,null,null,null,null,null,null,null,null,null,null,null,null,null,null,null,null,null,null,null,null,null,null,null,null,null,null,null,null,null,null,null,null,null,null,null,null,null,null,null,null,null,null,null,null,null,null,null,null,null,null,null,null,null,null,null,null,null,null,null,null,null,null,null,null,null,null,null,{"$f":"IF(AND(SUM(Tabulka!$AG$64)>0.99,(SUM(Tabulka!$AG$64)<2)),-50000+(SUM(E102:ED102)),IF(OR(SUM(Tabulka!$AG$64)<2),-90000,SUM(E102:ED102)))","v":-50000},null,0]
["Karel KarlPoč. kol",{"$f":"CONCATENATE(C100,\" \",C101)","v":"Karel Karl"},{"$f":"Tabulka!B68","v":0},"Poč. kol",null,null,null,null,null,null,null,null,null,null,null,null,null,null,null,null,null,null,null,null,4,null,null,null,null,null,null,null,null,null,null,null,null,null,null,null,null,null,null,null,null,null,null,null,null,null,null,null,null,null,null,null,null,null,null,null,null,null,null,null,null,null,null,null,null,null,null,null,null,null,null,null,null,null,null,null,null,null,null,null,null,null,null,null,null,null,null,null,null,null,null,null,null,null,null,null,null,null,null,null,null,null,null,null,null,null,null,null,null,null,null,null,null,null,null,null,null,null,null,null,null,null,null,null,null,null,null,null,null,null,{"$f":"IF(AND(SUM(Tabulka!$AG$64)>0.99,(SUM(Tabulka!$AG$64)<2)),-50000+(SUM(E103:ED103)),IF(OR(SUM(Tabulka!$AG$64)<2),-90000,SUM(E103:ED103)))","v":-49996},null,4]
["Karel KarlPočet konečných bodů",{"$f":"CONCATENATE(C100,\" \",C101)","v":"Karel Karl"},null,"Počet konečných bodů",null,null,null,null,null,null,null,null,null,null,null,null,null,null,null,null,null,null,null,null,240,273,0,53,null,null,null,null,null,null,null,null,null,null,null,null,null,null,null,null,null,null,null,null,null,null,null,null,null,null,null,null,null,null,null,null,null,null,null,null,null,null,null,null,null,null,null,null,null,null,null,null,null,null,null,null,null,null,null,null,null,null,null,null,null,null,null,null,null,null,null,null,null,null,null,null,null,null,null,null,null,null,null,null,null,null,null,null,null,null,null,null,null,null,null,null,null,null,null,null,null,null,null,null,null,null,null,null,null,null,{"$f":"IF(AND(SUM(Tabulka!$AG$64)>0.99,(SUM(Tabulka!$AG$64)<2)),-50000-(SUM(E104:ED104)),IF(OR(SUM(Tabulka!$AG$64)<2),-90000,SUM(E104:ED104)))","v":-50566},null,566]
["Karel KarlPrůměr konečných bodů na kolo",{"$f":"CONCATENATE(C100,\" \",C101)","v":"Karel Karl"},null,"Průměr konečných bodů na kolo",{"$f":"IF(E104<>\"\",AVERAGE($E104:E104)+$EI105,\"\")","v":""},{"$f":"IF(F104<>\"\",AVERAGE($E104:F104)+$EI105,\"\")","v":""},{"$f":"IF(G104<>\"\",AVERAGE($E104:G104)+$EI105,\"\")","v":""},{"$f":"IF(H104<>\"\",AVERAGE($E104:H104)+$EI105,\"\")","v":""},{"$f":"IF(I104<>\"\",AVERAGE($E104:I104)+$EI105,\"\")","v":""},{"$f":"IF(J104<>\"\",AVERAGE($E104:J104)+$EI105,\"\")","v":""},{"$f":"IF(K104<>\"\",AVERAGE($E104:K104)+$EI105,\"\")","v":""},{"$f":"IF(L104<>\"\",AVERAGE($E104:L104)+$EI105,\"\")","v":""},{"$f":"IF(M104<>\"\",AVERAGE($E104:M104)+$EI105,\"\")","v":""},{"$f":"IF(N104<>\"\",AVERAGE($E104:N104)+$EI105,\"\")","v":""},{"$f":"IF(O104<>\"\",AVERAGE($E104:O104)+$EI105,\"\")","v":""},{"$f":"IF(P104<>\"\",AVERAGE($E104:P104)+$EI105,\"\")","v":""},{"$f":"IF(Q104<>\"\",AVERAGE($E104:Q104)+$EI105,\"\")","v":""},{"$f":"IF(R104<>\"\",AVERAGE($E104:R104)+$EI105,\"\")","v":""},{"$f":"IF(S104<>\"\",AVERAGE($E104:S104)+$EI105,\"\")","v":""},{"$f":"IF(T104<>\"\",AVERAGE($E104:T104)+$EI105,\"\")","v":""},{"$f":"IF(U104<>\"\",AVERAGE($E104:U104)+$EI105,\"\")","v":""},{"$f":"IF(V104<>\"\",AVERAGE($E104:V104)+$EI105,\"\")","v":""},{"$f":"IF(W104<>\"\",AVERAGE($E104:W104)+$EI105,\"\")","v":""},{"$f":"IF(X104<>\"\",AVERAGE($E104:X104)+$EI105,\"\")","v":""},{"$f":"IF(Y104<>\"\",AVERAGE($E104:Y104)+$EI105,\"\")","v":239.99999992900001},{"$f":"IF(Z104<>\"\",AVERAGE($E104:Z104)+$EI105,\"\")","v":256.49999992900001},{"$f":"IF(AA104<>\"\",AVERAGE($E104:AA104)+$EI105,\"\")","v":170.99999992900001},{"$f":"IF(AB104<>\"\",AVERAGE($E104:AB104)+$EI105,\"\")","v":141.49999992900001},{"$f":"IF(AC104<>\"\",AVERAGE($E104:AC104)+$EI105,\"\")","v":""},{"$f":"IF(AD104<>\"\",AVERAGE($E104:AD104)+$EI105,\"\")","v":""},{"$f":"IF(AE104<>\"\",AVERAGE($E104:AE104)+$EI105,\"\")","v":""},{"$f":"IF(AF104<>\"\",AVERAGE($E104:AF104)+$EI105,\"\")","v":""},{"$f":"IF(AG104<>\"\",AVERAGE($E104:AG104)+$EI105,\"\")","v":""},{"$f":"IF(AH104<>\"\",AVERAGE($E104:AH104)+$EI105,\"\")","v":""},{"$f":"IF(AI104<>\"\",AVERAGE($E104:AI104)+$EI105,\"\")","v":""},{"$f":"IF(AJ104<>\"\",AVERAGE($E104:AJ104)+$EI105,\"\")","v":""},{"$f":"IF(AK104<>\"\",AVERAGE($E104:AK104)+$EI105,\"\")","v":""},{"$f":"IF(AL104<>\"\",AVERAGE($E104:AL104)+$EI105,\"\")","v":""},{"$f":"IF(AM104<>\"\",AVERAGE($E104:AM104)+$EI105,\"\")","v":""},{"$f":"IF(AN104<>\"\",AVERAGE($E104:AN104)+$EI105,\"\")","v":""},{"$f":"IF(AO104<>\"\",AVERAGE($E104:AO104)+$EI105,\"\")","v":""},{"$f":"IF(AP104<>\"\",AVERAGE($E104:AP104)+$EI105,\"\")","v":""},{"$f":"IF(AQ104<>\"\",AVERAGE($E104:AQ104)+$EI105,\"\")","v":""},{"$f":"IF(AR104<>\"\",AVERAGE($E104:AR104)+$EI105,\"\")","v":""},{"$f":"IF(AS104<>\"\",AVERAGE($E104:AS104)+$EI105,\"\")","v":""},{"$f":"IF(AT104<>\"\",AVERAGE($E104:AT104)+$EI105,\"\")","v":""},{"$f":"IF(AU104<>\"\",AVERAGE($E104:AU104)+$EI105,\"\")","v":""},{"$f":"IF(AV104<>\"\",AVERAGE($E104:AV104)+$EI105,\"\")","v":""},{"$f":"IF(AW104<>\"\",AVERAGE($E104:AW104)+$EI105,\"\")","v":""},{"$f":"IF(AX104<>\"\",AVERAGE($E104:AX104)+$EI105,\"\")","v":""},{"$f":"IF(AY104<>\"\",AVERAGE($E104:AY104)+$EI105,\"\")","v":""},{"$f":"IF(AZ104<>\"\",AVERAGE($E104:AZ104)+$EI105,\"\")","v":""},{"$f":"IF(BA104<>\"\",AVERAGE($E104:BA104)+$EI105,\"\")","v":""},{"$f":"IF(BB104<>\"\",AVERAGE($E104:BB104)+$EI105,\"\")","v":""},{"$f":"IF(BC104<>\"\",AVERAGE($E104:BC104)+$EI105,\"\")","v":""},{"$f":"IF(BD104<>\"\",AVERAGE($E104:BD104)+$EI105,\"\")","v":""},{"$f":"IF(BE104<>\"\",AVERAGE($E104:BE104)+$EI105,\"\")","v":""},{"$f":"IF(BF104<>\"\",AVERAGE($E104:BF104)+$EI105,\"\")","v":""},{"$f":"IF(BG104<>\"\",AVERAGE($E104:BG104)+$EI105,\"\")","v":""},{"$f":"IF(BH104<>\"\",AVERAGE($E104:BH104)+$EI105,\"\")","v":""},{"$f":"IF(BI104<>\"\",AVERAGE($E104:BI104)+$EI105,\"\")","v":""},{"$f":"IF(BJ104<>\"\",AVERAGE($E104:BJ104)+$EI105,\"\")","v":""},{"$f":"IF(BK104<>\"\",AVERAGE($E104:BK104)+$EI105,\"\")","v":""},{"$f":"IF(BL104<>\"\",AVERAGE($E104:BL104)+$EI105,\"\")","v":""},{"$f":"IF(BM104<>\"\",AVERAGE($E104:BM104)+$EI105,\"\")","v":""},{"$f":"IF(BN104<>\"\",AVERAGE($E104:BN104)+$EI105,\"\")","v":""},{"$f":"IF(BO104<>\"\",AVERAGE($E104:BO104)+$EI105,\"\")","v":""},{"$f":"IF(BP104<>\"\",AVERAGE($E104:BP104)+$EI105,\"\")","v":""},{"$f":"IF(BQ104<>\"\",AVERAGE($E104:BQ104)+$EI105,\"\")","v":""},{"$f":"IF(BR104<>\"\",AVERAGE($E104:BR104)+$EI105,\"\")","v":""},{"$f":"IF(BS104<>\"\",AVERAGE($E104:BS104)+$EI105,\"\")","v":""},{"$f":"IF(BT104<>\"\",AVERAGE($E104:BT104)+$EI105,\"\")","v":""},{"$f":"IF(BU104<>\"\",AVERAGE($E104:BU104)+$EI105,\"\")","v":""},{"$f":"IF(BV104<>\"\",AVERAGE($E104:BV104)+$EI105,\"\")","v":""},{"$f":"IF(BW104<>\"\",AVERAGE($E104:BW104)+$EI105,\"\")","v":""},{"$f":"IF(BX104<>\"\",AVERAGE($E104:BX104)+$EI105,\"\")","v":""},{"$f":"IF(BY104<>\"\",AVERAGE($E104:BY104)+$EI105,\"\")","v":""},{"$f":"IF(BZ104<>\"\",AVERAGE($E104:BZ104)+$EI105,\"\")","v":""},{"$f":"IF(CA104<>\"\",AVERAGE($E104:CA104)+$EI105,\"\")","v":""},{"$f":"IF(CB104<>\"\",AVERAGE($E104:CB104)+$EI105,\"\")","v":""},{"$f":"IF(CC104<>\"\",AVERAGE($E104:CC104)+$EI105,\"\")","v":""},{"$f":"IF(CD104<>\"\",AVERAGE($E104:CD104)+$EI105,\"\")","v":""},{"$f":"IF(CE104<>\"\",AVERAGE($E104:CE104)+$EI105,\"\")","v":""},{"$f":"IF(CF104<>\"\",AVERAGE($E104:CF104)+$EI105,\"\")","v":""},{"$f":"IF(CG104<>\"\",AVERAGE($E104:CG104)+$EI105,\"\")","v":""},{"$f":"IF(CH104<>\"\",AVERAGE($E104:CH104)+$EI105,\"\")","v":""},{"$f":"IF(CI104<>\"\",AVERAGE($E104:CI104)+$EI105,\"\")","v":""},{"$f":"IF(CJ104<>\"\",AVERAGE($E104:CJ104)+$EI105,\"\")","v":""},{"$f":"IF(CK104<>\"\",AVERAGE($E104:CK104)+$EI105,\"\")","v":""},{"$f":"IF(CL104<>\"\",AVERAGE($E104:CL104)+$EI105,\"\")","v":""},{"$f":"IF(CM104<>\"\",AVERAGE($E104:CM104)+$EI105,\"\")","v":""},{"$f":"IF(CN104<>\"\",AVERAGE($E104:CN104)+$EI105,\"\")","v":""},{"$f":"IF(CO104<>\"\",AVERAGE($E104:CO104)+$EI105,\"\")","v":""},{"$f":"IF(CP104<>\"\",AVERAGE($E104:CP104)+$EI105,\"\")","v":""},{"$f":"IF(CQ104<>\"\",AVERAGE($E104:CQ104)+$EI105,\"\")","v":""},{"$f":"IF(CR104<>\"\",AVERAGE($E104:CR104)+$EI105,\"\")","v":""},{"$f":"IF(CS104<>\"\",AVERAGE($E104:CS104)+$EI105,\"\")","v":""},{"$f":"IF(CT104<>\"\",AVERAGE($E104:CT104)+$EI105,\"\")","v":""},{"$f":"IF(CU104<>\"\",AVERAGE($E104:CU104)+$EI105,\"\")","v":""},{"$f":"IF(CV104<>\"\",AVERAGE($E104:CV104)+$EI105,\"\")","v":""},{"$f":"IF(CW104<>\"\",AVERAGE($E104:CW104)+$EI105,\"\")","v":""},{"$f":"IF(CX104<>\"\",AVERAGE($E104:CX104)+$EI105,\"\")","v":""},{"$f":"IF(CY104<>\"\",AVERAGE($E104:CY104)+$EI105,\"\")","v":""},{"$f":"IF(CZ104<>\"\",AVERAGE($E104:CZ104)+$EI105,\"\")","v":""},{"$f":"IF(DA104<>\"\",AVERAGE($E104:DA104)+$EI105,\"\")","v":""},{"$f":"IF(DB104<>\"\",AVERAGE($E104:DB104)+$EI105,\"\")","v":""},{"$f":"IF(DC104<>\"\",AVERAGE($E104:DC104)+$EI105,\"\")","v":""},{"$f":"IF(DD104<>\"\",AVERAGE($E104:DD104)+$EI105,\"\")","v":""},{"$f":"IF(DE104<>\"\",AVERAGE($E104:DE104)+$EI105,\"\")","v":""},{"$f":"IF(DF104<>\"\",AVERAGE($E104:DF104)+$EI105,\"\")","v":""},{"$f":"IF(DG104<>\"\",AVERAGE($E104:DG104)+$EI105,\"\")","v":""},{"$f":"IF(DH104<>\"\",AVERAGE($E104:DH104)+$EI105,\"\")","v":""},{"$f":"IF(DI104<>\"\",AVERAGE($E104:DI104)+$EI105,\"\")","v":""},{"$f":"IF(DJ104<>\"\",AVERAGE($E104:DJ104)+$EI105,\"\")","v":""},{"$f":"IF(DK104<>\"\",AVERAGE($E104:DK104)+$EI105,\"\")","v":""},{"$f":"IF(DL104<>\"\",AVERAGE($E104:DL104)+$EI105,\"\")","v":""},{"$f":"IF(DM104<>\"\",AVERAGE($E104:DM104)+$EI105,\"\")","v":""},{"$f":"IF(DN104<>\"\",AVERAGE($E104:DN104)+$EI105,\"\")","v":""},{"$f":"IF(DO104<>\"\",AVERAGE($E104:DO104)+$EI105,\"\")","v":""},{"$f":"IF(DP104<>\"\",AVERAGE($E104:DP104)+$EI105,\"\")","v":""},{"$f":"IF(DQ104<>\"\",AVERAGE($E104:DQ104)+$EI105,\"\")","v":""},{"$f":"IF(DR104<>\"\",AVERAGE($E104:DR104)+$EI105,\"\")","v":""},{"$f":"IF(DS104<>\"\",AVERAGE($E104:DS104)+$EI105,\"\")","v":""},{"$f":"IF(DT104<>\"\",AVERAGE($E104:DT104)+$EI105,\"\")","v":""},{"$f":"IF(DU104<>\"\",AVERAGE($E104:DU104)+$EI105,\"\")","v":""},{"$f":"IF(DV104<>\"\",AVERAGE($E104:DV104)+$EI105,\"\")","v":""},{"$f":"IF(DW104<>\"\",AVERAGE($E104:DW104)+$EI105,\"\")","v":""},{"$f":"IF(DX104<>\"\",AVERAGE($E104:DX104)+$EI105,\"\")","v":""},{"$f":"IF(DY104<>\"\",AVERAGE($E104:DY104)+$EI105,\"\")","v":""},{"$f":"IF(DZ104<>\"\",AVERAGE($E104:DZ104)+$EI105,\"\")","v":""},{"$f":"IF(EA104<>\"\",AVERAGE($E104:EA104)+$EI105,\"\")","v":""},{"$f":"IF(EB104<>\"\",AVERAGE($E104:EB104)+$EI105,\"\")","v":""},{"$f":"IF(EC104<>\"\",AVERAGE($E104:EC104)+$EI105,\"\")","v":""},{"$f":"IF(ED104<>\"\",AVERAGE($E104:ED104)+$EI105,\"\")","v":""},{"$f":"IF(AND(SUM(Tabulka!$AG$64)>0.99,(SUM(Tabulka!$AG$64)<2)),-50000-(SUM(E104:ED104)/COUNT(E105:ED105)),IF(OR(SUM(Tabulka!$AG$64)<2),-90000,SUM(E104:ED104)/COUNT(E105:ED105)))","v":-50141.5},null,{"$f":"IFERROR(SUM(E104:ED104)/COUNT(E104:ED104),)","v":141.5},{"$f":"CONCATENATE(C100,\" \",C101)","v":"Karel Karl"},{"$f":"INDEX(List4!$E$2:$E$17,MATCH(CONCATENATE(C100,\" \",C101),Tabulka1128[Jmeno_prijmeni],0),1)","v":-7.0999999999999987E-8}]
["Karel KarlPočet šipek",{"$f":"CONCATENATE(C100,\" \",C101)","v":"Karel Karl"},null,"Počet šipek",null,null,null,null,null,null,null,null,null,null,null,null,null,null,null,null,null,null,null,null,null,null,null,null,null,null,null,null,null,null,null,null,null,null,null,null,null,null,null,null,null,null,null,null,null,null,null,null,null,null,null,null,null,null,null,null,null,null,null,null,null,null,null,null,null,null,null,null,null,null,null,null,null,null,null,null,null,null,null,null,null,null,null,null,null,null,null,null,null,null,null,null,null,null,null,null,null,null,null,null,null,null,null,null,null,null,null,null,null,null,null,null,null,null,null,null,null,null,null,null,null,null,null,null,null,null,null,null,null,null,{"$f":"IF(AND(SUM(Tabulka!$AG$64)>0.99,(SUM(Tabulka!$AG$64)<2)),-50000+(SUM(E106:ED106)),IF(OR(SUM(Tabulka!$AG$64)<2),-90000,SUM(E106:ED106)))","v":-50000},null,0]
[{"$f":"CONCATENATE($C$108,\" \",$C$109,D107)","v":"Míra KulhanVýhry"},{"$f":"CONCATENATE(C108,\" \",C109)","v":"Míra Kulhan"},{"$f":"Tabulka!B69","v":0},"Výhry",null,null,null,null,null,null,null,null,null,null,null,null,null,null,null,null,null,null,null,null,null,null,null,null,null,null,null,null,null,null,null,null,null,null,null,null,null,null,null,null,null,null,null,null,null,null,null,null,null,null,null,null,null,null,null,null,null,null,null,null,null,null,null,null,null,null,null,null,null,null,null,null,null,null,null,null,null,null,null,null,null,null,null,null,null,null,null,null,null,null,null,null,null,null,null,null,null,null,null,null,null,null,null,null,null,null,null,null,null,null,null,null,null,null,null,null,null,null,null,null,null,null,null,null,null,null,null,null,null,null,{"$f":"IF(AND(SUM(Tabulka!$AG$69)>0.99,(SUM(Tabulka!$AG$69)<2)),-50000+(SUM(E107:ED107)),IF(OR(SUM(Tabulka!$AG$69)<2),-90000,SUM(E107:ED107)))","v":-90000},null,0]
["Míra KulhanProhry","Míra Kulhan",{"$f":"Tabulka!B70","v":"Míra"},"Prohry",null,null,null,null,null,null,null,null,null,null,null,null,null,null,null,null,null,null,null,null,null,null,null,null,null,null,null,null,null,null,null,null,null,null,null,null,null,null,null,null,null,null,null,null,null,null,null,null,null,null,null,null,null,null,null,null,null,null,null,null,null,null,null,null,null,null,null,null,null,null,null,null,null,null,null,null,null,null,null,null,null,null,null,null,null,null,null,null,null,null,null,null,null,null,null,null,null,null,null,null,null,null,null,null,null,null,null,null,null,null,null,null,null,null,null,null,null,null,null,null,null,null,null,null,null,null,null,null,null,null,{"$f":"IF(AND(SUM(Tabulka!$AG$69)>0.99,(SUM(Tabulka!$AG$69)<2)),-50000+(SUM(E108:ED108)),IF(OR(SUM(Tabulka!$AG$69)<2),-90000,SUM(E108:ED108)))","v":-90000},{"$f":"SUM(EE107-EE108)","v":0},0]
["Míra KulhanPlaceno panáků",{"$f":"CONCATENATE(C108,\" \",C109)","v":"Míra Kulhan"},{"$f":"Tabulka!B71","v":"Kulhan"},"Placeno panáků",null,null,null,null,null,null,null,null,null,null,null,null,null,null,null,null,null,null,null,null,null,null,null,null,null,null,null,null,null,null,null,null,null,null,null,null,null,null,null,null,null,null,null,null,null,null,null,null,null,null,null,null,null,null,null,null,null,null,null,null,null,null,null,null,null,null,null,null,null,null,null,null,null,null,null,null,null,null,null,null,null,null,null,null,null,null,null,null,null,null,null,null,null,null,null,null,null,null,null,null,null,null,null,null,null,null,null,null,null,null,null,null,null,null,null,null,null,null,null,null,null,null,null,null,null,null,null,null,null,null,{"$f":"IF(AND(SUM(Tabulka!$AG$69)>0.99,(SUM(Tabulka!$AG$69)<2)),-50000+(SUM(E109:ED109)),IF(OR(SUM(Tabulka!$AG$69)<2),-90000,SUM(E109:ED109)))","v":-90000},null,0]
["Míra KulhanPřehozy",{"$f":"CONCATENATE(C108,\" \",C109)","v":"Míra Kulhan"},{"$f":"Tabulka!B72","v":0},"Přehozy",null,null,null,null,null,null,null,null,null,null,null,null,null,null,null,null,null,null,null,null,null,null,null,null,null,null,null,null,null,null,null,null,null,null,null,null,null,null,null,null,null,null,null,null,null,null,null,null,null,null,null,null,null,null,null,null,null,null,null,null,null,null,null,null,null,null,null,null,null,null,null,null,null,null,null,null,null,null,null,null,null,null,null,null,null,null,null,null,null,null,null,null,null,null,null,null,null,null,null,null,null,null,null,null,null,null,null,null,null,null,null,null,null,null,null,null,null,null,null,null,null,null,null,null,null,null,null,null,null,null,{"$f":"IF(AND(SUM(Tabulka!$AG$69)>0.99,(SUM(Tabulka!$AG$69)<2)),-50000+(SUM(E110:ED110)),IF(OR(SUM(Tabulka!$AG$69)<2),-90000,SUM(E110:ED110)))","v":-90000},null,0]
["Míra KulhanPoč. kol",{"$f":"CONCATENATE(C108,\" \",C109)","v":"Míra Kulhan"},{"$f":"Tabulka!B73","v":0},"Poč. kol",null,null,null,null,null,null,null,null,null,null,null,null,null,null,null,null,null,null,null,null,null,null,null,null,null,null,null,null,null,null,null,null,null,null,null,null,null,null,null,null,null,null,null,null,null,null,null,null,null,null,null,null,null,null,null,null,null,null,null,null,null,null,null,null,null,null,null,null,null,null,null,null,null,null,null,null,null,null,null,null,null,null,null,null,null,null,null,null,null,null,null,null,null,null,null,null,null,null,null,null,null,null,null,null,null,null,null,null,null,null,null,null,null,null,null,null,null,null,null,null,null,null,null,null,null,null,null,null,null,null,{"$f":"IF(AND(SUM(Tabulka!$AG$69)>0.99,(SUM(Tabulka!$AG$69)<2)),-50000+(SUM(E111:ED111)),IF(OR(SUM(Tabulka!$AG$69)<2),-90000,SUM(E111:ED111)))","v":-90000},null,0]
["Míra KulhanPočet konečných bodů",{"$f":"CONCATENATE(C108,\" \",C109)","v":"Míra Kulhan"},null,"Počet konečných bodů",null,null,null,null,null,null,null,null,null,null,null,null,null,null,null,null,null,null,null,null,null,null,null,null,null,null,null,null,null,null,null,null,null,null,null,null,null,null,null,null,null,null,null,null,null,null,null,null,null,null,null,null,null,null,null,null,null,null,null,null,null,null,null,null,null,null,null,null,null,null,null,null,null,null,null,null,null,null,null,null,null,null,null,null,null,null,null,null,null,null,null,null,null,null,null,null,null,null,null,null,null,null,null,null,null,null,null,null,null,null,null,null,null,null,null,null,null,null,null,null,null,null,null,null,null,null,null,null,null,null,{"$f":"IF(AND(SUM(Tabulka!$AG$69)>0.99,(SUM(Tabulka!$AG$69)<2)),-50000-(SUM(E112:ED112)),IF(OR(SUM(Tabulka!$AG$69)<2),-90000,SUM(E112:ED112)))","v":-90000},null,0]
["Míra KulhanPrůměr konečných bodů na kolo",{"$f":"CONCATENATE(C108,\" \",C109)","v":"Míra Kulhan"},null,"Průměr konečných bodů na kolo",{"$f":"IF(E112<>\"\",AVERAGE($E112:E112)+$EI113,\"\")","v":""},{"$f":"IF(F112<>\"\",AVERAGE($E112:F112)+$EI113,\"\")","v":""},{"$f":"IF(G112<>\"\",AVERAGE($E112:G112)+$EI113,\"\")","v":""},{"$f":"IF(H112<>\"\",AVERAGE($E112:H112)+$EI113,\"\")","v":""},{"$f":"IF(I112<>\"\",AVERAGE($E112:I112)+$EI113,\"\")","v":""},{"$f":"IF(J112<>\"\",AVERAGE($E112:J112)+$EI113,\"\")","v":""},{"$f":"IF(K112<>\"\",AVERAGE($E112:K112)+$EI113,\"\")","v":""},{"$f":"IF(L112<>\"\",AVERAGE($E112:L112)+$EI113,\"\")","v":""},{"$f":"IF(M112<>\"\",AVERAGE($E112:M112)+$EI113,\"\")","v":""},{"$f":"IF(N112<>\"\",AVERAGE($E112:N112)+$EI113,\"\")","v":""},{"$f":"IF(O112<>\"\",AVERAGE($E112:O112)+$EI113,\"\")","v":""},{"$f":"IF(P112<>\"\",AVERAGE($E112:P112)+$EI113,\"\")","v":""},{"$f":"IF(Q112<>\"\",AVERAGE($E112:Q112)+$EI113,\"\")","v":""},{"$f":"IF(R112<>\"\",AVERAGE($E112:R112)+$EI113,\"\")","v":""},{"$f":"IF(S112<>\"\",AVERAGE($E112:S112)+$EI113,\"\")","v":""},{"$f":"IF(T112<>\"\",AVERAGE($E112:T112)+$EI113,\"\")","v":""},{"$f":"IF(U112<>\"\",AVERAGE($E112:U112)+$EI113,\"\")","v":""},{"$f":"IF(V112<>\"\",AVERAGE($E112:V112)+$EI113,\"\")","v":""},{"$f":"IF(W112<>\"\",AVERAGE($E112:W112)+$EI113,\"\")","v":""},{"$f":"IF(X112<>\"\",AVERAGE($E112:X112)+$EI113,\"\")","v":""},{"$f":"IF(Y112<>\"\",AVERAGE($E112:Y112)+$EI113,\"\")","v":""},{"$f":"IF(Z112<>\"\",AVERAGE($E112:Z112)+$EI113,\"\")","v":""},{"$f":"IF(AA112<>\"\",AVERAGE($E112:AA112)+$EI113,\"\")","v":""},{"$f":"IF(AB112<>\"\",AVERAGE($E112:AB112)+$EI113,\"\")","v":""},{"$f":"IF(AC112<>\"\",AVERAGE($E112:AC112)+$EI113,\"\")","v":""},{"$f":"IF(AD112<>\"\",AVERAGE($E112:AD112)+$EI113,\"\")","v":""},{"$f":"IF(AE112<>\"\",AVERAGE($E112:AE112)+$EI113,\"\")","v":""},{"$f":"IF(AF112<>\"\",AVERAGE($E112:AF112)+$EI113,\"\")","v":""},{"$f":"IF(AG112<>\"\",AVERAGE($E112:AG112)+$EI113,\"\")","v":""},{"$f":"IF(AH112<>\"\",AVERAGE($E112:AH112)+$EI113,\"\")","v":""},{"$f":"IF(AI112<>\"\",AVERAGE($E112:AI112)+$EI113,\"\")","v":""},{"$f":"IF(AJ112<>\"\",AVERAGE($E112:AJ112)+$EI113,\"\")","v":""},{"$f":"IF(AK112<>\"\",AVERAGE($E112:AK112)+$EI113,\"\")","v":""},{"$f":"IF(AL112<>\"\",AVERAGE($E112:AL112)+$EI113,\"\")","v":""},{"$f":"IF(AM112<>\"\",AVERAGE($E112:AM112)+$EI113,\"\")","v":""},{"$f":"IF(AN112<>\"\",AVERAGE($E112:AN112)+$EI113,\"\")","v":""},{"$f":"IF(AO112<>\"\",AVERAGE($E112:AO112)+$EI113,\"\")","v":""},{"$f":"IF(AP112<>\"\",AVERAGE($E112:AP112)+$EI113,\"\")","v":""},{"$f":"IF(AQ112<>\"\",AVERAGE($E112:AQ112)+$EI113,\"\")","v":""},{"$f":"IF(AR112<>\"\",AVERAGE($E112:AR112)+$EI113,\"\")","v":""},{"$f":"IF(AS112<>\"\",AVERAGE($E112:AS112)+$EI113,\"\")","v":""},{"$f":"IF(AT112<>\"\",AVERAGE($E112:AT112)+$EI113,\"\")","v":""},{"$f":"IF(AU112<>\"\",AVERAGE($E112:AU112)+$EI113,\"\")","v":""},{"$f":"IF(AV112<>\"\",AVERAGE($E112:AV112)+$EI113,\"\")","v":""},{"$f":"IF(AW112<>\"\",AVERAGE($E112:AW112)+$EI113,\"\")","v":""},{"$f":"IF(AX112<>\"\",AVERAGE($E112:AX112)+$EI113,\"\")","v":""},{"$f":"IF(AY112<>\"\",AVERAGE($E112:AY112)+$EI113,\"\")","v":""},{"$f":"IF(AZ112<>\"\",AVERAGE($E112:AZ112)+$EI113,\"\")","v":""},{"$f":"IF(BA112<>\"\",AVERAGE($E112:BA112)+$EI113,\"\")","v":""},{"$f":"IF(BB112<>\"\",AVERAGE($E112:BB112)+$EI113,\"\")","v":""},{"$f":"IF(BC112<>\"\",AVERAGE($E112:BC112)+$EI113,\"\")","v":""},{"$f":"IF(BD112<>\"\",AVERAGE($E112:BD112)+$EI113,\"\")","v":""},{"$f":"IF(BE112<>\"\",AVERAGE($E112:BE112)+$EI113,\"\")","v":""},{"$f":"IF(BF112<>\"\",AVERAGE($E112:BF112)+$EI113,\"\")","v":""},{"$f":"IF(BG112<>\"\",AVERAGE($E112:BG112)+$EI113,\"\")","v":""},{"$f":"IF(BH112<>\"\",AVERAGE($E112:BH112)+$EI113,\"\")","v":""},{"$f":"IF(BI112<>\"\",AVERAGE($E112:BI112)+$EI113,\"\")","v":""},{"$f":"IF(BJ112<>\"\",AVERAGE($E112:BJ112)+$EI113,\"\")","v":""},{"$f":"IF(BK112<>\"\",AVERAGE($E112:BK112)+$EI113,\"\")","v":""},{"$f":"IF(BL112<>\"\",AVERAGE($E112:BL112)+$EI113,\"\")","v":""},{"$f":"IF(BM112<>\"\",AVERAGE($E112:BM112)+$EI113,\"\")","v":""},{"$f":"IF(BN112<>\"\",AVERAGE($E112:BN112)+$EI113,\"\")","v":""},{"$f":"IF(BO112<>\"\",AVERAGE($E112:BO112)+$EI113,\"\")","v":""},{"$f":"IF(BP112<>\"\",AVERAGE($E112:BP112)+$EI113,\"\")","v":""},{"$f":"IF(BQ112<>\"\",AVERAGE($E112:BQ112)+$EI113,\"\")","v":""},{"$f":"IF(BR112<>\"\",AVERAGE($E112:BR112)+$EI113,\"\")","v":""},{"$f":"IF(BS112<>\"\",AVERAGE($E112:BS112)+$EI113,\"\")","v":""},{"$f":"IF(BT112<>\"\",AVERAGE($E112:BT112)+$EI113,\"\")","v":""},{"$f":"IF(BU112<>\"\",AVERAGE($E112:BU112)+$EI113,\"\")","v":""},{"$f":"IF(BV112<>\"\",AVERAGE($E112:BV112)+$EI113,\"\")","v":""},{"$f":"IF(BW112<>\"\",AVERAGE($E112:BW112)+$EI113,\"\")","v":""},{"$f":"IF(BX112<>\"\",AVERAGE($E112:BX112)+$EI113,\"\")","v":""},{"$f":"IF(BY112<>\"\",AVERAGE($E112:BY112)+$EI113,\"\")","v":""},{"$f":"IF(BZ112<>\"\",AVERAGE($E112:BZ112)+$EI113,\"\")","v":""},{"$f":"IF(CA112<>\"\",AVERAGE($E112:CA112)+$EI113,\"\")","v":""},{"$f":"IF(CB112<>\"\",AVERAGE($E112:CB112)+$EI113,\"\")","v":""},{"$f":"IF(CC112<>\"\",AVERAGE($E112:CC112)+$EI113,\"\")","v":""},{"$f":"IF(CD112<>\"\",AVERAGE($E112:CD112)+$EI113,\"\")","v":""},{"$f":"IF(CE112<>\"\",AVERAGE($E112:CE112)+$EI113,\"\")","v":""},{"$f":"IF(CF112<>\"\",AVERAGE($E112:CF112)+$EI113,\"\")","v":""},{"$f":"IF(CG112<>\"\",AVERAGE($E112:CG112)+$EI113,\"\")","v":""},{"$f":"IF(CH112<>\"\",AVERAGE($E112:CH112)+$EI113,\"\")","v":""},{"$f":"IF(CI112<>\"\",AVERAGE($E112:CI112)+$EI113,\"\")","v":""},{"$f":"IF(CJ112<>\"\",AVERAGE($E112:CJ112)+$EI113,\"\")","v":""},{"$f":"IF(CK112<>\"\",AVERAGE($E112:CK112)+$EI113,\"\")","v":""},{"$f":"IF(CL112<>\"\",AVERAGE($E112:CL112)+$EI113,\"\")","v":""},{"$f":"IF(CM112<>\"\",AVERAGE($E112:CM112)+$EI113,\"\")","v":""},{"$f":"IF(CN112<>\"\",AVERAGE($E112:CN112)+$EI113,\"\")","v":""},{"$f":"IF(CO112<>\"\",AVERAGE($E112:CO112)+$EI113,\"\")","v":""},{"$f":"IF(CP112<>\"\",AVERAGE($E112:CP112)+$EI113,\"\")","v":""},{"$f":"IF(CQ112<>\"\",AVERAGE($E112:CQ112)+$EI113,\"\")","v":""},{"$f":"IF(CR112<>\"\",AVERAGE($E112:CR112)+$EI113,\"\")","v":""},{"$f":"IF(CS112<>\"\",AVERAGE($E112:CS112)+$EI113,\"\")","v":""},{"$f":"IF(CT112<>\"\",AVERAGE($E112:CT112)+$EI113,\"\")","v":""},{"$f":"IF(CU112<>\"\",AVERAGE($E112:CU112)+$EI113,\"\")","v":""},{"$f":"IF(CV112<>\"\",AVERAGE($E112:CV112)+$EI113,\"\")","v":""},{"$f":"IF(CW112<>\"\",AVERAGE($E112:CW112)+$EI113,\"\")","v":""},{"$f":"IF(CX112<>\"\",AVERAGE($E112:CX112)+$EI113,\"\")","v":""},{"$f":"IF(CY112<>\"\",AVERAGE($E112:CY112)+$EI113,\"\")","v":""},{"$f":"IF(CZ112<>\"\",AVERAGE($E112:CZ112)+$EI113,\"\")","v":""},{"$f":"IF(DA112<>\"\",AVERAGE($E112:DA112)+$EI113,\"\")","v":""},{"$f":"IF(DB112<>\"\",AVERAGE($E112:DB112)+$EI113,\"\")","v":""},{"$f":"IF(DC112<>\"\",AVERAGE($E112:DC112)+$EI113,\"\")","v":""},{"$f":"IF(DD112<>\"\",AVERAGE($E112:DD112)+$EI113,\"\")","v":""},{"$f":"IF(DE112<>\"\",AVERAGE($E112:DE112)+$EI113,\"\")","v":""},{"$f":"IF(DF112<>\"\",AVERAGE($E112:DF112)+$EI113,\"\")","v":""},{"$f":"IF(DG112<>\"\",AVERAGE($E112:DG112)+$EI113,\"\")","v":""},{"$f":"IF(DH112<>\"\",AVERAGE($E112:DH112)+$EI113,\"\")","v":""},{"$f":"IF(DI112<>\"\",AVERAGE($E112:DI112)+$EI113,\"\")","v":""},{"$f":"IF(DJ112<>\"\",AVERAGE($E112:DJ112)+$EI113,\"\")","v":""},{"$f":"IF(DK112<>\"\",AVERAGE($E112:DK112)+$EI113,\"\")","v":""},{"$f":"IF(DL112<>\"\",AVERAGE($E112:DL112)+$EI113,\"\")","v":""},{"$f":"IF(DM112<>\"\",AVERAGE($E112:DM112)+$EI113,\"\")","v":""},{"$f":"IF(DN112<>\"\",AVERAGE($E112:DN112)+$EI113,\"\")","v":""},{"$f":"IF(DO112<>\"\",AVERAGE($E112:DO112)+$EI113,\"\")","v":""},{"$f":"IF(DP112<>\"\",AVERAGE($E112:DP112)+$EI113,\"\")","v":""},{"$f":"IF(DQ112<>\"\",AVERAGE($E112:DQ112)+$EI113,\"\")","v":""},{"$f":"IF(DR112<>\"\",AVERAGE($E112:DR112)+$EI113,\"\")","v":""},{"$f":"IF(DS112<>\"\",AVERAGE($E112:DS112)+$EI113,\"\")","v":""},{"$f":"IF(DT112<>\"\",AVERAGE($E112:DT112)+$EI113,\"\")","v":""},{"$f":"IF(DU112<>\"\",AVERAGE($E112:DU112)+$EI113,\"\")","v":""},{"$f":"IF(DV112<>\"\",AVERAGE($E112:DV112)+$EI113,\"\")","v":""},{"$f":"IF(DW112<>\"\",AVERAGE($E112:DW112)+$EI113,\"\")","v":""},{"$f":"IF(DX112<>\"\",AVERAGE($E112:DX112)+$EI113,\"\")","v":""},{"$f":"IF(DY112<>\"\",AVERAGE($E112:DY112)+$EI113,\"\")","v":""},{"$f":"IF(DZ112<>\"\",AVERAGE($E112:DZ112)+$EI113,\"\")","v":""},{"$f":"IF(EA112<>\"\",AVERAGE($E112:EA112)+$EI113,\"\")","v":""},{"$f":"IF(EB112<>\"\",AVERAGE($E112:EB112)+$EI113,\"\")","v":""},{"$f":"IF(EC112<>\"\",AVERAGE($E112:EC112)+$EI113,\"\")","v":""},{"$f":"IF(ED112<>\"\",AVERAGE($E112:ED112)+$EI113,\"\")","v":""},{"$f":"IF(AND(SUM(Tabulka!$AG$69)>0.99,(SUM(Tabulka!$AG$69)<2)),-50000+(SUM(E112:ED112)/COUNT(E113:ED113)),IF(OR(SUM(Tabulka!$AG$69)<2),-90000,SUM(E112:ED112)/COUNT(E113:ED113)))","v":-90000},null,{"$f":"IFERROR(SUM(E112:ED112)/COUNT(E112:ED112),)","v":0},{"$f":"CONCATENATE(C108,\" \",C109)","v":"Míra Kulhan"},{"$f":"INDEX(List4!$E$2:$E$17,MATCH(CONCATENATE(C108,\" \",C109),Tabulka1128[Jmeno_prijmeni],0),1)","v":-9.0999999999999981E-8}]
["Míra KulhanPočet šipek",{"$f":"CONCATENATE(C108,\" \",C109)","v":"Míra Kulhan"},null,"Počet šipek",null,null,null,null,null,null,null,null,null,null,null,null,null,null,null,null,null,null,null,null,null,null,null,null,null,null,null,null,null,null,null,null,null,null,null,null,null,null,null,null,null,null,null,null,null,null,null,null,null,null,null,null,null,null,null,null,null,null,null,null,null,null,null,null,null,null,null,null,null,null,null,null,null,null,null,null,null,null,null,null,null,null,null,null,null,null,null,null,null,null,null,null,null,null,null,null,null,null,null,null,null,null,null,null,null,null,null,null,null,null,null,null,null,null,null,null,null,null,null,null,null,null,null,null,null,null,null,null,null,null,{"$f":"IF(AND(SUM(Tabulka!$AG$69)>0.99,(SUM(Tabulka!$AG$69)<2)),-50000+(SUM(E114:ED114)),IF(OR(SUM(Tabulka!$AG$69)<2),-90000,SUM(E114:ED114)))","v":-90000},null,0]
[{"$f":"CONCATENATE($C$116,\" \",$C$117,D115)","v":"Zdenek KanaďanVýhry"},{"$f":"CONCATENATE(C116,\" \",C117)","v":"Zdenek Kanaďan"},{"$f":"Tabulka!B74","v":0},"Výhry",null,null,null,null,null,null,null,null,null,null,null,null,null,null,null,null,null,null,null,null,null,null,null,null,null,null,null,null,null,null,null,null,null,null,null,null,null,null,null,null,null,null,null,null,null,null,null,null,null,null,null,null,null,null,null,null,null,null,null,null,null,null,null,null,null,1,null,null,null,null,null,null,null,null,null,null,null,null,null,null,null,null,null,null,null,null,null,null,null,null,null,null,null,null,null,null,null,null,null,null,null,null,null,null,null,null,null,null,null,null,null,null,null,null,null,null,null,null,null,null,null,null,null,null,null,null,null,null,null,null,{"$f":"IF(AND(SUM(Tabulka!$AG$74)>0.99,(SUM(Tabulka!$AG$74)<2)),-50000+(SUM(E115:ED115)),IF(OR(SUM(Tabulka!$AG$74)<2),-90000,SUM(E115:ED115)))","v":-49999},null,1]
["Zdenek KanaďanProhry",{"$f":"CONCATENATE(C116,\" \",C117)","v":"Zdenek Kanaďan"},{"$f":"Tabulka!B75","v":"Zdenek"},"Prohry",null,null,null,null,null,null,null,null,null,null,null,null,null,null,null,null,null,null,null,null,null,null,null,null,null,null,null,null,null,null,null,null,null,null,null,null,null,null,null,null,null,null,null,null,null,null,null,null,null,null,null,null,null,null,null,null,null,null,null,null,null,null,null,null,null,1,null,null,null,null,null,null,null,null,null,null,null,null,null,null,null,null,null,null,null,null,null,null,null,null,null,null,null,null,null,null,null,null,null,null,null,null,null,null,null,null,null,null,null,null,null,null,null,null,null,null,null,null,null,null,null,null,null,null,null,null,null,null,null,null,{"$f":"IF(AND(SUM(Tabulka!$AG$74)>0.99,(SUM(Tabulka!$AG$74)<2)),-50000+(SUM(E116:ED116)),IF(OR(SUM(Tabulka!$AG$74)<2),-90000,SUM(E116:ED116)))","v":-49999},{"$f":"SUM(EE115-EE116)","v":0},1]
["Zdenek KanaďanPlaceno panáků",{"$f":"CONCATENATE(C116,\" \",C117)","v":"Zdenek Kanaďan"},{"$f":"Tabulka!B76","v":"Kanaďan"},"Placeno panáků",null,null,null,null,null,null,null,null,null,null,null,null,null,null,null,null,null,null,null,null,null,null,null,null,null,null,null,null,null,null,null,null,null,null,null,null,null,null,null,null,null,null,null,null,null,null,null,null,null,null,null,null,null,null,null,null,null,null,null,null,null,null,null,null,null,1,null,null,null,null,null,null,null,null,null,null,null,null,null,null,null,null,null,null,null,null,null,null,null,null,null,null,null,null,null,null,null,null,null,null,null,null,null,null,null,null,null,null,null,null,null,null,null,null,null,null,null,null,null,null,null,null,null,null,null,null,null,null,null,null,{"$f":"IF(AND(SUM(Tabulka!$AG$74)>0.99,(SUM(Tabulka!$AG$74)<2)),-50000+(SUM(E117:ED117)),IF(OR(SUM(Tabulka!$AG$74)<2),-90000,SUM(E117:ED117)))","v":-49999},null,1]
["Zdenek KanaďanPřehozy",{"$f":"CONCATENATE(C116,\" \",C117)","v":"Zdenek Kanaďan"},{"$f":"Tabulka!B77","v":0},"Přehozy",null,null,null,null,null,null,null,null,null,null,null,null,null,null,null,null,null,null,null,null,null,null,null,null,null,null,null,null,null,null,null,null,null,null,null,null,null,null,null,null,null,null,null,null,null,null,null,null,null,null,null,null,null,null,null,null,null,null,null,null,null,null,null,null,null,0,null,null,null,null,null,null,null,null,null,null,null,null,null,null,null,null,null,null,null,null,null,null,null,null,null,null,null,null,null,null,null,null,null,null,null,null,null,null,null,null,null,null,null,null,null,null,null,null,null,null,null,null,null,null,null,null,null,null,null,null,null,null,null,null,{"$f":"IF(AND(SUM(Tabulka!$AG$74)>0.99,(SUM(Tabulka!$AG$74)<2)),-50000+(SUM(E118:ED118)),IF(OR(SUM(Tabulka!$AG$74)<2),-90000,SUM(E118:ED118)))","v":-50000},null,0]
["Zdenek KanaďanPoč. kol",{"$f":"CONCATENATE(C116,\" \",C117)","v":"Zdenek Kanaďan"},{"$f":"Tabulka!B78","v":0},"Poč. kol",null,null,null,null,null,null,null,null,null,null,null,null,null,null,null,null,null,null,null,null,null,null,null,null,null,null,null,null,null,null,null,null,null,null,null,null,null,null,null,null,null,null,null,null,null,null,null,null,null,null,null,null,null,null,null,null,null,null,null,null,null,null,null,null,null,5,null,null,null,null,null,null,null,null,null,null,null,null,null,null,null,null,null,null,null,null,null,null,null,null,null,null,null,null,null,null,null,null,null,null,null,null,null,null,null,null,null,null,null,null,null,null,null,null,null,null,null,null,null,null,null,null,null,null,null,null,null,null,null,null,{"$f":"IF(AND(SUM(Tabulka!$AG$74)>0.99,(SUM(Tabulka!$AG$74)<2)),-50000+(SUM(E119:ED119)),IF(OR(SUM(Tabulka!$AG$74)<2),-90000,SUM(E119:ED119)))","v":-49995},null,5]
["Zdenek KanaďanPočet konečných bodů",{"$f":"CONCATENATE(C116,\" \",C117)","v":"Zdenek Kanaďan"},null,"Počet konečných bodů",null,null,null,null,null,null,null,null,null,null,null,null,null,null,null,null,null,null,null,null,null,null,null,null,null,null,null,null,null,null,null,null,null,null,null,null,null,null,null,null,null,null,null,null,null,null,null,null,null,null,null,null,null,null,null,null,null,null,null,null,null,null,null,null,null,82,0,111,50,89,null,null,null,null,null,null,null,null,null,null,null,null,null,null,null,null,null,null,null,null,null,null,null,null,null,null,null,null,null,null,null,null,null,null,null,null,null,null,null,null,null,null,null,null,null,null,null,null,null,null,null,null,null,null,null,null,null,null,null,null,{"$f":"IF(AND(SUM(Tabulka!$AG$74)>0.99,(SUM(Tabulka!$AG$74)<2)),-50000-(SUM(E120:ED120)),IF(OR(SUM(Tabulka!$AG$74)<2),-90000,SUM(E120:ED120)))","v":-50332},null,332]
["Zdenek KanaďanPrůměr konečných bodů na kolo",{"$f":"CONCATENATE(C116,\" \",C117)","v":"Zdenek Kanaďan"},null,"Průměr konečných bodů na kolo",{"$f":"IF(E120<>\"\",AVERAGE($E120:E120)+$EI121,\"\")","v":""},{"$f":"IF(F120<>\"\",AVERAGE($E120:F120)+$EI121,\"\")","v":""},{"$f":"IF(G120<>\"\",AVERAGE($E120:G120)+$EI121,\"\")","v":""},{"$f":"IF(H120<>\"\",AVERAGE($E120:H120)+$EI121,\"\")","v":""},{"$f":"IF(I120<>\"\",AVERAGE($E120:I120)+$EI121,\"\")","v":""},{"$f":"IF(J120<>\"\",AVERAGE($E120:J120)+$EI121,\"\")","v":""},{"$f":"IF(K120<>\"\",AVERAGE($E120:K120)+$EI121,\"\")","v":""},{"$f":"IF(L120<>\"\",AVERAGE($E120:L120)+$EI121,\"\")","v":""},{"$f":"IF(M120<>\"\",AVERAGE($E120:M120)+$EI121,\"\")","v":""},{"$f":"IF(N120<>\"\",AVERAGE($E120:N120)+$EI121,\"\")","v":""},{"$f":"IF(O120<>\"\",AVERAGE($E120:O120)+$EI121,\"\")","v":""},{"$f":"IF(P120<>\"\",AVERAGE($E120:P120)+$EI121,\"\")","v":""},{"$f":"IF(Q120<>\"\",AVERAGE($E120:Q120)+$EI121,\"\")","v":""},{"$f":"IF(R120<>\"\",AVERAGE($E120:R120)+$EI121,\"\")","v":""},{"$f":"IF(S120<>\"\",AVERAGE($E120:S120)+$EI121,\"\")","v":""},{"$f":"IF(T120<>\"\",AVERAGE($E120:T120)+$EI121,\"\")","v":""},{"$f":"IF(U120<>\"\",AVERAGE($E120:U120)+$EI121,\"\")","v":""},{"$f":"IF(V120<>\"\",AVERAGE($E120:V120)+$EI121,\"\")","v":""},{"$f":"IF(W120<>\"\",AVERAGE($E120:W120)+$EI121,\"\")","v":""},{"$f":"IF(X120<>\"\",AVERAGE($E120:X120)+$EI121,\"\")","v":""},{"$f":"IF(Y120<>\"\",AVERAGE($E120:Y120)+$EI121,\"\")","v":""},{"$f":"IF(Z120<>\"\",AVERAGE($E120:Z120)+$EI121,\"\")","v":""},{"$f":"IF(AA120<>\"\",AVERAGE($E120:AA120)+$EI121,\"\")","v":""},{"$f":"IF(AB120<>\"\",AVERAGE($E120:AB120)+$EI121,\"\")","v":""},{"$f":"IF(AC120<>\"\",AVERAGE($E120:AC120)+$EI121,\"\")","v":""},{"$f":"IF(AD120<>\"\",AVERAGE($E120:AD120)+$EI121,\"\")","v":""},{"$f":"IF(AE120<>\"\",AVERAGE($E120:AE120)+$EI121,\"\")","v":""},{"$f":"IF(AF120<>\"\",AVERAGE($E120:AF120)+$EI121,\"\")","v":""},{"$f":"IF(AG120<>\"\",AVERAGE($E120:AG120)+$EI121,\"\")","v":""},{"$f":"IF(AH120<>\"\",AVERAGE($E120:AH120)+$EI121,\"\")","v":""},{"$f":"IF(AI120<>\"\",AVERAGE($E120:AI120)+$EI121,\"\")","v":""},{"$f":"IF(AJ120<>\"\",AVERAGE($E120:AJ120)+$EI121,\"\")","v":""},{"$f":"IF(AK120<>\"\",AVERAGE($E120:AK120)+$EI121,\"\")","v":""},{"$f":"IF(AL120<>\"\",AVERAGE($E120:AL120)+$EI121,\"\")","v":""},{"$f":"IF(AM120<>\"\",AVERAGE($E120:AM120)+$EI121,\"\")","v":""},{"$f":"IF(AN120<>\"\",AVERAGE($E120:AN120)+$EI121,\"\")","v":""},{"$f":"IF(AO120<>\"\",AVERAGE($E120:AO120)+$EI121,\"\")","v":""},{"$f":"IF(AP120<>\"\",AVERAGE($E120:AP120)+$EI121,\"\")","v":""},{"$f":"IF(AQ120<>\"\",AVERAGE($E120:AQ120)+$EI121,\"\")","v":""},{"$f":"IF(AR120<>\"\",AVERAGE($E120:AR120)+$EI121,\"\")","v":""},{"$f":"IF(AS120<>\"\",AVERAGE($E120:AS120)+$EI121,\"\")","v":""},{"$f":"IF(AT120<>\"\",AVERAGE($E120:AT120)+$EI121,\"\")","v":""},{"$f":"IF(AU120<>\"\",AVERAGE($E120:AU120)+$EI121,\"\")","v":""},{"$f":"IF(AV120<>\"\",AVERAGE($E120:AV120)+$EI121,\"\")","v":""},{"$f":"IF(AW120<>\"\",AVERAGE($E120:AW120)+$EI121,\"\")","v":""},{"$f":"IF(AX120<>\"\",AVERAGE($E120:AX120)+$EI121,\"\")","v":""},{"$f":"IF(AY120<>\"\",AVERAGE($E120:AY120)+$EI121,\"\")","v":""},{"$f":"IF(AZ120<>\"\",AVERAGE($E120:AZ120)+$EI121,\"\")","v":""},{"$f":"IF(BA120<>\"\",AVERAGE($E120:BA120)+$EI121,\"\")","v":""},{"$f":"IF(BB120<>\"\",AVERAGE($E120:BB120)+$EI121,\"\")","v":""},{"$f":"IF(BC120<>\"\",AVERAGE($E120:BC120)+$EI121,\"\")","v":""},{"$f":"IF(BD120<>\"\",AVERAGE($E120:BD120)+$EI121,\"\")","v":""},{"$f":"IF(BE120<>\"\",AVERAGE($E120:BE120)+$EI121,\"\")","v":""},{"$f":"IF(BF120<>\"\",AVERAGE($E120:BF120)+$EI121,\"\")","v":""},{"$f":"IF(BG120<>\"\",AVERAGE($E120:BG120)+$EI121,\"\")","v":""},{"$f":"IF(BH120<>\"\",AVERAGE($E120:BH120)+$EI121,\"\")","v":""},{"$f":"IF(BI120<>\"\",AVERAGE($E120:BI120)+$EI121,\"\")","v":""},{"$f":"IF(BJ120<>\"\",AVERAGE($E120:BJ120)+$EI121,\"\")","v":""},{"$f":"IF(BK120<>\"\",AVERAGE($E120:BK120)+$EI121,\"\")","v":""},{"$f":"IF(BL120<>\"\",AVERAGE($E120:BL120)+$EI121,\"\")","v":""},{"$f":"IF(BM120<>\"\",AVERAGE($E120:BM120)+$EI121,\"\")","v":""},{"$f":"IF(BN120<>\"\",AVERAGE($E120:BN120)+$EI121,\"\")","v":""},{"$f":"IF(BO120<>\"\",AVERAGE($E120:BO120)+$EI121,\"\")","v":""},{"$f":"IF(BP120<>\"\",AVERAGE($E120:BP120)+$EI121,\"\")","v":""},{"$f":"IF(BQ120<>\"\",AVERAGE($E120:BQ120)+$EI121,\"\")","v":""},{"$f":"IF(BR120<>\"\",AVERAGE($E120:BR120)+$EI121,\"\")","v":81.999999939000006},{"$f":"IF(BS120<>\"\",AVERAGE($E120:BS120)+$EI121,\"\")","v":40.999999938999999},{"$f":"IF(BT120<>\"\",AVERAGE($E120:BT120)+$EI121,\"\")","v":64.333333272333334},{"$f":"IF(BU120<>\"\",AVERAGE($E120:BU120)+$EI121,\"\")","v":60.749999938999999},{"$f":"IF(BV120<>\"\",AVERAGE($E120:BV120)+$EI121,\"\")","v":66.399999939000011},{"$f":"IF(BW120<>\"\",AVERAGE($E120:BW120)+$EI121,\"\")","v":""},{"$f":"IF(BX120<>\"\",AVERAGE($E120:BX120)+$EI121,\"\")","v":""},{"$f":"IF(BY120<>\"\",AVERAGE($E120:BY120)+$EI121,\"\")","v":""},{"$f":"IF(BZ120<>\"\",AVERAGE($E120:BZ120)+$EI121,\"\")","v":""},{"$f":"IF(CA120<>\"\",AVERAGE($E120:CA120)+$EI121,\"\")","v":""},{"$f":"IF(CB120<>\"\",AVERAGE($E120:CB120)+$EI121,\"\")","v":""},{"$f":"IF(CC120<>\"\",AVERAGE($E120:CC120)+$EI121,\"\")","v":""},{"$f":"IF(CD120<>\"\",AVERAGE($E120:CD120)+$EI121,\"\")","v":""},{"$f":"IF(CE120<>\"\",AVERAGE($E120:CE120)+$EI121,\"\")","v":""},{"$f":"IF(CF120<>\"\",AVERAGE($E120:CF120)+$EI121,\"\")","v":""},{"$f":"IF(CG120<>\"\",AVERAGE($E120:CG120)+$EI121,\"\")","v":""},{"$f":"IF(CH120<>\"\",AVERAGE($E120:CH120)+$EI121,\"\")","v":""},{"$f":"IF(CI120<>\"\",AVERAGE($E120:CI120)+$EI121,\"\")","v":""},{"$f":"IF(CJ120<>\"\",AVERAGE($E120:CJ120)+$EI121,\"\")","v":""},{"$f":"IF(CK120<>\"\",AVERAGE($E120:CK120)+$EI121,\"\")","v":""},{"$f":"IF(CL120<>\"\",AVERAGE($E120:CL120)+$EI121,\"\")","v":""},{"$f":"IF(CM120<>\"\",AVERAGE($E120:CM120)+$EI121,\"\")","v":""},{"$f":"IF(CN120<>\"\",AVERAGE($E120:CN120)+$EI121,\"\")","v":""},{"$f":"IF(CO120<>\"\",AVERAGE($E120:CO120)+$EI121,\"\")","v":""},{"$f":"IF(CP120<>\"\",AVERAGE($E120:CP120)+$EI121,\"\")","v":""},{"$f":"IF(CQ120<>\"\",AVERAGE($E120:CQ120)+$EI121,\"\")","v":""},{"$f":"IF(CR120<>\"\",AVERAGE($E120:CR120)+$EI121,\"\")","v":""},{"$f":"IF(CS120<>\"\",AVERAGE($E120:CS120)+$EI121,\"\")","v":""},{"$f":"IF(CT120<>\"\",AVERAGE($E120:CT120)+$EI121,\"\")","v":""},{"$f":"IF(CU120<>\"\",AVERAGE($E120:CU120)+$EI121,\"\")","v":""},{"$f":"IF(CV120<>\"\",AVERAGE($E120:CV120)+$EI121,\"\")","v":""},{"$f":"IF(CW120<>\"\",AVERAGE($E120:CW120)+$EI121,\"\")","v":""},{"$f":"IF(CX120<>\"\",AVERAGE($E120:CX120)+$EI121,\"\")","v":""},{"$f":"IF(CY120<>\"\",AVERAGE($E120:CY120)+$EI121,\"\")","v":""},{"$f":"IF(CZ120<>\"\",AVERAGE($E120:CZ120)+$EI121,\"\")","v":""},{"$f":"IF(DA120<>\"\",AVERAGE($E120:DA120)+$EI121,\"\")","v":""},{"$f":"IF(DB120<>\"\",AVERAGE($E120:DB120)+$EI121,\"\")","v":""},{"$f":"IF(DC120<>\"\",AVERAGE($E120:DC120)+$EI121,\"\")","v":""},{"$f":"IF(DD120<>\"\",AVERAGE($E120:DD120)+$EI121,\"\")","v":""},{"$f":"IF(DE120<>\"\",AVERAGE($E120:DE120)+$EI121,\"\")","v":""},{"$f":"IF(DF120<>\"\",AVERAGE($E120:DF120)+$EI121,\"\")","v":""},{"$f":"IF(DG120<>\"\",AVERAGE($E120:DG120)+$EI121,\"\")","v":""},{"$f":"IF(DH120<>\"\",AVERAGE($E120:DH120)+$EI121,\"\")","v":""},{"$f":"IF(DI120<>\"\",AVERAGE($E120:DI120)+$EI121,\"\")","v":""},{"$f":"IF(DJ120<>\"\",AVERAGE($E120:DJ120)+$EI121,\"\")","v":""},{"$f":"IF(DK120<>\"\",AVERAGE($E120:DK120)+$EI121,\"\")","v":""},{"$f":"IF(DL120<>\"\",AVERAGE($E120:DL120)+$EI121,\"\")","v":""},{"$f":"IF(DM120<>\"\",AVERAGE($E120:DM120)+$EI121,\"\")","v":""},{"$f":"IF(DN120<>\"\",AVERAGE($E120:DN120)+$EI121,\"\")","v":""},{"$f":"IF(DO120<>\"\",AVERAGE($E120:DO120)+$EI121,\"\")","v":""},{"$f":"IF(DP120<>\"\",AVERAGE($E120:DP120)+$EI121,\"\")","v":""},{"$f":"IF(DQ120<>\"\",AVERAGE($E120:DQ120)+$EI121,\"\")","v":""},{"$f":"IF(DR120<>\"\",AVERAGE($E120:DR120)+$EI121,\"\")","v":""},{"$f":"IF(DS120<>\"\",AVERAGE($E120:DS120)+$EI121,\"\")","v":""},{"$f":"IF(DT120<>\"\",AVERAGE($E120:DT120)+$EI121,\"\")","v":""},{"$f":"IF(DU120<>\"\",AVERAGE($E120:DU120)+$EI121,\"\")","v":""},{"$f":"IF(DV120<>\"\",AVERAGE($E120:DV120)+$EI121,\"\")","v":""},{"$f":"IF(DW120<>\"\",AVERAGE($E120:DW120)+$EI121,\"\")","v":""},{"$f":"IF(DX120<>\"\",AVERAGE($E120:DX120)+$EI121,\"\")","v":""},{"$f":"IF(DY120<>\"\",AVERAGE($E120:DY120)+$EI121,\"\")","v":""},{"$f":"IF(DZ120<>\"\",AVERAGE($E120:DZ120)+$EI121,\"\")","v":""},{"$f":"IF(EA120<>\"\",AVERAGE($E120:EA120)+$EI121,\"\")","v":""},{"$f":"IF(EB120<>\"\",AVERAGE($E120:EB120)+$EI121,\"\")","v":""},{"$f":"IF(EC120<>\"\",AVERAGE($E120:EC120)+$EI121,\"\")","v":""},{"$f":"IF(ED120<>\"\",AVERAGE($E120:ED120)+$EI121,\"\")","v":""},{"$f":"IF(AND(SUM(Tabulka!$AG$74)>0.99,(SUM(Tabulka!$AG$74)<2)),-50000+(SUM(E120:ED120)/COUNT(E121:ED121)),IF(OR(SUM(Tabulka!$AG$74)<2),-90000,SUM(E120:ED120)/COUNT(E121:ED121)))","v":-49933.599999999999},null,{"$f":"IFERROR(SUM(E120:ED120)/COUNT(E120:ED120),)","v":66.400000000000006},{"$f":"CONCATENATE(C116,\" \",C117)","v":"Zdenek Kanaďan"},{"$f":"INDEX(List4!$E$2:$E$17,MATCH(CONCATENATE(C116,\" \",C117),Tabulka1128[Jmeno_prijmeni],0),1)","v":-6.099999999999999E-8}]
["Zdenek KanaďanPočet šipek",{"$f":"CONCATENATE(C116,\" \",C117)","v":"Zdenek Kanaďan"},null,"Počet šipek",null,null,null,null,null,null,null,null,null,null,null,null,null,null,null,null,null,null,null,null,null,null,null,null,null,null,null,null,null,null,null,null,null,null,null,null,null,null,null,null,null,null,null,null,null,null,null,null,null,null,null,null,null,null,null,null,null,null,null,null,null,null,null,null,null,null,null,null,null,null,null,null,null,null,null,null,null,null,null,null,null,null,null,null,null,null,null,null,null,null,null,null,null,null,null,null,null,null,null,null,null,null,null,null,null,null,null,null,null,null,null,null,null,null,null,null,null,null,null,null,null,null,null,null,null,null,null,null,null,null,{"$f":"IF(AND(SUM(Tabulka!$AG$74)>0.99,(SUM(Tabulka!$AG$74)<2)),-50000+(SUM(E122:ED122)),IF(OR(SUM(Tabulka!$AG$74)<2),-90000,SUM(E122:ED122)))","v":-50000},null,0]
[{"$f":"CONCATENATE($C$124,\" \",$C$125,D123)","v":"Iva IvankaVýhry"},{"$f":"CONCATENATE(C124,\" \",C125)","v":"Iva Ivanka"},{"$f":"Tabulka!B79","v":0},"Výhry",null,null,null,null,null,null,null,null,null,null,null,null,null,null,null,null,null,null,null,null,null,null,null,null,null,null,null,null,null,null,null,null,null,null,null,null,null,null,null,null,null,null,null,null,null,null,null,null,null,null,null,null,null,null,null,null,null,null,null,null,null,null,null,null,null,null,null,null,null,null,null,null,null,null,null,null,null,null,null,null,null,null,null,null,null,null,null,null,null,null,null,null,null,null,null,null,null,null,null,null,null,null,null,null,null,null,null,null,null,null,null,null,null,null,null,null,null,null,null,null,null,null,null,null,null,null,null,null,null,null,{"$f":"IF(AND(SUM(Tabulka!$AG$79)>0.99,(SUM(Tabulka!$AG$79)<2)),-50000+(SUM(E123:ED123)),IF(OR(SUM(Tabulka!$AG$79)<2),-90000,SUM(E123:ED123)))","v":-90000},null,0]
["Iva IvankaProhry","Iva Ivanka",{"$f":"Tabulka!B80","v":"Iva"},"Prohry",null,null,null,null,null,null,null,null,null,null,null,null,null,null,null,null,null,null,null,null,null,null,null,null,null,null,null,null,null,null,null,null,null,null,null,null,null,null,null,null,null,null,null,null,null,null,null,null,null,null,null,null,null,null,null,null,null,null,null,null,null,null,null,null,null,null,null,null,null,null,null,null,null,null,null,null,null,null,null,null,null,null,null,null,null,null,null,null,null,null,null,null,null,null,null,null,null,null,null,null,null,null,null,null,null,null,null,null,null,null,null,null,null,null,null,null,null,null,null,null,null,null,null,null,null,null,null,null,null,null,{"$f":"IF(AND(SUM(Tabulka!$AG$79)>0.99,(SUM(Tabulka!$AG$79)<2)),-50000+(SUM(E124:ED124)),IF(OR(SUM(Tabulka!$AG$79)<2),-90000,SUM(E124:ED124)))","v":-90000},{"$f":"SUM(EE123-EE124)","v":0},0]
["Iva IvankaPlaceno panáků",{"$f":"CONCATENATE(C124,\" \",C125)","v":"Iva Ivanka"},{"$f":"Tabulka!B81","v":"Ivanka"},"Placeno panáků",null,null,null,null,null,null,null,null,null,null,null,null,null,null,null,null,null,null,null,null,null,null,null,null,null,null,null,null,null,null,null,null,null,null,null,null,null,null,null,null,null,null,null,null,null,null,null,null,null,null,null,null,null,null,null,null,null,null,null,null,null,null,null,null,null,null,null,null,null,null,null,null,null,null,null,null,null,null,null,null,null,null,null,null,null,null,null,null,null,null,null,null,null,null,null,null,null,null,null,null,null,null,null,null,null,null,null,null,null,null,null,null,null,null,null,null,null,null,null,null,null,null,null,null,null,null,null,null,null,null,{"$f":"IF(AND(SUM(Tabulka!$AG$79)>0.99,(SUM(Tabulka!$AG$79)<2)),-50000+(SUM(E125:ED125)),IF(OR(SUM(Tabulka!$AG$79)<2),-90000,SUM(E125:ED125)))","v":-90000},null,0]
["Iva IvankaPřehozy",{"$f":"CONCATENATE(C124,\" \",C125)","v":"Iva Ivanka"},{"$f":"Tabulka!B82","v":0},"Přehozy",null,null,null,null,null,null,null,null,null,null,null,null,null,null,null,null,null,null,null,null,null,null,null,null,null,null,null,null,null,null,null,null,null,null,null,null,null,null,null,null,null,null,null,null,null,null,null,null,null,null,null,null,null,null,null,null,null,null,null,null,null,null,null,null,null,null,null,null,null,null,null,null,null,null,null,null,null,null,null,null,null,null,null,null,null,null,null,null,null,null,null,null,null,null,null,null,null,null,null,null,null,null,null,null,null,null,null,null,null,null,null,null,null,null,null,null,null,null,null,null,null,null,null,null,null,null,null,null,null,null,{"$f":"IF(AND(SUM(Tabulka!$AG$79)>0.99,(SUM(Tabulka!$AG$79)<2)),-50000+(SUM(E126:ED126)),IF(OR(SUM(Tabulka!$AG$79)<2),-90000,SUM(E126:ED126)))","v":-90000},null,0]
["Iva IvankaPoč. kol",{"$f":"CONCATENATE(C124,\" \",C125)","v":"Iva Ivanka"},{"$f":"Tabulka!B83","v":0},"Poč. kol",null,null,null,null,null,null,null,null,null,null,null,null,null,null,null,null,null,null,null,null,null,null,null,null,null,null,null,null,null,null,null,null,null,null,null,null,null,null,null,null,null,null,null,null,null,null,null,null,null,null,null,null,null,null,null,null,null,null,null,null,null,null,null,null,null,null,null,null,null,null,null,null,null,null,null,null,null,null,null,null,null,null,null,null,null,null,null,null,null,null,null,null,null,null,null,null,null,null,null,null,null,null,null,null,null,null,null,null,null,null,null,null,null,null,null,null,null,null,null,null,null,null,null,null,null,null,null,null,null,null,{"$f":"IF(AND(SUM(Tabulka!$AG$79)>0.99,(SUM(Tabulka!$AG$79)<2)),-50000+(SUM(E127:ED127)),IF(OR(SUM(Tabulka!$AG$79)<2),-90000,SUM(E127:ED127)))","v":-90000},null,0]
["Iva IvankaPočet konečných bodů",{"$f":"CONCATENATE(C124,\" \",C125)","v":"Iva Ivanka"},null,"Počet konečných bodů",null,null,null,null,null,null,null,null,null,null,null,null,null,null,null,null,null,null,null,null,null,null,null,null,null,null,null,null,null,null,null,null,null,null,null,null,null,null,null,null,null,null,null,null,null,null,null,null,null,null,null,null,null,null,null,null,null,null,null,null,null,null,null,null,null,null,null,null,null,null,null,null,null,null,null,null,null,null,null,null,null,null,null,null,null,null,null,null,null,null,null,null,null,null,null,null,null,null,null,null,null,null,null,null,null,null,null,null,null,null,null,null,null,null,null,null,null,null,null,null,null,null,null,null,null,null,null,null,null,null,{"$f":"IF(AND(SUM(Tabulka!$AG$79)>0.99,(SUM(Tabulka!$AG$79)<2)),-50000-(SUM(E128:ED128)),IF(OR(SUM(Tabulka!$AG$79)<2),-90000,SUM(E128:ED128)))","v":-90000},null,0]
["Iva IvankaPrůměr konečných bodů na kolo",{"$f":"CONCATENATE(C124,\" \",C125)","v":"Iva Ivanka"},null,"Průměr konečných bodů na kolo",{"$f":"IF(E128<>\"\",AVERAGE($E128:E128)+$EI129,\"\")","v":""},{"$f":"IF(F128<>\"\",AVERAGE($E128:F128)+$EI129,\"\")","v":""},{"$f":"IF(G128<>\"\",AVERAGE($E128:G128)+$EI129,\"\")","v":""},{"$f":"IF(H128<>\"\",AVERAGE($E128:H128)+$EI129,\"\")","v":""},{"$f":"IF(I128<>\"\",AVERAGE($E128:I128)+$EI129,\"\")","v":""},{"$f":"IF(J128<>\"\",AVERAGE($E128:J128)+$EI129,\"\")","v":""},{"$f":"IF(K128<>\"\",AVERAGE($E128:K128)+$EI129,\"\")","v":""},{"$f":"IF(L128<>\"\",AVERAGE($E128:L128)+$EI129,\"\")","v":""},{"$f":"IF(M128<>\"\",AVERAGE($E128:M128)+$EI129,\"\")","v":""},{"$f":"IF(N128<>\"\",AVERAGE($E128:N128)+$EI129,\"\")","v":""},{"$f":"IF(O128<>\"\",AVERAGE($E128:O128)+$EI129,\"\")","v":""},{"$f":"IF(P128<>\"\",AVERAGE($E128:P128)+$EI129,\"\")","v":""},{"$f":"IF(Q128<>\"\",AVERAGE($E128:Q128)+$EI129,\"\")","v":""},{"$f":"IF(R128<>\"\",AVERAGE($E128:R128)+$EI129,\"\")","v":""},{"$f":"IF(S128<>\"\",AVERAGE($E128:S128)+$EI129,\"\")","v":""},{"$f":"IF(T128<>\"\",AVERAGE($E128:T128)+$EI129,\"\")","v":""},{"$f":"IF(U128<>\"\",AVERAGE($E128:U128)+$EI129,\"\")","v":""},{"$f":"IF(V128<>\"\",AVERAGE($E128:V128)+$EI129,\"\")","v":""},{"$f":"IF(W128<>\"\",AVERAGE($E128:W128)+$EI129,\"\")","v":""},{"$f":"IF(X128<>\"\",AVERAGE($E128:X128)+$EI129,\"\")","v":""},{"$f":"IF(Y128<>\"\",AVERAGE($E128:Y128)+$EI129,\"\")","v":""},{"$f":"IF(Z128<>\"\",AVERAGE($E128:Z128)+$EI129,\"\")","v":""},{"$f":"IF(AA128<>\"\",AVERAGE($E128:AA128)+$EI129,\"\")","v":""},{"$f":"IF(AB128<>\"\",AVERAGE($E128:AB128)+$EI129,\"\")","v":""},{"$f":"IF(AC128<>\"\",AVERAGE($E128:AC128)+$EI129,\"\")","v":""},{"$f":"IF(AD128<>\"\",AVERAGE($E128:AD128)+$EI129,\"\")","v":""},{"$f":"IF(AE128<>\"\",AVERAGE($E128:AE128)+$EI129,\"\")","v":""},{"$f":"IF(AF128<>\"\",AVERAGE($E128:AF128)+$EI129,\"\")","v":""},{"$f":"IF(AG128<>\"\",AVERAGE($E128:AG128)+$EI129,\"\")","v":""},{"$f":"IF(AH128<>\"\",AVERAGE($E128:AH128)+$EI129,\"\")","v":""},{"$f":"IF(AI128<>\"\",AVERAGE($E128:AI128)+$EI129,\"\")","v":""},{"$f":"IF(AJ128<>\"\",AVERAGE($E128:AJ128)+$EI129,\"\")","v":""},{"$f":"IF(AK128<>\"\",AVERAGE($E128:AK128)+$EI129,\"\")","v":""},{"$f":"IF(AL128<>\"\",AVERAGE($E128:AL128)+$EI129,\"\")","v":""},{"$f":"IF(AM128<>\"\",AVERAGE($E128:AM128)+$EI129,\"\")","v":""},{"$f":"IF(AN128<>\"\",AVERAGE($E128:AN128)+$EI129,\"\")","v":""},{"$f":"IF(AO128<>\"\",AVERAGE($E128:AO128)+$EI129,\"\")","v":""},{"$f":"IF(AP128<>\"\",AVERAGE($E128:AP128)+$EI129,\"\")","v":""},{"$f":"IF(AQ128<>\"\",AVERAGE($E128:AQ128)+$EI129,\"\")","v":""},{"$f":"IF(AR128<>\"\",AVERAGE($E128:AR128)+$EI129,\"\")","v":""},{"$f":"IF(AS128<>\"\",AVERAGE($E128:AS128)+$EI129,\"\")","v":""},{"$f":"IF(AT128<>\"\",AVERAGE($E128:AT128)+$EI129,\"\")","v":""},{"$f":"IF(AU128<>\"\",AVERAGE($E128:AU128)+$EI129,\"\")","v":""},{"$f":"IF(AV128<>\"\",AVERAGE($E128:AV128)+$EI129,\"\")","v":""},{"$f":"IF(AW128<>\"\",AVERAGE($E128:AW128)+$EI129,\"\")","v":""},{"$f":"IF(AX128<>\"\",AVERAGE($E128:AX128)+$EI129,\"\")","v":""},{"$f":"IF(AY128<>\"\",AVERAGE($E128:AY128)+$EI129,\"\")","v":""},{"$f":"IF(AZ128<>\"\",AVERAGE($E128:AZ128)+$EI129,\"\")","v":""},{"$f":"IF(BA128<>\"\",AVERAGE($E128:BA128)+$EI129,\"\")","v":""},{"$f":"IF(BB128<>\"\",AVERAGE($E128:BB128)+$EI129,\"\")","v":""},{"$f":"IF(BC128<>\"\",AVERAGE($E128:BC128)+$EI129,\"\")","v":""},{"$f":"IF(BD128<>\"\",AVERAGE($E128:BD128)+$EI129,\"\")","v":""},{"$f":"IF(BE128<>\"\",AVERAGE($E128:BE128)+$EI129,\"\")","v":""},{"$f":"IF(BF128<>\"\",AVERAGE($E128:BF128)+$EI129,\"\")","v":""},{"$f":"IF(BG128<>\"\",AVERAGE($E128:BG128)+$EI129,\"\")","v":""},{"$f":"IF(BH128<>\"\",AVERAGE($E128:BH128)+$EI129,\"\")","v":""},{"$f":"IF(BI128<>\"\",AVERAGE($E128:BI128)+$EI129,\"\")","v":""},{"$f":"IF(BJ128<>\"\",AVERAGE($E128:BJ128)+$EI129,\"\")","v":""},{"$f":"IF(BK128<>\"\",AVERAGE($E128:BK128)+$EI129,\"\")","v":""},{"$f":"IF(BL128<>\"\",AVERAGE($E128:BL128)+$EI129,\"\")","v":""},{"$f":"IF(BM128<>\"\",AVERAGE($E128:BM128)+$EI129,\"\")","v":""},{"$f":"IF(BN128<>\"\",AVERAGE($E128:BN128)+$EI129,\"\")","v":""},{"$f":"IF(BO128<>\"\",AVERAGE($E128:BO128)+$EI129,\"\")","v":""},{"$f":"IF(BP128<>\"\",AVERAGE($E128:BP128)+$EI129,\"\")","v":""},{"$f":"IF(BQ128<>\"\",AVERAGE($E128:BQ128)+$EI129,\"\")","v":""},{"$f":"IF(BR128<>\"\",AVERAGE($E128:BR128)+$EI129,\"\")","v":""},{"$f":"IF(BS128<>\"\",AVERAGE($E128:BS128)+$EI129,\"\")","v":""},{"$f":"IF(BT128<>\"\",AVERAGE($E128:BT128)+$EI129,\"\")","v":""},{"$f":"IF(BU128<>\"\",AVERAGE($E128:BU128)+$EI129,\"\")","v":""},{"$f":"IF(BV128<>\"\",AVERAGE($E128:BV128)+$EI129,\"\")","v":""},{"$f":"IF(BW128<>\"\",AVERAGE($E128:BW128)+$EI129,\"\")","v":""},{"$f":"IF(BX128<>\"\",AVERAGE($E128:BX128)+$EI129,\"\")","v":""},{"$f":"IF(BY128<>\"\",AVERAGE($E128:BY128)+$EI129,\"\")","v":""},{"$f":"IF(BZ128<>\"\",AVERAGE($E128:BZ128)+$EI129,\"\")","v":""},{"$f":"IF(CA128<>\"\",AVERAGE($E128:CA128)+$EI129,\"\")","v":""},{"$f":"IF(CB128<>\"\",AVERAGE($E128:CB128)+$EI129,\"\")","v":""},{"$f":"IF(CC128<>\"\",AVERAGE($E128:CC128)+$EI129,\"\")","v":""},{"$f":"IF(CD128<>\"\",AVERAGE($E128:CD128)+$EI129,\"\")","v":""},{"$f":"IF(CE128<>\"\",AVERAGE($E128:CE128)+$EI129,\"\")","v":""},{"$f":"IF(CF128<>\"\",AVERAGE($E128:CF128)+$EI129,\"\")","v":""},{"$f":"IF(CG128<>\"\",AVERAGE($E128:CG128)+$EI129,\"\")","v":""},{"$f":"IF(CH128<>\"\",AVERAGE($E128:CH128)+$EI129,\"\")","v":""},{"$f":"IF(CI128<>\"\",AVERAGE($E128:CI128)+$EI129,\"\")","v":""},{"$f":"IF(CJ128<>\"\",AVERAGE($E128:CJ128)+$EI129,\"\")","v":""},{"$f":"IF(CK128<>\"\",AVERAGE($E128:CK128)+$EI129,\"\")","v":""},{"$f":"IF(CL128<>\"\",AVERAGE($E128:CL128)+$EI129,\"\")","v":""},{"$f":"IF(CM128<>\"\",AVERAGE($E128:CM128)+$EI129,\"\")","v":""},{"$f":"IF(CN128<>\"\",AVERAGE($E128:CN128)+$EI129,\"\")","v":""},{"$f":"IF(CO128<>\"\",AVERAGE($E128:CO128)+$EI129,\"\")","v":""},{"$f":"IF(CP128<>\"\",AVERAGE($E128:CP128)+$EI129,\"\")","v":""},{"$f":"IF(CQ128<>\"\",AVERAGE($E128:CQ128)+$EI129,\"\")","v":""},{"$f":"IF(CR128<>\"\",AVERAGE($E128:CR128)+$EI129,\"\")","v":""},{"$f":"IF(CS128<>\"\",AVERAGE($E128:CS128)+$EI129,\"\")","v":""},{"$f":"IF(CT128<>\"\",AVERAGE($E128:CT128)+$EI129,\"\")","v":""},{"$f":"IF(CU128<>\"\",AVERAGE($E128:CU128)+$EI129,\"\")","v":""},{"$f":"IF(CV128<>\"\",AVERAGE($E128:CV128)+$EI129,\"\")","v":""},{"$f":"IF(CW128<>\"\",AVERAGE($E128:CW128)+$EI129,\"\")","v":""},{"$f":"IF(CX128<>\"\",AVERAGE($E128:CX128)+$EI129,\"\")","v":""},{"$f":"IF(CY128<>\"\",AVERAGE($E128:CY128)+$EI129,\"\")","v":""},{"$f":"IF(CZ128<>\"\",AVERAGE($E128:CZ128)+$EI129,\"\")","v":""},{"$f":"IF(DA128<>\"\",AVERAGE($E128:DA128)+$EI129,\"\")","v":""},{"$f":"IF(DB128<>\"\",AVERAGE($E128:DB128)+$EI129,\"\")","v":""},{"$f":"IF(DC128<>\"\",AVERAGE($E128:DC128)+$EI129,\"\")","v":""},{"$f":"IF(DD128<>\"\",AVERAGE($E128:DD128)+$EI129,\"\")","v":""},{"$f":"IF(DE128<>\"\",AVERAGE($E128:DE128)+$EI129,\"\")","v":""},{"$f":"IF(DF128<>\"\",AVERAGE($E128:DF128)+$EI129,\"\")","v":""},{"$f":"IF(DG128<>\"\",AVERAGE($E128:DG128)+$EI129,\"\")","v":""},{"$f":"IF(DH128<>\"\",AVERAGE($E128:DH128)+$EI129,\"\")","v":""},{"$f":"IF(DI128<>\"\",AVERAGE($E128:DI128)+$EI129,\"\")","v":""},{"$f":"IF(DJ128<>\"\",AVERAGE($E128:DJ128)+$EI129,\"\")","v":""},{"$f":"IF(DK128<>\"\",AVERAGE($E128:DK128)+$EI129,\"\")","v":""},{"$f":"IF(DL128<>\"\",AVERAGE($E128:DL128)+$EI129,\"\")","v":""},{"$f":"IF(DM128<>\"\",AVERAGE($E128:DM128)+$EI129,\"\")","v":""},{"$f":"IF(DN128<>\"\",AVERAGE($E128:DN128)+$EI129,\"\")","v":""},{"$f":"IF(DO128<>\"\",AVERAGE($E128:DO128)+$EI129,\"\")","v":""},{"$f":"IF(DP128<>\"\",AVERAGE($E128:DP128)+$EI129,\"\")","v":""},{"$f":"IF(DQ128<>\"\",AVERAGE($E128:DQ128)+$EI129,\"\")","v":""},{"$f":"IF(DR128<>\"\",AVERAGE($E128:DR128)+$EI129,\"\")","v":""},{"$f":"IF(DS128<>\"\",AVERAGE($E128:DS128)+$EI129,\"\")","v":""},{"$f":"IF(DT128<>\"\",AVERAGE($E128:DT128)+$EI129,\"\")","v":""},{"$f":"IF(DU128<>\"\",AVERAGE($E128:DU128)+$EI129,\"\")","v":""},{"$f":"IF(DV128<>\"\",AVERAGE($E128:DV128)+$EI129,\"\")","v":""},{"$f":"IF(DW128<>\"\",AVERAGE($E128:DW128)+$EI129,\"\")","v":""},{"$f":"IF(DX128<>\"\",AVERAGE($E128:DX128)+$EI129,\"\")","v":""},{"$f":"IF(DY128<>\"\",AVERAGE($E128:DY128)+$EI129,\"\")","v":""},{"$f":"IF(DZ128<>\"\",AVERAGE($E128:DZ128)+$EI129,\"\")","v":""},{"$f":"IF(EA128<>\"\",AVERAGE($E128:EA128)+$EI129,\"\")","v":""},{"$f":"IF(EB128<>\"\",AVERAGE($E128:EB128)+$EI129,\"\")","v":""},{"$f":"IF(EC128<>\"\",AVERAGE($E128:EC128)+$EI129,\"\")","v":""},{"$f":"IF(ED128<>\"\",AVERAGE($E128:ED128)+$EI129,\"\")","v":""},{"$f":"IF(AND(SUM(Tabulka!$AG$79)>0.99,(SUM(Tabulka!$AG$79)<2)),-50000+(SUM(E128:ED128)/COUNT(E129:ED129)),IF(OR(SUM(Tabulka!$AG$79)<2),-90000,SUM(E128:ED128)/COUNT(E129:ED129)))","v":-90000},null,{"$f":"IFERROR(SUM(E128:ED128)/COUNT(E128:ED128),)","v":0},{"$f":"CONCATENATE(C124,\" \",C125)","v":"Iva Ivanka"},{"$f":"INDEX(List4!$E$2:$E$17,MATCH(CONCATENATE(C124,\" \",C125),Tabulka1128[Jmeno_prijmeni],0),1)","v":-5.0999999999999993E-8}]
["Iva IvankaPočet šipek",{"$f":"CONCATENATE(C124,\" \",C125)","v":"Iva Ivanka"},null,"Počet šipek",null,null,null,null,null,null,null,null,null,null,null,null,null,null,null,null,null,null,null,null,null,null,null,null,null,null,null,null,null,null,null,null,null,null,null,null,null,null,null,null,null,null,null,null,null,null,null,null,null,null,null,null,null,null,null,null,null,null,null,null,null,null,null,null,null,null,null,null,null,null,null,null,null,null,null,null,null,null,null,null,null,null,null,null,null,null,null,null,null,null,null,null,null,null,null,null,null,null,null,null,null,null,null,null,null,null,null,null,null,null,null,null,null,null,null,null,null,null,null,null,null,null,null,null,null,null,null,null,null,null,{"$f":"IF(AND(SUM(Tabulka!$AG$79)>0.99,(SUM(Tabulka!$AG$79)<2)),-50000+(SUM(E130:ED130)),IF(OR(SUM(Tabulka!$AG$79)<2),-90000,SUM(E130:ED130)))","v":-90000},null,0]
[]
[]
[]
[]
[]
[]
[]
[]
[]
[]
[]
[null,null,6]

{"sheet":"Tabulka","index":1,"n_rows":83,"n_cols":43,"rows_kept":83,"cut":false,"hidden":false,"merged":[[1,31,2,31],[1,1,2,1],[0,1,0,2],[1,32,2,32],[3,32,7,32],[8,32,12,32],[13,32,17,32],[18,32,22,32],[23,32,27,32],[28,32,32,32],[33,32,37,32],[38,32,42,32],[43,32,47,32],[48,32,52,32],[53,32,57,32],[58,32,62,32],[63,32,67,32],[68,32,72,32],[73,32,77,32],[78,32,82,32]]}
[null,"sipy.zlatyruce.cz"]
[null,{"$f":"Přehled_body!C1","v":2021},{"$f":"Přehled_body!D1","v":"2. pololetí"},{"$f":"IFERROR(Přehled_body!E1,\"\")","v":"2021-07-13"},{"$f":"IFERROR(IF(INDEX(Přehled_body!$E$1:$ED$1,1,MATCH(Tabulka!D2,Přehled_body!$D$1:$ED$1,0)+4)=\"\",\"\",INDEX(Přehled_body!$E$1:$ED$1,1,MATCH(Tabulka!D2,Přehled_body!$D$1:$ED$1,0)+4)),\"\")","v":"2021-07-20"},{"$f":"IFERROR(IF(INDEX(Přehled_body!$E$1:$ED$1,1,MATCH(Tabulka!E2,Přehled_body!$D$1:$ED$1,0)+4)=\"\",\"\",INDEX(Přehled_body!$E$1:$ED$1,1,MATCH(Tabulka!E2,Přehled_body!$D$1:$ED$1,0)+4)),\"\")","v":"2021-07-27"},{"$f":"IFERROR(IF(INDEX(Přehled_body!$E$1:$ED$1,1,MATCH(Tabulka!F2,Přehled_body!$D$1:$ED$1,0)+4)=\"\",\"\",INDEX(Přehled_body!$E$1:$ED$1,1,MATCH(Tabulka!F2,Přehled_body!$D$1:$ED$1,0)+4)),\"\")","v":"2021-08-10"},{"$f":"IFERROR(IF(INDEX(Přehled_body!$E$1:$ED$1,1,MATCH(Tabulka!G2,Přehled_body!$D$1:$ED$1,0)+4)=\"\",\"\",INDEX(Přehled_body!$E$1:$ED$1,1,MATCH(Tabulka!G2,Přehled_body!$D$1:$ED$1,0)+4)),\"\")","v":"2021-08-31"},{"$f":"IFERROR(IF(INDEX(Přehled_body!$E$1:$ED$1,1,MATCH(Tabulka!H2,Přehled_body!$D$1:$ED$1,0)+4)=\"\",\"\",INDEX(Přehled_body!$E$1:$ED$1,1,MATCH(Tabulka!H2,Přehled_body!$D$1:$ED$1,0)+4)),\"\")","v":"2021-09-07"},{"$f":"IFERROR(IF(INDEX(Přehled_body!$E$1:$ED$1,1,MATCH(Tabulka!I2,Přehled_body!$D$1:$ED$1,0)+4)=\"\",\"\",INDEX(Přehled_body!$E$1:$ED$1,1,MATCH(Tabulka!I2,Přehled_body!$D$1:$ED$1,0)+4)),\"\")","v":"2021-09-14"},{"$f":"IFERROR(IF(INDEX(Přehled_body!$E$1:$ED$1,1,MATCH(Tabulka!J2,Přehled_body!$D$1:$ED$1,0)+4)=\"\",\"\",INDEX(Přehled_body!$E$1:$ED$1,1,MATCH(Tabulka!J2,Přehled_body!$D$1:$ED$1,0)+4)),\"\")","v":"2021-09-21"},{"$f":"IFERROR(IF(INDEX(Přehled_body!$E$1:$ED$1,1,MATCH(Tabulka!K2,Přehled_body!$D$1:$ED$1,0)+4)=\"\",\"\",INDEX(Přehled_body!$E$1:$ED$1,1,MATCH(Tabulka!K2,Přehled_body!$D$1:$ED$1,0)+4)),\"\")","v":"2021-10-05"},{"$f":"IFERROR(IF(INDEX(Přehled_body!$E$1:$ED$1,1,MATCH(Tabulka!L2,Přehled_body!$D$1:$ED$1,0)+4)=\"\",\"\",INDEX(Přehled_body!$E$1:$ED$1,1,MATCH(Tabulka!L2,Přehled_body!$D$1:$ED$1,0)+4)),\"\")","v":"2021-10-12"},{"$f":"IFERROR(IF(INDEX(Přehled_body!$E$1:$ED$1,1,MATCH(Tabulka!M2,Přehled_body!$D$1:$ED$1,0)+4)=\"\",\"\",INDEX(Přehled_body!$E$1:$ED$1,1,MATCH(Tabulka!M2,Přehled_body!$D$1:$ED$1,0)+4)),\"\")","v":"2021-10-19"},{"$f":"IFERROR(IF(INDEX(Přehled_body!$E$1:$ED$1,1,MATCH(Tabulka!N2,Přehled_body!$D$1:$ED$1,0)+4)=\"\",\"\",INDEX(Přehled_body!$E$1:$ED$1,1,MATCH(Tabulka!N2,Přehled_body!$D$1:$ED$1,0)+4)),\"\")","v":"2021-10-26"},{"$f":"IFERROR(IF(INDEX(Přehled_body!$E$1:$ED$1,1,MATCH(Tabulka!O2,Přehled_body!$D$1:$ED$1,0)+4)=\"\",\"\",INDEX(Přehled_body!$E$1:$ED$1,1,MATCH(Tabulka!O2,Přehled_body!$D$1:$ED$1,0)+4)),\"\")","v":"2021-11-02"},{"$f":"IFERROR(IF(INDEX(Přehled_body!$E$1:$ED$1,1,MATCH(Tabulka!P2,Přehled_body!$D$1:$ED$1,0)+4)=\"\",\"\",INDEX(Přehled_body!$E$1:$ED$1,1,MATCH(Tabulka!P2,Přehled_body!$D$1:$ED$1,0)+4)),\"\")","v":"2021-11-09"},{"$f":"IFERROR(IF(INDEX(Přehled_body!$E$1:$ED$1,1,MATCH(Tabulka!Q2,Přehled_body!$D$1:$ED$1,0)+4)=\"\",\"\",INDEX(Přehled_body!$E$1:$ED$1,1,MATCH(Tabulka!Q2,Přehled_body!$D$1:$ED$1,0)+4)),\"\")","v":"2021-11-23"},{"$f":"IFERROR(IF(INDEX(Přehled_body!$E$1:$ED$1,1,MATCH(Tabulka!R2,Přehled_body!$D$1:$ED$1,0)+4)=\"\",\"\",INDEX(Přehled_body!$E$1:$ED$1,1,MATCH(Tabulka!R2,Přehled_body!$D$1:$ED$1,0)+4)),\"\")","v":"2021-11-30"},{"$f":"IFERROR(IF(INDEX(Přehled_body!$E$1:$ED$1,1,MATCH(Tabulka!S2,Přehled_body!$D$1:$ED$1,0)+4)=\"\",\"\",INDEX(Přehled_body!$E$1:$ED$1,1,MATCH(Tabulka!S2,Přehled_body!$D$1:$ED$1,0)+4)),\"\")","v":"2021-12-07"},{"$f":"IFERROR(IF(INDEX(Přehled_body!$E$1:$ED$1,1,MATCH(Tabulka!T2,Přehled_body!$D$1:$ED$1,0)+4)=\"\",\"\",INDEX(Přehled_body!$E$1:$ED$1,1,MATCH(Tabulka!T2,Přehled_body!$D$1:$ED$1,0)+4)),\"\")","v":""},{"$f":"IFERROR(IF(INDEX(Přehled_body!$E$1:$ED$1,1,MATCH(Tabulka!U2,Přehled_body!$D$1:$ED$1,0)+4)=\"\",\"\",INDEX(Přehled_body!$E$1:$ED$1,1,MATCH(Tabulka!U2,Přehled_body!$D$1:$ED$1,0)+4)),\"\")","v":""},{"$f":"IFERROR(IF(INDEX(Přehled_body!$E$1:$ED$1,1,MATCH(Tabulka!V2,Přehled_body!$D$1:$ED$1,0)+4)=\"\",\"\",INDEX(Přehled_body!$E$1:$ED$1,1,MATCH(Tabulka!V2,Přehled_body!$D$1:$ED$1,0)+4)),\"\")","v":""},{"$f":"IFERROR(IF(INDEX(Přehled_body!$E$1:$ED$1,1,MATCH(Tabulka!W2,Přehled_body!$D$1:$ED$1,0)+4)=\"\",\"\",INDEX(Přehled_body!$E$1:$ED$1,1,MATCH(Tabulka!W2,Přehled_body!$D$1:$ED$1,0)+4)),\"\")","v":""},{"$f":"IFERROR(IF(INDEX(Přehled_body!$E$1:$ED$1,1,MATCH(Tabulka!X2,Přehled_body!$D$1:$ED$1,0)+4)=\"\",\"\",INDEX(Přehled_body!$E$1:$ED$1,1,MATCH(Tabulka!X2,Přehled_body!$D$1:$ED$1,0)+4)),\"\")","v":""},{"$f":"IFERROR(IF(INDEX(Přehled_body!$E$1:$ED$1,1,MATCH(Tabulka!Y2,Přehled_body!$D$1:$ED$1,0)+4)=\"\",\"\",INDEX(Přehled_body!$E$1:$ED$1,1,MATCH(Tabulka!Y2,Přehled_body!$D$1:$ED$1,0)+4)),\"\")","v":""},{"$f":"IFERROR(IF(INDEX(Přehled_body!$E$1:$ED$1,1,MATCH(Tabulka!Z2,Přehled_body!$D$1:$ED$1,0)+4)=\"\",\"\",INDEX(Přehled_body!$E$1:$ED$1,1,MATCH(Tabulka!Z2,Přehled_body!$D$1:$ED$1,0)+4)),\"\")","v":""},{"$f":"IFERROR(IF(INDEX(Přehled_body!$E$1:$ED$1,1,MATCH(Tabulka!AA2,Přehled_body!$D$1:$ED$1,0)+4)=\"\",\"\",INDEX(Přehled_body!$E$1:$ED$1,1,MATCH(Tabulka!AA2,Přehled_body!$D$1:$ED$1,0)+4)),\"\")","v":""},{"$f":"IFERROR(IF(INDEX(Přehled_body!$E$1:$ED$1,1,MATCH(Tabulka!AB2,Přehled_body!$D$1:$ED$1,0)+4)=\"\",\"\",INDEX(Přehled_body!$E$1:$ED$1,1,MATCH(Tabulka!AB2,Přehled_body!$D$1:$ED$1,0)+4)),\"\")","v":""},{"$f":"IFERROR(IF(INDEX(Přehled_body!$E$1:$ED$1,1,MATCH(Tabulka!AC2,Přehled_body!$D$1:$ED$1,0)+4)=\"\",\"\",INDEX(Přehled_body!$E$1:$ED$1,1,MATCH(Tabulka!AC2,Přehled_body!$D$1:$ED$1,0)+4)),\"\")","v":""},"Součet","Body","Účast dny"]
[null,null,"Počet hrájících",{"$f":"IF(D2=\"\",\"\",IF(D8>0,1,0)+IF(D13>0,1,0)+IF(D18>0,1,0)+IF(D23>0,1,0)+IF(D28>0,1,0)+IF(D33>0,1,0)+IF(D38>0,1,0)+IF(D43>0,1,0)+IF(D48>0,1,0)+IF(D53>0,1,0)+IF(D58>0,1,0)+IF(D63>0,1,0)+IF(D68>0,1,0)+IF(D73>0,1,0)+IF(D78>0,1,0)+IF(D83>0,1,0))","v":8},{"$f":"IF(E2=\"\",\"\",IF(E8>0,1,0)+IF(E13>0,1,0)+IF(E18>0,1,0)+IF(E23>0,1,0)+IF(E28>0,1,0)+IF(E33>0,1,0)+IF(E38>0,1,0)+IF(E43>0,1,0)+IF(E48>0,1,0)+IF(E53>0,1,0)+IF(E58>0,1,0)+IF(E63>0,1,0)+IF(E68>0,1,0)+IF(E73>0,1,0)+IF(E78>0,1,0)+IF(E83>0,1,0))","v":5},6,7,7,6,7,6,6,6,5,6,6,7,5,5,7,"","","","","","","","","","","celkem"]
[1,null,"Výhry",{"$f":"IF(IFERROR(INDEX(Přehled_body!$E$3:$ED$130,MATCH(Tabulka!$AI4,Přehled_body!$A$3:$A$130,0),MATCH(Tabulka!D$2,Přehled_body!$E$1:$ED$1,0)),)=\"\",,IF(IFERROR(INDEX(Přehled_body!$E$3:$ED$130,MATCH(Tabulka!$AI4,Přehled_body!$A$3:$A$130,0),MATCH(Tabulka!D$2,Přehled_body!$E$1:$ED$1,0)),)=0,0.00000000001,IFERROR(INDEX(Přehled_body!$E$3:$ED$130,MATCH(Tabulka!$AI4,Přehled_body!$A$3:$A$130,0),MATCH(Tabulka!D$2,Přehled_body!$E$1:$ED$1,0)),)))","v":0},{"$f":"IF(IFERROR(INDEX(Přehled_body!$E$3:$ED$130,MATCH(Tabulka!$AI4,Přehled_body!$A$3:$A$130,0),MATCH(Tabulka!E$2,Přehled_body!$E$1:$ED$1,0)),)=\"\",,IF(IFERROR(INDEX(Přehled_body!$E$3:$ED$130,MATCH(Tabulka!$AI4,Přehled_body!$A$3:$A$130,0),MATCH(Tabulka!E$2,Přehled_body!$E$1:$ED$1,0)),)=0,0.00000000001,IFERROR(INDEX(Přehled_body!$E$3:$ED$130,MATCH(Tabulka!$AI4,Přehled_body!$A$3:$A$130,0),MATCH(Tabulka!E$2,Přehled_body!$E$1:$ED$1,0)),)))","v":0},{"$f":"IF(IFERROR(INDEX(Přehled_body!$E$3:$ED$130,MATCH(Tabulka!$AI4,Přehled_body!$A$3:$A$130,0),MATCH(Tabulka!F$2,Přehled_body!$E$1:$ED$1,0)),)=\"\",,IF(IFERROR(INDEX(Přehled_body!$E$3:$ED$130,MATCH(Tabulka!$AI4,Přehled_body!$A$3:$A$130,0),MATCH(Tabulka!F$2,Přehled_body!$E$1:$ED$1,0)),)=0,0.00000000001,IFERROR(INDEX(Přehled_body!$E$3:$ED$130,MATCH(Tabulka!$AI4,Přehled_body!$A$3:$A$130,0),MATCH(Tabulka!F$2,Přehled_body!$E$1:$ED$1,0)),)))","v":0},{"$f":"IF(IFERROR(INDEX(Přehled_body!$E$3:$ED$130,MATCH(Tabulka!$AI4,Přehled_body!$A$3:$A$130,0),MATCH(Tabulka!G$2,Přehled_body!$E$1:$ED$1,0)),)=\"\",,IF(IFERROR(INDEX(Přehled_body!$E$3:$ED$130,MATCH(Tabulka!$AI4,Přehled_body!$A$3:$A$130,0),MATCH(Tabulka!G$2,Přehled_body!$E$1:$ED$1,0)),)=0,0.00000000001,IFERROR(INDEX(Přehled_body!$E$3:$ED$130,MATCH(Tabulka!$AI4,Přehled_body!$A$3:$A$130,0),MATCH(Tabulka!G$2,Přehled_body!$E$1:$ED$1,0)),)))","v":0},{"$f":"IF(IFERROR(INDEX(Přehled_body!$E$3:$ED$130,MATCH(Tabulka!$AI4,Přehled_body!$A$3:$A$130,0),MATCH(Tabulka!H$2,Přehled_body!$E$1:$ED$1,0)),)=\"\",,IF(IFERROR(INDEX(Přehled_body!$E$3:$ED$130,MATCH(Tabulka!$AI4,Přehled_body!$A$3:$A$130,0),MATCH(Tabulka!H$2,Přehled_body!$E$1:$ED$1,0)),)=0,0.00000000001,IFERROR(INDEX(Přehled_body!$E$3:$ED$130,MATCH(Tabulka!$AI4,Přehled_body!$A$3:$A$130,0),MATCH(Tabulka!H$2,Přehled_body!$E$1:$ED$1,0)),)))","v":0},{"$f":"IF(IFERROR(INDEX(Přehled_body!$E$3:$ED$130,MATCH(Tabulka!$AI4,Přehled_body!$A$3:$A$130,0),MATCH(Tabulka!I$2,Přehled_body!$E$1:$ED$1,0)),)=\"\",,IF(IFERROR(INDEX(Přehled_body!$E$3:$ED$130,MATCH(Tabulka!$AI4,Přehled_body!$A$3:$A$130,0),MATCH(Tabulka!I$2,Přehled_body!$E$1:$ED$1,0)),)=0,0.00000000001,IFERROR(INDEX(Přehled_body!$E$3:$ED$130,MATCH(Tabulka!$AI4,Přehled_body!$A$3:$A$130,0),MATCH(Tabulka!I$2,Přehled_body!$E$1:$ED$1,0)),)))","v":0},{"$f":"IF(IFERROR(INDEX(Přehled_body!$E$3:$ED$130,MATCH(Tabulka!$AI4,Přehled_body!$A$3:$A$130,0),MATCH(Tabulka!J$2,Přehled_body!$E$1:$ED$1,0)),)=\"\",,IF(IFERROR(INDEX(Přehled_body!$E$3:$ED$130,MATCH(Tabulka!$AI4,Přehled_body!$A$3:$A$130,0),MATCH(Tabulka!J$2,Přehled_body!$E$1:$ED$1,0)),)=0,0.00000000001,IFERROR(INDEX(Přehled_body!$E$3:$ED$130,MATCH(Tabulka!$AI4,Přehled_body!$A$3:$A$130,0),MATCH(Tabulka!J$2,Přehled_body!$E$1:$ED$1,0)),)))","v":0},{"$f":"IF(IFERROR(INDEX(Přehled_body!$E$3:$ED$130,MATCH(Tabulka!$AI4,Přehled_body!$A$3:$A$130,0),MATCH(Tabulka!K$2,Přehled_body!$E$1:$ED$1,0)),)=\"\",,IF(IFERROR(INDEX(Přehled_body!$E$3:$ED$130,MATCH(Tabulka!$AI4,Přehled_body!$A$3:$A$130,0),MATCH(Tabulka!K$2,Přehled_body!$E$1:$ED$1,0)),)=0,0.00000000001,IFERROR(INDEX(Přehled_body!$E$3:$ED$130,MATCH(Tabulka!$AI4,Přehled_body!$A$3:$A$130,0),MATCH(Tabulka!K$2,Přehled_body!$E$1:$ED$1,0)),)))","v":0},{"$f":"IF(IFERROR(INDEX(Přehled_body!$E$3:$ED$130,MATCH(Tabulka!$AI4,Přehled_body!$A$3:$A$130,0),MATCH(Tabulka!L$2,Přehled_body!$E$1:$ED$1,0)),)=\"\",,IF(IFERROR(INDEX(Přehled_body!$E$3:$ED$130,MATCH(Tabulka!$AI4,Přehled_body!$A$3:$A$130,0),MATCH(Tabulka!L$2,Přehled_body!$E$1:$ED$1,0)),)=0,0.00000000001,IFERROR(INDEX(Přehled_body!$E$3:$ED$130,MATCH(Tabulka!$AI4,Přehled_body!$A$3:$A$130,0),MATCH(Tabulka!L$2,Přehled_body!$E$1:$ED$1,0)),)))","v":0},{"$f":"IF(IFERROR(INDEX(Přehled_body!$E$3:$ED$130,MATCH(Tabulka!$AI4,Přehled_body!$A$3:$A$130,0),MATCH(Tabulka!M$2,Přehled_body!$E$1:$ED$1,0)),)=\"\",,IF(IFERROR(INDEX(Přehled_body!$E$3:$ED$130,MATCH(Tabulka!$AI4,Přehled_body!$A$3:$A$130,0),MATCH(Tabulka!M$2,Přehled_body!$E$1:$ED$1,0)),)=0,0.00000000001,IFERROR(INDEX(Přehled_body!$E$3:$ED$130,MATCH(Tabulka!$AI4,Přehled_body!$A$3:$A$130,0),MATCH(Tabulka!M$2,Přehled_body!$E$1:$ED$1,0)),)))","v":0},{"$f":"IF(IFERROR(INDEX(Přehled_body!$E$3:$ED$130,MATCH(Tabulka!$AI4,Přehled_body!$A$3:$A$130,0),MATCH(Tabulka!N$2,Přehled_body!$E$1:$ED$1,0)),)=\"\",,IF(IFERROR(INDEX(Přehled_body!$E$3:$ED$130,MATCH(Tabulka!$AI4,Přehled_body!$A$3:$A$130,0),MATCH(Tabulka!N$2,Přehled_body!$E$1:$ED$1,0)),)=0,0.00000000001,IFERROR(INDEX(Přehled_body!$E$3:$ED$130,MATCH(Tabulka!$AI4,Přehled_body!$A$3:$A$130,0),MATCH(Tabulka!N$2,Přehled_body!$E$1:$ED$1,0)),)))","v":0},{"$f":"IF(IFERROR(INDEX(Přehled_body!$E$3:$ED$130,MATCH(Tabulka!$AI4,Přehled_body!$A$3:$A$130,0),MATCH(Tabulka!O$2,Přehled_body!$E$1:$ED$1,0)),)=\"\",,IF(IFERROR(INDEX(Přehled_body!$E$3:$ED$130,MATCH(Tabulka!$AI4,Přehled_body!$A$3:$A$130,0),MATCH(Tabulka!O$2,Přehled_body!$E$1:$ED$1,0)),)=0,0.00000000001,IFERROR(INDEX(Přehled_body!$E$3:$ED$130,MATCH(Tabulka!$AI4,Přehled_body!$A$3:$A$130,0),MATCH(Tabulka!O$2,Přehled_body!$E$1:$ED$1,0)),)))","v":0},{"$f":"IF(IFERROR(INDEX(Přehled_body!$E$3:$ED$130,MATCH(Tabulka!$AI4,Přehled_body!$A$3:$A$130,0),MATCH(Tabulka!P$2,Přehled_body!$E$1:$ED$1,0)),)=\"\",,IF(IFERROR(INDEX(Přehled_body!$E$3:$ED$130,MATCH(Tabulka!$AI4,Přehled_body!$A$3:$A$130,0),MATCH(Tabulka!P$2,Přehled_body!$E$1:$ED$1,0)),)=0,0.00000000001,IFERROR(INDEX(Přehled_body!$E$3:$ED$130,MATCH(Tabulka!$AI4,Přehled_body!$A$3:$A$130,0),MATCH(Tabulka!P$2,Přehled_body!$E$1:$ED$1,0)),)))","v":0},{"$f":"IF(IFERROR(INDEX(Přehled_body!$E$3:$ED$130,MATCH(Tabulka!$AI4,Přehled_body!$A$3:$A$130,0),MATCH(Tabulka!Q$2,Přehled_body!$E$1:$ED$1,0)),)=\"\",,IF(IFERROR(INDEX(Přehled_body!$E$3:$ED$130,MATCH(Tabulka!$AI4,Přehled_body!$A$3:$A$130,0),MATCH(Tabulka!Q$2,Přehled_body!$E$1:$ED$1,0)),)=0,0.00000000001,IFERROR(INDEX(Přehled_body!$E$3:$ED$130,MATCH(Tabulka!$AI4,Přehled_body!$A$3:$A$130,0),MATCH(Tabulka!Q$2,Přehled_body!$E$1:$ED$1,0)),)))","v":0},{"$f":"IF(IFERROR(INDEX(Přehled_body!$E$3:$ED$130,MATCH(Tabulka!$AI4,Přehled_body!$A$3:$A$130,0),MATCH(Tabulka!R$2,Přehled_body!$E$1:$ED$1,0)),)=\"\",,IF(IFERROR(INDEX(Přehled_body!$E$3:$ED$130,MATCH(Tabulka!$AI4,Přehled_body!$A$3:$A$130,0),MATCH(Tabulka!R$2,Přehled_body!$E$1:$ED$1,0)),)=0,0.00000000001,IFERROR(INDEX(Přehled_body!$E$3:$ED$130,MATCH(Tabulka!$AI4,Přehled_body!$A$3:$A$130,0),MATCH(Tabulka!R$2,Přehled_body!$E$1:$ED$1,0)),)))","v":0},{"$f":"IF(IFERROR(INDEX(Přehled_body!$E$3:$ED$130,MATCH(Tabulka!$AI4,Přehled_body!$A$3:$A$130,0),MATCH(Tabulka!S$2,Přehled_body!$E$1:$ED$1,0)),)=\"\",,IF(IFERROR(INDEX(Přehled_body!$E$3:$ED$130,MATCH(Tabulka!$AI4,Přehled_body!$A$3:$A$130,0),MATCH(Tabulka!S$2,Přehled_body!$E$1:$ED$1,0)),)=0,0.00000000001,IFERROR(INDEX(Přehled_body!$E$3:$ED$130,MATCH(Tabulka!$AI4,Přehled_body!$A$3:$A$130,0),MATCH(Tabulka!S$2,Přehled_body!$E$1:$ED$1,0)),)))","v":0},{"$f":"IF(IFERROR(INDEX(Přehled_body!$E$3:$ED$130,MATCH(Tabulka!$AI4,Přehled_body!$A$3:$A$130,0),MATCH(Tabulka!T$2,Přehled_body!$E$1:$ED$1,0)),)=\"\",,IF(IFERROR(INDEX(Přehled_body!$E$3:$ED$130,MATCH(Tabulka!$AI4,Přehled_body!$A$3:$A$130,0),MATCH(Tabulka!T$2,Přehled_body!$E$1:$ED$1,0)),)=0,0.00000000001,IFERROR(INDEX(Přehled_body!$E$3:$ED$130,MATCH(Tabulka!$AI4,Přehled_body!$A$3:$A$130,0),MATCH(Tabulka!T$2,Přehled_body!$E$1:$ED$1,0)),)))","v":0},{"$f":"IF(IFERROR(INDEX(Přehled_body!$E$3:$ED$130,MATCH(Tabulka!$AI4,Přehled_body!$A$3:$A$130,0),MATCH(Tabulka!U$2,Přehled_body!$E$1:$ED$1,0)),)=\"\",,IF(IFERROR(INDEX(Přehled_body!$E$3:$ED$130,MATCH(Tabulka!$AI4,Přehled_body!$A$3:$A$130,0),MATCH(Tabulka!U$2,Přehled_body!$E$1:$ED$1,0)),)=0,0.00000000001,IFERROR(INDEX(Přehled_body!$E$3:$ED$130,MATCH(Tabulka!$AI4,Přehled_body!$A$3:$A$130,0),MATCH(Tabulka!U$2,Přehled_body!$E$1:$ED$1,0)),)))","v":0},{"$f":"IF(IFERROR(INDEX(Přehled_body!$E$3:$ED$130,MATCH(Tabulka!$AI4,Přehled_body!$A$3:$A$130,0),MATCH(Tabulka!V$2,Přehled_body!$E$1:$ED$1,0)),)=\"\",,IF(IFERROR(INDEX(Přehled_body!$E$3:$ED$130,MATCH(Tabulka!$AI4,Přehled_body!$A$3:$A$130,0),MATCH(Tabulka!V$2,Přehled_body!$E$1:$ED$1,0)),)=0,0.00000000001,IFERROR(INDEX(Přehled_body!$E$3:$ED$130,MATCH(Tabulka!$AI4,Přehled_body!$A$3:$A$130,0),MATCH(Tabulka!V$2,Přehled_body!$E$1:$ED$1,0)),)))","v":0},{"$f":"IF(IFERROR(INDEX(Přehled_body!$E$3:$ED$130,MATCH(Tabulka!$AI4,Přehled_body!$A$3:$A$130,0),MATCH(Tabulka!W$2,Přehled_body!$E$1:$ED$1,0)),)=\"\",,IF(IFERROR(INDEX(Přehled_body!$E$3:$ED$130,MATCH(Tabulka!$AI4,Přehled_body!$A$3:$A$130,0),MATCH(Tabulka!W$2,Přehled_body!$E$1:$ED$1,0)),)=0,0.00000000001,IFERROR(INDEX(Přehled_body!$E$3:$ED$130,MATCH(Tabulka!$AI4,Přehled_body!$A$3:$A$130,0),MATCH(Tabulka!W$2,Přehled_body!$E$1:$ED$1,0)),)))","v":0},{"$f":"IF(IFERROR(INDEX(Přehled_body!$E$3:$ED$130,MATCH(Tabulka!$AI4,Přehled_body!$A$3:$A$130,0),MATCH(Tabulka!X$2,Přehled_body!$E$1:$ED$1,0)),)=\"\",,IF(IFERROR(INDEX(Přehled_body!$E$3:$ED$130,MATCH(Tabulka!$AI4,Přehled_body!$A$3:$A$130,0),MATCH(Tabulka!X$2,Přehled_body!$E$1:$ED$1,0)),)=0,0.00000000001,IFERROR(INDEX(Přehled_body!$E$3:$ED$130,MATCH(Tabulka!$AI4,Přehled_body!$A$3:$A$130,0),MATCH(Tabulka!X$2,Přehled_body!$E$1:$ED$1,0)),)))","v":0},{"$f":"IF(IFERROR(INDEX(Přehled_body!$E$3:$ED$130,MATCH(Tabulka!$AI4,Přehled_body!$A$3:$A$130,0),MATCH(Tabulka!Y$2,Přehled_body!$E$1:$ED$1,0)),)=\"\",,IF(IFERROR(INDEX(Přehled_body!$E$3:$ED$130,MATCH(Tabulka!$AI4,Přehled_body!$A$3:$A$130,0),MATCH(Tabulka!Y$2,Přehled_body!$E$1:$ED$1,0)),)=0,0.00000000001,IFERROR(INDEX(Přehled_body!$E$3:$ED$130,MATCH(Tabulka!$AI4,Přehled_body!$A$3:$A$130,0),MATCH(Tabulka!Y$2,Přehled_body!$E$1:$ED$1,0)),)))","v":0},{"$f":"IF(IFERROR(INDEX(Přehled_body!$E$3:$ED$130,MATCH(Tabulka!$AI4,Přehled_body!$A$3:$A$130,0),MATCH(Tabulka!Z$2,Přehled_body!$E$1:$ED$1,0)),)=\"\",,IF(IFERROR(INDEX(Přehled_body!$E$3:$ED$130,MATCH(Tabulka!$AI4,Přehled_body!$A$3:$A$130,0),MATCH(Tabulka!Z$2,Přehled_body!$E$1:$ED$1,0)),)=0,0.00000000001,IFERROR(INDEX(Přehled_body!$E$3:$ED$130,MATCH(Tabulka!$AI4,Přehled_body!$A$3:$A$130,0),MATCH(Tabulka!Z$2,Přehled_body!$E$1:$ED$1,0)),)))","v":0},{"$f":"IF(IFERROR(INDEX(Přehled_body!$E$3:$ED$130,MATCH(Tabulka!$AI4,Přehled_body!$A$3:$A$130,0),MATCH(Tabulka!AA$2,Přehled_body!$E$1:$ED$1,0)),)=\"\",,IF(IFERROR(INDEX(Přehled_body!$E$3:$ED$130,MATCH(Tabulka!$AI4,Přehled_body!$A$3:$A$130,0),MATCH(Tabulka!AA$2,Přehled_body!$E$1:$ED$1,0)),)=0,0.00000000001,IFERROR(INDEX(Přehled_body!$E$3:$ED$130,MATCH(Tabulka!$AI4,Přehled_body!$A$3:$A$130,0),MATCH(Tabulka!AA$2,Přehled_body!$E$1:$ED$1,0)),)))","v":0},{"$f":"IF(IFERROR(INDEX(Přehled_body!$E$3:$ED$130,MATCH(Tabulka!$AI4,Přehled_body!$A$3:$A$130,0),MATCH(Tabulka!AB$2,Přehled_body!$E$1:$ED$1,0)),)=\"\",,IF(IFERROR(INDEX(Přehled_body!$E$3:$ED$130,MATCH(Tabulka!$AI4,Přehled_body!$A$3:$A$130,0),MATCH(Tabulka!AB$2,Přehled_body!$E$1:$ED$1,0)),)=0,0.00000000001,IFERROR(INDEX(Přehled_body!$E$3:$ED$130,MATCH(Tabulka!$AI4,Přehled_body!$A$3:$A$130,0),MATCH(Tabulka!AB$2,Přehled_body!$E$1:$ED$1,0)),)))","v":0},{"$f":"IF(IFERROR(INDEX(Přehled_body!$E$3:$ED$130,MATCH(Tabulka!$AI4,Přehled_body!$A$3:$A$130,0),MATCH(Tabulka!AC$2,Přehled_body!$E$1:$ED$1,0)),)=\"\",,IF(IFERROR(INDEX(Přehled_body!$E$3:$ED$130,MATCH(Tabulka!$AI4,Přehled_body!$A$3:$A$130,0),MATCH(Tabulka!AC$2,Přehled_body!$E$1:$ED$1,0)),)=0,0.00000000001,IFERROR(INDEX(Přehled_body!$E$3:$ED$130,MATCH(Tabulka!$AI4,Přehled_body!$A$3:$A$130,0),MATCH(Tabulka!AC$2,Přehled_body!$E$1:$ED$1,0)),)))","v":0},{"$f":"IF(IFERROR(INDEX(Přehled_body!$E$3:$ED$130,MATCH(Tabulka!$AI4,Přehled_body!$A$3:$A$130,0),MATCH(Tabulka!AD$2,Přehled_body!$E$1:$ED$1,0)),)=\"\",,IF(IFERROR(INDEX(Přehled_body!$E$3:$ED$130,MATCH(Tabulka!$AI4,Přehled_body!$A$3:$A$130,0),MATCH(Tabulka!AD$2,Přehled_body!$E$1:$ED$1,0)),)=0,0.00000000001,IFERROR(INDEX(Přehled_body!$E$3:$ED$130,MATCH(Tabulka!$AI4,Přehled_body!$A$3:$A$130,0),MATCH(Tabulka!AD$2,Přehled_body!$E$1:$ED$1,0)),)))","v":0},{"$f":"IF(SUM(AG4)<2,-90000+SUM(D4:AD4),SUM(D4:AD4))","v":-90000},null,{"$f":"COUNTIF(D4:AD4,\">0\")","v":0},{"$f":"SUM(D4:AD4)","v":0},{"$f":"CONCATENATE($B$5,\" \",$B$6,C4)","v":"Jiří FialaVýhry"},null,null,{"$f":"COUNTIF(D4:AD4,\">0\")","v":0}]
[{"$f":"CONCATENATE(B5,\" \",B6)","v":"Jiří Fiala"},"Jiří","Prohry",{"$f":"IF(IFERROR(INDEX(Přehled_body!$E$3:$ED$130,MATCH(Tabulka!$AI5,Přehled_body!$A$3:$A$130,0),MATCH(Tabulka!D$2,Přehled_body!$E$1:$ED$1,0)),)=\"\",,IF(IFERROR(INDEX(Přehled_body!$E$3:$ED$130,MATCH(Tabulka!$AI5,Přehled_body!$A$3:$A$130,0),MATCH(Tabulka!D$2,Přehled_body!$E$1:$ED$1,0)),)=0,0.00000000001,IFERROR(INDEX(Přehled_body!$E$3:$ED$130,MATCH(Tabulka!$AI5,Přehled_body!$A$3:$A$130,0),MATCH(Tabulka!D$2,Přehled_body!$E$1:$ED$1,0)),)))","v":0},{"$f":"IF(IFERROR(INDEX(Přehled_body!$E$3:$ED$130,MATCH(Tabulka!$AI5,Přehled_body!$A$3:$A$130,0),MATCH(Tabulka!E$2,Přehled_body!$E$1:$ED$1,0)),)=\"\",,IF(IFERROR(INDEX(Přehled_body!$E$3:$ED$130,MATCH(Tabulka!$AI5,Přehled_body!$A$3:$A$130,0),MATCH(Tabulka!E$2,Přehled_body!$E$1:$ED$1,0)),)=0,0.00000000001,IFERROR(INDEX(Přehled_body!$E$3:$ED$130,MATCH(Tabulka!$AI5,Přehled_body!$A$3:$A$130,0),MATCH(Tabulka!E$2,Přehled_body!$E$1:$ED$1,0)),)))","v":0},{"$f":"IF(IFERROR(INDEX(Přehled_body!$E$3:$ED$130,MATCH(Tabulka!$AI5,Přehled_body!$A$3:$A$130,0),MATCH(Tabulka!F$2,Přehled_body!$E$1:$ED$1,0)),)=\"\",,IF(IFERROR(INDEX(Přehled_body!$E$3:$ED$130,MATCH(Tabulka!$AI5,Přehled_body!$A$3:$A$130,0),MATCH(Tabulka!F$2,Přehled_body!$E$1:$ED$1,0)),)=0,0.00000000001,IFERROR(INDEX(Přehled_body!$E$3:$ED$130,MATCH(Tabulka!$AI5,Přehled_body!$A$3:$A$130,0),MATCH(Tabulka!F$2,Přehled_body!$E$1:$ED$1,0)),)))","v":0},{"$f":"IF(IFERROR(INDEX(Přehled_body!$E$3:$ED$130,MATCH(Tabulka!$AI5,Přehled_body!$A$3:$A$130,0),MATCH(Tabulka!G$2,Přehled_body!$E$1:$ED$1,0)),)=\"\",,IF(IFERROR(INDEX(Přehled_body!$E$3:$ED$130,MATCH(Tabulka!$AI5,Přehled_body!$A$3:$A$130,0),MATCH(Tabulka!G$2,Přehled_body!$E$1:$ED$1,0)),)=0,0.00000000001,IFERROR(INDEX(Přehled_body!$E$3:$ED$130,MATCH(Tabulka!$AI5,Přehled_body!$A$3:$A$130,0),MATCH(Tabulka!G$2,Přehled_body!$E$1:$ED$1,0)),)))","v":0},{"$f":"IF(IFERROR(INDEX(Přehled_body!$E$3:$ED$130,MATCH(Tabulka!$AI5,Přehled_body!$A$3:$A$130,0),MATCH(Tabulka!H$2,Přehled_body!$E$1:$ED$1,0)),)=\"\",,IF(IFERROR(INDEX(Přehled_body!$E$3:$ED$130,MATCH(Tabulka!$AI5,Přehled_body!$A$3:$A$130,0),MATCH(Tabulka!H$2,Přehled_body!$E$1:$ED$1,0)),)=0,0.00000000001,IFERROR(INDEX(Přehled_body!$E$3:$ED$130,MATCH(Tabulka!$AI5,Přehled_body!$A$3:$A$130,0),MATCH(Tabulka!H$2,Přehled_body!$E$1:$ED$1,0)),)))","v":0},{"$f":"IF(IFERROR(INDEX(Přehled_body!$E$3:$ED$130,MATCH(Tabulka!$AI5,Přehled_body!$A$3:$A$130,0),MATCH(Tabulka!I$2,Přehled_body!$E$1:$ED$1,0)),)=\"\",,IF(IFERROR(INDEX(Přehled_body!$E$3:$ED$130,MATCH(Tabulka!$AI5,Přehled_body!$A$3:$A$130,0),MATCH(Tabulka!I$2,Přehled_body!$E$1:$ED$1,0)),)=0,0.00000000001,IFERROR(INDEX(Přehled_body!$E$3:$ED$130,MATCH(Tabulka!$AI5,Přehled_body!$A$3:$A$130,0),MATCH(Tabulka!I$2,Přehled_body!$E$1:$ED$1,0)),)))","v":0},{"$f":"IF(IFERROR(INDEX(Přehled_body!$E$3:$ED$130,MATCH(Tabulka!$AI5,Přehled_body!$A$3:$A$130,0),MATCH(Tabulka!J$2,Přehled_body!$E$1:$ED$1,0)),)=\"\",,IF(IFERROR(INDEX(Přehled_body!$E$3:$ED$130,MATCH(Tabulka!$AI5,Přehled_body!$A$3:$A$130,0),MATCH(Tabulka!J$2,Přehled_body!$E$1:$ED$1,0)),)=0,0.00000000001,IFERROR(INDEX(Přehled_body!$E$3:$ED$130,MATCH(Tabulka!$AI5,Přehled_body!$A$3:$A$130,0),MATCH(Tabulka!J$2,Přehled_body!$E$1:$ED$1,0)),)))","v":0},{"$f":"IF(IFERROR(INDEX(Přehled_body!$E$3:$ED$130,MATCH(Tabulka!$AI5,Přehled_body!$A$3:$A$130,0),MATCH(Tabulka!K$2,Přehled_body!$E$1:$ED$1,0)),)=\"\",,IF(IFERROR(INDEX(Přehled_body!$E$3:$ED$130,MATCH(Tabulka!$AI5,Přehled_body!$A$3:$A$130,0),MATCH(Tabulka!K$2,Přehled_body!$E$1:$ED$1,0)),)=0,0.00000000001,IFERROR(INDEX(Přehled_body!$E$3:$ED$130,MATCH(Tabulka!$AI5,Přehled_body!$A$3:$A$130,0),MATCH(Tabulka!K$2,Přehled_body!$E$1:$ED$1,0)),)))","v":0},{"$f":"IF(IFERROR(INDEX(Přehled_body!$E$3:$ED$130,MATCH(Tabulka!$AI5,Přehled_body!$A$3:$A$130,0),MATCH(Tabulka!L$2,Přehled_body!$E$1:$ED$1,0)),)=\"\",,IF(IFERROR(INDEX(Přehled_body!$E$3:$ED$130,MATCH(Tabulka!$AI5,Přehled_body!$A$3:$A$130,0),MATCH(Tabulka!L$2,Přehled_body!$E$1:$ED$1,0)),)=0,0.00000000001,IFERROR(INDEX(Přehled_body!$E$3:$ED$130,MATCH(Tabulka!$AI5,Přehled_body!$A$3:$A$130,0),MATCH(Tabulka!L$2,Přehled_body!$E$1:$ED$1,0)),)))","v":0},{"$f":"IF(IFERROR(INDEX(Přehled_body!$E$3:$ED$130,MATCH(Tabulka!$AI5,Přehled_body!$A$3:$A$130,0),MATCH(Tabulka!M$2,Přehled_body!$E$1:$ED$1,0)),)=\"\",,IF(IFERROR(INDEX(Přehled_body!$E$3:$ED$130,MATCH(Tabulka!$AI5,Přehled_body!$A$3:$A$130,0),MATCH(Tabulka!M$2,Přehled_body!$E$1:$ED$1,0)),)=0,0.00000000001,IFERROR(INDEX(Přehled_body!$E$3:$ED$130,MATCH(Tabulka!$AI5,Přehled_body!$A$3:$A$130,0),MATCH(Tabulka!M$2,Přehled_body!$E$1:$ED$1,0)),)))","v":0},{"$f":"IF(IFERROR(INDEX(Přehled_body!$E$3:$ED$130,MATCH(Tabulka!$AI5,Přehled_body!$A$3:$A$130,0),MATCH(Tabulka!N$2,Přehled_body!$E$1:$ED$1,0)),)=\"\",,IF(IFERROR(INDEX(Přehled_body!$E$3:$ED$130,MATCH(Tabulka!$AI5,Přehled_body!$A$3:$A$130,0),MATCH(Tabulka!N$2,Přehled_body!$E$1:$ED$1,0)),)=0,0.00000000001,IFERROR(INDEX(Přehled_body!$E$3:$ED$130,MATCH(Tabulka!$AI5,Přehled_body!$A$3:$A$130,0),MATCH(Tabulka!N$2,Přehled_body!$E$1:$ED$1,0)),)))","v":0},{"$f":"IF(IFERROR(INDEX(Přehled_body!$E$3:$ED$130,MATCH(Tabulka!$AI5,Přehled_body!$A$3:$A$130,0),MATCH(Tabulka!O$2,Přehled_body!$E$1:$ED$1,0)),)=\"\",,IF(IFERROR(INDEX(Přehled_body!$E$3:$ED$130,MATCH(Tabulka!$AI5,Přehled_body!$A$3:$A$130,0),MATCH(Tabulka!O$2,Přehled_body!$E$1:$ED$1,0)),)=0,0.00000000001,IFERROR(INDEX(Přehled_body!$E$3:$ED$130,MATCH(Tabulka!$AI5,Přehled_body!$A$3:$A$130,0),MATCH(Tabulka!O$2,Přehled_body!$E$1:$ED$1,0)),)))","v":0},{"$f":"IF(IFERROR(INDEX(Přehled_body!$E$3:$ED$130,MATCH(Tabulka!$AI5,Přehled_body!$A$3:$A$130,0),MATCH(Tabulka!P$2,Přehled_body!$E$1:$ED$1,0)),)=\"\",,IF(IFERROR(INDEX(Přehled_body!$E$3:$ED$130,MATCH(Tabulka!$AI5,Přehled_body!$A$3:$A$130,0),MATCH(Tabulka!P$2,Přehled_body!$E$1:$ED$1,0)),)=0,0.00000000001,IFERROR(INDEX(Přehled_body!$E$3:$ED$130,MATCH(Tabulka!$AI5,Přehled_body!$A$3:$A$130,0),MATCH(Tabulka!P$2,Přehled_body!$E$1:$ED$1,0)),)))","v":0},{"$f":"IF(IFERROR(INDEX(Přehled_body!$E$3:$ED$130,MATCH(Tabulka!$AI5,Přehled_body!$A$3:$A$130,0),MATCH(Tabulka!Q$2,Přehled_body!$E$1:$ED$1,0)),)=\"\",,IF(IFERROR(INDEX(Přehled_body!$E$3:$ED$130,MATCH(Tabulka!$AI5,Přehled_body!$A$3:$A$130,0),MATCH(Tabulka!Q$2,Přehled_body!$E$1:$ED$1,0)),)=0,0.00000000001,IFERROR(INDEX(Přehled_body!$E$3:$ED$130,MATCH(Tabulka!$AI5,Přehled_body!$A$3:$A$130,0),MATCH(Tabulka!Q$2,Přehled_body!$E$1:$ED$1,0)),)))","v":0},{"$f":"IF(IFERROR(INDEX(Přehled_body!$E$3:$ED$130,MATCH(Tabulka!$AI5,Přehled_body!$A$3:$A$130,0),MATCH(Tabulka!R$2,Přehled_body!$E$1:$ED$1,0)),)=\"\",,IF(IFERROR(INDEX(Přehled_body!$E$3:$ED$130,MATCH(Tabulka!$AI5,Přehled_body!$A$3:$A$130,0),MATCH(Tabulka!R$2,Přehled_body!$E$1:$ED$1,0)),)=0,0.00000000001,IFERROR(INDEX(Přehled_body!$E$3:$ED$130,MATCH(Tabulka!$AI5,Přehled_body!$A$3:$A$130,0),MATCH(Tabulka!R$2,Přehled_body!$E$1:$ED$1,0)),)))","v":0},{"$f":"IF(IFERROR(INDEX(Přehled_body!$E$3:$ED$130,MATCH(Tabulka!$AI5,Přehled_body!$A$3:$A$130,0),MATCH(Tabulka!S$2,Přehled_body!$E$1:$ED$1,0)),)=\"\",,IF(IFERROR(INDEX(Přehled_body!$E$3:$ED$130,MATCH(Tabulka!$AI5,Přehled_body!$A$3:$A$130,0),MATCH(Tabulka!S$2,Přehled_body!$E$1:$ED$1,0)),)=0,0.00000000001,IFERROR(INDEX(Přehled_body!$E$3:$ED$130,MATCH(Tabulka!$AI5,Přehled_body!$A$3:$A$130,0),MATCH(Tabulka!S$2,Přehled_body!$E$1:$ED$1,0)),)))","v":0},{"$f":"IF(IFERROR(INDEX(Přehled_body!$E$3:$ED$130,MATCH(Tabulka!$AI5,Přehled_body!$A$3:$A$130,0),MATCH(Tabulka!T$2,Přehled_body!$E$1:$ED$1,0)),)=\"\",,IF(IFERROR(INDEX(Přehled_body!$E$3:$ED$130,MATCH(Tabulka!$AI5,Přehled_body!$A$3:$A$130,0),MATCH(Tabulka!T$2,Přehled_body!$E$1:$ED$1,0)),)=0,0.00000000001,IFERROR(INDEX(Přehled_body!$E$3:$ED$130,MATCH(Tabulka!$AI5,Přehled_body!$A$3:$A$130,0),MATCH(Tabulka!T$2,Přehled_body!$E$1:$ED$1,0)),)))","v":0},{"$f":"IF(IFERROR(INDEX(Přehled_body!$E$3:$ED$130,MATCH(Tabulka!$AI5,Přehled_body!$A$3:$A$130,0),MATCH(Tabulka!U$2,Přehled_body!$E$1:$ED$1,0)),)=\"\",,IF(IFERROR(INDEX(Přehled_body!$E$3:$ED$130,MATCH(Tabulka!$AI5,Přehled_body!$A$3:$A$130,0),MATCH(Tabulka!U$2,Přehled_body!$E$1:$ED$1,0)),)=0,0.00000000001,IFERROR(INDEX(Přehled_body!$E$3:$ED$130,MATCH(Tabulka!$AI5,Přehled_body!$A$3:$A$130,0),MATCH(Tabulka!U$2,Přehled_body!$E$1:$ED$1,0)),)))","v":0},{"$f":"IF(IFERROR(INDEX(Přehled_body!$E$3:$ED$130,MATCH(Tabulka!$AI5,Přehled_body!$A$3:$A$130,0),MATCH(Tabulka!V$2,Přehled_body!$E$1:$ED$1,0)),)=\"\",,IF(IFERROR(INDEX(Přehled_body!$E$3:$ED$130,MATCH(Tabulka!$AI5,Přehled_body!$A$3:$A$130,0),MATCH(Tabulka!V$2,Přehled_body!$E$1:$ED$1,0)),)=0,0.00000000001,IFERROR(INDEX(Přehled_body!$E$3:$ED$130,MATCH(Tabulka!$AI5,Přehled_body!$A$3:$A$130,0),MATCH(Tabulka!V$2,Přehled_body!$E$1:$ED$1,0)),)))","v":0},{"$f":"IF(IFERROR(INDEX(Přehled_body!$E$3:$ED$130,MATCH(Tabulka!$AI5,Přehled_body!$A$3:$A$130,0),MATCH(Tabulka!W$2,Přehled_body!$E$1:$ED$1,0)),)=\"\",,IF(IFERROR(INDEX(Přehled_body!$E$3:$ED$130,MATCH(Tabulka!$AI5,Přehled_body!$A$3:$A$130,0),MATCH(Tabulka!W$2,Přehled_body!$E$1:$ED$1,0)),)=0,0.00000000001,IFERROR(INDEX(Přehled_body!$E$3:$ED$130,MATCH(Tabulka!$AI5,Přehled_body!$A$3:$A$130,0),MATCH(Tabulka!W$2,Přehled_body!$E$1:$ED$1,0)),)))","v":0},{"$f":"IF(IFERROR(INDEX(Přehled_body!$E$3:$ED$130,MATCH(Tabulka!$AI5,Přehled_body!$A$3:$A$130,0),MATCH(Tabulka!X$2,Přehled_body!$E$1:$ED$1,0)),)=\"\",,IF(IFERROR(INDEX(Přehled_body!$E$3:$ED$130,MATCH(Tabulka!$AI5,Přehled_body!$A$3:$A$130,0),MATCH(Tabulka!X$2,Přehled_body!$E$1:$ED$1,0)),)=0,0.00000000001,IFERROR(INDEX(Přehled_body!$E$3:$ED$130,MATCH(Tabulka!$AI5,Přehled_body!$A$3:$A$130,0),MATCH(Tabulka!X$2,Přehled_body!$E$1:$ED$1,0)),)))","v":0},{"$f":"IF(IFERROR(INDEX(Přehled_body!$E$3:$ED$130,MATCH(Tabulka!$AI5,Přehled_body!$A$3:$A$130,0),MATCH(Tabulka!Y$2,Přehled_body!$E$1:$ED$1,0)),)=\"\",,IF(IFERROR(INDEX(Přehled_body!$E$3:$ED$130,MATCH(Tabulka!$AI5,Přehled_body!$A$3:$A$130,0),MATCH(Tabulka!Y$2,Přehled_body!$E$1:$ED$1,0)),)=0,0.00000000001,IFERROR(INDEX(Přehled_body!$E$3:$ED$130,MATCH(Tabulka!$AI5,Přehled_body!$A$3:$A$130,0),MATCH(Tabulka!Y$2,Přehled_body!$E$1:$ED$1,0)),)))","v":0},{"$f":"IF(IFERROR(INDEX(Přehled_body!$E$3:$ED$130,MATCH(Tabulka!$AI5,Přehled_body!$A$3:$A$130,0),MATCH(Tabulka!Z$2,Přehled_body!$E$1:$ED$1,0)),)=\"\",,IF(IFERROR(INDEX(Přehled_body!$E$3:$ED$130,MATCH(Tabulka!$AI5,Přehled_body!$A$3:$A$130,0),MATCH(Tabulka!Z$2,Přehled_body!$E$1:$ED$1,0)),)=0,0.00000000001,IFERROR(INDEX(Přehled_body!$E$3:$ED$130,MATCH(Tabulka!$AI5,Přehled_body!$A$3:$A$130,0),MATCH(Tabulka!Z$2,Přehled_body!$E$1:$ED$1,0)),)))","v":0},{"$f":"IF(IFERROR(INDEX(Přehled_body!$E$3:$ED$130,MATCH(Tabulka!$AI5,Přehled_body!$A$3:$A$130,0),MATCH(Tabulka!AA$2,Přehled_body!$E$1:$ED$1,0)),)=\"\",,IF(IFERROR(INDEX(Přehled_body!$E$3:$ED$130,MATCH(Tabulka!$AI5,Přehled_body!$A$3:$A$130,0),MATCH(Tabulka!AA$2,Přehled_body!$E$1:$ED$1,0)),)=0,0.00000000001,IFERROR(INDEX(Přehled_body!$E$3:$ED$130,MATCH(Tabulka!$AI5,Přehled_body!$A$3:$A$130,0),MATCH(Tabulka!AA$2,Přehled_body!$E$1:$ED$1,0)),)))","v":0},{"$f":"IF(IFERROR(INDEX(Přehled_body!$E$3:$ED$130,MATCH(Tabulka!$AI5,Přehled_body!$A$3:$A$130,0),MATCH(Tabulka!AB$2,Přehled_body!$E$1:$ED$1,0)),)=\"\",,IF(IFERROR(INDEX(Přehled_body!$E$3:$ED$130,MATCH(Tabulka!$AI5,Přehled_body!$A$3:$A$130,0),MATCH(Tabulka!AB$2,Přehled_body!$E$1:$ED$1,0)),)=0,0.00000000001,IFERROR(INDEX(Přehled_body!$E$3:$ED$130,MATCH(Tabulka!$AI5,Přehled_body!$A$3:$A$130,0),MATCH(Tabulka!AB$2,Přehled_body!$E$1:$ED$1,0)),)))","v":0},{"$f":"IF(IFERROR(INDEX(Přehled_body!$E$3:$ED$130,MATCH(Tabulka!$AI5,Přehled_body!$A$3:$A$130,0),MATCH(Tabulka!AC$2,Přehled_body!$E$1:$ED$1,0)),)=\"\",,IF(IFERROR(INDEX(Přehled_body!$E$3:$ED$130,MATCH(Tabulka!$AI5,Přehled_body!$A$3:$A$130,0),MATCH(Tabulka!AC$2,Přehled_body!$E$1:$ED$1,0)),)=0,0.00000000001,IFERROR(INDEX(Přehled_body!$E$3:$ED$130,MATCH(Tabulka!$AI5,Přehled_body!$A$3:$A$130,0),MATCH(Tabulka!AC$2,Přehled_body!$E$1:$ED$1,0)),)))","v":0},{"$f":"IF(IFERROR(INDEX(Přehled_body!$E$3:$ED$130,MATCH(Tabulka!$AI5,Přehled_body!$A$3:$A$130,0),MATCH(Tabulka!AD$2,Přehled_body!$E$1:$ED$1,0)),)=\"\",,IF(IFERROR(INDEX(Přehled_body!$E$3:$ED$130,MATCH(Tabulka!$AI5,Přehled_body!$A$3:$A$130,0),MATCH(Tabulka!AD$2,Přehled_body!$E$1:$ED$1,0)),)=0,0.00000000001,IFERROR(INDEX(Přehled_body!$E$3:$ED$130,MATCH(Tabulka!$AI5,Přehled_body!$A$3:$A$130,0),MATCH(Tabulka!AD$2,Přehled_body!$E$1:$ED$1,0)),)))","v":0},{"$f":"IF(SUM(AG4)<2,-90000+SUM(D5:AD5),SUM(D5:AD5))","v":-90000},{"$f":"SUM(AE4-AE5)","v":0},null,0,{"$f":"CONCATENATE($B$5,\" \",$B$6,C5)","v":"Jiří FialaProhry"},null,null,0,null,null,"Jiří",1]
[{"$f":"CONCATENATE(B6,\" \",B5)","v":"Fiala Jiří"},"Fiala","Placeno panáků",{"$f":"IF(IFERROR(INDEX(Přehled_body!$E$3:$ED$130,MATCH(Tabulka!$AI6,Přehled_body!$A$3:$A$130,0),MATCH(Tabulka!D$2,Přehled_body!$E$1:$ED$1,0)),)=\"\",,IF(IFERROR(INDEX(Přehled_body!$E$3:$ED$130,MATCH(Tabulka!$AI6,Přehled_body!$A$3:$A$130,0),MATCH(Tabulka!D$2,Přehled_body!$E$1:$ED$1,0)),)=0,0.00000000001,IFERROR(INDEX(Přehled_body!$E$3:$ED$130,MATCH(Tabulka!$AI6,Přehled_body!$A$3:$A$130,0),MATCH(Tabulka!D$2,Přehled_body!$E$1:$ED$1,0)),)))","v":0},{"$f":"IF(IFERROR(INDEX(Přehled_body!$E$3:$ED$130,MATCH(Tabulka!$AI6,Přehled_body!$A$3:$A$130,0),MATCH(Tabulka!E$2,Přehled_body!$E$1:$ED$1,0)),)=\"\",,IF(IFERROR(INDEX(Přehled_body!$E$3:$ED$130,MATCH(Tabulka!$AI6,Přehled_body!$A$3:$A$130,0),MATCH(Tabulka!E$2,Přehled_body!$E$1:$ED$1,0)),)=0,0.00000000001,IFERROR(INDEX(Přehled_body!$E$3:$ED$130,MATCH(Tabulka!$AI6,Přehled_body!$A$3:$A$130,0),MATCH(Tabulka!E$2,Přehled_body!$E$1:$ED$1,0)),)))","v":0},{"$f":"IF(IFERROR(INDEX(Přehled_body!$E$3:$ED$130,MATCH(Tabulka!$AI6,Přehled_body!$A$3:$A$130,0),MATCH(Tabulka!F$2,Přehled_body!$E$1:$ED$1,0)),)=\"\",,IF(IFERROR(INDEX(Přehled_body!$E$3:$ED$130,MATCH(Tabulka!$AI6,Přehled_body!$A$3:$A$130,0),MATCH(Tabulka!F$2,Přehled_body!$E$1:$ED$1,0)),)=0,0.00000000001,IFERROR(INDEX(Přehled_body!$E$3:$ED$130,MATCH(Tabulka!$AI6,Přehled_body!$A$3:$A$130,0),MATCH(Tabulka!F$2,Přehled_body!$E$1:$ED$1,0)),)))","v":0},{"$f":"IF(IFERROR(INDEX(Přehled_body!$E$3:$ED$130,MATCH(Tabulka!$AI6,Přehled_body!$A$3:$A$130,0),MATCH(Tabulka!G$2,Přehled_body!$E$1:$ED$1,0)),)=\"\",,IF(IFERROR(INDEX(Přehled_body!$E$3:$ED$130,MATCH(Tabulka!$AI6,Přehled_body!$A$3:$A$130,0),MATCH(Tabulka!G$2,Přehled_body!$E$1:$ED$1,0)),)=0,0.00000000001,IFERROR(INDEX(Přehled_body!$E$3:$ED$130,MATCH(Tabulka!$AI6,Přehled_body!$A$3:$A$130,0),MATCH(Tabulka!G$2,Přehled_body!$E$1:$ED$1,0)),)))","v":0},{"$f":"IF(IFERROR(INDEX(Přehled_body!$E$3:$ED$130,MATCH(Tabulka!$AI6,Přehled_body!$A$3:$A$130,0),MATCH(Tabulka!H$2,Přehled_body!$E$1:$ED$1,0)),)=\"\",,IF(IFERROR(INDEX(Přehled_body!$E$3:$ED$130,MATCH(Tabulka!$AI6,Přehled_body!$A$3:$A$130,0),MATCH(Tabulka!H$2,Přehled_body!$E$1:$ED$1,0)),)=0,0.00000000001,IFERROR(INDEX(Přehled_body!$E$3:$ED$130,MATCH(Tabulka!$AI6,Přehled_body!$A$3:$A$130,0),MATCH(Tabulka!H$2,Přehled_body!$E$1:$ED$1,0)),)))","v":0},{"$f":"IF(IFERROR(INDEX(Přehled_body!$E$3:$ED$130,MATCH(Tabulka!$AI6,Přehled_body!$A$3:$A$130,0),MATCH(Tabulka!I$2,Přehled_body!$E$1:$ED$1,0)),)=\"\",,IF(IFERROR(INDEX(Přehled_body!$E$3:$ED$130,MATCH(Tabulka!$AI6,Přehled_body!$A$3:$A$130,0),MATCH(Tabulka!I$2,Přehled_body!$E$1:$ED$1,0)),)=0,0.00000000001,IFERROR(INDEX(Přehled_body!$E$3:$ED$130,MATCH(Tabulka!$AI6,Přehled_body!$A$3:$A$130,0),MATCH(Tabulka!I$2,Přehled_body!$E$1:$ED$1,0)),)))","v":0},{"$f":"IF(IFERROR(INDEX(Přehled_body!$E$3:$ED$130,MATCH(Tabulka!$AI6,Přehled_body!$A$3:$A$130,0),MATCH(Tabulka!J$2,Přehled_body!$E$1:$ED$1,0)),)=\"\",,IF(IFERROR(INDEX(Přehled_body!$E$3:$ED$130,MATCH(Tabulka!$AI6,Přehled_body!$A$3:$A$130,0),MATCH(Tabulka!J$2,Přehled_body!$E$1:$ED$1,0)),)=0,0.00000000001,IFERROR(INDEX(Přehled_body!$E$3:$ED$130,MATCH(Tabulka!$AI6,Přehled_body!$A$3:$A$130,0),MATCH(Tabulka!J$2,Přehled_body!$E$1:$ED$1,0)),)))","v":0},{"$f":"IF(IFERROR(INDEX(Přehled_body!$E$3:$ED$130,MATCH(Tabulka!$AI6,Přehled_body!$A$3:$A$130,0),MATCH(Tabulka!K$2,Přehled_body!$E$1:$ED$1,0)),)=\"\",,IF(IFERROR(INDEX(Přehled_body!$E$3:$ED$130,MATCH(Tabulka!$AI6,Přehled_body!$A$3:$A$130,0),MATCH(Tabulka!K$2,Přehled_body!$E$1:$ED$1,0)),)=0,0.00000000001,IFERROR(INDEX(Přehled_body!$E$3:$ED$130,MATCH(Tabulka!$AI6,Přehled_body!$A$3:$A$130,0),MATCH(Tabulka!K$2,Přehled_body!$E$1:$ED$1,0)),)))","v":0},{"$f":"IF(IFERROR(INDEX(Přehled_body!$E$3:$ED$130,MATCH(Tabulka!$AI6,Přehled_body!$A$3:$A$130,0),MATCH(Tabulka!L$2,Přehled_body!$E$1:$ED$1,0)),)=\"\",,IF(IFERROR(INDEX(Přehled_body!$E$3:$ED$130,MATCH(Tabulka!$AI6,Přehled_body!$A$3:$A$130,0),MATCH(Tabulka!L$2,Přehled_body!$E$1:$ED$1,0)),)=0,0.00000000001,IFERROR(INDEX(Přehled_body!$E$3:$ED$130,MATCH(Tabulka!$AI6,Přehled_body!$A$3:$A$130,0),MATCH(Tabulka!L$2,Přehled_body!$E$1:$ED$1,0)),)))","v":0},{"$f":"IF(IFERROR(INDEX(Přehled_body!$E$3:$ED$130,MATCH(Tabulka!$AI6,Přehled_body!$A$3:$A$130,0),MATCH(Tabulka!M$2,Přehled_body!$E$1:$ED$1,0)),)=\"\",,IF(IFERROR(INDEX(Přehled_body!$E$3:$ED$130,MATCH(Tabulka!$AI6,Přehled_body!$A$3:$A$130,0),MATCH(Tabulka!M$2,Přehled_body!$E$1:$ED$1,0)),)=0,0.00000000001,IFERROR(INDEX(Přehled_body!$E$3:$ED$130,MATCH(Tabulka!$AI6,Přehled_body!$A$3:$A$130,0),MATCH(Tabulka!M$2,Přehled_body!$E$1:$ED$1,0)),)))","v":0},{"$f":"IF(IFERROR(INDEX(Přehled_body!$E$3:$ED$130,MATCH(Tabulka!$AI6,Přehled_body!$A$3:$A$130,0),MATCH(Tabulka!N$2,Přehled_body!$E$1:$ED$1,0)),)=\"\",,IF(IFERROR(INDEX(Přehled_body!$E$3:$ED$130,MATCH(Tabulka!$AI6,Přehled_body!$A$3:$A$130,0),MATCH(Tabulka!N$2,Přehled_body!$E$1:$ED$1,0)),)=0,0.00000000001,IFERROR(INDEX(Přehled_body!$E$3:$ED$130,MATCH(Tabulka!$AI6,Přehled_body!$A$3:$A$130,0),MATCH(Tabulka!N$2,Přehled_body!$E$1:$ED$1,0)),)))","v":0},{"$f":"IF(IFERROR(INDEX(Přehled_body!$E$3:$ED$130,MATCH(Tabulka!$AI6,Přehled_body!$A$3:$A$130,0),MATCH(Tabulka!O$2,Přehled_body!$E$1:$ED$1,0)),)=\"\",,IF(IFERROR(INDEX(Přehled_body!$E$3:$ED$130,MATCH(Tabulka!$AI6,Přehled_body!$A$3:$A$130,0),MATCH(Tabulka!O$2,Přehled_body!$E$1:$ED$1,0)),)=0,0.00000000001,IFERROR(INDEX(Přehled_body!$E$3:$ED$130,MATCH(Tabulka!$AI6,Přehled_body!$A$3:$A$130,0),MATCH(Tabulka!O$2,Přehled_body!$E$1:$ED$1,0)),)))","v":0},{"$f":"IF(IFERROR(INDEX(Přehled_body!$E$3:$ED$130,MATCH(Tabulka!$AI6,Přehled_body!$A$3:$A$130,0),MATCH(Tabulka!P$2,Přehled_body!$E$1:$ED$1,0)),)=\"\",,IF(IFERROR(INDEX(Přehled_body!$E$3:$ED$130,MATCH(Tabulka!$AI6,Přehled_body!$A$3:$A$130,0),MATCH(Tabulka!P$2,Přehled_body!$E$1:$ED$1,0)),)=0,0.00000000001,IFERROR(INDEX(Přehled_body!$E$3:$ED$130,MATCH(Tabulka!$AI6,Přehled_body!$A$3:$A$130,0),MATCH(Tabulka!P$2,Přehled_body!$E$1:$ED$1,0)),)))","v":0},{"$f":"IF(IFERROR(INDEX(Přehled_body!$E$3:$ED$130,MATCH(Tabulka!$AI6,Přehled_body!$A$3:$A$130,0),MATCH(Tabulka!Q$2,Přehled_body!$E$1:$ED$1,0)),)=\"\",,IF(IFERROR(INDEX(Přehled_body!$E$3:$ED$130,MATCH(Tabulka!$AI6,Přehled_body!$A$3:$A$130,0),MATCH(Tabulka!Q$2,Přehled_body!$E$1:$ED$1,0)),)=0,0.00000000001,IFERROR(INDEX(Přehled_body!$E$3:$ED$130,MATCH(Tabulka!$AI6,Přehled_body!$A$3:$A$130,0),MATCH(Tabulka!Q$2,Přehled_body!$E$1:$ED$1,0)),)))","v":0},{"$f":"IF(IFERROR(INDEX(Přehled_body!$E$3:$ED$130,MATCH(Tabulka!$AI6,Přehled_body!$A$3:$A$130,0),MATCH(Tabulka!R$2,Přehled_body!$E$1:$ED$1,0)),)=\"\",,IF(IFERROR(INDEX(Přehled_body!$E$3:$ED$130,MATCH(Tabulka!$AI6,Přehled_body!$A$3:$A$130,0),MATCH(Tabulka!R$2,Přehled_body!$E$1:$ED$1,0)),)=0,0.00000000001,IFERROR(INDEX(Přehled_body!$E$3:$ED$130,MATCH(Tabulka!$AI6,Přehled_body!$A$3:$A$130,0),MATCH(Tabulka!R$2,Přehled_body!$E$1:$ED$1,0)),)))","v":0},{"$f":"IF(IFERROR(INDEX(Přehled_body!$E$3:$ED$130,MATCH(Tabulka!$AI6,Přehled_body!$A$3:$A$130,0),MATCH(Tabulka!S$2,Přehled_body!$E$1:$ED$1,0)),)=\"\",,IF(IFERROR(INDEX(Přehled_body!$E$3:$ED$130,MATCH(Tabulka!$AI6,Přehled_body!$A$3:$A$130,0),MATCH(Tabulka!S$2,Přehled_body!$E$1:$ED$1,0)),)=0,0.00000000001,IFERROR(INDEX(Přehled_body!$E$3:$ED$130,MATCH(Tabulka!$AI6,Přehled_body!$A$3:$A$130,0),MATCH(Tabulka!S$2,Přehled_body!$E$1:$ED$1,0)),)))","v":0},{"$f":"IF(IFERROR(INDEX(Přehled_body!$E$3:$ED$130,MATCH(Tabulka!$AI6,Přehled_body!$A$3:$A$130,0),MATCH(Tabulka!T$2,Přehled_body!$E$1:$ED$1,0)),)=\"\",,IF(IFERROR(INDEX(Přehled_body!$E$3:$ED$130,MATCH(Tabulka!$AI6,Přehled_body!$A$3:$A$130,0),MATCH(Tabulka!T$2,Přehled_body!$E$1:$ED$1,0)),)=0,0.00000000001,IFERROR(INDEX(Přehled_body!$E$3:$ED$130,MATCH(Tabulka!$AI6,Přehled_body!$A$3:$A$130,0),MATCH(Tabulka!T$2,Přehled_body!$E$1:$ED$1,0)),)))","v":0},{"$f":"IF(IFERROR(INDEX(Přehled_body!$E$3:$ED$130,MATCH(Tabulka!$AI6,Přehled_body!$A$3:$A$130,0),MATCH(Tabulka!U$2,Přehled_body!$E$1:$ED$1,0)),)=\"\",,IF(IFERROR(INDEX(Přehled_body!$E$3:$ED$130,MATCH(Tabulka!$AI6,Přehled_body!$A$3:$A$130,0),MATCH(Tabulka!U$2,Přehled_body!$E$1:$ED$1,0)),)=0,0.00000000001,IFERROR(INDEX(Přehled_body!$E$3:$ED$130,MATCH(Tabulka!$AI6,Přehled_body!$A$3:$A$130,0),MATCH(Tabulka!U$2,Přehled_body!$E$1:$ED$1,0)),)))","v":0},{"$f":"IF(IFERROR(INDEX(Přehled_body!$E$3:$ED$130,MATCH(Tabulka!$AI6,Přehled_body!$A$3:$A$130,0),MATCH(Tabulka!V$2,Přehled_body!$E$1:$ED$1,0)),)=\"\",,IF(IFERROR(INDEX(Přehled_body!$E$3:$ED$130,MATCH(Tabulka!$AI6,Přehled_body!$A$3:$A$130,0),MATCH(Tabulka!V$2,Přehled_body!$E$1:$ED$1,0)),)=0,0.00000000001,IFERROR(INDEX(Přehled_body!$E$3:$ED$130,MATCH(Tabulka!$AI6,Přehled_body!$A$3:$A$130,0),MATCH(Tabulka!V$2,Přehled_body!$E$1:$ED$1,0)),)))","v":0},{"$f":"IF(IFERROR(INDEX(Přehled_body!$E$3:$ED$130,MATCH(Tabulka!$AI6,Přehled_body!$A$3:$A$130,0),MATCH(Tabulka!W$2,Přehled_body!$E$1:$ED$1,0)),)=\"\",,IF(IFERROR(INDEX(Přehled_body!$E$3:$ED$130,MATCH(Tabulka!$AI6,Přehled_body!$A$3:$A$130,0),MATCH(Tabulka!W$2,Přehled_body!$E$1:$ED$1,0)),)=0,0.00000000001,IFERROR(INDEX(Přehled_body!$E$3:$ED$130,MATCH(Tabulka!$AI6,Přehled_body!$A$3:$A$130,0),MATCH(Tabulka!W$2,Přehled_body!$E$1:$ED$1,0)),)))","v":0},{"$f":"IF(IFERROR(INDEX(Přehled_body!$E$3:$ED$130,MATCH(Tabulka!$AI6,Přehled_body!$A$3:$A$130,0),MATCH(Tabulka!X$2,Přehled_body!$E$1:$ED$1,0)),)=\"\",,IF(IFERROR(INDEX(Přehled_body!$E$3:$ED$130,MATCH(Tabulka!$AI6,Přehled_body!$A$3:$A$130,0),MATCH(Tabulka!X$2,Přehled_body!$E$1:$ED$1,0)),)=0,0.00000000001,IFERROR(INDEX(Přehled_body!$E$3:$ED$130,MATCH(Tabulka!$AI6,Přehled_body!$A$3:$A$130,0),MATCH(Tabulka!X$2,Přehled_body!$E$1:$ED$1,0)),)))","v":0},{"$f":"IF(IFERROR(INDEX(Přehled_body!$E$3:$ED$130,MATCH(Tabulka!$AI6,Přehled_body!$A$3:$A$130,0),MATCH(Tabulka!Y$2,Přehled_body!$E$1:$ED$1,0)),)=\"\",,IF(IFERROR(INDEX(Přehled_body!$E$3:$ED$130,MATCH(Tabulka!$AI6,Přehled_body!$A$3:$A$130,0),MATCH(Tabulka!Y$2,Přehled_body!$E$1:$ED$1,0)),)=0,0.00000000001,IFERROR(INDEX(Přehled_body!$E$3:$ED$130,MATCH(Tabulka!$AI6,Přehled_body!$A$3:$A$130,0),MATCH(Tabulka!Y$2,Přehled_body!$E$1:$ED$1,0)),)))","v":0},{"$f":"IF(IFERROR(INDEX(Přehled_body!$E$3:$ED$130,MATCH(Tabulka!$AI6,Přehled_body!$A$3:$A$130,0),MATCH(Tabulka!Z$2,Přehled_body!$E$1:$ED$1,0)),)=\"\",,IF(IFERROR(INDEX(Přehled_body!$E$3:$ED$130,MATCH(Tabulka!$AI6,Přehled_body!$A$3:$A$130,0),MATCH(Tabulka!Z$2,Přehled_body!$E$1:$ED$1,0)),)=0,0.00000000001,IFERROR(INDEX(Přehled_body!$E$3:$ED$130,MATCH(Tabulka!$AI6,Přehled_body!$A$3:$A$130,0),MATCH(Tabulka!Z$2,Přehled_body!$E$1:$ED$1,0)),)))","v":0},{"$f":"IF(IFERROR(INDEX(Přehled_body!$E$3:$ED$130,MATCH(Tabulka!$AI6,Přehled_body!$A$3:$A$130,0),MATCH(Tabulka!AA$2,Přehled_body!$E$1:$ED$1,0)),)=\"\",,IF(IFERROR(INDEX(Přehled_body!$E$3:$ED$130,MATCH(Tabulka!$AI6,Přehled_body!$A$3:$A$130,0),MATCH(Tabulka!AA$2,Přehled_body!$E$1:$ED$1,0)),)=0,0.00000000001,IFERROR(INDEX(Přehled_body!$E$3:$ED$130,MATCH(Tabulka!$AI6,Přehled_body!$A$3:$A$130,0),MATCH(Tabulka!AA$2,Přehled_body!$E$1:$ED$1,0)),)))","v":0},{"$f":"IF(IFERROR(INDEX(Přehled_body!$E$3:$ED$130,MATCH(Tabulka!$AI6,Přehled_body!$A$3:$A$130,0),MATCH(Tabulka!AB$2,Přehled_body!$E$1:$ED$1,0)),)=\"\",,IF(IFERROR(INDEX(Přehled_body!$E$3:$ED$130,MATCH(Tabulka!$AI6,Přehled_body!$A$3:$A$130,0),MATCH(Tabulka!AB$2,Přehled_body!$E$1:$ED$1,0)),)=0,0.00000000001,IFERROR(INDEX(Přehled_body!$E$3:$ED$130,MATCH(Tabulka!$AI6,Přehled_body!$A$3:$A$130,0),MATCH(Tabulka!AB$2,Přehled_body!$E$1:$ED$1,0)),)))","v":0},{"$f":"IF(IFERROR(INDEX(Přehled_body!$E$3:$ED$130,MATCH(Tabulka!$AI6,Přehled_body!$A$3:$A$130,0),MATCH(Tabulka!AC$2,Přehled_body!$E$1:$ED$1,0)),)=\"\",,IF(IFERROR(INDEX(Přehled_body!$E$3:$ED$130,MATCH(Tabulka!$AI6,Přehled_body!$A$3:$A$130,0),MATCH(Tabulka!AC$2,Přehled_body!$E$1:$ED$1,0)),)=0,0.00000000001,IFERROR(INDEX(Přehled_body!$E$3:$ED$130,MATCH(Tabulka!$AI6,Přehled_body!$A$3:$A$130,0),MATCH(Tabulka!AC$2,Přehled_body!$E$1:$ED$1,0)),)))","v":0},{"$f":"IF(IFERROR(INDEX(Přehled_body!$E$3:$ED$130,MATCH(Tabulka!$AI6,Přehled_body!$A$3:$A$130,0),MATCH(Tabulka!AD$2,Přehled_body!$E$1:$ED$1,0)),)=\"\",,IF(IFERROR(INDEX(Přehled_body!$E$3:$ED$130,MATCH(Tabulka!$AI6,Přehled_body!$A$3:$A$130,0),MATCH(Tabulka!AD$2,Přehled_body!$E$1:$ED$1,0)),)=0,0.00000000001,IFERROR(INDEX(Přehled_body!$E$3:$ED$130,MATCH(Tabulka!$AI6,Přehled_body!$A$3:$A$130,0),MATCH(Tabulka!AD$2,Přehled_body!$E$1:$ED$1,0)),)))","v":0},{"$f":"IF(SUM(AG4)<2,-90000+SUM(D6:AD6),SUM(D6:AD6))","v":-90000},null,null,{"$f":"SUM(D6:AD6)+INDEX(List4!$D$2:$F$17,MATCH(Tabulka!A5,List4!$D$2:$D$17,0),3)","v":2.0999999999999999E-8},{"$f":"CONCATENATE($B$5,\" \",$B$6,C6)","v":"Jiří FialaPlaceno panáků"},null,null,0,null,null,"Fiala",{"$f":"CONCATENATE(AQ6,\" \",AQ7)","v":"Libor Hruška"},"Libor"]
[null,null,"Přehozy",{"$f":"IF(IFERROR(INDEX(Přehled_body!$E$3:$ED$130,MATCH(Tabulka!$AI7,Přehled_body!$A$3:$A$130,0),MATCH(Tabulka!D$2,Přehled_body!$E$1:$ED$1,0)),)=\"\",,IF(IFERROR(INDEX(Přehled_body!$E$3:$ED$130,MATCH(Tabulka!$AI7,Přehled_body!$A$3:$A$130,0),MATCH(Tabulka!D$2,Přehled_body!$E$1:$ED$1,0)),)=0,0.00000000001,IFERROR(INDEX(Přehled_body!$E$3:$ED$130,MATCH(Tabulka!$AI7,Přehled_body!$A$3:$A$130,0),MATCH(Tabulka!D$2,Přehled_body!$E$1:$ED$1,0)),)))","v":0},{"$f":"IF(IFERROR(INDEX(Přehled_body!$E$3:$ED$130,MATCH(Tabulka!$AI7,Přehled_body!$A$3:$A$130,0),MATCH(Tabulka!E$2,Přehled_body!$E$1:$ED$1,0)),)=\"\",,IF(IFERROR(INDEX(Přehled_body!$E$3:$ED$130,MATCH(Tabulka!$AI7,Přehled_body!$A$3:$A$130,0),MATCH(Tabulka!E$2,Přehled_body!$E$1:$ED$1,0)),)=0,0.00000000001,IFERROR(INDEX(Přehled_body!$E$3:$ED$130,MATCH(Tabulka!$AI7,Přehled_body!$A$3:$A$130,0),MATCH(Tabulka!E$2,Přehled_body!$E$1:$ED$1,0)),)))","v":0},{"$f":"IF(IFERROR(INDEX(Přehled_body!$E$3:$ED$130,MATCH(Tabulka!$AI7,Přehled_body!$A$3:$A$130,0),MATCH(Tabulka!F$2,Přehled_body!$E$1:$ED$1,0)),)=\"\",,IF(IFERROR(INDEX(Přehled_body!$E$3:$ED$130,MATCH(Tabulka!$AI7,Přehled_body!$A$3:$A$130,0),MATCH(Tabulka!F$2,Přehled_body!$E$1:$ED$1,0)),)=0,0.00000000001,IFERROR(INDEX(Přehled_body!$E$3:$ED$130,MATCH(Tabulka!$AI7,Přehled_body!$A$3:$A$130,0),MATCH(Tabulka!F$2,Přehled_body!$E$1:$ED$1,0)),)))","v":0},{"$f":"IF(IFERROR(INDEX(Přehled_body!$E$3:$ED$130,MATCH(Tabulka!$AI7,Přehled_body!$A$3:$A$130,0),MATCH(Tabulka!G$2,Přehled_body!$E$1:$ED$1,0)),)=\"\",,IF(IFERROR(INDEX(Přehled_body!$E$3:$ED$130,MATCH(Tabulka!$AI7,Přehled_body!$A$3:$A$130,0),MATCH(Tabulka!G$2,Přehled_body!$E$1:$ED$1,0)),)=0,0.00000000001,IFERROR(INDEX(Přehled_body!$E$3:$ED$130,MATCH(Tabulka!$AI7,Přehled_body!$A$3:$A$130,0),MATCH(Tabulka!G$2,Přehled_body!$E$1:$ED$1,0)),)))","v":0},{"$f":"IF(IFERROR(INDEX(Přehled_body!$E$3:$ED$130,MATCH(Tabulka!$AI7,Přehled_body!$A$3:$A$130,0),MATCH(Tabulka!H$2,Přehled_body!$E$1:$ED$1,0)),)=\"\",,IF(IFERROR(INDEX(Přehled_body!$E$3:$ED$130,MATCH(Tabulka!$AI7,Přehled_body!$A$3:$A$130,0),MATCH(Tabulka!H$2,Přehled_body!$E$1:$ED$1,0)),)=0,0.00000000001,IFERROR(INDEX(Přehled_body!$E$3:$ED$130,MATCH(Tabulka!$AI7,Přehled_body!$A$3:$A$130,0),MATCH(Tabulka!H$2,Přehled_body!$E$1:$ED$1,0)),)))","v":0},{"$f":"IF(IFERROR(INDEX(Přehled_body!$E$3:$ED$130,MATCH(Tabulka!$AI7,Přehled_body!$A$3:$A$130,0),MATCH(Tabulka!I$2,Přehled_body!$E$1:$ED$1,0)),)=\"\",,IF(IFERROR(INDEX(Přehled_body!$E$3:$ED$130,MATCH(Tabulka!$AI7,Přehled_body!$A$3:$A$130,0),MATCH(Tabulka!I$2,Přehled_body!$E$1:$ED$1,0)),)=0,0.00000000001,IFERROR(INDEX(Přehled_body!$E$3:$ED$130,MATCH(Tabulka!$AI7,Přehled_body!$A$3:$A$130,0),MATCH(Tabulka!I$2,Přehled_body!$E$1:$ED$1,0)),)))","v":0},{"$f":"IF(IFERROR(INDEX(Přehled_body!$E$3:$ED$130,MATCH(Tabulka!$AI7,Přehled_body!$A$3:$A$130,0),MATCH(Tabulka!J$2,Přehled_body!$E$1:$ED$1,0)),)=\"\",,IF(IFERROR(INDEX(Přehled_body!$E$3:$ED$130,MATCH(Tabulka!$AI7,Přehled_body!$A$3:$A$130,0),MATCH(Tabulka!J$2,Přehled_body!$E$1:$ED$1,0)),)=0,0.00000000001,IFERROR(INDEX(Přehled_body!$E$3:$ED$130,MATCH(Tabulka!$AI7,Přehled_body!$A$3:$A$130,0),MATCH(Tabulka!J$2,Přehled_body!$E$1:$ED$1,0)),)))","v":0},{"$f":"IF(IFERROR(INDEX(Přehled_body!$E$3:$ED$130,MATCH(Tabulka!$AI7,Přehled_body!$A$3:$A$130,0),MATCH(Tabulka!K$2,Přehled_body!$E$1:$ED$1,0)),)=\"\",,IF(IFERROR(INDEX(Přehled_body!$E$3:$ED$130,MATCH(Tabulka!$AI7,Přehled_body!$A$3:$A$130,0),MATCH(Tabulka!K$2,Přehled_body!$E$1:$ED$1,0)),)=0,0.00000000001,IFERROR(INDEX(Přehled_body!$E$3:$ED$130,MATCH(Tabulka!$AI7,Přehled_body!$A$3:$A$130,0),MATCH(Tabulka!K$2,Přehled_body!$E$1:$ED$1,0)),)))","v":0},{"$f":"IF(IFERROR(INDEX(Přehled_body!$E$3:$ED$130,MATCH(Tabulka!$AI7,Přehled_body!$A$3:$A$130,0),MATCH(Tabulka!L$2,Přehled_body!$E$1:$ED$1,0)),)=\"\",,IF(IFERROR(INDEX(Přehled_body!$E$3:$ED$130,MATCH(Tabulka!$AI7,Přehled_body!$A$3:$A$130,0),MATCH(Tabulka!L$2,Přehled_body!$E$1:$ED$1,0)),)=0,0.00000000001,IFERROR(INDEX(Přehled_body!$E$3:$ED$130,MATCH(Tabulka!$AI7,Přehled_body!$A$3:$A$130,0),MATCH(Tabulka!L$2,Přehled_body!$E$1:$ED$1,0)),)))","v":0},{"$f":"IF(IFERROR(INDEX(Přehled_body!$E$3:$ED$130,MATCH(Tabulka!$AI7,Přehled_body!$A$3:$A$130,0),MATCH(Tabulka!M$2,Přehled_body!$E$1:$ED$1,0)),)=\"\",,IF(IFERROR(INDEX(Přehled_body!$E$3:$ED$130,MATCH(Tabulka!$AI7,Přehled_body!$A$3:$A$130,0),MATCH(Tabulka!M$2,Přehled_body!$E$1:$ED$1,0)),)=0,0.00000000001,IFERROR(INDEX(Přehled_body!$E$3:$ED$130,MATCH(Tabulka!$AI7,Přehled_body!$A$3:$A$130,0),MATCH(Tabulka!M$2,Přehled_body!$E$1:$ED$1,0)),)))","v":0},{"$f":"IF(IFERROR(INDEX(Přehled_body!$E$3:$ED$130,MATCH(Tabulka!$AI7,Přehled_body!$A$3:$A$130,0),MATCH(Tabulka!N$2,Přehled_body!$E$1:$ED$1,0)),)=\"\",,IF(IFERROR(INDEX(Přehled_body!$E$3:$ED$130,MATCH(Tabulka!$AI7,Přehled_body!$A$3:$A$130,0),MATCH(Tabulka!N$2,Přehled_body!$E$1:$ED$1,0)),)=0,0.00000000001,IFERROR(INDEX(Přehled_body!$E$3:$ED$130,MATCH(Tabulka!$AI7,Přehled_body!$A$3:$A$130,0),MATCH(Tabulka!N$2,Přehled_body!$E$1:$ED$1,0)),)))","v":0},{"$f":"IF(IFERROR(INDEX(Přehled_body!$E$3:$ED$130,MATCH(Tabulka!$AI7,Přehled_body!$A$3:$A$130,0),MATCH(Tabulka!O$2,Přehled_body!$E$1:$ED$1,0)),)=\"\",,IF(IFERROR(INDEX(Přehled_body!$E$3:$ED$130,MATCH(Tabulka!$AI7,Přehled_body!$A$3:$A$130,0),MATCH(Tabulka!O$2,Přehled_body!$E$1:$ED$1,0)),)=0,0.00000000001,IFERROR(INDEX(Přehled_body!$E$3:$ED$130,MATCH(Tabulka!$AI7,Přehled_body!$A$3:$A$130,0),MATCH(Tabulka!O$2,Přehled_body!$E$1:$ED$1,0)),)))","v":0},{"$f":"IF(IFERROR(INDEX(Přehled_body!$E$3:$ED$130,MATCH(Tabulka!$AI7,Přehled_body!$A$3:$A$130,0),MATCH(Tabulka!P$2,Přehled_body!$E$1:$ED$1,0)),)=\"\",,IF(IFERROR(INDEX(Přehled_body!$E$3:$ED$130,MATCH(Tabulka!$AI7,Přehled_body!$A$3:$A$130,0),MATCH(Tabulka!P$2,Přehled_body!$E$1:$ED$1,0)),)=0,0.00000000001,IFERROR(INDEX(Přehled_body!$E$3:$ED$130,MATCH(Tabulka!$AI7,Přehled_body!$A$3:$A$130,0),MATCH(Tabulka!P$2,Přehled_body!$E$1:$ED$1,0)),)))","v":0},{"$f":"IF(IFERROR(INDEX(Přehled_body!$E$3:$ED$130,MATCH(Tabulka!$AI7,Přehled_body!$A$3:$A$130,0),MATCH(Tabulka!Q$2,Přehled_body!$E$1:$ED$1,0)),)=\"\",,IF(IFERROR(INDEX(Přehled_body!$E$3:$ED$130,MATCH(Tabulka!$AI7,Přehled_body!$A$3:$A$130,0),MATCH(Tabulka!Q$2,Přehled_body!$E$1:$ED$1,0)),)=0,0.00000000001,IFERROR(INDEX(Přehled_body!$E$3:$ED$130,MATCH(Tabulka!$AI7,Přehled_body!$A$3:$A$130,0),MATCH(Tabulka!Q$2,Přehled_body!$E$1:$ED$1,0)),)))","v":0},{"$f":"IF(IFERROR(INDEX(Přehled_body!$E$3:$ED$130,MATCH(Tabulka!$AI7,Přehled_body!$A$3:$A$130,0),MATCH(Tabulka!R$2,Přehled_body!$E$1:$ED$1,0)),)=\"\",,IF(IFERROR(INDEX(Přehled_body!$E$3:$ED$130,MATCH(Tabulka!$AI7,Přehled_body!$A$3:$A$130,0),MATCH(Tabulka!R$2,Přehled_body!$E$1:$ED$1,0)),)=0,0.00000000001,IFERROR(INDEX(Přehled_body!$E$3:$ED$130,MATCH(Tabulka!$AI7,Přehled_body!$A$3:$A$130,0),MATCH(Tabulka!R$2,Přehled_body!$E$1:$ED$1,0)),)))","v":0},{"$f":"IF(IFERROR(INDEX(Přehled_body!$E$3:$ED$130,MATCH(Tabulka!$AI7,Přehled_body!$A$3:$A$130,0),MATCH(Tabulka!S$2,Přehled_body!$E$1:$ED$1,0)),)=\"\",,IF(IFERROR(INDEX(Přehled_body!$E$3:$ED$130,MATCH(Tabulka!$AI7,Přehled_body!$A$3:$A$130,0),MATCH(Tabulka!S$2,Přehled_body!$E$1:$ED$1,0)),)=0,0.00000000001,IFERROR(INDEX(Přehled_body!$E$3:$ED$130,MATCH(Tabulka!$AI7,Přehled_body!$A$3:$A$130,0),MATCH(Tabulka!S$2,Přehled_body!$E$1:$ED$1,0)),)))","v":0},{"$f":"IF(IFERROR(INDEX(Přehled_body!$E$3:$ED$130,MATCH(Tabulka!$AI7,Přehled_body!$A$3:$A$130,0),MATCH(Tabulka!T$2,Přehled_body!$E$1:$ED$1,0)),)=\"\",,IF(IFERROR(INDEX(Přehled_body!$E$3:$ED$130,MATCH(Tabulka!$AI7,Přehled_body!$A$3:$A$130,0),MATCH(Tabulka!T$2,Přehled_body!$E$1:$ED$1,0)),)=0,0.00000000001,IFERROR(INDEX(Přehled_body!$E$3:$ED$130,MATCH(Tabulka!$AI7,Přehled_body!$A$3:$A$130,0),MATCH(Tabulka!T$2,Přehled_body!$E$1:$ED$1,0)),)))","v":0},{"$f":"IF(IFERROR(INDEX(Přehled_body!$E$3:$ED$130,MATCH(Tabulka!$AI7,Přehled_body!$A$3:$A$130,0),MATCH(Tabulka!U$2,Přehled_body!$E$1:$ED$1,0)),)=\"\",,IF(IFERROR(INDEX(Přehled_body!$E$3:$ED$130,MATCH(Tabulka!$AI7,Přehled_body!$A$3:$A$130,0),MATCH(Tabulka!U$2,Přehled_body!$E$1:$ED$1,0)),)=0,0.00000000001,IFERROR(INDEX(Přehled_body!$E$3:$ED$130,MATCH(Tabulka!$AI7,Přehled_body!$A$3:$A$130,0),MATCH(Tabulka!U$2,Přehled_body!$E$1:$ED$1,0)),)))","v":0},{"$f":"IF(IFERROR(INDEX(Přehled_body!$E$3:$ED$130,MATCH(Tabulka!$AI7,Přehled_body!$A$3:$A$130,0),MATCH(Tabulka!V$2,Přehled_body!$E$1:$ED$1,0)),)=\"\",,IF(IFERROR(INDEX(Přehled_body!$E$3:$ED$130,MATCH(Tabulka!$AI7,Přehled_body!$A$3:$A$130,0),MATCH(Tabulka!V$2,Přehled_body!$E$1:$ED$1,0)),)=0,0.00000000001,IFERROR(INDEX(Přehled_body!$E$3:$ED$130,MATCH(Tabulka!$AI7,Přehled_body!$A$3:$A$130,0),MATCH(Tabulka!V$2,Přehled_body!$E$1:$ED$1,0)),)))","v":0},{"$f":"IF(IFERROR(INDEX(Přehled_body!$E$3:$ED$130,MATCH(Tabulka!$AI7,Přehled_body!$A$3:$A$130,0),MATCH(Tabulka!W$2,Přehled_body!$E$1:$ED$1,0)),)=\"\",,IF(IFERROR(INDEX(Přehled_body!$E$3:$ED$130,MATCH(Tabulka!$AI7,Přehled_body!$A$3:$A$130,0),MATCH(Tabulka!W$2,Přehled_body!$E$1:$ED$1,0)),)=0,0.00000000001,IFERROR(INDEX(Přehled_body!$E$3:$ED$130,MATCH(Tabulka!$AI7,Přehled_body!$A$3:$A$130,0),MATCH(Tabulka!W$2,Přehled_body!$E$1:$ED$1,0)),)))","v":0},{"$f":"IF(IFERROR(INDEX(Přehled_body!$E$3:$ED$130,MATCH(Tabulka!$AI7,Přehled_body!$A$3:$A$130,0),MATCH(Tabulka!X$2,Přehled_body!$E$1:$ED$1,0)),)=\"\",,IF(IFERROR(INDEX(Přehled_body!$E$3:$ED$130,MATCH(Tabulka!$AI7,Přehled_body!$A$3:$A$130,0),MATCH(Tabulka!X$2,Přehled_body!$E$1:$ED$1,0)),)=0,0.00000000001,IFERROR(INDEX(Přehled_body!$E$3:$ED$130,MATCH(Tabulka!$AI7,Přehled_body!$A$3:$A$130,0),MATCH(Tabulka!X$2,Přehled_body!$E$1:$ED$1,0)),)))","v":0},{"$f":"IF(IFERROR(INDEX(Přehled_body!$E$3:$ED$130,MATCH(Tabulka!$AI7,Přehled_body!$A$3:$A$130,0),MATCH(Tabulka!Y$2,Přehled_body!$E$1:$ED$1,0)),)=\"\",,IF(IFERROR(INDEX(Přehled_body!$E$3:$ED$130,MATCH(Tabulka!$AI7,Přehled_body!$A$3:$A$130,0),MATCH(Tabulka!Y$2,Přehled_body!$E$1:$ED$1,0)),)=0,0.00000000001,IFERROR(INDEX(Přehled_body!$E$3:$ED$130,MATCH(Tabulka!$AI7,Přehled_body!$A$3:$A$130,0),MATCH(Tabulka!Y$2,Přehled_body!$E$1:$ED$1,0)),)))","v":0},{"$f":"IF(IFERROR(INDEX(Přehled_body!$E$3:$ED$130,MATCH(Tabulka!$AI7,Přehled_body!$A$3:$A$130,0),MATCH(Tabulka!Z$2,Přehled_body!$E$1:$ED$1,0)),)=\"\",,IF(IFERROR(INDEX(Přehled_body!$E$3:$ED$130,MATCH(Tabulka!$AI7,Přehled_body!$A$3:$A$130,0),MATCH(Tabulka!Z$2,Přehled_body!$E$1:$ED$1,0)),)=0,0.00000000001,IFERROR(INDEX(Přehled_body!$E$3:$ED$130,MATCH(Tabulka!$AI7,Přehled_body!$A$3:$A$130,0),MATCH(Tabulka!Z$2,Přehled_body!$E$1:$ED$1,0)),)))","v":0},{"$f":"IF(IFERROR(INDEX(Přehled_body!$E$3:$ED$130,MATCH(Tabulka!$AI7,Přehled_body!$A$3:$A$130,0),MATCH(Tabulka!AA$2,Přehled_body!$E$1:$ED$1,0)),)=\"\",,IF(IFERROR(INDEX(Přehled_body!$E$3:$ED$130,MATCH(Tabulka!$AI7,Přehled_body!$A$3:$A$130,0),MATCH(Tabulka!AA$2,Přehled_body!$E$1:$ED$1,0)),)=0,0.00000000001,IFERROR(INDEX(Přehled_body!$E$3:$ED$130,MATCH(Tabulka!$AI7,Přehled_body!$A$3:$A$130,0),MATCH(Tabulka!AA$2,Přehled_body!$E$1:$ED$1,0)),)))","v":0},{"$f":"IF(IFERROR(INDEX(Přehled_body!$E$3:$ED$130,MATCH(Tabulka!$AI7,Přehled_body!$A$3:$A$130,0),MATCH(Tabulka!AB$2,Přehled_body!$E$1:$ED$1,0)),)=\"\",,IF(IFERROR(INDEX(Přehled_body!$E$3:$ED$130,MATCH(Tabulka!$AI7,Přehled_body!$A$3:$A$130,0),MATCH(Tabulka!AB$2,Přehled_body!$E$1:$ED$1,0)),)=0,0.00000000001,IFERROR(INDEX(Přehled_body!$E$3:$ED$130,MATCH(Tabulka!$AI7,Přehled_body!$A$3:$A$130,0),MATCH(Tabulka!AB$2,Přehled_body!$E$1:$ED$1,0)),)))","v":0},{"$f":"IF(IFERROR(INDEX(Přehled_body!$E$3:$ED$130,MATCH(Tabulka!$AI7,Přehled_body!$A$3:$A$130,0),MATCH(Tabulka!AC$2,Přehled_body!$E$1:$ED$1,0)),)=\"\",,IF(IFERROR(INDEX(Přehled_body!$E$3:$ED$130,MATCH(Tabulka!$AI7,Přehled_body!$A$3:$A$130,0),MATCH(Tabulka!AC$2,Přehled_body!$E$1:$ED$1,0)),)=0,0.00000000001,IFERROR(INDEX(Přehled_body!$E$3:$ED$130,MATCH(Tabulka!$AI7,Přehled_body!$A$3:$A$130,0),MATCH(Tabulka!AC$2,Přehled_body!$E$1:$ED$1,0)),)))","v":0},{"$f":"IF(IFERROR(INDEX(Přehled_body!$E$3:$ED$130,MATCH(Tabulka!$AI7,Přehled_body!$A$3:$A$130,0),MATCH(Tabulka!AD$2,Přehled_body!$E$1:$ED$1,0)),)=\"\",,IF(IFERROR(INDEX(Přehled_body!$E$3:$ED$130,MATCH(Tabulka!$AI7,Přehled_body!$A$3:$A$130,0),MATCH(Tabulka!AD$2,Přehled_body!$E$1:$ED$1,0)),)=0,0.00000000001,IFERROR(INDEX(Přehled_body!$E$3:$ED$130,MATCH(Tabulka!$AI7,Přehled_body!$A$3:$A$130,0),MATCH(Tabulka!AD$2,Přehled_body!$E$1:$ED$1,0)),)))","v":0},{"$f":"IF(SUM(AG4)<2,-90000+SUM(D7:AD7),SUM(D7:AD7))","v":-90000},null,null,0,{"$f":"CONCATENATE($B$5,\" \",$B$6,C7)","v":"Jiří FialaPřehozy"},null,null,0,null,null,null,{"$f":"CONCATENATE(AQ7,\" \",AQ6)","v":"Hruška Libor"},"Hruška"]
[null,null,"Poč. kol",{"$f":"IF(IFERROR(INDEX(Přehled_body!$E$3:$ED$130,MATCH(Tabulka!$AI8,Přehled_body!$A$3:$A$130,0),MATCH(Tabulka!D$2,Přehled_body!$E$1:$ED$1,0)),)=\"\",,IF(IFERROR(INDEX(Přehled_body!$E$3:$ED$130,MATCH(Tabulka!$AI8,Přehled_body!$A$3:$A$130,0),MATCH(Tabulka!D$2,Přehled_body!$E$1:$ED$1,0)),)=0,0.00000000001,IFERROR(INDEX(Přehled_body!$E$3:$ED$130,MATCH(Tabulka!$AI8,Přehled_body!$A$3:$A$130,0),MATCH(Tabulka!D$2,Přehled_body!$E$1:$ED$1,0)),)))","v":0},{"$f":"IF(IFERROR(INDEX(Přehled_body!$E$3:$ED$130,MATCH(Tabulka!$AI8,Přehled_body!$A$3:$A$130,0),MATCH(Tabulka!E$2,Přehled_body!$E$1:$ED$1,0)),)=\"\",,IF(IFERROR(INDEX(Přehled_body!$E$3:$ED$130,MATCH(Tabulka!$AI8,Přehled_body!$A$3:$A$130,0),MATCH(Tabulka!E$2,Přehled_body!$E$1:$ED$1,0)),)=0,0.00000000001,IFERROR(INDEX(Přehled_body!$E$3:$ED$130,MATCH(Tabulka!$AI8,Přehled_body!$A$3:$A$130,0),MATCH(Tabulka!E$2,Přehled_body!$E$1:$ED$1,0)),)))","v":0},{"$f":"IF(IFERROR(INDEX(Přehled_body!$E$3:$ED$130,MATCH(Tabulka!$AI8,Přehled_body!$A$3:$A$130,0),MATCH(Tabulka!F$2,Přehled_body!$E$1:$ED$1,0)),)=\"\",,IF(IFERROR(INDEX(Přehled_body!$E$3:$ED$130,MATCH(Tabulka!$AI8,Přehled_body!$A$3:$A$130,0),MATCH(Tabulka!F$2,Přehled_body!$E$1:$ED$1,0)),)=0,0.00000000001,IFERROR(INDEX(Přehled_body!$E$3:$ED$130,MATCH(Tabulka!$AI8,Přehled_body!$A$3:$A$130,0),MATCH(Tabulka!F$2,Přehled_body!$E$1:$ED$1,0)),)))","v":0},{"$f":"IF(IFERROR(INDEX(Přehled_body!$E$3:$ED$130,MATCH(Tabulka!$AI8,Přehled_body!$A$3:$A$130,0),MATCH(Tabulka!G$2,Přehled_body!$E$1:$ED$1,0)),)=\"\",,IF(IFERROR(INDEX(Přehled_body!$E$3:$ED$130,MATCH(Tabulka!$AI8,Přehled_body!$A$3:$A$130,0),MATCH(Tabulka!G$2,Přehled_body!$E$1:$ED$1,0)),)=0,0.00000000001,IFERROR(INDEX(Přehled_body!$E$3:$ED$130,MATCH(Tabulka!$AI8,Přehled_body!$A$3:$A$130,0),MATCH(Tabulka!G$2,Přehled_body!$E$1:$ED$1,0)),)))","v":0},{"$f":"IF(IFERROR(INDEX(Přehled_body!$E$3:$ED$130,MATCH(Tabulka!$AI8,Přehled_body!$A$3:$A$130,0),MATCH(Tabulka!H$2,Přehled_body!$E$1:$ED$1,0)),)=\"\",,IF(IFERROR(INDEX(Přehled_body!$E$3:$ED$130,MATCH(Tabulka!$AI8,Přehled_body!$A$3:$A$130,0),MATCH(Tabulka!H$2,Přehled_body!$E$1:$ED$1,0)),)=0,0.00000000001,IFERROR(INDEX(Přehled_body!$E$3:$ED$130,MATCH(Tabulka!$AI8,Přehled_body!$A$3:$A$130,0),MATCH(Tabulka!H$2,Přehled_body!$E$1:$ED$1,0)),)))","v":0},{"$f":"IF(IFERROR(INDEX(Přehled_body!$E$3:$ED$130,MATCH(Tabulka!$AI8,Přehled_body!$A$3:$A$130,0),MATCH(Tabulka!I$2,Přehled_body!$E$1:$ED$1,0)),)=\"\",,IF(IFERROR(INDEX(Přehled_body!$E$3:$ED$130,MATCH(Tabulka!$AI8,Přehled_body!$A$3:$A$130,0),MATCH(Tabulka!I$2,Přehled_body!$E$1:$ED$1,0)),)=0,0.00000000001,IFERROR(INDEX(Přehled_body!$E$3:$ED$130,MATCH(Tabulka!$AI8,Přehled_body!$A$3:$A$130,0),MATCH(Tabulka!I$2,Přehled_body!$E$1:$ED$1,0)),)))","v":0},{"$f":"IF(IFERROR(INDEX(Přehled_body!$E$3:$ED$130,MATCH(Tabulka!$AI8,Přehled_body!$A$3:$A$130,0),MATCH(Tabulka!J$2,Přehled_body!$E$1:$ED$1,0)),)=\"\",,IF(IFERROR(INDEX(Přehled_body!$E$3:$ED$130,MATCH(Tabulka!$AI8,Přehled_body!$A$3:$A$130,0),MATCH(Tabulka!J$2,Přehled_body!$E$1:$ED$1,0)),)=0,0.00000000001,IFERROR(INDEX(Přehled_body!$E$3:$ED$130,MATCH(Tabulka!$AI8,Přehled_body!$A$3:$A$130,0),MATCH(Tabulka!J$2,Přehled_body!$E$1:$ED$1,0)),)))","v":0},{"$f":"IF(IFERROR(INDEX(Přehled_body!$E$3:$ED$130,MATCH(Tabulka!$AI8,Přehled_body!$A$3:$A$130,0),MATCH(Tabulka!K$2,Přehled_body!$E$1:$ED$1,0)),)=\"\",,IF(IFERROR(INDEX(Přehled_body!$E$3:$ED$130,MATCH(Tabulka!$AI8,Přehled_body!$A$3:$A$130,0),MATCH(Tabulka!K$2,Přehled_body!$E$1:$ED$1,0)),)=0,0.00000000001,IFERROR(INDEX(Přehled_body!$E$3:$ED$130,MATCH(Tabulka!$AI8,Přehled_body!$A$3:$A$130,0),MATCH(Tabulka!K$2,Přehled_body!$E$1:$ED$1,0)),)))","v":0},{"$f":"IF(IFERROR(INDEX(Přehled_body!$E$3:$ED$130,MATCH(Tabulka!$AI8,Přehled_body!$A$3:$A$130,0),MATCH(Tabulka!L$2,Přehled_body!$E$1:$ED$1,0)),)=\"\",,IF(IFERROR(INDEX(Přehled_body!$E$3:$ED$130,MATCH(Tabulka!$AI8,Přehled_body!$A$3:$A$130,0),MATCH(Tabulka!L$2,Přehled_body!$E$1:$ED$1,0)),)=0,0.00000000001,IFERROR(INDEX(Přehled_body!$E$3:$ED$130,MATCH(Tabulka!$AI8,Přehled_body!$A$3:$A$130,0),MATCH(Tabulka!L$2,Přehled_body!$E$1:$ED$1,0)),)))","v":0},{"$f":"IF(IFERROR(INDEX(Přehled_body!$E$3:$ED$130,MATCH(Tabulka!$AI8,Přehled_body!$A$3:$A$130,0),MATCH(Tabulka!M$2,Přehled_body!$E$1:$ED$1,0)),)=\"\",,IF(IFERROR(INDEX(Přehled_body!$E$3:$ED$130,MATCH(Tabulka!$AI8,Přehled_body!$A$3:$A$130,0),MATCH(Tabulka!M$2,Přehled_body!$E$1:$ED$1,0)),)=0,0.00000000001,IFERROR(INDEX(Přehled_body!$E$3:$ED$130,MATCH(Tabulka!$AI8,Přehled_body!$A$3:$A$130,0),MATCH(Tabulka!M$2,Přehled_body!$E$1:$ED$1,0)),)))","v":0},{"$f":"IF(IFERROR(INDEX(Přehled_body!$E$3:$ED$130,MATCH(Tabulka!$AI8,Přehled_body!$A$3:$A$130,0),MATCH(Tabulka!N$2,Přehled_body!$E$1:$ED$1,0)),)=\"\",,IF(IFERROR(INDEX(Přehled_body!$E$3:$ED$130,MATCH(Tabulka!$AI8,Přehled_body!$A$3:$A$130,0),MATCH(Tabulka!N$2,Přehled_body!$E$1:$ED$1,0)),)=0,0.00000000001,IFERROR(INDEX(Přehled_body!$E$3:$ED$130,MATCH(Tabulka!$AI8,Přehled_body!$A$3:$A$130,0),MATCH(Tabulka!N$2,Přehled_body!$E$1:$ED$1,0)),)))","v":0},{"$f":"IF(IFERROR(INDEX(Přehled_body!$E$3:$ED$130,MATCH(Tabulka!$AI8,Přehled_body!$A$3:$A$130,0),MATCH(Tabulka!O$2,Přehled_body!$E$1:$ED$1,0)),)=\"\",,IF(IFERROR(INDEX(Přehled_body!$E$3:$ED$130,MATCH(Tabulka!$AI8,Přehled_body!$A$3:$A$130,0),MATCH(Tabulka!O$2,Přehled_body!$E$1:$ED$1,0)),)=0,0.00000000001,IFERROR(INDEX(Přehled_body!$E$3:$ED$130,MATCH(Tabulka!$AI8,Přehled_body!$A$3:$A$130,0),MATCH(Tabulka!O$2,Přehled_body!$E$1:$ED$1,0)),)))","v":0},{"$f":"IF(IFERROR(INDEX(Přehled_body!$E$3:$ED$130,MATCH(Tabulka!$AI8,Přehled_body!$A$3:$A$130,0),MATCH(Tabulka!P$2,Přehled_body!$E$1:$ED$1,0)),)=\"\",,IF(IFERROR(INDEX(Přehled_body!$E$3:$ED$130,MATCH(Tabulka!$AI8,Přehled_body!$A$3:$A$130,0),MATCH(Tabulka!P$2,Přehled_body!$E$1:$ED$1,0)),)=0,0.00000000001,IFERROR(INDEX(Přehled_body!$E$3:$ED$130,MATCH(Tabulka!$AI8,Přehled_body!$A$3:$A$130,0),MATCH(Tabulka!P$2,Přehled_body!$E$1:$ED$1,0)),)))","v":0},{"$f":"IF(IFERROR(INDEX(Přehled_body!$E$3:$ED$130,MATCH(Tabulka!$AI8,Přehled_body!$A$3:$A$130,0),MATCH(Tabulka!Q$2,Přehled_body!$E$1:$ED$1,0)),)=\"\",,IF(IFERROR(INDEX(Přehled_body!$E$3:$ED$130,MATCH(Tabulka!$AI8,Přehled_body!$A$3:$A$130,0),MATCH(Tabulka!Q$2,Přehled_body!$E$1:$ED$1,0)),)=0,0.00000000001,IFERROR(INDEX(Přehled_body!$E$3:$ED$130,MATCH(Tabulka!$AI8,Přehled_body!$A$3:$A$130,0),MATCH(Tabulka!Q$2,Přehled_body!$E$1:$ED$1,0)),)))","v":0},{"$f":"IF(IFERROR(INDEX(Přehled_body!$E$3:$ED$130,MATCH(Tabulka!$AI8,Přehled_body!$A$3:$A$130,0),MATCH(Tabulka!R$2,Přehled_body!$E$1:$ED$1,0)),)=\"\",,IF(IFERROR(INDEX(Přehled_body!$E$3:$ED$130,MATCH(Tabulka!$AI8,Přehled_body!$A$3:$A$130,0),MATCH(Tabulka!R$2,Přehled_body!$E$1:$ED$1,0)),)=0,0.00000000001,IFERROR(INDEX(Přehled_body!$E$3:$ED$130,MATCH(Tabulka!$AI8,Přehled_body!$A$3:$A$130,0),MATCH(Tabulka!R$2,Přehled_body!$E$1:$ED$1,0)),)))","v":0},{"$f":"IF(IFERROR(INDEX(Přehled_body!$E$3:$ED$130,MATCH(Tabulka!$AI8,Přehled_body!$A$3:$A$130,0),MATCH(Tabulka!S$2,Přehled_body!$E$1:$ED$1,0)),)=\"\",,IF(IFERROR(INDEX(Přehled_body!$E$3:$ED$130,MATCH(Tabulka!$AI8,Přehled_body!$A$3:$A$130,0),MATCH(Tabulka!S$2,Přehled_body!$E$1:$ED$1,0)),)=0,0.00000000001,IFERROR(INDEX(Přehled_body!$E$3:$ED$130,MATCH(Tabulka!$AI8,Přehled_body!$A$3:$A$130,0),MATCH(Tabulka!S$2,Přehled_body!$E$1:$ED$1,0)),)))","v":0},{"$f":"IF(IFERROR(INDEX(Přehled_body!$E$3:$ED$130,MATCH(Tabulka!$AI8,Přehled_body!$A$3:$A$130,0),MATCH(Tabulka!T$2,Přehled_body!$E$1:$ED$1,0)),)=\"\",,IF(IFERROR(INDEX(Přehled_body!$E$3:$ED$130,MATCH(Tabulka!$AI8,Přehled_body!$A$3:$A$130,0),MATCH(Tabulka!T$2,Přehled_body!$E$1:$ED$1,0)),)=0,0.00000000001,IFERROR(INDEX(Přehled_body!$E$3:$ED$130,MATCH(Tabulka!$AI8,Přehled_body!$A$3:$A$130,0),MATCH(Tabulka!T$2,Přehled_body!$E$1:$ED$1,0)),)))","v":0},{"$f":"IF(IFERROR(INDEX(Přehled_body!$E$3:$ED$130,MATCH(Tabulka!$AI8,Přehled_body!$A$3:$A$130,0),MATCH(Tabulka!U$2,Přehled_body!$E$1:$ED$1,0)),)=\"\",,IF(IFERROR(INDEX(Přehled_body!$E$3:$ED$130,MATCH(Tabulka!$AI8,Přehled_body!$A$3:$A$130,0),MATCH(Tabulka!U$2,Přehled_body!$E$1:$ED$1,0)),)=0,0.00000000001,IFERROR(INDEX(Přehled_body!$E$3:$ED$130,MATCH(Tabulka!$AI8,Přehled_body!$A$3:$A$130,0),MATCH(Tabulka!U$2,Přehled_body!$E$1:$ED$1,0)),)))","v":0},{"$f":"IF(IFERROR(INDEX(Přehled_body!$E$3:$ED$130,MATCH(Tabulka!$AI8,Přehled_body!$A$3:$A$130,0),MATCH(Tabulka!V$2,Přehled_body!$E$1:$ED$1,0)),)=\"\",,IF(IFERROR(INDEX(Přehled_body!$E$3:$ED$130,MATCH(Tabulka!$AI8,Přehled_body!$A$3:$A$130,0),MATCH(Tabulka!V$2,Přehled_body!$E$1:$ED$1,0)),)=0,0.00000000001,IFERROR(INDEX(Přehled_body!$E$3:$ED$130,MATCH(Tabulka!$AI8,Přehled_body!$A$3:$A$130,0),MATCH(Tabulka!V$2,Přehled_body!$E$1:$ED$1,0)),)))","v":0},{"$f":"IF(IFERROR(INDEX(Přehled_body!$E$3:$ED$130,MATCH(Tabulka!$AI8,Přehled_body!$A$3:$A$130,0),MATCH(Tabulka!W$2,Přehled_body!$E$1:$ED$1,0)),)=\"\",,IF(IFERROR(INDEX(Přehled_body!$E$3:$ED$130,MATCH(Tabulka!$AI8,Přehled_body!$A$3:$A$130,0),MATCH(Tabulka!W$2,Přehled_body!$E$1:$ED$1,0)),)=0,0.00000000001,IFERROR(INDEX(Přehled_body!$E$3:$ED$130,MATCH(Tabulka!$AI8,Přehled_body!$A$3:$A$130,0),MATCH(Tabulka!W$2,Přehled_body!$E$1:$ED$1,0)),)))","v":0},{"$f":"IF(IFERROR(INDEX(Přehled_body!$E$3:$ED$130,MATCH(Tabulka!$AI8,Přehled_body!$A$3:$A$130,0),MATCH(Tabulka!X$2,Přehled_body!$E$1:$ED$1,0)),)=\"\",,IF(IFERROR(INDEX(Přehled_body!$E$3:$ED$130,MATCH(Tabulka!$AI8,Přehled_body!$A$3:$A$130,0),MATCH(Tabulka!X$2,Přehled_body!$E$1:$ED$1,0)),)=0,0.00000000001,IFERROR(INDEX(Přehled_body!$E$3:$ED$130,MATCH(Tabulka!$AI8,Přehled_body!$A$3:$A$130,0),MATCH(Tabulka!X$2,Přehled_body!$E$1:$ED$1,0)),)))","v":0},{"$f":"IF(IFERROR(INDEX(Přehled_body!$E$3:$ED$130,MATCH(Tabulka!$AI8,Přehled_body!$A$3:$A$130,0),MATCH(Tabulka!Y$2,Přehled_body!$E$1:$ED$1,0)),)=\"\",,IF(IFERROR(INDEX(Přehled_body!$E$3:$ED$130,MATCH(Tabulka!$AI8,Přehled_body!$A$3:$A$130,0),MATCH(Tabulka!Y$2,Přehled_body!$E$1:$ED$1,0)),)=0,0.00000000001,IFERROR(INDEX(Přehled_body!$E$3:$ED$130,MATCH(Tabulka!$AI8,Přehled_body!$A$3:$A$130,0),MATCH(Tabulka!Y$2,Přehled_body!$E$1:$ED$1,0)),)))","v":0},{"$f":"IF(IFERROR(INDEX(Přehled_body!$E$3:$ED$130,MATCH(Tabulka!$AI8,Přehled_body!$A$3:$A$130,0),MATCH(Tabulka!Z$2,Přehled_body!$E$1:$ED$1,0)),)=\"\",,IF(IFERROR(INDEX(Přehled_body!$E$3:$ED$130,MATCH(Tabulka!$AI8,Přehled_body!$A$3:$A$130,0),MATCH(Tabulka!Z$2,Přehled_body!$E$1:$ED$1,0)),)=0,0.00000000001,IFERROR(INDEX(Přehled_body!$E$3:$ED$130,MATCH(Tabulka!$AI8,Přehled_body!$A$3:$A$130,0),MATCH(Tabulka!Z$2,Přehled_body!$E$1:$ED$1,0)),)))","v":0},{"$f":"IF(IFERROR(INDEX(Přehled_body!$E$3:$ED$130,MATCH(Tabulka!$AI8,Přehled_body!$A$3:$A$130,0),MATCH(Tabulka!AA$2,Přehled_body!$E$1:$ED$1,0)),)=\"\",,IF(IFERROR(INDEX(Přehled_body!$E$3:$ED$130,MATCH(Tabulka!$AI8,Přehled_body!$A$3:$A$130,0),MATCH(Tabulka!AA$2,Přehled_body!$E$1:$ED$1,0)),)=0,0.00000000001,IFERROR(INDEX(Přehled_body!$E$3:$ED$130,MATCH(Tabulka!$AI8,Přehled_body!$A$3:$A$130,0),MATCH(Tabulka!AA$2,Přehled_body!$E$1:$ED$1,0)),)))","v":0},{"$f":"IF(IFERROR(INDEX(Přehled_body!$E$3:$ED$130,MATCH(Tabulka!$AI8,Přehled_body!$A$3:$A$130,0),MATCH(Tabulka!AB$2,Přehled_body!$E$1:$ED$1,0)),)=\"\",,IF(IFERROR(INDEX(Přehled_body!$E$3:$ED$130,MATCH(Tabulka!$AI8,Přehled_body!$A$3:$A$130,0),MATCH(Tabulka!AB$2,Přehled_body!$E$1:$ED$1,0)),)=0,0.00000000001,IFERROR(INDEX(Přehled_body!$E$3:$ED$130,MATCH(Tabulka!$AI8,Přehled_body!$A$3:$A$130,0),MATCH(Tabulka!AB$2,Přehled_body!$E$1:$ED$1,0)),)))","v":0},{"$f":"IF(IFERROR(INDEX(Přehled_body!$E$3:$ED$130,MATCH(Tabulka!$AI8,Přehled_body!$A$3:$A$130,0),MATCH(Tabulka!AC$2,Přehled_body!$E$1:$ED$1,0)),)=\"\",,IF(IFERROR(INDEX(Přehled_body!$E$3:$ED$130,MATCH(Tabulka!$AI8,Přehled_body!$A$3:$A$130,0),MATCH(Tabulka!AC$2,Přehled_body!$E$1:$ED$1,0)),)=0,0.00000000001,IFERROR(INDEX(Přehled_body!$E$3:$ED$130,MATCH(Tabulka!$AI8,Přehled_body!$A$3:$A$130,0),MATCH(Tabulka!AC$2,Přehled_body!$E$1:$ED$1,0)),)))","v":0},{"$f":"IF(IFERROR(INDEX(Přehled_body!$E$3:$ED$130,MATCH(Tabulka!$AI8,Přehled_body!$A$3:$A$130,0),MATCH(Tabulka!AD$2,Přehled_body!$E$1:$ED$1,0)),)=\"\",,IF(IFERROR(INDEX(Přehled_body!$E$3:$ED$130,MATCH(Tabulka!$AI8,Přehled_body!$A$3:$A$130,0),MATCH(Tabulka!AD$2,Přehled_body!$E$1:$ED$1,0)),)=0,0.00000000001,IFERROR(INDEX(Přehled_body!$E$3:$ED$130,MATCH(Tabulka!$AI8,Přehled_body!$A$3:$A$130,0),MATCH(Tabulka!AD$2,Přehled_body!$E$1:$ED$1,0)),)))","v":0},{"$f":"IF(SUM(AG4)<2,-90000+SUM(D8:AD8),SUM(D8:AD8))","v":-90000},null,null,0,{"$f":"CONCATENATE($B$5,\" \",$B$6,C8)","v":"Jiří FialaPoč. kol"},null,null,0]
[2,null,"Výhry",{"$f":"IF(IFERROR(INDEX(Přehled_body!$E$3:$ED$130,MATCH(Tabulka!$AI9,Přehled_body!$A$3:$A$130,0),MATCH(Tabulka!D$2,Přehled_body!$E$1:$ED$1,0)),)=\"\",,IF(IFERROR(INDEX(Přehled_body!$E$3:$ED$130,MATCH(Tabulka!$AI9,Přehled_body!$A$3:$A$130,0),MATCH(Tabulka!D$2,Přehled_body!$E$1:$ED$1,0)),)=0,0.00000000001,IFERROR(INDEX(Přehled_body!$E$3:$ED$130,MATCH(Tabulka!$AI9,Přehled_body!$A$3:$A$130,0),MATCH(Tabulka!D$2,Přehled_body!$E$1:$ED$1,0)),)))","v":1},{"$f":"IF(IFERROR(INDEX(Přehled_body!$E$3:$ED$130,MATCH(Tabulka!$AI9,Přehled_body!$A$3:$A$130,0),MATCH(Tabulka!E$2,Přehled_body!$E$1:$ED$1,0)),)=\"\",,IF(IFERROR(INDEX(Přehled_body!$E$3:$ED$130,MATCH(Tabulka!$AI9,Přehled_body!$A$3:$A$130,0),MATCH(Tabulka!E$2,Přehled_body!$E$1:$ED$1,0)),)=0,0.00000000001,IFERROR(INDEX(Přehled_body!$E$3:$ED$130,MATCH(Tabulka!$AI9,Přehled_body!$A$3:$A$130,0),MATCH(Tabulka!E$2,Přehled_body!$E$1:$ED$1,0)),)))","v":3},{"$f":"IF(IFERROR(INDEX(Přehled_body!$E$3:$ED$130,MATCH(Tabulka!$AI9,Přehled_body!$A$3:$A$130,0),MATCH(Tabulka!F$2,Přehled_body!$E$1:$ED$1,0)),)=\"\",,IF(IFERROR(INDEX(Přehled_body!$E$3:$ED$130,MATCH(Tabulka!$AI9,Přehled_body!$A$3:$A$130,0),MATCH(Tabulka!F$2,Přehled_body!$E$1:$ED$1,0)),)=0,0.00000000001,IFERROR(INDEX(Přehled_body!$E$3:$ED$130,MATCH(Tabulka!$AI9,Přehled_body!$A$3:$A$130,0),MATCH(Tabulka!F$2,Přehled_body!$E$1:$ED$1,0)),)))","v":1},{"$f":"IF(IFERROR(INDEX(Přehled_body!$E$3:$ED$130,MATCH(Tabulka!$AI9,Přehled_body!$A$3:$A$130,0),MATCH(Tabulka!G$2,Přehled_body!$E$1:$ED$1,0)),)=\"\",,IF(IFERROR(INDEX(Přehled_body!$E$3:$ED$130,MATCH(Tabulka!$AI9,Přehled_body!$A$3:$A$130,0),MATCH(Tabulka!G$2,Přehled_body!$E$1:$ED$1,0)),)=0,0.00000000001,IFERROR(INDEX(Přehled_body!$E$3:$ED$130,MATCH(Tabulka!$AI9,Přehled_body!$A$3:$A$130,0),MATCH(Tabulka!G$2,Přehled_body!$E$1:$ED$1,0)),)))","v":1},{"$f":"IF(IFERROR(INDEX(Přehled_body!$E$3:$ED$130,MATCH(Tabulka!$AI9,Přehled_body!$A$3:$A$130,0),MATCH(Tabulka!H$2,Přehled_body!$E$1:$ED$1,0)),)=\"\",,IF(IFERROR(INDEX(Přehled_body!$E$3:$ED$130,MATCH(Tabulka!$AI9,Přehled_body!$A$3:$A$130,0),MATCH(Tabulka!H$2,Přehled_body!$E$1:$ED$1,0)),)=0,0.00000000001,IFERROR(INDEX(Přehled_body!$E$3:$ED$130,MATCH(Tabulka!$AI9,Přehled_body!$A$3:$A$130,0),MATCH(Tabulka!H$2,Přehled_body!$E$1:$ED$1,0)),)))","v":9.9999999999999994E-12},{"$f":"IF(IFERROR(INDEX(Přehled_body!$E$3:$ED$130,MATCH(Tabulka!$AI9,Přehled_body!$A$3:$A$130,0),MATCH(Tabulka!I$2,Přehled_body!$E$1:$ED$1,0)),)=\"\",,IF(IFERROR(INDEX(Přehled_body!$E$3:$ED$130,MATCH(Tabulka!$AI9,Přehled_body!$A$3:$A$130,0),MATCH(Tabulka!I$2,Přehled_body!$E$1:$ED$1,0)),)=0,0.00000000001,IFERROR(INDEX(Přehled_body!$E$3:$ED$130,MATCH(Tabulka!$AI9,Přehled_body!$A$3:$A$130,0),MATCH(Tabulka!I$2,Přehled_body!$E$1:$ED$1,0)),)))","v":9.9999999999999994E-12},{"$f":"IF(IFERROR(INDEX(Přehled_body!$E$3:$ED$130,MATCH(Tabulka!$AI9,Přehled_body!$A$3:$A$130,0),MATCH(Tabulka!J$2,Přehled_body!$E$1:$ED$1,0)),)=\"\",,IF(IFERROR(INDEX(Přehled_body!$E$3:$ED$130,MATCH(Tabulka!$AI9,Přehled_body!$A$3:$A$130,0),MATCH(Tabulka!J$2,Přehled_body!$E$1:$ED$1,0)),)=0,0.00000000001,IFERROR(INDEX(Přehled_body!$E$3:$ED$130,MATCH(Tabulka!$AI9,Přehled_body!$A$3:$A$130,0),MATCH(Tabulka!J$2,Přehled_body!$E$1:$ED$1,0)),)))","v":1},{"$f":"IF(IFERROR(INDEX(Přehled_body!$E$3:$ED$130,MATCH(Tabulka!$AI9,Přehled_body!$A$3:$A$130,0),MATCH(Tabulka!K$2,Přehled_body!$E$1:$ED$1,0)),)=\"\",,IF(IFERROR(INDEX(Přehled_body!$E$3:$ED$130,MATCH(Tabulka!$AI9,Přehled_body!$A$3:$A$130,0),MATCH(Tabulka!K$2,Přehled_body!$E$1:$ED$1,0)),)=0,0.00000000001,IFERROR(INDEX(Přehled_body!$E$3:$ED$130,MATCH(Tabulka!$AI9,Přehled_body!$A$3:$A$130,0),MATCH(Tabulka!K$2,Přehled_body!$E$1:$ED$1,0)),)))","v":9.9999999999999994E-12},{"$f":"IF(IFERROR(INDEX(Přehled_body!$E$3:$ED$130,MATCH(Tabulka!$AI9,Přehled_body!$A$3:$A$130,0),MATCH(Tabulka!L$2,Přehled_body!$E$1:$ED$1,0)),)=\"\",,IF(IFERROR(INDEX(Přehled_body!$E$3:$ED$130,MATCH(Tabulka!$AI9,Přehled_body!$A$3:$A$130,0),MATCH(Tabulka!L$2,Přehled_body!$E$1:$ED$1,0)),)=0,0.00000000001,IFERROR(INDEX(Přehled_body!$E$3:$ED$130,MATCH(Tabulka!$AI9,Přehled_body!$A$3:$A$130,0),MATCH(Tabulka!L$2,Přehled_body!$E$1:$ED$1,0)),)))","v":1},{"$f":"IF(IFERROR(INDEX(Přehled_body!$E$3:$ED$130,MATCH(Tabulka!$AI9,Přehled_body!$A$3:$A$130,0),MATCH(Tabulka!M$2,Přehled_body!$E$1:$ED$1,0)),)=\"\",,IF(IFERROR(INDEX(Přehled_body!$E$3:$ED$130,MATCH(Tabulka!$AI9,Přehled_body!$A$3:$A$130,0),MATCH(Tabulka!M$2,Přehled_body!$E$1:$ED$1,0)),)=0,0.00000000001,IFERROR(INDEX(Přehled_body!$E$3:$ED$130,MATCH(Tabulka!$AI9,Přehled_body!$A$3:$A$130,0),MATCH(Tabulka!M$2,Přehled_body!$E$1:$ED$1,0)),)))","v":9.9999999999999994E-12},{"$f":"IF(IFERROR(INDEX(Přehled_body!$E$3:$ED$130,MATCH(Tabulka!$AI9,Přehled_body!$A$3:$A$130,0),MATCH(Tabulka!N$2,Přehled_body!$E$1:$ED$1,0)),)=\"\",,IF(IFERROR(INDEX(Přehled_body!$E$3:$ED$130,MATCH(Tabulka!$AI9,Přehled_body!$A$3:$A$130,0),MATCH(Tabulka!N$2,Přehled_body!$E$1:$ED$1,0)),)=0,0.00000000001,IFERROR(INDEX(Přehled_body!$E$3:$ED$130,MATCH(Tabulka!$AI9,Přehled_body!$A$3:$A$130,0),MATCH(Tabulka!N$2,Přehled_body!$E$1:$ED$1,0)),)))","v":1},{"$f":"IF(IFERROR(INDEX(Přehled_body!$E$3:$ED$130,MATCH(Tabulka!$AI9,Přehled_body!$A$3:$A$130,0),MATCH(Tabulka!O$2,Přehled_body!$E$1:$ED$1,0)),)=\"\",,IF(IFERROR(INDEX(Přehled_body!$E$3:$ED$130,MATCH(Tabulka!$AI9,Přehled_body!$A$3:$A$130,0),MATCH(Tabulka!O$2,Přehled_body!$E$1:$ED$1,0)),)=0,0.00000000001,IFERROR(INDEX(Přehled_body!$E$3:$ED$130,MATCH(Tabulka!$AI9,Přehled_body!$A$3:$A$130,0),MATCH(Tabulka!O$2,Přehled_body!$E$1:$ED$1,0)),)))","v":9.9999999999999994E-12},{"$f":"IF(IFERROR(INDEX(Přehled_body!$E$3:$ED$130,MATCH(Tabulka!$AI9,Přehled_body!$A$3:$A$130,0),MATCH(Tabulka!P$2,Přehled_body!$E$1:$ED$1,0)),)=\"\",,IF(IFERROR(INDEX(Přehled_body!$E$3:$ED$130,MATCH(Tabulka!$AI9,Přehled_body!$A$3:$A$130,0),MATCH(Tabulka!P$2,Přehled_body!$E$1:$ED$1,0)),)=0,0.00000000001,IFERROR(INDEX(Přehled_body!$E$3:$ED$130,MATCH(Tabulka!$AI9,Přehled_body!$A$3:$A$130,0),MATCH(Tabulka!P$2,Přehled_body!$E$1:$ED$1,0)),)))","v":1},{"$f":"IF(IFERROR(INDEX(Přehled_body!$E$3:$ED$130,MATCH(Tabulka!$AI9,Přehled_body!$A$3:$A$130,0),MATCH(Tabulka!Q$2,Přehled_body!$E$1:$ED$1,0)),)=\"\",,IF(IFERROR(INDEX(Přehled_body!$E$3:$ED$130,MATCH(Tabulka!$AI9,Přehled_body!$A$3:$A$130,0),MATCH(Tabulka!Q$2,Přehled_body!$E$1:$ED$1,0)),)=0,0.00000000001,IFERROR(INDEX(Přehled_body!$E$3:$ED$130,MATCH(Tabulka!$AI9,Přehled_body!$A$3:$A$130,0),MATCH(Tabulka!Q$2,Přehled_body!$E$1:$ED$1,0)),)))","v":9.9999999999999994E-12},{"$f":"IF(IFERROR(INDEX(Přehled_body!$E$3:$ED$130,MATCH(Tabulka!$AI9,Přehled_body!$A$3:$A$130,0),MATCH(Tabulka!R$2,Přehled_body!$E$1:$ED$1,0)),)=\"\",,IF(IFERROR(INDEX(Přehled_body!$E$3:$ED$130,MATCH(Tabulka!$AI9,Přehled_body!$A$3:$A$130,0),MATCH(Tabulka!R$2,Přehled_body!$E$1:$ED$1,0)),)=0,0.00000000001,IFERROR(INDEX(Přehled_body!$E$3:$ED$130,MATCH(Tabulka!$AI9,Přehled_body!$A$3:$A$130,0),MATCH(Tabulka!R$2,Přehled_body!$E$1:$ED$1,0)),)))","v":2},{"$f":"IF(IFERROR(INDEX(Přehled_body!$E$3:$ED$130,MATCH(Tabulka!$AI9,Přehled_body!$A$3:$A$130,0),MATCH(Tabulka!S$2,Přehled_body!$E$1:$ED$1,0)),)=\"\",,IF(IFERROR(INDEX(Přehled_body!$E$3:$ED$130,MATCH(Tabulka!$AI9,Přehled_body!$A$3:$A$130,0),MATCH(Tabulka!S$2,Přehled_body!$E$1:$ED$1,0)),)=0,0.00000000001,IFERROR(INDEX(Přehled_body!$E$3:$ED$130,MATCH(Tabulka!$AI9,Přehled_body!$A$3:$A$130,0),MATCH(Tabulka!S$2,Přehled_body!$E$1:$ED$1,0)),)))","v":9.9999999999999994E-12},{"$f":"IF(IFERROR(INDEX(Přehled_body!$E$3:$ED$130,MATCH(Tabulka!$AI9,Přehled_body!$A$3:$A$130,0),MATCH(Tabulka!T$2,Přehled_body!$E$1:$ED$1,0)),)=\"\",,IF(IFERROR(INDEX(Přehled_body!$E$3:$ED$130,MATCH(Tabulka!$AI9,Přehled_body!$A$3:$A$130,0),MATCH(Tabulka!T$2,Přehled_body!$E$1:$ED$1,0)),)=0,0.00000000001,IFERROR(INDEX(Přehled_body!$E$3:$ED$130,MATCH(Tabulka!$AI9,Přehled_body!$A$3:$A$130,0),MATCH(Tabulka!T$2,Přehled_body!$E$1:$ED$1,0)),)))","v":9.9999999999999994E-12},{"$f":"IF(IFERROR(INDEX(Přehled_body!$E$3:$ED$130,MATCH(Tabulka!$AI9,Přehled_body!$A$3:$A$130,0),MATCH(Tabulka!U$2,Přehled_body!$E$1:$ED$1,0)),)=\"\",,IF(IFERROR(INDEX(Přehled_body!$E$3:$ED$130,MATCH(Tabulka!$AI9,Přehled_body!$A$3:$A$130,0),MATCH(Tabulka!U$2,Přehled_body!$E$1:$ED$1,0)),)=0,0.00000000001,IFERROR(INDEX(Přehled_body!$E$3:$ED$130,MATCH(Tabulka!$AI9,Přehled_body!$A$3:$A$130,0),MATCH(Tabulka!U$2,Přehled_body!$E$1:$ED$1,0)),)))","v":0},{"$f":"IF(IFERROR(INDEX(Přehled_body!$E$3:$ED$130,MATCH(Tabulka!$AI9,Přehled_body!$A$3:$A$130,0),MATCH(Tabulka!V$2,Přehled_body!$E$1:$ED$1,0)),)=\"\",,IF(IFERROR(INDEX(Přehled_body!$E$3:$ED$130,MATCH(Tabulka!$AI9,Přehled_body!$A$3:$A$130,0),MATCH(Tabulka!V$2,Přehled_body!$E$1:$ED$1,0)),)=0,0.00000000001,IFERROR(INDEX(Přehled_body!$E$3:$ED$130,MATCH(Tabulka!$AI9,Přehled_body!$A$3:$A$130,0),MATCH(Tabulka!V$2,Přehled_body!$E$1:$ED$1,0)),)))","v":0},{"$f":"IF(IFERROR(INDEX(Přehled_body!$E$3:$ED$130,MATCH(Tabulka!$AI9,Přehled_body!$A$3:$A$130,0),MATCH(Tabulka!W$2,Přehled_body!$E$1:$ED$1,0)),)=\"\",,IF(IFERROR(INDEX(Přehled_body!$E$3:$ED$130,MATCH(Tabulka!$AI9,Přehled_body!$A$3:$A$130,0),MATCH(Tabulka!W$2,Přehled_body!$E$1:$ED$1,0)),)=0,0.00000000001,IFERROR(INDEX(Přehled_body!$E$3:$ED$130,MATCH(Tabulka!$AI9,Přehled_body!$A$3:$A$130,0),MATCH(Tabulka!W$2,Přehled_body!$E$1:$ED$1,0)),)))","v":0},{"$f":"IF(IFERROR(INDEX(Přehled_body!$E$3:$ED$130,MATCH(Tabulka!$AI9,Přehled_body!$A$3:$A$130,0),MATCH(Tabulka!X$2,Přehled_body!$E$1:$ED$1,0)),)=\"\",,IF(IFERROR(INDEX(Přehled_body!$E$3:$ED$130,MATCH(Tabulka!$AI9,Přehled_body!$A$3:$A$130,0),MATCH(Tabulka!X$2,Přehled_body!$E$1:$ED$1,0)),)=0,0.00000000001,IFERROR(INDEX(Přehled_body!$E$3:$ED$130,MATCH(Tabulka!$AI9,Přehled_body!$A$3:$A$130,0),MATCH(Tabulka!X$2,Přehled_body!$E$1:$ED$1,0)),)))","v":0},{"$f":"IF(IFERROR(INDEX(Přehled_body!$E$3:$ED$130,MATCH(Tabulka!$AI9,Přehled_body!$A$3:$A$130,0),MATCH(Tabulka!Y$2,Přehled_body!$E$1:$ED$1,0)),)=\"\",,IF(IFERROR(INDEX(Přehled_body!$E$3:$ED$130,MATCH(Tabulka!$AI9,Přehled_body!$A$3:$A$130,0),MATCH(Tabulka!Y$2,Přehled_body!$E$1:$ED$1,0)),)=0,0.00000000001,IFERROR(INDEX(Přehled_body!$E$3:$ED$130,MATCH(Tabulka!$AI9,Přehled_body!$A$3:$A$130,0),MATCH(Tabulka!Y$2,Přehled_body!$E$1:$ED$1,0)),)))","v":0},{"$f":"IF(IFERROR(INDEX(Přehled_body!$E$3:$ED$130,MATCH(Tabulka!$AI9,Přehled_body!$A$3:$A$130,0),MATCH(Tabulka!Z$2,Přehled_body!$E$1:$ED$1,0)),)=\"\",,IF(IFERROR(INDEX(Přehled_body!$E$3:$ED$130,MATCH(Tabulka!$AI9,Přehled_body!$A$3:$A$130,0),MATCH(Tabulka!Z$2,Přehled_body!$E$1:$ED$1,0)),)=0,0.00000000001,IFERROR(INDEX(Přehled_body!$E$3:$ED$130,MATCH(Tabulka!$AI9,Přehled_body!$A$3:$A$130,0),MATCH(Tabulka!Z$2,Přehled_body!$E$1:$ED$1,0)),)))","v":0},{"$f":"IF(IFERROR(INDEX(Přehled_body!$E$3:$ED$130,MATCH(Tabulka!$AI9,Přehled_body!$A$3:$A$130,0),MATCH(Tabulka!AA$2,Přehled_body!$E$1:$ED$1,0)),)=\"\",,IF(IFERROR(INDEX(Přehled_body!$E$3:$ED$130,MATCH(Tabulka!$AI9,Přehled_body!$A$3:$A$130,0),MATCH(Tabulka!AA$2,Přehled_body!$E$1:$ED$1,0)),)=0,0.00000000001,IFERROR(INDEX(Přehled_body!$E$3:$ED$130,MATCH(Tabulka!$AI9,Přehled_body!$A$3:$A$130,0),MATCH(Tabulka!AA$2,Přehled_body!$E$1:$ED$1,0)),)))","v":0},{"$f":"IF(IFERROR(INDEX(Přehled_body!$E$3:$ED$130,MATCH(Tabulka!$AI9,Přehled_body!$A$3:$A$130,0),MATCH(Tabulka!AB$2,Přehled_body!$E$1:$ED$1,0)),)=\"\",,IF(IFERROR(INDEX(Přehled_body!$E$3:$ED$130,MATCH(Tabulka!$AI9,Přehled_body!$A$3:$A$130,0),MATCH(Tabulka!AB$2,Přehled_body!$E$1:$ED$1,0)),)=0,0.00000000001,IFERROR(INDEX(Přehled_body!$E$3:$ED$130,MATCH(Tabulka!$AI9,Přehled_body!$A$3:$A$130,0),MATCH(Tabulka!AB$2,Přehled_body!$E$1:$ED$1,0)),)))","v":0},{"$f":"IF(IFERROR(INDEX(Přehled_body!$E$3:$ED$130,MATCH(Tabulka!$AI9,Přehled_body!$A$3:$A$130,0),MATCH(Tabulka!AC$2,Přehled_body!$E$1:$ED$1,0)),)=\"\",,IF(IFERROR(INDEX(Přehled_body!$E$3:$ED$130,MATCH(Tabulka!$AI9,Přehled_body!$A$3:$A$130,0),MATCH(Tabulka!AC$2,Přehled_body!$E$1:$ED$1,0)),)=0,0.00000000001,IFERROR(INDEX(Přehled_body!$E$3:$ED$130,MATCH(Tabulka!$AI9,Přehled_body!$A$3:$A$130,0),MATCH(Tabulka!AC$2,Přehled_body!$E$1:$ED$1,0)),)))","v":0},{"$f":"IF(IFERROR(INDEX(Přehled_body!$E$3:$ED$130,MATCH(Tabulka!$AI9,Přehled_body!$A$3:$A$130,0),MATCH(Tabulka!AD$2,Přehled_body!$E$1:$ED$1,0)),)=\"\",,IF(IFERROR(INDEX(Přehled_body!$E$3:$ED$130,MATCH(Tabulka!$AI9,Přehled_body!$A$3:$A$130,0),MATCH(Tabulka!AD$2,Přehled_body!$E$1:$ED$1,0)),)=0,0.00000000001,IFERROR(INDEX(Přehled_body!$E$3:$ED$130,MATCH(Tabulka!$AI9,Přehled_body!$A$3:$A$130,0),MATCH(Tabulka!AD$2,Přehled_body!$E$1:$ED$1,0)),)))","v":0},{"$f":"IF(SUM(AG9)<2,-90000+SUM(D9:AD9),SUM(D9:AD9))","v":12.000000000079995},null,{"$f":"COUNTIF(D9:AD9,\">0\")","v":17},12.000000000079995,{"$f":"CONCATENATE($B$10,\" \",$B$11,C9)","v":"Libor HruškaVýhry"},null,null,{"$f":"COUNTIF(D9:AD9,\">0\")","v":17}]
[{"$f":"CONCATENATE(B10,\" \",B11)","v":"Libor Hruška"},"Libor","Prohry",{"$f":"IF(IFERROR(INDEX(Přehled_body!$E$3:$ED$130,MATCH(Tabulka!$AI10,Přehled_body!$A$3:$A$130,0),MATCH(Tabulka!D$2,Přehled_body!$E$1:$ED$1,0)),)=\"\",,IF(IFERROR(INDEX(Přehled_body!$E$3:$ED$130,MATCH(Tabulka!$AI10,Přehled_body!$A$3:$A$130,0),MATCH(Tabulka!D$2,Přehled_body!$E$1:$ED$1,0)),)=0,0.00000000001,IFERROR(INDEX(Přehled_body!$E$3:$ED$130,MATCH(Tabulka!$AI10,Přehled_body!$A$3:$A$130,0),MATCH(Tabulka!D$2,Přehled_body!$E$1:$ED$1,0)),)))","v":9.9999999999999994E-12},{"$f":"IF(IFERROR(INDEX(Přehled_body!$E$3:$ED$130,MATCH(Tabulka!$AI10,Přehled_body!$A$3:$A$130,0),MATCH(Tabulka!E$2,Přehled_body!$E$1:$ED$1,0)),)=\"\",,IF(IFERROR(INDEX(Přehled_body!$E$3:$ED$130,MATCH(Tabulka!$AI10,Přehled_body!$A$3:$A$130,0),MATCH(Tabulka!E$2,Přehled_body!$E$1:$ED$1,0)),)=0,0.00000000001,IFERROR(INDEX(Přehled_body!$E$3:$ED$130,MATCH(Tabulka!$AI10,Přehled_body!$A$3:$A$130,0),MATCH(Tabulka!E$2,Přehled_body!$E$1:$ED$1,0)),)))","v":9.9999999999999994E-12},{"$f":"IF(IFERROR(INDEX(Přehled_body!$E$3:$ED$130,MATCH(Tabulka!$AI10,Přehled_body!$A$3:$A$130,0),MATCH(Tabulka!F$2,Přehled_body!$E$1:$ED$1,0)),)=\"\",,IF(IFERROR(INDEX(Přehled_body!$E$3:$ED$130,MATCH(Tabulka!$AI10,Přehled_body!$A$3:$A$130,0),MATCH(Tabulka!F$2,Přehled_body!$E$1:$ED$1,0)),)=0,0.00000000001,IFERROR(INDEX(Přehled_body!$E$3:$ED$130,MATCH(Tabulka!$AI10,Přehled_body!$A$3:$A$130,0),MATCH(Tabulka!F$2,Přehled_body!$E$1:$ED$1,0)),)))","v":9.9999999999999994E-12},{"$f":"IF(IFERROR(INDEX(Přehled_body!$E$3:$ED$130,MATCH(Tabulka!$AI10,Přehled_body!$A$3:$A$130,0),MATCH(Tabulka!G$2,Přehled_body!$E$1:$ED$1,0)),)=\"\",,IF(IFERROR(INDEX(Přehled_body!$E$3:$ED$130,MATCH(Tabulka!$AI10,Přehled_body!$A$3:$A$130,0),MATCH(Tabulka!G$2,Přehled_body!$E$1:$ED$1,0)),)=0,0.00000000001,IFERROR(INDEX(Přehled_body!$E$3:$ED$130,MATCH(Tabulka!$AI10,Přehled_body!$A$3:$A$130,0),MATCH(Tabulka!G$2,Přehled_body!$E$1:$ED$1,0)),)))","v":2},{"$f":"IF(IFERROR(INDEX(Přehled_body!$E$3:$ED$130,MATCH(Tabulka!$AI10,Přehled_body!$A$3:$A$130,0),MATCH(Tabulka!H$2,Přehled_body!$E$1:$ED$1,0)),)=\"\",,IF(IFERROR(INDEX(Přehled_body!$E$3:$ED$130,MATCH(Tabulka!$AI10,Přehled_body!$A$3:$A$130,0),MATCH(Tabulka!H$2,Přehled_body!$E$1:$ED$1,0)),)=0,0.00000000001,IFERROR(INDEX(Přehled_body!$E$3:$ED$130,MATCH(Tabulka!$AI10,Přehled_body!$A$3:$A$130,0),MATCH(Tabulka!H$2,Přehled_body!$E$1:$ED$1,0)),)))","v":9.9999999999999994E-12},{"$f":"IF(IFERROR(INDEX(Přehled_body!$E$3:$ED$130,MATCH(Tabulka!$AI10,Přehled_body!$A$3:$A$130,0),MATCH(Tabulka!I$2,Přehled_body!$E$1:$ED$1,0)),)=\"\",,IF(IFERROR(INDEX(Přehled_body!$E$3:$ED$130,MATCH(Tabulka!$AI10,Přehled_body!$A$3:$A$130,0),MATCH(Tabulka!I$2,Přehled_body!$E$1:$ED$1,0)),)=0,0.00000000001,IFERROR(INDEX(Přehled_body!$E$3:$ED$130,MATCH(Tabulka!$AI10,Přehled_body!$A$3:$A$130,0),MATCH(Tabulka!I$2,Přehled_body!$E$1:$ED$1,0)),)))","v":9.9999999999999994E-12},{"$f":"IF(IFERROR(INDEX(Přehled_body!$E$3:$ED$130,MATCH(Tabulka!$AI10,Přehled_body!$A$3:$A$130,0),MATCH(Tabulka!J$2,Přehled_body!$E$1:$ED$1,0)),)=\"\",,IF(IFERROR(INDEX(Přehled_body!$E$3:$ED$130,MATCH(Tabulka!$AI10,Přehled_body!$A$3:$A$130,0),MATCH(Tabulka!J$2,Přehled_body!$E$1:$ED$1,0)),)=0,0.00000000001,IFERROR(INDEX(Přehled_body!$E$3:$ED$130,MATCH(Tabulka!$AI10,Přehled_body!$A$3:$A$130,0),MATCH(Tabulka!J$2,Přehled_body!$E$1:$ED$1,0)),)))","v":9.9999999999999994E-12},{"$f":"IF(IFERROR(INDEX(Přehled_body!$E$3:$ED$130,MATCH(Tabulka!$AI10,Přehled_body!$A$3:$A$130,0),MATCH(Tabulka!K$2,Přehled_body!$E$1:$ED$1,0)),)=\"\",,IF(IFERROR(INDEX(Přehled_body!$E$3:$ED$130,MATCH(Tabulka!$AI10,Přehled_body!$A$3:$A$130,0),MATCH(Tabulka!K$2,Přehled_body!$E$1:$ED$1,0)),)=0,0.00000000001,IFERROR(INDEX(Přehled_body!$E$3:$ED$130,MATCH(Tabulka!$AI10,Přehled_body!$A$3:$A$130,0),MATCH(Tabulka!K$2,Přehled_body!$E$1:$ED$1,0)),)))","v":9.9999999999999994E-12},{"$f":"IF(IFERROR(INDEX(Přehled_body!$E$3:$ED$130,MATCH(Tabulka!$AI10,Přehled_body!$A$3:$A$130,0),MATCH(Tabulka!L$2,Přehled_body!$E$1:$ED$1,0)),)=\"\",,IF(IFERROR(INDEX(Přehled_body!$E$3:$ED$130,MATCH(Tabulka!$AI10,Přehled_body!$A$3:$A$130,0),MATCH(Tabulka!L$2,Přehled_body!$E$1:$ED$1,0)),)=0,0.00000000001,IFERROR(INDEX(Přehled_body!$E$3:$ED$130,MATCH(Tabulka!$AI10,Přehled_body!$A$3:$A$130,0),MATCH(Tabulka!L$2,Přehled_body!$E$1:$ED$1,0)),)))","v":9.9999999999999994E-12},{"$f":"IF(IFERROR(INDEX(Přehled_body!$E$3:$ED$130,MATCH(Tabulka!$AI10,Přehled_body!$A$3:$A$130,0),MATCH(Tabulka!M$2,Přehled_body!$E$1:$ED$1,0)),)=\"\",,IF(IFERROR(INDEX(Přehled_body!$E$3:$ED$130,MATCH(Tabulka!$AI10,Přehled_body!$A$3:$A$130,0),MATCH(Tabulka!M$2,Přehled_body!$E$1:$ED$1,0)),)=0,0.00000000001,IFERROR(INDEX(Přehled_body!$E$3:$ED$130,MATCH(Tabulka!$AI10,Přehled_body!$A$3:$A$130,0),MATCH(Tabulka!M$2,Přehled_body!$E$1:$ED$1,0)),)))","v":9.9999999999999994E-12},{"$f":"IF(IFERROR(INDEX(Přehled_body!$E$3:$ED$130,MATCH(Tabulka!$AI10,Přehled_body!$A$3:$A$130,0),MATCH(Tabulka!N$2,Přehled_body!$E$1:$ED$1,0)),)=\"\",,IF(IFERROR(INDEX(Přehled_body!$E$3:$ED$130,MATCH(Tabulka!$AI10,Přehled_body!$A$3:$A$130,0),MATCH(Tabulka!N$2,Přehled_body!$E$1:$ED$1,0)),)=0,0.00000000001,IFERROR(INDEX(Přehled_body!$E$3:$ED$130,MATCH(Tabulka!$AI10,Přehled_body!$A$3:$A$130,0),MATCH(Tabulka!N$2,Přehled_body!$E$1:$ED$1,0)),)))","v":2},{"$f":"IF(IFERROR(INDEX(Přehled_body!$E$3:$ED$130,MATCH(Tabulka!$AI10,Přehled_body!$A$3:$A$130,0),MATCH(Tabulka!O$2,Přehled_body!$E$1:$ED$1,0)),)=\"\",,IF(IFERROR(INDEX(Přehled_body!$E$3:$ED$130,MATCH(Tabulka!$AI10,Přehled_body!$A$3:$A$130,0),MATCH(Tabulka!O$2,Přehled_body!$E$1:$ED$1,0)),)=0,0.00000000001,IFERROR(INDEX(Přehled_body!$E$3:$ED$130,MATCH(Tabulka!$AI10,Přehled_body!$A$3:$A$130,0),MATCH(Tabulka!O$2,Přehled_body!$E$1:$ED$1,0)),)))","v":9.9999999999999994E-12},{"$f":"IF(IFERROR(INDEX(Přehled_body!$E$3:$ED$130,MATCH(Tabulka!$AI10,Přehled_body!$A$3:$A$130,0),MATCH(Tabulka!P$2,Přehled_body!$E$1:$ED$1,0)),)=\"\",,IF(IFERROR(INDEX(Přehled_body!$E$3:$ED$130,MATCH(Tabulka!$AI10,Přehled_body!$A$3:$A$130,0),MATCH(Tabulka!P$2,Přehled_body!$E$1:$ED$1,0)),)=0,0.00000000001,IFERROR(INDEX(Přehled_body!$E$3:$ED$130,MATCH(Tabulka!$AI10,Přehled_body!$A$3:$A$130,0),MATCH(Tabulka!P$2,Přehled_body!$E$1:$ED$1,0)),)))","v":9.9999999999999994E-12},{"$f":"IF(IFERROR(INDEX(Přehled_body!$E$3:$ED$130,MATCH(Tabulka!$AI10,Přehled_body!$A$3:$A$130,0),MATCH(Tabulka!Q$2,Přehled_body!$E$1:$ED$1,0)),)=\"\",,IF(IFERROR(INDEX(Přehled_body!$E$3:$ED$130,MATCH(Tabulka!$AI10,Přehled_body!$A$3:$A$130,0),MATCH(Tabulka!Q$2,Přehled_body!$E$1:$ED$1,0)),)=0,0.00000000001,IFERROR(INDEX(Přehled_body!$E$3:$ED$130,MATCH(Tabulka!$AI10,Přehled_body!$A$3:$A$130,0),MATCH(Tabulka!Q$2,Přehled_body!$E$1:$ED$1,0)),)))","v":1},{"$f":"IF(IFERROR(INDEX(Přehled_body!$E$3:$ED$130,MATCH(Tabulka!$AI10,Přehled_body!$A$3:$A$130,0),MATCH(Tabulka!R$2,Přehled_body!$E$1:$ED$1,0)),)=\"\",,IF(IFERROR(INDEX(Přehled_body!$E$3:$ED$130,MATCH(Tabulka!$AI10,Přehled_body!$A$3:$A$130,0),MATCH(Tabulka!R$2,Přehled_body!$E$1:$ED$1,0)),)=0,0.00000000001,IFERROR(INDEX(Přehled_body!$E$3:$ED$130,MATCH(Tabulka!$AI10,Přehled_body!$A$3:$A$130,0),MATCH(Tabulka!R$2,Přehled_body!$E$1:$ED$1,0)),)))","v":9.9999999999999994E-12},{"$f":"IF(IFERROR(INDEX(Přehled_body!$E$3:$ED$130,MATCH(Tabulka!$AI10,Přehled_body!$A$3:$A$130,0),MATCH(Tabulka!S$2,Přehled_body!$E$1:$ED$1,0)),)=\"\",,IF(IFERROR(INDEX(Přehled_body!$E$3:$ED$130,MATCH(Tabulka!$AI10,Přehled_body!$A$3:$A$130,0),MATCH(Tabulka!S$2,Přehled_body!$E$1:$ED$1,0)),)=0,0.00000000001,IFERROR(INDEX(Přehled_body!$E$3:$ED$130,MATCH(Tabulka!$AI10,Přehled_body!$A$3:$A$130,0),MATCH(Tabulka!S$2,Přehled_body!$E$1:$ED$1,0)),)))","v":1},{"$f":"IF(IFERROR(INDEX(Přehled_body!$E$3:$ED$130,MATCH(Tabulka!$AI10,Přehled_body!$A$3:$A$130,0),MATCH(Tabulka!T$2,Přehled_body!$E$1:$ED$1,0)),)=\"\",,IF(IFERROR(INDEX(Přehled_body!$E$3:$ED$130,MATCH(Tabulka!$AI10,Přehled_body!$A$3:$A$130,0),MATCH(Tabulka!T$2,Přehled_body!$E$1:$ED$1,0)),)=0,0.00000000001,IFERROR(INDEX(Přehled_body!$E$3:$ED$130,MATCH(Tabulka!$AI10,Přehled_body!$A$3:$A$130,0),MATCH(Tabulka!T$2,Přehled_body!$E$1:$ED$1,0)),)))","v":9.9999999999999994E-12},{"$f":"IF(IFERROR(INDEX(Přehled_body!$E$3:$ED$130,MATCH(Tabulka!$AI10,Přehled_body!$A$3:$A$130,0),MATCH(Tabulka!U$2,Přehled_body!$E$1:$ED$1,0)),)=\"\",,IF(IFERROR(INDEX(Přehled_body!$E$3:$ED$130,MATCH(Tabulka!$AI10,Přehled_body!$A$3:$A$130,0),MATCH(Tabulka!U$2,Přehled_body!$E$1:$ED$1,0)),)=0,0.00000000001,IFERROR(INDEX(Přehled_body!$E$3:$ED$130,MATCH(Tabulka!$AI10,Přehled_body!$A$3:$A$130,0),MATCH(Tabulka!U$2,Přehled_body!$E$1:$ED$1,0)),)))","v":0},{"$f":"IF(IFERROR(INDEX(Přehled_body!$E$3:$ED$130,MATCH(Tabulka!$AI10,Přehled_body!$A$3:$A$130,0),MATCH(Tabulka!V$2,Přehled_body!$E$1:$ED$1,0)),)=\"\",,IF(IFERROR(INDEX(Přehled_body!$E$3:$ED$130,MATCH(Tabulka!$AI10,Přehled_body!$A$3:$A$130,0),MATCH(Tabulka!V$2,Přehled_body!$E$1:$ED$1,0)),)=0,0.00000000001,IFERROR(INDEX(Přehled_body!$E$3:$ED$130,MATCH(Tabulka!$AI10,Přehled_body!$A$3:$A$130,0),MATCH(Tabulka!V$2,Přehled_body!$E$1:$ED$1,0)),)))","v":0},{"$f":"IF(IFERROR(INDEX(Přehled_body!$E$3:$ED$130,MATCH(Tabulka!$AI10,Přehled_body!$A$3:$A$130,0),MATCH(Tabulka!W$2,Přehled_body!$E$1:$ED$1,0)),)=\"\",,IF(IFERROR(INDEX(Přehled_body!$E$3:$ED$130,MATCH(Tabulka!$AI10,Přehled_body!$A$3:$A$130,0),MATCH(Tabulka!W$2,Přehled_body!$E$1:$ED$1,0)),)=0,0.00000000001,IFERROR(INDEX(Přehled_body!$E$3:$ED$130,MATCH(Tabulka!$AI10,Přehled_body!$A$3:$A$130,0),MATCH(Tabulka!W$2,Přehled_body!$E$1:$ED$1,0)),)))","v":0},{"$f":"IF(IFERROR(INDEX(Přehled_body!$E$3:$ED$130,MATCH(Tabulka!$AI10,Přehled_body!$A$3:$A$130,0),MATCH(Tabulka!X$2,Přehled_body!$E$1:$ED$1,0)),)=\"\",,IF(IFERROR(INDEX(Přehled_body!$E$3:$ED$130,MATCH(Tabulka!$AI10,Přehled_body!$A$3:$A$130,0),MATCH(Tabulka!X$2,Přehled_body!$E$1:$ED$1,0)),)=0,0.00000000001,IFERROR(INDEX(Přehled_body!$E$3:$ED$130,MATCH(Tabulka!$AI10,Přehled_body!$A$3:$A$130,0),MATCH(Tabulka!X$2,Přehled_body!$E$1:$ED$1,0)),)))","v":0},{"$f":"IF(IFERROR(INDEX(Přehled_body!$E$3:$ED$130,MATCH(Tabulka!$AI10,Přehled_body!$A$3:$A$130,0),MATCH(Tabulka!Y$2,Přehled_body!$E$1:$ED$1,0)),)=\"\",,IF(IFERROR(INDEX(Přehled_body!$E$3:$ED$130,MATCH(Tabulka!$AI10,Přehled_body!$A$3:$A$130,0),MATCH(Tabulka!Y$2,Přehled_body!$E$1:$ED$1,0)),)=0,0.00000000001,IFERROR(INDEX(Přehled_body!$E$3:$ED$130,MATCH(Tabulka!$AI10,Přehled_body!$A$3:$A$130,0),MATCH(Tabulka!Y$2,Přehled_body!$E$1:$ED$1,0)),)))","v":0},{"$f":"IF(IFERROR(INDEX(Přehled_body!$E$3:$ED$130,MATCH(Tabulka!$AI10,Přehled_body!$A$3:$A$130,0),MATCH(Tabulka!Z$2,Přehled_body!$E$1:$ED$1,0)),)=\"\",,IF(IFERROR(INDEX(Přehled_body!$E$3:$ED$130,MATCH(Tabulka!$AI10,Přehled_body!$A$3:$A$130,0),MATCH(Tabulka!Z$2,Přehled_body!$E$1:$ED$1,0)),)=0,0.00000000001,IFERROR(INDEX(Přehled_body!$E$3:$ED$130,MATCH(Tabulka!$AI10,Přehled_body!$A$3:$A$130,0),MATCH(Tabulka!Z$2,Přehled_body!$E$1:$ED$1,0)),)))","v":0},{"$f":"IF(IFERROR(INDEX(Přehled_body!$E$3:$ED$130,MATCH(Tabulka!$AI10,Přehled_body!$A$3:$A$130,0),MATCH(Tabulka!AA$2,Přehled_body!$E$1:$ED$1,0)),)=\"\",,IF(IFERROR(INDEX(Přehled_body!$E$3:$ED$130,MATCH(Tabulka!$AI10,Přehled_body!$A$3:$A$130,0),MATCH(Tabulka!AA$2,Přehled_body!$E$1:$ED$1,0)),)=0,0.00000000001,IFERROR(INDEX(Přehled_body!$E$3:$ED$130,MATCH(Tabulka!$AI10,Přehled_body!$A$3:$A$130,0),MATCH(Tabulka!AA$2,Přehled_body!$E$1:$ED$1,0)),)))","v":0},{"$f":"IF(IFERROR(INDEX(Přehled_body!$E$3:$ED$130,MATCH(Tabulka!$AI10,Přehled_body!$A$3:$A$130,0),MATCH(Tabulka!AB$2,Přehled_body!$E$1:$ED$1,0)),)=\"\",,IF(IFERROR(INDEX(Přehled_body!$E$3:$ED$130,MATCH(Tabulka!$AI10,Přehled_body!$A$3:$A$130,0),MATCH(Tabulka!AB$2,Přehled_body!$E$1:$ED$1,0)),)=0,0.00000000001,IFERROR(INDEX(Přehled_body!$E$3:$ED$130,MATCH(Tabulka!$AI10,Přehled_body!$A$3:$A$130,0),MATCH(Tabulka!AB$2,Přehled_body!$E$1:$ED$1,0)),)))","v":0},{"$f":"IF(IFERROR(INDEX(Přehled_body!$E$3:$ED$130,MATCH(Tabulka!$AI10,Přehled_body!$A$3:$A$130,0),MATCH(Tabulka!AC$2,Přehled_body!$E$1:$ED$1,0)),)=\"\",,IF(IFERROR(INDEX(Přehled_body!$E$3:$ED$130,MATCH(Tabulka!$AI10,Přehled_body!$A$3:$A$130,0),MATCH(Tabulka!AC$2,Přehled_body!$E$1:$ED$1,0)),)=0,0.00000000001,IFERROR(INDEX(Přehled_body!$E$3:$ED$130,MATCH(Tabulka!$AI10,Přehled_body!$A$3:$A$130,0),MATCH(Tabulka!AC$2,Přehled_body!$E$1:$ED$1,0)),)))","v":0},{"$f":"IF(IFERROR(INDEX(Přehled_body!$E$3:$ED$130,MATCH(Tabulka!$AI10,Přehled_body!$A$3:$A$130,0),MATCH(Tabulka!AD$2,Přehled_body!$E$1:$ED$1,0)),)=\"\",,IF(IFERROR(INDEX(Přehled_body!$E$3:$ED$130,MATCH(Tabulka!$AI10,Přehled_body!$A$3:$A$130,0),MATCH(Tabulka!AD$2,Přehled_body!$E$1:$ED$1,0)),)=0,0.00000000001,IFERROR(INDEX(Přehled_body!$E$3:$ED$130,MATCH(Tabulka!$AI10,Přehled_body!$A$3:$A$130,0),MATCH(Tabulka!AD$2,Přehled_body!$E$1:$ED$1,0)),)))","v":0},{"$f":"IF(SUM(AG9)<2,-90000+SUM(D10:AD10),SUM(D10:AD10))","v":6.00000000013},{"$f":"SUM(AE9-AE10)","v":5.9999999999499947},null,6.00000000013,{"$f":"CONCATENATE($B$10,\" \",$B$11,C10)","v":"Libor HruškaProhry"},null,null,17,null,null,"Libor",2]
[{"$f":"CONCATENATE(B11,\" \",B10)","v":"Hruška Libor"},"Hruška","Placeno panáků",{"$f":"IF(IFERROR(INDEX(Přehled_body!$E$3:$ED$130,MATCH(Tabulka!$AI11,Přehled_body!$A$3:$A$130,0),MATCH(Tabulka!D$2,Přehled_body!$E$1:$ED$1,0)),)=\"\",,IF(IFERROR(INDEX(Přehled_body!$E$3:$ED$130,MATCH(Tabulka!$AI11,Přehled_body!$A$3:$A$130,0),MATCH(Tabulka!D$2,Přehled_body!$E$1:$ED$1,0)),)=0,0.00000000001,IFERROR(INDEX(Přehled_body!$E$3:$ED$130,MATCH(Tabulka!$AI11,Přehled_body!$A$3:$A$130,0),MATCH(Tabulka!D$2,Přehled_body!$E$1:$ED$1,0)),)))","v":9.9999999999999994E-12},{"$f":"IF(IFERROR(INDEX(Přehled_body!$E$3:$ED$130,MATCH(Tabulka!$AI11,Přehled_body!$A$3:$A$130,0),MATCH(Tabulka!E$2,Přehled_body!$E$1:$ED$1,0)),)=\"\",,IF(IFERROR(INDEX(Přehled_body!$E$3:$ED$130,MATCH(Tabulka!$AI11,Přehled_body!$A$3:$A$130,0),MATCH(Tabulka!E$2,Přehled_body!$E$1:$ED$1,0)),)=0,0.00000000001,IFERROR(INDEX(Přehled_body!$E$3:$ED$130,MATCH(Tabulka!$AI11,Přehled_body!$A$3:$A$130,0),MATCH(Tabulka!E$2,Přehled_body!$E$1:$ED$1,0)),)))","v":9.9999999999999994E-12},{"$f":"IF(IFERROR(INDEX(Přehled_body!$E$3:$ED$130,MATCH(Tabulka!$AI11,Přehled_body!$A$3:$A$130,0),MATCH(Tabulka!F$2,Přehled_body!$E$1:$ED$1,0)),)=\"\",,IF(IFERROR(INDEX(Přehled_body!$E$3:$ED$130,MATCH(Tabulka!$AI11,Přehled_body!$A$3:$A$130,0),MATCH(Tabulka!F$2,Přehled_body!$E$1:$ED$1,0)),)=0,0.00000000001,IFERROR(INDEX(Přehled_body!$E$3:$ED$130,MATCH(Tabulka!$AI11,Přehled_body!$A$3:$A$130,0),MATCH(Tabulka!F$2,Přehled_body!$E$1:$ED$1,0)),)))","v":9.9999999999999994E-12},{"$f":"IF(IFERROR(INDEX(Přehled_body!$E$3:$ED$130,MATCH(Tabulka!$AI11,Přehled_body!$A$3:$A$130,0),MATCH(Tabulka!G$2,Přehled_body!$E$1:$ED$1,0)),)=\"\",,IF(IFERROR(INDEX(Přehled_body!$E$3:$ED$130,MATCH(Tabulka!$AI11,Přehled_body!$A$3:$A$130,0),MATCH(Tabulka!G$2,Přehled_body!$E$1:$ED$1,0)),)=0,0.00000000001,IFERROR(INDEX(Přehled_body!$E$3:$ED$130,MATCH(Tabulka!$AI11,Přehled_body!$A$3:$A$130,0),MATCH(Tabulka!G$2,Přehled_body!$E$1:$ED$1,0)),)))","v":2},{"$f":"IF(IFERROR(INDEX(Přehled_body!$E$3:$ED$130,MATCH(Tabulka!$AI11,Přehled_body!$A$3:$A$130,0),MATCH(Tabulka!H$2,Přehled_body!$E$1:$ED$1,0)),)=\"\",,IF(IFERROR(INDEX(Přehled_body!$E$3:$ED$130,MATCH(Tabulka!$AI11,Přehled_body!$A$3:$A$130,0),MATCH(Tabulka!H$2,Přehled_body!$E$1:$ED$1,0)),)=0,0.00000000001,IFERROR(INDEX(Přehled_body!$E$3:$ED$130,MATCH(Tabulka!$AI11,Přehled_body!$A$3:$A$130,0),MATCH(Tabulka!H$2,Přehled_body!$E$1:$ED$1,0)),)))","v":9.9999999999999994E-12},{"$f":"IF(IFERROR(INDEX(Přehled_body!$E$3:$ED$130,MATCH(Tabulka!$AI11,Přehled_body!$A$3:$A$130,0),MATCH(Tabulka!I$2,Přehled_body!$E$1:$ED$1,0)),)=\"\",,IF(IFERROR(INDEX(Přehled_body!$E$3:$ED$130,MATCH(Tabulka!$AI11,Přehled_body!$A$3:$A$130,0),MATCH(Tabulka!I$2,Přehled_body!$E$1:$ED$1,0)),)=0,0.00000000001,IFERROR(INDEX(Přehled_body!$E$3:$ED$130,MATCH(Tabulka!$AI11,Přehled_body!$A$3:$A$130,0),MATCH(Tabulka!I$2,Přehled_body!$E$1:$ED$1,0)),)))","v":9.9999999999999994E-12},{"$f":"IF(IFERROR(INDEX(Přehled_body!$E$3:$ED$130,MATCH(Tabulka!$AI11,Přehled_body!$A$3:$A$130,0),MATCH(Tabulka!J$2,Přehled_body!$E$1:$ED$1,0)),)=\"\",,IF(IFERROR(INDEX(Přehled_body!$E$3:$ED$130,MATCH(Tabulka!$AI11,Přehled_body!$A$3:$A$130,0),MATCH(Tabulka!J$2,Přehled_body!$E$1:$ED$1,0)),)=0,0.00000000001,IFERROR(INDEX(Přehled_body!$E$3:$ED$130,MATCH(Tabulka!$AI11,Přehled_body!$A$3:$A$130,0),MATCH(Tabulka!J$2,Přehled_body!$E$1:$ED$1,0)),)))","v":9.9999999999999994E-12},{"$f":"IF(IFERROR(INDEX(Přehled_body!$E$3:$ED$130,MATCH(Tabulka!$AI11,Přehled_body!$A$3:$A$130,0),MATCH(Tabulka!K$2,Přehled_body!$E$1:$ED$1,0)),)=\"\",,IF(IFERROR(INDEX(Přehled_body!$E$3:$ED$130,MATCH(Tabulka!$AI11,Přehled_body!$A$3:$A$130,0),MATCH(Tabulka!K$2,Přehled_body!$E$1:$ED$1,0)),)=0,0.00000000001,IFERROR(INDEX(Přehled_body!$E$3:$ED$130,MATCH(Tabulka!$AI11,Přehled_body!$A$3:$A$130,0),MATCH(Tabulka!K$2,Přehled_body!$E$1:$ED$1,0)),)))","v":9.9999999999999994E-12},{"$f":"IF(IFERROR(INDEX(Přehled_body!$E$3:$ED$130,MATCH(Tabulka!$AI11,Přehled_body!$A$3:$A$130,0),MATCH(Tabulka!L$2,Přehled_body!$E$1:$ED$1,0)),)=\"\",,IF(IFERROR(INDEX(Přehled_body!$E$3:$ED$130,MATCH(Tabulka!$AI11,Přehled_body!$A$3:$A$130,0),MATCH(Tabulka!L$2,Přehled_body!$E$1:$ED$1,0)),)=0,0.00000000001,IFERROR(INDEX(Přehled_body!$E$3:$ED$130,MATCH(Tabulka!$AI11,Přehled_body!$A$3:$A$130,0),MATCH(Tabulka!L$2,Přehled_body!$E$1:$ED$1,0)),)))","v":9.9999999999999994E-12},{"$f":"IF(IFERROR(INDEX(Přehled_body!$E$3:$ED$130,MATCH(Tabulka!$AI11,Přehled_body!$A$3:$A$130,0),MATCH(Tabulka!M$2,Přehled_body!$E$1:$ED$1,0)),)=\"\",,IF(IFERROR(INDEX(Přehled_body!$E$3:$ED$130,MATCH(Tabulka!$AI11,Přehled_body!$A$3:$A$130,0),MATCH(Tabulka!M$2,Přehled_body!$E$1:$ED$1,0)),)=0,0.00000000001,IFERROR(INDEX(Přehled_body!$E$3:$ED$130,MATCH(Tabulka!$AI11,Přehled_body!$A$3:$A$130,0),MATCH(Tabulka!M$2,Přehled_body!$E$1:$ED$1,0)),)))","v":9.9999999999999994E-12},{"$f":"IF(IFERROR(INDEX(Přehled_body!$E$3:$ED$130,MATCH(Tabulka!$AI11,Přehled_body!$A$3:$A$130,0),MATCH(Tabulka!N$2,Přehled_body!$E$1:$ED$1,0)),)=\"\",,IF(IFERROR(INDEX(Přehled_body!$E$3:$ED$130,MATCH(Tabulka!$AI11,Přehled_body!$A$3:$A$130,0),MATCH(Tabulka!N$2,Přehled_body!$E$1:$ED$1,0)),)=0,0.00000000001,IFERROR(INDEX(Přehled_body!$E$3:$ED$130,MATCH(Tabulka!$AI11,Přehled_body!$A$3:$A$130,0),MATCH(Tabulka!N$2,Přehled_body!$E$1:$ED$1,0)),)))","v":6},{"$f":"IF(IFERROR(INDEX(Přehled_body!$E$3:$ED$130,MATCH(Tabulka!$AI11,Přehled_body!$A$3:$A$130,0),MATCH(Tabulka!O$2,Přehled_body!$E$1:$ED$1,0)),)=\"\",,IF(IFERROR(INDEX(Přehled_body!$E$3:$ED$130,MATCH(Tabulka!$AI11,Přehled_body!$A$3:$A$130,0),MATCH(Tabulka!O$2,Přehled_body!$E$1:$ED$1,0)),)=0,0.00000000001,IFERROR(INDEX(Přehled_body!$E$3:$ED$130,MATCH(Tabulka!$AI11,Přehled_body!$A$3:$A$130,0),MATCH(Tabulka!O$2,Přehled_body!$E$1:$ED$1,0)),)))","v":9.9999999999999994E-12},{"$f":"IF(IFERROR(INDEX(Přehled_body!$E$3:$ED$130,MATCH(Tabulka!$AI11,Přehled_body!$A$3:$A$130,0),MATCH(Tabulka!P$2,Přehled_body!$E$1:$ED$1,0)),)=\"\",,IF(IFERROR(INDEX(Přehled_body!$E$3:$ED$130,MATCH(Tabulka!$AI11,Přehled_body!$A$3:$A$130,0),MATCH(Tabulka!P$2,Přehled_body!$E$1:$ED$1,0)),)=0,0.00000000001,IFERROR(INDEX(Přehled_body!$E$3:$ED$130,MATCH(Tabulka!$AI11,Přehled_body!$A$3:$A$130,0),MATCH(Tabulka!P$2,Přehled_body!$E$1:$ED$1,0)),)))","v":9.9999999999999994E-12},{"$f":"IF(IFERROR(INDEX(Přehled_body!$E$3:$ED$130,MATCH(Tabulka!$AI11,Přehled_body!$A$3:$A$130,0),MATCH(Tabulka!Q$2,Přehled_body!$E$1:$ED$1,0)),)=\"\",,IF(IFERROR(INDEX(Přehled_body!$E$3:$ED$130,MATCH(Tabulka!$AI11,Přehled_body!$A$3:$A$130,0),MATCH(Tabulka!Q$2,Přehled_body!$E$1:$ED$1,0)),)=0,0.00000000001,IFERROR(INDEX(Přehled_body!$E$3:$ED$130,MATCH(Tabulka!$AI11,Přehled_body!$A$3:$A$130,0),MATCH(Tabulka!Q$2,Přehled_body!$E$1:$ED$1,0)),)))","v":1},{"$f":"IF(IFERROR(INDEX(Přehled_body!$E$3:$ED$130,MATCH(Tabulka!$AI11,Přehled_body!$A$3:$A$130,0),MATCH(Tabulka!R$2,Přehled_body!$E$1:$ED$1,0)),)=\"\",,IF(IFERROR(INDEX(Přehled_body!$E$3:$ED$130,MATCH(Tabulka!$AI11,Přehled_body!$A$3:$A$130,0),MATCH(Tabulka!R$2,Přehled_body!$E$1:$ED$1,0)),)=0,0.00000000001,IFERROR(INDEX(Přehled_body!$E$3:$ED$130,MATCH(Tabulka!$AI11,Přehled_body!$A$3:$A$130,0),MATCH(Tabulka!R$2,Přehled_body!$E$1:$ED$1,0)),)))","v":9.9999999999999994E-12},{"$f":"IF(IFERROR(INDEX(Přehled_body!$E$3:$ED$130,MATCH(Tabulka!$AI11,Přehled_body!$A$3:$A$130,0),MATCH(Tabulka!S$2,Přehled_body!$E$1:$ED$1,0)),)=\"\",,IF(IFERROR(INDEX(Přehled_body!$E$3:$ED$130,MATCH(Tabulka!$AI11,Přehled_body!$A$3:$A$130,0),MATCH(Tabulka!S$2,Přehled_body!$E$1:$ED$1,0)),)=0,0.00000000001,IFERROR(INDEX(Přehled_body!$E$3:$ED$130,MATCH(Tabulka!$AI11,Přehled_body!$A$3:$A$130,0),MATCH(Tabulka!S$2,Přehled_body!$E$1:$ED$1,0)),)))","v":1},{"$f":"IF(IFERROR(INDEX(Přehled_body!$E$3:$ED$130,MATCH(Tabulka!$AI11,Přehled_body!$A$3:$A$130,0),MATCH(Tabulka!T$2,Přehled_body!$E$1:$ED$1,0)),)=\"\",,IF(IFERROR(INDEX(Přehled_body!$E$3:$ED$130,MATCH(Tabulka!$AI11,Přehled_body!$A$3:$A$130,0),MATCH(Tabulka!T$2,Přehled_body!$E$1:$ED$1,0)),)=0,0.00000000001,IFERROR(INDEX(Přehled_body!$E$3:$ED$130,MATCH(Tabulka!$AI11,Přehled_body!$A$3:$A$130,0),MATCH(Tabulka!T$2,Přehled_body!$E$1:$ED$1,0)),)))","v":9.9999999999999994E-12},{"$f":"IF(IFERROR(INDEX(Přehled_body!$E$3:$ED$130,MATCH(Tabulka!$AI11,Přehled_body!$A$3:$A$130,0),MATCH(Tabulka!U$2,Přehled_body!$E$1:$ED$1,0)),)=\"\",,IF(IFERROR(INDEX(Přehled_body!$E$3:$ED$130,MATCH(Tabulka!$AI11,Přehled_body!$A$3:$A$130,0),MATCH(Tabulka!U$2,Přehled_body!$E$1:$ED$1,0)),)=0,0.00000000001,IFERROR(INDEX(Přehled_body!$E$3:$ED$130,MATCH(Tabulka!$AI11,Přehled_body!$A$3:$A$130,0),MATCH(Tabulka!U$2,Přehled_body!$E$1:$ED$1,0)),)))","v":0},{"$f":"IF(IFERROR(INDEX(Přehled_body!$E$3:$ED$130,MATCH(Tabulka!$AI11,Přehled_body!$A$3:$A$130,0),MATCH(Tabulka!V$2,Přehled_body!$E$1:$ED$1,0)),)=\"\",,IF(IFERROR(INDEX(Přehled_body!$E$3:$ED$130,MATCH(Tabulka!$AI11,Přehled_body!$A$3:$A$130,0),MATCH(Tabulka!V$2,Přehled_body!$E$1:$ED$1,0)),)=0,0.00000000001,IFERROR(INDEX(Přehled_body!$E$3:$ED$130,MATCH(Tabulka!$AI11,Přehled_body!$A$3:$A$130,0),MATCH(Tabulka!V$2,Přehled_body!$E$1:$ED$1,0)),)))","v":0},{"$f":"IF(IFERROR(INDEX(Přehled_body!$E$3:$ED$130,MATCH(Tabulka!$AI11,Přehled_body!$A$3:$A$130,0),MATCH(Tabulka!W$2,Přehled_body!$E$1:$ED$1,0)),)=\"\",,IF(IFERROR(INDEX(Přehled_body!$E$3:$ED$130,MATCH(Tabulka!$AI11,Přehled_body!$A$3:$A$130,0),MATCH(Tabulka!W$2,Přehled_body!$E$1:$ED$1,0)),)=0,0.00000000001,IFERROR(INDEX(Přehled_body!$E$3:$ED$130,MATCH(Tabulka!$AI11,Přehled_body!$A$3:$A$130,0),MATCH(Tabulka!W$2,Přehled_body!$E$1:$ED$1,0)),)))","v":0},{"$f":"IF(IFERROR(INDEX(Přehled_body!$E$3:$ED$130,MATCH(Tabulka!$AI11,Přehled_body!$A$3:$A$130,0),MATCH(Tabulka!X$2,Přehled_body!$E$1:$ED$1,0)),)=\"\",,IF(IFERROR(INDEX(Přehled_body!$E$3:$ED$130,MATCH(Tabulka!$AI11,Přehled_body!$A$3:$A$130,0),MATCH(Tabulka!X$2,Přehled_body!$E$1:$ED$1,0)),)=0,0.00000000001,IFERROR(INDEX(Přehled_body!$E$3:$ED$130,MATCH(Tabulka!$AI11,Přehled_body!$A$3:$A$130,0),MATCH(Tabulka!X$2,Přehled_body!$E$1:$ED$1,0)),)))","v":0},{"$f":"IF(IFERROR(INDEX(Přehled_body!$E$3:$ED$130,MATCH(Tabulka!$AI11,Přehled_body!$A$3:$A$130,0),MATCH(Tabulka!Y$2,Přehled_body!$E$1:$ED$1,0)),)=\"\",,IF(IFERROR(INDEX(Přehled_body!$E$3:$ED$130,MATCH(Tabulka!$AI11,Přehled_body!$A$3:$A$130,0),MATCH(Tabulka!Y$2,Přehled_body!$E$1:$ED$1,0)),)=0,0.00000000001,IFERROR(INDEX(Přehled_body!$E$3:$ED$130,MATCH(Tabulka!$AI11,Přehled_body!$A$3:$A$130,0),MATCH(Tabulka!Y$2,Přehled_body!$E$1:$ED$1,0)),)))","v":0},{"$f":"IF(IFERROR(INDEX(Přehled_body!$E$3:$ED$130,MATCH(Tabulka!$AI11,Přehled_body!$A$3:$A$130,0),MATCH(Tabulka!Z$2,Přehled_body!$E$1:$ED$1,0)),)=\"\",,IF(IFERROR(INDEX(Přehled_body!$E$3:$ED$130,MATCH(Tabulka!$AI11,Přehled_body!$A$3:$A$130,0),MATCH(Tabulka!Z$2,Přehled_body!$E$1:$ED$1,0)),)=0,0.00000000001,IFERROR(INDEX(Přehled_body!$E$3:$ED$130,MATCH(Tabulka!$AI11,Přehled_body!$A$3:$A$130,0),MATCH(Tabulka!Z$2,Přehled_body!$E$1:$ED$1,0)),)))","v":0},{"$f":"IF(IFERROR(INDEX(Přehled_body!$E$3:$ED$130,MATCH(Tabulka!$AI11,Přehled_body!$A$3:$A$130,0),MATCH(Tabulka!AA$2,Přehled_body!$E$1:$ED$1,0)),)=\"\",,IF(IFERROR(INDEX(Přehled_body!$E$3:$ED$130,MATCH(Tabulka!$AI11,Přehled_body!$A$3:$A$130,0),MATCH(Tabulka!AA$2,Přehled_body!$E$1:$ED$1,0)),)=0,0.00000000001,IFERROR(INDEX(Přehled_body!$E$3:$ED$130,MATCH(Tabulka!$AI11,Přehled_body!$A$3:$A$130,0),MATCH(Tabulka!AA$2,Přehled_body!$E$1:$ED$1,0)),)))","v":0},{"$f":"IF(IFERROR(INDEX(Přehled_body!$E$3:$ED$130,MATCH(Tabulka!$AI11,Přehled_body!$A$3:$A$130,0),MATCH(Tabulka!AB$2,Přehled_body!$E$1:$ED$1,0)),)=\"\",,IF(IFERROR(INDEX(Přehled_body!$E$3:$ED$130,MATCH(Tabulka!$AI11,Přehled_body!$A$3:$A$130,0),MATCH(Tabulka!AB$2,Přehled_body!$E$1:$ED$1,0)),)=0,0.00000000001,IFERROR(INDEX(Přehled_body!$E$3:$ED$130,MATCH(Tabulka!$AI11,Přehled_body!$A$3:$A$130,0),MATCH(Tabulka!AB$2,Přehled_body!$E$1:$ED$1,0)),)))","v":0},{"$f":"IF(IFERROR(INDEX(Přehled_body!$E$3:$ED$130,MATCH(Tabulka!$AI11,Přehled_body!$A$3:$A$130,0),MATCH(Tabulka!AC$2,Přehled_body!$E$1:$ED$1,0)),)=\"\",,IF(IFERROR(INDEX(Přehled_body!$E$3:$ED$130,MATCH(Tabulka!$AI11,Přehled_body!$A$3:$A$130,0),MATCH(Tabulka!AC$2,Přehled_body!$E$1:$ED$1,0)),)=0,0.00000000001,IFERROR(INDEX(Přehled_body!$E$3:$ED$130,MATCH(Tabulka!$AI11,Přehled_body!$A$3:$A$130,0),MATCH(Tabulka!AC$2,Přehled_body!$E$1:$ED$1,0)),)))","v":0},{"$f":"IF(IFERROR(INDEX(Přehled_body!$E$3:$ED$130,MATCH(Tabulka!$AI11,Přehled_body!$A$3:$A$130,0),MATCH(Tabulka!AD$2,Přehled_body!$E$1:$ED$1,0)),)=\"\",,IF(IFERROR(INDEX(Přehled_body!$E$3:$ED$130,MATCH(Tabulka!$AI11,Přehled_body!$A$3:$A$130,0),MATCH(Tabulka!AD$2,Přehled_body!$E$1:$ED$1,0)),)=0,0.00000000001,IFERROR(INDEX(Přehled_body!$E$3:$ED$130,MATCH(Tabulka!$AI11,Přehled_body!$A$3:$A$130,0),MATCH(Tabulka!AD$2,Přehled_body!$E$1:$ED$1,0)),)))","v":0},{"$f":"IF(SUM(AG9)<2,-90000+SUM(D11:AD11),SUM(D11:AD11))","v":10.000000000129997},null,null,{"$f":"SUM(D11:AD11)+INDEX(List4!$D$2:$F$17,MATCH(Tabulka!A10,List4!$D$2:$D$17,0),3)","v":10.000000031129998},{"$f":"CONCATENATE($B$10,\" \",$B$11,C11)","v":"Libor HruškaPlaceno panáků"},null,null,17,null,null,"Hruška",{"$f":"CONCATENATE(AQ11,\" \",AQ12)","v":"Milan Veselý"},"Milan"]
[null,null,"Přehozy",{"$f":"IF(IFERROR(INDEX(Přehled_body!$E$3:$ED$130,MATCH(Tabulka!$AI12,Přehled_body!$A$3:$A$130,0),MATCH(Tabulka!D$2,Přehled_body!$E$1:$ED$1,0)),)=\"\",,IF(IFERROR(INDEX(Přehled_body!$E$3:$ED$130,MATCH(Tabulka!$AI12,Přehled_body!$A$3:$A$130,0),MATCH(Tabulka!D$2,Přehled_body!$E$1:$ED$1,0)),)=0,0.00000000001,IFERROR(INDEX(Přehled_body!$E$3:$ED$130,MATCH(Tabulka!$AI12,Přehled_body!$A$3:$A$130,0),MATCH(Tabulka!D$2,Přehled_body!$E$1:$ED$1,0)),)))","v":1},{"$f":"IF(IFERROR(INDEX(Přehled_body!$E$3:$ED$130,MATCH(Tabulka!$AI12,Přehled_body!$A$3:$A$130,0),MATCH(Tabulka!E$2,Přehled_body!$E$1:$ED$1,0)),)=\"\",,IF(IFERROR(INDEX(Přehled_body!$E$3:$ED$130,MATCH(Tabulka!$AI12,Přehled_body!$A$3:$A$130,0),MATCH(Tabulka!E$2,Přehled_body!$E$1:$ED$1,0)),)=0,0.00000000001,IFERROR(INDEX(Přehled_body!$E$3:$ED$130,MATCH(Tabulka!$AI12,Přehled_body!$A$3:$A$130,0),MATCH(Tabulka!E$2,Přehled_body!$E$1:$ED$1,0)),)))","v":2},{"$f":"IF(IFERROR(INDEX(Přehled_body!$E$3:$ED$130,MATCH(Tabulka!$AI12,Přehled_body!$A$3:$A$130,0),MATCH(Tabulka!F$2,Přehled_body!$E$1:$ED$1,0)),)=\"\",,IF(IFERROR(INDEX(Přehled_body!$E$3:$ED$130,MATCH(Tabulka!$AI12,Přehled_body!$A$3:$A$130,0),MATCH(Tabulka!F$2,Přehled_body!$E$1:$ED$1,0)),)=0,0.00000000001,IFERROR(INDEX(Přehled_body!$E$3:$ED$130,MATCH(Tabulka!$AI12,Přehled_body!$A$3:$A$130,0),MATCH(Tabulka!F$2,Přehled_body!$E$1:$ED$1,0)),)))","v":9.9999999999999994E-12},{"$f":"IF(IFERROR(INDEX(Přehled_body!$E$3:$ED$130,MATCH(Tabulka!$AI12,Přehled_body!$A$3:$A$130,0),MATCH(Tabulka!G$2,Přehled_body!$E$1:$ED$1,0)),)=\"\",,IF(IFERROR(INDEX(Přehled_body!$E$3:$ED$130,MATCH(Tabulka!$AI12,Přehled_body!$A$3:$A$130,0),MATCH(Tabulka!G$2,Přehled_body!$E$1:$ED$1,0)),)=0,0.00000000001,IFERROR(INDEX(Přehled_body!$E$3:$ED$130,MATCH(Tabulka!$AI12,Přehled_body!$A$3:$A$130,0),MATCH(Tabulka!G$2,Přehled_body!$E$1:$ED$1,0)),)))","v":1},{"$f":"IF(IFERROR(INDEX(Přehled_body!$E$3:$ED$130,MATCH(Tabulka!$AI12,Přehled_body!$A$3:$A$130,0),MATCH(Tabulka!H$2,Přehled_body!$E$1:$ED$1,0)),)=\"\",,IF(IFERROR(INDEX(Přehled_body!$E$3:$ED$130,MATCH(Tabulka!$AI12,Přehled_body!$A$3:$A$130,0),MATCH(Tabulka!H$2,Přehled_body!$E$1:$ED$1,0)),)=0,0.00000000001,IFERROR(INDEX(Přehled_body!$E$3:$ED$130,MATCH(Tabulka!$AI12,Přehled_body!$A$3:$A$130,0),MATCH(Tabulka!H$2,Přehled_body!$E$1:$ED$1,0)),)))","v":1},{"$f":"IF(IFERROR(INDEX(Přehled_body!$E$3:$ED$130,MATCH(Tabulka!$AI12,Přehled_body!$A$3:$A$130,0),MATCH(Tabulka!I$2,Přehled_body!$E$1:$ED$1,0)),)=\"\",,IF(IFERROR(INDEX(Přehled_body!$E$3:$ED$130,MATCH(Tabulka!$AI12,Přehled_body!$A$3:$A$130,0),MATCH(Tabulka!I$2,Přehled_body!$E$1:$ED$1,0)),)=0,0.00000000001,IFERROR(INDEX(Přehled_body!$E$3:$ED$130,MATCH(Tabulka!$AI12,Přehled_body!$A$3:$A$130,0),MATCH(Tabulka!I$2,Přehled_body!$E$1:$ED$1,0)),)))","v":3},{"$f":"IF(IFERROR(INDEX(Přehled_body!$E$3:$ED$130,MATCH(Tabulka!$AI12,Přehled_body!$A$3:$A$130,0),MATCH(Tabulka!J$2,Přehled_body!$E$1:$ED$1,0)),)=\"\",,IF(IFERROR(INDEX(Přehled_body!$E$3:$ED$130,MATCH(Tabulka!$AI12,Přehled_body!$A$3:$A$130,0),MATCH(Tabulka!J$2,Přehled_body!$E$1:$ED$1,0)),)=0,0.00000000001,IFERROR(INDEX(Přehled_body!$E$3:$ED$130,MATCH(Tabulka!$AI12,Přehled_body!$A$3:$A$130,0),MATCH(Tabulka!J$2,Přehled_body!$E$1:$ED$1,0)),)))","v":9.9999999999999994E-12},{"$f":"IF(IFERROR(INDEX(Přehled_body!$E$3:$ED$130,MATCH(Tabulka!$AI12,Přehled_body!$A$3:$A$130,0),MATCH(Tabulka!K$2,Přehled_body!$E$1:$ED$1,0)),)=\"\",,IF(IFERROR(INDEX(Přehled_body!$E$3:$ED$130,MATCH(Tabulka!$AI12,Přehled_body!$A$3:$A$130,0),MATCH(Tabulka!K$2,Přehled_body!$E$1:$ED$1,0)),)=0,0.00000000001,IFERROR(INDEX(Přehled_body!$E$3:$ED$130,MATCH(Tabulka!$AI12,Přehled_body!$A$3:$A$130,0),MATCH(Tabulka!K$2,Přehled_body!$E$1:$ED$1,0)),)))","v":9.9999999999999994E-12},{"$f":"IF(IFERROR(INDEX(Přehled_body!$E$3:$ED$130,MATCH(Tabulka!$AI12,Přehled_body!$A$3:$A$130,0),MATCH(Tabulka!L$2,Přehled_body!$E$1:$ED$1,0)),)=\"\",,IF(IFERROR(INDEX(Přehled_body!$E$3:$ED$130,MATCH(Tabulka!$AI12,Přehled_body!$A$3:$A$130,0),MATCH(Tabulka!L$2,Přehled_body!$E$1:$ED$1,0)),)=0,0.00000000001,IFERROR(INDEX(Přehled_body!$E$3:$ED$130,MATCH(Tabulka!$AI12,Přehled_body!$A$3:$A$130,0),MATCH(Tabulka!L$2,Přehled_body!$E$1:$ED$1,0)),)))","v":9.9999999999999994E-12},{"$f":"IF(IFERROR(INDEX(Přehled_body!$E$3:$ED$130,MATCH(Tabulka!$AI12,Přehled_body!$A$3:$A$130,0),MATCH(Tabulka!M$2,Přehled_body!$E$1:$ED$1,0)),)=\"\",,IF(IFERROR(INDEX(Přehled_body!$E$3:$ED$130,MATCH(Tabulka!$AI12,Přehled_body!$A$3:$A$130,0),MATCH(Tabulka!M$2,Přehled_body!$E$1:$ED$1,0)),)=0,0.00000000001,IFERROR(INDEX(Přehled_body!$E$3:$ED$130,MATCH(Tabulka!$AI12,Přehled_body!$A$3:$A$130,0),MATCH(Tabulka!M$2,Přehled_body!$E$1:$ED$1,0)),)))","v":2},{"$f":"IF(IFERROR(INDEX(Přehled_body!$E$3:$ED$130,MATCH(Tabulka!$AI12,Přehled_body!$A$3:$A$130,0),MATCH(Tabulka!N$2,Přehled_body!$E$1:$ED$1,0)),)=\"\",,IF(IFERROR(INDEX(Přehled_body!$E$3:$ED$130,MATCH(Tabulka!$AI12,Přehled_body!$A$3:$A$130,0),MATCH(Tabulka!N$2,Přehled_body!$E$1:$ED$1,0)),)=0,0.00000000001,IFERROR(INDEX(Přehled_body!$E$3:$ED$130,MATCH(Tabulka!$AI12,Přehled_body!$A$3:$A$130,0),MATCH(Tabulka!N$2,Přehled_body!$E$1:$ED$1,0)),)))","v":2},{"$f":"IF(IFERROR(INDEX(Přehled_body!$E$3:$ED$130,MATCH(Tabulka!$AI12,Přehled_body!$A$3:$A$130,0),MATCH(Tabulka!O$2,Přehled_body!$E$1:$ED$1,0)),)=\"\",,IF(IFERROR(INDEX(Přehled_body!$E$3:$ED$130,MATCH(Tabulka!$AI12,Přehled_body!$A$3:$A$130,0),MATCH(Tabulka!O$2,Přehled_body!$E$1:$ED$1,0)),)=0,0.00000000001,IFERROR(INDEX(Přehled_body!$E$3:$ED$130,MATCH(Tabulka!$AI12,Přehled_body!$A$3:$A$130,0),MATCH(Tabulka!O$2,Přehled_body!$E$1:$ED$1,0)),)))","v":1},{"$f":"IF(IFERROR(INDEX(Přehled_body!$E$3:$ED$130,MATCH(Tabulka!$AI12,Přehled_body!$A$3:$A$130,0),MATCH(Tabulka!P$2,Přehled_body!$E$1:$ED$1,0)),)=\"\",,IF(IFERROR(INDEX(Přehled_body!$E$3:$ED$130,MATCH(Tabulka!$AI12,Přehled_body!$A$3:$A$130,0),MATCH(Tabulka!P$2,Přehled_body!$E$1:$ED$1,0)),)=0,0.00000000001,IFERROR(INDEX(Přehled_body!$E$3:$ED$130,MATCH(Tabulka!$AI12,Přehled_body!$A$3:$A$130,0),MATCH(Tabulka!P$2,Přehled_body!$E$1:$ED$1,0)),)))","v":1},{"$f":"IF(IFERROR(INDEX(Přehled_body!$E$3:$ED$130,MATCH(Tabulka!$AI12,Přehled_body!$A$3:$A$130,0),MATCH(Tabulka!Q$2,Přehled_body!$E$1:$ED$1,0)),)=\"\",,IF(IFERROR(INDEX(Přehled_body!$E$3:$ED$130,MATCH(Tabulka!$AI12,Přehled_body!$A$3:$A$130,0),MATCH(Tabulka!Q$2,Přehled_body!$E$1:$ED$1,0)),)=0,0.00000000001,IFERROR(INDEX(Přehled_body!$E$3:$ED$130,MATCH(Tabulka!$AI12,Přehled_body!$A$3:$A$130,0),MATCH(Tabulka!Q$2,Přehled_body!$E$1:$ED$1,0)),)))","v":1},{"$f":"IF(IFERROR(INDEX(Přehled_body!$E$3:$ED$130,MATCH(Tabulka!$AI12,Přehled_body!$A$3:$A$130,0),MATCH(Tabulka!R$2,Přehled_body!$E$1:$ED$1,0)),)=\"\",,IF(IFERROR(INDEX(Přehled_body!$E$3:$ED$130,MATCH(Tabulka!$AI12,Přehled_body!$A$3:$A$130,0),MATCH(Tabulka!R$2,Přehled_body!$E$1:$ED$1,0)),)=0,0.00000000001,IFERROR(INDEX(Přehled_body!$E$3:$ED$130,MATCH(Tabulka!$AI12,Přehled_body!$A$3:$A$130,0),MATCH(Tabulka!R$2,Přehled_body!$E$1:$ED$1,0)),)))","v":9.9999999999999994E-12},{"$f":"IF(IFERROR(INDEX(Přehled_body!$E$3:$ED$130,MATCH(Tabulka!$AI12,Přehled_body!$A$3:$A$130,0),MATCH(Tabulka!S$2,Přehled_body!$E$1:$ED$1,0)),)=\"\",,IF(IFERROR(INDEX(Přehled_body!$E$3:$ED$130,MATCH(Tabulka!$AI12,Přehled_body!$A$3:$A$130,0),MATCH(Tabulka!S$2,Přehled_body!$E$1:$ED$1,0)),)=0,0.00000000001,IFERROR(INDEX(Přehled_body!$E$3:$ED$130,MATCH(Tabulka!$AI12,Přehled_body!$A$3:$A$130,0),MATCH(Tabulka!S$2,Přehled_body!$E$1:$ED$1,0)),)))","v":9.9999999999999994E-12},{"$f":"IF(IFERROR(INDEX(Přehled_body!$E$3:$ED$130,MATCH(Tabulka!$AI12,Přehled_body!$A$3:$A$130,0),MATCH(Tabulka!T$2,Přehled_body!$E$1:$ED$1,0)),)=\"\",,IF(IFERROR(INDEX(Přehled_body!$E$3:$ED$130,MATCH(Tabulka!$AI12,Přehled_body!$A$3:$A$130,0),MATCH(Tabulka!T$2,Přehled_body!$E$1:$ED$1,0)),)=0,0.00000000001,IFERROR(INDEX(Přehled_body!$E$3:$ED$130,MATCH(Tabulka!$AI12,Přehled_body!$A$3:$A$130,0),MATCH(Tabulka!T$2,Přehled_body!$E$1:$ED$1,0)),)))","v":9.9999999999999994E-12},{"$f":"IF(IFERROR(INDEX(Přehled_body!$E$3:$ED$130,MATCH(Tabulka!$AI12,Přehled_body!$A$3:$A$130,0),MATCH(Tabulka!U$2,Přehled_body!$E$1:$ED$1,0)),)=\"\",,IF(IFERROR(INDEX(Přehled_body!$E$3:$ED$130,MATCH(Tabulka!$AI12,Přehled_body!$A$3:$A$130,0),MATCH(Tabulka!U$2,Přehled_body!$E$1:$ED$1,0)),)=0,0.00000000001,IFERROR(INDEX(Přehled_body!$E$3:$ED$130,MATCH(Tabulka!$AI12,Přehled_body!$A$3:$A$130,0),MATCH(Tabulka!U$2,Přehled_body!$E$1:$ED$1,0)),)))","v":0},{"$f":"IF(IFERROR(INDEX(Přehled_body!$E$3:$ED$130,MATCH(Tabulka!$AI12,Přehled_body!$A$3:$A$130,0),MATCH(Tabulka!V$2,Přehled_body!$E$1:$ED$1,0)),)=\"\",,IF(IFERROR(INDEX(Přehled_body!$E$3:$ED$130,MATCH(Tabulka!$AI12,Přehled_body!$A$3:$A$130,0),MATCH(Tabulka!V$2,Přehled_body!$E$1:$ED$1,0)),)=0,0.00000000001,IFERROR(INDEX(Přehled_body!$E$3:$ED$130,MATCH(Tabulka!$AI12,Přehled_body!$A$3:$A$130,0),MATCH(Tabulka!V$2,Přehled_body!$E$1:$ED$1,0)),)))","v":0},{"$f":"IF(IFERROR(INDEX(Přehled_body!$E$3:$ED$130,MATCH(Tabulka!$AI12,Přehled_body!$A$3:$A$130,0),MATCH(Tabulka!W$2,Přehled_body!$E$1:$ED$1,0)),)=\"\",,IF(IFERROR(INDEX(Přehled_body!$E$3:$ED$130,MATCH(Tabulka!$AI12,Přehled_body!$A$3:$A$130,0),MATCH(Tabulka!W$2,Přehled_body!$E$1:$ED$1,0)),)=0,0.00000000001,IFERROR(INDEX(Přehled_body!$E$3:$ED$130,MATCH(Tabulka!$AI12,Přehled_body!$A$3:$A$130,0),MATCH(Tabulka!W$2,Přehled_body!$E$1:$ED$1,0)),)))","v":0},{"$f":"IF(IFERROR(INDEX(Přehled_body!$E$3:$ED$130,MATCH(Tabulka!$AI12,Přehled_body!$A$3:$A$130,0),MATCH(Tabulka!X$2,Přehled_body!$E$1:$ED$1,0)),)=\"\",,IF(IFERROR(INDEX(Přehled_body!$E$3:$ED$130,MATCH(Tabulka!$AI12,Přehled_body!$A$3:$A$130,0),MATCH(Tabulka!X$2,Přehled_body!$E$1:$ED$1,0)),)=0,0.00000000001,IFERROR(INDEX(Přehled_body!$E$3:$ED$130,MATCH(Tabulka!$AI12,Přehled_body!$A$3:$A$130,0),MATCH(Tabulka!X$2,Přehled_body!$E$1:$ED$1,0)),)))","v":0},{"$f":"IF(IFERROR(INDEX(Přehled_body!$E$3:$ED$130,MATCH(Tabulka!$AI12,Přehled_body!$A$3:$A$130,0),MATCH(Tabulka!Y$2,Přehled_body!$E$1:$ED$1,0)),)=\"\",,IF(IFERROR(INDEX(Přehled_body!$E$3:$ED$130,MATCH(Tabulka!$AI12,Přehled_body!$A$3:$A$130,0),MATCH(Tabulka!Y$2,Přehled_body!$E$1:$ED$1,0)),)=0,0.00000000001,IFERROR(INDEX(Přehled_body!$E$3:$ED$130,MATCH(Tabulka!$AI12,Přehled_body!$A$3:$A$130,0),MATCH(Tabulka!Y$2,Přehled_body!$E$1:$ED$1,0)),)))","v":0},{"$f":"IF(IFERROR(INDEX(Přehled_body!$E$3:$ED$130,MATCH(Tabulka!$AI12,Přehled_body!$A$3:$A$130,0),MATCH(Tabulka!Z$2,Přehled_body!$E$1:$ED$1,0)),)=\"\",,IF(IFERROR(INDEX(Přehled_body!$E$3:$ED$130,MATCH(Tabulka!$AI12,Přehled_body!$A$3:$A$130,0),MATCH(Tabulka!Z$2,Přehled_body!$E$1:$ED$1,0)),)=0,0.00000000001,IFERROR(INDEX(Přehled_body!$E$3:$ED$130,MATCH(Tabulka!$AI12,Přehled_body!$A$3:$A$130,0),MATCH(Tabulka!Z$2,Přehled_body!$E$1:$ED$1,0)),)))","v":0},{"$f":"IF(IFERROR(INDEX(Přehled_body!$E$3:$ED$130,MATCH(Tabulka!$AI12,Přehled_body!$A$3:$A$130,0),MATCH(Tabulka!AA$2,Přehled_body!$E$1:$ED$1,0)),)=\"\",,IF(IFERROR(INDEX(Přehled_body!$E$3:$ED$130,MATCH(Tabulka!$AI12,Přehled_body!$A$3:$A$130,0),MATCH(Tabulka!AA$2,Přehled_body!$E$1:$ED$1,0)),)=0,0.00000000001,IFERROR(INDEX(Přehled_body!$E$3:$ED$130,MATCH(Tabulka!$AI12,Přehled_body!$A$3:$A$130,0),MATCH(Tabulka!AA$2,Přehled_body!$E$1:$ED$1,0)),)))","v":0},{"$f":"IF(IFERROR(INDEX(Přehled_body!$E$3:$ED$130,MATCH(Tabulka!$AI12,Přehled_body!$A$3:$A$130,0),MATCH(Tabulka!AB$2,Přehled_body!$E$1:$ED$1,0)),)=\"\",,IF(IFERROR(INDEX(Přehled_body!$E$3:$ED$130,MATCH(Tabulka!$AI12,Přehled_body!$A$3:$A$130,0),MATCH(Tabulka!AB$2,Přehled_body!$E$1:$ED$1,0)),)=0,0.00000000001,IFERROR(INDEX(Přehled_body!$E$3:$ED$130,MATCH(Tabulka!$AI12,Přehled_body!$A$3:$A$130,0),MATCH(Tabulka!AB$2,Přehled_body!$E$1:$ED$1,0)),)))","v":0},{"$f":"IF(IFERROR(INDEX(Přehled_body!$E$3:$ED$130,MATCH(Tabulka!$AI12,Přehled_body!$A$3:$A$130,0),MATCH(Tabulka!AC$2,Přehled_body!$E$1:$ED$1,0)),)=\"\",,IF(IFERROR(INDEX(Přehled_body!$E$3:$ED$130,MATCH(Tabulka!$AI12,Přehled_body!$A$3:$A$130,0),MATCH(Tabulka!AC$2,Přehled_body!$E$1:$ED$1,0)),)=0,0.00000000001,IFERROR(INDEX(Přehled_body!$E$3:$ED$130,MATCH(Tabulka!$AI12,Přehled_body!$A$3:$A$130,0),MATCH(Tabulka!AC$2,Přehled_body!$E$1:$ED$1,0)),)))","v":0},{"$f":"IF(IFERROR(INDEX(Přehled_body!$E$3:$ED$130,MATCH(Tabulka!$AI12,Přehled_body!$A$3:$A$130,0),MATCH(Tabulka!AD$2,Přehled_body!$E$1:$ED$1,0)),)=\"\",,IF(IFERROR(INDEX(Přehled_body!$E$3:$ED$130,MATCH(Tabulka!$AI12,Přehled_body!$A$3:$A$130,0),MATCH(Tabulka!AD$2,Přehled_body!$E$1:$ED$1,0)),)=0,0.00000000001,IFERROR(INDEX(Přehled_body!$E$3:$ED$130,MATCH(Tabulka!$AI12,Přehled_body!$A$3:$A$130,0),MATCH(Tabulka!AD$2,Přehled_body!$E$1:$ED$1,0)),)))","v":0},{"$f":"IF(SUM(AG9)<2,-90000+SUM(D12:AD12),SUM(D12:AD12))","v":15.000000000069996},null,null,15.000000000069996,{"$f":"CONCATENATE($B$10,\" \",$B$11,C12)","v":"Libor HruškaPřehozy"},null,null,17,null,null,null,{"$f":"CONCATENATE(AQ12,\" \",AQ11)","v":"Veselý Milan"},"Veselý"]
[null,null,"Poč. kol",{"$f":"IF(IFERROR(INDEX(Přehled_body!$E$3:$ED$130,MATCH(Tabulka!$AI13,Přehled_body!$A$3:$A$130,0),MATCH(Tabulka!D$2,Přehled_body!$E$1:$ED$1,0)),)=\"\",,IF(IFERROR(INDEX(Přehled_body!$E$3:$ED$130,MATCH(Tabulka!$AI13,Přehled_body!$A$3:$A$130,0),MATCH(Tabulka!D$2,Přehled_body!$E$1:$ED$1,0)),)=0,0.00000000001,IFERROR(INDEX(Přehled_body!$E$3:$ED$130,MATCH(Tabulka!$AI13,Přehled_body!$A$3:$A$130,0),MATCH(Tabulka!D$2,Přehled_body!$E$1:$ED$1,0)),)))","v":4},{"$f":"IF(IFERROR(INDEX(Přehled_body!$E$3:$ED$130,MATCH(Tabulka!$AI13,Přehled_body!$A$3:$A$130,0),MATCH(Tabulka!E$2,Přehled_body!$E$1:$ED$1,0)),)=\"\",,IF(IFERROR(INDEX(Přehled_body!$E$3:$ED$130,MATCH(Tabulka!$AI13,Přehled_body!$A$3:$A$130,0),MATCH(Tabulka!E$2,Přehled_body!$E$1:$ED$1,0)),)=0,0.00000000001,IFERROR(INDEX(Přehled_body!$E$3:$ED$130,MATCH(Tabulka!$AI13,Přehled_body!$A$3:$A$130,0),MATCH(Tabulka!E$2,Přehled_body!$E$1:$ED$1,0)),)))","v":4},{"$f":"IF(IFERROR(INDEX(Přehled_body!$E$3:$ED$130,MATCH(Tabulka!$AI13,Přehled_body!$A$3:$A$130,0),MATCH(Tabulka!F$2,Přehled_body!$E$1:$ED$1,0)),)=\"\",,IF(IFERROR(INDEX(Přehled_body!$E$3:$ED$130,MATCH(Tabulka!$AI13,Přehled_body!$A$3:$A$130,0),MATCH(Tabulka!F$2,Přehled_body!$E$1:$ED$1,0)),)=0,0.00000000001,IFERROR(INDEX(Přehled_body!$E$3:$ED$130,MATCH(Tabulka!$AI13,Přehled_body!$A$3:$A$130,0),MATCH(Tabulka!F$2,Přehled_body!$E$1:$ED$1,0)),)))","v":4},{"$f":"IF(IFERROR(INDEX(Přehled_body!$E$3:$ED$130,MATCH(Tabulka!$AI13,Přehled_body!$A$3:$A$130,0),MATCH(Tabulka!G$2,Přehled_body!$E$1:$ED$1,0)),)=\"\",,IF(IFERROR(INDEX(Přehled_body!$E$3:$ED$130,MATCH(Tabulka!$AI13,Přehled_body!$A$3:$A$130,0),MATCH(Tabulka!G$2,Přehled_body!$E$1:$ED$1,0)),)=0,0.00000000001,IFERROR(INDEX(Přehled_body!$E$3:$ED$130,MATCH(Tabulka!$AI13,Přehled_body!$A$3:$A$130,0),MATCH(Tabulka!G$2,Přehled_body!$E$1:$ED$1,0)),)))","v":4},{"$f":"IF(IFERROR(INDEX(Přehled_body!$E$3:$ED$130,MATCH(Tabulka!$AI13,Přehled_body!$A$3:$A$130,0),MATCH(Tabulka!H$2,Přehled_body!$E$1:$ED$1,0)),)=\"\",,IF(IFERROR(INDEX(Přehled_body!$E$3:$ED$130,MATCH(Tabulka!$AI13,Přehled_body!$A$3:$A$130,0),MATCH(Tabulka!H$2,Přehled_body!$E$1:$ED$1,0)),)=0,0.00000000001,IFERROR(INDEX(Přehled_body!$E$3:$ED$130,MATCH(Tabulka!$AI13,Přehled_body!$A$3:$A$130,0),MATCH(Tabulka!H$2,Přehled_body!$E$1:$ED$1,0)),)))","v":4},{"$f":"IF(IFERROR(INDEX(Přehled_body!$E$3:$ED$130,MATCH(Tabulka!$AI13,Přehled_body!$A$3:$A$130,0),MATCH(Tabulka!I$2,Přehled_body!$E$1:$ED$1,0)),)=\"\",,IF(IFERROR(INDEX(Přehled_body!$E$3:$ED$130,MATCH(Tabulka!$AI13,Přehled_body!$A$3:$A$130,0),MATCH(Tabulka!I$2,Přehled_body!$E$1:$ED$1,0)),)=0,0.00000000001,IFERROR(INDEX(Přehled_body!$E$3:$ED$130,MATCH(Tabulka!$AI13,Přehled_body!$A$3:$A$130,0),MATCH(Tabulka!I$2,Přehled_body!$E$1:$ED$1,0)),)))","v":4},{"$f":"IF(IFERROR(INDEX(Přehled_body!$E$3:$ED$130,MATCH(Tabulka!$AI13,Přehled_body!$A$3:$A$130,0),MATCH(Tabulka!J$2,Přehled_body!$E$1:$ED$1,0)),)=\"\",,IF(IFERROR(INDEX(Přehled_body!$E$3:$ED$130,MATCH(Tabulka!$AI13,Přehled_body!$A$3:$A$130,0),MATCH(Tabulka!J$2,Přehled_body!$E$1:$ED$1,0)),)=0,0.00000000001,IFERROR(INDEX(Přehled_body!$E$3:$ED$130,MATCH(Tabulka!$AI13,Přehled_body!$A$3:$A$130,0),MATCH(Tabulka!J$2,Přehled_body!$E$1:$ED$1,0)),)))","v":4},{"$f":"IF(IFERROR(INDEX(Přehled_body!$E$3:$ED$130,MATCH(Tabulka!$AI13,Přehled_body!$A$3:$A$130,0),MATCH(Tabulka!K$2,Přehled_body!$E$1:$ED$1,0)),)=\"\",,IF(IFERROR(INDEX(Přehled_body!$E$3:$ED$130,MATCH(Tabulka!$AI13,Přehled_body!$A$3:$A$130,0),MATCH(Tabulka!K$2,Přehled_body!$E$1:$ED$1,0)),)=0,0.00000000001,IFERROR(INDEX(Přehled_body!$E$3:$ED$130,MATCH(Tabulka!$AI13,Přehled_body!$A$3:$A$130,0),MATCH(Tabulka!K$2,Přehled_body!$E$1:$ED$1,0)),)))","v":4},{"$f":"IF(IFERROR(INDEX(Přehled_body!$E$3:$ED$130,MATCH(Tabulka!$AI13,Přehled_body!$A$3:$A$130,0),MATCH(Tabulka!L$2,Přehled_body!$E$1:$ED$1,0)),)=\"\",,IF(IFERROR(INDEX(Přehled_body!$E$3:$ED$130,MATCH(Tabulka!$AI13,Přehled_body!$A$3:$A$130,0),MATCH(Tabulka!L$2,Přehled_body!$E$1:$ED$1,0)),)=0,0.00000000001,IFERROR(INDEX(Přehled_body!$E$3:$ED$130,MATCH(Tabulka!$AI13,Přehled_body!$A$3:$A$130,0),MATCH(Tabulka!L$2,Přehled_body!$E$1:$ED$1,0)),)))","v":3},{"$f":"IF(IFERROR(INDEX(Přehled_body!$E$3:$ED$130,MATCH(Tabulka!$AI13,Přehled_body!$A$3:$A$130,0),MATCH(Tabulka!M$2,Přehled_body!$E$1:$ED$1,0)),)=\"\",,IF(IFERROR(INDEX(Přehled_body!$E$3:$ED$130,MATCH(Tabulka!$AI13,Přehled_body!$A$3:$A$130,0),MATCH(Tabulka!M$2,Přehled_body!$E$1:$ED$1,0)),)=0,0.00000000001,IFERROR(INDEX(Přehled_body!$E$3:$ED$130,MATCH(Tabulka!$AI13,Přehled_body!$A$3:$A$130,0),MATCH(Tabulka!M$2,Přehled_body!$E$1:$ED$1,0)),)))","v":4},{"$f":"IF(IFERROR(INDEX(Přehled_body!$E$3:$ED$130,MATCH(Tabulka!$AI13,Přehled_body!$A$3:$A$130,0),MATCH(Tabulka!N$2,Přehled_body!$E$1:$ED$1,0)),)=\"\",,IF(IFERROR(INDEX(Přehled_body!$E$3:$ED$130,MATCH(Tabulka!$AI13,Přehled_body!$A$3:$A$130,0),MATCH(Tabulka!N$2,Přehled_body!$E$1:$ED$1,0)),)=0,0.00000000001,IFERROR(INDEX(Přehled_body!$E$3:$ED$130,MATCH(Tabulka!$AI13,Přehled_body!$A$3:$A$130,0),MATCH(Tabulka!N$2,Přehled_body!$E$1:$ED$1,0)),)))","v":5},{"$f":"IF(IFERROR(INDEX(Přehled_body!$E$3:$ED$130,MATCH(Tabulka!$AI13,Přehled_body!$A$3:$A$130,0),MATCH(Tabulka!O$2,Přehled_body!$E$1:$ED$1,0)),)=\"\",,IF(IFERROR(INDEX(Přehled_body!$E$3:$ED$130,MATCH(Tabulka!$AI13,Přehled_body!$A$3:$A$130,0),MATCH(Tabulka!O$2,Přehled_body!$E$1:$ED$1,0)),)=0,0.00000000001,IFERROR(INDEX(Přehled_body!$E$3:$ED$130,MATCH(Tabulka!$AI13,Přehled_body!$A$3:$A$130,0),MATCH(Tabulka!O$2,Přehled_body!$E$1:$ED$1,0)),)))","v":4},{"$f":"IF(IFERROR(INDEX(Přehled_body!$E$3:$ED$130,MATCH(Tabulka!$AI13,Přehled_body!$A$3:$A$130,0),MATCH(Tabulka!P$2,Přehled_body!$E$1:$ED$1,0)),)=\"\",,IF(IFERROR(INDEX(Přehled_body!$E$3:$ED$130,MATCH(Tabulka!$AI13,Přehled_body!$A$3:$A$130,0),MATCH(Tabulka!P$2,Přehled_body!$E$1:$ED$1,0)),)=0,0.00000000001,IFERROR(INDEX(Přehled_body!$E$3:$ED$130,MATCH(Tabulka!$AI13,Přehled_body!$A$3:$A$130,0),MATCH(Tabulka!P$2,Přehled_body!$E$1:$ED$1,0)),)))","v":4},{"$f":"IF(IFERROR(INDEX(Přehled_body!$E$3:$ED$130,MATCH(Tabulka!$AI13,Přehled_body!$A$3:$A$130,0),MATCH(Tabulka!Q$2,Přehled_body!$E$1:$ED$1,0)),)=\"\",,IF(IFERROR(INDEX(Přehled_body!$E$3:$ED$130,MATCH(Tabulka!$AI13,Přehled_body!$A$3:$A$130,0),MATCH(Tabulka!Q$2,Přehled_body!$E$1:$ED$1,0)),)=0,0.00000000001,IFERROR(INDEX(Přehled_body!$E$3:$ED$130,MATCH(Tabulka!$AI13,Přehled_body!$A$3:$A$130,0),MATCH(Tabulka!Q$2,Přehled_body!$E$1:$ED$1,0)),)))","v":5},{"$f":"IF(IFERROR(INDEX(Přehled_body!$E$3:$ED$130,MATCH(Tabulka!$AI13,Přehled_body!$A$3:$A$130,0),MATCH(Tabulka!R$2,Přehled_body!$E$1:$ED$1,0)),)=\"\",,IF(IFERROR(INDEX(Přehled_body!$E$3:$ED$130,MATCH(Tabulka!$AI13,Přehled_body!$A$3:$A$130,0),MATCH(Tabulka!R$2,Přehled_body!$E$1:$ED$1,0)),)=0,0.00000000001,IFERROR(INDEX(Přehled_body!$E$3:$ED$130,MATCH(Tabulka!$AI13,Přehled_body!$A$3:$A$130,0),MATCH(Tabulka!R$2,Přehled_body!$E$1:$ED$1,0)),)))","v":4},{"$f":"IF(IFERROR(INDEX(Přehled_body!$E$3:$ED$130,MATCH(Tabulka!$AI13,Přehled_body!$A$3:$A$130,0),MATCH(Tabulka!S$2,Přehled_body!$E$1:$ED$1,0)),)=\"\",,IF(IFERROR(INDEX(Přehled_body!$E$3:$ED$130,MATCH(Tabulka!$AI13,Přehled_body!$A$3:$A$130,0),MATCH(Tabulka!S$2,Přehled_body!$E$1:$ED$1,0)),)=0,0.00000000001,IFERROR(INDEX(Přehled_body!$E$3:$ED$130,MATCH(Tabulka!$AI13,Přehled_body!$A$3:$A$130,0),MATCH(Tabulka!S$2,Přehled_body!$E$1:$ED$1,0)),)))","v":4},{"$f":"IF(IFERROR(INDEX(Přehled_body!$E$3:$ED$130,MATCH(Tabulka!$AI13,Přehled_body!$A$3:$A$130,0),MATCH(Tabulka!T$2,Přehled_body!$E$1:$ED$1,0)),)=\"\",,IF(IFERROR(INDEX(Přehled_body!$E$3:$ED$130,MATCH(Tabulka!$AI13,Přehled_body!$A$3:$A$130,0),MATCH(Tabulka!T$2,Přehled_body!$E$1:$ED$1,0)),)=0,0.00000000001,IFERROR(INDEX(Přehled_body!$E$3:$ED$130,MATCH(Tabulka!$AI13,Přehled_body!$A$3:$A$130,0),MATCH(Tabulka!T$2,Přehled_body!$E$1:$ED$1,0)),)))","v":4},{"$f":"IF(IFERROR(INDEX(Přehled_body!$E$3:$ED$130,MATCH(Tabulka!$AI13,Přehled_body!$A$3:$A$130,0),MATCH(Tabulka!U$2,Přehled_body!$E$1:$ED$1,0)),)=\"\",,IF(IFERROR(INDEX(Přehled_body!$E$3:$ED$130,MATCH(Tabulka!$AI13,Přehled_body!$A$3:$A$130,0),MATCH(Tabulka!U$2,Přehled_body!$E$1:$ED$1,0)),)=0,0.00000000001,IFERROR(INDEX(Přehled_body!$E$3:$ED$130,MATCH(Tabulka!$AI13,Přehled_body!$A$3:$A$130,0),MATCH(Tabulka!U$2,Přehled_body!$E$1:$ED$1,0)),)))","v":0},{"$f":"IF(IFERROR(INDEX(Přehled_body!$E$3:$ED$130,MATCH(Tabulka!$AI13,Přehled_body!$A$3:$A$130,0),MATCH(Tabulka!V$2,Přehled_body!$E$1:$ED$1,0)),)=\"\",,IF(IFERROR(INDEX(Přehled_body!$E$3:$ED$130,MATCH(Tabulka!$AI13,Přehled_body!$A$3:$A$130,0),MATCH(Tabulka!V$2,Přehled_body!$E$1:$ED$1,0)),)=0,0.00000000001,IFERROR(INDEX(Přehled_body!$E$3:$ED$130,MATCH(Tabulka!$AI13,Přehled_body!$A$3:$A$130,0),MATCH(Tabulka!V$2,Přehled_body!$E$1:$ED$1,0)),)))","v":0},{"$f":"IF(IFERROR(INDEX(Přehled_body!$E$3:$ED$130,MATCH(Tabulka!$AI13,Přehled_body!$A$3:$A$130,0),MATCH(Tabulka!W$2,Přehled_body!$E$1:$ED$1,0)),)=\"\",,IF(IFERROR(INDEX(Přehled_body!$E$3:$ED$130,MATCH(Tabulka!$AI13,Přehled_body!$A$3:$A$130,0),MATCH(Tabulka!W$2,Přehled_body!$E$1:$ED$1,0)),)=0,0.00000000001,IFERROR(INDEX(Přehled_body!$E$3:$ED$130,MATCH(Tabulka!$AI13,Přehled_body!$A$3:$A$130,0),MATCH(Tabulka!W$2,Přehled_body!$E$1:$ED$1,0)),)))","v":0},{"$f":"IF(IFERROR(INDEX(Přehled_body!$E$3:$ED$130,MATCH(Tabulka!$AI13,Přehled_body!$A$3:$A$130,0),MATCH(Tabulka!X$2,Přehled_body!$E$1:$ED$1,0)),)=\"\",,IF(IFERROR(INDEX(Přehled_body!$E$3:$ED$130,MATCH(Tabulka!$AI13,Přehled_body!$A$3:$A$130,0),MATCH(Tabulka!X$2,Přehled_body!$E$1:$ED$1,0)),)=0,0.00000000001,IFERROR(INDEX(Přehled_body!$E$3:$ED$130,MATCH(Tabulka!$AI13,Přehled_body!$A$3:$A$130,0),MATCH(Tabulka!X$2,Přehled_body!$E$1:$ED$1,0)),)))","v":0},{"$f":"IF(IFERROR(INDEX(Přehled_body!$E$3:$ED$130,MATCH(Tabulka!$AI13,Přehled_body!$A$3:$A$130,0),MATCH(Tabulka!Y$2,Přehled_body!$E$1:$ED$1,0)),)=\"\",,IF(IFERROR(INDEX(Přehled_body!$E$3:$ED$130,MATCH(Tabulka!$AI13,Přehled_body!$A$3:$A$130,0),MATCH(Tabulka!Y$2,Přehled_body!$E$1:$ED$1,0)),)=0,0.00000000001,IFERROR(INDEX(Přehled_body!$E$3:$ED$130,MATCH(Tabulka!$AI13,Přehled_body!$A$3:$A$130,0),MATCH(Tabulka!Y$2,Přehled_body!$E$1:$ED$1,0)),)))","v":0},{"$f":"IF(IFERROR(INDEX(Přehled_body!$E$3:$ED$130,MATCH(Tabulka!$AI13,Přehled_body!$A$3:$A$130,0),MATCH(Tabulka!Z$2,Přehled_body!$E$1:$ED$1,0)),)=\"\",,IF(IFERROR(INDEX(Přehled_body!$E$3:$ED$130,MATCH(Tabulka!$AI13,Přehled_body!$A$3:$A$130,0),MATCH(Tabulka!Z$2,Přehled_body!$E$1:$ED$1,0)),)=0,0.00000000001,IFERROR(INDEX(Přehled_body!$E$3:$ED$130,MATCH(Tabulka!$AI13,Přehled_body!$A$3:$A$130,0),MATCH(Tabulka!Z$2,Přehled_body!$E$1:$ED$1,0)),)))","v":0},{"$f":"IF(IFERROR(INDEX(Přehled_body!$E$3:$ED$130,MATCH(Tabulka!$AI13,Přehled_body!$A$3:$A$130,0),MATCH(Tabulka!AA$2,Přehled_body!$E$1:$ED$1,0)),)=\"\",,IF(IFERROR(INDEX(Přehled_body!$E$3:$ED$130,MATCH(Tabulka!$AI13,Přehled_body!$A$3:$A$130,0),MATCH(Tabulka!AA$2,Přehled_body!$E$1:$ED$1,0)),)=0,0.00000000001,IFERROR(INDEX(Přehled_body!$E$3:$ED$130,MATCH(Tabulka!$AI13,Přehled_body!$A$3:$A$130,0),MATCH(Tabulka!AA$2,Přehled_body!$E$1:$ED$1,0)),)))","v":0},{"$f":"IF(IFERROR(INDEX(Přehled_body!$E$3:$ED$130,MATCH(Tabulka!$AI13,Přehled_body!$A$3:$A$130,0),MATCH(Tabulka!AB$2,Přehled_body!$E$1:$ED$1,0)),)=\"\",,IF(IFERROR(INDEX(Přehled_body!$E$3:$ED$130,MATCH(Tabulka!$AI13,Přehled_body!$A$3:$A$130,0),MATCH(Tabulka!AB$2,Přehled_body!$E$1:$ED$1,0)),)=0,0.00000000001,IFERROR(INDEX(Přehled_body!$E$3:$ED$130,MATCH(Tabulka!$AI13,Přehled_body!$A$3:$A$130,0),MATCH(Tabulka!AB$2,Přehled_body!$E$1:$ED$1,0)),)))","v":0},{"$f":"IF(IFERROR(INDEX(Přehled_body!$E$3:$ED$130,MATCH(Tabulka!$AI13,Přehled_body!$A$3:$A$130,0),MATCH(Tabulka!AC$2,Přehled_body!$E$1:$ED$1,0)),)=\"\",,IF(IFERROR(INDEX(Přehled_body!$E$3:$ED$130,MATCH(Tabulka!$AI13,Přehled_body!$A$3:$A$130,0),MATCH(Tabulka!AC$2,Přehled_body!$E$1:$ED$1,0)),)=0,0.00000000001,IFERROR(INDEX(Přehled_body!$E$3:$ED$130,MATCH(Tabulka!$AI13,Přehled_body!$A$3:$A$130,0),MATCH(Tabulka!AC$2,Přehled_body!$E$1:$ED$1,0)),)))","v":0},{"$f":"IF(IFERROR(INDEX(Přehled_body!$E$3:$ED$130,MATCH(Tabulka!$AI13,Přehled_body!$A$3:$A$130,0),MATCH(Tabulka!AD$2,Přehled_body!$E$1:$ED$1,0)),)=\"\",,IF(IFERROR(INDEX(Přehled_body!$E$3:$ED$130,MATCH(Tabulka!$AI13,Přehled_body!$A$3:$A$130,0),MATCH(Tabulka!AD$2,Přehled_body!$E$1:$ED$1,0)),)=0,0.00000000001,IFERROR(INDEX(Přehled_body!$E$3:$ED$130,MATCH(Tabulka!$AI13,Přehled_body!$A$3:$A$130,0),MATCH(Tabulka!AD$2,Přehled_body!$E$1:$ED$1,0)),)))","v":0},{"$f":"IF(SUM(AG9)<2,-90000+SUM(D13:AD13),SUM(D13:AD13))","v":69},null,null,69,{"$f":"CONCATENATE($B$10,\" \",$B$11,C13)","v":"Libor HruškaPoč. kol"},null,null,17]
[3,null,"Výhry",{"$f":"IF(IFERROR(INDEX(Přehled_body!$E$3:$ED$130,MATCH(Tabulka!$AI14,Přehled_body!$A$3:$A$130,0),MATCH(Tabulka!D$2,Přehled_body!$E$1:$ED$1,0)),)=\"\",,IF(IFERROR(INDEX(Přehled_body!$E$3:$ED$130,MATCH(Tabulka!$AI14,Přehled_body!$A$3:$A$130,0),MATCH(Tabulka!D$2,Přehled_body!$E$1:$ED$1,0)),)=0,0.00000000001,IFERROR(INDEX(Přehled_body!$E$3:$ED$130,MATCH(Tabulka!$AI14,Přehled_body!$A$3:$A$130,0),MATCH(Tabulka!D$2,Přehled_body!$E$1:$ED$1,0)),)))","v":0},{"$f":"IF(IFERROR(INDEX(Přehled_body!$E$3:$ED$130,MATCH(Tabulka!$AI14,Přehled_body!$A$3:$A$130,0),MATCH(Tabulka!E$2,Přehled_body!$E$1:$ED$1,0)),)=\"\",,IF(IFERROR(INDEX(Přehled_body!$E$3:$ED$130,MATCH(Tabulka!$AI14,Přehled_body!$A$3:$A$130,0),MATCH(Tabulka!E$2,Přehled_body!$E$1:$ED$1,0)),)=0,0.00000000001,IFERROR(INDEX(Přehled_body!$E$3:$ED$130,MATCH(Tabulka!$AI14,Přehled_body!$A$3:$A$130,0),MATCH(Tabulka!E$2,Přehled_body!$E$1:$ED$1,0)),)))","v":0},{"$f":"IF(IFERROR(INDEX(Přehled_body!$E$3:$ED$130,MATCH(Tabulka!$AI14,Přehled_body!$A$3:$A$130,0),MATCH(Tabulka!F$2,Přehled_body!$E$1:$ED$1,0)),)=\"\",,IF(IFERROR(INDEX(Přehled_body!$E$3:$ED$130,MATCH(Tabulka!$AI14,Přehled_body!$A$3:$A$130,0),MATCH(Tabulka!F$2,Přehled_body!$E$1:$ED$1,0)),)=0,0.00000000001,IFERROR(INDEX(Přehled_body!$E$3:$ED$130,MATCH(Tabulka!$AI14,Přehled_body!$A$3:$A$130,0),MATCH(Tabulka!F$2,Přehled_body!$E$1:$ED$1,0)),)))","v":0},{"$f":"IF(IFERROR(INDEX(Přehled_body!$E$3:$ED$130,MATCH(Tabulka!$AI14,Přehled_body!$A$3:$A$130,0),MATCH(Tabulka!G$2,Přehled_body!$E$1:$ED$1,0)),)=\"\",,IF(IFERROR(INDEX(Přehled_body!$E$3:$ED$130,MATCH(Tabulka!$AI14,Přehled_body!$A$3:$A$130,0),MATCH(Tabulka!G$2,Přehled_body!$E$1:$ED$1,0)),)=0,0.00000000001,IFERROR(INDEX(Přehled_body!$E$3:$ED$130,MATCH(Tabulka!$AI14,Přehled_body!$A$3:$A$130,0),MATCH(Tabulka!G$2,Přehled_body!$E$1:$ED$1,0)),)))","v":0},{"$f":"IF(IFERROR(INDEX(Přehled_body!$E$3:$ED$130,MATCH(Tabulka!$AI14,Přehled_body!$A$3:$A$130,0),MATCH(Tabulka!H$2,Přehled_body!$E$1:$ED$1,0)),)=\"\",,IF(IFERROR(INDEX(Přehled_body!$E$3:$ED$130,MATCH(Tabulka!$AI14,Přehled_body!$A$3:$A$130,0),MATCH(Tabulka!H$2,Přehled_body!$E$1:$ED$1,0)),)=0,0.00000000001,IFERROR(INDEX(Přehled_body!$E$3:$ED$130,MATCH(Tabulka!$AI14,Přehled_body!$A$3:$A$130,0),MATCH(Tabulka!H$2,Přehled_body!$E$1:$ED$1,0)),)))","v":0},{"$f":"IF(IFERROR(INDEX(Přehled_body!$E$3:$ED$130,MATCH(Tabulka!$AI14,Přehled_body!$A$3:$A$130,0),MATCH(Tabulka!I$2,Přehled_body!$E$1:$ED$1,0)),)=\"\",,IF(IFERROR(INDEX(Přehled_body!$E$3:$ED$130,MATCH(Tabulka!$AI14,Přehled_body!$A$3:$A$130,0),MATCH(Tabulka!I$2,Přehled_body!$E$1:$ED$1,0)),)=0,0.00000000001,IFERROR(INDEX(Přehled_body!$E$3:$ED$130,MATCH(Tabulka!$AI14,Přehled_body!$A$3:$A$130,0),MATCH(Tabulka!I$2,Přehled_body!$E$1:$ED$1,0)),)))","v":0},{"$f":"IF(IFERROR(INDEX(Přehled_body!$E$3:$ED$130,MATCH(Tabulka!$AI14,Přehled_body!$A$3:$A$130,0),MATCH(Tabulka!J$2,Přehled_body!$E$1:$ED$1,0)),)=\"\",,IF(IFERROR(INDEX(Přehled_body!$E$3:$ED$130,MATCH(Tabulka!$AI14,Přehled_body!$A$3:$A$130,0),MATCH(Tabulka!J$2,Přehled_body!$E$1:$ED$1,0)),)=0,0.00000000001,IFERROR(INDEX(Přehled_body!$E$3:$ED$130,MATCH(Tabulka!$AI14,Přehled_body!$A$3:$A$130,0),MATCH(Tabulka!J$2,Přehled_body!$E$1:$ED$1,0)),)))","v":0},{"$f":"IF(IFERROR(INDEX(Přehled_body!$E$3:$ED$130,MATCH(Tabulka!$AI14,Přehled_body!$A$3:$A$130,0),MATCH(Tabulka!K$2,Přehled_body!$E$1:$ED$1,0)),)=\"\",,IF(IFERROR(INDEX(Přehled_body!$E$3:$ED$130,MATCH(Tabulka!$AI14,Přehled_body!$A$3:$A$130,0),MATCH(Tabulka!K$2,Přehled_body!$E$1:$ED$1,0)),)=0,0.00000000001,IFERROR(INDEX(Přehled_body!$E$3:$ED$130,MATCH(Tabulka!$AI14,Přehled_body!$A$3:$A$130,0),MATCH(Tabulka!K$2,Přehled_body!$E$1:$ED$1,0)),)))","v":0},{"$f":"IF(IFERROR(INDEX(Přehled_body!$E$3:$ED$130,MATCH(Tabulka!$AI14,Přehled_body!$A$3:$A$130,0),MATCH(Tabulka!L$2,Přehled_body!$E$1:$ED$1,0)),)=\"\",,IF(IFERROR(INDEX(Přehled_body!$E$3:$ED$130,MATCH(Tabulka!$AI14,Přehled_body!$A$3:$A$130,0),MATCH(Tabulka!L$2,Přehled_body!$E$1:$ED$1,0)),)=0,0.00000000001,IFERROR(INDEX(Přehled_body!$E$3:$ED$130,MATCH(Tabulka!$AI14,Přehled_body!$A$3:$A$130,0),MATCH(Tabulka!L$2,Přehled_body!$E$1:$ED$1,0)),)))","v":0},{"$f":"IF(IFERROR(INDEX(Přehled_body!$E$3:$ED$130,MATCH(Tabulka!$AI14,Přehled_body!$A$3:$A$130,0),MATCH(Tabulka!M$2,Přehled_body!$E$1:$ED$1,0)),)=\"\",,IF(IFERROR(INDEX(Přehled_body!$E$3:$ED$130,MATCH(Tabulka!$AI14,Přehled_body!$A$3:$A$130,0),MATCH(Tabulka!M$2,Přehled_body!$E$1:$ED$1,0)),)=0,0.00000000001,IFERROR(INDEX(Přehled_body!$E$3:$ED$130,MATCH(Tabulka!$AI14,Přehled_body!$A$3:$A$130,0),MATCH(Tabulka!M$2,Přehled_body!$E$1:$ED$1,0)),)))","v":0},{"$f":"IF(IFERROR(INDEX(Přehled_body!$E$3:$ED$130,MATCH(Tabulka!$AI14,Přehled_body!$A$3:$A$130,0),MATCH(Tabulka!N$2,Přehled_body!$E$1:$ED$1,0)),)=\"\",,IF(IFERROR(INDEX(Přehled_body!$E$3:$ED$130,MATCH(Tabulka!$AI14,Přehled_body!$A$3:$A$130,0),MATCH(Tabulka!N$2,Přehled_body!$E$1:$ED$1,0)),)=0,0.00000000001,IFERROR(INDEX(Přehled_body!$E$3:$ED$130,MATCH(Tabulka!$AI14,Přehled_body!$A$3:$A$130,0),MATCH(Tabulka!N$2,Přehled_body!$E$1:$ED$1,0)),)))","v":0},{"$f":"IF(IFERROR(INDEX(Přehled_body!$E$3:$ED$130,MATCH(Tabulka!$AI14,Přehled_body!$A$3:$A$130,0),MATCH(Tabulka!O$2,Přehled_body!$E$1:$ED$1,0)),)=\"\",,IF(IFERROR(INDEX(Přehled_body!$E$3:$ED$130,MATCH(Tabulka!$AI14,Přehled_body!$A$3:$A$130,0),MATCH(Tabulka!O$2,Přehled_body!$E$1:$ED$1,0)),)=0,0.00000000001,IFERROR(INDEX(Přehled_body!$E$3:$ED$130,MATCH(Tabulka!$AI14,Přehled_body!$A$3:$A$130,0),MATCH(Tabulka!O$2,Přehled_body!$E$1:$ED$1,0)),)))","v":0},{"$f":"IF(IFERROR(INDEX(Přehled_body!$E$3:$ED$130,MATCH(Tabulka!$AI14,Přehled_body!$A$3:$A$130,0),MATCH(Tabulka!P$2,Přehled_body!$E$1:$ED$1,0)),)=\"\",,IF(IFERROR(INDEX(Přehled_body!$E$3:$ED$130,MATCH(Tabulka!$AI14,Přehled_body!$A$3:$A$130,0),MATCH(Tabulka!P$2,Přehled_body!$E$1:$ED$1,0)),)=0,0.00000000001,IFERROR(INDEX(Přehled_body!$E$3:$ED$130,MATCH(Tabulka!$AI14,Přehled_body!$A$3:$A$130,0),MATCH(Tabulka!P$2,Přehled_body!$E$1:$ED$1,0)),)))","v":0},{"$f":"IF(IFERROR(INDEX(Přehled_body!$E$3:$ED$130,MATCH(Tabulka!$AI14,Přehled_body!$A$3:$A$130,0),MATCH(Tabulka!Q$2,Přehled_body!$E$1:$ED$1,0)),)=\"\",,IF(IFERROR(INDEX(Přehled_body!$E$3:$ED$130,MATCH(Tabulka!$AI14,Přehled_body!$A$3:$A$130,0),MATCH(Tabulka!Q$2,Přehled_body!$E$1:$ED$1,0)),)=0,0.00000000001,IFERROR(INDEX(Přehled_body!$E$3:$ED$130,MATCH(Tabulka!$AI14,Přehled_body!$A$3:$A$130,0),MATCH(Tabulka!Q$2,Přehled_body!$E$1:$ED$1,0)),)))","v":0},{"$f":"IF(IFERROR(INDEX(Přehled_body!$E$3:$ED$130,MATCH(Tabulka!$AI14,Přehled_body!$A$3:$A$130,0),MATCH(Tabulka!R$2,Přehled_body!$E$1:$ED$1,0)),)=\"\",,IF(IFERROR(INDEX(Přehled_body!$E$3:$ED$130,MATCH(Tabulka!$AI14,Přehled_body!$A$3:$A$130,0),MATCH(Tabulka!R$2,Přehled_body!$E$1:$ED$1,0)),)=0,0.00000000001,IFERROR(INDEX(Přehled_body!$E$3:$ED$130,MATCH(Tabulka!$AI14,Přehled_body!$A$3:$A$130,0),MATCH(Tabulka!R$2,Přehled_body!$E$1:$ED$1,0)),)))","v":0},{"$f":"IF(IFERROR(INDEX(Přehled_body!$E$3:$ED$130,MATCH(Tabulka!$AI14,Přehled_body!$A$3:$A$130,0),MATCH(Tabulka!S$2,Přehled_body!$E$1:$ED$1,0)),)=\"\",,IF(IFERROR(INDEX(Přehled_body!$E$3:$ED$130,MATCH(Tabulka!$AI14,Přehled_body!$A$3:$A$130,0),MATCH(Tabulka!S$2,Přehled_body!$E$1:$ED$1,0)),)=0,0.00000000001,IFERROR(INDEX(Přehled_body!$E$3:$ED$130,MATCH(Tabulka!$AI14,Přehled_body!$A$3:$A$130,0),MATCH(Tabulka!S$2,Přehled_body!$E$1:$ED$1,0)),)))","v":0},{"$f":"IF(IFERROR(INDEX(Přehled_body!$E$3:$ED$130,MATCH(Tabulka!$AI14,Přehled_body!$A$3:$A$130,0),MATCH(Tabulka!T$2,Přehled_body!$E$1:$ED$1,0)),)=\"\",,IF(IFERROR(INDEX(Přehled_body!$E$3:$ED$130,MATCH(Tabulka!$AI14,Přehled_body!$A$3:$A$130,0),MATCH(Tabulka!T$2,Přehled_body!$E$1:$ED$1,0)),)=0,0.00000000001,IFERROR(INDEX(Přehled_body!$E$3:$ED$130,MATCH(Tabulka!$AI14,Přehled_body!$A$3:$A$130,0),MATCH(Tabulka!T$2,Přehled_body!$E$1:$ED$1,0)),)))","v":9.9999999999999994E-12},{"$f":"IF(IFERROR(INDEX(Přehled_body!$E$3:$ED$130,MATCH(Tabulka!$AI14,Přehled_body!$A$3:$A$130,0),MATCH(Tabulka!U$2,Přehled_body!$E$1:$ED$1,0)),)=\"\",,IF(IFERROR(INDEX(Přehled_body!$E$3:$ED$130,MATCH(Tabulka!$AI14,Přehled_body!$A$3:$A$130,0),MATCH(Tabulka!U$2,Přehled_body!$E$1:$ED$1,0)),)=0,0.00000000001,IFERROR(INDEX(Přehled_body!$E$3:$ED$130,MATCH(Tabulka!$AI14,Přehled_body!$A$3:$A$130,0),MATCH(Tabulka!U$2,Přehled_body!$E$1:$ED$1,0)),)))","v":0},{"$f":"IF(IFERROR(INDEX(Přehled_body!$E$3:$ED$130,MATCH(Tabulka!$AI14,Přehled_body!$A$3:$A$130,0),MATCH(Tabulka!V$2,Přehled_body!$E$1:$ED$1,0)),)=\"\",,IF(IFERROR(INDEX(Přehled_body!$E$3:$ED$130,MATCH(Tabulka!$AI14,Přehled_body!$A$3:$A$130,0),MATCH(Tabulka!V$2,Přehled_body!$E$1:$ED$1,0)),)=0,0.00000000001,IFERROR(INDEX(Přehled_body!$E$3:$ED$130,MATCH(Tabulka!$AI14,Přehled_body!$A$3:$A$130,0),MATCH(Tabulka!V$2,Přehled_body!$E$1:$ED$1,0)),)))","v":0},{"$f":"IF(IFERROR(INDEX(Přehled_body!$E$3:$ED$130,MATCH(Tabulka!$AI14,Přehled_body!$A$3:$A$130,0),MATCH(Tabulka!W$2,Přehled_body!$E$1:$ED$1,0)),)=\"\",,IF(IFERROR(INDEX(Přehled_body!$E$3:$ED$130,MATCH(Tabulka!$AI14,Přehled_body!$A$3:$A$130,0),MATCH(Tabulka!W$2,Přehled_body!$E$1:$ED$1,0)),)=0,0.00000000001,IFERROR(INDEX(Přehled_body!$E$3:$ED$130,MATCH(Tabulka!$AI14,Přehled_body!$A$3:$A$130,0),MATCH(Tabulka!W$2,Přehled_body!$E$1:$ED$1,0)),)))","v":0},{"$f":"IF(IFERROR(INDEX(Přehled_body!$E$3:$ED$130,MATCH(Tabulka!$AI14,Přehled_body!$A$3:$A$130,0),MATCH(Tabulka!X$2,Přehled_body!$E$1:$ED$1,0)),)=\"\",,IF(IFERROR(INDEX(Přehled_body!$E$3:$ED$130,MATCH(Tabulka!$AI14,Přehled_body!$A$3:$A$130,0),MATCH(Tabulka!X$2,Přehled_body!$E$1:$ED$1,0)),)=0,0.00000000001,IFERROR(INDEX(Přehled_body!$E$3:$ED$130,MATCH(Tabulka!$AI14,Přehled_body!$A$3:$A$130,0),MATCH(Tabulka!X$2,Přehled_body!$E$1:$ED$1,0)),)))","v":0},{"$f":"IF(IFERROR(INDEX(Přehled_body!$E$3:$ED$130,MATCH(Tabulka!$AI14,Přehled_body!$A$3:$A$130,0),MATCH(Tabulka!Y$2,Přehled_body!$E$1:$ED$1,0)),)=\"\",,IF(IFERROR(INDEX(Přehled_body!$E$3:$ED$130,MATCH(Tabulka!$AI14,Přehled_body!$A$3:$A$130,0),MATCH(Tabulka!Y$2,Přehled_body!$E$1:$ED$1,0)),)=0,0.00000000001,IFERROR(INDEX(Přehled_body!$E$3:$ED$130,MATCH(Tabulka!$AI14,Přehled_body!$A$3:$A$130,0),MATCH(Tabulka!Y$2,Přehled_body!$E$1:$ED$1,0)),)))","v":0},{"$f":"IF(IFERROR(INDEX(Přehled_body!$E$3:$ED$130,MATCH(Tabulka!$AI14,Přehled_body!$A$3:$A$130,0),MATCH(Tabulka!Z$2,Přehled_body!$E$1:$ED$1,0)),)=\"\",,IF(IFERROR(INDEX(Přehled_body!$E$3:$ED$130,MATCH(Tabulka!$AI14,Přehled_body!$A$3:$A$130,0),MATCH(Tabulka!Z$2,Přehled_body!$E$1:$ED$1,0)),)=0,0.00000000001,IFERROR(INDEX(Přehled_body!$E$3:$ED$130,MATCH(Tabulka!$AI14,Přehled_body!$A$3:$A$130,0),MATCH(Tabulka!Z$2,Přehled_body!$E$1:$ED$1,0)),)))","v":0},{"$f":"IF(IFERROR(INDEX(Přehled_body!$E$3:$ED$130,MATCH(Tabulka!$AI14,Přehled_body!$A$3:$A$130,0),MATCH(Tabulka!AA$2,Přehled_body!$E$1:$ED$1,0)),)=\"\",,IF(IFERROR(INDEX(Přehled_body!$E$3:$ED$130,MATCH(Tabulka!$AI14,Přehled_body!$A$3:$A$130,0),MATCH(Tabulka!AA$2,Přehled_body!$E$1:$ED$1,0)),)=0,0.00000000001,IFERROR(INDEX(Přehled_body!$E$3:$ED$130,MATCH(Tabulka!$AI14,Přehled_body!$A$3:$A$130,0),MATCH(Tabulka!AA$2,Přehled_body!$E$1:$ED$1,0)),)))","v":0},{"$f":"IF(IFERROR(INDEX(Přehled_body!$E$3:$ED$130,MATCH(Tabulka!$AI14,Přehled_body!$A$3:$A$130,0),MATCH(Tabulka!AB$2,Přehled_body!$E$1:$ED$1,0)),)=\"\",,IF(IFERROR(INDEX(Přehled_body!$E$3:$ED$130,MATCH(Tabulka!$AI14,Přehled_body!$A$3:$A$130,0),MATCH(Tabulka!AB$2,Přehled_body!$E$1:$ED$1,0)),)=0,0.00000000001,IFERROR(INDEX(Přehled_body!$E$3:$ED$130,MATCH(Tabulka!$AI14,Přehled_body!$A$3:$A$130,0),MATCH(Tabulka!AB$2,Přehled_body!$E$1:$ED$1,0)),)))","v":0},{"$f":"IF(IFERROR(INDEX(Přehled_body!$E$3:$ED$130,MATCH(Tabulka!$AI14,Přehled_body!$A$3:$A$130,0),MATCH(Tabulka!AC$2,Přehled_body!$E$1:$ED$1,0)),)=\"\",,IF(IFERROR(INDEX(Přehled_body!$E$3:$ED$130,MATCH(Tabulka!$AI14,Přehled_body!$A$3:$A$130,0),MATCH(Tabulka!AC$2,Přehled_body!$E$1:$ED$1,0)),)=0,0.00000000001,IFERROR(INDEX(Přehled_body!$E$3:$ED$130,MATCH(Tabulka!$AI14,Přehled_body!$A$3:$A$130,0),MATCH(Tabulka!AC$2,Přehled_body!$E$1:$ED$1,0)),)))","v":0},{"$f":"IF(IFERROR(INDEX(Přehled_body!$E$3:$ED$130,MATCH(Tabulka!$AI14,Přehled_body!$A$3:$A$130,0),MATCH(Tabulka!AD$2,Přehled_body!$E$1:$ED$1,0)),)=\"\",,IF(IFERROR(INDEX(Přehled_body!$E$3:$ED$130,MATCH(Tabulka!$AI14,Přehled_body!$A$3:$A$130,0),MATCH(Tabulka!AD$2,Přehled_body!$E$1:$ED$1,0)),)=0,0.00000000001,IFERROR(INDEX(Přehled_body!$E$3:$ED$130,MATCH(Tabulka!$AI14,Přehled_body!$A$3:$A$130,0),MATCH(Tabulka!AD$2,Přehled_body!$E$1:$ED$1,0)),)))","v":0},{"$f":"IF(SUM(AG14)<2,-90000+SUM(D14:AD14),SUM(D14:AD14))","v":-89999.999999999985},null,{"$f":"COUNTIF(D14:AD14,\">0\")","v":1},9.9999999999999994E-12,{"$f":"CONCATENATE($B$15,\" \",$B$16,C14)","v":"Petr ŠumVýhry"},null,null,1]
[{"$f":"CONCATENATE(B15,\" \",B16)","v":"Petr Šum"},"Petr","Prohry",{"$f":"IF(IFERROR(INDEX(Přehled_body!$E$3:$ED$130,MATCH(Tabulka!$AI15,Přehled_body!$A$3:$A$130,0),MATCH(Tabulka!D$2,Přehled_body!$E$1:$ED$1,0)),)=\"\",,IF(IFERROR(INDEX(Přehled_body!$E$3:$ED$130,MATCH(Tabulka!$AI15,Přehled_body!$A$3:$A$130,0),MATCH(Tabulka!D$2,Přehled_body!$E$1:$ED$1,0)),)=0,0.00000000001,IFERROR(INDEX(Přehled_body!$E$3:$ED$130,MATCH(Tabulka!$AI15,Přehled_body!$A$3:$A$130,0),MATCH(Tabulka!D$2,Přehled_body!$E$1:$ED$1,0)),)))","v":0},{"$f":"IF(IFERROR(INDEX(Přehled_body!$E$3:$ED$130,MATCH(Tabulka!$AI15,Přehled_body!$A$3:$A$130,0),MATCH(Tabulka!E$2,Přehled_body!$E$1:$ED$1,0)),)=\"\",,IF(IFERROR(INDEX(Přehled_body!$E$3:$ED$130,MATCH(Tabulka!$AI15,Přehled_body!$A$3:$A$130,0),MATCH(Tabulka!E$2,Přehled_body!$E$1:$ED$1,0)),)=0,0.00000000001,IFERROR(INDEX(Přehled_body!$E$3:$ED$130,MATCH(Tabulka!$AI15,Přehled_body!$A$3:$A$130,0),MATCH(Tabulka!E$2,Přehled_body!$E$1:$ED$1,0)),)))","v":0},{"$f":"IF(IFERROR(INDEX(Přehled_body!$E$3:$ED$130,MATCH(Tabulka!$AI15,Přehled_body!$A$3:$A$130,0),MATCH(Tabulka!F$2,Přehled_body!$E$1:$ED$1,0)),)=\"\",,IF(IFERROR(INDEX(Přehled_body!$E$3:$ED$130,MATCH(Tabulka!$AI15,Přehled_body!$A$3:$A$130,0),MATCH(Tabulka!F$2,Přehled_body!$E$1:$ED$1,0)),)=0,0.00000000001,IFERROR(INDEX(Přehled_body!$E$3:$ED$130,MATCH(Tabulka!$AI15,Přehled_body!$A$3:$A$130,0),MATCH(Tabulka!F$2,Přehled_body!$E$1:$ED$1,0)),)))","v":0},{"$f":"IF(IFERROR(INDEX(Přehled_body!$E$3:$ED$130,MATCH(Tabulka!$AI15,Přehled_body!$A$3:$A$130,0),MATCH(Tabulka!G$2,Přehled_body!$E$1:$ED$1,0)),)=\"\",,IF(IFERROR(INDEX(Přehled_body!$E$3:$ED$130,MATCH(Tabulka!$AI15,Přehled_body!$A$3:$A$130,0),MATCH(Tabulka!G$2,Přehled_body!$E$1:$ED$1,0)),)=0,0.00000000001,IFERROR(INDEX(Přehled_body!$E$3:$ED$130,MATCH(Tabulka!$AI15,Přehled_body!$A$3:$A$130,0),MATCH(Tabulka!G$2,Přehled_body!$E$1:$ED$1,0)),)))","v":0},{"$f":"IF(IFERROR(INDEX(Přehled_body!$E$3:$ED$130,MATCH(Tabulka!$AI15,Přehled_body!$A$3:$A$130,0),MATCH(Tabulka!H$2,Přehled_body!$E$1:$ED$1,0)),)=\"\",,IF(IFERROR(INDEX(Přehled_body!$E$3:$ED$130,MATCH(Tabulka!$AI15,Přehled_body!$A$3:$A$130,0),MATCH(Tabulka!H$2,Přehled_body!$E$1:$ED$1,0)),)=0,0.00000000001,IFERROR(INDEX(Přehled_body!$E$3:$ED$130,MATCH(Tabulka!$AI15,Přehled_body!$A$3:$A$130,0),MATCH(Tabulka!H$2,Přehled_body!$E$1:$ED$1,0)),)))","v":0},{"$f":"IF(IFERROR(INDEX(Přehled_body!$E$3:$ED$130,MATCH(Tabulka!$AI15,Přehled_body!$A$3:$A$130,0),MATCH(Tabulka!I$2,Přehled_body!$E$1:$ED$1,0)),)=\"\",,IF(IFERROR(INDEX(Přehled_body!$E$3:$ED$130,MATCH(Tabulka!$AI15,Přehled_body!$A$3:$A$130,0),MATCH(Tabulka!I$2,Přehled_body!$E$1:$ED$1,0)),)=0,0.00000000001,IFERROR(INDEX(Přehled_body!$E$3:$ED$130,MATCH(Tabulka!$AI15,Přehled_body!$A$3:$A$130,0),MATCH(Tabulka!I$2,Přehled_body!$E$1:$ED$1,0)),)))","v":0},{"$f":"IF(IFERROR(INDEX(Přehled_body!$E$3:$ED$130,MATCH(Tabulka!$AI15,Přehled_body!$A$3:$A$130,0),MATCH(Tabulka!J$2,Přehled_body!$E$1:$ED$1,0)),)=\"\",,IF(IFERROR(INDEX(Přehled_body!$E$3:$ED$130,MATCH(Tabulka!$AI15,Přehled_body!$A$3:$A$130,0),MATCH(Tabulka!J$2,Přehled_body!$E$1:$ED$1,0)),)=0,0.00000000001,IFERROR(INDEX(Přehled_body!$E$3:$ED$130,MATCH(Tabulka!$AI15,Přehled_body!$A$3:$A$130,0),MATCH(Tabulka!J$2,Přehled_body!$E$1:$ED$1,0)),)))","v":0},{"$f":"IF(IFERROR(INDEX(Přehled_body!$E$3:$ED$130,MATCH(Tabulka!$AI15,Přehled_body!$A$3:$A$130,0),MATCH(Tabulka!K$2,Přehled_body!$E$1:$ED$1,0)),)=\"\",,IF(IFERROR(INDEX(Přehled_body!$E$3:$ED$130,MATCH(Tabulka!$AI15,Přehled_body!$A$3:$A$130,0),MATCH(Tabulka!K$2,Přehled_body!$E$1:$ED$1,0)),)=0,0.00000000001,IFERROR(INDEX(Přehled_body!$E$3:$ED$130,MATCH(Tabulka!$AI15,Přehled_body!$A$3:$A$130,0),MATCH(Tabulka!K$2,Přehled_body!$E$1:$ED$1,0)),)))","v":0},{"$f":"IF(IFERROR(INDEX(Přehled_body!$E$3:$ED$130,MATCH(Tabulka!$AI15,Přehled_body!$A$3:$A$130,0),MATCH(Tabulka!L$2,Přehled_body!$E$1:$ED$1,0)),)=\"\",,IF(IFERROR(INDEX(Přehled_body!$E$3:$ED$130,MATCH(Tabulka!$AI15,Přehled_body!$A$3:$A$130,0),MATCH(Tabulka!L$2,Přehled_body!$E$1:$ED$1,0)),)=0,0.00000000001,IFERROR(INDEX(Přehled_body!$E$3:$ED$130,MATCH(Tabulka!$AI15,Přehled_body!$A$3:$A$130,0),MATCH(Tabulka!L$2,Přehled_body!$E$1:$ED$1,0)),)))","v":0},{"$f":"IF(IFERROR(INDEX(Přehled_body!$E$3:$ED$130,MATCH(Tabulka!$AI15,Přehled_body!$A$3:$A$130,0),MATCH(Tabulka!M$2,Přehled_body!$E$1:$ED$1,0)),)=\"\",,IF(IFERROR(INDEX(Přehled_body!$E$3:$ED$130,MATCH(Tabulka!$AI15,Přehled_body!$A$3:$A$130,0),MATCH(Tabulka!M$2,Přehled_body!$E$1:$ED$1,0)),)=0,0.00000000001,IFERROR(INDEX(Přehled_body!$E$3:$ED$130,MATCH(Tabulka!$AI15,Přehled_body!$A$3:$A$130,0),MATCH(Tabulka!M$2,Přehled_body!$E$1:$ED$1,0)),)))","v":0},{"$f":"IF(IFERROR(INDEX(Přehled_body!$E$3:$ED$130,MATCH(Tabulka!$AI15,Přehled_body!$A$3:$A$130,0),MATCH(Tabulka!N$2,Přehled_body!$E$1:$ED$1,0)),)=\"\",,IF(IFERROR(INDEX(Přehled_body!$E$3:$ED$130,MATCH(Tabulka!$AI15,Přehled_body!$A$3:$A$130,0),MATCH(Tabulka!N$2,Přehled_body!$E$1:$ED$1,0)),)=0,0.00000000001,IFERROR(INDEX(Přehled_body!$E$3:$ED$130,MATCH(Tabulka!$AI15,Přehled_body!$A$3:$A$130,0),MATCH(Tabulka!N$2,Přehled_body!$E$1:$ED$1,0)),)))","v":0},{"$f":"IF(IFERROR(INDEX(Přehled_body!$E$3:$ED$130,MATCH(Tabulka!$AI15,Přehled_body!$A$3:$A$130,0),MATCH(Tabulka!O$2,Přehled_body!$E$1:$ED$1,0)),)=\"\",,IF(IFERROR(INDEX(Přehled_body!$E$3:$ED$130,MATCH(Tabulka!$AI15,Přehled_body!$A$3:$A$130,0),MATCH(Tabulka!O$2,Přehled_body!$E$1:$ED$1,0)),)=0,0.00000000001,IFERROR(INDEX(Přehled_body!$E$3:$ED$130,MATCH(Tabulka!$AI15,Přehled_body!$A$3:$A$130,0),MATCH(Tabulka!O$2,Přehled_body!$E$1:$ED$1,0)),)))","v":0},{"$f":"IF(IFERROR(INDEX(Přehled_body!$E$3:$ED$130,MATCH(Tabulka!$AI15,Přehled_body!$A$3:$A$130,0),MATCH(Tabulka!P$2,Přehled_body!$E$1:$ED$1,0)),)=\"\",,IF(IFERROR(INDEX(Přehled_body!$E$3:$ED$130,MATCH(Tabulka!$AI15,Přehled_body!$A$3:$A$130,0),MATCH(Tabulka!P$2,Přehled_body!$E$1:$ED$1,0)),)=0,0.00000000001,IFERROR(INDEX(Přehled_body!$E$3:$ED$130,MATCH(Tabulka!$AI15,Přehled_body!$A$3:$A$130,0),MATCH(Tabulka!P$2,Přehled_body!$E$1:$ED$1,0)),)))","v":0},{"$f":"IF(IFERROR(INDEX(Přehled_body!$E$3:$ED$130,MATCH(Tabulka!$AI15,Přehled_body!$A$3:$A$130,0),MATCH(Tabulka!Q$2,Přehled_body!$E$1:$ED$1,0)),)=\"\",,IF(IFERROR(INDEX(Přehled_body!$E$3:$ED$130,MATCH(Tabulka!$AI15,Přehled_body!$A$3:$A$130,0),MATCH(Tabulka!Q$2,Přehled_body!$E$1:$ED$1,0)),)=0,0.00000000001,IFERROR(INDEX(Přehled_body!$E$3:$ED$130,MATCH(Tabulka!$AI15,Přehled_body!$A$3:$A$130,0),MATCH(Tabulka!Q$2,Přehled_body!$E$1:$ED$1,0)),)))","v":0},{"$f":"IF(IFERROR(INDEX(Přehled_body!$E$3:$ED$130,MATCH(Tabulka!$AI15,Přehled_body!$A$3:$A$130,0),MATCH(Tabulka!R$2,Přehled_body!$E$1:$ED$1,0)),)=\"\",,IF(IFERROR(INDEX(Přehled_body!$E$3:$ED$130,MATCH(Tabulka!$AI15,Přehled_body!$A$3:$A$130,0),MATCH(Tabulka!R$2,Přehled_body!$E$1:$ED$1,0)),)=0,0.00000000001,IFERROR(INDEX(Přehled_body!$E$3:$ED$130,MATCH(Tabulka!$AI15,Přehled_body!$A$3:$A$130,0),MATCH(Tabulka!R$2,Přehled_body!$E$1:$ED$1,0)),)))","v":0},{"$f":"IF(IFERROR(INDEX(Přehled_body!$E$3:$ED$130,MATCH(Tabulka!$AI15,Přehled_body!$A$3:$A$130,0),MATCH(Tabulka!S$2,Přehled_body!$E$1:$ED$1,0)),)=\"\",,IF(IFERROR(INDEX(Přehled_body!$E$3:$ED$130,MATCH(Tabulka!$AI15,Přehled_body!$A$3:$A$130,0),MATCH(Tabulka!S$2,Přehled_body!$E$1:$ED$1,0)),)=0,0.00000000001,IFERROR(INDEX(Přehled_body!$E$3:$ED$130,MATCH(Tabulka!$AI15,Přehled_body!$A$3:$A$130,0),MATCH(Tabulka!S$2,Přehled_body!$E$1:$ED$1,0)),)))","v":0},{"$f":"IF(IFERROR(INDEX(Přehled_body!$E$3:$ED$130,MATCH(Tabulka!$AI15,Přehled_body!$A$3:$A$130,0),MATCH(Tabulka!T$2,Přehled_body!$E$1:$ED$1,0)),)=\"\",,IF(IFERROR(INDEX(Přehled_body!$E$3:$ED$130,MATCH(Tabulka!$AI15,Přehled_body!$A$3:$A$130,0),MATCH(Tabulka!T$2,Přehled_body!$E$1:$ED$1,0)),)=0,0.00000000001,IFERROR(INDEX(Přehled_body!$E$3:$ED$130,MATCH(Tabulka!$AI15,Přehled_body!$A$3:$A$130,0),MATCH(Tabulka!T$2,Přehled_body!$E$1:$ED$1,0)),)))","v":4},{"$f":"IF(IFERROR(INDEX(Přehled_body!$E$3:$ED$130,MATCH(Tabulka!$AI15,Přehled_body!$A$3:$A$130,0),MATCH(Tabulka!U$2,Přehled_body!$E$1:$ED$1,0)),)=\"\",,IF(IFERROR(INDEX(Přehled_body!$E$3:$ED$130,MATCH(Tabulka!$AI15,Přehled_body!$A$3:$A$130,0),MATCH(Tabulka!U$2,Přehled_body!$E$1:$ED$1,0)),)=0,0.00000000001,IFERROR(INDEX(Přehled_body!$E$3:$ED$130,MATCH(Tabulka!$AI15,Přehled_body!$A$3:$A$130,0),MATCH(Tabulka!U$2,Přehled_body!$E$1:$ED$1,0)),)))","v":0},{"$f":"IF(IFERROR(INDEX(Přehled_body!$E$3:$ED$130,MATCH(Tabulka!$AI15,Přehled_body!$A$3:$A$130,0),MATCH(Tabulka!V$2,Přehled_body!$E$1:$ED$1,0)),)=\"\",,IF(IFERROR(INDEX(Přehled_body!$E$3:$ED$130,MATCH(Tabulka!$AI15,Přehled_body!$A$3:$A$130,0),MATCH(Tabulka!V$2,Přehled_body!$E$1:$ED$1,0)),)=0,0.00000000001,IFERROR(INDEX(Přehled_body!$E$3:$ED$130,MATCH(Tabulka!$AI15,Přehled_body!$A$3:$A$130,0),MATCH(Tabulka!V$2,Přehled_body!$E$1:$ED$1,0)),)))","v":0},{"$f":"IF(IFERROR(INDEX(Přehled_body!$E$3:$ED$130,MATCH(Tabulka!$AI15,Přehled_body!$A$3:$A$130,0),MATCH(Tabulka!W$2,Přehled_body!$E$1:$ED$1,0)),)=\"\",,IF(IFERROR(INDEX(Přehled_body!$E$3:$ED$130,MATCH(Tabulka!$AI15,Přehled_body!$A$3:$A$130,0),MATCH(Tabulka!W$2,Přehled_body!$E$1:$ED$1,0)),)=0,0.00000000001,IFERROR(INDEX(Přehled_body!$E$3:$ED$130,MATCH(Tabulka!$AI15,Přehled_body!$A$3:$A$130,0),MATCH(Tabulka!W$2,Přehled_body!$E$1:$ED$1,0)),)))","v":0},{"$f":"IF(IFERROR(INDEX(Přehled_body!$E$3:$ED$130,MATCH(Tabulka!$AI15,Přehled_body!$A$3:$A$130,0),MATCH(Tabulka!X$2,Přehled_body!$E$1:$ED$1,0)),)=\"\",,IF(IFERROR(INDEX(Přehled_body!$E$3:$ED$130,MATCH(Tabulka!$AI15,Přehled_body!$A$3:$A$130,0),MATCH(Tabulka!X$2,Přehled_body!$E$1:$ED$1,0)),)=0,0.00000000001,IFERROR(INDEX(Přehled_body!$E$3:$ED$130,MATCH(Tabulka!$AI15,Přehled_body!$A$3:$A$130,0),MATCH(Tabulka!X$2,Přehled_body!$E$1:$ED$1,0)),)))","v":0},{"$f":"IF(IFERROR(INDEX(Přehled_body!$E$3:$ED$130,MATCH(Tabulka!$AI15,Přehled_body!$A$3:$A$130,0),MATCH(Tabulka!Y$2,Přehled_body!$E$1:$ED$1,0)),)=\"\",,IF(IFERROR(INDEX(Přehled_body!$E$3:$ED$130,MATCH(Tabulka!$AI15,Přehled_body!$A$3:$A$130,0),MATCH(Tabulka!Y$2,Přehled_body!$E$1:$ED$1,0)),)=0,0.00000000001,IFERROR(INDEX(Přehled_body!$E$3:$ED$130,MATCH(Tabulka!$AI15,Přehled_body!$A$3:$A$130,0),MATCH(Tabulka!Y$2,Přehled_body!$E$1:$ED$1,0)),)))","v":0},{"$f":"IF(IFERROR(INDEX(Přehled_body!$E$3:$ED$130,MATCH(Tabulka!$AI15,Přehled_body!$A$3:$A$130,0),MATCH(Tabulka!Z$2,Přehled_body!$E$1:$ED$1,0)),)=\"\",,IF(IFERROR(INDEX(Přehled_body!$E$3:$ED$130,MATCH(Tabulka!$AI15,Přehled_body!$A$3:$A$130,0),MATCH(Tabulka!Z$2,Přehled_body!$E$1:$ED$1,0)),)=0,0.00000000001,IFERROR(INDEX(Přehled_body!$E$3:$ED$130,MATCH(Tabulka!$AI15,Přehled_body!$A$3:$A$130,0),MATCH(Tabulka!Z$2,Přehled_body!$E$1:$ED$1,0)),)))","v":0},{"$f":"IF(IFERROR(INDEX(Přehled_body!$E$3:$ED$130,MATCH(Tabulka!$AI15,Přehled_body!$A$3:$A$130,0),MATCH(Tabulka!AA$2,Přehled_body!$E$1:$ED$1,0)),)=\"\",,IF(IFERROR(INDEX(Přehled_body!$E$3:$ED$130,MATCH(Tabulka!$AI15,Přehled_body!$A$3:$A$130,0),MATCH(Tabulka!AA$2,Přehled_body!$E$1:$ED$1,0)),)=0,0.00000000001,IFERROR(INDEX(Přehled_body!$E$3:$ED$130,MATCH(Tabulka!$AI15,Přehled_body!$A$3:$A$130,0),MATCH(Tabulka!AA$2,Přehled_body!$E$1:$ED$1,0)),)))","v":0},{"$f":"IF(IFERROR(INDEX(Přehled_body!$E$3:$ED$130,MATCH(Tabulka!$AI15,Přehled_body!$A$3:$A$130,0),MATCH(Tabulka!AB$2,Přehled_body!$E$1:$ED$1,0)),)=\"\",,IF(IFERROR(INDEX(Přehled_body!$E$3:$ED$130,MATCH(Tabulka!$AI15,Přehled_body!$A$3:$A$130,0),MATCH(Tabulka!AB$2,Přehled_body!$E$1:$ED$1,0)),)=0,0.00000000001,IFERROR(INDEX(Přehled_body!$E$3:$ED$130,MATCH(Tabulka!$AI15,Přehled_body!$A$3:$A$130,0),MATCH(Tabulka!AB$2,Přehled_body!$E$1:$ED$1,0)),)))","v":0},{"$f":"IF(IFERROR(INDEX(Přehled_body!$E$3:$ED$130,MATCH(Tabulka!$AI15,Přehled_body!$A$3:$A$130,0),MATCH(Tabulka!AC$2,Přehled_body!$E$1:$ED$1,0)),)=\"\",,IF(IFERROR(INDEX(Přehled_body!$E$3:$ED$130,MATCH(Tabulka!$AI15,Přehled_body!$A$3:$A$130,0),MATCH(Tabulka!AC$2,Přehled_body!$E$1:$ED$1,0)),)=0,0.00000000001,IFERROR(INDEX(Přehled_body!$E$3:$ED$130,MATCH(Tabulka!$AI15,Přehled_body!$A$3:$A$130,0),MATCH(Tabulka!AC$2,Přehled_body!$E$1:$ED$1,0)),)))","v":0},{"$f":"IF(IFERROR(INDEX(Přehled_body!$E$3:$ED$130,MATCH(Tabulka!$AI15,Přehled_body!$A$3:$A$130,0),MATCH(Tabulka!AD$2,Přehled_body!$E$1:$ED$1,0)),)=\"\",,IF(IFERROR(INDEX(Přehled_body!$E$3:$ED$130,MATCH(Tabulka!$AI15,Přehled_body!$A$3:$A$130,0),MATCH(Tabulka!AD$2,Přehled_body!$E$1:$ED$1,0)),)=0,0.00000000001,IFERROR(INDEX(Přehled_body!$E$3:$ED$130,MATCH(Tabulka!$AI15,Přehled_body!$A$3:$A$130,0),MATCH(Tabulka!AD$2,Přehled_body!$E$1:$ED$1,0)),)))","v":0},{"$f":"IF(SUM(AG14)<2,-90000+SUM(D15:AD15),SUM(D15:AD15))","v":-89996},{"$f":"SUM(AE14-AE15)","v":-3.9999999999854481},null,4,{"$f":"CONCATENATE($B$15,\" \",$B$16,C15)","v":"Petr ŠumProhry"},null,null,1,null,null,"Petr",3]
[{"$f":"CONCATENATE(B16,\" \",B15)","v":"Šum Petr"},"Šum","Placeno panáků",{"$f":"IF(IFERROR(INDEX(Přehled_body!$E$3:$ED$130,MATCH(Tabulka!$AI16,Přehled_body!$A$3:$A$130,0),MATCH(Tabulka!D$2,Přehled_body!$E$1:$ED$1,0)),)=\"\",,IF(IFERROR(INDEX(Přehled_body!$E$3:$ED$130,MATCH(Tabulka!$AI16,Přehled_body!$A$3:$A$130,0),MATCH(Tabulka!D$2,Přehled_body!$E$1:$ED$1,0)),)=0,0.00000000001,IFERROR(INDEX(Přehled_body!$E$3:$ED$130,MATCH(Tabulka!$AI16,Přehled_body!$A$3:$A$130,0),MATCH(Tabulka!D$2,Přehled_body!$E$1:$ED$1,0)),)))","v":0},{"$f":"IF(IFERROR(INDEX(Přehled_body!$E$3:$ED$130,MATCH(Tabulka!$AI16,Přehled_body!$A$3:$A$130,0),MATCH(Tabulka!E$2,Přehled_body!$E$1:$ED$1,0)),)=\"\",,IF(IFERROR(INDEX(Přehled_body!$E$3:$ED$130,MATCH(Tabulka!$AI16,Přehled_body!$A$3:$A$130,0),MATCH(Tabulka!E$2,Přehled_body!$E$1:$ED$1,0)),)=0,0.00000000001,IFERROR(INDEX(Přehled_body!$E$3:$ED$130,MATCH(Tabulka!$AI16,Přehled_body!$A$3:$A$130,0),MATCH(Tabulka!E$2,Přehled_body!$E$1:$ED$1,0)),)))","v":0},{"$f":"IF(IFERROR(INDEX(Přehled_body!$E$3:$ED$130,MATCH(Tabulka!$AI16,Přehled_body!$A$3:$A$130,0),MATCH(Tabulka!F$2,Přehled_body!$E$1:$ED$1,0)),)=\"\",,IF(IFERROR(INDEX(Přehled_body!$E$3:$ED$130,MATCH(Tabulka!$AI16,Přehled_body!$A$3:$A$130,0),MATCH(Tabulka!F$2,Přehled_body!$E$1:$ED$1,0)),)=0,0.00000000001,IFERROR(INDEX(Přehled_body!$E$3:$ED$130,MATCH(Tabulka!$AI16,Přehled_body!$A$3:$A$130,0),MATCH(Tabulka!F$2,Přehled_body!$E$1:$ED$1,0)),)))","v":0},{"$f":"IF(IFERROR(INDEX(Přehled_body!$E$3:$ED$130,MATCH(Tabulka!$AI16,Přehled_body!$A$3:$A$130,0),MATCH(Tabulka!G$2,Přehled_body!$E$1:$ED$1,0)),)=\"\",,IF(IFERROR(INDEX(Přehled_body!$E$3:$ED$130,MATCH(Tabulka!$AI16,Přehled_body!$A$3:$A$130,0),MATCH(Tabulka!G$2,Přehled_body!$E$1:$ED$1,0)),)=0,0.00000000001,IFERROR(INDEX(Přehled_body!$E$3:$ED$130,MATCH(Tabulka!$AI16,Přehled_body!$A$3:$A$130,0),MATCH(Tabulka!G$2,Přehled_body!$E$1:$ED$1,0)),)))","v":0},{"$f":"IF(IFERROR(INDEX(Přehled_body!$E$3:$ED$130,MATCH(Tabulka!$AI16,Přehled_body!$A$3:$A$130,0),MATCH(Tabulka!H$2,Přehled_body!$E$1:$ED$1,0)),)=\"\",,IF(IFERROR(INDEX(Přehled_body!$E$3:$ED$130,MATCH(Tabulka!$AI16,Přehled_body!$A$3:$A$130,0),MATCH(Tabulka!H$2,Přehled_body!$E$1:$ED$1,0)),)=0,0.00000000001,IFERROR(INDEX(Přehled_body!$E$3:$ED$130,MATCH(Tabulka!$AI16,Přehled_body!$A$3:$A$130,0),MATCH(Tabulka!H$2,Přehled_body!$E$1:$ED$1,0)),)))","v":0},{"$f":"IF(IFERROR(INDEX(Přehled_body!$E$3:$ED$130,MATCH(Tabulka!$AI16,Přehled_body!$A$3:$A$130,0),MATCH(Tabulka!I$2,Přehled_body!$E$1:$ED$1,0)),)=\"\",,IF(IFERROR(INDEX(Přehled_body!$E$3:$ED$130,MATCH(Tabulka!$AI16,Přehled_body!$A$3:$A$130,0),MATCH(Tabulka!I$2,Přehled_body!$E$1:$ED$1,0)),)=0,0.00000000001,IFERROR(INDEX(Přehled_body!$E$3:$ED$130,MATCH(Tabulka!$AI16,Přehled_body!$A$3:$A$130,0),MATCH(Tabulka!I$2,Přehled_body!$E$1:$ED$1,0)),)))","v":0},{"$f":"IF(IFERROR(INDEX(Přehled_body!$E$3:$ED$130,MATCH(Tabulka!$AI16,Přehled_body!$A$3:$A$130,0),MATCH(Tabulka!J$2,Přehled_body!$E$1:$ED$1,0)),)=\"\",,IF(IFERROR(INDEX(Přehled_body!$E$3:$ED$130,MATCH(Tabulka!$AI16,Přehled_body!$A$3:$A$130,0),MATCH(Tabulka!J$2,Přehled_body!$E$1:$ED$1,0)),)=0,0.00000000001,IFERROR(INDEX(Přehled_body!$E$3:$ED$130,MATCH(Tabulka!$AI16,Přehled_body!$A$3:$A$130,0),MATCH(Tabulka!J$2,Přehled_body!$E$1:$ED$1,0)),)))","v":0},{"$f":"IF(IFERROR(INDEX(Přehled_body!$E$3:$ED$130,MATCH(Tabulka!$AI16,Přehled_body!$A$3:$A$130,0),MATCH(Tabulka!K$2,Přehled_body!$E$1:$ED$1,0)),)=\"\",,IF(IFERROR(INDEX(Přehled_body!$E$3:$ED$130,MATCH(Tabulka!$AI16,Přehled_body!$A$3:$A$130,0),MATCH(Tabulka!K$2,Přehled_body!$E$1:$ED$1,0)),)=0,0.00000000001,IFERROR(INDEX(Přehled_body!$E$3:$ED$130,MATCH(Tabulka!$AI16,Přehled_body!$A$3:$A$130,0),MATCH(Tabulka!K$2,Přehled_body!$E$1:$ED$1,0)),)))","v":0},{"$f":"IF(IFERROR(INDEX(Přehled_body!$E$3:$ED$130,MATCH(Tabulka!$AI16,Přehled_body!$A$3:$A$130,0),MATCH(Tabulka!L$2,Přehled_body!$E$1:$ED$1,0)),)=\"\",,IF(IFERROR(INDEX(Přehled_body!$E$3:$ED$130,MATCH(Tabulka!$AI16,Přehled_body!$A$3:$A$130,0),MATCH(Tabulka!L$2,Přehled_body!$E$1:$ED$1,0)),)=0,0.00000000001,IFERROR(INDEX(Přehled_body!$E$3:$ED$130,MATCH(Tabulka!$AI16,Přehled_body!$A$3:$A$130,0),MATCH(Tabulka!L$2,Přehled_body!$E$1:$ED$1,0)),)))","v":0},{"$f":"IF(IFERROR(INDEX(Přehled_body!$E$3:$ED$130,MATCH(Tabulka!$AI16,Přehled_body!$A$3:$A$130,0),MATCH(Tabulka!M$2,Přehled_body!$E$1:$ED$1,0)),)=\"\",,IF(IFERROR(INDEX(Přehled_body!$E$3:$ED$130,MATCH(Tabulka!$AI16,Přehled_body!$A$3:$A$130,0),MATCH(Tabulka!M$2,Přehled_body!$E$1:$ED$1,0)),)=0,0.00000000001,IFERROR(INDEX(Přehled_body!$E$3:$ED$130,MATCH(Tabulka!$AI16,Přehled_body!$A$3:$A$130,0),MATCH(Tabulka!M$2,Přehled_body!$E$1:$ED$1,0)),)))","v":0},{"$f":"IF(IFERROR(INDEX(Přehled_body!$E$3:$ED$130,MATCH(Tabulka!$AI16,Přehled_body!$A$3:$A$130,0),MATCH(Tabulka!N$2,Přehled_body!$E$1:$ED$1,0)),)=\"\",,IF(IFERROR(INDEX(Přehled_body!$E$3:$ED$130,MATCH(Tabulka!$AI16,Přehled_body!$A$3:$A$130,0),MATCH(Tabulka!N$2,Přehled_body!$E$1:$ED$1,0)),)=0,0.00000000001,IFERROR(INDEX(Přehled_body!$E$3:$ED$130,MATCH(Tabulka!$AI16,Přehled_body!$A$3:$A$130,0),MATCH(Tabulka!N$2,Přehled_body!$E$1:$ED$1,0)),)))","v":0},{"$f":"IF(IFERROR(INDEX(Přehled_body!$E$3:$ED$130,MATCH(Tabulka!$AI16,Přehled_body!$A$3:$A$130,0),MATCH(Tabulka!O$2,Přehled_body!$E$1:$ED$1,0)),)=\"\",,IF(IFERROR(INDEX(Přehled_body!$E$3:$ED$130,MATCH(Tabulka!$AI16,Přehled_body!$A$3:$A$130,0),MATCH(Tabulka!O$2,Přehled_body!$E$1:$ED$1,0)),)=0,0.00000000001,IFERROR(INDEX(Přehled_body!$E$3:$ED$130,MATCH(Tabulka!$AI16,Přehled_body!$A$3:$A$130,0),MATCH(Tabulka!O$2,Přehled_body!$E$1:$ED$1,0)),)))","v":0},{"$f":"IF(IFERROR(INDEX(Přehled_body!$E$3:$ED$130,MATCH(Tabulka!$AI16,Přehled_body!$A$3:$A$130,0),MATCH(Tabulka!P$2,Přehled_body!$E$1:$ED$1,0)),)=\"\",,IF(IFERROR(INDEX(Přehled_body!$E$3:$ED$130,MATCH(Tabulka!$AI16,Přehled_body!$A$3:$A$130,0),MATCH(Tabulka!P$2,Přehled_body!$E$1:$ED$1,0)),)=0,0.00000000001,IFERROR(INDEX(Přehled_body!$E$3:$ED$130,MATCH(Tabulka!$AI16,Přehled_body!$A$3:$A$130,0),MATCH(Tabulka!P$2,Přehled_body!$E$1:$ED$1,0)),)))","v":0},{"$f":"IF(IFERROR(INDEX(Přehled_body!$E$3:$ED$130,MATCH(Tabulka!$AI16,Přehled_body!$A$3:$A$130,0),MATCH(Tabulka!Q$2,Přehled_body!$E$1:$ED$1,0)),)=\"\",,IF(IFERROR(INDEX(Přehled_body!$E$3:$ED$130,MATCH(Tabulka!$AI16,Přehled_body!$A$3:$A$130,0),MATCH(Tabulka!Q$2,Přehled_body!$E$1:$ED$1,0)),)=0,0.00000000001,IFERROR(INDEX(Přehled_body!$E$3:$ED$130,MATCH(Tabulka!$AI16,Přehled_body!$A$3:$A$130,0),MATCH(Tabulka!Q$2,Přehled_body!$E$1:$ED$1,0)),)))","v":0},{"$f":"IF(IFERROR(INDEX(Přehled_body!$E$3:$ED$130,MATCH(Tabulka!$AI16,Přehled_body!$A$3:$A$130,0),MATCH(Tabulka!R$2,Přehled_body!$E$1:$ED$1,0)),)=\"\",,IF(IFERROR(INDEX(Přehled_body!$E$3:$ED$130,MATCH(Tabulka!$AI16,Přehled_body!$A$3:$A$130,0),MATCH(Tabulka!R$2,Přehled_body!$E$1:$ED$1,0)),)=0,0.00000000001,IFERROR(INDEX(Přehled_body!$E$3:$ED$130,MATCH(Tabulka!$AI16,Přehled_body!$A$3:$A$130,0),MATCH(Tabulka!R$2,Přehled_body!$E$1:$ED$1,0)),)))","v":0},{"$f":"IF(IFERROR(INDEX(Přehled_body!$E$3:$ED$130,MATCH(Tabulka!$AI16,Přehled_body!$A$3:$A$130,0),MATCH(Tabulka!S$2,Přehled_body!$E$1:$ED$1,0)),)=\"\",,IF(IFERROR(INDEX(Přehled_body!$E$3:$ED$130,MATCH(Tabulka!$AI16,Přehled_body!$A$3:$A$130,0),MATCH(Tabulka!S$2,Přehled_body!$E$1:$ED$1,0)),)=0,0.00000000001,IFERROR(INDEX(Přehled_body!$E$3:$ED$130,MATCH(Tabulka!$AI16,Přehled_body!$A$3:$A$130,0),MATCH(Tabulka!S$2,Přehled_body!$E$1:$ED$1,0)),)))","v":0},{"$f":"IF(IFERROR(INDEX(Přehled_body!$E$3:$ED$130,MATCH(Tabulka!$AI16,Přehled_body!$A$3:$A$130,0),MATCH(Tabulka!T$2,Přehled_body!$E$1:$ED$1,0)),)=\"\",,IF(IFERROR(INDEX(Přehled_body!$E$3:$ED$130,MATCH(Tabulka!$AI16,Přehled_body!$A$3:$A$130,0),MATCH(Tabulka!T$2,Přehled_body!$E$1:$ED$1,0)),)=0,0.00000000001,IFERROR(INDEX(Přehled_body!$E$3:$ED$130,MATCH(Tabulka!$AI16,Přehled_body!$A$3:$A$130,0),MATCH(Tabulka!T$2,Přehled_body!$E$1:$ED$1,0)),)))","v":4},{"$f":"IF(IFERROR(INDEX(Přehled_body!$E$3:$ED$130,MATCH(Tabulka!$AI16,Přehled_body!$A$3:$A$130,0),MATCH(Tabulka!U$2,Přehled_body!$E$1:$ED$1,0)),)=\"\",,IF(IFERROR(INDEX(Přehled_body!$E$3:$ED$130,MATCH(Tabulka!$AI16,Přehled_body!$A$3:$A$130,0),MATCH(Tabulka!U$2,Přehled_body!$E$1:$ED$1,0)),)=0,0.00000000001,IFERROR(INDEX(Přehled_body!$E$3:$ED$130,MATCH(Tabulka!$AI16,Přehled_body!$A$3:$A$130,0),MATCH(Tabulka!U$2,Přehled_body!$E$1:$ED$1,0)),)))","v":0},{"$f":"IF(IFERROR(INDEX(Přehled_body!$E$3:$ED$130,MATCH(Tabulka!$AI16,Přehled_body!$A$3:$A$130,0),MATCH(Tabulka!V$2,Přehled_body!$E$1:$ED$1,0)),)=\"\",,IF(IFERROR(INDEX(Přehled_body!$E$3:$ED$130,MATCH(Tabulka!$AI16,Přehled_body!$A$3:$A$130,0),MATCH(Tabulka!V$2,Přehled_body!$E$1:$ED$1,0)),)=0,0.00000000001,IFERROR(INDEX(Přehled_body!$E$3:$ED$130,MATCH(Tabulka!$AI16,Přehled_body!$A$3:$A$130,0),MATCH(Tabulka!V$2,Přehled_body!$E$1:$ED$1,0)),)))","v":0},{"$f":"IF(IFERROR(INDEX(Přehled_body!$E$3:$ED$130,MATCH(Tabulka!$AI16,Přehled_body!$A$3:$A$130,0),MATCH(Tabulka!W$2,Přehled_body!$E$1:$ED$1,0)),)=\"\",,IF(IFERROR(INDEX(Přehled_body!$E$3:$ED$130,MATCH(Tabulka!$AI16,Přehled_body!$A$3:$A$130,0),MATCH(Tabulka!W$2,Přehled_body!$E$1:$ED$1,0)),)=0,0.00000000001,IFERROR(INDEX(Přehled_body!$E$3:$ED$130,MATCH(Tabulka!$AI16,Přehled_body!$A$3:$A$130,0),MATCH(Tabulka!W$2,Přehled_body!$E$1:$ED$1,0)),)))","v":0},{"$f":"IF(IFERROR(INDEX(Přehled_body!$E$3:$ED$130,MATCH(Tabulka!$AI16,Přehled_body!$A$3:$A$130,0),MATCH(Tabulka!X$2,Přehled_body!$E$1:$ED$1,0)),)=\"\",,IF(IFERROR(INDEX(Přehled_body!$E$3:$ED$130,MATCH(Tabulka!$AI16,Přehled_body!$A$3:$A$130,0),MATCH(Tabulka!X$2,Přehled_body!$E$1:$ED$1,0)),)=0,0.00000000001,IFERROR(INDEX(Přehled_body!$E$3:$ED$130,MATCH(Tabulka!$AI16,Přehled_body!$A$3:$A$130,0),MATCH(Tabulka!X$2,Přehled_body!$E$1:$ED$1,0)),)))","v":0},{"$f":"IF(IFERROR(INDEX(Přehled_body!$E$3:$ED$130,MATCH(Tabulka!$AI16,Přehled_body!$A$3:$A$130,0),MATCH(Tabulka!Y$2,Přehled_body!$E$1:$ED$1,0)),)=\"\",,IF(IFERROR(INDEX(Přehled_body!$E$3:$ED$130,MATCH(Tabulka!$AI16,Přehled_body!$A$3:$A$130,0),MATCH(Tabulka!Y$2,Přehled_body!$E$1:$ED$1,0)),)=0,0.00000000001,IFERROR(INDEX(Přehled_body!$E$3:$ED$130,MATCH(Tabulka!$AI16,Přehled_body!$A$3:$A$130,0),MATCH(Tabulka!Y$2,Přehled_body!$E$1:$ED$1,0)),)))","v":0},{"$f":"IF(IFERROR(INDEX(Přehled_body!$E$3:$ED$130,MATCH(Tabulka!$AI16,Přehled_body!$A$3:$A$130,0),MATCH(Tabulka!Z$2,Přehled_body!$E$1:$ED$1,0)),)=\"\",,IF(IFERROR(INDEX(Přehled_body!$E$3:$ED$130,MATCH(Tabulka!$AI16,Přehled_body!$A$3:$A$130,0),MATCH(Tabulka!Z$2,Přehled_body!$E$1:$ED$1,0)),)=0,0.00000000001,IFERROR(INDEX(Přehled_body!$E$3:$ED$130,MATCH(Tabulka!$AI16,Přehled_body!$A$3:$A$130,0),MATCH(Tabulka!Z$2,Přehled_body!$E$1:$ED$1,0)),)))","v":0},{"$f":"IF(IFERROR(INDEX(Přehled_body!$E$3:$ED$130,MATCH(Tabulka!$AI16,Přehled_body!$A$3:$A$130,0),MATCH(Tabulka!AA$2,Přehled_body!$E$1:$ED$1,0)),)=\"\",,IF(IFERROR(INDEX(Přehled_body!$E$3:$ED$130,MATCH(Tabulka!$AI16,Přehled_body!$A$3:$A$130,0),MATCH(Tabulka!AA$2,Přehled_body!$E$1:$ED$1,0)),)=0,0.00000000001,IFERROR(INDEX(Přehled_body!$E$3:$ED$130,MATCH(Tabulka!$AI16,Přehled_body!$A$3:$A$130,0),MATCH(Tabulka!AA$2,Přehled_body!$E$1:$ED$1,0)),)))","v":0},{"$f":"IF(IFERROR(INDEX(Přehled_body!$E$3:$ED$130,MATCH(Tabulka!$AI16,Přehled_body!$A$3:$A$130,0),MATCH(Tabulka!AB$2,Přehled_body!$E$1:$ED$1,0)),)=\"\",,IF(IFERROR(INDEX(Přehled_body!$E$3:$ED$130,MATCH(Tabulka!$AI16,Přehled_body!$A$3:$A$130,0),MATCH(Tabulka!AB$2,Přehled_body!$E$1:$ED$1,0)),)=0,0.00000000001,IFERROR(INDEX(Přehled_body!$E$3:$ED$130,MATCH(Tabulka!$AI16,Přehled_body!$A$3:$A$130,0),MATCH(Tabulka!AB$2,Přehled_body!$E$1:$ED$1,0)),)))","v":0},{"$f":"IF(IFERROR(INDEX(Přehled_body!$E$3:$ED$130,MATCH(Tabulka!$AI16,Přehled_body!$A$3:$A$130,0),MATCH(Tabulka!AC$2,Přehled_body!$E$1:$ED$1,0)),)=\"\",,IF(IFERROR(INDEX(Přehled_body!$E$3:$ED$130,MATCH(Tabulka!$AI16,Přehled_body!$A$3:$A$130,0),MATCH(Tabulka!AC$2,Přehled_body!$E$1:$ED$1,0)),)=0,0.00000000001,IFERROR(INDEX(Přehled_body!$E$3:$ED$130,MATCH(Tabulka!$AI16,Přehled_body!$A$3:$A$130,0),MATCH(Tabulka!AC$2,Přehled_body!$E$1:$ED$1,0)),)))","v":0},{"$f":"IF(IFERROR(INDEX(Přehled_body!$E$3:$ED$130,MATCH(Tabulka!$AI16,Přehled_body!$A$3:$A$130,0),MATCH(Tabulka!AD$2,Přehled_body!$E$1:$ED$1,0)),)=\"\",,IF(IFERROR(INDEX(Přehled_body!$E$3:$ED$130,MATCH(Tabulka!$AI16,Přehled_body!$A$3:$A$130,0),MATCH(Tabulka!AD$2,Přehled_body!$E$1:$ED$1,0)),)=0,0.00000000001,IFERROR(INDEX(Přehled_body!$E$3:$ED$130,MATCH(Tabulka!$AI16,Přehled_body!$A$3:$A$130,0),MATCH(Tabulka!AD$2,Přehled_body!$E$1:$ED$1,0)),)))","v":0},{"$f":"IF(SUM(AG14)<2,-90000+SUM(D16:AD16),SUM(D16:AD16))","v":-89996},null,null,{"$f":"SUM(D16:AD16)+INDEX(List4!$D$2:$F$17,MATCH(Tabulka!A15,List4!$D$2:$D$17,0),3)","v":4.0000001510000001},{"$f":"CONCATENATE($B$15,\" \",$B$16,C16)","v":"Petr ŠumPlaceno panáků"},null,null,1,null,null,"Weiner",{"$f":"CONCATENATE(AQ16,\" \",AQ17)","v":"Míra Šedivý"},"Míra"]
[null,null,"Přehozy",{"$f":"IF(IFERROR(INDEX(Přehled_body!$E$3:$ED$130,MATCH(Tabulka!$AI17,Přehled_body!$A$3:$A$130,0),MATCH(Tabulka!D$2,Přehled_body!$E$1:$ED$1,0)),)=\"\",,IF(IFERROR(INDEX(Přehled_body!$E$3:$ED$130,MATCH(Tabulka!$AI17,Přehled_body!$A$3:$A$130,0),MATCH(Tabulka!D$2,Přehled_body!$E$1:$ED$1,0)),)=0,0.00000000001,IFERROR(INDEX(Přehled_body!$E$3:$ED$130,MATCH(Tabulka!$AI17,Přehled_body!$A$3:$A$130,0),MATCH(Tabulka!D$2,Přehled_body!$E$1:$ED$1,0)),)))","v":0},{"$f":"IF(IFERROR(INDEX(Přehled_body!$E$3:$ED$130,MATCH(Tabulka!$AI17,Přehled_body!$A$3:$A$130,0),MATCH(Tabulka!E$2,Přehled_body!$E$1:$ED$1,0)),)=\"\",,IF(IFERROR(INDEX(Přehled_body!$E$3:$ED$130,MATCH(Tabulka!$AI17,Přehled_body!$A$3:$A$130,0),MATCH(Tabulka!E$2,Přehled_body!$E$1:$ED$1,0)),)=0,0.00000000001,IFERROR(INDEX(Přehled_body!$E$3:$ED$130,MATCH(Tabulka!$AI17,Přehled_body!$A$3:$A$130,0),MATCH(Tabulka!E$2,Přehled_body!$E$1:$ED$1,0)),)))","v":0},{"$f":"IF(IFERROR(INDEX(Přehled_body!$E$3:$ED$130,MATCH(Tabulka!$AI17,Přehled_body!$A$3:$A$130,0),MATCH(Tabulka!F$2,Přehled_body!$E$1:$ED$1,0)),)=\"\",,IF(IFERROR(INDEX(Přehled_body!$E$3:$ED$130,MATCH(Tabulka!$AI17,Přehled_body!$A$3:$A$130,0),MATCH(Tabulka!F$2,Přehled_body!$E$1:$ED$1,0)),)=0,0.00000000001,IFERROR(INDEX(Přehled_body!$E$3:$ED$130,MATCH(Tabulka!$AI17,Přehled_body!$A$3:$A$130,0),MATCH(Tabulka!F$2,Přehled_body!$E$1:$ED$1,0)),)))","v":0},{"$f":"IF(IFERROR(INDEX(Přehled_body!$E$3:$ED$130,MATCH(Tabulka!$AI17,Přehled_body!$A$3:$A$130,0),MATCH(Tabulka!G$2,Přehled_body!$E$1:$ED$1,0)),)=\"\",,IF(IFERROR(INDEX(Přehled_body!$E$3:$ED$130,MATCH(Tabulka!$AI17,Přehled_body!$A$3:$A$130,0),MATCH(Tabulka!G$2,Přehled_body!$E$1:$ED$1,0)),)=0,0.00000000001,IFERROR(INDEX(Přehled_body!$E$3:$ED$130,MATCH(Tabulka!$AI17,Přehled_body!$A$3:$A$130,0),MATCH(Tabulka!G$2,Přehled_body!$E$1:$ED$1,0)),)))","v":0},{"$f":"IF(IFERROR(INDEX(Přehled_body!$E$3:$ED$130,MATCH(Tabulka!$AI17,Přehled_body!$A$3:$A$130,0),MATCH(Tabulka!H$2,Přehled_body!$E$1:$ED$1,0)),)=\"\",,IF(IFERROR(INDEX(Přehled_body!$E$3:$ED$130,MATCH(Tabulka!$AI17,Přehled_body!$A$3:$A$130,0),MATCH(Tabulka!H$2,Přehled_body!$E$1:$ED$1,0)),)=0,0.00000000001,IFERROR(INDEX(Přehled_body!$E$3:$ED$130,MATCH(Tabulka!$AI17,Přehled_body!$A$3:$A$130,0),MATCH(Tabulka!H$2,Přehled_body!$E$1:$ED$1,0)),)))","v":0},{"$f":"IF(IFERROR(INDEX(Přehled_body!$E$3:$ED$130,MATCH(Tabulka!$AI17,Přehled_body!$A$3:$A$130,0),MATCH(Tabulka!I$2,Přehled_body!$E$1:$ED$1,0)),)=\"\",,IF(IFERROR(INDEX(Přehled_body!$E$3:$ED$130,MATCH(Tabulka!$AI17,Přehled_body!$A$3:$A$130,0),MATCH(Tabulka!I$2,Přehled_body!$E$1:$ED$1,0)),)=0,0.00000000001,IFERROR(INDEX(Přehled_body!$E$3:$ED$130,MATCH(Tabulka!$AI17,Přehled_body!$A$3:$A$130,0),MATCH(Tabulka!I$2,Přehled_body!$E$1:$ED$1,0)),)))","v":0},{"$f":"IF(IFERROR(INDEX(Přehled_body!$E$3:$ED$130,MATCH(Tabulka!$AI17,Přehled_body!$A$3:$A$130,0),MATCH(Tabulka!J$2,Přehled_body!$E$1:$ED$1,0)),)=\"\",,IF(IFERROR(INDEX(Přehled_body!$E$3:$ED$130,MATCH(Tabulka!$AI17,Přehled_body!$A$3:$A$130,0),MATCH(Tabulka!J$2,Přehled_body!$E$1:$ED$1,0)),)=0,0.00000000001,IFERROR(INDEX(Přehled_body!$E$3:$ED$130,MATCH(Tabulka!$AI17,Přehled_body!$A$3:$A$130,0),MATCH(Tabulka!J$2,Přehled_body!$E$1:$ED$1,0)),)))","v":0},{"$f":"IF(IFERROR(INDEX(Přehled_body!$E$3:$ED$130,MATCH(Tabulka!$AI17,Přehled_body!$A$3:$A$130,0),MATCH(Tabulka!K$2,Přehled_body!$E$1:$ED$1,0)),)=\"\",,IF(IFERROR(INDEX(Přehled_body!$E$3:$ED$130,MATCH(Tabulka!$AI17,Přehled_body!$A$3:$A$130,0),MATCH(Tabulka!K$2,Přehled_body!$E$1:$ED$1,0)),)=0,0.00000000001,IFERROR(INDEX(Přehled_body!$E$3:$ED$130,MATCH(Tabulka!$AI17,Přehled_body!$A$3:$A$130,0),MATCH(Tabulka!K$2,Přehled_body!$E$1:$ED$1,0)),)))","v":0},{"$f":"IF(IFERROR(INDEX(Přehled_body!$E$3:$ED$130,MATCH(Tabulka!$AI17,Přehled_body!$A$3:$A$130,0),MATCH(Tabulka!L$2,Přehled_body!$E$1:$ED$1,0)),)=\"\",,IF(IFERROR(INDEX(Přehled_body!$E$3:$ED$130,MATCH(Tabulka!$AI17,Přehled_body!$A$3:$A$130,0),MATCH(Tabulka!L$2,Přehled_body!$E$1:$ED$1,0)),)=0,0.00000000001,IFERROR(INDEX(Přehled_body!$E$3:$ED$130,MATCH(Tabulka!$AI17,Přehled_body!$A$3:$A$130,0),MATCH(Tabulka!L$2,Přehled_body!$E$1:$ED$1,0)),)))","v":0},{"$f":"IF(IFERROR(INDEX(Přehled_body!$E$3:$ED$130,MATCH(Tabulka!$AI17,Přehled_body!$A$3:$A$130,0),MATCH(Tabulka!M$2,Přehled_body!$E$1:$ED$1,0)),)=\"\",,IF(IFERROR(INDEX(Přehled_body!$E$3:$ED$130,MATCH(Tabulka!$AI17,Přehled_body!$A$3:$A$130,0),MATCH(Tabulka!M$2,Přehled_body!$E$1:$ED$1,0)),)=0,0.00000000001,IFERROR(INDEX(Přehled_body!$E$3:$ED$130,MATCH(Tabulka!$AI17,Přehled_body!$A$3:$A$130,0),MATCH(Tabulka!M$2,Přehled_body!$E$1:$ED$1,0)),)))","v":0},{"$f":"IF(IFERROR(INDEX(Přehled_body!$E$3:$ED$130,MATCH(Tabulka!$AI17,Přehled_body!$A$3:$A$130,0),MATCH(Tabulka!N$2,Přehled_body!$E$1:$ED$1,0)),)=\"\",,IF(IFERROR(INDEX(Přehled_body!$E$3:$ED$130,MATCH(Tabulka!$AI17,Přehled_body!$A$3:$A$130,0),MATCH(Tabulka!N$2,Přehled_body!$E$1:$ED$1,0)),)=0,0.00000000001,IFERROR(INDEX(Přehled_body!$E$3:$ED$130,MATCH(Tabulka!$AI17,Přehled_body!$A$3:$A$130,0),MATCH(Tabulka!N$2,Přehled_body!$E$1:$ED$1,0)),)))","v":0},{"$f":"IF(IFERROR(INDEX(Přehled_body!$E$3:$ED$130,MATCH(Tabulka!$AI17,Přehled_body!$A$3:$A$130,0),MATCH(Tabulka!O$2,Přehled_body!$E$1:$ED$1,0)),)=\"\",,IF(IFERROR(INDEX(Přehled_body!$E$3:$ED$130,MATCH(Tabulka!$AI17,Přehled_body!$A$3:$A$130,0),MATCH(Tabulka!O$2,Přehled_body!$E$1:$ED$1,0)),)=0,0.00000000001,IFERROR(INDEX(Přehled_body!$E$3:$ED$130,MATCH(Tabulka!$AI17,Přehled_body!$A$3:$A$130,0),MATCH(Tabulka!O$2,Přehled_body!$E$1:$ED$1,0)),)))","v":0},{"$f":"IF(IFERROR(INDEX(Přehled_body!$E$3:$ED$130,MATCH(Tabulka!$AI17,Přehled_body!$A$3:$A$130,0),MATCH(Tabulka!P$2,Přehled_body!$E$1:$ED$1,0)),)=\"\",,IF(IFERROR(INDEX(Přehled_body!$E$3:$ED$130,MATCH(Tabulka!$AI17,Přehled_body!$A$3:$A$130,0),MATCH(Tabulka!P$2,Přehled_body!$E$1:$ED$1,0)),)=0,0.00000000001,IFERROR(INDEX(Přehled_body!$E$3:$ED$130,MATCH(Tabulka!$AI17,Přehled_body!$A$3:$A$130,0),MATCH(Tabulka!P$2,Přehled_body!$E$1:$ED$1,0)),)))","v":0},{"$f":"IF(IFERROR(INDEX(Přehled_body!$E$3:$ED$130,MATCH(Tabulka!$AI17,Přehled_body!$A$3:$A$130,0),MATCH(Tabulka!Q$2,Přehled_body!$E$1:$ED$1,0)),)=\"\",,IF(IFERROR(INDEX(Přehled_body!$E$3:$ED$130,MATCH(Tabulka!$AI17,Přehled_body!$A$3:$A$130,0),MATCH(Tabulka!Q$2,Přehled_body!$E$1:$ED$1,0)),)=0,0.00000000001,IFERROR(INDEX(Přehled_body!$E$3:$ED$130,MATCH(Tabulka!$AI17,Přehled_body!$A$3:$A$130,0),MATCH(Tabulka!Q$2,Přehled_body!$E$1:$ED$1,0)),)))","v":0},{"$f":"IF(IFERROR(INDEX(Přehled_body!$E$3:$ED$130,MATCH(Tabulka!$AI17,Přehled_body!$A$3:$A$130,0),MATCH(Tabulka!R$2,Přehled_body!$E$1:$ED$1,0)),)=\"\",,IF(IFERROR(INDEX(Přehled_body!$E$3:$ED$130,MATCH(Tabulka!$AI17,Přehled_body!$A$3:$A$130,0),MATCH(Tabulka!R$2,Přehled_body!$E$1:$ED$1,0)),)=0,0.00000000001,IFERROR(INDEX(Přehled_body!$E$3:$ED$130,MATCH(Tabulka!$AI17,Přehled_body!$A$3:$A$130,0),MATCH(Tabulka!R$2,Přehled_body!$E$1:$ED$1,0)),)))","v":0},{"$f":"IF(IFERROR(INDEX(Přehled_body!$E$3:$ED$130,MATCH(Tabulka!$AI17,Přehled_body!$A$3:$A$130,0),MATCH(Tabulka!S$2,Přehled_body!$E$1:$ED$1,0)),)=\"\",,IF(IFERROR(INDEX(Přehled_body!$E$3:$ED$130,MATCH(Tabulka!$AI17,Přehled_body!$A$3:$A$130,0),MATCH(Tabulka!S$2,Přehled_body!$E$1:$ED$1,0)),)=0,0.00000000001,IFERROR(INDEX(Přehled_body!$E$3:$ED$130,MATCH(Tabulka!$AI17,Přehled_body!$A$3:$A$130,0),MATCH(Tabulka!S$2,Přehled_body!$E$1:$ED$1,0)),)))","v":0},{"$f":"IF(IFERROR(INDEX(Přehled_body!$E$3:$ED$130,MATCH(Tabulka!$AI17,Přehled_body!$A$3:$A$130,0),MATCH(Tabulka!T$2,Přehled_body!$E$1:$ED$1,0)),)=\"\",,IF(IFERROR(INDEX(Přehled_body!$E$3:$ED$130,MATCH(Tabulka!$AI17,Přehled_body!$A$3:$A$130,0),MATCH(Tabulka!T$2,Přehled_body!$E$1:$ED$1,0)),)=0,0.00000000001,IFERROR(INDEX(Přehled_body!$E$3:$ED$130,MATCH(Tabulka!$AI17,Přehled_body!$A$3:$A$130,0),MATCH(Tabulka!T$2,Přehled_body!$E$1:$ED$1,0)),)))","v":9.9999999999999994E-12},{"$f":"IF(IFERROR(INDEX(Přehled_body!$E$3:$ED$130,MATCH(Tabulka!$AI17,Přehled_body!$A$3:$A$130,0),MATCH(Tabulka!U$2,Přehled_body!$E$1:$ED$1,0)),)=\"\",,IF(IFERROR(INDEX(Přehled_body!$E$3:$ED$130,MATCH(Tabulka!$AI17,Přehled_body!$A$3:$A$130,0),MATCH(Tabulka!U$2,Přehled_body!$E$1:$ED$1,0)),)=0,0.00000000001,IFERROR(INDEX(Přehled_body!$E$3:$ED$130,MATCH(Tabulka!$AI17,Přehled_body!$A$3:$A$130,0),MATCH(Tabulka!U$2,Přehled_body!$E$1:$ED$1,0)),)))","v":0},{"$f":"IF(IFERROR(INDEX(Přehled_body!$E$3:$ED$130,MATCH(Tabulka!$AI17,Přehled_body!$A$3:$A$130,0),MATCH(Tabulka!V$2,Přehled_body!$E$1:$ED$1,0)),)=\"\",,IF(IFERROR(INDEX(Přehled_body!$E$3:$ED$130,MATCH(Tabulka!$AI17,Přehled_body!$A$3:$A$130,0),MATCH(Tabulka!V$2,Přehled_body!$E$1:$ED$1,0)),)=0,0.00000000001,IFERROR(INDEX(Přehled_body!$E$3:$ED$130,MATCH(Tabulka!$AI17,Přehled_body!$A$3:$A$130,0),MATCH(Tabulka!V$2,Přehled_body!$E$1:$ED$1,0)),)))","v":0},{"$f":"IF(IFERROR(INDEX(Přehled_body!$E$3:$ED$130,MATCH(Tabulka!$AI17,Přehled_body!$A$3:$A$130,0),MATCH(Tabulka!W$2,Přehled_body!$E$1:$ED$1,0)),)=\"\",,IF(IFERROR(INDEX(Přehled_body!$E$3:$ED$130,MATCH(Tabulka!$AI17,Přehled_body!$A$3:$A$130,0),MATCH(Tabulka!W$2,Přehled_body!$E$1:$ED$1,0)),)=0,0.00000000001,IFERROR(INDEX(Přehled_body!$E$3:$ED$130,MATCH(Tabulka!$AI17,Přehled_body!$A$3:$A$130,0),MATCH(Tabulka!W$2,Přehled_body!$E$1:$ED$1,0)),)))","v":0},{"$f":"IF(IFERROR(INDEX(Přehled_body!$E$3:$ED$130,MATCH(Tabulka!$AI17,Přehled_body!$A$3:$A$130,0),MATCH(Tabulka!X$2,Přehled_body!$E$1:$ED$1,0)),)=\"\",,IF(IFERROR(INDEX(Přehled_body!$E$3:$ED$130,MATCH(Tabulka!$AI17,Přehled_body!$A$3:$A$130,0),MATCH(Tabulka!X$2,Přehled_body!$E$1:$ED$1,0)),)=0,0.00000000001,IFERROR(INDEX(Přehled_body!$E$3:$ED$130,MATCH(Tabulka!$AI17,Přehled_body!$A$3:$A$130,0),MATCH(Tabulka!X$2,Přehled_body!$E$1:$ED$1,0)),)))","v":0},{"$f":"IF(IFERROR(INDEX(Přehled_body!$E$3:$ED$130,MATCH(Tabulka!$AI17,Přehled_body!$A$3:$A$130,0),MATCH(Tabulka!Y$2,Přehled_body!$E$1:$ED$1,0)),)=\"\",,IF(IFERROR(INDEX(Přehled_body!$E$3:$ED$130,MATCH(Tabulka!$AI17,Přehled_body!$A$3:$A$130,0),MATCH(Tabulka!Y$2,Přehled_body!$E$1:$ED$1,0)),)=0,0.00000000001,IFERROR(INDEX(Přehled_body!$E$3:$ED$130,MATCH(Tabulka!$AI17,Přehled_body!$A$3:$A$130,0),MATCH(Tabulka!Y$2,Přehled_body!$E$1:$ED$1,0)),)))","v":0},{"$f":"IF(IFERROR(INDEX(Přehled_body!$E$3:$ED$130,MATCH(Tabulka!$AI17,Přehled_body!$A$3:$A$130,0),MATCH(Tabulka!Z$2,Přehled_body!$E$1:$ED$1,0)),)=\"\",,IF(IFERROR(INDEX(Přehled_body!$E$3:$ED$130,MATCH(Tabulka!$AI17,Přehled_body!$A$3:$A$130,0),MATCH(Tabulka!Z$2,Přehled_body!$E$1:$ED$1,0)),)=0,0.00000000001,IFERROR(INDEX(Přehled_body!$E$3:$ED$130,MATCH(Tabulka!$AI17,Přehled_body!$A$3:$A$130,0),MATCH(Tabulka!Z$2,Přehled_body!$E$1:$ED$1,0)),)))","v":0},{"$f":"IF(IFERROR(INDEX(Přehled_body!$E$3:$ED$130,MATCH(Tabulka!$AI17,Přehled_body!$A$3:$A$130,0),MATCH(Tabulka!AA$2,Přehled_body!$E$1:$ED$1,0)),)=\"\",,IF(IFERROR(INDEX(Přehled_body!$E$3:$ED$130,MATCH(Tabulka!$AI17,Přehled_body!$A$3:$A$130,0),MATCH(Tabulka!AA$2,Přehled_body!$E$1:$ED$1,0)),)=0,0.00000000001,IFERROR(INDEX(Přehled_body!$E$3:$ED$130,MATCH(Tabulka!$AI17,Přehled_body!$A$3:$A$130,0),MATCH(Tabulka!AA$2,Přehled_body!$E$1:$ED$1,0)),)))","v":0},{"$f":"IF(IFERROR(INDEX(Přehled_body!$E$3:$ED$130,MATCH(Tabulka!$AI17,Přehled_body!$A$3:$A$130,0),MATCH(Tabulka!AB$2,Přehled_body!$E$1:$ED$1,0)),)=\"\",,IF(IFERROR(INDEX(Přehled_body!$E$3:$ED$130,MATCH(Tabulka!$AI17,Přehled_body!$A$3:$A$130,0),MATCH(Tabulka!AB$2,Přehled_body!$E$1:$ED$1,0)),)=0,0.00000000001,IFERROR(INDEX(Přehled_body!$E$3:$ED$130,MATCH(Tabulka!$AI17,Přehled_body!$A$3:$A$130,0),MATCH(Tabulka!AB$2,Přehled_body!$E$1:$ED$1,0)),)))","v":0},{"$f":"IF(IFERROR(INDEX(Přehled_body!$E$3:$ED$130,MATCH(Tabulka!$AI17,Přehled_body!$A$3:$A$130,0),MATCH(Tabulka!AC$2,Přehled_body!$E$1:$ED$1,0)),)=\"\",,IF(IFERROR(INDEX(Přehled_body!$E$3:$ED$130,MATCH(Tabulka!$AI17,Přehled_body!$A$3:$A$130,0),MATCH(Tabulka!AC$2,Přehled_body!$E$1:$ED$1,0)),)=0,0.00000000001,IFERROR(INDEX(Přehled_body!$E$3:$ED$130,MATCH(Tabulka!$AI17,Přehled_body!$A$3:$A$130,0),MATCH(Tabulka!AC$2,Přehled_body!$E$1:$ED$1,0)),)))","v":0},{"$f":"IF(IFERROR(INDEX(Přehled_body!$E$3:$ED$130,MATCH(Tabulka!$AI17,Přehled_body!$A$3:$A$130,0),MATCH(Tabulka!AD$2,Přehled_body!$E$1:$ED$1,0)),)=\"\",,IF(IFERROR(INDEX(Přehled_body!$E$3:$ED$130,MATCH(Tabulka!$AI17,Přehled_body!$A$3:$A$130,0),MATCH(Tabulka!AD$2,Přehled_body!$E$1:$ED$1,0)),)=0,0.00000000001,IFERROR(INDEX(Přehled_body!$E$3:$ED$130,MATCH(Tabulka!$AI17,Přehled_body!$A$3:$A$130,0),MATCH(Tabulka!AD$2,Přehled_body!$E$1:$ED$1,0)),)))","v":0},{"$f":"IF(SUM(AG14)<2,-90000+SUM(D17:AD17),SUM(D17:AD17))","v":-89999.999999999985},null,null,9.9999999999999994E-12,{"$f":"CONCATENATE($B$15,\" \",$B$16,C17)","v":"Petr ŠumPřehozy"},null,null,1,null,null,null,{"$f":"CONCATENATE(AQ17,\" \",AQ16)","v":"Šedivý Míra"},"Šedivý"]
[null,null,"Poč. kol",{"$f":"IF(IFERROR(INDEX(Přehled_body!$E$3:$ED$130,MATCH(Tabulka!$AI18,Přehled_body!$A$3:$A$130,0),MATCH(Tabulka!D$2,Přehled_body!$E$1:$ED$1,0)),)=\"\",,IF(IFERROR(INDEX(Přehled_body!$E$3:$ED$130,MATCH(Tabulka!$AI18,Přehled_body!$A$3:$A$130,0),MATCH(Tabulka!D$2,Přehled_body!$E$1:$ED$1,0)),)=0,0.00000000001,IFERROR(INDEX(Přehled_body!$E$3:$ED$130,MATCH(Tabulka!$AI18,Přehled_body!$A$3:$A$130,0),MATCH(Tabulka!D$2,Přehled_body!$E$1:$ED$1,0)),)))","v":0},{"$f":"IF(IFERROR(INDEX(Přehled_body!$E$3:$ED$130,MATCH(Tabulka!$AI18,Přehled_body!$A$3:$A$130,0),MATCH(Tabulka!E$2,Přehled_body!$E$1:$ED$1,0)),)=\"\",,IF(IFERROR(INDEX(Přehled_body!$E$3:$ED$130,MATCH(Tabulka!$AI18,Přehled_body!$A$3:$A$130,0),MATCH(Tabulka!E$2,Přehled_body!$E$1:$ED$1,0)),)=0,0.00000000001,IFERROR(INDEX(Přehled_body!$E$3:$ED$130,MATCH(Tabulka!$AI18,Přehled_body!$A$3:$A$130,0),MATCH(Tabulka!E$2,Přehled_body!$E$1:$ED$1,0)),)))","v":0},{"$f":"IF(IFERROR(INDEX(Přehled_body!$E$3:$ED$130,MATCH(Tabulka!$AI18,Přehled_body!$A$3:$A$130,0),MATCH(Tabulka!F$2,Přehled_body!$E$1:$ED$1,0)),)=\"\",,IF(IFERROR(INDEX(Přehled_body!$E$3:$ED$130,MATCH(Tabulka!$AI18,Přehled_body!$A$3:$A$130,0),MATCH(Tabulka!F$2,Přehled_body!$E$1:$ED$1,0)),)=0,0.00000000001,IFERROR(INDEX(Přehled_body!$E$3:$ED$130,MATCH(Tabulka!$AI18,Přehled_body!$A$3:$A$130,0),MATCH(Tabulka!F$2,Přehled_body!$E$1:$ED$1,0)),)))","v":0},{"$f":"IF(IFERROR(INDEX(Přehled_body!$E$3:$ED$130,MATCH(Tabulka!$AI18,Přehled_body!$A$3:$A$130,0),MATCH(Tabulka!G$2,Přehled_body!$E$1:$ED$1,0)),)=\"\",,IF(IFERROR(INDEX(Přehled_body!$E$3:$ED$130,MATCH(Tabulka!$AI18,Přehled_body!$A$3:$A$130,0),MATCH(Tabulka!G$2,Přehled_body!$E$1:$ED$1,0)),)=0,0.00000000001,IFERROR(INDEX(Přehled_body!$E$3:$ED$130,MATCH(Tabulka!$AI18,Přehled_body!$A$3:$A$130,0),MATCH(Tabulka!G$2,Přehled_body!$E$1:$ED$1,0)),)))","v":0},{"$f":"IF(IFERROR(INDEX(Přehled_body!$E$3:$ED$130,MATCH(Tabulka!$AI18,Přehled_body!$A$3:$A$130,0),MATCH(Tabulka!H$2,Přehled_body!$E$1:$ED$1,0)),)=\"\",,IF(IFERROR(INDEX(Přehled_body!$E$3:$ED$130,MATCH(Tabulka!$AI18,Přehled_body!$A$3:$A$130,0),MATCH(Tabulka!H$2,Přehled_body!$E$1:$ED$1,0)),)=0,0.00000000001,IFERROR(INDEX(Přehled_body!$E$3:$ED$130,MATCH(Tabulka!$AI18,Přehled_body!$A$3:$A$130,0),MATCH(Tabulka!H$2,Přehled_body!$E$1:$ED$1,0)),)))","v":0},{"$f":"IF(IFERROR(INDEX(Přehled_body!$E$3:$ED$130,MATCH(Tabulka!$AI18,Přehled_body!$A$3:$A$130,0),MATCH(Tabulka!I$2,Přehled_body!$E$1:$ED$1,0)),)=\"\",,IF(IFERROR(INDEX(Přehled_body!$E$3:$ED$130,MATCH(Tabulka!$AI18,Přehled_body!$A$3:$A$130,0),MATCH(Tabulka!I$2,Přehled_body!$E$1:$ED$1,0)),)=0,0.00000000001,IFERROR(INDEX(Přehled_body!$E$3:$ED$130,MATCH(Tabulka!$AI18,Přehled_body!$A$3:$A$130,0),MATCH(Tabulka!I$2,Přehled_body!$E$1:$ED$1,0)),)))","v":0},{"$f":"IF(IFERROR(INDEX(Přehled_body!$E$3:$ED$130,MATCH(Tabulka!$AI18,Přehled_body!$A$3:$A$130,0),MATCH(Tabulka!J$2,Přehled_body!$E$1:$ED$1,0)),)=\"\",,IF(IFERROR(INDEX(Přehled_body!$E$3:$ED$130,MATCH(Tabulka!$AI18,Přehled_body!$A$3:$A$130,0),MATCH(Tabulka!J$2,Přehled_body!$E$1:$ED$1,0)),)=0,0.00000000001,IFERROR(INDEX(Přehled_body!$E$3:$ED$130,MATCH(Tabulka!$AI18,Přehled_body!$A$3:$A$130,0),MATCH(Tabulka!J$2,Přehled_body!$E$1:$ED$1,0)),)))","v":0},{"$f":"IF(IFERROR(INDEX(Přehled_body!$E$3:$ED$130,MATCH(Tabulka!$AI18,Přehled_body!$A$3:$A$130,0),MATCH(Tabulka!K$2,Přehled_body!$E$1:$ED$1,0)),)=\"\",,IF(IFERROR(INDEX(Přehled_body!$E$3:$ED$130,MATCH(Tabulka!$AI18,Přehled_body!$A$3:$A$130,0),MATCH(Tabulka!K$2,Přehled_body!$E$1:$ED$1,0)),)=0,0.00000000001,IFERROR(INDEX(Přehled_body!$E$3:$ED$130,MATCH(Tabulka!$AI18,Přehled_body!$A$3:$A$130,0),MATCH(Tabulka!K$2,Přehled_body!$E$1:$ED$1,0)),)))","v":0},{"$f":"IF(IFERROR(INDEX(Přehled_body!$E$3:$ED$130,MATCH(Tabulka!$AI18,Přehled_body!$A$3:$A$130,0),MATCH(Tabulka!L$2,Přehled_body!$E$1:$ED$1,0)),)=\"\",,IF(IFERROR(INDEX(Přehled_body!$E$3:$ED$130,MATCH(Tabulka!$AI18,Přehled_body!$A$3:$A$130,0),MATCH(Tabulka!L$2,Přehled_body!$E$1:$ED$1,0)),)=0,0.00000000001,IFERROR(INDEX(Přehled_body!$E$3:$ED$130,MATCH(Tabulka!$AI18,Přehled_body!$A$3:$A$130,0),MATCH(Tabulka!L$2,Přehled_body!$E$1:$ED$1,0)),)))","v":0},{"$f":"IF(IFERROR(INDEX(Přehled_body!$E$3:$ED$130,MATCH(Tabulka!$AI18,Přehled_body!$A$3:$A$130,0),MATCH(Tabulka!M$2,Přehled_body!$E$1:$ED$1,0)),)=\"\",,IF(IFERROR(INDEX(Přehled_body!$E$3:$ED$130,MATCH(Tabulka!$AI18,Přehled_body!$A$3:$A$130,0),MATCH(Tabulka!M$2,Přehled_body!$E$1:$ED$1,0)),)=0,0.00000000001,IFERROR(INDEX(Přehled_body!$E$3:$ED$130,MATCH(Tabulka!$AI18,Přehled_body!$A$3:$A$130,0),MATCH(Tabulka!M$2,Přehled_body!$E$1:$ED$1,0)),)))","v":0},{"$f":"IF(IFERROR(INDEX(Přehled_body!$E$3:$ED$130,MATCH(Tabulka!$AI18,Přehled_body!$A$3:$A$130,0),MATCH(Tabulka!N$2,Přehled_body!$E$1:$ED$1,0)),)=\"\",,IF(IFERROR(INDEX(Přehled_body!$E$3:$ED$130,MATCH(Tabulka!$AI18,Přehled_body!$A$3:$A$130,0),MATCH(Tabulka!N$2,Přehled_body!$E$1:$ED$1,0)),)=0,0.00000000001,IFERROR(INDEX(Přehled_body!$E$3:$ED$130,MATCH(Tabulka!$AI18,Přehled_body!$A$3:$A$130,0),MATCH(Tabulka!N$2,Přehled_body!$E$1:$ED$1,0)),)))","v":0},{"$f":"IF(IFERROR(INDEX(Přehled_body!$E$3:$ED$130,MATCH(Tabulka!$AI18,Přehled_body!$A$3:$A$130,0),MATCH(Tabulka!O$2,Přehled_body!$E$1:$ED$1,0)),)=\"\",,IF(IFERROR(INDEX(Přehled_body!$E$3:$ED$130,MATCH(Tabulka!$AI18,Přehled_body!$A$3:$A$130,0),MATCH(Tabulka!O$2,Přehled_body!$E$1:$ED$1,0)),)=0,0.00000000001,IFERROR(INDEX(Přehled_body!$E$3:$ED$130,MATCH(Tabulka!$AI18,Přehled_body!$A$3:$A$130,0),MATCH(Tabulka!O$2,Přehled_body!$E$1:$ED$1,0)),)))","v":0},{"$f":"IF(IFERROR(INDEX(Přehled_body!$E$3:$ED$130,MATCH(Tabulka!$AI18,Přehled_body!$A$3:$A$130,0),MATCH(Tabulka!P$2,Přehled_body!$E$1:$ED$1,0)),)=\"\",,IF(IFERROR(INDEX(Přehled_body!$E$3:$ED$130,MATCH(Tabulka!$AI18,Přehled_body!$A$3:$A$130,0),MATCH(Tabulka!P$2,Přehled_body!$E$1:$ED$1,0)),)=0,0.00000000001,IFERROR(INDEX(Přehled_body!$E$3:$ED$130,MATCH(Tabulka!$AI18,Přehled_body!$A$3:$A$130,0),MATCH(Tabulka!P$2,Přehled_body!$E$1:$ED$1,0)),)))","v":0},{"$f":"IF(IFERROR(INDEX(Přehled_body!$E$3:$ED$130,MATCH(Tabulka!$AI18,Přehled_body!$A$3:$A$130,0),MATCH(Tabulka!Q$2,Přehled_body!$E$1:$ED$1,0)),)=\"\",,IF(IFERROR(INDEX(Přehled_body!$E$3:$ED$130,MATCH(Tabulka!$AI18,Přehled_body!$A$3:$A$130,0),MATCH(Tabulka!Q$2,Přehled_body!$E$1:$ED$1,0)),)=0,0.00000000001,IFERROR(INDEX(Přehled_body!$E$3:$ED$130,MATCH(Tabulka!$AI18,Přehled_body!$A$3:$A$130,0),MATCH(Tabulka!Q$2,Přehled_body!$E$1:$ED$1,0)),)))","v":0},{"$f":"IF(IFERROR(INDEX(Přehled_body!$E$3:$ED$130,MATCH(Tabulka!$AI18,Přehled_body!$A$3:$A$130,0),MATCH(Tabulka!R$2,Přehled_body!$E$1:$ED$1,0)),)=\"\",,IF(IFERROR(INDEX(Přehled_body!$E$3:$ED$130,MATCH(Tabulka!$AI18,Přehled_body!$A$3:$A$130,0),MATCH(Tabulka!R$2,Přehled_body!$E$1:$ED$1,0)),)=0,0.00000000001,IFERROR(INDEX(Přehled_body!$E$3:$ED$130,MATCH(Tabulka!$AI18,Přehled_body!$A$3:$A$130,0),MATCH(Tabulka!R$2,Přehled_body!$E$1:$ED$1,0)),)))","v":0},{"$f":"IF(IFERROR(INDEX(Přehled_body!$E$3:$ED$130,MATCH(Tabulka!$AI18,Přehled_body!$A$3:$A$130,0),MATCH(Tabulka!S$2,Přehled_body!$E$1:$ED$1,0)),)=\"\",,IF(IFERROR(INDEX(Přehled_body!$E$3:$ED$130,MATCH(Tabulka!$AI18,Přehled_body!$A$3:$A$130,0),MATCH(Tabulka!S$2,Přehled_body!$E$1:$ED$1,0)),)=0,0.00000000001,IFERROR(INDEX(Přehled_body!$E$3:$ED$130,MATCH(Tabulka!$AI18,Přehled_body!$A$3:$A$130,0),MATCH(Tabulka!S$2,Přehled_body!$E$1:$ED$1,0)),)))","v":0},{"$f":"IF(IFERROR(INDEX(Přehled_body!$E$3:$ED$130,MATCH(Tabulka!$AI18,Přehled_body!$A$3:$A$130,0),MATCH(Tabulka!T$2,Přehled_body!$E$1:$ED$1,0)),)=\"\",,IF(IFERROR(INDEX(Přehled_body!$E$3:$ED$130,MATCH(Tabulka!$AI18,Přehled_body!$A$3:$A$130,0),MATCH(Tabulka!T$2,Přehled_body!$E$1:$ED$1,0)),)=0,0.00000000001,IFERROR(INDEX(Přehled_body!$E$3:$ED$130,MATCH(Tabulka!$AI18,Přehled_body!$A$3:$A$130,0),MATCH(Tabulka!T$2,Přehled_body!$E$1:$ED$1,0)),)))","v":4},{"$f":"IF(IFERROR(INDEX(Přehled_body!$E$3:$ED$130,MATCH(Tabulka!$AI18,Přehled_body!$A$3:$A$130,0),MATCH(Tabulka!U$2,Přehled_body!$E$1:$ED$1,0)),)=\"\",,IF(IFERROR(INDEX(Přehled_body!$E$3:$ED$130,MATCH(Tabulka!$AI18,Přehled_body!$A$3:$A$130,0),MATCH(Tabulka!U$2,Přehled_body!$E$1:$ED$1,0)),)=0,0.00000000001,IFERROR(INDEX(Přehled_body!$E$3:$ED$130,MATCH(Tabulka!$AI18,Přehled_body!$A$3:$A$130,0),MATCH(Tabulka!U$2,Přehled_body!$E$1:$ED$1,0)),)))","v":0},{"$f":"IF(IFERROR(INDEX(Přehled_body!$E$3:$ED$130,MATCH(Tabulka!$AI18,Přehled_body!$A$3:$A$130,0),MATCH(Tabulka!V$2,Přehled_body!$E$1:$ED$1,0)),)=\"\",,IF(IFERROR(INDEX(Přehled_body!$E$3:$ED$130,MATCH(Tabulka!$AI18,Přehled_body!$A$3:$A$130,0),MATCH(Tabulka!V$2,Přehled_body!$E$1:$ED$1,0)),)=0,0.00000000001,IFERROR(INDEX(Přehled_body!$E$3:$ED$130,MATCH(Tabulka!$AI18,Přehled_body!$A$3:$A$130,0),MATCH(Tabulka!V$2,Přehled_body!$E$1:$ED$1,0)),)))","v":0},{"$f":"IF(IFERROR(INDEX(Přehled_body!$E$3:$ED$130,MATCH(Tabulka!$AI18,Přehled_body!$A$3:$A$130,0),MATCH(Tabulka!W$2,Přehled_body!$E$1:$ED$1,0)),)=\"\",,IF(IFERROR(INDEX(Přehled_body!$E$3:$ED$130,MATCH(Tabulka!$AI18,Přehled_body!$A$3:$A$130,0),MATCH(Tabulka!W$2,Přehled_body!$E$1:$ED$1,0)),)=0,0.00000000001,IFERROR(INDEX(Přehled_body!$E$3:$ED$130,MATCH(Tabulka!$AI18,Přehled_body!$A$3:$A$130,0),MATCH(Tabulka!W$2,Přehled_body!$E$1:$ED$1,0)),)))","v":0},{"$f":"IF(IFERROR(INDEX(Přehled_body!$E$3:$ED$130,MATCH(Tabulka!$AI18,Přehled_body!$A$3:$A$130,0),MATCH(Tabulka!X$2,Přehled_body!$E$1:$ED$1,0)),)=\"\",,IF(IFERROR(INDEX(Přehled_body!$E$3:$ED$130,MATCH(Tabulka!$AI18,Přehled_body!$A$3:$A$130,0),MATCH(Tabulka!X$2,Přehled_body!$E$1:$ED$1,0)),)=0,0.00000000001,IFERROR(INDEX(Přehled_body!$E$3:$ED$130,MATCH(Tabulka!$AI18,Přehled_body!$A$3:$A$130,0),MATCH(Tabulka!X$2,Přehled_body!$E$1:$ED$1,0)),)))","v":0},{"$f":"IF(IFERROR(INDEX(Přehled_body!$E$3:$ED$130,MATCH(Tabulka!$AI18,Přehled_body!$A$3:$A$130,0),MATCH(Tabulka!Y$2,Přehled_body!$E$1:$ED$1,0)),)=\"\",,IF(IFERROR(INDEX(Přehled_body!$E$3:$ED$130,MATCH(Tabulka!$AI18,Přehled_body!$A$3:$A$130,0),MATCH(Tabulka!Y$2,Přehled_body!$E$1:$ED$1,0)),)=0,0.00000000001,IFERROR(INDEX(Přehled_body!$E$3:$ED$130,MATCH(Tabulka!$AI18,Přehled_body!$A$3:$A$130,0),MATCH(Tabulka!Y$2,Přehled_body!$E$1:$ED$1,0)),)))","v":0},{"$f":"IF(IFERROR(INDEX(Přehled_body!$E$3:$ED$130,MATCH(Tabulka!$AI18,Přehled_body!$A$3:$A$130,0),MATCH(Tabulka!Z$2,Přehled_body!$E$1:$ED$1,0)),)=\"\",,IF(IFERROR(INDEX(Přehled_body!$E$3:$ED$130,MATCH(Tabulka!$AI18,Přehled_body!$A$3:$A$130,0),MATCH(Tabulka!Z$2,Přehled_body!$E$1:$ED$1,0)),)=0,0.00000000001,IFERROR(INDEX(Přehled_body!$E$3:$ED$130,MATCH(Tabulka!$AI18,Přehled_body!$A$3:$A$130,0),MATCH(Tabulka!Z$2,Přehled_body!$E$1:$ED$1,0)),)))","v":0},{"$f":"IF(IFERROR(INDEX(Přehled_body!$E$3:$ED$130,MATCH(Tabulka!$AI18,Přehled_body!$A$3:$A$130,0),MATCH(Tabulka!AA$2,Přehled_body!$E$1:$ED$1,0)),)=\"\",,IF(IFERROR(INDEX(Přehled_body!$E$3:$ED$130,MATCH(Tabulka!$AI18,Přehled_body!$A$3:$A$130,0),MATCH(Tabulka!AA$2,Přehled_body!$E$1:$ED$1,0)),)=0,0.00000000001,IFERROR(INDEX(Přehled_body!$E$3:$ED$130,MATCH(Tabulka!$AI18,Přehled_body!$A$3:$A$130,0),MATCH(Tabulka!AA$2,Přehled_body!$E$1:$ED$1,0)),)))","v":0},{"$f":"IF(IFERROR(INDEX(Přehled_body!$E$3:$ED$130,MATCH(Tabulka!$AI18,Přehled_body!$A$3:$A$130,0),MATCH(Tabulka!AB$2,Přehled_body!$E$1:$ED$1,0)),)=\"\",,IF(IFERROR(INDEX(Přehled_body!$E$3:$ED$130,MATCH(Tabulka!$AI18,Přehled_body!$A$3:$A$130,0),MATCH(Tabulka!AB$2,Přehled_body!$E$1:$ED$1,0)),)=0,0.00000000001,IFERROR(INDEX(Přehled_body!$E$3:$ED$130,MATCH(Tabulka!$AI18,Přehled_body!$A$3:$A$130,0),MATCH(Tabulka!AB$2,Přehled_body!$E$1:$ED$1,0)),)))","v":0},{"$f":"IF(IFERROR(INDEX(Přehled_body!$E$3:$ED$130,MATCH(Tabulka!$AI18,Přehled_body!$A$3:$A$130,0),MATCH(Tabulka!AC$2,Přehled_body!$E$1:$ED$1,0)),)=\"\",,IF(IFERROR(INDEX(Přehled_body!$E$3:$ED$130,MATCH(Tabulka!$AI18,Přehled_body!$A$3:$A$130,0),MATCH(Tabulka!AC$2,Přehled_body!$E$1:$ED$1,0)),)=0,0.00000000001,IFERROR(INDEX(Přehled_body!$E$3:$ED$130,MATCH(Tabulka!$AI18,Přehled_body!$A$3:$A$130,0),MATCH(Tabulka!AC$2,Přehled_body!$E$1:$ED$1,0)),)))","v":0},{"$f":"IF(IFERROR(INDEX(Přehled_body!$E$3:$ED$130,MATCH(Tabulka!$AI18,Přehled_body!$A$3:$A$130,0),MATCH(Tabulka!AD$2,Přehled_body!$E$1:$ED$1,0)),)=\"\",,IF(IFERROR(INDEX(Přehled_body!$E$3:$ED$130,MATCH(Tabulka!$AI18,Přehled_body!$A$3:$A$130,0),MATCH(Tabulka!AD$2,Přehled_body!$E$1:$ED$1,0)),)=0,0.00000000001,IFERROR(INDEX(Přehled_body!$E$3:$ED$130,MATCH(Tabulka!$AI18,Přehled_body!$A$3:$A$130,0),MATCH(Tabulka!AD$2,Přehled_body!$E$1:$ED$1,0)),)))","v":0},{"$f":"IF(SUM(AG14)<2,-90000+SUM(D18:AD18),SUM(D18:AD18))","v":-89996},null,null,4,{"$f":"CONCATENATE($B$15,\" \",$B$16,C18)","v":"Petr ŠumPoč. kol"},null,null,1]
[4,null,"Výhry",{"$f":"IF(IFERROR(INDEX(Přehled_body!$E$3:$ED$130,MATCH(Tabulka!$AI19,Přehled_body!$A$3:$A$130,0),MATCH(Tabulka!D$2,Přehled_body!$E$1:$ED$1,0)),)=\"\",,IF(IFERROR(INDEX(Přehled_body!$E$3:$ED$130,MATCH(Tabulka!$AI19,Přehled_body!$A$3:$A$130,0),MATCH(Tabulka!D$2,Přehled_body!$E$1:$ED$1,0)),)=0,0.00000000001,IFERROR(INDEX(Přehled_body!$E$3:$ED$130,MATCH(Tabulka!$AI19,Přehled_body!$A$3:$A$130,0),MATCH(Tabulka!D$2,Přehled_body!$E$1:$ED$1,0)),)))","v":0},{"$f":"IF(IFERROR(INDEX(Přehled_body!$E$3:$ED$130,MATCH(Tabulka!$AI19,Přehled_body!$A$3:$A$130,0),MATCH(Tabulka!E$2,Přehled_body!$E$1:$ED$1,0)),)=\"\",,IF(IFERROR(INDEX(Přehled_body!$E$3:$ED$130,MATCH(Tabulka!$AI19,Přehled_body!$A$3:$A$130,0),MATCH(Tabulka!E$2,Přehled_body!$E$1:$ED$1,0)),)=0,0.00000000001,IFERROR(INDEX(Přehled_body!$E$3:$ED$130,MATCH(Tabulka!$AI19,Přehled_body!$A$3:$A$130,0),MATCH(Tabulka!E$2,Přehled_body!$E$1:$ED$1,0)),)))","v":0},{"$f":"IF(IFERROR(INDEX(Přehled_body!$E$3:$ED$130,MATCH(Tabulka!$AI19,Přehled_body!$A$3:$A$130,0),MATCH(Tabulka!F$2,Přehled_body!$E$1:$ED$1,0)),)=\"\",,IF(IFERROR(INDEX(Přehled_body!$E$3:$ED$130,MATCH(Tabulka!$AI19,Přehled_body!$A$3:$A$130,0),MATCH(Tabulka!F$2,Přehled_body!$E$1:$ED$1,0)),)=0,0.00000000001,IFERROR(INDEX(Přehled_body!$E$3:$ED$130,MATCH(Tabulka!$AI19,Přehled_body!$A$3:$A$130,0),MATCH(Tabulka!F$2,Přehled_body!$E$1:$ED$1,0)),)))","v":0},{"$f":"IF(IFERROR(INDEX(Přehled_body!$E$3:$ED$130,MATCH(Tabulka!$AI19,Přehled_body!$A$3:$A$130,0),MATCH(Tabulka!G$2,Přehled_body!$E$1:$ED$1,0)),)=\"\",,IF(IFERROR(INDEX(Přehled_body!$E$3:$ED$130,MATCH(Tabulka!$AI19,Přehled_body!$A$3:$A$130,0),MATCH(Tabulka!G$2,Přehled_body!$E$1:$ED$1,0)),)=0,0.00000000001,IFERROR(INDEX(Přehled_body!$E$3:$ED$130,MATCH(Tabulka!$AI19,Přehled_body!$A$3:$A$130,0),MATCH(Tabulka!G$2,Přehled_body!$E$1:$ED$1,0)),)))","v":0},{"$f":"IF(IFERROR(INDEX(Přehled_body!$E$3:$ED$130,MATCH(Tabulka!$AI19,Přehled_body!$A$3:$A$130,0),MATCH(Tabulka!H$2,Přehled_body!$E$1:$ED$1,0)),)=\"\",,IF(IFERROR(INDEX(Přehled_body!$E$3:$ED$130,MATCH(Tabulka!$AI19,Přehled_body!$A$3:$A$130,0),MATCH(Tabulka!H$2,Přehled_body!$E$1:$ED$1,0)),)=0,0.00000000001,IFERROR(INDEX(Přehled_body!$E$3:$ED$130,MATCH(Tabulka!$AI19,Přehled_body!$A$3:$A$130,0),MATCH(Tabulka!H$2,Přehled_body!$E$1:$ED$1,0)),)))","v":0},{"$f":"IF(IFERROR(INDEX(Přehled_body!$E$3:$ED$130,MATCH(Tabulka!$AI19,Přehled_body!$A$3:$A$130,0),MATCH(Tabulka!I$2,Přehled_body!$E$1:$ED$1,0)),)=\"\",,IF(IFERROR(INDEX(Přehled_body!$E$3:$ED$130,MATCH(Tabulka!$AI19,Přehled_body!$A$3:$A$130,0),MATCH(Tabulka!I$2,Přehled_body!$E$1:$ED$1,0)),)=0,0.00000000001,IFERROR(INDEX(Přehled_body!$E$3:$ED$130,MATCH(Tabulka!$AI19,Přehled_body!$A$3:$A$130,0),MATCH(Tabulka!I$2,Přehled_body!$E$1:$ED$1,0)),)))","v":0},{"$f":"IF(IFERROR(INDEX(Přehled_body!$E$3:$ED$130,MATCH(Tabulka!$AI19,Přehled_body!$A$3:$A$130,0),MATCH(Tabulka!J$2,Přehled_body!$E$1:$ED$1,0)),)=\"\",,IF(IFERROR(INDEX(Přehled_body!$E$3:$ED$130,MATCH(Tabulka!$AI19,Přehled_body!$A$3:$A$130,0),MATCH(Tabulka!J$2,Přehled_body!$E$1:$ED$1,0)),)=0,0.00000000001,IFERROR(INDEX(Přehled_body!$E$3:$ED$130,MATCH(Tabulka!$AI19,Přehled_body!$A$3:$A$130,0),MATCH(Tabulka!J$2,Přehled_body!$E$1:$ED$1,0)),)))","v":0},{"$f":"IF(IFERROR(INDEX(Přehled_body!$E$3:$ED$130,MATCH(Tabulka!$AI19,Přehled_body!$A$3:$A$130,0),MATCH(Tabulka!K$2,Přehled_body!$E$1:$ED$1,0)),)=\"\",,IF(IFERROR(INDEX(Přehled_body!$E$3:$ED$130,MATCH(Tabulka!$AI19,Přehled_body!$A$3:$A$130,0),MATCH(Tabulka!K$2,Přehled_body!$E$1:$ED$1,0)),)=0,0.00000000001,IFERROR(INDEX(Přehled_body!$E$3:$ED$130,MATCH(Tabulka!$AI19,Přehled_body!$A$3:$A$130,0),MATCH(Tabulka!K$2,Přehled_body!$E$1:$ED$1,0)),)))","v":0},{"$f":"IF(IFERROR(INDEX(Přehled_body!$E$3:$ED$130,MATCH(Tabulka!$AI19,Přehled_body!$A$3:$A$130,0),MATCH(Tabulka!L$2,Přehled_body!$E$1:$ED$1,0)),)=\"\",,IF(IFERROR(INDEX(Přehled_body!$E$3:$ED$130,MATCH(Tabulka!$AI19,Přehled_body!$A$3:$A$130,0),MATCH(Tabulka!L$2,Přehled_body!$E$1:$ED$1,0)),)=0,0.00000000001,IFERROR(INDEX(Přehled_body!$E$3:$ED$130,MATCH(Tabulka!$AI19,Přehled_body!$A$3:$A$130,0),MATCH(Tabulka!L$2,Přehled_body!$E$1:$ED$1,0)),)))","v":0},{"$f":"IF(IFERROR(INDEX(Přehled_body!$E$3:$ED$130,MATCH(Tabulka!$AI19,Přehled_body!$A$3:$A$130,0),MATCH(Tabulka!M$2,Přehled_body!$E$1:$ED$1,0)),)=\"\",,IF(IFERROR(INDEX(Přehled_body!$E$3:$ED$130,MATCH(Tabulka!$AI19,Přehled_body!$A$3:$A$130,0),MATCH(Tabulka!M$2,Přehled_body!$E$1:$ED$1,0)),)=0,0.00000000001,IFERROR(INDEX(Přehled_body!$E$3:$ED$130,MATCH(Tabulka!$AI19,Přehled_body!$A$3:$A$130,0),MATCH(Tabulka!M$2,Přehled_body!$E$1:$ED$1,0)),)))","v":0},{"$f":"IF(IFERROR(INDEX(Přehled_body!$E$3:$ED$130,MATCH(Tabulka!$AI19,Přehled_body!$A$3:$A$130,0),MATCH(Tabulka!N$2,Přehled_body!$E$1:$ED$1,0)),)=\"\",,IF(IFERROR(INDEX(Přehled_body!$E$3:$ED$130,MATCH(Tabulka!$AI19,Přehled_body!$A$3:$A$130,0),MATCH(Tabulka!N$2,Přehled_body!$E$1:$ED$1,0)),)=0,0.00000000001,IFERROR(INDEX(Přehled_body!$E$3:$ED$130,MATCH(Tabulka!$AI19,Přehled_body!$A$3:$A$130,0),MATCH(Tabulka!N$2,Přehled_body!$E$1:$ED$1,0)),)))","v":0},{"$f":"IF(IFERROR(INDEX(Přehled_body!$E$3:$ED$130,MATCH(Tabulka!$AI19,Přehled_body!$A$3:$A$130,0),MATCH(Tabulka!O$2,Přehled_body!$E$1:$ED$1,0)),)=\"\",,IF(IFERROR(INDEX(Přehled_body!$E$3:$ED$130,MATCH(Tabulka!$AI19,Přehled_body!$A$3:$A$130,0),MATCH(Tabulka!O$2,Přehled_body!$E$1:$ED$1,0)),)=0,0.00000000001,IFERROR(INDEX(Přehled_body!$E$3:$ED$130,MATCH(Tabulka!$AI19,Přehled_body!$A$3:$A$130,0),MATCH(Tabulka!O$2,Přehled_body!$E$1:$ED$1,0)),)))","v":0},{"$f":"IF(IFERROR(INDEX(Přehled_body!$E$3:$ED$130,MATCH(Tabulka!$AI19,Přehled_body!$A$3:$A$130,0),MATCH(Tabulka!P$2,Přehled_body!$E$1:$ED$1,0)),)=\"\",,IF(IFERROR(INDEX(Přehled_body!$E$3:$ED$130,MATCH(Tabulka!$AI19,Přehled_body!$A$3:$A$130,0),MATCH(Tabulka!P$2,Přehled_body!$E$1:$ED$1,0)),)=0,0.00000000001,IFERROR(INDEX(Přehled_body!$E$3:$ED$130,MATCH(Tabulka!$AI19,Přehled_body!$A$3:$A$130,0),MATCH(Tabulka!P$2,Přehled_body!$E$1:$ED$1,0)),)))","v":0},{"$f":"IF(IFERROR(INDEX(Přehled_body!$E$3:$ED$130,MATCH(Tabulka!$AI19,Přehled_body!$A$3:$A$130,0),MATCH(Tabulka!Q$2,Přehled_body!$E$1:$ED$1,0)),)=\"\",,IF(IFERROR(INDEX(Přehled_body!$E$3:$ED$130,MATCH(Tabulka!$AI19,Přehled_body!$A$3:$A$130,0),MATCH(Tabulka!Q$2,Přehled_body!$E$1:$ED$1,0)),)=0,0.00000000001,IFERROR(INDEX(Přehled_body!$E$3:$ED$130,MATCH(Tabulka!$AI19,Přehled_body!$A$3:$A$130,0),MATCH(Tabulka!Q$2,Přehled_body!$E$1:$ED$1,0)),)))","v":0},{"$f":"IF(IFERROR(INDEX(Přehled_body!$E$3:$ED$130,MATCH(Tabulka!$AI19,Přehled_body!$A$3:$A$130,0),MATCH(Tabulka!R$2,Přehled_body!$E$1:$ED$1,0)),)=\"\",,IF(IFERROR(INDEX(Přehled_body!$E$3:$ED$130,MATCH(Tabulka!$AI19,Přehled_body!$A$3:$A$130,0),MATCH(Tabulka!R$2,Přehled_body!$E$1:$ED$1,0)),)=0,0.00000000001,IFERROR(INDEX(Přehled_body!$E$3:$ED$130,MATCH(Tabulka!$AI19,Přehled_body!$A$3:$A$130,0),MATCH(Tabulka!R$2,Přehled_body!$E$1:$ED$1,0)),)))","v":0},{"$f":"IF(IFERROR(INDEX(Přehled_body!$E$3:$ED$130,MATCH(Tabulka!$AI19,Přehled_body!$A$3:$A$130,0),MATCH(Tabulka!S$2,Přehled_body!$E$1:$ED$1,0)),)=\"\",,IF(IFERROR(INDEX(Přehled_body!$E$3:$ED$130,MATCH(Tabulka!$AI19,Přehled_body!$A$3:$A$130,0),MATCH(Tabulka!S$2,Přehled_body!$E$1:$ED$1,0)),)=0,0.00000000001,IFERROR(INDEX(Přehled_body!$E$3:$ED$130,MATCH(Tabulka!$AI19,Přehled_body!$A$3:$A$130,0),MATCH(Tabulka!S$2,Přehled_body!$E$1:$ED$1,0)),)))","v":0},{"$f":"IF(IFERROR(INDEX(Přehled_body!$E$3:$ED$130,MATCH(Tabulka!$AI19,Přehled_body!$A$3:$A$130,0),MATCH(Tabulka!T$2,Přehled_body!$E$1:$ED$1,0)),)=\"\",,IF(IFERROR(INDEX(Přehled_body!$E$3:$ED$130,MATCH(Tabulka!$AI19,Přehled_body!$A$3:$A$130,0),MATCH(Tabulka!T$2,Přehled_body!$E$1:$ED$1,0)),)=0,0.00000000001,IFERROR(INDEX(Přehled_body!$E$3:$ED$130,MATCH(Tabulka!$AI19,Přehled_body!$A$3:$A$130,0),MATCH(Tabulka!T$2,Přehled_body!$E$1:$ED$1,0)),)))","v":0},{"$f":"IF(IFERROR(INDEX(Přehled_body!$E$3:$ED$130,MATCH(Tabulka!$AI19,Přehled_body!$A$3:$A$130,0),MATCH(Tabulka!U$2,Přehled_body!$E$1:$ED$1,0)),)=\"\",,IF(IFERROR(INDEX(Přehled_body!$E$3:$ED$130,MATCH(Tabulka!$AI19,Přehled_body!$A$3:$A$130,0),MATCH(Tabulka!U$2,Přehled_body!$E$1:$ED$1,0)),)=0,0.00000000001,IFERROR(INDEX(Přehled_body!$E$3:$ED$130,MATCH(Tabulka!$AI19,Přehled_body!$A$3:$A$130,0),MATCH(Tabulka!U$2,Přehled_body!$E$1:$ED$1,0)),)))","v":0},{"$f":"IF(IFERROR(INDEX(Přehled_body!$E$3:$ED$130,MATCH(Tabulka!$AI19,Přehled_body!$A$3:$A$130,0),MATCH(Tabulka!V$2,Přehled_body!$E$1:$ED$1,0)),)=\"\",,IF(IFERROR(INDEX(Přehled_body!$E$3:$ED$130,MATCH(Tabulka!$AI19,Přehled_body!$A$3:$A$130,0),MATCH(Tabulka!V$2,Přehled_body!$E$1:$ED$1,0)),)=0,0.00000000001,IFERROR(INDEX(Přehled_body!$E$3:$ED$130,MATCH(Tabulka!$AI19,Přehled_body!$A$3:$A$130,0),MATCH(Tabulka!V$2,Přehled_body!$E$1:$ED$1,0)),)))","v":0},{"$f":"IF(IFERROR(INDEX(Přehled_body!$E$3:$ED$130,MATCH(Tabulka!$AI19,Přehled_body!$A$3:$A$130,0),MATCH(Tabulka!W$2,Přehled_body!$E$1:$ED$1,0)),)=\"\",,IF(IFERROR(INDEX(Přehled_body!$E$3:$ED$130,MATCH(Tabulka!$AI19,Přehled_body!$A$3:$A$130,0),MATCH(Tabulka!W$2,Přehled_body!$E$1:$ED$1,0)),)=0,0.00000000001,IFERROR(INDEX(Přehled_body!$E$3:$ED$130,MATCH(Tabulka!$AI19,Přehled_body!$A$3:$A$130,0),MATCH(Tabulka!W$2,Přehled_body!$E$1:$ED$1,0)),)))","v":0},{"$f":"IF(IFERROR(INDEX(Přehled_body!$E$3:$ED$130,MATCH(Tabulka!$AI19,Přehled_body!$A$3:$A$130,0),MATCH(Tabulka!X$2,Přehled_body!$E$1:$ED$1,0)),)=\"\",,IF(IFERROR(INDEX(Přehled_body!$E$3:$ED$130,MATCH(Tabulka!$AI19,Přehled_body!$A$3:$A$130,0),MATCH(Tabulka!X$2,Přehled_body!$E$1:$ED$1,0)),)=0,0.00000000001,IFERROR(INDEX(Přehled_body!$E$3:$ED$130,MATCH(Tabulka!$AI19,Přehled_body!$A$3:$A$130,0),MATCH(Tabulka!X$2,Přehled_body!$E$1:$ED$1,0)),)))","v":0},{"$f":"IF(IFERROR(INDEX(Přehled_body!$E$3:$ED$130,MATCH(Tabulka!$AI19,Přehled_body!$A$3:$A$130,0),MATCH(Tabulka!Y$2,Přehled_body!$E$1:$ED$1,0)),)=\"\",,IF(IFERROR(INDEX(Přehled_body!$E$3:$ED$130,MATCH(Tabulka!$AI19,Přehled_body!$A$3:$A$130,0),MATCH(Tabulka!Y$2,Přehled_body!$E$1:$ED$1,0)),)=0,0.00000000001,IFERROR(INDEX(Přehled_body!$E$3:$ED$130,MATCH(Tabulka!$AI19,Přehled_body!$A$3:$A$130,0),MATCH(Tabulka!Y$2,Přehled_body!$E$1:$ED$1,0)),)))","v":0},{"$f":"IF(IFERROR(INDEX(Přehled_body!$E$3:$ED$130,MATCH(Tabulka!$AI19,Přehled_body!$A$3:$A$130,0),MATCH(Tabulka!Z$2,Přehled_body!$E$1:$ED$1,0)),)=\"\",,IF(IFERROR(INDEX(Přehled_body!$E$3:$ED$130,MATCH(Tabulka!$AI19,Přehled_body!$A$3:$A$130,0),MATCH(Tabulka!Z$2,Přehled_body!$E$1:$ED$1,0)),)=0,0.00000000001,IFERROR(INDEX(Přehled_body!$E$3:$ED$130,MATCH(Tabulka!$AI19,Přehled_body!$A$3:$A$130,0),MATCH(Tabulka!Z$2,Přehled_body!$E$1:$ED$1,0)),)))","v":0},{"$f":"IF(IFERROR(INDEX(Přehled_body!$E$3:$ED$130,MATCH(Tabulka!$AI19,Přehled_body!$A$3:$A$130,0),MATCH(Tabulka!AA$2,Přehled_body!$E$1:$ED$1,0)),)=\"\",,IF(IFERROR(INDEX(Přehled_body!$E$3:$ED$130,MATCH(Tabulka!$AI19,Přehled_body!$A$3:$A$130,0),MATCH(Tabulka!AA$2,Přehled_body!$E$1:$ED$1,0)),)=0,0.00000000001,IFERROR(INDEX(Přehled_body!$E$3:$ED$130,MATCH(Tabulka!$AI19,Přehled_body!$A$3:$A$130,0),MATCH(Tabulka!AA$2,Přehled_body!$E$1:$ED$1,0)),)))","v":0},{"$f":"IF(IFERROR(INDEX(Přehled_body!$E$3:$ED$130,MATCH(Tabulka!$AI19,Přehled_body!$A$3:$A$130,0),MATCH(Tabulka!AB$2,Přehled_body!$E$1:$ED$1,0)),)=\"\",,IF(IFERROR(INDEX(Přehled_body!$E$3:$ED$130,MATCH(Tabulka!$AI19,Přehled_body!$A$3:$A$130,0),MATCH(Tabulka!AB$2,Přehled_body!$E$1:$ED$1,0)),)=0,0.00000000001,IFERROR(INDEX(Přehled_body!$E$3:$ED$130,MATCH(Tabulka!$AI19,Přehled_body!$A$3:$A$130,0),MATCH(Tabulka!AB$2,Přehled_body!$E$1:$ED$1,0)),)))","v":0},{"$f":"IF(IFERROR(INDEX(Přehled_body!$E$3:$ED$130,MATCH(Tabulka!$AI19,Přehled_body!$A$3:$A$130,0),MATCH(Tabulka!AC$2,Přehled_body!$E$1:$ED$1,0)),)=\"\",,IF(IFERROR(INDEX(Přehled_body!$E$3:$ED$130,MATCH(Tabulka!$AI19,Přehled_body!$A$3:$A$130,0),MATCH(Tabulka!AC$2,Přehled_body!$E$1:$ED$1,0)),)=0,0.00000000001,IFERROR(INDEX(Přehled_body!$E$3:$ED$130,MATCH(Tabulka!$AI19,Přehled_body!$A$3:$A$130,0),MATCH(Tabulka!AC$2,Přehled_body!$E$1:$ED$1,0)),)))","v":0},{"$f":"IF(IFERROR(INDEX(Přehled_body!$E$3:$ED$130,MATCH(Tabulka!$AI19,Přehled_body!$A$3:$A$130,0),MATCH(Tabulka!AD$2,Přehled_body!$E$1:$ED$1,0)),)=\"\",,IF(IFERROR(INDEX(Přehled_body!$E$3:$ED$130,MATCH(Tabulka!$AI19,Přehled_body!$A$3:$A$130,0),MATCH(Tabulka!AD$2,Přehled_body!$E$1:$ED$1,0)),)=0,0.00000000001,IFERROR(INDEX(Přehled_body!$E$3:$ED$130,MATCH(Tabulka!$AI19,Přehled_body!$A$3:$A$130,0),MATCH(Tabulka!AD$2,Přehled_body!$E$1:$ED$1,0)),)))","v":0},{"$f":"IF(SUM(AG19)<2,-90000+SUM(D19:AD19),SUM(D19:AD19))","v":-90000},null,{"$f":"COUNTIF(D19:AD19,\">0\")","v":0},0,{"$f":"CONCATENATE($B$20,\" \",$B$21,C19)","v":"Pavel PernekrVýhry"},null,null,0]
[{"$f":"CONCATENATE(B20,\" \",B21)","v":"Pavel Pernekr"},"Pavel","Prohry",{"$f":"IF(IFERROR(INDEX(Přehled_body!$E$3:$ED$130,MATCH(Tabulka!$AI20,Přehled_body!$A$3:$A$130,0),MATCH(Tabulka!D$2,Přehled_body!$E$1:$ED$1,0)),)=\"\",,IF(IFERROR(INDEX(Přehled_body!$E$3:$ED$130,MATCH(Tabulka!$AI20,Přehled_body!$A$3:$A$130,0),MATCH(Tabulka!D$2,Přehled_body!$E$1:$ED$1,0)),)=0,0.00000000001,IFERROR(INDEX(Přehled_body!$E$3:$ED$130,MATCH(Tabulka!$AI20,Přehled_body!$A$3:$A$130,0),MATCH(Tabulka!D$2,Přehled_body!$E$1:$ED$1,0)),)))","v":0},{"$f":"IF(IFERROR(INDEX(Přehled_body!$E$3:$ED$130,MATCH(Tabulka!$AI20,Přehled_body!$A$3:$A$130,0),MATCH(Tabulka!E$2,Přehled_body!$E$1:$ED$1,0)),)=\"\",,IF(IFERROR(INDEX(Přehled_body!$E$3:$ED$130,MATCH(Tabulka!$AI20,Přehled_body!$A$3:$A$130,0),MATCH(Tabulka!E$2,Přehled_body!$E$1:$ED$1,0)),)=0,0.00000000001,IFERROR(INDEX(Přehled_body!$E$3:$ED$130,MATCH(Tabulka!$AI20,Přehled_body!$A$3:$A$130,0),MATCH(Tabulka!E$2,Přehled_body!$E$1:$ED$1,0)),)))","v":0},{"$f":"IF(IFERROR(INDEX(Přehled_body!$E$3:$ED$130,MATCH(Tabulka!$AI20,Přehled_body!$A$3:$A$130,0),MATCH(Tabulka!F$2,Přehled_body!$E$1:$ED$1,0)),)=\"\",,IF(IFERROR(INDEX(Přehled_body!$E$3:$ED$130,MATCH(Tabulka!$AI20,Přehled_body!$A$3:$A$130,0),MATCH(Tabulka!F$2,Přehled_body!$E$1:$ED$1,0)),)=0,0.00000000001,IFERROR(INDEX(Přehled_body!$E$3:$ED$130,MATCH(Tabulka!$AI20,Přehled_body!$A$3:$A$130,0),MATCH(Tabulka!F$2,Přehled_body!$E$1:$ED$1,0)),)))","v":0},{"$f":"IF(IFERROR(INDEX(Přehled_body!$E$3:$ED$130,MATCH(Tabulka!$AI20,Přehled_body!$A$3:$A$130,0),MATCH(Tabulka!G$2,Přehled_body!$E$1:$ED$1,0)),)=\"\",,IF(IFERROR(INDEX(Přehled_body!$E$3:$ED$130,MATCH(Tabulka!$AI20,Přehled_body!$A$3:$A$130,0),MATCH(Tabulka!G$2,Přehled_body!$E$1:$ED$1,0)),)=0,0.00000000001,IFERROR(INDEX(Přehled_body!$E$3:$ED$130,MATCH(Tabulka!$AI20,Přehled_body!$A$3:$A$130,0),MATCH(Tabulka!G$2,Přehled_body!$E$1:$ED$1,0)),)))","v":0},{"$f":"IF(IFERROR(INDEX(Přehled_body!$E$3:$ED$130,MATCH(Tabulka!$AI20,Přehled_body!$A$3:$A$130,0),MATCH(Tabulka!H$2,Přehled_body!$E$1:$ED$1,0)),)=\"\",,IF(IFERROR(INDEX(Přehled_body!$E$3:$ED$130,MATCH(Tabulka!$AI20,Přehled_body!$A$3:$A$130,0),MATCH(Tabulka!H$2,Přehled_body!$E$1:$ED$1,0)),)=0,0.00000000001,IFERROR(INDEX(Přehled_body!$E$3:$ED$130,MATCH(Tabulka!$AI20,Přehled_body!$A$3:$A$130,0),MATCH(Tabulka!H$2,Přehled_body!$E$1:$ED$1,0)),)))","v":0},{"$f":"IF(IFERROR(INDEX(Přehled_body!$E$3:$ED$130,MATCH(Tabulka!$AI20,Přehled_body!$A$3:$A$130,0),MATCH(Tabulka!I$2,Přehled_body!$E$1:$ED$1,0)),)=\"\",,IF(IFERROR(INDEX(Přehled_body!$E$3:$ED$130,MATCH(Tabulka!$AI20,Přehled_body!$A$3:$A$130,0),MATCH(Tabulka!I$2,Přehled_body!$E$1:$ED$1,0)),)=0,0.00000000001,IFERROR(INDEX(Přehled_body!$E$3:$ED$130,MATCH(Tabulka!$AI20,Přehled_body!$A$3:$A$130,0),MATCH(Tabulka!I$2,Přehled_body!$E$1:$ED$1,0)),)))","v":0},{"$f":"IF(IFERROR(INDEX(Přehled_body!$E$3:$ED$130,MATCH(Tabulka!$AI20,Přehled_body!$A$3:$A$130,0),MATCH(Tabulka!J$2,Přehled_body!$E$1:$ED$1,0)),)=\"\",,IF(IFERROR(INDEX(Přehled_body!$E$3:$ED$130,MATCH(Tabulka!$AI20,Přehled_body!$A$3:$A$130,0),MATCH(Tabulka!J$2,Přehled_body!$E$1:$ED$1,0)),)=0,0.00000000001,IFERROR(INDEX(Přehled_body!$E$3:$ED$130,MATCH(Tabulka!$AI20,Přehled_body!$A$3:$A$130,0),MATCH(Tabulka!J$2,Přehled_body!$E$1:$ED$1,0)),)))","v":0},{"$f":"IF(IFERROR(INDEX(Přehled_body!$E$3:$ED$130,MATCH(Tabulka!$AI20,Přehled_body!$A$3:$A$130,0),MATCH(Tabulka!K$2,Přehled_body!$E$1:$ED$1,0)),)=\"\",,IF(IFERROR(INDEX(Přehled_body!$E$3:$ED$130,MATCH(Tabulka!$AI20,Přehled_body!$A$3:$A$130,0),MATCH(Tabulka!K$2,Přehled_body!$E$1:$ED$1,0)),)=0,0.00000000001,IFERROR(INDEX(Přehled_body!$E$3:$ED$130,MATCH(Tabulka!$AI20,Přehled_body!$A$3:$A$130,0),MATCH(Tabulka!K$2,Přehled_body!$E$1:$ED$1,0)),)))","v":0},{"$f":"IF(IFERROR(INDEX(Přehled_body!$E$3:$ED$130,MATCH(Tabulka!$AI20,Přehled_body!$A$3:$A$130,0),MATCH(Tabulka!L$2,Přehled_body!$E$1:$ED$1,0)),)=\"\",,IF(IFERROR(INDEX(Přehled_body!$E$3:$ED$130,MATCH(Tabulka!$AI20,Přehled_body!$A$3:$A$130,0),MATCH(Tabulka!L$2,Přehled_body!$E$1:$ED$1,0)),)=0,0.00000000001,IFERROR(INDEX(Přehled_body!$E$3:$ED$130,MATCH(Tabulka!$AI20,Přehled_body!$A$3:$A$130,0),MATCH(Tabulka!L$2,Přehled_body!$E$1:$ED$1,0)),)))","v":0},{"$f":"IF(IFERROR(INDEX(Přehled_body!$E$3:$ED$130,MATCH(Tabulka!$AI20,Přehled_body!$A$3:$A$130,0),MATCH(Tabulka!M$2,Přehled_body!$E$1:$ED$1,0)),)=\"\",,IF(IFERROR(INDEX(Přehled_body!$E$3:$ED$130,MATCH(Tabulka!$AI20,Přehled_body!$A$3:$A$130,0),MATCH(Tabulka!M$2,Přehled_body!$E$1:$ED$1,0)),)=0,0.00000000001,IFERROR(INDEX(Přehled_body!$E$3:$ED$130,MATCH(Tabulka!$AI20,Přehled_body!$A$3:$A$130,0),MATCH(Tabulka!M$2,Přehled_body!$E$1:$ED$1,0)),)))","v":0},{"$f":"IF(IFERROR(INDEX(Přehled_body!$E$3:$ED$130,MATCH(Tabulka!$AI20,Přehled_body!$A$3:$A$130,0),MATCH(Tabulka!N$2,Přehled_body!$E$1:$ED$1,0)),)=\"\",,IF(IFERROR(INDEX(Přehled_body!$E$3:$ED$130,MATCH(Tabulka!$AI20,Přehled_body!$A$3:$A$130,0),MATCH(Tabulka!N$2,Přehled_body!$E$1:$ED$1,0)),)=0,0.00000000001,IFERROR(INDEX(Přehled_body!$E$3:$ED$130,MATCH(Tabulka!$AI20,Přehled_body!$A$3:$A$130,0),MATCH(Tabulka!N$2,Přehled_body!$E$1:$ED$1,0)),)))","v":0},{"$f":"IF(IFERROR(INDEX(Přehled_body!$E$3:$ED$130,MATCH(Tabulka!$AI20,Přehled_body!$A$3:$A$130,0),MATCH(Tabulka!O$2,Přehled_body!$E$1:$ED$1,0)),)=\"\",,IF(IFERROR(INDEX(Přehled_body!$E$3:$ED$130,MATCH(Tabulka!$AI20,Přehled_body!$A$3:$A$130,0),MATCH(Tabulka!O$2,Přehled_body!$E$1:$ED$1,0)),)=0,0.00000000001,IFERROR(INDEX(Přehled_body!$E$3:$ED$130,MATCH(Tabulka!$AI20,Přehled_body!$A$3:$A$130,0),MATCH(Tabulka!O$2,Přehled_body!$E$1:$ED$1,0)),)))","v":0},{"$f":"IF(IFERROR(INDEX(Přehled_body!$E$3:$ED$130,MATCH(Tabulka!$AI20,Přehled_body!$A$3:$A$130,0),MATCH(Tabulka!P$2,Přehled_body!$E$1:$ED$1,0)),)=\"\",,IF(IFERROR(INDEX(Přehled_body!$E$3:$ED$130,MATCH(Tabulka!$AI20,Přehled_body!$A$3:$A$130,0),MATCH(Tabulka!P$2,Přehled_body!$E$1:$ED$1,0)),)=0,0.00000000001,IFERROR(INDEX(Přehled_body!$E$3:$ED$130,MATCH(Tabulka!$AI20,Přehled_body!$A$3:$A$130,0),MATCH(Tabulka!P$2,Přehled_body!$E$1:$ED$1,0)),)))","v":0},{"$f":"IF(IFERROR(INDEX(Přehled_body!$E$3:$ED$130,MATCH(Tabulka!$AI20,Přehled_body!$A$3:$A$130,0),MATCH(Tabulka!Q$2,Přehled_body!$E$1:$ED$1,0)),)=\"\",,IF(IFERROR(INDEX(Přehled_body!$E$3:$ED$130,MATCH(Tabulka!$AI20,Přehled_body!$A$3:$A$130,0),MATCH(Tabulka!Q$2,Přehled_body!$E$1:$ED$1,0)),)=0,0.00000000001,IFERROR(INDEX(Přehled_body!$E$3:$ED$130,MATCH(Tabulka!$AI20,Přehled_body!$A$3:$A$130,0),MATCH(Tabulka!Q$2,Přehled_body!$E$1:$ED$1,0)),)))","v":0},{"$f":"IF(IFERROR(INDEX(Přehled_body!$E$3:$ED$130,MATCH(Tabulka!$AI20,Přehled_body!$A$3:$A$130,0),MATCH(Tabulka!R$2,Přehled_body!$E$1:$ED$1,0)),)=\"\",,IF(IFERROR(INDEX(Přehled_body!$E$3:$ED$130,MATCH(Tabulka!$AI20,Přehled_body!$A$3:$A$130,0),MATCH(Tabulka!R$2,Přehled_body!$E$1:$ED$1,0)),)=0,0.00000000001,IFERROR(INDEX(Přehled_body!$E$3:$ED$130,MATCH(Tabulka!$AI20,Přehled_body!$A$3:$A$130,0),MATCH(Tabulka!R$2,Přehled_body!$E$1:$ED$1,0)),)))","v":0},{"$f":"IF(IFERROR(INDEX(Přehled_body!$E$3:$ED$130,MATCH(Tabulka!$AI20,Přehled_body!$A$3:$A$130,0),MATCH(Tabulka!S$2,Přehled_body!$E$1:$ED$1,0)),)=\"\",,IF(IFERROR(INDEX(Přehled_body!$E$3:$ED$130,MATCH(Tabulka!$AI20,Přehled_body!$A$3:$A$130,0),MATCH(Tabulka!S$2,Přehled_body!$E$1:$ED$1,0)),)=0,0.00000000001,IFERROR(INDEX(Přehled_body!$E$3:$ED$130,MATCH(Tabulka!$AI20,Přehled_body!$A$3:$A$130,0),MATCH(Tabulka!S$2,Přehled_body!$E$1:$ED$1,0)),)))","v":0},{"$f":"IF(IFERROR(INDEX(Přehled_body!$E$3:$ED$130,MATCH(Tabulka!$AI20,Přehled_body!$A$3:$A$130,0),MATCH(Tabulka!T$2,Přehled_body!$E$1:$ED$1,0)),)=\"\",,IF(IFERROR(INDEX(Přehled_body!$E$3:$ED$130,MATCH(Tabulka!$AI20,Přehled_body!$A$3:$A$130,0),MATCH(Tabulka!T$2,Přehled_body!$E$1:$ED$1,0)),)=0,0.00000000001,IFERROR(INDEX(Přehled_body!$E$3:$ED$130,MATCH(Tabulka!$AI20,Přehled_body!$A$3:$A$130,0),MATCH(Tabulka!T$2,Přehled_body!$E$1:$ED$1,0)),)))","v":0},{"$f":"IF(IFERROR(INDEX(Přehled_body!$E$3:$ED$130,MATCH(Tabulka!$AI20,Přehled_body!$A$3:$A$130,0),MATCH(Tabulka!U$2,Přehled_body!$E$1:$ED$1,0)),)=\"\",,IF(IFERROR(INDEX(Přehled_body!$E$3:$ED$130,MATCH(Tabulka!$AI20,Přehled_body!$A$3:$A$130,0),MATCH(Tabulka!U$2,Přehled_body!$E$1:$ED$1,0)),)=0,0.00000000001,IFERROR(INDEX(Přehled_body!$E$3:$ED$130,MATCH(Tabulka!$AI20,Přehled_body!$A$3:$A$130,0),MATCH(Tabulka!U$2,Přehled_body!$E$1:$ED$1,0)),)))","v":0},{"$f":"IF(IFERROR(INDEX(Přehled_body!$E$3:$ED$130,MATCH(Tabulka!$AI20,Přehled_body!$A$3:$A$130,0),MATCH(Tabulka!V$2,Přehled_body!$E$1:$ED$1,0)),)=\"\",,IF(IFERROR(INDEX(Přehled_body!$E$3:$ED$130,MATCH(Tabulka!$AI20,Přehled_body!$A$3:$A$130,0),MATCH(Tabulka!V$2,Přehled_body!$E$1:$ED$1,0)),)=0,0.00000000001,IFERROR(INDEX(Přehled_body!$E$3:$ED$130,MATCH(Tabulka!$AI20,Přehled_body!$A$3:$A$130,0),MATCH(Tabulka!V$2,Přehled_body!$E$1:$ED$1,0)),)))","v":0},{"$f":"IF(IFERROR(INDEX(Přehled_body!$E$3:$ED$130,MATCH(Tabulka!$AI20,Přehled_body!$A$3:$A$130,0),MATCH(Tabulka!W$2,Přehled_body!$E$1:$ED$1,0)),)=\"\",,IF(IFERROR(INDEX(Přehled_body!$E$3:$ED$130,MATCH(Tabulka!$AI20,Přehled_body!$A$3:$A$130,0),MATCH(Tabulka!W$2,Přehled_body!$E$1:$ED$1,0)),)=0,0.00000000001,IFERROR(INDEX(Přehled_body!$E$3:$ED$130,MATCH(Tabulka!$AI20,Přehled_body!$A$3:$A$130,0),MATCH(Tabulka!W$2,Přehled_body!$E$1:$ED$1,0)),)))","v":0},{"$f":"IF(IFERROR(INDEX(Přehled_body!$E$3:$ED$130,MATCH(Tabulka!$AI20,Přehled_body!$A$3:$A$130,0),MATCH(Tabulka!X$2,Přehled_body!$E$1:$ED$1,0)),)=\"\",,IF(IFERROR(INDEX(Přehled_body!$E$3:$ED$130,MATCH(Tabulka!$AI20,Přehled_body!$A$3:$A$130,0),MATCH(Tabulka!X$2,Přehled_body!$E$1:$ED$1,0)),)=0,0.00000000001,IFERROR(INDEX(Přehled_body!$E$3:$ED$130,MATCH(Tabulka!$AI20,Přehled_body!$A$3:$A$130,0),MATCH(Tabulka!X$2,Přehled_body!$E$1:$ED$1,0)),)))","v":0},{"$f":"IF(IFERROR(INDEX(Přehled_body!$E$3:$ED$130,MATCH(Tabulka!$AI20,Přehled_body!$A$3:$A$130,0),MATCH(Tabulka!Y$2,Přehled_body!$E$1:$ED$1,0)),)=\"\",,IF(IFERROR(INDEX(Přehled_body!$E$3:$ED$130,MATCH(Tabulka!$AI20,Přehled_body!$A$3:$A$130,0),MATCH(Tabulka!Y$2,Přehled_body!$E$1:$ED$1,0)),)=0,0.00000000001,IFERROR(INDEX(Přehled_body!$E$3:$ED$130,MATCH(Tabulka!$AI20,Přehled_body!$A$3:$A$130,0),MATCH(Tabulka!Y$2,Přehled_body!$E$1:$ED$1,0)),)))","v":0},{"$f":"IF(IFERROR(INDEX(Přehled_body!$E$3:$ED$130,MATCH(Tabulka!$AI20,Přehled_body!$A$3:$A$130,0),MATCH(Tabulka!Z$2,Přehled_body!$E$1:$ED$1,0)),)=\"\",,IF(IFERROR(INDEX(Přehled_body!$E$3:$ED$130,MATCH(Tabulka!$AI20,Přehled_body!$A$3:$A$130,0),MATCH(Tabulka!Z$2,Přehled_body!$E$1:$ED$1,0)),)=0,0.00000000001,IFERROR(INDEX(Přehled_body!$E$3:$ED$130,MATCH(Tabulka!$AI20,Přehled_body!$A$3:$A$130,0),MATCH(Tabulka!Z$2,Přehled_body!$E$1:$ED$1,0)),)))","v":0},{"$f":"IF(IFERROR(INDEX(Přehled_body!$E$3:$ED$130,MATCH(Tabulka!$AI20,Přehled_body!$A$3:$A$130,0),MATCH(Tabulka!AA$2,Přehled_body!$E$1:$ED$1,0)),)=\"\",,IF(IFERROR(INDEX(Přehled_body!$E$3:$ED$130,MATCH(Tabulka!$AI20,Přehled_body!$A$3:$A$130,0),MATCH(Tabulka!AA$2,Přehled_body!$E$1:$ED$1,0)),)=0,0.00000000001,IFERROR(INDEX(Přehled_body!$E$3:$ED$130,MATCH(Tabulka!$AI20,Přehled_body!$A$3:$A$130,0),MATCH(Tabulka!AA$2,Přehled_body!$E$1:$ED$1,0)),)))","v":0},{"$f":"IF(IFERROR(INDEX(Přehled_body!$E$3:$ED$130,MATCH(Tabulka!$AI20,Přehled_body!$A$3:$A$130,0),MATCH(Tabulka!AB$2,Přehled_body!$E$1:$ED$1,0)),)=\"\",,IF(IFERROR(INDEX(Přehled_body!$E$3:$ED$130,MATCH(Tabulka!$AI20,Přehled_body!$A$3:$A$130,0),MATCH(Tabulka!AB$2,Přehled_body!$E$1:$ED$1,0)),)=0,0.00000000001,IFERROR(INDEX(Přehled_body!$E$3:$ED$130,MATCH(Tabulka!$AI20,Přehled_body!$A$3:$A$130,0),MATCH(Tabulka!AB$2,Přehled_body!$E$1:$ED$1,0)),)))","v":0},{"$f":"IF(IFERROR(INDEX(Přehled_body!$E$3:$ED$130,MATCH(Tabulka!$AI20,Přehled_body!$A$3:$A$130,0),MATCH(Tabulka!AC$2,Přehled_body!$E$1:$ED$1,0)),)=\"\",,IF(IFERROR(INDEX(Přehled_body!$E$3:$ED$130,MATCH(Tabulka!$AI20,Přehled_body!$A$3:$A$130,0),MATCH(Tabulka!AC$2,Přehled_body!$E$1:$ED$1,0)),)=0,0.00000000001,IFERROR(INDEX(Přehled_body!$E$3:$ED$130,MATCH(Tabulka!$AI20,Přehled_body!$A$3:$A$130,0),MATCH(Tabulka!AC$2,Přehled_body!$E$1:$ED$1,0)),)))","v":0},{"$f":"IF(IFERROR(INDEX(Přehled_body!$E$3:$ED$130,MATCH(Tabulka!$AI20,Přehled_body!$A$3:$A$130,0),MATCH(Tabulka!AD$2,Přehled_body!$E$1:$ED$1,0)),)=\"\",,IF(IFERROR(INDEX(Přehled_body!$E$3:$ED$130,MATCH(Tabulka!$AI20,Přehled_body!$A$3:$A$130,0),MATCH(Tabulka!AD$2,Přehled_body!$E$1:$ED$1,0)),)=0,0.00000000001,IFERROR(INDEX(Přehled_body!$E$3:$ED$130,MATCH(Tabulka!$AI20,Přehled_body!$A$3:$A$130,0),MATCH(Tabulka!AD$2,Přehled_body!$E$1:$ED$1,0)),)))","v":0},{"$f":"IF(SUM(AG19)<2,-90000+SUM(D20:AD20),SUM(D20:AD20))","v":-90000},{"$f":"SUM(AE19-AE20)","v":0},null,0,{"$f":"CONCATENATE($B$20,\" \",$B$21,C20)","v":"Pavel PernekrProhry"},null,null,0,null,null,"Pavel",4]
[{"$f":"CONCATENATE(B21,\" \",B20)","v":"Pernekr Pavel"},"Pernekr","Placeno panáků",{"$f":"IF(IFERROR(INDEX(Přehled_body!$E$3:$ED$130,MATCH(Tabulka!$AI21,Přehled_body!$A$3:$A$130,0),MATCH(Tabulka!D$2,Přehled_body!$E$1:$ED$1,0)),)=\"\",,IF(IFERROR(INDEX(Přehled_body!$E$3:$ED$130,MATCH(Tabulka!$AI21,Přehled_body!$A$3:$A$130,0),MATCH(Tabulka!D$2,Přehled_body!$E$1:$ED$1,0)),)=0,0.00000000001,IFERROR(INDEX(Přehled_body!$E$3:$ED$130,MATCH(Tabulka!$AI21,Přehled_body!$A$3:$A$130,0),MATCH(Tabulka!D$2,Přehled_body!$E$1:$ED$1,0)),)))","v":0},{"$f":"IF(IFERROR(INDEX(Přehled_body!$E$3:$ED$130,MATCH(Tabulka!$AI21,Přehled_body!$A$3:$A$130,0),MATCH(Tabulka!E$2,Přehled_body!$E$1:$ED$1,0)),)=\"\",,IF(IFERROR(INDEX(Přehled_body!$E$3:$ED$130,MATCH(Tabulka!$AI21,Přehled_body!$A$3:$A$130,0),MATCH(Tabulka!E$2,Přehled_body!$E$1:$ED$1,0)),)=0,0.00000000001,IFERROR(INDEX(Přehled_body!$E$3:$ED$130,MATCH(Tabulka!$AI21,Přehled_body!$A$3:$A$130,0),MATCH(Tabulka!E$2,Přehled_body!$E$1:$ED$1,0)),)))","v":0},{"$f":"IF(IFERROR(INDEX(Přehled_body!$E$3:$ED$130,MATCH(Tabulka!$AI21,Přehled_body!$A$3:$A$130,0),MATCH(Tabulka!F$2,Přehled_body!$E$1:$ED$1,0)),)=\"\",,IF(IFERROR(INDEX(Přehled_body!$E$3:$ED$130,MATCH(Tabulka!$AI21,Přehled_body!$A$3:$A$130,0),MATCH(Tabulka!F$2,Přehled_body!$E$1:$ED$1,0)),)=0,0.00000000001,IFERROR(INDEX(Přehled_body!$E$3:$ED$130,MATCH(Tabulka!$AI21,Přehled_body!$A$3:$A$130,0),MATCH(Tabulka!F$2,Přehled_body!$E$1:$ED$1,0)),)))","v":0},{"$f":"IF(IFERROR(INDEX(Přehled_body!$E$3:$ED$130,MATCH(Tabulka!$AI21,Přehled_body!$A$3:$A$130,0),MATCH(Tabulka!G$2,Přehled_body!$E$1:$ED$1,0)),)=\"\",,IF(IFERROR(INDEX(Přehled_body!$E$3:$ED$130,MATCH(Tabulka!$AI21,Přehled_body!$A$3:$A$130,0),MATCH(Tabulka!G$2,Přehled_body!$E$1:$ED$1,0)),)=0,0.00000000001,IFERROR(INDEX(Přehled_body!$E$3:$ED$130,MATCH(Tabulka!$AI21,Přehled_body!$A$3:$A$130,0),MATCH(Tabulka!G$2,Přehled_body!$E$1:$ED$1,0)),)))","v":0},{"$f":"IF(IFERROR(INDEX(Přehled_body!$E$3:$ED$130,MATCH(Tabulka!$AI21,Přehled_body!$A$3:$A$130,0),MATCH(Tabulka!H$2,Přehled_body!$E$1:$ED$1,0)),)=\"\",,IF(IFERROR(INDEX(Přehled_body!$E$3:$ED$130,MATCH(Tabulka!$AI21,Přehled_body!$A$3:$A$130,0),MATCH(Tabulka!H$2,Přehled_body!$E$1:$ED$1,0)),)=0,0.00000000001,IFERROR(INDEX(Přehled_body!$E$3:$ED$130,MATCH(Tabulka!$AI21,Přehled_body!$A$3:$A$130,0),MATCH(Tabulka!H$2,Přehled_body!$E$1:$ED$1,0)),)))","v":0},{"$f":"IF(IFERROR(INDEX(Přehled_body!$E$3:$ED$130,MATCH(Tabulka!$AI21,Přehled_body!$A$3:$A$130,0),MATCH(Tabulka!I$2,Přehled_body!$E$1:$ED$1,0)),)=\"\",,IF(IFERROR(INDEX(Přehled_body!$E$3:$ED$130,MATCH(Tabulka!$AI21,Přehled_body!$A$3:$A$130,0),MATCH(Tabulka!I$2,Přehled_body!$E$1:$ED$1,0)),)=0,0.00000000001,IFERROR(INDEX(Přehled_body!$E$3:$ED$130,MATCH(Tabulka!$AI21,Přehled_body!$A$3:$A$130,0),MATCH(Tabulka!I$2,Přehled_body!$E$1:$ED$1,0)),)))","v":0},{"$f":"IF(IFERROR(INDEX(Přehled_body!$E$3:$ED$130,MATCH(Tabulka!$AI21,Přehled_body!$A$3:$A$130,0),MATCH(Tabulka!J$2,Přehled_body!$E$1:$ED$1,0)),)=\"\",,IF(IFERROR(INDEX(Přehled_body!$E$3:$ED$130,MATCH(Tabulka!$AI21,Přehled_body!$A$3:$A$130,0),MATCH(Tabulka!J$2,Přehled_body!$E$1:$ED$1,0)),)=0,0.00000000001,IFERROR(INDEX(Přehled_body!$E$3:$ED$130,MATCH(Tabulka!$AI21,Přehled_body!$A$3:$A$130,0),MATCH(Tabulka!J$2,Přehled_body!$E$1:$ED$1,0)),)))","v":0},{"$f":"IF(IFERROR(INDEX(Přehled_body!$E$3:$ED$130,MATCH(Tabulka!$AI21,Přehled_body!$A$3:$A$130,0),MATCH(Tabulka!K$2,Přehled_body!$E$1:$ED$1,0)),)=\"\",,IF(IFERROR(INDEX(Přehled_body!$E$3:$ED$130,MATCH(Tabulka!$AI21,Přehled_body!$A$3:$A$130,0),MATCH(Tabulka!K$2,Přehled_body!$E$1:$ED$1,0)),)=0,0.00000000001,IFERROR(INDEX(Přehled_body!$E$3:$ED$130,MATCH(Tabulka!$AI21,Přehled_body!$A$3:$A$130,0),MATCH(Tabulka!K$2,Přehled_body!$E$1:$ED$1,0)),)))","v":0},{"$f":"IF(IFERROR(INDEX(Přehled_body!$E$3:$ED$130,MATCH(Tabulka!$AI21,Přehled_body!$A$3:$A$130,0),MATCH(Tabulka!L$2,Přehled_body!$E$1:$ED$1,0)),)=\"\",,IF(IFERROR(INDEX(Přehled_body!$E$3:$ED$130,MATCH(Tabulka!$AI21,Přehled_body!$A$3:$A$130,0),MATCH(Tabulka!L$2,Přehled_body!$E$1:$ED$1,0)),)=0,0.00000000001,IFERROR(INDEX(Přehled_body!$E$3:$ED$130,MATCH(Tabulka!$AI21,Přehled_body!$A$3:$A$130,0),MATCH(Tabulka!L$2,Přehled_body!$E$1:$ED$1,0)),)))","v":0},{"$f":"IF(IFERROR(INDEX(Přehled_body!$E$3:$ED$130,MATCH(Tabulka!$AI21,Přehled_body!$A$3:$A$130,0),MATCH(Tabulka!M$2,Přehled_body!$E$1:$ED$1,0)),)=\"\",,IF(IFERROR(INDEX(Přehled_body!$E$3:$ED$130,MATCH(Tabulka!$AI21,Přehled_body!$A$3:$A$130,0),MATCH(Tabulka!M$2,Přehled_body!$E$1:$ED$1,0)),)=0,0.00000000001,IFERROR(INDEX(Přehled_body!$E$3:$ED$130,MATCH(Tabulka!$AI21,Přehled_body!$A$3:$A$130,0),MATCH(Tabulka!M$2,Přehled_body!$E$1:$ED$1,0)),)))","v":0},{"$f":"IF(IFERROR(INDEX(Přehled_body!$E$3:$ED$130,MATCH(Tabulka!$AI21,Přehled_body!$A$3:$A$130,0),MATCH(Tabulka!N$2,Přehled_body!$E$1:$ED$1,0)),)=\"\",,IF(IFERROR(INDEX(Přehled_body!$E$3:$ED$130,MATCH(Tabulka!$AI21,Přehled_body!$A$3:$A$130,0),MATCH(Tabulka!N$2,Přehled_body!$E$1:$ED$1,0)),)=0,0.00000000001,IFERROR(INDEX(Přehled_body!$E$3:$ED$130,MATCH(Tabulka!$AI21,Přehled_body!$A$3:$A$130,0),MATCH(Tabulka!N$2,Přehled_body!$E$1:$ED$1,0)),)))","v":0},{"$f":"IF(IFERROR(INDEX(Přehled_body!$E$3:$ED$130,MATCH(Tabulka!$AI21,Přehled_body!$A$3:$A$130,0),MATCH(Tabulka!O$2,Přehled_body!$E$1:$ED$1,0)),)=\"\",,IF(IFERROR(INDEX(Přehled_body!$E$3:$ED$130,MATCH(Tabulka!$AI21,Přehled_body!$A$3:$A$130,0),MATCH(Tabulka!O$2,Přehled_body!$E$1:$ED$1,0)),)=0,0.00000000001,IFERROR(INDEX(Přehled_body!$E$3:$ED$130,MATCH(Tabulka!$AI21,Přehled_body!$A$3:$A$130,0),MATCH(Tabulka!O$2,Přehled_body!$E$1:$ED$1,0)),)))","v":0},{"$f":"IF(IFERROR(INDEX(Přehled_body!$E$3:$ED$130,MATCH(Tabulka!$AI21,Přehled_body!$A$3:$A$130,0),MATCH(Tabulka!P$2,Přehled_body!$E$1:$ED$1,0)),)=\"\",,IF(IFERROR(INDEX(Přehled_body!$E$3:$ED$130,MATCH(Tabulka!$AI21,Přehled_body!$A$3:$A$130,0),MATCH(Tabulka!P$2,Přehled_body!$E$1:$ED$1,0)),)=0,0.00000000001,IFERROR(INDEX(Přehled_body!$E$3:$ED$130,MATCH(Tabulka!$AI21,Přehled_body!$A$3:$A$130,0),MATCH(Tabulka!P$2,Přehled_body!$E$1:$ED$1,0)),)))","v":0},{"$f":"IF(IFERROR(INDEX(Přehled_body!$E$3:$ED$130,MATCH(Tabulka!$AI21,Přehled_body!$A$3:$A$130,0),MATCH(Tabulka!Q$2,Přehled_body!$E$1:$ED$1,0)),)=\"\",,IF(IFERROR(INDEX(Přehled_body!$E$3:$ED$130,MATCH(Tabulka!$AI21,Přehled_body!$A$3:$A$130,0),MATCH(Tabulka!Q$2,Přehled_body!$E$1:$ED$1,0)),)=0,0.00000000001,IFERROR(INDEX(Přehled_body!$E$3:$ED$130,MATCH(Tabulka!$AI21,Přehled_body!$A$3:$A$130,0),MATCH(Tabulka!Q$2,Přehled_body!$E$1:$ED$1,0)),)))","v":0},{"$f":"IF(IFERROR(INDEX(Přehled_body!$E$3:$ED$130,MATCH(Tabulka!$AI21,Přehled_body!$A$3:$A$130,0),MATCH(Tabulka!R$2,Přehled_body!$E$1:$ED$1,0)),)=\"\",,IF(IFERROR(INDEX(Přehled_body!$E$3:$ED$130,MATCH(Tabulka!$AI21,Přehled_body!$A$3:$A$130,0),MATCH(Tabulka!R$2,Přehled_body!$E$1:$ED$1,0)),)=0,0.00000000001,IFERROR(INDEX(Přehled_body!$E$3:$ED$130,MATCH(Tabulka!$AI21,Přehled_body!$A$3:$A$130,0),MATCH(Tabulka!R$2,Přehled_body!$E$1:$ED$1,0)),)))","v":0},{"$f":"IF(IFERROR(INDEX(Přehled_body!$E$3:$ED$130,MATCH(Tabulka!$AI21,Přehled_body!$A$3:$A$130,0),MATCH(Tabulka!S$2,Přehled_body!$E$1:$ED$1,0)),)=\"\",,IF(IFERROR(INDEX(Přehled_body!$E$3:$ED$130,MATCH(Tabulka!$AI21,Přehled_body!$A$3:$A$130,0),MATCH(Tabulka!S$2,Přehled_body!$E$1:$ED$1,0)),)=0,0.00000000001,IFERROR(INDEX(Přehled_body!$E$3:$ED$130,MATCH(Tabulka!$AI21,Přehled_body!$A$3:$A$130,0),MATCH(Tabulka!S$2,Přehled_body!$E$1:$ED$1,0)),)))","v":0},{"$f":"IF(IFERROR(INDEX(Přehled_body!$E$3:$ED$130,MATCH(Tabulka!$AI21,Přehled_body!$A$3:$A$130,0),MATCH(Tabulka!T$2,Přehled_body!$E$1:$ED$1,0)),)=\"\",,IF(IFERROR(INDEX(Přehled_body!$E$3:$ED$130,MATCH(Tabulka!$AI21,Přehled_body!$A$3:$A$130,0),MATCH(Tabulka!T$2,Přehled_body!$E$1:$ED$1,0)),)=0,0.00000000001,IFERROR(INDEX(Přehled_body!$E$3:$ED$130,MATCH(Tabulka!$AI21,Přehled_body!$A$3:$A$130,0),MATCH(Tabulka!T$2,Přehled_body!$E$1:$ED$1,0)),)))","v":0},{"$f":"IF(IFERROR(INDEX(Přehled_body!$E$3:$ED$130,MATCH(Tabulka!$AI21,Přehled_body!$A$3:$A$130,0),MATCH(Tabulka!U$2,Přehled_body!$E$1:$ED$1,0)),)=\"\",,IF(IFERROR(INDEX(Přehled_body!$E$3:$ED$130,MATCH(Tabulka!$AI21,Přehled_body!$A$3:$A$130,0),MATCH(Tabulka!U$2,Přehled_body!$E$1:$ED$1,0)),)=0,0.00000000001,IFERROR(INDEX(Přehled_body!$E$3:$ED$130,MATCH(Tabulka!$AI21,Přehled_body!$A$3:$A$130,0),MATCH(Tabulka!U$2,Přehled_body!$E$1:$ED$1,0)),)))","v":0},{"$f":"IF(IFERROR(INDEX(Přehled_body!$E$3:$ED$130,MATCH(Tabulka!$AI21,Přehled_body!$A$3:$A$130,0),MATCH(Tabulka!V$2,Přehled_body!$E$1:$ED$1,0)),)=\"\",,IF(IFERROR(INDEX(Přehled_body!$E$3:$ED$130,MATCH(Tabulka!$AI21,Přehled_body!$A$3:$A$130,0),MATCH(Tabulka!V$2,Přehled_body!$E$1:$ED$1,0)),)=0,0.00000000001,IFERROR(INDEX(Přehled_body!$E$3:$ED$130,MATCH(Tabulka!$AI21,Přehled_body!$A$3:$A$130,0),MATCH(Tabulka!V$2,Přehled_body!$E$1:$ED$1,0)),)))","v":0},{"$f":"IF(IFERROR(INDEX(Přehled_body!$E$3:$ED$130,MATCH(Tabulka!$AI21,Přehled_body!$A$3:$A$130,0),MATCH(Tabulka!W$2,Přehled_body!$E$1:$ED$1,0)),)=\"\",,IF(IFERROR(INDEX(Přehled_body!$E$3:$ED$130,MATCH(Tabulka!$AI21,Přehled_body!$A$3:$A$130,0),MATCH(Tabulka!W$2,Přehled_body!$E$1:$ED$1,0)),)=0,0.00000000001,IFERROR(INDEX(Přehled_body!$E$3:$ED$130,MATCH(Tabulka!$AI21,Přehled_body!$A$3:$A$130,0),MATCH(Tabulka!W$2,Přehled_body!$E$1:$ED$1,0)),)))","v":0},{"$f":"IF(IFERROR(INDEX(Přehled_body!$E$3:$ED$130,MATCH(Tabulka!$AI21,Přehled_body!$A$3:$A$130,0),MATCH(Tabulka!X$2,Přehled_body!$E$1:$ED$1,0)),)=\"\",,IF(IFERROR(INDEX(Přehled_body!$E$3:$ED$130,MATCH(Tabulka!$AI21,Přehled_body!$A$3:$A$130,0),MATCH(Tabulka!X$2,Přehled_body!$E$1:$ED$1,0)),)=0,0.00000000001,IFERROR(INDEX(Přehled_body!$E$3:$ED$130,MATCH(Tabulka!$AI21,Přehled_body!$A$3:$A$130,0),MATCH(Tabulka!X$2,Přehled_body!$E$1:$ED$1,0)),)))","v":0},{"$f":"IF(IFERROR(INDEX(Přehled_body!$E$3:$ED$130,MATCH(Tabulka!$AI21,Přehled_body!$A$3:$A$130,0),MATCH(Tabulka!Y$2,Přehled_body!$E$1:$ED$1,0)),)=\"\",,IF(IFERROR(INDEX(Přehled_body!$E$3:$ED$130,MATCH(Tabulka!$AI21,Přehled_body!$A$3:$A$130,0),MATCH(Tabulka!Y$2,Přehled_body!$E$1:$ED$1,0)),)=0,0.00000000001,IFERROR(INDEX(Přehled_body!$E$3:$ED$130,MATCH(Tabulka!$AI21,Přehled_body!$A$3:$A$130,0),MATCH(Tabulka!Y$2,Přehled_body!$E$1:$ED$1,0)),)))","v":0},{"$f":"IF(IFERROR(INDEX(Přehled_body!$E$3:$ED$130,MATCH(Tabulka!$AI21,Přehled_body!$A$3:$A$130,0),MATCH(Tabulka!Z$2,Přehled_body!$E$1:$ED$1,0)),)=\"\",,IF(IFERROR(INDEX(Přehled_body!$E$3:$ED$130,MATCH(Tabulka!$AI21,Přehled_body!$A$3:$A$130,0),MATCH(Tabulka!Z$2,Přehled_body!$E$1:$ED$1,0)),)=0,0.00000000001,IFERROR(INDEX(Přehled_body!$E$3:$ED$130,MATCH(Tabulka!$AI21,Přehled_body!$A$3:$A$130,0),MATCH(Tabulka!Z$2,Přehled_body!$E$1:$ED$1,0)),)))","v":0},{"$f":"IF(IFERROR(INDEX(Přehled_body!$E$3:$ED$130,MATCH(Tabulka!$AI21,Přehled_body!$A$3:$A$130,0),MATCH(Tabulka!AA$2,Přehled_body!$E$1:$ED$1,0)),)=\"\",,IF(IFERROR(INDEX(Přehled_body!$E$3:$ED$130,MATCH(Tabulka!$AI21,Přehled_body!$A$3:$A$130,0),MATCH(Tabulka!AA$2,Přehled_body!$E$1:$ED$1,0)),)=0,0.00000000001,IFERROR(INDEX(Přehled_body!$E$3:$ED$130,MATCH(Tabulka!$AI21,Přehled_body!$A$3:$A$130,0),MATCH(Tabulka!AA$2,Přehled_body!$E$1:$ED$1,0)),)))","v":0},{"$f":"IF(IFERROR(INDEX(Přehled_body!$E$3:$ED$130,MATCH(Tabulka!$AI21,Přehled_body!$A$3:$A$130,0),MATCH(Tabulka!AB$2,Přehled_body!$E$1:$ED$1,0)),)=\"\",,IF(IFERROR(INDEX(Přehled_body!$E$3:$ED$130,MATCH(Tabulka!$AI21,Přehled_body!$A$3:$A$130,0),MATCH(Tabulka!AB$2,Přehled_body!$E$1:$ED$1,0)),)=0,0.00000000001,IFERROR(INDEX(Přehled_body!$E$3:$ED$130,MATCH(Tabulka!$AI21,Přehled_body!$A$3:$A$130,0),MATCH(Tabulka!AB$2,Přehled_body!$E$1:$ED$1,0)),)))","v":0},{"$f":"IF(IFERROR(INDEX(Přehled_body!$E$3:$ED$130,MATCH(Tabulka!$AI21,Přehled_body!$A$3:$A$130,0),MATCH(Tabulka!AC$2,Přehled_body!$E$1:$ED$1,0)),)=\"\",,IF(IFERROR(INDEX(Přehled_body!$E$3:$ED$130,MATCH(Tabulka!$AI21,Přehled_body!$A$3:$A$130,0),MATCH(Tabulka!AC$2,Přehled_body!$E$1:$ED$1,0)),)=0,0.00000000001,IFERROR(INDEX(Přehled_body!$E$3:$ED$130,MATCH(Tabulka!$AI21,Přehled_body!$A$3:$A$130,0),MATCH(Tabulka!AC$2,Přehled_body!$E$1:$ED$1,0)),)))","v":0},{"$f":"IF(IFERROR(INDEX(Přehled_body!$E$3:$ED$130,MATCH(Tabulka!$AI21,Přehled_body!$A$3:$A$130,0),MATCH(Tabulka!AD$2,Přehled_body!$E$1:$ED$1,0)),)=\"\",,IF(IFERROR(INDEX(Přehled_body!$E$3:$ED$130,MATCH(Tabulka!$AI21,Přehled_body!$A$3:$A$130,0),MATCH(Tabulka!AD$2,Přehled_body!$E$1:$ED$1,0)),)=0,0.00000000001,IFERROR(INDEX(Přehled_body!$E$3:$ED$130,MATCH(Tabulka!$AI21,Přehled_body!$A$3:$A$130,0),MATCH(Tabulka!AD$2,Přehled_body!$E$1:$ED$1,0)),)))","v":0},{"$f":"IF(SUM(AG19)<2,-90000+SUM(D21:AD21),SUM(D21:AD21))","v":-90000},null,null,{"$f":"SUM(D21:AD21)+INDEX(List4!$D$2:$F$17,MATCH(Tabulka!A20,List4!$D$2:$D$17,0),3)","v":1.0099999999999998E-7},{"$f":"CONCATENATE($B$20,\" \",$B$21,C21)","v":"Pavel PernekrPlaceno panáků"},null,null,0,null,null,"Pernekr",{"$f":"CONCATENATE(AQ21,\" \",AQ22)","v":"Jiří Blín"},"Jiří"]
[null,null,"Přehozy",{"$f":"IF(IFERROR(INDEX(Přehled_body!$E$3:$ED$130,MATCH(Tabulka!$AI22,Přehled_body!$A$3:$A$130,0),MATCH(Tabulka!D$2,Přehled_body!$E$1:$ED$1,0)),)=\"\",,IF(IFERROR(INDEX(Přehled_body!$E$3:$ED$130,MATCH(Tabulka!$AI22,Přehled_body!$A$3:$A$130,0),MATCH(Tabulka!D$2,Přehled_body!$E$1:$ED$1,0)),)=0,0.00000000001,IFERROR(INDEX(Přehled_body!$E$3:$ED$130,MATCH(Tabulka!$AI22,Přehled_body!$A$3:$A$130,0),MATCH(Tabulka!D$2,Přehled_body!$E$1:$ED$1,0)),)))","v":0},{"$f":"IF(IFERROR(INDEX(Přehled_body!$E$3:$ED$130,MATCH(Tabulka!$AI22,Přehled_body!$A$3:$A$130,0),MATCH(Tabulka!E$2,Přehled_body!$E$1:$ED$1,0)),)=\"\",,IF(IFERROR(INDEX(Přehled_body!$E$3:$ED$130,MATCH(Tabulka!$AI22,Přehled_body!$A$3:$A$130,0),MATCH(Tabulka!E$2,Přehled_body!$E$1:$ED$1,0)),)=0,0.00000000001,IFERROR(INDEX(Přehled_body!$E$3:$ED$130,MATCH(Tabulka!$AI22,Přehled_body!$A$3:$A$130,0),MATCH(Tabulka!E$2,Přehled_body!$E$1:$ED$1,0)),)))","v":0},{"$f":"IF(IFERROR(INDEX(Přehled_body!$E$3:$ED$130,MATCH(Tabulka!$AI22,Přehled_body!$A$3:$A$130,0),MATCH(Tabulka!F$2,Přehled_body!$E$1:$ED$1,0)),)=\"\",,IF(IFERROR(INDEX(Přehled_body!$E$3:$ED$130,MATCH(Tabulka!$AI22,Přehled_body!$A$3:$A$130,0),MATCH(Tabulka!F$2,Přehled_body!$E$1:$ED$1,0)),)=0,0.00000000001,IFERROR(INDEX(Přehled_body!$E$3:$ED$130,MATCH(Tabulka!$AI22,Přehled_body!$A$3:$A$130,0),MATCH(Tabulka!F$2,Přehled_body!$E$1:$ED$1,0)),)))","v":0},{"$f":"IF(IFERROR(INDEX(Přehled_body!$E$3:$ED$130,MATCH(Tabulka!$AI22,Přehled_body!$A$3:$A$130,0),MATCH(Tabulka!G$2,Přehled_body!$E$1:$ED$1,0)),)=\"\",,IF(IFERROR(INDEX(Přehled_body!$E$3:$ED$130,MATCH(Tabulka!$AI22,Přehled_body!$A$3:$A$130,0),MATCH(Tabulka!G$2,Přehled_body!$E$1:$ED$1,0)),)=0,0.00000000001,IFERROR(INDEX(Přehled_body!$E$3:$ED$130,MATCH(Tabulka!$AI22,Přehled_body!$A$3:$A$130,0),MATCH(Tabulka!G$2,Přehled_body!$E$1:$ED$1,0)),)))","v":0},{"$f":"IF(IFERROR(INDEX(Přehled_body!$E$3:$ED$130,MATCH(Tabulka!$AI22,Přehled_body!$A$3:$A$130,0),MATCH(Tabulka!H$2,Přehled_body!$E$1:$ED$1,0)),)=\"\",,IF(IFERROR(INDEX(Přehled_body!$E$3:$ED$130,MATCH(Tabulka!$AI22,Přehled_body!$A$3:$A$130,0),MATCH(Tabulka!H$2,Přehled_body!$E$1:$ED$1,0)),)=0,0.00000000001,IFERROR(INDEX(Přehled_body!$E$3:$ED$130,MATCH(Tabulka!$AI22,Přehled_body!$A$3:$A$130,0),MATCH(Tabulka!H$2,Přehled_body!$E$1:$ED$1,0)),)))","v":0},{"$f":"IF(IFERROR(INDEX(Přehled_body!$E$3:$ED$130,MATCH(Tabulka!$AI22,Přehled_body!$A$3:$A$130,0),MATCH(Tabulka!I$2,Přehled_body!$E$1:$ED$1,0)),)=\"\",,IF(IFERROR(INDEX(Přehled_body!$E$3:$ED$130,MATCH(Tabulka!$AI22,Přehled_body!$A$3:$A$130,0),MATCH(Tabulka!I$2,Přehled_body!$E$1:$ED$1,0)),)=0,0.00000000001,IFERROR(INDEX(Přehled_body!$E$3:$ED$130,MATCH(Tabulka!$AI22,Přehled_body!$A$3:$A$130,0),MATCH(Tabulka!I$2,Přehled_body!$E$1:$ED$1,0)),)))","v":0},{"$f":"IF(IFERROR(INDEX(Přehled_body!$E$3:$ED$130,MATCH(Tabulka!$AI22,Přehled_body!$A$3:$A$130,0),MATCH(Tabulka!J$2,Přehled_body!$E$1:$ED$1,0)),)=\"\",,IF(IFERROR(INDEX(Přehled_body!$E$3:$ED$130,MATCH(Tabulka!$AI22,Přehled_body!$A$3:$A$130,0),MATCH(Tabulka!J$2,Přehled_body!$E$1:$ED$1,0)),)=0,0.00000000001,IFERROR(INDEX(Přehled_body!$E$3:$ED$130,MATCH(Tabulka!$AI22,Přehled_body!$A$3:$A$130,0),MATCH(Tabulka!J$2,Přehled_body!$E$1:$ED$1,0)),)))","v":0},{"$f":"IF(IFERROR(INDEX(Přehled_body!$E$3:$ED$130,MATCH(Tabulka!$AI22,Přehled_body!$A$3:$A$130,0),MATCH(Tabulka!K$2,Přehled_body!$E$1:$ED$1,0)),)=\"\",,IF(IFERROR(INDEX(Přehled_body!$E$3:$ED$130,MATCH(Tabulka!$AI22,Přehled_body!$A$3:$A$130,0),MATCH(Tabulka!K$2,Přehled_body!$E$1:$ED$1,0)),)=0,0.00000000001,IFERROR(INDEX(Přehled_body!$E$3:$ED$130,MATCH(Tabulka!$AI22,Přehled_body!$A$3:$A$130,0),MATCH(Tabulka!K$2,Přehled_body!$E$1:$ED$1,0)),)))","v":0},{"$f":"IF(IFERROR(INDEX(Přehled_body!$E$3:$ED$130,MATCH(Tabulka!$AI22,Přehled_body!$A$3:$A$130,0),MATCH(Tabulka!L$2,Přehled_body!$E$1:$ED$1,0)),)=\"\",,IF(IFERROR(INDEX(Přehled_body!$E$3:$ED$130,MATCH(Tabulka!$AI22,Přehled_body!$A$3:$A$130,0),MATCH(Tabulka!L$2,Přehled_body!$E$1:$ED$1,0)),)=0,0.00000000001,IFERROR(INDEX(Přehled_body!$E$3:$ED$130,MATCH(Tabulka!$AI22,Přehled_body!$A$3:$A$130,0),MATCH(Tabulka!L$2,Přehled_body!$E$1:$ED$1,0)),)))","v":0},{"$f":"IF(IFERROR(INDEX(Přehled_body!$E$3:$ED$130,MATCH(Tabulka!$AI22,Přehled_body!$A$3:$A$130,0),MATCH(Tabulka!M$2,Přehled_body!$E$1:$ED$1,0)),)=\"\",,IF(IFERROR(INDEX(Přehled_body!$E$3:$ED$130,MATCH(Tabulka!$AI22,Přehled_body!$A$3:$A$130,0),MATCH(Tabulka!M$2,Přehled_body!$E$1:$ED$1,0)),)=0,0.00000000001,IFERROR(INDEX(Přehled_body!$E$3:$ED$130,MATCH(Tabulka!$AI22,Přehled_body!$A$3:$A$130,0),MATCH(Tabulka!M$2,Přehled_body!$E$1:$ED$1,0)),)))","v":0},{"$f":"IF(IFERROR(INDEX(Přehled_body!$E$3:$ED$130,MATCH(Tabulka!$AI22,Přehled_body!$A$3:$A$130,0),MATCH(Tabulka!N$2,Přehled_body!$E$1:$ED$1,0)),)=\"\",,IF(IFERROR(INDEX(Přehled_body!$E$3:$ED$130,MATCH(Tabulka!$AI22,Přehled_body!$A$3:$A$130,0),MATCH(Tabulka!N$2,Přehled_body!$E$1:$ED$1,0)),)=0,0.00000000001,IFERROR(INDEX(Přehled_body!$E$3:$ED$130,MATCH(Tabulka!$AI22,Přehled_body!$A$3:$A$130,0),MATCH(Tabulka!N$2,Přehled_body!$E$1:$ED$1,0)),)))","v":0},{"$f":"IF(IFERROR(INDEX(Přehled_body!$E$3:$ED$130,MATCH(Tabulka!$AI22,Přehled_body!$A$3:$A$130,0),MATCH(Tabulka!O$2,Přehled_body!$E$1:$ED$1,0)),)=\"\",,IF(IFERROR(INDEX(Přehled_body!$E$3:$ED$130,MATCH(Tabulka!$AI22,Přehled_body!$A$3:$A$130,0),MATCH(Tabulka!O$2,Přehled_body!$E$1:$ED$1,0)),)=0,0.00000000001,IFERROR(INDEX(Přehled_body!$E$3:$ED$130,MATCH(Tabulka!$AI22,Přehled_body!$A$3:$A$130,0),MATCH(Tabulka!O$2,Přehled_body!$E$1:$ED$1,0)),)))","v":0},{"$f":"IF(IFERROR(INDEX(Přehled_body!$E$3:$ED$130,MATCH(Tabulka!$AI22,Přehled_body!$A$3:$A$130,0),MATCH(Tabulka!P$2,Přehled_body!$E$1:$ED$1,0)),)=\"\",,IF(IFERROR(INDEX(Přehled_body!$E$3:$ED$130,MATCH(Tabulka!$AI22,Přehled_body!$A$3:$A$130,0),MATCH(Tabulka!P$2,Přehled_body!$E$1:$ED$1,0)),)=0,0.00000000001,IFERROR(INDEX(Přehled_body!$E$3:$ED$130,MATCH(Tabulka!$AI22,Přehled_body!$A$3:$A$130,0),MATCH(Tabulka!P$2,Přehled_body!$E$1:$ED$1,0)),)))","v":0},{"$f":"IF(IFERROR(INDEX(Přehled_body!$E$3:$ED$130,MATCH(Tabulka!$AI22,Přehled_body!$A$3:$A$130,0),MATCH(Tabulka!Q$2,Přehled_body!$E$1:$ED$1,0)),)=\"\",,IF(IFERROR(INDEX(Přehled_body!$E$3:$ED$130,MATCH(Tabulka!$AI22,Přehled_body!$A$3:$A$130,0),MATCH(Tabulka!Q$2,Přehled_body!$E$1:$ED$1,0)),)=0,0.00000000001,IFERROR(INDEX(Přehled_body!$E$3:$ED$130,MATCH(Tabulka!$AI22,Přehled_body!$A$3:$A$130,0),MATCH(Tabulka!Q$2,Přehled_body!$E$1:$ED$1,0)),)))","v":0},{"$f":"IF(IFERROR(INDEX(Přehled_body!$E$3:$ED$130,MATCH(Tabulka!$AI22,Přehled_body!$A$3:$A$130,0),MATCH(Tabulka!R$2,Přehled_body!$E$1:$ED$1,0)),)=\"\",,IF(IFERROR(INDEX(Přehled_body!$E$3:$ED$130,MATCH(Tabulka!$AI22,Přehled_body!$A$3:$A$130,0),MATCH(Tabulka!R$2,Přehled_body!$E$1:$ED$1,0)),)=0,0.00000000001,IFERROR(INDEX(Přehled_body!$E$3:$ED$130,MATCH(Tabulka!$AI22,Přehled_body!$A$3:$A$130,0),MATCH(Tabulka!R$2,Přehled_body!$E$1:$ED$1,0)),)))","v":0},{"$f":"IF(IFERROR(INDEX(Přehled_body!$E$3:$ED$130,MATCH(Tabulka!$AI22,Přehled_body!$A$3:$A$130,0),MATCH(Tabulka!S$2,Přehled_body!$E$1:$ED$1,0)),)=\"\",,IF(IFERROR(INDEX(Přehled_body!$E$3:$ED$130,MATCH(Tabulka!$AI22,Přehled_body!$A$3:$A$130,0),MATCH(Tabulka!S$2,Přehled_body!$E$1:$ED$1,0)),)=0,0.00000000001,IFERROR(INDEX(Přehled_body!$E$3:$ED$130,MATCH(Tabulka!$AI22,Přehled_body!$A$3:$A$130,0),MATCH(Tabulka!S$2,Přehled_body!$E$1:$ED$1,0)),)))","v":0},{"$f":"IF(IFERROR(INDEX(Přehled_body!$E$3:$ED$130,MATCH(Tabulka!$AI22,Přehled_body!$A$3:$A$130,0),MATCH(Tabulka!T$2,Přehled_body!$E$1:$ED$1,0)),)=\"\",,IF(IFERROR(INDEX(Přehled_body!$E$3:$ED$130,MATCH(Tabulka!$AI22,Přehled_body!$A$3:$A$130,0),MATCH(Tabulka!T$2,Přehled_body!$E$1:$ED$1,0)),)=0,0.00000000001,IFERROR(INDEX(Přehled_body!$E$3:$ED$130,MATCH(Tabulka!$AI22,Přehled_body!$A$3:$A$130,0),MATCH(Tabulka!T$2,Přehled_body!$E$1:$ED$1,0)),)))","v":0},{"$f":"IF(IFERROR(INDEX(Přehled_body!$E$3:$ED$130,MATCH(Tabulka!$AI22,Přehled_body!$A$3:$A$130,0),MATCH(Tabulka!U$2,Přehled_body!$E$1:$ED$1,0)),)=\"\",,IF(IFERROR(INDEX(Přehled_body!$E$3:$ED$130,MATCH(Tabulka!$AI22,Přehled_body!$A$3:$A$130,0),MATCH(Tabulka!U$2,Přehled_body!$E$1:$ED$1,0)),)=0,0.00000000001,IFERROR(INDEX(Přehled_body!$E$3:$ED$130,MATCH(Tabulka!$AI22,Přehled_body!$A$3:$A$130,0),MATCH(Tabulka!U$2,Přehled_body!$E$1:$ED$1,0)),)))","v":0},{"$f":"IF(IFERROR(INDEX(Přehled_body!$E$3:$ED$130,MATCH(Tabulka!$AI22,Přehled_body!$A$3:$A$130,0),MATCH(Tabulka!V$2,Přehled_body!$E$1:$ED$1,0)),)=\"\",,IF(IFERROR(INDEX(Přehled_body!$E$3:$ED$130,MATCH(Tabulka!$AI22,Přehled_body!$A$3:$A$130,0),MATCH(Tabulka!V$2,Přehled_body!$E$1:$ED$1,0)),)=0,0.00000000001,IFERROR(INDEX(Přehled_body!$E$3:$ED$130,MATCH(Tabulka!$AI22,Přehled_body!$A$3:$A$130,0),MATCH(Tabulka!V$2,Přehled_body!$E$1:$ED$1,0)),)))","v":0},{"$f":"IF(IFERROR(INDEX(Přehled_body!$E$3:$ED$130,MATCH(Tabulka!$AI22,Přehled_body!$A$3:$A$130,0),MATCH(Tabulka!W$2,Přehled_body!$E$1:$ED$1,0)),)=\"\",,IF(IFERROR(INDEX(Přehled_body!$E$3:$ED$130,MATCH(Tabulka!$AI22,Přehled_body!$A$3:$A$130,0),MATCH(Tabulka!W$2,Přehled_body!$E$1:$ED$1,0)),)=0,0.00000000001,IFERROR(INDEX(Přehled_body!$E$3:$ED$130,MATCH(Tabulka!$AI22,Přehled_body!$A$3:$A$130,0),MATCH(Tabulka!W$2,Přehled_body!$E$1:$ED$1,0)),)))","v":0},{"$f":"IF(IFERROR(INDEX(Přehled_body!$E$3:$ED$130,MATCH(Tabulka!$AI22,Přehled_body!$A$3:$A$130,0),MATCH(Tabulka!X$2,Přehled_body!$E$1:$ED$1,0)),)=\"\",,IF(IFERROR(INDEX(Přehled_body!$E$3:$ED$130,MATCH(Tabulka!$AI22,Přehled_body!$A$3:$A$130,0),MATCH(Tabulka!X$2,Přehled_body!$E$1:$ED$1,0)),)=0,0.00000000001,IFERROR(INDEX(Přehled_body!$E$3:$ED$130,MATCH(Tabulka!$AI22,Přehled_body!$A$3:$A$130,0),MATCH(Tabulka!X$2,Přehled_body!$E$1:$ED$1,0)),)))","v":0},{"$f":"IF(IFERROR(INDEX(Přehled_body!$E$3:$ED$130,MATCH(Tabulka!$AI22,Přehled_body!$A$3:$A$130,0),MATCH(Tabulka!Y$2,Přehled_body!$E$1:$ED$1,0)),)=\"\",,IF(IFERROR(INDEX(Přehled_body!$E$3:$ED$130,MATCH(Tabulka!$AI22,Přehled_body!$A$3:$A$130,0),MATCH(Tabulka!Y$2,Přehled_body!$E$1:$ED$1,0)),)=0,0.00000000001,IFERROR(INDEX(Přehled_body!$E$3:$ED$130,MATCH(Tabulka!$AI22,Přehled_body!$A$3:$A$130,0),MATCH(Tabulka!Y$2,Přehled_body!$E$1:$ED$1,0)),)))","v":0},{"$f":"IF(IFERROR(INDEX(Přehled_body!$E$3:$ED$130,MATCH(Tabulka!$AI22,Přehled_body!$A$3:$A$130,0),MATCH(Tabulka!Z$2,Přehled_body!$E$1:$ED$1,0)),)=\"\",,IF(IFERROR(INDEX(Přehled_body!$E$3:$ED$130,MATCH(Tabulka!$AI22,Přehled_body!$A$3:$A$130,0),MATCH(Tabulka!Z$2,Přehled_body!$E$1:$ED$1,0)),)=0,0.00000000001,IFERROR(INDEX(Přehled_body!$E$3:$ED$130,MATCH(Tabulka!$AI22,Přehled_body!$A$3:$A$130,0),MATCH(Tabulka!Z$2,Přehled_body!$E$1:$ED$1,0)),)))","v":0},{"$f":"IF(IFERROR(INDEX(Přehled_body!$E$3:$ED$130,MATCH(Tabulka!$AI22,Přehled_body!$A$3:$A$130,0),MATCH(Tabulka!AA$2,Přehled_body!$E$1:$ED$1,0)),)=\"\",,IF(IFERROR(INDEX(Přehled_body!$E$3:$ED$130,MATCH(Tabulka!$AI22,Přehled_body!$A$3:$A$130,0),MATCH(Tabulka!AA$2,Přehled_body!$E$1:$ED$1,0)),)=0,0.00000000001,IFERROR(INDEX(Přehled_body!$E$3:$ED$130,MATCH(Tabulka!$AI22,Přehled_body!$A$3:$A$130,0),MATCH(Tabulka!AA$2,Přehled_body!$E$1:$ED$1,0)),)))","v":0},{"$f":"IF(IFERROR(INDEX(Přehled_body!$E$3:$ED$130,MATCH(Tabulka!$AI22,Přehled_body!$A$3:$A$130,0),MATCH(Tabulka!AB$2,Přehled_body!$E$1:$ED$1,0)),)=\"\",,IF(IFERROR(INDEX(Přehled_body!$E$3:$ED$130,MATCH(Tabulka!$AI22,Přehled_body!$A$3:$A$130,0),MATCH(Tabulka!AB$2,Přehled_body!$E$1:$ED$1,0)),)=0,0.00000000001,IFERROR(INDEX(Přehled_body!$E$3:$ED$130,MATCH(Tabulka!$AI22,Přehled_body!$A$3:$A$130,0),MATCH(Tabulka!AB$2,Přehled_body!$E$1:$ED$1,0)),)))","v":0},{"$f":"IF(IFERROR(INDEX(Přehled_body!$E$3:$ED$130,MATCH(Tabulka!$AI22,Přehled_body!$A$3:$A$130,0),MATCH(Tabulka!AC$2,Přehled_body!$E$1:$ED$1,0)),)=\"\",,IF(IFERROR(INDEX(Přehled_body!$E$3:$ED$130,MATCH(Tabulka!$AI22,Přehled_body!$A$3:$A$130,0),MATCH(Tabulka!AC$2,Přehled_body!$E$1:$ED$1,0)),)=0,0.00000000001,IFERROR(INDEX(Přehled_body!$E$3:$ED$130,MATCH(Tabulka!$AI22,Přehled_body!$A$3:$A$130,0),MATCH(Tabulka!AC$2,Přehled_body!$E$1:$ED$1,0)),)))","v":0},{"$f":"IF(IFERROR(INDEX(Přehled_body!$E$3:$ED$130,MATCH(Tabulka!$AI22,Přehled_body!$A$3:$A$130,0),MATCH(Tabulka!AD$2,Přehled_body!$E$1:$ED$1,0)),)=\"\",,IF(IFERROR(INDEX(Přehled_body!$E$3:$ED$130,MATCH(Tabulka!$AI22,Přehled_body!$A$3:$A$130,0),MATCH(Tabulka!AD$2,Přehled_body!$E$1:$ED$1,0)),)=0,0.00000000001,IFERROR(INDEX(Přehled_body!$E$3:$ED$130,MATCH(Tabulka!$AI22,Přehled_body!$A$3:$A$130,0),MATCH(Tabulka!AD$2,Přehled_body!$E$1:$ED$1,0)),)))","v":0},{"$f":"IF(SUM(AG19)<2,-90000+SUM(D22:AD22),SUM(D22:AD22))","v":-90000},null,null,0,{"$f":"CONCATENATE($B$20,\" \",$B$21,C22)","v":"Pavel PernekrPřehozy"},null,null,0,null,null,null,{"$f":"CONCATENATE(AQ22,\" \",AQ21)","v":"Blín Jiří"},"Blín"]
[null,null,"Poč. kol",{"$f":"IF(IFERROR(INDEX(Přehled_body!$E$3:$ED$130,MATCH(Tabulka!$AI23,Přehled_body!$A$3:$A$130,0),MATCH(Tabulka!D$2,Přehled_body!$E$1:$ED$1,0)),)=\"\",,IF(IFERROR(INDEX(Přehled_body!$E$3:$ED$130,MATCH(Tabulka!$AI23,Přehled_body!$A$3:$A$130,0),MATCH(Tabulka!D$2,Přehled_body!$E$1:$ED$1,0)),)=0,0.00000000001,IFERROR(INDEX(Přehled_body!$E$3:$ED$130,MATCH(Tabulka!$AI23,Přehled_body!$A$3:$A$130,0),MATCH(Tabulka!D$2,Přehled_body!$E$1:$ED$1,0)),)))","v":0},{"$f":"IF(IFERROR(INDEX(Přehled_body!$E$3:$ED$130,MATCH(Tabulka!$AI23,Přehled_body!$A$3:$A$130,0),MATCH(Tabulka!E$2,Přehled_body!$E$1:$ED$1,0)),)=\"\",,IF(IFERROR(INDEX(Přehled_body!$E$3:$ED$130,MATCH(Tabulka!$AI23,Přehled_body!$A$3:$A$130,0),MATCH(Tabulka!E$2,Přehled_body!$E$1:$ED$1,0)),)=0,0.00000000001,IFERROR(INDEX(Přehled_body!$E$3:$ED$130,MATCH(Tabulka!$AI23,Přehled_body!$A$3:$A$130,0),MATCH(Tabulka!E$2,Přehled_body!$E$1:$ED$1,0)),)))","v":0},{"$f":"IF(IFERROR(INDEX(Přehled_body!$E$3:$ED$130,MATCH(Tabulka!$AI23,Přehled_body!$A$3:$A$130,0),MATCH(Tabulka!F$2,Přehled_body!$E$1:$ED$1,0)),)=\"\",,IF(IFERROR(INDEX(Přehled_body!$E$3:$ED$130,MATCH(Tabulka!$AI23,Přehled_body!$A$3:$A$130,0),MATCH(Tabulka!F$2,Přehled_body!$E$1:$ED$1,0)),)=0,0.00000000001,IFERROR(INDEX(Přehled_body!$E$3:$ED$130,MATCH(Tabulka!$AI23,Přehled_body!$A$3:$A$130,0),MATCH(Tabulka!F$2,Přehled_body!$E$1:$ED$1,0)),)))","v":0},{"$f":"IF(IFERROR(INDEX(Přehled_body!$E$3:$ED$130,MATCH(Tabulka!$AI23,Přehled_body!$A$3:$A$130,0),MATCH(Tabulka!G$2,Přehled_body!$E$1:$ED$1,0)),)=\"\",,IF(IFERROR(INDEX(Přehled_body!$E$3:$ED$130,MATCH(Tabulka!$AI23,Přehled_body!$A$3:$A$130,0),MATCH(Tabulka!G$2,Přehled_body!$E$1:$ED$1,0)),)=0,0.00000000001,IFERROR(INDEX(Přehled_body!$E$3:$ED$130,MATCH(Tabulka!$AI23,Přehled_body!$A$3:$A$130,0),MATCH(Tabulka!G$2,Přehled_body!$E$1:$ED$1,0)),)))","v":0},{"$f":"IF(IFERROR(INDEX(Přehled_body!$E$3:$ED$130,MATCH(Tabulka!$AI23,Přehled_body!$A$3:$A$130,0),MATCH(Tabulka!H$2,Přehled_body!$E$1:$ED$1,0)),)=\"\",,IF(IFERROR(INDEX(Přehled_body!$E$3:$ED$130,MATCH(Tabulka!$AI23,Přehled_body!$A$3:$A$130,0),MATCH(Tabulka!H$2,Přehled_body!$E$1:$ED$1,0)),)=0,0.00000000001,IFERROR(INDEX(Přehled_body!$E$3:$ED$130,MATCH(Tabulka!$AI23,Přehled_body!$A$3:$A$130,0),MATCH(Tabulka!H$2,Přehled_body!$E$1:$ED$1,0)),)))","v":0},{"$f":"IF(IFERROR(INDEX(Přehled_body!$E$3:$ED$130,MATCH(Tabulka!$AI23,Přehled_body!$A$3:$A$130,0),MATCH(Tabulka!I$2,Přehled_body!$E$1:$ED$1,0)),)=\"\",,IF(IFERROR(INDEX(Přehled_body!$E$3:$ED$130,MATCH(Tabulka!$AI23,Přehled_body!$A$3:$A$130,0),MATCH(Tabulka!I$2,Přehled_body!$E$1:$ED$1,0)),)=0,0.00000000001,IFERROR(INDEX(Přehled_body!$E$3:$ED$130,MATCH(Tabulka!$AI23,Přehled_body!$A$3:$A$130,0),MATCH(Tabulka!I$2,Přehled_body!$E$1:$ED$1,0)),)))","v":0},{"$f":"IF(IFERROR(INDEX(Přehled_body!$E$3:$ED$130,MATCH(Tabulka!$AI23,Přehled_body!$A$3:$A$130,0),MATCH(Tabulka!J$2,Přehled_body!$E$1:$ED$1,0)),)=\"\",,IF(IFERROR(INDEX(Přehled_body!$E$3:$ED$130,MATCH(Tabulka!$AI23,Přehled_body!$A$3:$A$130,0),MATCH(Tabulka!J$2,Přehled_body!$E$1:$ED$1,0)),)=0,0.00000000001,IFERROR(INDEX(Přehled_body!$E$3:$ED$130,MATCH(Tabulka!$AI23,Přehled_body!$A$3:$A$130,0),MATCH(Tabulka!J$2,Přehled_body!$E$1:$ED$1,0)),)))","v":0},{"$f":"IF(IFERROR(INDEX(Přehled_body!$E$3:$ED$130,MATCH(Tabulka!$AI23,Přehled_body!$A$3:$A$130,0),MATCH(Tabulka!K$2,Přehled_body!$E$1:$ED$1,0)),)=\"\",,IF(IFERROR(INDEX(Přehled_body!$E$3:$ED$130,MATCH(Tabulka!$AI23,Přehled_body!$A$3:$A$130,0),MATCH(Tabulka!K$2,Přehled_body!$E$1:$ED$1,0)),)=0,0.00000000001,IFERROR(INDEX(Přehled_body!$E$3:$ED$130,MATCH(Tabulka!$AI23,Přehled_body!$A$3:$A$130,0),MATCH(Tabulka!K$2,Přehled_body!$E$1:$ED$1,0)),)))","v":0},{"$f":"IF(IFERROR(INDEX(Přehled_body!$E$3:$ED$130,MATCH(Tabulka!$AI23,Přehled_body!$A$3:$A$130,0),MATCH(Tabulka!L$2,Přehled_body!$E$1:$ED$1,0)),)=\"\",,IF(IFERROR(INDEX(Přehled_body!$E$3:$ED$130,MATCH(Tabulka!$AI23,Přehled_body!$A$3:$A$130,0),MATCH(Tabulka!L$2,Přehled_body!$E$1:$ED$1,0)),)=0,0.00000000001,IFERROR(INDEX(Přehled_body!$E$3:$ED$130,MATCH(Tabulka!$AI23,Přehled_body!$A$3:$A$130,0),MATCH(Tabulka!L$2,Přehled_body!$E$1:$ED$1,0)),)))","v":0},{"$f":"IF(IFERROR(INDEX(Přehled_body!$E$3:$ED$130,MATCH(Tabulka!$AI23,Přehled_body!$A$3:$A$130,0),MATCH(Tabulka!M$2,Přehled_body!$E$1:$ED$1,0)),)=\"\",,IF(IFERROR(INDEX(Přehled_body!$E$3:$ED$130,MATCH(Tabulka!$AI23,Přehled_body!$A$3:$A$130,0),MATCH(Tabulka!M$2,Přehled_body!$E$1:$ED$1,0)),)=0,0.00000000001,IFERROR(INDEX(Přehled_body!$E$3:$ED$130,MATCH(Tabulka!$AI23,Přehled_body!$A$3:$A$130,0),MATCH(Tabulka!M$2,Přehled_body!$E$1:$ED$1,0)),)))","v":0},{"$f":"IF(IFERROR(INDEX(Přehled_body!$E$3:$ED$130,MATCH(Tabulka!$AI23,Přehled_body!$A$3:$A$130,0),MATCH(Tabulka!N$2,Přehled_body!$E$1:$ED$1,0)),)=\"\",,IF(IFERROR(INDEX(Přehled_body!$E$3:$ED$130,MATCH(Tabulka!$AI23,Přehled_body!$A$3:$A$130,0),MATCH(Tabulka!N$2,Přehled_body!$E$1:$ED$1,0)),)=0,0.00000000001,IFERROR(INDEX(Přehled_body!$E$3:$ED$130,MATCH(Tabulka!$AI23,Přehled_body!$A$3:$A$130,0),MATCH(Tabulka!N$2,Přehled_body!$E$1:$ED$1,0)),)))","v":0},{"$f":"IF(IFERROR(INDEX(Přehled_body!$E$3:$ED$130,MATCH(Tabulka!$AI23,Přehled_body!$A$3:$A$130,0),MATCH(Tabulka!O$2,Přehled_body!$E$1:$ED$1,0)),)=\"\",,IF(IFERROR(INDEX(Přehled_body!$E$3:$ED$130,MATCH(Tabulka!$AI23,Přehled_body!$A$3:$A$130,0),MATCH(Tabulka!O$2,Přehled_body!$E$1:$ED$1,0)),)=0,0.00000000001,IFERROR(INDEX(Přehled_body!$E$3:$ED$130,MATCH(Tabulka!$AI23,Přehled_body!$A$3:$A$130,0),MATCH(Tabulka!O$2,Přehled_body!$E$1:$ED$1,0)),)))","v":0},{"$f":"IF(IFERROR(INDEX(Přehled_body!$E$3:$ED$130,MATCH(Tabulka!$AI23,Přehled_body!$A$3:$A$130,0),MATCH(Tabulka!P$2,Přehled_body!$E$1:$ED$1,0)),)=\"\",,IF(IFERROR(INDEX(Přehled_body!$E$3:$ED$130,MATCH(Tabulka!$AI23,Přehled_body!$A$3:$A$130,0),MATCH(Tabulka!P$2,Přehled_body!$E$1:$ED$1,0)),)=0,0.00000000001,IFERROR(INDEX(Přehled_body!$E$3:$ED$130,MATCH(Tabulka!$AI23,Přehled_body!$A$3:$A$130,0),MATCH(Tabulka!P$2,Přehled_body!$E$1:$ED$1,0)),)))","v":0},{"$f":"IF(IFERROR(INDEX(Přehled_body!$E$3:$ED$130,MATCH(Tabulka!$AI23,Přehled_body!$A$3:$A$130,0),MATCH(Tabulka!Q$2,Přehled_body!$E$1:$ED$1,0)),)=\"\",,IF(IFERROR(INDEX(Přehled_body!$E$3:$ED$130,MATCH(Tabulka!$AI23,Přehled_body!$A$3:$A$130,0),MATCH(Tabulka!Q$2,Přehled_body!$E$1:$ED$1,0)),)=0,0.00000000001,IFERROR(INDEX(Přehled_body!$E$3:$ED$130,MATCH(Tabulka!$AI23,Přehled_body!$A$3:$A$130,0),MATCH(Tabulka!Q$2,Přehled_body!$E$1:$ED$1,0)),)))","v":0},{"$f":"IF(IFERROR(INDEX(Přehled_body!$E$3:$ED$130,MATCH(Tabulka!$AI23,Přehled_body!$A$3:$A$130,0),MATCH(Tabulka!R$2,Přehled_body!$E$1:$ED$1,0)),)=\"\",,IF(IFERROR(INDEX(Přehled_body!$E$3:$ED$130,MATCH(Tabulka!$AI23,Přehled_body!$A$3:$A$130,0),MATCH(Tabulka!R$2,Přehled_body!$E$1:$ED$1,0)),)=0,0.00000000001,IFERROR(INDEX(Přehled_body!$E$3:$ED$130,MATCH(Tabulka!$AI23,Přehled_body!$A$3:$A$130,0),MATCH(Tabulka!R$2,Přehled_body!$E$1:$ED$1,0)),)))","v":0},{"$f":"IF(IFERROR(INDEX(Přehled_body!$E$3:$ED$130,MATCH(Tabulka!$AI23,Přehled_body!$A$3:$A$130,0),MATCH(Tabulka!S$2,Přehled_body!$E$1:$ED$1,0)),)=\"\",,IF(IFERROR(INDEX(Přehled_body!$E$3:$ED$130,MATCH(Tabulka!$AI23,Přehled_body!$A$3:$A$130,0),MATCH(Tabulka!S$2,Přehled_body!$E$1:$ED$1,0)),)=0,0.00000000001,IFERROR(INDEX(Přehled_body!$E$3:$ED$130,MATCH(Tabulka!$AI23,Přehled_body!$A$3:$A$130,0),MATCH(Tabulka!S$2,Přehled_body!$E$1:$ED$1,0)),)))","v":0},{"$f":"IF(IFERROR(INDEX(Přehled_body!$E$3:$ED$130,MATCH(Tabulka!$AI23,Přehled_body!$A$3:$A$130,0),MATCH(Tabulka!T$2,Přehled_body!$E$1:$ED$1,0)),)=\"\",,IF(IFERROR(INDEX(Přehled_body!$E$3:$ED$130,MATCH(Tabulka!$AI23,Přehled_body!$A$3:$A$130,0),MATCH(Tabulka!T$2,Přehled_body!$E$1:$ED$1,0)),)=0,0.00000000001,IFERROR(INDEX(Přehled_body!$E$3:$ED$130,MATCH(Tabulka!$AI23,Přehled_body!$A$3:$A$130,0),MATCH(Tabulka!T$2,Přehled_body!$E$1:$ED$1,0)),)))","v":0},{"$f":"IF(IFERROR(INDEX(Přehled_body!$E$3:$ED$130,MATCH(Tabulka!$AI23,Přehled_body!$A$3:$A$130,0),MATCH(Tabulka!U$2,Přehled_body!$E$1:$ED$1,0)),)=\"\",,IF(IFERROR(INDEX(Přehled_body!$E$3:$ED$130,MATCH(Tabulka!$AI23,Přehled_body!$A$3:$A$130,0),MATCH(Tabulka!U$2,Přehled_body!$E$1:$ED$1,0)),)=0,0.00000000001,IFERROR(INDEX(Přehled_body!$E$3:$ED$130,MATCH(Tabulka!$AI23,Přehled_body!$A$3:$A$130,0),MATCH(Tabulka!U$2,Přehled_body!$E$1:$ED$1,0)),)))","v":0},{"$f":"IF(IFERROR(INDEX(Přehled_body!$E$3:$ED$130,MATCH(Tabulka!$AI23,Přehled_body!$A$3:$A$130,0),MATCH(Tabulka!V$2,Přehled_body!$E$1:$ED$1,0)),)=\"\",,IF(IFERROR(INDEX(Přehled_body!$E$3:$ED$130,MATCH(Tabulka!$AI23,Přehled_body!$A$3:$A$130,0),MATCH(Tabulka!V$2,Přehled_body!$E$1:$ED$1,0)),)=0,0.00000000001,IFERROR(INDEX(Přehled_body!$E$3:$ED$130,MATCH(Tabulka!$AI23,Přehled_body!$A$3:$A$130,0),MATCH(Tabulka!V$2,Přehled_body!$E$1:$ED$1,0)),)))","v":0},{"$f":"IF(IFERROR(INDEX(Přehled_body!$E$3:$ED$130,MATCH(Tabulka!$AI23,Přehled_body!$A$3:$A$130,0),MATCH(Tabulka!W$2,Přehled_body!$E$1:$ED$1,0)),)=\"\",,IF(IFERROR(INDEX(Přehled_body!$E$3:$ED$130,MATCH(Tabulka!$AI23,Přehled_body!$A$3:$A$130,0),MATCH(Tabulka!W$2,Přehled_body!$E$1:$ED$1,0)),)=0,0.00000000001,IFERROR(INDEX(Přehled_body!$E$3:$ED$130,MATCH(Tabulka!$AI23,Přehled_body!$A$3:$A$130,0),MATCH(Tabulka!W$2,Přehled_body!$E$1:$ED$1,0)),)))","v":0},{"$f":"IF(IFERROR(INDEX(Přehled_body!$E$3:$ED$130,MATCH(Tabulka!$AI23,Přehled_body!$A$3:$A$130,0),MATCH(Tabulka!X$2,Přehled_body!$E$1:$ED$1,0)),)=\"\",,IF(IFERROR(INDEX(Přehled_body!$E$3:$ED$130,MATCH(Tabulka!$AI23,Přehled_body!$A$3:$A$130,0),MATCH(Tabulka!X$2,Přehled_body!$E$1:$ED$1,0)),)=0,0.00000000001,IFERROR(INDEX(Přehled_body!$E$3:$ED$130,MATCH(Tabulka!$AI23,Přehled_body!$A$3:$A$130,0),MATCH(Tabulka!X$2,Přehled_body!$E$1:$ED$1,0)),)))","v":0},{"$f":"IF(IFERROR(INDEX(Přehled_body!$E$3:$ED$130,MATCH(Tabulka!$AI23,Přehled_body!$A$3:$A$130,0),MATCH(Tabulka!Y$2,Přehled_body!$E$1:$ED$1,0)),)=\"\",,IF(IFERROR(INDEX(Přehled_body!$E$3:$ED$130,MATCH(Tabulka!$AI23,Přehled_body!$A$3:$A$130,0),MATCH(Tabulka!Y$2,Přehled_body!$E$1:$ED$1,0)),)=0,0.00000000001,IFERROR(INDEX(Přehled_body!$E$3:$ED$130,MATCH(Tabulka!$AI23,Přehled_body!$A$3:$A$130,0),MATCH(Tabulka!Y$2,Přehled_body!$E$1:$ED$1,0)),)))","v":0},{"$f":"IF(IFERROR(INDEX(Přehled_body!$E$3:$ED$130,MATCH(Tabulka!$AI23,Přehled_body!$A$3:$A$130,0),MATCH(Tabulka!Z$2,Přehled_body!$E$1:$ED$1,0)),)=\"\",,IF(IFERROR(INDEX(Přehled_body!$E$3:$ED$130,MATCH(Tabulka!$AI23,Přehled_body!$A$3:$A$130,0),MATCH(Tabulka!Z$2,Přehled_body!$E$1:$ED$1,0)),)=0,0.00000000001,IFERROR(INDEX(Přehled_body!$E$3:$ED$130,MATCH(Tabulka!$AI23,Přehled_body!$A$3:$A$130,0),MATCH(Tabulka!Z$2,Přehled_body!$E$1:$ED$1,0)),)))","v":0},{"$f":"IF(IFERROR(INDEX(Přehled_body!$E$3:$ED$130,MATCH(Tabulka!$AI23,Přehled_body!$A$3:$A$130,0),MATCH(Tabulka!AA$2,Přehled_body!$E$1:$ED$1,0)),)=\"\",,IF(IFERROR(INDEX(Přehled_body!$E$3:$ED$130,MATCH(Tabulka!$AI23,Přehled_body!$A$3:$A$130,0),MATCH(Tabulka!AA$2,Přehled_body!$E$1:$ED$1,0)),)=0,0.00000000001,IFERROR(INDEX(Přehled_body!$E$3:$ED$130,MATCH(Tabulka!$AI23,Přehled_body!$A$3:$A$130,0),MATCH(Tabulka!AA$2,Přehled_body!$E$1:$ED$1,0)),)))","v":0},{"$f":"IF(IFERROR(INDEX(Přehled_body!$E$3:$ED$130,MATCH(Tabulka!$AI23,Přehled_body!$A$3:$A$130,0),MATCH(Tabulka!AB$2,Přehled_body!$E$1:$ED$1,0)),)=\"\",,IF(IFERROR(INDEX(Přehled_body!$E$3:$ED$130,MATCH(Tabulka!$AI23,Přehled_body!$A$3:$A$130,0),MATCH(Tabulka!AB$2,Přehled_body!$E$1:$ED$1,0)),)=0,0.00000000001,IFERROR(INDEX(Přehled_body!$E$3:$ED$130,MATCH(Tabulka!$AI23,Přehled_body!$A$3:$A$130,0),MATCH(Tabulka!AB$2,Přehled_body!$E$1:$ED$1,0)),)))","v":0},{"$f":"IF(IFERROR(INDEX(Přehled_body!$E$3:$ED$130,MATCH(Tabulka!$AI23,Přehled_body!$A$3:$A$130,0),MATCH(Tabulka!AC$2,Přehled_body!$E$1:$ED$1,0)),)=\"\",,IF(IFERROR(INDEX(Přehled_body!$E$3:$ED$130,MATCH(Tabulka!$AI23,Přehled_body!$A$3:$A$130,0),MATCH(Tabulka!AC$2,Přehled_body!$E$1:$ED$1,0)),)=0,0.00000000001,IFERROR(INDEX(Přehled_body!$E$3:$ED$130,MATCH(Tabulka!$AI23,Přehled_body!$A$3:$A$130,0),MATCH(Tabulka!AC$2,Přehled_body!$E$1:$ED$1,0)),)))","v":0},{"$f":"IF(IFERROR(INDEX(Přehled_body!$E$3:$ED$130,MATCH(Tabulka!$AI23,Přehled_body!$A$3:$A$130,0),MATCH(Tabulka!AD$2,Přehled_body!$E$1:$ED$1,0)),)=\"\",,IF(IFERROR(INDEX(Přehled_body!$E$3:$ED$130,MATCH(Tabulka!$AI23,Přehled_body!$A$3:$A$130,0),MATCH(Tabulka!AD$2,Přehled_body!$E$1:$ED$1,0)),)=0,0.00000000001,IFERROR(INDEX(Přehled_body!$E$3:$ED$130,MATCH(Tabulka!$AI23,Přehled_body!$A$3:$A$130,0),MATCH(Tabulka!AD$2,Přehled_body!$E$1:$ED$1,0)),)))","v":0},{"$f":"IF(SUM(AG19)<2,-90000+SUM(D23:AD23),SUM(D23:AD23))","v":-90000},null,null,0,{"$f":"CONCATENATE($B$20,\" \",$B$21,C23)","v":"Pavel PernekrPoč. kol"},null,null,0]
[5,null,"Výhry",{"$f":"IF(IFERROR(INDEX(Přehled_body!$E$3:$ED$130,MATCH(Tabulka!$AI24,Přehled_body!$A$3:$A$130,0),MATCH(Tabulka!D$2,Přehled_body!$E$1:$ED$1,0)),)=\"\",,IF(IFERROR(INDEX(Přehled_body!$E$3:$ED$130,MATCH(Tabulka!$AI24,Přehled_body!$A$3:$A$130,0),MATCH(Tabulka!D$2,Přehled_body!$E$1:$ED$1,0)),)=0,0.00000000001,IFERROR(INDEX(Přehled_body!$E$3:$ED$130,MATCH(Tabulka!$AI24,Přehled_body!$A$3:$A$130,0),MATCH(Tabulka!D$2,Přehled_body!$E$1:$ED$1,0)),)))","v":1},{"$f":"IF(IFERROR(INDEX(Přehled_body!$E$3:$ED$130,MATCH(Tabulka!$AI24,Přehled_body!$A$3:$A$130,0),MATCH(Tabulka!E$2,Přehled_body!$E$1:$ED$1,0)),)=\"\",,IF(IFERROR(INDEX(Přehled_body!$E$3:$ED$130,MATCH(Tabulka!$AI24,Přehled_body!$A$3:$A$130,0),MATCH(Tabulka!E$2,Přehled_body!$E$1:$ED$1,0)),)=0,0.00000000001,IFERROR(INDEX(Přehled_body!$E$3:$ED$130,MATCH(Tabulka!$AI24,Přehled_body!$A$3:$A$130,0),MATCH(Tabulka!E$2,Přehled_body!$E$1:$ED$1,0)),)))","v":3},{"$f":"IF(IFERROR(INDEX(Přehled_body!$E$3:$ED$130,MATCH(Tabulka!$AI24,Přehled_body!$A$3:$A$130,0),MATCH(Tabulka!F$2,Přehled_body!$E$1:$ED$1,0)),)=\"\",,IF(IFERROR(INDEX(Přehled_body!$E$3:$ED$130,MATCH(Tabulka!$AI24,Přehled_body!$A$3:$A$130,0),MATCH(Tabulka!F$2,Přehled_body!$E$1:$ED$1,0)),)=0,0.00000000001,IFERROR(INDEX(Přehled_body!$E$3:$ED$130,MATCH(Tabulka!$AI24,Přehled_body!$A$3:$A$130,0),MATCH(Tabulka!F$2,Přehled_body!$E$1:$ED$1,0)),)))","v":2},{"$f":"IF(IFERROR(INDEX(Přehled_body!$E$3:$ED$130,MATCH(Tabulka!$AI24,Přehled_body!$A$3:$A$130,0),MATCH(Tabulka!G$2,Přehled_body!$E$1:$ED$1,0)),)=\"\",,IF(IFERROR(INDEX(Přehled_body!$E$3:$ED$130,MATCH(Tabulka!$AI24,Přehled_body!$A$3:$A$130,0),MATCH(Tabulka!G$2,Přehled_body!$E$1:$ED$1,0)),)=0,0.00000000001,IFERROR(INDEX(Přehled_body!$E$3:$ED$130,MATCH(Tabulka!$AI24,Přehled_body!$A$3:$A$130,0),MATCH(Tabulka!G$2,Přehled_body!$E$1:$ED$1,0)),)))","v":1},{"$f":"IF(IFERROR(INDEX(Přehled_body!$E$3:$ED$130,MATCH(Tabulka!$AI24,Přehled_body!$A$3:$A$130,0),MATCH(Tabulka!H$2,Přehled_body!$E$1:$ED$1,0)),)=\"\",,IF(IFERROR(INDEX(Přehled_body!$E$3:$ED$130,MATCH(Tabulka!$AI24,Přehled_body!$A$3:$A$130,0),MATCH(Tabulka!H$2,Přehled_body!$E$1:$ED$1,0)),)=0,0.00000000001,IFERROR(INDEX(Přehled_body!$E$3:$ED$130,MATCH(Tabulka!$AI24,Přehled_body!$A$3:$A$130,0),MATCH(Tabulka!H$2,Přehled_body!$E$1:$ED$1,0)),)))","v":2},{"$f":"IF(IFERROR(INDEX(Přehled_body!$E$3:$ED$130,MATCH(Tabulka!$AI24,Přehled_body!$A$3:$A$130,0),MATCH(Tabulka!I$2,Přehled_body!$E$1:$ED$1,0)),)=\"\",,IF(IFERROR(INDEX(Přehled_body!$E$3:$ED$130,MATCH(Tabulka!$AI24,Přehled_body!$A$3:$A$130,0),MATCH(Tabulka!I$2,Přehled_body!$E$1:$ED$1,0)),)=0,0.00000000001,IFERROR(INDEX(Přehled_body!$E$3:$ED$130,MATCH(Tabulka!$AI24,Přehled_body!$A$3:$A$130,0),MATCH(Tabulka!I$2,Přehled_body!$E$1:$ED$1,0)),)))","v":2},{"$f":"IF(IFERROR(INDEX(Přehled_body!$E$3:$ED$130,MATCH(Tabulka!$AI24,Přehled_body!$A$3:$A$130,0),MATCH(Tabulka!J$2,Přehled_body!$E$1:$ED$1,0)),)=\"\",,IF(IFERROR(INDEX(Přehled_body!$E$3:$ED$130,MATCH(Tabulka!$AI24,Přehled_body!$A$3:$A$130,0),MATCH(Tabulka!J$2,Přehled_body!$E$1:$ED$1,0)),)=0,0.00000000001,IFERROR(INDEX(Přehled_body!$E$3:$ED$130,MATCH(Tabulka!$AI24,Přehled_body!$A$3:$A$130,0),MATCH(Tabulka!J$2,Přehled_body!$E$1:$ED$1,0)),)))","v":2},{"$f":"IF(IFERROR(INDEX(Přehled_body!$E$3:$ED$130,MATCH(Tabulka!$AI24,Přehled_body!$A$3:$A$130,0),MATCH(Tabulka!K$2,Přehled_body!$E$1:$ED$1,0)),)=\"\",,IF(IFERROR(INDEX(Přehled_body!$E$3:$ED$130,MATCH(Tabulka!$AI24,Přehled_body!$A$3:$A$130,0),MATCH(Tabulka!K$2,Přehled_body!$E$1:$ED$1,0)),)=0,0.00000000001,IFERROR(INDEX(Přehled_body!$E$3:$ED$130,MATCH(Tabulka!$AI24,Přehled_body!$A$3:$A$130,0),MATCH(Tabulka!K$2,Přehled_body!$E$1:$ED$1,0)),)))","v":2},{"$f":"IF(IFERROR(INDEX(Přehled_body!$E$3:$ED$130,MATCH(Tabulka!$AI24,Přehled_body!$A$3:$A$130,0),MATCH(Tabulka!L$2,Přehled_body!$E$1:$ED$1,0)),)=\"\",,IF(IFERROR(INDEX(Přehled_body!$E$3:$ED$130,MATCH(Tabulka!$AI24,Přehled_body!$A$3:$A$130,0),MATCH(Tabulka!L$2,Přehled_body!$E$1:$ED$1,0)),)=0,0.00000000001,IFERROR(INDEX(Přehled_body!$E$3:$ED$130,MATCH(Tabulka!$AI24,Přehled_body!$A$3:$A$130,0),MATCH(Tabulka!L$2,Přehled_body!$E$1:$ED$1,0)),)))","v":1},{"$f":"IF(IFERROR(INDEX(Přehled_body!$E$3:$ED$130,MATCH(Tabulka!$AI24,Přehled_body!$A$3:$A$130,0),MATCH(Tabulka!M$2,Přehled_body!$E$1:$ED$1,0)),)=\"\",,IF(IFERROR(INDEX(Přehled_body!$E$3:$ED$130,MATCH(Tabulka!$AI24,Přehled_body!$A$3:$A$130,0),MATCH(Tabulka!M$2,Přehled_body!$E$1:$ED$1,0)),)=0,0.00000000001,IFERROR(INDEX(Přehled_body!$E$3:$ED$130,MATCH(Tabulka!$AI24,Přehled_body!$A$3:$A$130,0),MATCH(Tabulka!M$2,Přehled_body!$E$1:$ED$1,0)),)))","v":2},{"$f":"IF(IFERROR(INDEX(Přehled_body!$E$3:$ED$130,MATCH(Tabulka!$AI24,Přehled_body!$A$3:$A$130,0),MATCH(Tabulka!N$2,Přehled_body!$E$1:$ED$1,0)),)=\"\",,IF(IFERROR(INDEX(Přehled_body!$E$3:$ED$130,MATCH(Tabulka!$AI24,Přehled_body!$A$3:$A$130,0),MATCH(Tabulka!N$2,Přehled_body!$E$1:$ED$1,0)),)=0,0.00000000001,IFERROR(INDEX(Přehled_body!$E$3:$ED$130,MATCH(Tabulka!$AI24,Přehled_body!$A$3:$A$130,0),MATCH(Tabulka!N$2,Přehled_body!$E$1:$ED$1,0)),)))","v":3},{"$f":"IF(IFERROR(INDEX(Přehled_body!$E$3:$ED$130,MATCH(Tabulka!$AI24,Přehled_body!$A$3:$A$130,0),MATCH(Tabulka!O$2,Přehled_body!$E$1:$ED$1,0)),)=\"\",,IF(IFERROR(INDEX(Přehled_body!$E$3:$ED$130,MATCH(Tabulka!$AI24,Přehled_body!$A$3:$A$130,0),MATCH(Tabulka!O$2,Přehled_body!$E$1:$ED$1,0)),)=0,0.00000000001,IFERROR(INDEX(Přehled_body!$E$3:$ED$130,MATCH(Tabulka!$AI24,Přehled_body!$A$3:$A$130,0),MATCH(Tabulka!O$2,Přehled_body!$E$1:$ED$1,0)),)))","v":1},{"$f":"IF(IFERROR(INDEX(Přehled_body!$E$3:$ED$130,MATCH(Tabulka!$AI24,Přehled_body!$A$3:$A$130,0),MATCH(Tabulka!P$2,Přehled_body!$E$1:$ED$1,0)),)=\"\",,IF(IFERROR(INDEX(Přehled_body!$E$3:$ED$130,MATCH(Tabulka!$AI24,Přehled_body!$A$3:$A$130,0),MATCH(Tabulka!P$2,Přehled_body!$E$1:$ED$1,0)),)=0,0.00000000001,IFERROR(INDEX(Přehled_body!$E$3:$ED$130,MATCH(Tabulka!$AI24,Přehled_body!$A$3:$A$130,0),MATCH(Tabulka!P$2,Přehled_body!$E$1:$ED$1,0)),)))","v":1},{"$f":"IF(IFERROR(INDEX(Přehled_body!$E$3:$ED$130,MATCH(Tabulka!$AI24,Přehled_body!$A$3:$A$130,0),MATCH(Tabulka!Q$2,Přehled_body!$E$1:$ED$1,0)),)=\"\",,IF(IFERROR(INDEX(Přehled_body!$E$3:$ED$130,MATCH(Tabulka!$AI24,Přehled_body!$A$3:$A$130,0),MATCH(Tabulka!Q$2,Přehled_body!$E$1:$ED$1,0)),)=0,0.00000000001,IFERROR(INDEX(Přehled_body!$E$3:$ED$130,MATCH(Tabulka!$AI24,Přehled_body!$A$3:$A$130,0),MATCH(Tabulka!Q$2,Přehled_body!$E$1:$ED$1,0)),)))","v":1},{"$f":"IF(IFERROR(INDEX(Přehled_body!$E$3:$ED$130,MATCH(Tabulka!$AI24,Přehled_body!$A$3:$A$130,0),MATCH(Tabulka!R$2,Přehled_body!$E$1:$ED$1,0)),)=\"\",,IF(IFERROR(INDEX(Přehled_body!$E$3:$ED$130,MATCH(Tabulka!$AI24,Přehled_body!$A$3:$A$130,0),MATCH(Tabulka!R$2,Přehled_body!$E$1:$ED$1,0)),)=0,0.00000000001,IFERROR(INDEX(Přehled_body!$E$3:$ED$130,MATCH(Tabulka!$AI24,Přehled_body!$A$3:$A$130,0),MATCH(Tabulka!R$2,Přehled_body!$E$1:$ED$1,0)),)))","v":9.9999999999999994E-12},{"$f":"IF(IFERROR(INDEX(Přehled_body!$E$3:$ED$130,MATCH(Tabulka!$AI24,Přehled_body!$A$3:$A$130,0),MATCH(Tabulka!S$2,Přehled_body!$E$1:$ED$1,0)),)=\"\",,IF(IFERROR(INDEX(Přehled_body!$E$3:$ED$130,MATCH(Tabulka!$AI24,Přehled_body!$A$3:$A$130,0),MATCH(Tabulka!S$2,Přehled_body!$E$1:$ED$1,0)),)=0,0.00000000001,IFERROR(INDEX(Přehled_body!$E$3:$ED$130,MATCH(Tabulka!$AI24,Přehled_body!$A$3:$A$130,0),MATCH(Tabulka!S$2,Přehled_body!$E$1:$ED$1,0)),)))","v":3},{"$f":"IF(IFERROR(INDEX(Přehled_body!$E$3:$ED$130,MATCH(Tabulka!$AI24,Přehled_body!$A$3:$A$130,0),MATCH(Tabulka!T$2,Přehled_body!$E$1:$ED$1,0)),)=\"\",,IF(IFERROR(INDEX(Přehled_body!$E$3:$ED$130,MATCH(Tabulka!$AI24,Přehled_body!$A$3:$A$130,0),MATCH(Tabulka!T$2,Přehled_body!$E$1:$ED$1,0)),)=0,0.00000000001,IFERROR(INDEX(Přehled_body!$E$3:$ED$130,MATCH(Tabulka!$AI24,Přehled_body!$A$3:$A$130,0),MATCH(Tabulka!T$2,Přehled_body!$E$1:$ED$1,0)),)))","v":9.9999999999999994E-12},{"$f":"IF(IFERROR(INDEX(Přehled_body!$E$3:$ED$130,MATCH(Tabulka!$AI24,Přehled_body!$A$3:$A$130,0),MATCH(Tabulka!U$2,Přehled_body!$E$1:$ED$1,0)),)=\"\",,IF(IFERROR(INDEX(Přehled_body!$E$3:$ED$130,MATCH(Tabulka!$AI24,Přehled_body!$A$3:$A$130,0),MATCH(Tabulka!U$2,Přehled_body!$E$1:$ED$1,0)),)=0,0.00000000001,IFERROR(INDEX(Přehled_body!$E$3:$ED$130,MATCH(Tabulka!$AI24,Přehled_body!$A$3:$A$130,0),MATCH(Tabulka!U$2,Přehled_body!$E$1:$ED$1,0)),)))","v":0},{"$f":"IF(IFERROR(INDEX(Přehled_body!$E$3:$ED$130,MATCH(Tabulka!$AI24,Přehled_body!$A$3:$A$130,0),MATCH(Tabulka!V$2,Přehled_body!$E$1:$ED$1,0)),)=\"\",,IF(IFERROR(INDEX(Přehled_body!$E$3:$ED$130,MATCH(Tabulka!$AI24,Přehled_body!$A$3:$A$130,0),MATCH(Tabulka!V$2,Přehled_body!$E$1:$ED$1,0)),)=0,0.00000000001,IFERROR(INDEX(Přehled_body!$E$3:$ED$130,MATCH(Tabulka!$AI24,Přehled_body!$A$3:$A$130,0),MATCH(Tabulka!V$2,Přehled_body!$E$1:$ED$1,0)),)))","v":0},{"$f":"IF(IFERROR(INDEX(Přehled_body!$E$3:$ED$130,MATCH(Tabulka!$AI24,Přehled_body!$A$3:$A$130,0),MATCH(Tabulka!W$2,Přehled_body!$E$1:$ED$1,0)),)=\"\",,IF(IFERROR(INDEX(Přehled_body!$E$3:$ED$130,MATCH(Tabulka!$AI24,Přehled_body!$A$3:$A$130,0),MATCH(Tabulka!W$2,Přehled_body!$E$1:$ED$1,0)),)=0,0.00000000001,IFERROR(INDEX(Přehled_body!$E$3:$ED$130,MATCH(Tabulka!$AI24,Přehled_body!$A$3:$A$130,0),MATCH(Tabulka!W$2,Přehled_body!$E$1:$ED$1,0)),)))","v":0},{"$f":"IF(IFERROR(INDEX(Přehled_body!$E$3:$ED$130,MATCH(Tabulka!$AI24,Přehled_body!$A$3:$A$130,0),MATCH(Tabulka!X$2,Přehled_body!$E$1:$ED$1,0)),)=\"\",,IF(IFERROR(INDEX(Přehled_body!$E$3:$ED$130,MATCH(Tabulka!$AI24,Přehled_body!$A$3:$A$130,0),MATCH(Tabulka!X$2,Přehled_body!$E$1:$ED$1,0)),)=0,0.00000000001,IFERROR(INDEX(Přehled_body!$E$3:$ED$130,MATCH(Tabulka!$AI24,Přehled_body!$A$3:$A$130,0),MATCH(Tabulka!X$2,Přehled_body!$E$1:$ED$1,0)),)))","v":0},{"$f":"IF(IFERROR(INDEX(Přehled_body!$E$3:$ED$130,MATCH(Tabulka!$AI24,Přehled_body!$A$3:$A$130,0),MATCH(Tabulka!Y$2,Přehled_body!$E$1:$ED$1,0)),)=\"\",,IF(IFERROR(INDEX(Přehled_body!$E$3:$ED$130,MATCH(Tabulka!$AI24,Přehled_body!$A$3:$A$130,0),MATCH(Tabulka!Y$2,Přehled_body!$E$1:$ED$1,0)),)=0,0.00000000001,IFERROR(INDEX(Přehled_body!$E$3:$ED$130,MATCH(Tabulka!$AI24,Přehled_body!$A$3:$A$130,0),MATCH(Tabulka!Y$2,Přehled_body!$E$1:$ED$1,0)),)))","v":0},{"$f":"IF(IFERROR(INDEX(Přehled_body!$E$3:$ED$130,MATCH(Tabulka!$AI24,Přehled_body!$A$3:$A$130,0),MATCH(Tabulka!Z$2,Přehled_body!$E$1:$ED$1,0)),)=\"\",,IF(IFERROR(INDEX(Přehled_body!$E$3:$ED$130,MATCH(Tabulka!$AI24,Přehled_body!$A$3:$A$130,0),MATCH(Tabulka!Z$2,Přehled_body!$E$1:$ED$1,0)),)=0,0.00000000001,IFERROR(INDEX(Přehled_body!$E$3:$ED$130,MATCH(Tabulka!$AI24,Přehled_body!$A$3:$A$130,0),MATCH(Tabulka!Z$2,Přehled_body!$E$1:$ED$1,0)),)))","v":0},{"$f":"IF(IFERROR(INDEX(Přehled_body!$E$3:$ED$130,MATCH(Tabulka!$AI24,Přehled_body!$A$3:$A$130,0),MATCH(Tabulka!AA$2,Přehled_body!$E$1:$ED$1,0)),)=\"\",,IF(IFERROR(INDEX(Přehled_body!$E$3:$ED$130,MATCH(Tabulka!$AI24,Přehled_body!$A$3:$A$130,0),MATCH(Tabulka!AA$2,Přehled_body!$E$1:$ED$1,0)),)=0,0.00000000001,IFERROR(INDEX(Přehled_body!$E$3:$ED$130,MATCH(Tabulka!$AI24,Přehled_body!$A$3:$A$130,0),MATCH(Tabulka!AA$2,Přehled_body!$E$1:$ED$1,0)),)))","v":0},{"$f":"IF(IFERROR(INDEX(Přehled_body!$E$3:$ED$130,MATCH(Tabulka!$AI24,Přehled_body!$A$3:$A$130,0),MATCH(Tabulka!AB$2,Přehled_body!$E$1:$ED$1,0)),)=\"\",,IF(IFERROR(INDEX(Přehled_body!$E$3:$ED$130,MATCH(Tabulka!$AI24,Přehled_body!$A$3:$A$130,0),MATCH(Tabulka!AB$2,Přehled_body!$E$1:$ED$1,0)),)=0,0.00000000001,IFERROR(INDEX(Přehled_body!$E$3:$ED$130,MATCH(Tabulka!$AI24,Přehled_body!$A$3:$A$130,0),MATCH(Tabulka!AB$2,Přehled_body!$E$1:$ED$1,0)),)))","v":0},{"$f":"IF(IFERROR(INDEX(Přehled_body!$E$3:$ED$130,MATCH(Tabulka!$AI24,Přehled_body!$A$3:$A$130,0),MATCH(Tabulka!AC$2,Přehled_body!$E$1:$ED$1,0)),)=\"\",,IF(IFERROR(INDEX(Přehled_body!$E$3:$ED$130,MATCH(Tabulka!$AI24,Přehled_body!$A$3:$A$130,0),MATCH(Tabulka!AC$2,Přehled_body!$E$1:$ED$1,0)),)=0,0.00000000001,IFERROR(INDEX(Přehled_body!$E$3:$ED$130,MATCH(Tabulka!$AI24,Přehled_body!$A$3:$A$130,0),MATCH(Tabulka!AC$2,Přehled_body!$E$1:$ED$1,0)),)))","v":0},{"$f":"IF(IFERROR(INDEX(Přehled_body!$E$3:$ED$130,MATCH(Tabulka!$AI24,Přehled_body!$A$3:$A$130,0),MATCH(Tabulka!AD$2,Přehled_body!$E$1:$ED$1,0)),)=\"\",,IF(IFERROR(INDEX(Přehled_body!$E$3:$ED$130,MATCH(Tabulka!$AI24,Přehled_body!$A$3:$A$130,0),MATCH(Tabulka!AD$2,Přehled_body!$E$1:$ED$1,0)),)=0,0.00000000001,IFERROR(INDEX(Přehled_body!$E$3:$ED$130,MATCH(Tabulka!$AI24,Přehled_body!$A$3:$A$130,0),MATCH(Tabulka!AD$2,Přehled_body!$E$1:$ED$1,0)),)))","v":0},{"$f":"IF(SUM(AG24)<2,-90000+SUM(D24:AD24),SUM(D24:AD24))","v":27.000000000020002},null,{"$f":"COUNTIF(D24:AD24,\">0\")","v":17},27.000000000020002,{"$f":"CONCATENATE($B$25,\" \",$B$26,C24)","v":"Milan VeselýVýhry"},null,null,17]
[{"$f":"CONCATENATE(B25,\" \",B26)","v":"Milan Veselý"},"Milan","Prohry",{"$f":"IF(IFERROR(INDEX(Přehled_body!$E$3:$ED$130,MATCH(Tabulka!$AI25,Přehled_body!$A$3:$A$130,0),MATCH(Tabulka!D$2,Přehled_body!$E$1:$ED$1,0)),)=\"\",,IF(IFERROR(INDEX(Přehled_body!$E$3:$ED$130,MATCH(Tabulka!$AI25,Přehled_body!$A$3:$A$130,0),MATCH(Tabulka!D$2,Přehled_body!$E$1:$ED$1,0)),)=0,0.00000000001,IFERROR(INDEX(Přehled_body!$E$3:$ED$130,MATCH(Tabulka!$AI25,Přehled_body!$A$3:$A$130,0),MATCH(Tabulka!D$2,Přehled_body!$E$1:$ED$1,0)),)))","v":1},{"$f":"IF(IFERROR(INDEX(Přehled_body!$E$3:$ED$130,MATCH(Tabulka!$AI25,Přehled_body!$A$3:$A$130,0),MATCH(Tabulka!E$2,Přehled_body!$E$1:$ED$1,0)),)=\"\",,IF(IFERROR(INDEX(Přehled_body!$E$3:$ED$130,MATCH(Tabulka!$AI25,Přehled_body!$A$3:$A$130,0),MATCH(Tabulka!E$2,Přehled_body!$E$1:$ED$1,0)),)=0,0.00000000001,IFERROR(INDEX(Přehled_body!$E$3:$ED$130,MATCH(Tabulka!$AI25,Přehled_body!$A$3:$A$130,0),MATCH(Tabulka!E$2,Přehled_body!$E$1:$ED$1,0)),)))","v":9.9999999999999994E-12},{"$f":"IF(IFERROR(INDEX(Přehled_body!$E$3:$ED$130,MATCH(Tabulka!$AI25,Přehled_body!$A$3:$A$130,0),MATCH(Tabulka!F$2,Přehled_body!$E$1:$ED$1,0)),)=\"\",,IF(IFERROR(INDEX(Přehled_body!$E$3:$ED$130,MATCH(Tabulka!$AI25,Přehled_body!$A$3:$A$130,0),MATCH(Tabulka!F$2,Přehled_body!$E$1:$ED$1,0)),)=0,0.00000000001,IFERROR(INDEX(Přehled_body!$E$3:$ED$130,MATCH(Tabulka!$AI25,Přehled_body!$A$3:$A$130,0),MATCH(Tabulka!F$2,Přehled_body!$E$1:$ED$1,0)),)))","v":1},{"$f":"IF(IFERROR(INDEX(Přehled_body!$E$3:$ED$130,MATCH(Tabulka!$AI25,Přehled_body!$A$3:$A$130,0),MATCH(Tabulka!G$2,Přehled_body!$E$1:$ED$1,0)),)=\"\",,IF(IFERROR(INDEX(Přehled_body!$E$3:$ED$130,MATCH(Tabulka!$AI25,Přehled_body!$A$3:$A$130,0),MATCH(Tabulka!G$2,Přehled_body!$E$1:$ED$1,0)),)=0,0.00000000001,IFERROR(INDEX(Přehled_body!$E$3:$ED$130,MATCH(Tabulka!$AI25,Přehled_body!$A$3:$A$130,0),MATCH(Tabulka!G$2,Přehled_body!$E$1:$ED$1,0)),)))","v":1},{"$f":"IF(IFERROR(INDEX(Přehled_body!$E$3:$ED$130,MATCH(Tabulka!$AI25,Přehled_body!$A$3:$A$130,0),MATCH(Tabulka!H$2,Přehled_body!$E$1:$ED$1,0)),)=\"\",,IF(IFERROR(INDEX(Přehled_body!$E$3:$ED$130,MATCH(Tabulka!$AI25,Přehled_body!$A$3:$A$130,0),MATCH(Tabulka!H$2,Přehled_body!$E$1:$ED$1,0)),)=0,0.00000000001,IFERROR(INDEX(Přehled_body!$E$3:$ED$130,MATCH(Tabulka!$AI25,Přehled_body!$A$3:$A$130,0),MATCH(Tabulka!H$2,Přehled_body!$E$1:$ED$1,0)),)))","v":9.9999999999999994E-12},{"$f":"IF(IFERROR(INDEX(Přehled_body!$E$3:$ED$130,MATCH(Tabulka!$AI25,Přehled_body!$A$3:$A$130,0),MATCH(Tabulka!I$2,Přehled_body!$E$1:$ED$1,0)),)=\"\",,IF(IFERROR(INDEX(Přehled_body!$E$3:$ED$130,MATCH(Tabulka!$AI25,Přehled_body!$A$3:$A$130,0),MATCH(Tabulka!I$2,Přehled_body!$E$1:$ED$1,0)),)=0,0.00000000001,IFERROR(INDEX(Přehled_body!$E$3:$ED$130,MATCH(Tabulka!$AI25,Přehled_body!$A$3:$A$130,0),MATCH(Tabulka!I$2,Přehled_body!$E$1:$ED$1,0)),)))","v":1},{"$f":"IF(IFERROR(INDEX(Přehled_body!$E$3:$ED$130,MATCH(Tabulka!$AI25,Přehled_body!$A$3:$A$130,0),MATCH(Tabulka!J$2,Přehled_body!$E$1:$ED$1,0)),)=\"\",,IF(IFERROR(INDEX(Přehled_body!$E$3:$ED$130,MATCH(Tabulka!$AI25,Přehled_body!$A$3:$A$130,0),MATCH(Tabulka!J$2,Přehled_body!$E$1:$ED$1,0)),)=0,0.00000000001,IFERROR(INDEX(Přehled_body!$E$3:$ED$130,MATCH(Tabulka!$AI25,Přehled_body!$A$3:$A$130,0),MATCH(Tabulka!J$2,Přehled_body!$E$1:$ED$1,0)),)))","v":9.9999999999999994E-12},{"$f":"IF(IFERROR(INDEX(Přehled_body!$E$3:$ED$130,MATCH(Tabulka!$AI25,Přehled_body!$A$3:$A$130,0),MATCH(Tabulka!K$2,Přehled_body!$E$1:$ED$1,0)),)=\"\",,IF(IFERROR(INDEX(Přehled_body!$E$3:$ED$130,MATCH(Tabulka!$AI25,Přehled_body!$A$3:$A$130,0),MATCH(Tabulka!K$2,Přehled_body!$E$1:$ED$1,0)),)=0,0.00000000001,IFERROR(INDEX(Přehled_body!$E$3:$ED$130,MATCH(Tabulka!$AI25,Přehled_body!$A$3:$A$130,0),MATCH(Tabulka!K$2,Přehled_body!$E$1:$ED$1,0)),)))","v":9.9999999999999994E-12},{"$f":"IF(IFERROR(INDEX(Přehled_body!$E$3:$ED$130,MATCH(Tabulka!$AI25,Přehled_body!$A$3:$A$130,0),MATCH(Tabulka!L$2,Přehled_body!$E$1:$ED$1,0)),)=\"\",,IF(IFERROR(INDEX(Přehled_body!$E$3:$ED$130,MATCH(Tabulka!$AI25,Přehled_body!$A$3:$A$130,0),MATCH(Tabulka!L$2,Přehled_body!$E$1:$ED$1,0)),)=0,0.00000000001,IFERROR(INDEX(Přehled_body!$E$3:$ED$130,MATCH(Tabulka!$AI25,Přehled_body!$A$3:$A$130,0),MATCH(Tabulka!L$2,Přehled_body!$E$1:$ED$1,0)),)))","v":9.9999999999999994E-12},{"$f":"IF(IFERROR(INDEX(Přehled_body!$E$3:$ED$130,MATCH(Tabulka!$AI25,Přehled_body!$A$3:$A$130,0),MATCH(Tabulka!M$2,Přehled_body!$E$1:$ED$1,0)),)=\"\",,IF(IFERROR(INDEX(Přehled_body!$E$3:$ED$130,MATCH(Tabulka!$AI25,Přehled_body!$A$3:$A$130,0),MATCH(Tabulka!M$2,Přehled_body!$E$1:$ED$1,0)),)=0,0.00000000001,IFERROR(INDEX(Přehled_body!$E$3:$ED$130,MATCH(Tabulka!$AI25,Přehled_body!$A$3:$A$130,0),MATCH(Tabulka!M$2,Přehled_body!$E$1:$ED$1,0)),)))","v":1},{"$f":"IF(IFERROR(INDEX(Přehled_body!$E$3:$ED$130,MATCH(Tabulka!$AI25,Přehled_body!$A$3:$A$130,0),MATCH(Tabulka!N$2,Přehled_body!$E$1:$ED$1,0)),)=\"\",,IF(IFERROR(INDEX(Přehled_body!$E$3:$ED$130,MATCH(Tabulka!$AI25,Přehled_body!$A$3:$A$130,0),MATCH(Tabulka!N$2,Přehled_body!$E$1:$ED$1,0)),)=0,0.00000000001,IFERROR(INDEX(Přehled_body!$E$3:$ED$130,MATCH(Tabulka!$AI25,Přehled_body!$A$3:$A$130,0),MATCH(Tabulka!N$2,Přehled_body!$E$1:$ED$1,0)),)))","v":1},{"$f":"IF(IFERROR(INDEX(Přehled_body!$E$3:$ED$130,MATCH(Tabulka!$AI25,Přehled_body!$A$3:$A$130,0),MATCH(Tabulka!O$2,Přehled_body!$E$1:$ED$1,0)),)=\"\",,IF(IFERROR(INDEX(Přehled_body!$E$3:$ED$130,MATCH(Tabulka!$AI25,Přehled_body!$A$3:$A$130,0),MATCH(Tabulka!O$2,Přehled_body!$E$1:$ED$1,0)),)=0,0.00000000001,IFERROR(INDEX(Přehled_body!$E$3:$ED$130,MATCH(Tabulka!$AI25,Přehled_body!$A$3:$A$130,0),MATCH(Tabulka!O$2,Přehled_body!$E$1:$ED$1,0)),)))","v":2},{"$f":"IF(IFERROR(INDEX(Přehled_body!$E$3:$ED$130,MATCH(Tabulka!$AI25,Přehled_body!$A$3:$A$130,0),MATCH(Tabulka!P$2,Přehled_body!$E$1:$ED$1,0)),)=\"\",,IF(IFERROR(INDEX(Přehled_body!$E$3:$ED$130,MATCH(Tabulka!$AI25,Přehled_body!$A$3:$A$130,0),MATCH(Tabulka!P$2,Přehled_body!$E$1:$ED$1,0)),)=0,0.00000000001,IFERROR(INDEX(Přehled_body!$E$3:$ED$130,MATCH(Tabulka!$AI25,Přehled_body!$A$3:$A$130,0),MATCH(Tabulka!P$2,Přehled_body!$E$1:$ED$1,0)),)))","v":1},{"$f":"IF(IFERROR(INDEX(Přehled_body!$E$3:$ED$130,MATCH(Tabulka!$AI25,Přehled_body!$A$3:$A$130,0),MATCH(Tabulka!Q$2,Přehled_body!$E$1:$ED$1,0)),)=\"\",,IF(IFERROR(INDEX(Přehled_body!$E$3:$ED$130,MATCH(Tabulka!$AI25,Přehled_body!$A$3:$A$130,0),MATCH(Tabulka!Q$2,Přehled_body!$E$1:$ED$1,0)),)=0,0.00000000001,IFERROR(INDEX(Přehled_body!$E$3:$ED$130,MATCH(Tabulka!$AI25,Přehled_body!$A$3:$A$130,0),MATCH(Tabulka!Q$2,Přehled_body!$E$1:$ED$1,0)),)))","v":1},{"$f":"IF(IFERROR(INDEX(Přehled_body!$E$3:$ED$130,MATCH(Tabulka!$AI25,Přehled_body!$A$3:$A$130,0),MATCH(Tabulka!R$2,Přehled_body!$E$1:$ED$1,0)),)=\"\",,IF(IFERROR(INDEX(Přehled_body!$E$3:$ED$130,MATCH(Tabulka!$AI25,Přehled_body!$A$3:$A$130,0),MATCH(Tabulka!R$2,Přehled_body!$E$1:$ED$1,0)),)=0,0.00000000001,IFERROR(INDEX(Přehled_body!$E$3:$ED$130,MATCH(Tabulka!$AI25,Přehled_body!$A$3:$A$130,0),MATCH(Tabulka!R$2,Přehled_body!$E$1:$ED$1,0)),)))","v":1},{"$f":"IF(IFERROR(INDEX(Přehled_body!$E$3:$ED$130,MATCH(Tabulka!$AI25,Přehled_body!$A$3:$A$130,0),MATCH(Tabulka!S$2,Přehled_body!$E$1:$ED$1,0)),)=\"\",,IF(IFERROR(INDEX(Přehled_body!$E$3:$ED$130,MATCH(Tabulka!$AI25,Přehled_body!$A$3:$A$130,0),MATCH(Tabulka!S$2,Přehled_body!$E$1:$ED$1,0)),)=0,0.00000000001,IFERROR(INDEX(Přehled_body!$E$3:$ED$130,MATCH(Tabulka!$AI25,Přehled_body!$A$3:$A$130,0),MATCH(Tabulka!S$2,Přehled_body!$E$1:$ED$1,0)),)))","v":9.9999999999999994E-12},{"$f":"IF(IFERROR(INDEX(Přehled_body!$E$3:$ED$130,MATCH(Tabulka!$AI25,Přehled_body!$A$3:$A$130,0),MATCH(Tabulka!T$2,Přehled_body!$E$1:$ED$1,0)),)=\"\",,IF(IFERROR(INDEX(Přehled_body!$E$3:$ED$130,MATCH(Tabulka!$AI25,Přehled_body!$A$3:$A$130,0),MATCH(Tabulka!T$2,Přehled_body!$E$1:$ED$1,0)),)=0,0.00000000001,IFERROR(INDEX(Přehled_body!$E$3:$ED$130,MATCH(Tabulka!$AI25,Přehled_body!$A$3:$A$130,0),MATCH(Tabulka!T$2,Přehled_body!$E$1:$ED$1,0)),)))","v":9.9999999999999994E-12},{"$f":"IF(IFERROR(INDEX(Přehled_body!$E$3:$ED$130,MATCH(Tabulka!$AI25,Přehled_body!$A$3:$A$130,0),MATCH(Tabulka!U$2,Přehled_body!$E$1:$ED$1,0)),)=\"\",,IF(IFERROR(INDEX(Přehled_body!$E$3:$ED$130,MATCH(Tabulka!$AI25,Přehled_body!$A$3:$A$130,0),MATCH(Tabulka!U$2,Přehled_body!$E$1:$ED$1,0)),)=0,0.00000000001,IFERROR(INDEX(Přehled_body!$E$3:$ED$130,MATCH(Tabulka!$AI25,Přehled_body!$A$3:$A$130,0),MATCH(Tabulka!U$2,Přehled_body!$E$1:$ED$1,0)),)))","v":0},{"$f":"IF(IFERROR(INDEX(Přehled_body!$E$3:$ED$130,MATCH(Tabulka!$AI25,Přehled_body!$A$3:$A$130,0),MATCH(Tabulka!V$2,Přehled_body!$E$1:$ED$1,0)),)=\"\",,IF(IFERROR(INDEX(Přehled_body!$E$3:$ED$130,MATCH(Tabulka!$AI25,Přehled_body!$A$3:$A$130,0),MATCH(Tabulka!V$2,Přehled_body!$E$1:$ED$1,0)),)=0,0.00000000001,IFERROR(INDEX(Přehled_body!$E$3:$ED$130,MATCH(Tabulka!$AI25,Přehled_body!$A$3:$A$130,0),MATCH(Tabulka!V$2,Přehled_body!$E$1:$ED$1,0)),)))","v":0},{"$f":"IF(IFERROR(INDEX(Přehled_body!$E$3:$ED$130,MATCH(Tabulka!$AI25,Přehled_body!$A$3:$A$130,0),MATCH(Tabulka!W$2,Přehled_body!$E$1:$ED$1,0)),)=\"\",,IF(IFERROR(INDEX(Přehled_body!$E$3:$ED$130,MATCH(Tabulka!$AI25,Přehled_body!$A$3:$A$130,0),MATCH(Tabulka!W$2,Přehled_body!$E$1:$ED$1,0)),)=0,0.00000000001,IFERROR(INDEX(Přehled_body!$E$3:$ED$130,MATCH(Tabulka!$AI25,Přehled_body!$A$3:$A$130,0),MATCH(Tabulka!W$2,Přehled_body!$E$1:$ED$1,0)),)))","v":0},{"$f":"IF(IFERROR(INDEX(Přehled_body!$E$3:$ED$130,MATCH(Tabulka!$AI25,Přehled_body!$A$3:$A$130,0),MATCH(Tabulka!X$2,Přehled_body!$E$1:$ED$1,0)),)=\"\",,IF(IFERROR(INDEX(Přehled_body!$E$3:$ED$130,MATCH(Tabulka!$AI25,Přehled_body!$A$3:$A$130,0),MATCH(Tabulka!X$2,Přehled_body!$E$1:$ED$1,0)),)=0,0.00000000001,IFERROR(INDEX(Přehled_body!$E$3:$ED$130,MATCH(Tabulka!$AI25,Přehled_body!$A$3:$A$130,0),MATCH(Tabulka!X$2,Přehled_body!$E$1:$ED$1,0)),)))","v":0},{"$f":"IF(IFERROR(INDEX(Přehled_body!$E$3:$ED$130,MATCH(Tabulka!$AI25,Přehled_body!$A$3:$A$130,0),MATCH(Tabulka!Y$2,Přehled_body!$E$1:$ED$1,0)),)=\"\",,IF(IFERROR(INDEX(Přehled_body!$E$3:$ED$130,MATCH(Tabulka!$AI25,Přehled_body!$A$3:$A$130,0),MATCH(Tabulka!Y$2,Přehled_body!$E$1:$ED$1,0)),)=0,0.00000000001,IFERROR(INDEX(Přehled_body!$E$3:$ED$130,MATCH(Tabulka!$AI25,Přehled_body!$A$3:$A$130,0),MATCH(Tabulka!Y$2,Přehled_body!$E$1:$ED$1,0)),)))","v":0},{"$f":"IF(IFERROR(INDEX(Přehled_body!$E$3:$ED$130,MATCH(Tabulka!$AI25,Přehled_body!$A$3:$A$130,0),MATCH(Tabulka!Z$2,Přehled_body!$E$1:$ED$1,0)),)=\"\",,IF(IFERROR(INDEX(Přehled_body!$E$3:$ED$130,MATCH(Tabulka!$AI25,Přehled_body!$A$3:$A$130,0),MATCH(Tabulka!Z$2,Přehled_body!$E$1:$ED$1,0)),)=0,0.00000000001,IFERROR(INDEX(Přehled_body!$E$3:$ED$130,MATCH(Tabulka!$AI25,Přehled_body!$A$3:$A$130,0),MATCH(Tabulka!Z$2,Přehled_body!$E$1:$ED$1,0)),)))","v":0},{"$f":"IF(IFERROR(INDEX(Přehled_body!$E$3:$ED$130,MATCH(Tabulka!$AI25,Přehled_body!$A$3:$A$130,0),MATCH(Tabulka!AA$2,Přehled_body!$E$1:$ED$1,0)),)=\"\",,IF(IFERROR(INDEX(Přehled_body!$E$3:$ED$130,MATCH(Tabulka!$AI25,Přehled_body!$A$3:$A$130,0),MATCH(Tabulka!AA$2,Přehled_body!$E$1:$ED$1,0)),)=0,0.00000000001,IFERROR(INDEX(Přehled_body!$E$3:$ED$130,MATCH(Tabulka!$AI25,Přehled_body!$A$3:$A$130,0),MATCH(Tabulka!AA$2,Přehled_body!$E$1:$ED$1,0)),)))","v":0},{"$f":"IF(IFERROR(INDEX(Přehled_body!$E$3:$ED$130,MATCH(Tabulka!$AI25,Přehled_body!$A$3:$A$130,0),MATCH(Tabulka!AB$2,Přehled_body!$E$1:$ED$1,0)),)=\"\",,IF(IFERROR(INDEX(Přehled_body!$E$3:$ED$130,MATCH(Tabulka!$AI25,Přehled_body!$A$3:$A$130,0),MATCH(Tabulka!AB$2,Přehled_body!$E$1:$ED$1,0)),)=0,0.00000000001,IFERROR(INDEX(Přehled_body!$E$3:$ED$130,MATCH(Tabulka!$AI25,Přehled_body!$A$3:$A$130,0),MATCH(Tabulka!AB$2,Přehled_body!$E$1:$ED$1,0)),)))","v":0},{"$f":"IF(IFERROR(INDEX(Přehled_body!$E$3:$ED$130,MATCH(Tabulka!$AI25,Přehled_body!$A$3:$A$130,0),MATCH(Tabulka!AC$2,Přehled_body!$E$1:$ED$1,0)),)=\"\",,IF(IFERROR(INDEX(Přehled_body!$E$3:$ED$130,MATCH(Tabulka!$AI25,Přehled_body!$A$3:$A$130,0),MATCH(Tabulka!AC$2,Přehled_body!$E$1:$ED$1,0)),)=0,0.00000000001,IFERROR(INDEX(Přehled_body!$E$3:$ED$130,MATCH(Tabulka!$AI25,Přehled_body!$A$3:$A$130,0),MATCH(Tabulka!AC$2,Přehled_body!$E$1:$ED$1,0)),)))","v":0},{"$f":"IF(IFERROR(INDEX(Přehled_body!$E$3:$ED$130,MATCH(Tabulka!$AI25,Přehled_body!$A$3:$A$130,0),MATCH(Tabulka!AD$2,Přehled_body!$E$1:$ED$1,0)),)=\"\",,IF(IFERROR(INDEX(Přehled_body!$E$3:$ED$130,MATCH(Tabulka!$AI25,Přehled_body!$A$3:$A$130,0),MATCH(Tabulka!AD$2,Přehled_body!$E$1:$ED$1,0)),)=0,0.00000000001,IFERROR(INDEX(Přehled_body!$E$3:$ED$130,MATCH(Tabulka!$AI25,Přehled_body!$A$3:$A$130,0),MATCH(Tabulka!AD$2,Přehled_body!$E$1:$ED$1,0)),)))","v":0},{"$f":"IF(SUM(AG24)<2,-90000+SUM(D25:AD25),SUM(D25:AD25))","v":11.000000000069999},{"$f":"SUM(AE24-AE25)","v":15.999999999950003},null,11.000000000069999,{"$f":"CONCATENATE($B$25,\" \",$B$26,C25)","v":"Milan VeselýProhry"},null,null,17,null,null,"Milan",5]
[{"$f":"CONCATENATE(B26,\" \",B25)","v":"Veselý Milan"},"Veselý","Placeno panáků",{"$f":"IF(IFERROR(INDEX(Přehled_body!$E$3:$ED$130,MATCH(Tabulka!$AI26,Přehled_body!$A$3:$A$130,0),MATCH(Tabulka!D$2,Přehled_body!$E$1:$ED$1,0)),)=\"\",,IF(IFERROR(INDEX(Přehled_body!$E$3:$ED$130,MATCH(Tabulka!$AI26,Přehled_body!$A$3:$A$130,0),MATCH(Tabulka!D$2,Přehled_body!$E$1:$ED$1,0)),)=0,0.00000000001,IFERROR(INDEX(Přehled_body!$E$3:$ED$130,MATCH(Tabulka!$AI26,Přehled_body!$A$3:$A$130,0),MATCH(Tabulka!D$2,Přehled_body!$E$1:$ED$1,0)),)))","v":1},{"$f":"IF(IFERROR(INDEX(Přehled_body!$E$3:$ED$130,MATCH(Tabulka!$AI26,Přehled_body!$A$3:$A$130,0),MATCH(Tabulka!E$2,Přehled_body!$E$1:$ED$1,0)),)=\"\",,IF(IFERROR(INDEX(Přehled_body!$E$3:$ED$130,MATCH(Tabulka!$AI26,Přehled_body!$A$3:$A$130,0),MATCH(Tabulka!E$2,Přehled_body!$E$1:$ED$1,0)),)=0,0.00000000001,IFERROR(INDEX(Přehled_body!$E$3:$ED$130,MATCH(Tabulka!$AI26,Přehled_body!$A$3:$A$130,0),MATCH(Tabulka!E$2,Přehled_body!$E$1:$ED$1,0)),)))","v":9.9999999999999994E-12},{"$f":"IF(IFERROR(INDEX(Přehled_body!$E$3:$ED$130,MATCH(Tabulka!$AI26,Přehled_body!$A$3:$A$130,0),MATCH(Tabulka!F$2,Přehled_body!$E$1:$ED$1,0)),)=\"\",,IF(IFERROR(INDEX(Přehled_body!$E$3:$ED$130,MATCH(Tabulka!$AI26,Přehled_body!$A$3:$A$130,0),MATCH(Tabulka!F$2,Přehled_body!$E$1:$ED$1,0)),)=0,0.00000000001,IFERROR(INDEX(Přehled_body!$E$3:$ED$130,MATCH(Tabulka!$AI26,Přehled_body!$A$3:$A$130,0),MATCH(Tabulka!F$2,Přehled_body!$E$1:$ED$1,0)),)))","v":1},{"$f":"IF(IFERROR(INDEX(Přehled_body!$E$3:$ED$130,MATCH(Tabulka!$AI26,Přehled_body!$A$3:$A$130,0),MATCH(Tabulka!G$2,Přehled_body!$E$1:$ED$1,0)),)=\"\",,IF(IFERROR(INDEX(Přehled_body!$E$3:$ED$130,MATCH(Tabulka!$AI26,Přehled_body!$A$3:$A$130,0),MATCH(Tabulka!G$2,Přehled_body!$E$1:$ED$1,0)),)=0,0.00000000001,IFERROR(INDEX(Přehled_body!$E$3:$ED$130,MATCH(Tabulka!$AI26,Přehled_body!$A$3:$A$130,0),MATCH(Tabulka!G$2,Přehled_body!$E$1:$ED$1,0)),)))","v":2},{"$f":"IF(IFERROR(INDEX(Přehled_body!$E$3:$ED$130,MATCH(Tabulka!$AI26,Přehled_body!$A$3:$A$130,0),MATCH(Tabulka!H$2,Přehled_body!$E$1:$ED$1,0)),)=\"\",,IF(IFERROR(INDEX(Přehled_body!$E$3:$ED$130,MATCH(Tabulka!$AI26,Přehled_body!$A$3:$A$130,0),MATCH(Tabulka!H$2,Přehled_body!$E$1:$ED$1,0)),)=0,0.00000000001,IFERROR(INDEX(Přehled_body!$E$3:$ED$130,MATCH(Tabulka!$AI26,Přehled_body!$A$3:$A$130,0),MATCH(Tabulka!H$2,Přehled_body!$E$1:$ED$1,0)),)))","v":9.9999999999999994E-12},{"$f":"IF(IFERROR(INDEX(Přehled_body!$E$3:$ED$130,MATCH(Tabulka!$AI26,Přehled_body!$A$3:$A$130,0),MATCH(Tabulka!I$2,Přehled_body!$E$1:$ED$1,0)),)=\"\",,IF(IFERROR(INDEX(Přehled_body!$E$3:$ED$130,MATCH(Tabulka!$AI26,Přehled_body!$A$3:$A$130,0),MATCH(Tabulka!I$2,Přehled_body!$E$1:$ED$1,0)),)=0,0.00000000001,IFERROR(INDEX(Přehled_body!$E$3:$ED$130,MATCH(Tabulka!$AI26,Přehled_body!$A$3:$A$130,0),MATCH(Tabulka!I$2,Přehled_body!$E$1:$ED$1,0)),)))","v":1},{"$f":"IF(IFERROR(INDEX(Přehled_body!$E$3:$ED$130,MATCH(Tabulka!$AI26,Přehled_body!$A$3:$A$130,0),MATCH(Tabulka!J$2,Přehled_body!$E$1:$ED$1,0)),)=\"\",,IF(IFERROR(INDEX(Přehled_body!$E$3:$ED$130,MATCH(Tabulka!$AI26,Přehled_body!$A$3:$A$130,0),MATCH(Tabulka!J$2,Přehled_body!$E$1:$ED$1,0)),)=0,0.00000000001,IFERROR(INDEX(Přehled_body!$E$3:$ED$130,MATCH(Tabulka!$AI26,Přehled_body!$A$3:$A$130,0),MATCH(Tabulka!J$2,Přehled_body!$E$1:$ED$1,0)),)))","v":9.9999999999999994E-12},{"$f":"IF(IFERROR(INDEX(Přehled_body!$E$3:$ED$130,MATCH(Tabulka!$AI26,Přehled_body!$A$3:$A$130,0),MATCH(Tabulka!K$2,Přehled_body!$E$1:$ED$1,0)),)=\"\",,IF(IFERROR(INDEX(Přehled_body!$E$3:$ED$130,MATCH(Tabulka!$AI26,Přehled_body!$A$3:$A$130,0),MATCH(Tabulka!K$2,Přehled_body!$E$1:$ED$1,0)),)=0,0.00000000001,IFERROR(INDEX(Přehled_body!$E$3:$ED$130,MATCH(Tabulka!$AI26,Přehled_body!$A$3:$A$130,0),MATCH(Tabulka!K$2,Přehled_body!$E$1:$ED$1,0)),)))","v":9.9999999999999994E-12},{"$f":"IF(IFERROR(INDEX(Přehled_body!$E$3:$ED$130,MATCH(Tabulka!$AI26,Přehled_body!$A$3:$A$130,0),MATCH(Tabulka!L$2,Přehled_body!$E$1:$ED$1,0)),)=\"\",,IF(IFERROR(INDEX(Přehled_body!$E$3:$ED$130,MATCH(Tabulka!$AI26,Přehled_body!$A$3:$A$130,0),MATCH(Tabulka!L$2,Přehled_body!$E$1:$ED$1,0)),)=0,0.00000000001,IFERROR(INDEX(Přehled_body!$E$3:$ED$130,MATCH(Tabulka!$AI26,Přehled_body!$A$3:$A$130,0),MATCH(Tabulka!L$2,Přehled_body!$E$1:$ED$1,0)),)))","v":9.9999999999999994E-12},{"$f":"IF(IFERROR(INDEX(Přehled_body!$E$3:$ED$130,MATCH(Tabulka!$AI26,Přehled_body!$A$3:$A$130,0),MATCH(Tabulka!M$2,Přehled_body!$E$1:$ED$1,0)),)=\"\",,IF(IFERROR(INDEX(Přehled_body!$E$3:$ED$130,MATCH(Tabulka!$AI26,Přehled_body!$A$3:$A$130,0),MATCH(Tabulka!M$2,Přehled_body!$E$1:$ED$1,0)),)=0,0.00000000001,IFERROR(INDEX(Přehled_body!$E$3:$ED$130,MATCH(Tabulka!$AI26,Přehled_body!$A$3:$A$130,0),MATCH(Tabulka!M$2,Přehled_body!$E$1:$ED$1,0)),)))","v":1},{"$f":"IF(IFERROR(INDEX(Přehled_body!$E$3:$ED$130,MATCH(Tabulka!$AI26,Přehled_body!$A$3:$A$130,0),MATCH(Tabulka!N$2,Přehled_body!$E$1:$ED$1,0)),)=\"\",,IF(IFERROR(INDEX(Přehled_body!$E$3:$ED$130,MATCH(Tabulka!$AI26,Přehled_body!$A$3:$A$130,0),MATCH(Tabulka!N$2,Přehled_body!$E$1:$ED$1,0)),)=0,0.00000000001,IFERROR(INDEX(Přehled_body!$E$3:$ED$130,MATCH(Tabulka!$AI26,Přehled_body!$A$3:$A$130,0),MATCH(Tabulka!N$2,Přehled_body!$E$1:$ED$1,0)),)))","v":1},{"$f":"IF(IFERROR(INDEX(Přehled_body!$E$3:$ED$130,MATCH(Tabulka!$AI26,Přehled_body!$A$3:$A$130,0),MATCH(Tabulka!O$2,Přehled_body!$E$1:$ED$1,0)),)=\"\",,IF(IFERROR(INDEX(Přehled_body!$E$3:$ED$130,MATCH(Tabulka!$AI26,Přehled_body!$A$3:$A$130,0),MATCH(Tabulka!O$2,Přehled_body!$E$1:$ED$1,0)),)=0,0.00000000001,IFERROR(INDEX(Přehled_body!$E$3:$ED$130,MATCH(Tabulka!$AI26,Přehled_body!$A$3:$A$130,0),MATCH(Tabulka!O$2,Přehled_body!$E$1:$ED$1,0)),)))","v":2},{"$f":"IF(IFERROR(INDEX(Přehled_body!$E$3:$ED$130,MATCH(Tabulka!$AI26,Přehled_body!$A$3:$A$130,0),MATCH(Tabulka!P$2,Přehled_body!$E$1:$ED$1,0)),)=\"\",,IF(IFERROR(INDEX(Přehled_body!$E$3:$ED$130,MATCH(Tabulka!$AI26,Přehled_body!$A$3:$A$130,0),MATCH(Tabulka!P$2,Přehled_body!$E$1:$ED$1,0)),)=0,0.00000000001,IFERROR(INDEX(Přehled_body!$E$3:$ED$130,MATCH(Tabulka!$AI26,Přehled_body!$A$3:$A$130,0),MATCH(Tabulka!P$2,Přehled_body!$E$1:$ED$1,0)),)))","v":1},{"$f":"IF(IFERROR(INDEX(Přehled_body!$E$3:$ED$130,MATCH(Tabulka!$AI26,Přehled_body!$A$3:$A$130,0),MATCH(Tabulka!Q$2,Přehled_body!$E$1:$ED$1,0)),)=\"\",,IF(IFERROR(INDEX(Přehled_body!$E$3:$ED$130,MATCH(Tabulka!$AI26,Přehled_body!$A$3:$A$130,0),MATCH(Tabulka!Q$2,Přehled_body!$E$1:$ED$1,0)),)=0,0.00000000001,IFERROR(INDEX(Přehled_body!$E$3:$ED$130,MATCH(Tabulka!$AI26,Přehled_body!$A$3:$A$130,0),MATCH(Tabulka!Q$2,Přehled_body!$E$1:$ED$1,0)),)))","v":2},{"$f":"IF(IFERROR(INDEX(Přehled_body!$E$3:$ED$130,MATCH(Tabulka!$AI26,Přehled_body!$A$3:$A$130,0),MATCH(Tabulka!R$2,Přehled_body!$E$1:$ED$1,0)),)=\"\",,IF(IFERROR(INDEX(Přehled_body!$E$3:$ED$130,MATCH(Tabulka!$AI26,Přehled_body!$A$3:$A$130,0),MATCH(Tabulka!R$2,Přehled_body!$E$1:$ED$1,0)),)=0,0.00000000001,IFERROR(INDEX(Přehled_body!$E$3:$ED$130,MATCH(Tabulka!$AI26,Přehled_body!$A$3:$A$130,0),MATCH(Tabulka!R$2,Přehled_body!$E$1:$ED$1,0)),)))","v":1},{"$f":"IF(IFERROR(INDEX(Přehled_body!$E$3:$ED$130,MATCH(Tabulka!$AI26,Přehled_body!$A$3:$A$130,0),MATCH(Tabulka!S$2,Přehled_body!$E$1:$ED$1,0)),)=\"\",,IF(IFERROR(INDEX(Přehled_body!$E$3:$ED$130,MATCH(Tabulka!$AI26,Přehled_body!$A$3:$A$130,0),MATCH(Tabulka!S$2,Přehled_body!$E$1:$ED$1,0)),)=0,0.00000000001,IFERROR(INDEX(Přehled_body!$E$3:$ED$130,MATCH(Tabulka!$AI26,Přehled_body!$A$3:$A$130,0),MATCH(Tabulka!S$2,Přehled_body!$E$1:$ED$1,0)),)))","v":9.9999999999999994E-12},{"$f":"IF(IFERROR(INDEX(Přehled_body!$E$3:$ED$130,MATCH(Tabulka!$AI26,Přehled_body!$A$3:$A$130,0),MATCH(Tabulka!T$2,Přehled_body!$E$1:$ED$1,0)),)=\"\",,IF(IFERROR(INDEX(Přehled_body!$E$3:$ED$130,MATCH(Tabulka!$AI26,Přehled_body!$A$3:$A$130,0),MATCH(Tabulka!T$2,Přehled_body!$E$1:$ED$1,0)),)=0,0.00000000001,IFERROR(INDEX(Přehled_body!$E$3:$ED$130,MATCH(Tabulka!$AI26,Přehled_body!$A$3:$A$130,0),MATCH(Tabulka!T$2,Přehled_body!$E$1:$ED$1,0)),)))","v":9.9999999999999994E-12},{"$f":"IF(IFERROR(INDEX(Přehled_body!$E$3:$ED$130,MATCH(Tabulka!$AI26,Přehled_body!$A$3:$A$130,0),MATCH(Tabulka!U$2,Přehled_body!$E$1:$ED$1,0)),)=\"\",,IF(IFERROR(INDEX(Přehled_body!$E$3:$ED$130,MATCH(Tabulka!$AI26,Přehled_body!$A$3:$A$130,0),MATCH(Tabulka!U$2,Přehled_body!$E$1:$ED$1,0)),)=0,0.00000000001,IFERROR(INDEX(Přehled_body!$E$3:$ED$130,MATCH(Tabulka!$AI26,Přehled_body!$A$3:$A$130,0),MATCH(Tabulka!U$2,Přehled_body!$E$1:$ED$1,0)),)))","v":0},{"$f":"IF(IFERROR(INDEX(Přehled_body!$E$3:$ED$130,MATCH(Tabulka!$AI26,Přehled_body!$A$3:$A$130,0),MATCH(Tabulka!V$2,Přehled_body!$E$1:$ED$1,0)),)=\"\",,IF(IFERROR(INDEX(Přehled_body!$E$3:$ED$130,MATCH(Tabulka!$AI26,Přehled_body!$A$3:$A$130,0),MATCH(Tabulka!V$2,Přehled_body!$E$1:$ED$1,0)),)=0,0.00000000001,IFERROR(INDEX(Přehled_body!$E$3:$ED$130,MATCH(Tabulka!$AI26,Přehled_body!$A$3:$A$130,0),MATCH(Tabulka!V$2,Přehled_body!$E$1:$ED$1,0)),)))","v":0},{"$f":"IF(IFERROR(INDEX(Přehled_body!$E$3:$ED$130,MATCH(Tabulka!$AI26,Přehled_body!$A$3:$A$130,0),MATCH(Tabulka!W$2,Přehled_body!$E$1:$ED$1,0)),)=\"\",,IF(IFERROR(INDEX(Přehled_body!$E$3:$ED$130,MATCH(Tabulka!$AI26,Přehled_body!$A$3:$A$130,0),MATCH(Tabulka!W$2,Přehled_body!$E$1:$ED$1,0)),)=0,0.00000000001,IFERROR(INDEX(Přehled_body!$E$3:$ED$130,MATCH(Tabulka!$AI26,Přehled_body!$A$3:$A$130,0),MATCH(Tabulka!W$2,Přehled_body!$E$1:$ED$1,0)),)))","v":0},{"$f":"IF(IFERROR(INDEX(Přehled_body!$E$3:$ED$130,MATCH(Tabulka!$AI26,Přehled_body!$A$3:$A$130,0),MATCH(Tabulka!X$2,Přehled_body!$E$1:$ED$1,0)),)=\"\",,IF(IFERROR(INDEX(Přehled_body!$E$3:$ED$130,MATCH(Tabulka!$AI26,Přehled_body!$A$3:$A$130,0),MATCH(Tabulka!X$2,Přehled_body!$E$1:$ED$1,0)),)=0,0.00000000001,IFERROR(INDEX(Přehled_body!$E$3:$ED$130,MATCH(Tabulka!$AI26,Přehled_body!$A$3:$A$130,0),MATCH(Tabulka!X$2,Přehled_body!$E$1:$ED$1,0)),)))","v":0},{"$f":"IF(IFERROR(INDEX(Přehled_body!$E$3:$ED$130,MATCH(Tabulka!$AI26,Přehled_body!$A$3:$A$130,0),MATCH(Tabulka!Y$2,Přehled_body!$E$1:$ED$1,0)),)=\"\",,IF(IFERROR(INDEX(Přehled_body!$E$3:$ED$130,MATCH(Tabulka!$AI26,Přehled_body!$A$3:$A$130,0),MATCH(Tabulka!Y$2,Přehled_body!$E$1:$ED$1,0)),)=0,0.00000000001,IFERROR(INDEX(Přehled_body!$E$3:$ED$130,MATCH(Tabulka!$AI26,Přehled_body!$A$3:$A$130,0),MATCH(Tabulka!Y$2,Přehled_body!$E$1:$ED$1,0)),)))","v":0},{"$f":"IF(IFERROR(INDEX(Přehled_body!$E$3:$ED$130,MATCH(Tabulka!$AI26,Přehled_body!$A$3:$A$130,0),MATCH(Tabulka!Z$2,Přehled_body!$E$1:$ED$1,0)),)=\"\",,IF(IFERROR(INDEX(Přehled_body!$E$3:$ED$130,MATCH(Tabulka!$AI26,Přehled_body!$A$3:$A$130,0),MATCH(Tabulka!Z$2,Přehled_body!$E$1:$ED$1,0)),)=0,0.00000000001,IFERROR(INDEX(Přehled_body!$E$3:$ED$130,MATCH(Tabulka!$AI26,Přehled_body!$A$3:$A$130,0),MATCH(Tabulka!Z$2,Přehled_body!$E$1:$ED$1,0)),)))","v":0},{"$f":"IF(IFERROR(INDEX(Přehled_body!$E$3:$ED$130,MATCH(Tabulka!$AI26,Přehled_body!$A$3:$A$130,0),MATCH(Tabulka!AA$2,Přehled_body!$E$1:$ED$1,0)),)=\"\",,IF(IFERROR(INDEX(Přehled_body!$E$3:$ED$130,MATCH(Tabulka!$AI26,Přehled_body!$A$3:$A$130,0),MATCH(Tabulka!AA$2,Přehled_body!$E$1:$ED$1,0)),)=0,0.00000000001,IFERROR(INDEX(Přehled_body!$E$3:$ED$130,MATCH(Tabulka!$AI26,Přehled_body!$A$3:$A$130,0),MATCH(Tabulka!AA$2,Přehled_body!$E$1:$ED$1,0)),)))","v":0},{"$f":"IF(IFERROR(INDEX(Přehled_body!$E$3:$ED$130,MATCH(Tabulka!$AI26,Přehled_body!$A$3:$A$130,0),MATCH(Tabulka!AB$2,Přehled_body!$E$1:$ED$1,0)),)=\"\",,IF(IFERROR(INDEX(Přehled_body!$E$3:$ED$130,MATCH(Tabulka!$AI26,Přehled_body!$A$3:$A$130,0),MATCH(Tabulka!AB$2,Přehled_body!$E$1:$ED$1,0)),)=0,0.00000000001,IFERROR(INDEX(Přehled_body!$E$3:$ED$130,MATCH(Tabulka!$AI26,Přehled_body!$A$3:$A$130,0),MATCH(Tabulka!AB$2,Přehled_body!$E$1:$ED$1,0)),)))","v":0},{"$f":"IF(IFERROR(INDEX(Přehled_body!$E$3:$ED$130,MATCH(Tabulka!$AI26,Přehled_body!$A$3:$A$130,0),MATCH(Tabulka!AC$2,Přehled_body!$E$1:$ED$1,0)),)=\"\",,IF(IFERROR(INDEX(Přehled_body!$E$3:$ED$130,MATCH(Tabulka!$AI26,Přehled_body!$A$3:$A$130,0),MATCH(Tabulka!AC$2,Přehled_body!$E$1:$ED$1,0)),)=0,0.00000000001,IFERROR(INDEX(Přehled_body!$E$3:$ED$130,MATCH(Tabulka!$AI26,Přehled_body!$A$3:$A$130,0),MATCH(Tabulka!AC$2,Přehled_body!$E$1:$ED$1,0)),)))","v":0},{"$f":"IF(IFERROR(INDEX(Přehled_body!$E$3:$ED$130,MATCH(Tabulka!$AI26,Přehled_body!$A$3:$A$130,0),MATCH(Tabulka!AD$2,Přehled_body!$E$1:$ED$1,0)),)=\"\",,IF(IFERROR(INDEX(Přehled_body!$E$3:$ED$130,MATCH(Tabulka!$AI26,Přehled_body!$A$3:$A$130,0),MATCH(Tabulka!AD$2,Přehled_body!$E$1:$ED$1,0)),)=0,0.00000000001,IFERROR(INDEX(Přehled_body!$E$3:$ED$130,MATCH(Tabulka!$AI26,Přehled_body!$A$3:$A$130,0),MATCH(Tabulka!AD$2,Přehled_body!$E$1:$ED$1,0)),)))","v":0},{"$f":"IF(SUM(AG24)<2,-90000+SUM(D26:AD26),SUM(D26:AD26))","v":13.000000000069999},null,null,{"$f":"SUM(D26:AD26)+INDEX(List4!$D$2:$F$17,MATCH(Tabulka!A25,List4!$D$2:$D$17,0),3)","v":13.00000016107},{"$f":"CONCATENATE($B$25,\" \",$B$26,C26)","v":"Milan VeselýPlaceno panáků"},null,null,17,null,null,"Veselý",{"$f":"CONCATENATE(AQ26,\" \",AQ27)","v":"Adam Šmíd"},"Adam"]
[null,null,"Přehozy",{"$f":"IF(IFERROR(INDEX(Přehled_body!$E$3:$ED$130,MATCH(Tabulka!$AI27,Přehled_body!$A$3:$A$130,0),MATCH(Tabulka!D$2,Přehled_body!$E$1:$ED$1,0)),)=\"\",,IF(IFERROR(INDEX(Přehled_body!$E$3:$ED$130,MATCH(Tabulka!$AI27,Přehled_body!$A$3:$A$130,0),MATCH(Tabulka!D$2,Přehled_body!$E$1:$ED$1,0)),)=0,0.00000000001,IFERROR(INDEX(Přehled_body!$E$3:$ED$130,MATCH(Tabulka!$AI27,Přehled_body!$A$3:$A$130,0),MATCH(Tabulka!D$2,Přehled_body!$E$1:$ED$1,0)),)))","v":9.9999999999999994E-12},{"$f":"IF(IFERROR(INDEX(Přehled_body!$E$3:$ED$130,MATCH(Tabulka!$AI27,Přehled_body!$A$3:$A$130,0),MATCH(Tabulka!E$2,Přehled_body!$E$1:$ED$1,0)),)=\"\",,IF(IFERROR(INDEX(Přehled_body!$E$3:$ED$130,MATCH(Tabulka!$AI27,Přehled_body!$A$3:$A$130,0),MATCH(Tabulka!E$2,Přehled_body!$E$1:$ED$1,0)),)=0,0.00000000001,IFERROR(INDEX(Přehled_body!$E$3:$ED$130,MATCH(Tabulka!$AI27,Přehled_body!$A$3:$A$130,0),MATCH(Tabulka!E$2,Přehled_body!$E$1:$ED$1,0)),)))","v":3},{"$f":"IF(IFERROR(INDEX(Přehled_body!$E$3:$ED$130,MATCH(Tabulka!$AI27,Přehled_body!$A$3:$A$130,0),MATCH(Tabulka!F$2,Přehled_body!$E$1:$ED$1,0)),)=\"\",,IF(IFERROR(INDEX(Přehled_body!$E$3:$ED$130,MATCH(Tabulka!$AI27,Přehled_body!$A$3:$A$130,0),MATCH(Tabulka!F$2,Přehled_body!$E$1:$ED$1,0)),)=0,0.00000000001,IFERROR(INDEX(Přehled_body!$E$3:$ED$130,MATCH(Tabulka!$AI27,Přehled_body!$A$3:$A$130,0),MATCH(Tabulka!F$2,Přehled_body!$E$1:$ED$1,0)),)))","v":9.9999999999999994E-12},{"$f":"IF(IFERROR(INDEX(Přehled_body!$E$3:$ED$130,MATCH(Tabulka!$AI27,Přehled_body!$A$3:$A$130,0),MATCH(Tabulka!G$2,Přehled_body!$E$1:$ED$1,0)),)=\"\",,IF(IFERROR(INDEX(Přehled_body!$E$3:$ED$130,MATCH(Tabulka!$AI27,Přehled_body!$A$3:$A$130,0),MATCH(Tabulka!G$2,Přehled_body!$E$1:$ED$1,0)),)=0,0.00000000001,IFERROR(INDEX(Přehled_body!$E$3:$ED$130,MATCH(Tabulka!$AI27,Přehled_body!$A$3:$A$130,0),MATCH(Tabulka!G$2,Přehled_body!$E$1:$ED$1,0)),)))","v":1},{"$f":"IF(IFERROR(INDEX(Přehled_body!$E$3:$ED$130,MATCH(Tabulka!$AI27,Přehled_body!$A$3:$A$130,0),MATCH(Tabulka!H$2,Přehled_body!$E$1:$ED$1,0)),)=\"\",,IF(IFERROR(INDEX(Přehled_body!$E$3:$ED$130,MATCH(Tabulka!$AI27,Přehled_body!$A$3:$A$130,0),MATCH(Tabulka!H$2,Přehled_body!$E$1:$ED$1,0)),)=0,0.00000000001,IFERROR(INDEX(Přehled_body!$E$3:$ED$130,MATCH(Tabulka!$AI27,Přehled_body!$A$3:$A$130,0),MATCH(Tabulka!H$2,Přehled_body!$E$1:$ED$1,0)),)))","v":1},{"$f":"IF(IFERROR(INDEX(Přehled_body!$E$3:$ED$130,MATCH(Tabulka!$AI27,Přehled_body!$A$3:$A$130,0),MATCH(Tabulka!I$2,Přehled_body!$E$1:$ED$1,0)),)=\"\",,IF(IFERROR(INDEX(Přehled_body!$E$3:$ED$130,MATCH(Tabulka!$AI27,Přehled_body!$A$3:$A$130,0),MATCH(Tabulka!I$2,Přehled_body!$E$1:$ED$1,0)),)=0,0.00000000001,IFERROR(INDEX(Přehled_body!$E$3:$ED$130,MATCH(Tabulka!$AI27,Přehled_body!$A$3:$A$130,0),MATCH(Tabulka!I$2,Přehled_body!$E$1:$ED$1,0)),)))","v":9.9999999999999994E-12},{"$f":"IF(IFERROR(INDEX(Přehled_body!$E$3:$ED$130,MATCH(Tabulka!$AI27,Přehled_body!$A$3:$A$130,0),MATCH(Tabulka!J$2,Přehled_body!$E$1:$ED$1,0)),)=\"\",,IF(IFERROR(INDEX(Přehled_body!$E$3:$ED$130,MATCH(Tabulka!$AI27,Přehled_body!$A$3:$A$130,0),MATCH(Tabulka!J$2,Přehled_body!$E$1:$ED$1,0)),)=0,0.00000000001,IFERROR(INDEX(Přehled_body!$E$3:$ED$130,MATCH(Tabulka!$AI27,Přehled_body!$A$3:$A$130,0),MATCH(Tabulka!J$2,Přehled_body!$E$1:$ED$1,0)),)))","v":9.9999999999999994E-12},{"$f":"IF(IFERROR(INDEX(Přehled_body!$E$3:$ED$130,MATCH(Tabulka!$AI27,Přehled_body!$A$3:$A$130,0),MATCH(Tabulka!K$2,Přehled_body!$E$1:$ED$1,0)),)=\"\",,IF(IFERROR(INDEX(Přehled_body!$E$3:$ED$130,MATCH(Tabulka!$AI27,Přehled_body!$A$3:$A$130,0),MATCH(Tabulka!K$2,Přehled_body!$E$1:$ED$1,0)),)=0,0.00000000001,IFERROR(INDEX(Přehled_body!$E$3:$ED$130,MATCH(Tabulka!$AI27,Přehled_body!$A$3:$A$130,0),MATCH(Tabulka!K$2,Přehled_body!$E$1:$ED$1,0)),)))","v":1},{"$f":"IF(IFERROR(INDEX(Přehled_body!$E$3:$ED$130,MATCH(Tabulka!$AI27,Přehled_body!$A$3:$A$130,0),MATCH(Tabulka!L$2,Přehled_body!$E$1:$ED$1,0)),)=\"\",,IF(IFERROR(INDEX(Přehled_body!$E$3:$ED$130,MATCH(Tabulka!$AI27,Přehled_body!$A$3:$A$130,0),MATCH(Tabulka!L$2,Přehled_body!$E$1:$ED$1,0)),)=0,0.00000000001,IFERROR(INDEX(Přehled_body!$E$3:$ED$130,MATCH(Tabulka!$AI27,Přehled_body!$A$3:$A$130,0),MATCH(Tabulka!L$2,Přehled_body!$E$1:$ED$1,0)),)))","v":1},{"$f":"IF(IFERROR(INDEX(Přehled_body!$E$3:$ED$130,MATCH(Tabulka!$AI27,Přehled_body!$A$3:$A$130,0),MATCH(Tabulka!M$2,Přehled_body!$E$1:$ED$1,0)),)=\"\",,IF(IFERROR(INDEX(Přehled_body!$E$3:$ED$130,MATCH(Tabulka!$AI27,Přehled_body!$A$3:$A$130,0),MATCH(Tabulka!M$2,Přehled_body!$E$1:$ED$1,0)),)=0,0.00000000001,IFERROR(INDEX(Přehled_body!$E$3:$ED$130,MATCH(Tabulka!$AI27,Přehled_body!$A$3:$A$130,0),MATCH(Tabulka!M$2,Přehled_body!$E$1:$ED$1,0)),)))","v":3},{"$f":"IF(IFERROR(INDEX(Přehled_body!$E$3:$ED$130,MATCH(Tabulka!$AI27,Přehled_body!$A$3:$A$130,0),MATCH(Tabulka!N$2,Přehled_body!$E$1:$ED$1,0)),)=\"\",,IF(IFERROR(INDEX(Přehled_body!$E$3:$ED$130,MATCH(Tabulka!$AI27,Přehled_body!$A$3:$A$130,0),MATCH(Tabulka!N$2,Přehled_body!$E$1:$ED$1,0)),)=0,0.00000000001,IFERROR(INDEX(Přehled_body!$E$3:$ED$130,MATCH(Tabulka!$AI27,Přehled_body!$A$3:$A$130,0),MATCH(Tabulka!N$2,Přehled_body!$E$1:$ED$1,0)),)))","v":9.9999999999999994E-12},{"$f":"IF(IFERROR(INDEX(Přehled_body!$E$3:$ED$130,MATCH(Tabulka!$AI27,Přehled_body!$A$3:$A$130,0),MATCH(Tabulka!O$2,Přehled_body!$E$1:$ED$1,0)),)=\"\",,IF(IFERROR(INDEX(Přehled_body!$E$3:$ED$130,MATCH(Tabulka!$AI27,Přehled_body!$A$3:$A$130,0),MATCH(Tabulka!O$2,Přehled_body!$E$1:$ED$1,0)),)=0,0.00000000001,IFERROR(INDEX(Přehled_body!$E$3:$ED$130,MATCH(Tabulka!$AI27,Přehled_body!$A$3:$A$130,0),MATCH(Tabulka!O$2,Přehled_body!$E$1:$ED$1,0)),)))","v":9.9999999999999994E-12},{"$f":"IF(IFERROR(INDEX(Přehled_body!$E$3:$ED$130,MATCH(Tabulka!$AI27,Přehled_body!$A$3:$A$130,0),MATCH(Tabulka!P$2,Přehled_body!$E$1:$ED$1,0)),)=\"\",,IF(IFERROR(INDEX(Přehled_body!$E$3:$ED$130,MATCH(Tabulka!$AI27,Přehled_body!$A$3:$A$130,0),MATCH(Tabulka!P$2,Přehled_body!$E$1:$ED$1,0)),)=0,0.00000000001,IFERROR(INDEX(Přehled_body!$E$3:$ED$130,MATCH(Tabulka!$AI27,Přehled_body!$A$3:$A$130,0),MATCH(Tabulka!P$2,Přehled_body!$E$1:$ED$1,0)),)))","v":9.9999999999999994E-12},{"$f":"IF(IFERROR(INDEX(Přehled_body!$E$3:$ED$130,MATCH(Tabulka!$AI27,Přehled_body!$A$3:$A$130,0),MATCH(Tabulka!Q$2,Přehled_body!$E$1:$ED$1,0)),)=\"\",,IF(IFERROR(INDEX(Přehled_body!$E$3:$ED$130,MATCH(Tabulka!$AI27,Přehled_body!$A$3:$A$130,0),MATCH(Tabulka!Q$2,Přehled_body!$E$1:$ED$1,0)),)=0,0.00000000001,IFERROR(INDEX(Přehled_body!$E$3:$ED$130,MATCH(Tabulka!$AI27,Přehled_body!$A$3:$A$130,0),MATCH(Tabulka!Q$2,Přehled_body!$E$1:$ED$1,0)),)))","v":1},{"$f":"IF(IFERROR(INDEX(Přehled_body!$E$3:$ED$130,MATCH(Tabulka!$AI27,Přehled_body!$A$3:$A$130,0),MATCH(Tabulka!R$2,Přehled_body!$E$1:$ED$1,0)),)=\"\",,IF(IFERROR(INDEX(Přehled_body!$E$3:$ED$130,MATCH(Tabulka!$AI27,Přehled_body!$A$3:$A$130,0),MATCH(Tabulka!R$2,Přehled_body!$E$1:$ED$1,0)),)=0,0.00000000001,IFERROR(INDEX(Přehled_body!$E$3:$ED$130,MATCH(Tabulka!$AI27,Přehled_body!$A$3:$A$130,0),MATCH(Tabulka!R$2,Přehled_body!$E$1:$ED$1,0)),)))","v":3},{"$f":"IF(IFERROR(INDEX(Přehled_body!$E$3:$ED$130,MATCH(Tabulka!$AI27,Přehled_body!$A$3:$A$130,0),MATCH(Tabulka!S$2,Přehled_body!$E$1:$ED$1,0)),)=\"\",,IF(IFERROR(INDEX(Přehled_body!$E$3:$ED$130,MATCH(Tabulka!$AI27,Přehled_body!$A$3:$A$130,0),MATCH(Tabulka!S$2,Přehled_body!$E$1:$ED$1,0)),)=0,0.00000000001,IFERROR(INDEX(Přehled_body!$E$3:$ED$130,MATCH(Tabulka!$AI27,Přehled_body!$A$3:$A$130,0),MATCH(Tabulka!S$2,Přehled_body!$E$1:$ED$1,0)),)))","v":9.9999999999999994E-12},{"$f":"IF(IFERROR(INDEX(Přehled_body!$E$3:$ED$130,MATCH(Tabulka!$AI27,Přehled_body!$A$3:$A$130,0),MATCH(Tabulka!T$2,Přehled_body!$E$1:$ED$1,0)),)=\"\",,IF(IFERROR(INDEX(Přehled_body!$E$3:$ED$130,MATCH(Tabulka!$AI27,Přehled_body!$A$3:$A$130,0),MATCH(Tabulka!T$2,Přehled_body!$E$1:$ED$1,0)),)=0,0.00000000001,IFERROR(INDEX(Přehled_body!$E$3:$ED$130,MATCH(Tabulka!$AI27,Přehled_body!$A$3:$A$130,0),MATCH(Tabulka!T$2,Přehled_body!$E$1:$ED$1,0)),)))","v":2},{"$f":"IF(IFERROR(INDEX(Přehled_body!$E$3:$ED$130,MATCH(Tabulka!$AI27,Přehled_body!$A$3:$A$130,0),MATCH(Tabulka!U$2,Přehled_body!$E$1:$ED$1,0)),)=\"\",,IF(IFERROR(INDEX(Přehled_body!$E$3:$ED$130,MATCH(Tabulka!$AI27,Přehled_body!$A$3:$A$130,0),MATCH(Tabulka!U$2,Přehled_body!$E$1:$ED$1,0)),)=0,0.00000000001,IFERROR(INDEX(Přehled_body!$E$3:$ED$130,MATCH(Tabulka!$AI27,Přehled_body!$A$3:$A$130,0),MATCH(Tabulka!U$2,Přehled_body!$E$1:$ED$1,0)),)))","v":0},{"$f":"IF(IFERROR(INDEX(Přehled_body!$E$3:$ED$130,MATCH(Tabulka!$AI27,Přehled_body!$A$3:$A$130,0),MATCH(Tabulka!V$2,Přehled_body!$E$1:$ED$1,0)),)=\"\",,IF(IFERROR(INDEX(Přehled_body!$E$3:$ED$130,MATCH(Tabulka!$AI27,Přehled_body!$A$3:$A$130,0),MATCH(Tabulka!V$2,Přehled_body!$E$1:$ED$1,0)),)=0,0.00000000001,IFERROR(INDEX(Přehled_body!$E$3:$ED$130,MATCH(Tabulka!$AI27,Přehled_body!$A$3:$A$130,0),MATCH(Tabulka!V$2,Přehled_body!$E$1:$ED$1,0)),)))","v":0},{"$f":"IF(IFERROR(INDEX(Přehled_body!$E$3:$ED$130,MATCH(Tabulka!$AI27,Přehled_body!$A$3:$A$130,0),MATCH(Tabulka!W$2,Přehled_body!$E$1:$ED$1,0)),)=\"\",,IF(IFERROR(INDEX(Přehled_body!$E$3:$ED$130,MATCH(Tabulka!$AI27,Přehled_body!$A$3:$A$130,0),MATCH(Tabulka!W$2,Přehled_body!$E$1:$ED$1,0)),)=0,0.00000000001,IFERROR(INDEX(Přehled_body!$E$3:$ED$130,MATCH(Tabulka!$AI27,Přehled_body!$A$3:$A$130,0),MATCH(Tabulka!W$2,Přehled_body!$E$1:$ED$1,0)),)))","v":0},{"$f":"IF(IFERROR(INDEX(Přehled_body!$E$3:$ED$130,MATCH(Tabulka!$AI27,Přehled_body!$A$3:$A$130,0),MATCH(Tabulka!X$2,Přehled_body!$E$1:$ED$1,0)),)=\"\",,IF(IFERROR(INDEX(Přehled_body!$E$3:$ED$130,MATCH(Tabulka!$AI27,Přehled_body!$A$3:$A$130,0),MATCH(Tabulka!X$2,Přehled_body!$E$1:$ED$1,0)),)=0,0.00000000001,IFERROR(INDEX(Přehled_body!$E$3:$ED$130,MATCH(Tabulka!$AI27,Přehled_body!$A$3:$A$130,0),MATCH(Tabulka!X$2,Přehled_body!$E$1:$ED$1,0)),)))","v":0},{"$f":"IF(IFERROR(INDEX(Přehled_body!$E$3:$ED$130,MATCH(Tabulka!$AI27,Přehled_body!$A$3:$A$130,0),MATCH(Tabulka!Y$2,Přehled_body!$E$1:$ED$1,0)),)=\"\",,IF(IFERROR(INDEX(Přehled_body!$E$3:$ED$130,MATCH(Tabulka!$AI27,Přehled_body!$A$3:$A$130,0),MATCH(Tabulka!Y$2,Přehled_body!$E$1:$ED$1,0)),)=0,0.00000000001,IFERROR(INDEX(Přehled_body!$E$3:$ED$130,MATCH(Tabulka!$AI27,Přehled_body!$A$3:$A$130,0),MATCH(Tabulka!Y$2,Přehled_body!$E$1:$ED$1,0)),)))","v":0},{"$f":"IF(IFERROR(INDEX(Přehled_body!$E$3:$ED$130,MATCH(Tabulka!$AI27,Přehled_body!$A$3:$A$130,0),MATCH(Tabulka!Z$2,Přehled_body!$E$1:$ED$1,0)),)=\"\",,IF(IFERROR(INDEX(Přehled_body!$E$3:$ED$130,MATCH(Tabulka!$AI27,Přehled_body!$A$3:$A$130,0),MATCH(Tabulka!Z$2,Přehled_body!$E$1:$ED$1,0)),)=0,0.00000000001,IFERROR(INDEX(Přehled_body!$E$3:$ED$130,MATCH(Tabulka!$AI27,Přehled_body!$A$3:$A$130,0),MATCH(Tabulka!Z$2,Přehled_body!$E$1:$ED$1,0)),)))","v":0},{"$f":"IF(IFERROR(INDEX(Přehled_body!$E$3:$ED$130,MATCH(Tabulka!$AI27,Přehled_body!$A$3:$A$130,0),MATCH(Tabulka!AA$2,Přehled_body!$E$1:$ED$1,0)),)=\"\",,IF(IFERROR(INDEX(Přehled_body!$E$3:$ED$130,MATCH(Tabulka!$AI27,Přehled_body!$A$3:$A$130,0),MATCH(Tabulka!AA$2,Přehled_body!$E$1:$ED$1,0)),)=0,0.00000000001,IFERROR(INDEX(Přehled_body!$E$3:$ED$130,MATCH(Tabulka!$AI27,Přehled_body!$A$3:$A$130,0),MATCH(Tabulka!AA$2,Přehled_body!$E$1:$ED$1,0)),)))","v":0},{"$f":"IF(IFERROR(INDEX(Přehled_body!$E$3:$ED$130,MATCH(Tabulka!$AI27,Přehled_body!$A$3:$A$130,0),MATCH(Tabulka!AB$2,Přehled_body!$E$1:$ED$1,0)),)=\"\",,IF(IFERROR(INDEX(Přehled_body!$E$3:$ED$130,MATCH(Tabulka!$AI27,Přehled_body!$A$3:$A$130,0),MATCH(Tabulka!AB$2,Přehled_body!$E$1:$ED$1,0)),)=0,0.00000000001,IFERROR(INDEX(Přehled_body!$E$3:$ED$130,MATCH(Tabulka!$AI27,Přehled_body!$A$3:$A$130,0),MATCH(Tabulka!AB$2,Přehled_body!$E$1:$ED$1,0)),)))","v":0},{"$f":"IF(IFERROR(INDEX(Přehled_body!$E$3:$ED$130,MATCH(Tabulka!$AI27,Přehled_body!$A$3:$A$130,0),MATCH(Tabulka!AC$2,Přehled_body!$E$1:$ED$1,0)),)=\"\",,IF(IFERROR(INDEX(Přehled_body!$E$3:$ED$130,MATCH(Tabulka!$AI27,Přehled_body!$A$3:$A$130,0),MATCH(Tabulka!AC$2,Přehled_body!$E$1:$ED$1,0)),)=0,0.00000000001,IFERROR(INDEX(Přehled_body!$E$3:$ED$130,MATCH(Tabulka!$AI27,Přehled_body!$A$3:$A$130,0),MATCH(Tabulka!AC$2,Přehled_body!$E$1:$ED$1,0)),)))","v":0},{"$f":"IF(IFERROR(INDEX(Přehled_body!$E$3:$ED$130,MATCH(Tabulka!$AI27,Přehled_body!$A$3:$A$130,0),MATCH(Tabulka!AD$2,Přehled_body!$E$1:$ED$1,0)),)=\"\",,IF(IFERROR(INDEX(Přehled_body!$E$3:$ED$130,MATCH(Tabulka!$AI27,Přehled_body!$A$3:$A$130,0),MATCH(Tabulka!AD$2,Přehled_body!$E$1:$ED$1,0)),)=0,0.00000000001,IFERROR(INDEX(Přehled_body!$E$3:$ED$130,MATCH(Tabulka!$AI27,Přehled_body!$A$3:$A$130,0),MATCH(Tabulka!AD$2,Přehled_body!$E$1:$ED$1,0)),)))","v":0},{"$f":"IF(SUM(AG24)<2,-90000+SUM(D27:AD27),SUM(D27:AD27))","v":16.000000000079996},null,null,16.000000000079996,{"$f":"CONCATENATE($B$25,\" \",$B$26,C27)","v":"Milan VeselýPřehozy"},null,null,17,null,null,null,{"$f":"CONCATENATE(AQ27,\" \",AQ26)","v":"Šmíd Adam"},"Šmíd"]
[null,null,"Poč. kol",{"$f":"IF(IFERROR(INDEX(Přehled_body!$E$3:$ED$130,MATCH(Tabulka!$AI28,Přehled_body!$A$3:$A$130,0),MATCH(Tabulka!D$2,Přehled_body!$E$1:$ED$1,0)),)=\"\",,IF(IFERROR(INDEX(Přehled_body!$E$3:$ED$130,MATCH(Tabulka!$AI28,Přehled_body!$A$3:$A$130,0),MATCH(Tabulka!D$2,Přehled_body!$E$1:$ED$1,0)),)=0,0.00000000001,IFERROR(INDEX(Přehled_body!$E$3:$ED$130,MATCH(Tabulka!$AI28,Přehled_body!$A$3:$A$130,0),MATCH(Tabulka!D$2,Přehled_body!$E$1:$ED$1,0)),)))","v":4},{"$f":"IF(IFERROR(INDEX(Přehled_body!$E$3:$ED$130,MATCH(Tabulka!$AI28,Přehled_body!$A$3:$A$130,0),MATCH(Tabulka!E$2,Přehled_body!$E$1:$ED$1,0)),)=\"\",,IF(IFERROR(INDEX(Přehled_body!$E$3:$ED$130,MATCH(Tabulka!$AI28,Přehled_body!$A$3:$A$130,0),MATCH(Tabulka!E$2,Přehled_body!$E$1:$ED$1,0)),)=0,0.00000000001,IFERROR(INDEX(Přehled_body!$E$3:$ED$130,MATCH(Tabulka!$AI28,Přehled_body!$A$3:$A$130,0),MATCH(Tabulka!E$2,Přehled_body!$E$1:$ED$1,0)),)))","v":4},{"$f":"IF(IFERROR(INDEX(Přehled_body!$E$3:$ED$130,MATCH(Tabulka!$AI28,Přehled_body!$A$3:$A$130,0),MATCH(Tabulka!F$2,Přehled_body!$E$1:$ED$1,0)),)=\"\",,IF(IFERROR(INDEX(Přehled_body!$E$3:$ED$130,MATCH(Tabulka!$AI28,Přehled_body!$A$3:$A$130,0),MATCH(Tabulka!F$2,Přehled_body!$E$1:$ED$1,0)),)=0,0.00000000001,IFERROR(INDEX(Přehled_body!$E$3:$ED$130,MATCH(Tabulka!$AI28,Přehled_body!$A$3:$A$130,0),MATCH(Tabulka!F$2,Přehled_body!$E$1:$ED$1,0)),)))","v":4},{"$f":"IF(IFERROR(INDEX(Přehled_body!$E$3:$ED$130,MATCH(Tabulka!$AI28,Přehled_body!$A$3:$A$130,0),MATCH(Tabulka!G$2,Přehled_body!$E$1:$ED$1,0)),)=\"\",,IF(IFERROR(INDEX(Přehled_body!$E$3:$ED$130,MATCH(Tabulka!$AI28,Přehled_body!$A$3:$A$130,0),MATCH(Tabulka!G$2,Přehled_body!$E$1:$ED$1,0)),)=0,0.00000000001,IFERROR(INDEX(Přehled_body!$E$3:$ED$130,MATCH(Tabulka!$AI28,Přehled_body!$A$3:$A$130,0),MATCH(Tabulka!G$2,Přehled_body!$E$1:$ED$1,0)),)))","v":4},{"$f":"IF(IFERROR(INDEX(Přehled_body!$E$3:$ED$130,MATCH(Tabulka!$AI28,Přehled_body!$A$3:$A$130,0),MATCH(Tabulka!H$2,Přehled_body!$E$1:$ED$1,0)),)=\"\",,IF(IFERROR(INDEX(Přehled_body!$E$3:$ED$130,MATCH(Tabulka!$AI28,Přehled_body!$A$3:$A$130,0),MATCH(Tabulka!H$2,Přehled_body!$E$1:$ED$1,0)),)=0,0.00000000001,IFERROR(INDEX(Přehled_body!$E$3:$ED$130,MATCH(Tabulka!$AI28,Přehled_body!$A$3:$A$130,0),MATCH(Tabulka!H$2,Přehled_body!$E$1:$ED$1,0)),)))","v":4},{"$f":"IF(IFERROR(INDEX(Přehled_body!$E$3:$ED$130,MATCH(Tabulka!$AI28,Přehled_body!$A$3:$A$130,0),MATCH(Tabulka!I$2,Přehled_body!$E$1:$ED$1,0)),)=\"\",,IF(IFERROR(INDEX(Přehled_body!$E$3:$ED$130,MATCH(Tabulka!$AI28,Přehled_body!$A$3:$A$130,0),MATCH(Tabulka!I$2,Přehled_body!$E$1:$ED$1,0)),)=0,0.00000000001,IFERROR(INDEX(Přehled_body!$E$3:$ED$130,MATCH(Tabulka!$AI28,Přehled_body!$A$3:$A$130,0),MATCH(Tabulka!I$2,Přehled_body!$E$1:$ED$1,0)),)))","v":4},{"$f":"IF(IFERROR(INDEX(Přehled_body!$E$3:$ED$130,MATCH(Tabulka!$AI28,Přehled_body!$A$3:$A$130,0),MATCH(Tabulka!J$2,Přehled_body!$E$1:$ED$1,0)),)=\"\",,IF(IFERROR(INDEX(Přehled_body!$E$3:$ED$130,MATCH(Tabulka!$AI28,Přehled_body!$A$3:$A$130,0),MATCH(Tabulka!J$2,Přehled_body!$E$1:$ED$1,0)),)=0,0.00000000001,IFERROR(INDEX(Přehled_body!$E$3:$ED$130,MATCH(Tabulka!$AI28,Přehled_body!$A$3:$A$130,0),MATCH(Tabulka!J$2,Přehled_body!$E$1:$ED$1,0)),)))","v":4},{"$f":"IF(IFERROR(INDEX(Přehled_body!$E$3:$ED$130,MATCH(Tabulka!$AI28,Přehled_body!$A$3:$A$130,0),MATCH(Tabulka!K$2,Přehled_body!$E$1:$ED$1,0)),)=\"\",,IF(IFERROR(INDEX(Přehled_body!$E$3:$ED$130,MATCH(Tabulka!$AI28,Přehled_body!$A$3:$A$130,0),MATCH(Tabulka!K$2,Přehled_body!$E$1:$ED$1,0)),)=0,0.00000000001,IFERROR(INDEX(Přehled_body!$E$3:$ED$130,MATCH(Tabulka!$AI28,Přehled_body!$A$3:$A$130,0),MATCH(Tabulka!K$2,Přehled_body!$E$1:$ED$1,0)),)))","v":4},{"$f":"IF(IFERROR(INDEX(Přehled_body!$E$3:$ED$130,MATCH(Tabulka!$AI28,Přehled_body!$A$3:$A$130,0),MATCH(Tabulka!L$2,Přehled_body!$E$1:$ED$1,0)),)=\"\",,IF(IFERROR(INDEX(Přehled_body!$E$3:$ED$130,MATCH(Tabulka!$AI28,Přehled_body!$A$3:$A$130,0),MATCH(Tabulka!L$2,Přehled_body!$E$1:$ED$1,0)),)=0,0.00000000001,IFERROR(INDEX(Přehled_body!$E$3:$ED$130,MATCH(Tabulka!$AI28,Přehled_body!$A$3:$A$130,0),MATCH(Tabulka!L$2,Přehled_body!$E$1:$ED$1,0)),)))","v":3},{"$f":"IF(IFERROR(INDEX(Přehled_body!$E$3:$ED$130,MATCH(Tabulka!$AI28,Přehled_body!$A$3:$A$130,0),MATCH(Tabulka!M$2,Přehled_body!$E$1:$ED$1,0)),)=\"\",,IF(IFERROR(INDEX(Přehled_body!$E$3:$ED$130,MATCH(Tabulka!$AI28,Přehled_body!$A$3:$A$130,0),MATCH(Tabulka!M$2,Přehled_body!$E$1:$ED$1,0)),)=0,0.00000000001,IFERROR(INDEX(Přehled_body!$E$3:$ED$130,MATCH(Tabulka!$AI28,Přehled_body!$A$3:$A$130,0),MATCH(Tabulka!M$2,Přehled_body!$E$1:$ED$1,0)),)))","v":4},{"$f":"IF(IFERROR(INDEX(Přehled_body!$E$3:$ED$130,MATCH(Tabulka!$AI28,Přehled_body!$A$3:$A$130,0),MATCH(Tabulka!N$2,Přehled_body!$E$1:$ED$1,0)),)=\"\",,IF(IFERROR(INDEX(Přehled_body!$E$3:$ED$130,MATCH(Tabulka!$AI28,Přehled_body!$A$3:$A$130,0),MATCH(Tabulka!N$2,Přehled_body!$E$1:$ED$1,0)),)=0,0.00000000001,IFERROR(INDEX(Přehled_body!$E$3:$ED$130,MATCH(Tabulka!$AI28,Přehled_body!$A$3:$A$130,0),MATCH(Tabulka!N$2,Přehled_body!$E$1:$ED$1,0)),)))","v":5},{"$f":"IF(IFERROR(INDEX(Přehled_body!$E$3:$ED$130,MATCH(Tabulka!$AI28,Přehled_body!$A$3:$A$130,0),MATCH(Tabulka!O$2,Přehled_body!$E$1:$ED$1,0)),)=\"\",,IF(IFERROR(INDEX(Přehled_body!$E$3:$ED$130,MATCH(Tabulka!$AI28,Přehled_body!$A$3:$A$130,0),MATCH(Tabulka!O$2,Přehled_body!$E$1:$ED$1,0)),)=0,0.00000000001,IFERROR(INDEX(Přehled_body!$E$3:$ED$130,MATCH(Tabulka!$AI28,Přehled_body!$A$3:$A$130,0),MATCH(Tabulka!O$2,Přehled_body!$E$1:$ED$1,0)),)))","v":4},{"$f":"IF(IFERROR(INDEX(Přehled_body!$E$3:$ED$130,MATCH(Tabulka!$AI28,Přehled_body!$A$3:$A$130,0),MATCH(Tabulka!P$2,Přehled_body!$E$1:$ED$1,0)),)=\"\",,IF(IFERROR(INDEX(Přehled_body!$E$3:$ED$130,MATCH(Tabulka!$AI28,Přehled_body!$A$3:$A$130,0),MATCH(Tabulka!P$2,Přehled_body!$E$1:$ED$1,0)),)=0,0.00000000001,IFERROR(INDEX(Přehled_body!$E$3:$ED$130,MATCH(Tabulka!$AI28,Přehled_body!$A$3:$A$130,0),MATCH(Tabulka!P$2,Přehled_body!$E$1:$ED$1,0)),)))","v":4},{"$f":"IF(IFERROR(INDEX(Přehled_body!$E$3:$ED$130,MATCH(Tabulka!$AI28,Přehled_body!$A$3:$A$130,0),MATCH(Tabulka!Q$2,Přehled_body!$E$1:$ED$1,0)),)=\"\",,IF(IFERROR(INDEX(Přehled_body!$E$3:$ED$130,MATCH(Tabulka!$AI28,Přehled_body!$A$3:$A$130,0),MATCH(Tabulka!Q$2,Přehled_body!$E$1:$ED$1,0)),)=0,0.00000000001,IFERROR(INDEX(Přehled_body!$E$3:$ED$130,MATCH(Tabulka!$AI28,Přehled_body!$A$3:$A$130,0),MATCH(Tabulka!Q$2,Přehled_body!$E$1:$ED$1,0)),)))","v":5},{"$f":"IF(IFERROR(INDEX(Přehled_body!$E$3:$ED$130,MATCH(Tabulka!$AI28,Přehled_body!$A$3:$A$130,0),MATCH(Tabulka!R$2,Přehled_body!$E$1:$ED$1,0)),)=\"\",,IF(IFERROR(INDEX(Přehled_body!$E$3:$ED$130,MATCH(Tabulka!$AI28,Přehled_body!$A$3:$A$130,0),MATCH(Tabulka!R$2,Přehled_body!$E$1:$ED$1,0)),)=0,0.00000000001,IFERROR(INDEX(Přehled_body!$E$3:$ED$130,MATCH(Tabulka!$AI28,Přehled_body!$A$3:$A$130,0),MATCH(Tabulka!R$2,Přehled_body!$E$1:$ED$1,0)),)))","v":4},{"$f":"IF(IFERROR(INDEX(Přehled_body!$E$3:$ED$130,MATCH(Tabulka!$AI28,Přehled_body!$A$3:$A$130,0),MATCH(Tabulka!S$2,Přehled_body!$E$1:$ED$1,0)),)=\"\",,IF(IFERROR(INDEX(Přehled_body!$E$3:$ED$130,MATCH(Tabulka!$AI28,Přehled_body!$A$3:$A$130,0),MATCH(Tabulka!S$2,Přehled_body!$E$1:$ED$1,0)),)=0,0.00000000001,IFERROR(INDEX(Přehled_body!$E$3:$ED$130,MATCH(Tabulka!$AI28,Přehled_body!$A$3:$A$130,0),MATCH(Tabulka!S$2,Přehled_body!$E$1:$ED$1,0)),)))","v":4},{"$f":"IF(IFERROR(INDEX(Přehled_body!$E$3:$ED$130,MATCH(Tabulka!$AI28,Přehled_body!$A$3:$A$130,0),MATCH(Tabulka!T$2,Přehled_body!$E$1:$ED$1,0)),)=\"\",,IF(IFERROR(INDEX(Přehled_body!$E$3:$ED$130,MATCH(Tabulka!$AI28,Přehled_body!$A$3:$A$130,0),MATCH(Tabulka!T$2,Přehled_body!$E$1:$ED$1,0)),)=0,0.00000000001,IFERROR(INDEX(Přehled_body!$E$3:$ED$130,MATCH(Tabulka!$AI28,Přehled_body!$A$3:$A$130,0),MATCH(Tabulka!T$2,Přehled_body!$E$1:$ED$1,0)),)))","v":4},{"$f":"IF(IFERROR(INDEX(Přehled_body!$E$3:$ED$130,MATCH(Tabulka!$AI28,Přehled_body!$A$3:$A$130,0),MATCH(Tabulka!U$2,Přehled_body!$E$1:$ED$1,0)),)=\"\",,IF(IFERROR(INDEX(Přehled_body!$E$3:$ED$130,MATCH(Tabulka!$AI28,Přehled_body!$A$3:$A$130,0),MATCH(Tabulka!U$2,Přehled_body!$E$1:$ED$1,0)),)=0,0.00000000001,IFERROR(INDEX(Přehled_body!$E$3:$ED$130,MATCH(Tabulka!$AI28,Přehled_body!$A$3:$A$130,0),MATCH(Tabulka!U$2,Přehled_body!$E$1:$ED$1,0)),)))","v":0},{"$f":"IF(IFERROR(INDEX(Přehled_body!$E$3:$ED$130,MATCH(Tabulka!$AI28,Přehled_body!$A$3:$A$130,0),MATCH(Tabulka!V$2,Přehled_body!$E$1:$ED$1,0)),)=\"\",,IF(IFERROR(INDEX(Přehled_body!$E$3:$ED$130,MATCH(Tabulka!$AI28,Přehled_body!$A$3:$A$130,0),MATCH(Tabulka!V$2,Přehled_body!$E$1:$ED$1,0)),)=0,0.00000000001,IFERROR(INDEX(Přehled_body!$E$3:$ED$130,MATCH(Tabulka!$AI28,Přehled_body!$A$3:$A$130,0),MATCH(Tabulka!V$2,Přehled_body!$E$1:$ED$1,0)),)))","v":0},{"$f":"IF(IFERROR(INDEX(Přehled_body!$E$3:$ED$130,MATCH(Tabulka!$AI28,Přehled_body!$A$3:$A$130,0),MATCH(Tabulka!W$2,Přehled_body!$E$1:$ED$1,0)),)=\"\",,IF(IFERROR(INDEX(Přehled_body!$E$3:$ED$130,MATCH(Tabulka!$AI28,Přehled_body!$A$3:$A$130,0),MATCH(Tabulka!W$2,Přehled_body!$E$1:$ED$1,0)),)=0,0.00000000001,IFERROR(INDEX(Přehled_body!$E$3:$ED$130,MATCH(Tabulka!$AI28,Přehled_body!$A$3:$A$130,0),MATCH(Tabulka!W$2,Přehled_body!$E$1:$ED$1,0)),)))","v":0},{"$f":"IF(IFERROR(INDEX(Přehled_body!$E$3:$ED$130,MATCH(Tabulka!$AI28,Přehled_body!$A$3:$A$130,0),MATCH(Tabulka!X$2,Přehled_body!$E$1:$ED$1,0)),)=\"\",,IF(IFERROR(INDEX(Přehled_body!$E$3:$ED$130,MATCH(Tabulka!$AI28,Přehled_body!$A$3:$A$130,0),MATCH(Tabulka!X$2,Přehled_body!$E$1:$ED$1,0)),)=0,0.00000000001,IFERROR(INDEX(Přehled_body!$E$3:$ED$130,MATCH(Tabulka!$AI28,Přehled_body!$A$3:$A$130,0),MATCH(Tabulka!X$2,Přehled_body!$E$1:$ED$1,0)),)))","v":0},{"$f":"IF(IFERROR(INDEX(Přehled_body!$E$3:$ED$130,MATCH(Tabulka!$AI28,Přehled_body!$A$3:$A$130,0),MATCH(Tabulka!Y$2,Přehled_body!$E$1:$ED$1,0)),)=\"\",,IF(IFERROR(INDEX(Přehled_body!$E$3:$ED$130,MATCH(Tabulka!$AI28,Přehled_body!$A$3:$A$130,0),MATCH(Tabulka!Y$2,Přehled_body!$E$1:$ED$1,0)),)=0,0.00000000001,IFERROR(INDEX(Přehled_body!$E$3:$ED$130,MATCH(Tabulka!$AI28,Přehled_body!$A$3:$A$130,0),MATCH(Tabulka!Y$2,Přehled_body!$E$1:$ED$1,0)),)))","v":0},{"$f":"IF(IFERROR(INDEX(Přehled_body!$E$3:$ED$130,MATCH(Tabulka!$AI28,Přehled_body!$A$3:$A$130,0),MATCH(Tabulka!Z$2,Přehled_body!$E$1:$ED$1,0)),)=\"\",,IF(IFERROR(INDEX(Přehled_body!$E$3:$ED$130,MATCH(Tabulka!$AI28,Přehled_body!$A$3:$A$130,0),MATCH(Tabulka!Z$2,Přehled_body!$E$1:$ED$1,0)),)=0,0.00000000001,IFERROR(INDEX(Přehled_body!$E$3:$ED$130,MATCH(Tabulka!$AI28,Přehled_body!$A$3:$A$130,0),MATCH(Tabulka!Z$2,Přehled_body!$E$1:$ED$1,0)),)))","v":0},{"$f":"IF(IFERROR(INDEX(Přehled_body!$E$3:$ED$130,MATCH(Tabulka!$AI28,Přehled_body!$A$3:$A$130,0),MATCH(Tabulka!AA$2,Přehled_body!$E$1:$ED$1,0)),)=\"\",,IF(IFERROR(INDEX(Přehled_body!$E$3:$ED$130,MATCH(Tabulka!$AI28,Přehled_body!$A$3:$A$130,0),MATCH(Tabulka!AA$2,Přehled_body!$E$1:$ED$1,0)),)=0,0.00000000001,IFERROR(INDEX(Přehled_body!$E$3:$ED$130,MATCH(Tabulka!$AI28,Přehled_body!$A$3:$A$130,0),MATCH(Tabulka!AA$2,Přehled_body!$E$1:$ED$1,0)),)))","v":0},{"$f":"IF(IFERROR(INDEX(Přehled_body!$E$3:$ED$130,MATCH(Tabulka!$AI28,Přehled_body!$A$3:$A$130,0),MATCH(Tabulka!AB$2,Přehled_body!$E$1:$ED$1,0)),)=\"\",,IF(IFERROR(INDEX(Přehled_body!$E$3:$ED$130,MATCH(Tabulka!$AI28,Přehled_body!$A$3:$A$130,0),MATCH(Tabulka!AB$2,Přehled_body!$E$1:$ED$1,0)),)=0,0.00000000001,IFERROR(INDEX(Přehled_body!$E$3:$ED$130,MATCH(Tabulka!$AI28,Přehled_body!$A$3:$A$130,0),MATCH(Tabulka!AB$2,Přehled_body!$E$1:$ED$1,0)),)))","v":0},{"$f":"IF(IFERROR(INDEX(Přehled_body!$E$3:$ED$130,MATCH(Tabulka!$AI28,Přehled_body!$A$3:$A$130,0),MATCH(Tabulka!AC$2,Přehled_body!$E$1:$ED$1,0)),)=\"\",,IF(IFERROR(INDEX(Přehled_body!$E$3:$ED$130,MATCH(Tabulka!$AI28,Přehled_body!$A$3:$A$130,0),MATCH(Tabulka!AC$2,Přehled_body!$E$1:$ED$1,0)),)=0,0.00000000001,IFERROR(INDEX(Přehled_body!$E$3:$ED$130,MATCH(Tabulka!$AI28,Přehled_body!$A$3:$A$130,0),MATCH(Tabulka!AC$2,Přehled_body!$E$1:$ED$1,0)),)))","v":0},{"$f":"IF(IFERROR(INDEX(Přehled_body!$E$3:$ED$130,MATCH(Tabulka!$AI28,Přehled_body!$A$3:$A$130,0),MATCH(Tabulka!AD$2,Přehled_body!$E$1:$ED$1,0)),)=\"\",,IF(IFERROR(INDEX(Přehled_body!$E$3:$ED$130,MATCH(Tabulka!$AI28,Přehled_body!$A$3:$A$130,0),MATCH(Tabulka!AD$2,Přehled_body!$E$1:$ED$1,0)),)=0,0.00000000001,IFERROR(INDEX(Přehled_body!$E$3:$ED$130,MATCH(Tabulka!$AI28,Přehled_body!$A$3:$A$130,0),MATCH(Tabulka!AD$2,Přehled_body!$E$1:$ED$1,0)),)))","v":0},{"$f":"IF(SUM(AG24)<2,-90000+SUM(D28:AD28),SUM(D28:AD28))","v":69},null,null,69,{"$f":"CONCATENATE($B$25,\" \",$B$26,C28)","v":"Milan VeselýPoč. kol"},null,null,17]
[6,null,"Výhry",{"$f":"IF(IFERROR(INDEX(Přehled_body!$E$3:$ED$130,MATCH(Tabulka!$AI29,Přehled_body!$A$3:$A$130,0),MATCH(Tabulka!D$2,Přehled_body!$E$1:$ED$1,0)),)=\"\",,IF(IFERROR(INDEX(Přehled_body!$E$3:$ED$130,MATCH(Tabulka!$AI29,Přehled_body!$A$3:$A$130,0),MATCH(Tabulka!D$2,Přehled_body!$E$1:$ED$1,0)),)=0,0.00000000001,IFERROR(INDEX(Přehled_body!$E$3:$ED$130,MATCH(Tabulka!$AI29,Přehled_body!$A$3:$A$130,0),MATCH(Tabulka!D$2,Přehled_body!$E$1:$ED$1,0)),)))","v":0},{"$f":"IF(IFERROR(INDEX(Přehled_body!$E$3:$ED$130,MATCH(Tabulka!$AI29,Přehled_body!$A$3:$A$130,0),MATCH(Tabulka!E$2,Přehled_body!$E$1:$ED$1,0)),)=\"\",,IF(IFERROR(INDEX(Přehled_body!$E$3:$ED$130,MATCH(Tabulka!$AI29,Přehled_body!$A$3:$A$130,0),MATCH(Tabulka!E$2,Přehled_body!$E$1:$ED$1,0)),)=0,0.00000000001,IFERROR(INDEX(Přehled_body!$E$3:$ED$130,MATCH(Tabulka!$AI29,Přehled_body!$A$3:$A$130,0),MATCH(Tabulka!E$2,Přehled_body!$E$1:$ED$1,0)),)))","v":0},{"$f":"IF(IFERROR(INDEX(Přehled_body!$E$3:$ED$130,MATCH(Tabulka!$AI29,Přehled_body!$A$3:$A$130,0),MATCH(Tabulka!F$2,Přehled_body!$E$1:$ED$1,0)),)=\"\",,IF(IFERROR(INDEX(Přehled_body!$E$3:$ED$130,MATCH(Tabulka!$AI29,Přehled_body!$A$3:$A$130,0),MATCH(Tabulka!F$2,Přehled_body!$E$1:$ED$1,0)),)=0,0.00000000001,IFERROR(INDEX(Přehled_body!$E$3:$ED$130,MATCH(Tabulka!$AI29,Přehled_body!$A$3:$A$130,0),MATCH(Tabulka!F$2,Přehled_body!$E$1:$ED$1,0)),)))","v":9.9999999999999994E-12},{"$f":"IF(IFERROR(INDEX(Přehled_body!$E$3:$ED$130,MATCH(Tabulka!$AI29,Přehled_body!$A$3:$A$130,0),MATCH(Tabulka!G$2,Přehled_body!$E$1:$ED$1,0)),)=\"\",,IF(IFERROR(INDEX(Přehled_body!$E$3:$ED$130,MATCH(Tabulka!$AI29,Přehled_body!$A$3:$A$130,0),MATCH(Tabulka!G$2,Přehled_body!$E$1:$ED$1,0)),)=0,0.00000000001,IFERROR(INDEX(Přehled_body!$E$3:$ED$130,MATCH(Tabulka!$AI29,Přehled_body!$A$3:$A$130,0),MATCH(Tabulka!G$2,Přehled_body!$E$1:$ED$1,0)),)))","v":9.9999999999999994E-12},{"$f":"IF(IFERROR(INDEX(Přehled_body!$E$3:$ED$130,MATCH(Tabulka!$AI29,Přehled_body!$A$3:$A$130,0),MATCH(Tabulka!H$2,Přehled_body!$E$1:$ED$1,0)),)=\"\",,IF(IFERROR(INDEX(Přehled_body!$E$3:$ED$130,MATCH(Tabulka!$AI29,Přehled_body!$A$3:$A$130,0),MATCH(Tabulka!H$2,Přehled_body!$E$1:$ED$1,0)),)=0,0.00000000001,IFERROR(INDEX(Přehled_body!$E$3:$ED$130,MATCH(Tabulka!$AI29,Přehled_body!$A$3:$A$130,0),MATCH(Tabulka!H$2,Přehled_body!$E$1:$ED$1,0)),)))","v":0},{"$f":"IF(IFERROR(INDEX(Přehled_body!$E$3:$ED$130,MATCH(Tabulka!$AI29,Přehled_body!$A$3:$A$130,0),MATCH(Tabulka!I$2,Přehled_body!$E$1:$ED$1,0)),)=\"\",,IF(IFERROR(INDEX(Přehled_body!$E$3:$ED$130,MATCH(Tabulka!$AI29,Přehled_body!$A$3:$A$130,0),MATCH(Tabulka!I$2,Přehled_body!$E$1:$ED$1,0)),)=0,0.00000000001,IFERROR(INDEX(Přehled_body!$E$3:$ED$130,MATCH(Tabulka!$AI29,Přehled_body!$A$3:$A$130,0),MATCH(Tabulka!I$2,Přehled_body!$E$1:$ED$1,0)),)))","v":9.9999999999999994E-12},{"$f":"IF(IFERROR(INDEX(Přehled_body!$E$3:$ED$130,MATCH(Tabulka!$AI29,Přehled_body!$A$3:$A$130,0),MATCH(Tabulka!J$2,Přehled_body!$E$1:$ED$1,0)),)=\"\",,IF(IFERROR(INDEX(Přehled_body!$E$3:$ED$130,MATCH(Tabulka!$AI29,Přehled_body!$A$3:$A$130,0),MATCH(Tabulka!J$2,Přehled_body!$E$1:$ED$1,0)),)=0,0.00000000001,IFERROR(INDEX(Přehled_body!$E$3:$ED$130,MATCH(Tabulka!$AI29,Přehled_body!$A$3:$A$130,0),MATCH(Tabulka!J$2,Přehled_body!$E$1:$ED$1,0)),)))","v":9.9999999999999994E-12},{"$f":"IF(IFERROR(INDEX(Přehled_body!$E$3:$ED$130,MATCH(Tabulka!$AI29,Přehled_body!$A$3:$A$130,0),MATCH(Tabulka!K$2,Přehled_body!$E$1:$ED$1,0)),)=\"\",,IF(IFERROR(INDEX(Přehled_body!$E$3:$ED$130,MATCH(Tabulka!$AI29,Přehled_body!$A$3:$A$130,0),MATCH(Tabulka!K$2,Přehled_body!$E$1:$ED$1,0)),)=0,0.00000000001,IFERROR(INDEX(Přehled_body!$E$3:$ED$130,MATCH(Tabulka!$AI29,Přehled_body!$A$3:$A$130,0),MATCH(Tabulka!K$2,Přehled_body!$E$1:$ED$1,0)),)))","v":9.9999999999999994E-12},{"$f":"IF(IFERROR(INDEX(Přehled_body!$E$3:$ED$130,MATCH(Tabulka!$AI29,Přehled_body!$A$3:$A$130,0),MATCH(Tabulka!L$2,Přehled_body!$E$1:$ED$1,0)),)=\"\",,IF(IFERROR(INDEX(Přehled_body!$E$3:$ED$130,MATCH(Tabulka!$AI29,Přehled_body!$A$3:$A$130,0),MATCH(Tabulka!L$2,Přehled_body!$E$1:$ED$1,0)),)=0,0.00000000001,IFERROR(INDEX(Přehled_body!$E$3:$ED$130,MATCH(Tabulka!$AI29,Přehled_body!$A$3:$A$130,0),MATCH(Tabulka!L$2,Přehled_body!$E$1:$ED$1,0)),)))","v":0},{"$f":"IF(IFERROR(INDEX(Přehled_body!$E$3:$ED$130,MATCH(Tabulka!$AI29,Přehled_body!$A$3:$A$130,0),MATCH(Tabulka!M$2,Přehled_body!$E$1:$ED$1,0)),)=\"\",,IF(IFERROR(INDEX(Přehled_body!$E$3:$ED$130,MATCH(Tabulka!$AI29,Přehled_body!$A$3:$A$130,0),MATCH(Tabulka!M$2,Přehled_body!$E$1:$ED$1,0)),)=0,0.00000000001,IFERROR(INDEX(Přehled_body!$E$3:$ED$130,MATCH(Tabulka!$AI29,Přehled_body!$A$3:$A$130,0),MATCH(Tabulka!M$2,Přehled_body!$E$1:$ED$1,0)),)))","v":0},{"$f":"IF(IFERROR(INDEX(Přehled_body!$E$3:$ED$130,MATCH(Tabulka!$AI29,Přehled_body!$A$3:$A$130,0),MATCH(Tabulka!N$2,Přehled_body!$E$1:$ED$1,0)),)=\"\",,IF(IFERROR(INDEX(Přehled_body!$E$3:$ED$130,MATCH(Tabulka!$AI29,Přehled_body!$A$3:$A$130,0),MATCH(Tabulka!N$2,Přehled_body!$E$1:$ED$1,0)),)=0,0.00000000001,IFERROR(INDEX(Přehled_body!$E$3:$ED$130,MATCH(Tabulka!$AI29,Přehled_body!$A$3:$A$130,0),MATCH(Tabulka!N$2,Přehled_body!$E$1:$ED$1,0)),)))","v":2},{"$f":"IF(IFERROR(INDEX(Přehled_body!$E$3:$ED$130,MATCH(Tabulka!$AI29,Přehled_body!$A$3:$A$130,0),MATCH(Tabulka!O$2,Přehled_body!$E$1:$ED$1,0)),)=\"\",,IF(IFERROR(INDEX(Přehled_body!$E$3:$ED$130,MATCH(Tabulka!$AI29,Přehled_body!$A$3:$A$130,0),MATCH(Tabulka!O$2,Přehled_body!$E$1:$ED$1,0)),)=0,0.00000000001,IFERROR(INDEX(Přehled_body!$E$3:$ED$130,MATCH(Tabulka!$AI29,Přehled_body!$A$3:$A$130,0),MATCH(Tabulka!O$2,Přehled_body!$E$1:$ED$1,0)),)))","v":0},{"$f":"IF(IFERROR(INDEX(Přehled_body!$E$3:$ED$130,MATCH(Tabulka!$AI29,Přehled_body!$A$3:$A$130,0),MATCH(Tabulka!P$2,Přehled_body!$E$1:$ED$1,0)),)=\"\",,IF(IFERROR(INDEX(Přehled_body!$E$3:$ED$130,MATCH(Tabulka!$AI29,Přehled_body!$A$3:$A$130,0),MATCH(Tabulka!P$2,Přehled_body!$E$1:$ED$1,0)),)=0,0.00000000001,IFERROR(INDEX(Přehled_body!$E$3:$ED$130,MATCH(Tabulka!$AI29,Přehled_body!$A$3:$A$130,0),MATCH(Tabulka!P$2,Přehled_body!$E$1:$ED$1,0)),)))","v":0},{"$f":"IF(IFERROR(INDEX(Přehled_body!$E$3:$ED$130,MATCH(Tabulka!$AI29,Přehled_body!$A$3:$A$130,0),MATCH(Tabulka!Q$2,Přehled_body!$E$1:$ED$1,0)),)=\"\",,IF(IFERROR(INDEX(Přehled_body!$E$3:$ED$130,MATCH(Tabulka!$AI29,Přehled_body!$A$3:$A$130,0),MATCH(Tabulka!Q$2,Přehled_body!$E$1:$ED$1,0)),)=0,0.00000000001,IFERROR(INDEX(Přehled_body!$E$3:$ED$130,MATCH(Tabulka!$AI29,Přehled_body!$A$3:$A$130,0),MATCH(Tabulka!Q$2,Přehled_body!$E$1:$ED$1,0)),)))","v":3},{"$f":"IF(IFERROR(INDEX(Přehled_body!$E$3:$ED$130,MATCH(Tabulka!$AI29,Přehled_body!$A$3:$A$130,0),MATCH(Tabulka!R$2,Přehled_body!$E$1:$ED$1,0)),)=\"\",,IF(IFERROR(INDEX(Přehled_body!$E$3:$ED$130,MATCH(Tabulka!$AI29,Přehled_body!$A$3:$A$130,0),MATCH(Tabulka!R$2,Přehled_body!$E$1:$ED$1,0)),)=0,0.00000000001,IFERROR(INDEX(Přehled_body!$E$3:$ED$130,MATCH(Tabulka!$AI29,Přehled_body!$A$3:$A$130,0),MATCH(Tabulka!R$2,Přehled_body!$E$1:$ED$1,0)),)))","v":0},{"$f":"IF(IFERROR(INDEX(Přehled_body!$E$3:$ED$130,MATCH(Tabulka!$AI29,Přehled_body!$A$3:$A$130,0),MATCH(Tabulka!S$2,Přehled_body!$E$1:$ED$1,0)),)=\"\",,IF(IFERROR(INDEX(Přehled_body!$E$3:$ED$130,MATCH(Tabulka!$AI29,Přehled_body!$A$3:$A$130,0),MATCH(Tabulka!S$2,Přehled_body!$E$1:$ED$1,0)),)=0,0.00000000001,IFERROR(INDEX(Přehled_body!$E$3:$ED$130,MATCH(Tabulka!$AI29,Přehled_body!$A$3:$A$130,0),MATCH(Tabulka!S$2,Přehled_body!$E$1:$ED$1,0)),)))","v":0},{"$f":"IF(IFERROR(INDEX(Přehled_body!$E$3:$ED$130,MATCH(Tabulka!$AI29,Přehled_body!$A$3:$A$130,0),MATCH(Tabulka!T$2,Přehled_body!$E$1:$ED$1,0)),)=\"\",,IF(IFERROR(INDEX(Přehled_body!$E$3:$ED$130,MATCH(Tabulka!$AI29,Přehled_body!$A$3:$A$130,0),MATCH(Tabulka!T$2,Přehled_body!$E$1:$ED$1,0)),)=0,0.00000000001,IFERROR(INDEX(Přehled_body!$E$3:$ED$130,MATCH(Tabulka!$AI29,Přehled_body!$A$3:$A$130,0),MATCH(Tabulka!T$2,Přehled_body!$E$1:$ED$1,0)),)))","v":0},{"$f":"IF(IFERROR(INDEX(Přehled_body!$E$3:$ED$130,MATCH(Tabulka!$AI29,Přehled_body!$A$3:$A$130,0),MATCH(Tabulka!U$2,Přehled_body!$E$1:$ED$1,0)),)=\"\",,IF(IFERROR(INDEX(Přehled_body!$E$3:$ED$130,MATCH(Tabulka!$AI29,Přehled_body!$A$3:$A$130,0),MATCH(Tabulka!U$2,Přehled_body!$E$1:$ED$1,0)),)=0,0.00000000001,IFERROR(INDEX(Přehled_body!$E$3:$ED$130,MATCH(Tabulka!$AI29,Přehled_body!$A$3:$A$130,0),MATCH(Tabulka!U$2,Přehled_body!$E$1:$ED$1,0)),)))","v":0},{"$f":"IF(IFERROR(INDEX(Přehled_body!$E$3:$ED$130,MATCH(Tabulka!$AI29,Přehled_body!$A$3:$A$130,0),MATCH(Tabulka!V$2,Přehled_body!$E$1:$ED$1,0)),)=\"\",,IF(IFERROR(INDEX(Přehled_body!$E$3:$ED$130,MATCH(Tabulka!$AI29,Přehled_body!$A$3:$A$130,0),MATCH(Tabulka!V$2,Přehled_body!$E$1:$ED$1,0)),)=0,0.00000000001,IFERROR(INDEX(Přehled_body!$E$3:$ED$130,MATCH(Tabulka!$AI29,Přehled_body!$A$3:$A$130,0),MATCH(Tabulka!V$2,Přehled_body!$E$1:$ED$1,0)),)))","v":0},{"$f":"IF(IFERROR(INDEX(Přehled_body!$E$3:$ED$130,MATCH(Tabulka!$AI29,Přehled_body!$A$3:$A$130,0),MATCH(Tabulka!W$2,Přehled_body!$E$1:$ED$1,0)),)=\"\",,IF(IFERROR(INDEX(Přehled_body!$E$3:$ED$130,MATCH(Tabulka!$AI29,Přehled_body!$A$3:$A$130,0),MATCH(Tabulka!W$2,Přehled_body!$E$1:$ED$1,0)),)=0,0.00000000001,IFERROR(INDEX(Přehled_body!$E$3:$ED$130,MATCH(Tabulka!$AI29,Přehled_body!$A$3:$A$130,0),MATCH(Tabulka!W$2,Přehled_body!$E$1:$ED$1,0)),)))","v":0},{"$f":"IF(IFERROR(INDEX(Přehled_body!$E$3:$ED$130,MATCH(Tabulka!$AI29,Přehled_body!$A$3:$A$130,0),MATCH(Tabulka!X$2,Přehled_body!$E$1:$ED$1,0)),)=\"\",,IF(IFERROR(INDEX(Přehled_body!$E$3:$ED$130,MATCH(Tabulka!$AI29,Přehled_body!$A$3:$A$130,0),MATCH(Tabulka!X$2,Přehled_body!$E$1:$ED$1,0)),)=0,0.00000000001,IFERROR(INDEX(Přehled_body!$E$3:$ED$130,MATCH(Tabulka!$AI29,Přehled_body!$A$3:$A$130,0),MATCH(Tabulka!X$2,Přehled_body!$E$1:$ED$1,0)),)))","v":0},{"$f":"IF(IFERROR(INDEX(Přehled_body!$E$3:$ED$130,MATCH(Tabulka!$AI29,Přehled_body!$A$3:$A$130,0),MATCH(Tabulka!Y$2,Přehled_body!$E$1:$ED$1,0)),)=\"\",,IF(IFERROR(INDEX(Přehled_body!$E$3:$ED$130,MATCH(Tabulka!$AI29,Přehled_body!$A$3:$A$130,0),MATCH(Tabulka!Y$2,Přehled_body!$E$1:$ED$1,0)),)=0,0.00000000001,IFERROR(INDEX(Přehled_body!$E$3:$ED$130,MATCH(Tabulka!$AI29,Přehled_body!$A$3:$A$130,0),MATCH(Tabulka!Y$2,Přehled_body!$E$1:$ED$1,0)),)))","v":0},{"$f":"IF(IFERROR(INDEX(Přehled_body!$E$3:$ED$130,MATCH(Tabulka!$AI29,Přehled_body!$A$3:$A$130,0),MATCH(Tabulka!Z$2,Přehled_body!$E$1:$ED$1,0)),)=\"\",,IF(IFERROR(INDEX(Přehled_body!$E$3:$ED$130,MATCH(Tabulka!$AI29,Přehled_body!$A$3:$A$130,0),MATCH(Tabulka!Z$2,Přehled_body!$E$1:$ED$1,0)),)=0,0.00000000001,IFERROR(INDEX(Přehled_body!$E$3:$ED$130,MATCH(Tabulka!$AI29,Přehled_body!$A$3:$A$130,0),MATCH(Tabulka!Z$2,Přehled_body!$E$1:$ED$1,0)),)))","v":0},{"$f":"IF(IFERROR(INDEX(Přehled_body!$E$3:$ED$130,MATCH(Tabulka!$AI29,Přehled_body!$A$3:$A$130,0),MATCH(Tabulka!AA$2,Přehled_body!$E$1:$ED$1,0)),)=\"\",,IF(IFERROR(INDEX(Přehled_body!$E$3:$ED$130,MATCH(Tabulka!$AI29,Přehled_body!$A$3:$A$130,0),MATCH(Tabulka!AA$2,Přehled_body!$E$1:$ED$1,0)),)=0,0.00000000001,IFERROR(INDEX(Přehled_body!$E$3:$ED$130,MATCH(Tabulka!$AI29,Přehled_body!$A$3:$A$130,0),MATCH(Tabulka!AA$2,Přehled_body!$E$1:$ED$1,0)),)))","v":0},{"$f":"IF(IFERROR(INDEX(Přehled_body!$E$3:$ED$130,MATCH(Tabulka!$AI29,Přehled_body!$A$3:$A$130,0),MATCH(Tabulka!AB$2,Přehled_body!$E$1:$ED$1,0)),)=\"\",,IF(IFERROR(INDEX(Přehled_body!$E$3:$ED$130,MATCH(Tabulka!$AI29,Přehled_body!$A$3:$A$130,0),MATCH(Tabulka!AB$2,Přehled_body!$E$1:$ED$1,0)),)=0,0.00000000001,IFERROR(INDEX(Přehled_body!$E$3:$ED$130,MATCH(Tabulka!$AI29,Přehled_body!$A$3:$A$130,0),MATCH(Tabulka!AB$2,Přehled_body!$E$1:$ED$1,0)),)))","v":0},{"$f":"IF(IFERROR(INDEX(Přehled_body!$E$3:$ED$130,MATCH(Tabulka!$AI29,Přehled_body!$A$3:$A$130,0),MATCH(Tabulka!AC$2,Přehled_body!$E$1:$ED$1,0)),)=\"\",,IF(IFERROR(INDEX(Přehled_body!$E$3:$ED$130,MATCH(Tabulka!$AI29,Přehled_body!$A$3:$A$130,0),MATCH(Tabulka!AC$2,Přehled_body!$E$1:$ED$1,0)),)=0,0.00000000001,IFERROR(INDEX(Přehled_body!$E$3:$ED$130,MATCH(Tabulka!$AI29,Přehled_body!$A$3:$A$130,0),MATCH(Tabulka!AC$2,Přehled_body!$E$1:$ED$1,0)),)))","v":0},{"$f":"IF(IFERROR(INDEX(Přehled_body!$E$3:$ED$130,MATCH(Tabulka!$AI29,Přehled_body!$A$3:$A$130,0),MATCH(Tabulka!AD$2,Přehled_body!$E$1:$ED$1,0)),)=\"\",,IF(IFERROR(INDEX(Přehled_body!$E$3:$ED$130,MATCH(Tabulka!$AI29,Přehled_body!$A$3:$A$130,0),MATCH(Tabulka!AD$2,Přehled_body!$E$1:$ED$1,0)),)=0,0.00000000001,IFERROR(INDEX(Přehled_body!$E$3:$ED$130,MATCH(Tabulka!$AI29,Přehled_body!$A$3:$A$130,0),MATCH(Tabulka!AD$2,Přehled_body!$E$1:$ED$1,0)),)))","v":0},{"$f":"IF(SUM(AG29)<2,-90000+SUM(D29:AD29),SUM(D29:AD29))","v":5.00000000005},null,{"$f":"COUNTIF(D29:AD29,\">0\")","v":7},5.00000000005,{"$f":"CONCATENATE($B$30,\" \",$B$31,C29)","v":"Míra ŠedivýVýhry"},null,null,7]
[{"$f":"CONCATENATE(B30,\" \",B31)","v":"Míra Šedivý"},"Míra","Prohry",{"$f":"IF(IFERROR(INDEX(Přehled_body!$E$3:$ED$130,MATCH(Tabulka!$AI30,Přehled_body!$A$3:$A$130,0),MATCH(Tabulka!D$2,Přehled_body!$E$1:$ED$1,0)),)=\"\",,IF(IFERROR(INDEX(Přehled_body!$E$3:$ED$130,MATCH(Tabulka!$AI30,Přehled_body!$A$3:$A$130,0),MATCH(Tabulka!D$2,Přehled_body!$E$1:$ED$1,0)),)=0,0.00000000001,IFERROR(INDEX(Přehled_body!$E$3:$ED$130,MATCH(Tabulka!$AI30,Přehled_body!$A$3:$A$130,0),MATCH(Tabulka!D$2,Přehled_body!$E$1:$ED$1,0)),)))","v":0},{"$f":"IF(IFERROR(INDEX(Přehled_body!$E$3:$ED$130,MATCH(Tabulka!$AI30,Přehled_body!$A$3:$A$130,0),MATCH(Tabulka!E$2,Přehled_body!$E$1:$ED$1,0)),)=\"\",,IF(IFERROR(INDEX(Přehled_body!$E$3:$ED$130,MATCH(Tabulka!$AI30,Přehled_body!$A$3:$A$130,0),MATCH(Tabulka!E$2,Přehled_body!$E$1:$ED$1,0)),)=0,0.00000000001,IFERROR(INDEX(Přehled_body!$E$3:$ED$130,MATCH(Tabulka!$AI30,Přehled_body!$A$3:$A$130,0),MATCH(Tabulka!E$2,Přehled_body!$E$1:$ED$1,0)),)))","v":0},{"$f":"IF(IFERROR(INDEX(Přehled_body!$E$3:$ED$130,MATCH(Tabulka!$AI30,Přehled_body!$A$3:$A$130,0),MATCH(Tabulka!F$2,Přehled_body!$E$1:$ED$1,0)),)=\"\",,IF(IFERROR(INDEX(Přehled_body!$E$3:$ED$130,MATCH(Tabulka!$AI30,Přehled_body!$A$3:$A$130,0),MATCH(Tabulka!F$2,Přehled_body!$E$1:$ED$1,0)),)=0,0.00000000001,IFERROR(INDEX(Přehled_body!$E$3:$ED$130,MATCH(Tabulka!$AI30,Přehled_body!$A$3:$A$130,0),MATCH(Tabulka!F$2,Přehled_body!$E$1:$ED$1,0)),)))","v":9.9999999999999994E-12},{"$f":"IF(IFERROR(INDEX(Přehled_body!$E$3:$ED$130,MATCH(Tabulka!$AI30,Přehled_body!$A$3:$A$130,0),MATCH(Tabulka!G$2,Přehled_body!$E$1:$ED$1,0)),)=\"\",,IF(IFERROR(INDEX(Přehled_body!$E$3:$ED$130,MATCH(Tabulka!$AI30,Přehled_body!$A$3:$A$130,0),MATCH(Tabulka!G$2,Přehled_body!$E$1:$ED$1,0)),)=0,0.00000000001,IFERROR(INDEX(Přehled_body!$E$3:$ED$130,MATCH(Tabulka!$AI30,Přehled_body!$A$3:$A$130,0),MATCH(Tabulka!G$2,Přehled_body!$E$1:$ED$1,0)),)))","v":9.9999999999999994E-12},{"$f":"IF(IFERROR(INDEX(Přehled_body!$E$3:$ED$130,MATCH(Tabulka!$AI30,Přehled_body!$A$3:$A$130,0),MATCH(Tabulka!H$2,Přehled_body!$E$1:$ED$1,0)),)=\"\",,IF(IFERROR(INDEX(Přehled_body!$E$3:$ED$130,MATCH(Tabulka!$AI30,Přehled_body!$A$3:$A$130,0),MATCH(Tabulka!H$2,Přehled_body!$E$1:$ED$1,0)),)=0,0.00000000001,IFERROR(INDEX(Přehled_body!$E$3:$ED$130,MATCH(Tabulka!$AI30,Přehled_body!$A$3:$A$130,0),MATCH(Tabulka!H$2,Přehled_body!$E$1:$ED$1,0)),)))","v":0},{"$f":"IF(IFERROR(INDEX(Přehled_body!$E$3:$ED$130,MATCH(Tabulka!$AI30,Přehled_body!$A$3:$A$130,0),MATCH(Tabulka!I$2,Přehled_body!$E$1:$ED$1,0)),)=\"\",,IF(IFERROR(INDEX(Přehled_body!$E$3:$ED$130,MATCH(Tabulka!$AI30,Přehled_body!$A$3:$A$130,0),MATCH(Tabulka!I$2,Přehled_body!$E$1:$ED$1,0)),)=0,0.00000000001,IFERROR(INDEX(Přehled_body!$E$3:$ED$130,MATCH(Tabulka!$AI30,Přehled_body!$A$3:$A$130,0),MATCH(Tabulka!I$2,Přehled_body!$E$1:$ED$1,0)),)))","v":1},{"$f":"IF(IFERROR(INDEX(Přehled_body!$E$3:$ED$130,MATCH(Tabulka!$AI30,Přehled_body!$A$3:$A$130,0),MATCH(Tabulka!J$2,Přehled_body!$E$1:$ED$1,0)),)=\"\",,IF(IFERROR(INDEX(Přehled_body!$E$3:$ED$130,MATCH(Tabulka!$AI30,Přehled_body!$A$3:$A$130,0),MATCH(Tabulka!J$2,Přehled_body!$E$1:$ED$1,0)),)=0,0.00000000001,IFERROR(INDEX(Přehled_body!$E$3:$ED$130,MATCH(Tabulka!$AI30,Přehled_body!$A$3:$A$130,0),MATCH(Tabulka!J$2,Přehled_body!$E$1:$ED$1,0)),)))","v":2},{"$f":"IF(IFERROR(INDEX(Přehled_body!$E$3:$ED$130,MATCH(Tabulka!$AI30,Přehled_body!$A$3:$A$130,0),MATCH(Tabulka!K$2,Přehled_body!$E$1:$ED$1,0)),)=\"\",,IF(IFERROR(INDEX(Přehled_body!$E$3:$ED$130,MATCH(Tabulka!$AI30,Přehled_body!$A$3:$A$130,0),MATCH(Tabulka!K$2,Přehled_body!$E$1:$ED$1,0)),)=0,0.00000000001,IFERROR(INDEX(Přehled_body!$E$3:$ED$130,MATCH(Tabulka!$AI30,Přehled_body!$A$3:$A$130,0),MATCH(Tabulka!K$2,Přehled_body!$E$1:$ED$1,0)),)))","v":1},{"$f":"IF(IFERROR(INDEX(Přehled_body!$E$3:$ED$130,MATCH(Tabulka!$AI30,Přehled_body!$A$3:$A$130,0),MATCH(Tabulka!L$2,Přehled_body!$E$1:$ED$1,0)),)=\"\",,IF(IFERROR(INDEX(Přehled_body!$E$3:$ED$130,MATCH(Tabulka!$AI30,Přehled_body!$A$3:$A$130,0),MATCH(Tabulka!L$2,Přehled_body!$E$1:$ED$1,0)),)=0,0.00000000001,IFERROR(INDEX(Přehled_body!$E$3:$ED$130,MATCH(Tabulka!$AI30,Přehled_body!$A$3:$A$130,0),MATCH(Tabulka!L$2,Přehled_body!$E$1:$ED$1,0)),)))","v":0},{"$f":"IF(IFERROR(INDEX(Přehled_body!$E$3:$ED$130,MATCH(Tabulka!$AI30,Přehled_body!$A$3:$A$130,0),MATCH(Tabulka!M$2,Přehled_body!$E$1:$ED$1,0)),)=\"\",,IF(IFERROR(INDEX(Přehled_body!$E$3:$ED$130,MATCH(Tabulka!$AI30,Přehled_body!$A$3:$A$130,0),MATCH(Tabulka!M$2,Přehled_body!$E$1:$ED$1,0)),)=0,0.00000000001,IFERROR(INDEX(Přehled_body!$E$3:$ED$130,MATCH(Tabulka!$AI30,Přehled_body!$A$3:$A$130,0),MATCH(Tabulka!M$2,Přehled_body!$E$1:$ED$1,0)),)))","v":0},{"$f":"IF(IFERROR(INDEX(Přehled_body!$E$3:$ED$130,MATCH(Tabulka!$AI30,Přehled_body!$A$3:$A$130,0),MATCH(Tabulka!N$2,Přehled_body!$E$1:$ED$1,0)),)=\"\",,IF(IFERROR(INDEX(Přehled_body!$E$3:$ED$130,MATCH(Tabulka!$AI30,Přehled_body!$A$3:$A$130,0),MATCH(Tabulka!N$2,Přehled_body!$E$1:$ED$1,0)),)=0,0.00000000001,IFERROR(INDEX(Přehled_body!$E$3:$ED$130,MATCH(Tabulka!$AI30,Přehled_body!$A$3:$A$130,0),MATCH(Tabulka!N$2,Přehled_body!$E$1:$ED$1,0)),)))","v":1},{"$f":"IF(IFERROR(INDEX(Přehled_body!$E$3:$ED$130,MATCH(Tabulka!$AI30,Přehled_body!$A$3:$A$130,0),MATCH(Tabulka!O$2,Přehled_body!$E$1:$ED$1,0)),)=\"\",,IF(IFERROR(INDEX(Přehled_body!$E$3:$ED$130,MATCH(Tabulka!$AI30,Přehled_body!$A$3:$A$130,0),MATCH(Tabulka!O$2,Přehled_body!$E$1:$ED$1,0)),)=0,0.00000000001,IFERROR(INDEX(Přehled_body!$E$3:$ED$130,MATCH(Tabulka!$AI30,Přehled_body!$A$3:$A$130,0),MATCH(Tabulka!O$2,Přehled_body!$E$1:$ED$1,0)),)))","v":0},{"$f":"IF(IFERROR(INDEX(Přehled_body!$E$3:$ED$130,MATCH(Tabulka!$AI30,Přehled_body!$A$3:$A$130,0),MATCH(Tabulka!P$2,Přehled_body!$E$1:$ED$1,0)),)=\"\",,IF(IFERROR(INDEX(Přehled_body!$E$3:$ED$130,MATCH(Tabulka!$AI30,Přehled_body!$A$3:$A$130,0),MATCH(Tabulka!P$2,Přehled_body!$E$1:$ED$1,0)),)=0,0.00000000001,IFERROR(INDEX(Přehled_body!$E$3:$ED$130,MATCH(Tabulka!$AI30,Přehled_body!$A$3:$A$130,0),MATCH(Tabulka!P$2,Přehled_body!$E$1:$ED$1,0)),)))","v":0},{"$f":"IF(IFERROR(INDEX(Přehled_body!$E$3:$ED$130,MATCH(Tabulka!$AI30,Přehled_body!$A$3:$A$130,0),MATCH(Tabulka!Q$2,Přehled_body!$E$1:$ED$1,0)),)=\"\",,IF(IFERROR(INDEX(Přehled_body!$E$3:$ED$130,MATCH(Tabulka!$AI30,Přehled_body!$A$3:$A$130,0),MATCH(Tabulka!Q$2,Přehled_body!$E$1:$ED$1,0)),)=0,0.00000000001,IFERROR(INDEX(Přehled_body!$E$3:$ED$130,MATCH(Tabulka!$AI30,Přehled_body!$A$3:$A$130,0),MATCH(Tabulka!Q$2,Přehled_body!$E$1:$ED$1,0)),)))","v":1},{"$f":"IF(IFERROR(INDEX(Přehled_body!$E$3:$ED$130,MATCH(Tabulka!$AI30,Přehled_body!$A$3:$A$130,0),MATCH(Tabulka!R$2,Přehled_body!$E$1:$ED$1,0)),)=\"\",,IF(IFERROR(INDEX(Přehled_body!$E$3:$ED$130,MATCH(Tabulka!$AI30,Přehled_body!$A$3:$A$130,0),MATCH(Tabulka!R$2,Přehled_body!$E$1:$ED$1,0)),)=0,0.00000000001,IFERROR(INDEX(Přehled_body!$E$3:$ED$130,MATCH(Tabulka!$AI30,Přehled_body!$A$3:$A$130,0),MATCH(Tabulka!R$2,Přehled_body!$E$1:$ED$1,0)),)))","v":0},{"$f":"IF(IFERROR(INDEX(Přehled_body!$E$3:$ED$130,MATCH(Tabulka!$AI30,Přehled_body!$A$3:$A$130,0),MATCH(Tabulka!S$2,Přehled_body!$E$1:$ED$1,0)),)=\"\",,IF(IFERROR(INDEX(Přehled_body!$E$3:$ED$130,MATCH(Tabulka!$AI30,Přehled_body!$A$3:$A$130,0),MATCH(Tabulka!S$2,Přehled_body!$E$1:$ED$1,0)),)=0,0.00000000001,IFERROR(INDEX(Přehled_body!$E$3:$ED$130,MATCH(Tabulka!$AI30,Přehled_body!$A$3:$A$130,0),MATCH(Tabulka!S$2,Přehled_body!$E$1:$ED$1,0)),)))","v":0},{"$f":"IF(IFERROR(INDEX(Přehled_body!$E$3:$ED$130,MATCH(Tabulka!$AI30,Přehled_body!$A$3:$A$130,0),MATCH(Tabulka!T$2,Přehled_body!$E$1:$ED$1,0)),)=\"\",,IF(IFERROR(INDEX(Přehled_body!$E$3:$ED$130,MATCH(Tabulka!$AI30,Přehled_body!$A$3:$A$130,0),MATCH(Tabulka!T$2,Přehled_body!$E$1:$ED$1,0)),)=0,0.00000000001,IFERROR(INDEX(Přehled_body!$E$3:$ED$130,MATCH(Tabulka!$AI30,Přehled_body!$A$3:$A$130,0),MATCH(Tabulka!T$2,Přehled_body!$E$1:$ED$1,0)),)))","v":0},{"$f":"IF(IFERROR(INDEX(Přehled_body!$E$3:$ED$130,MATCH(Tabulka!$AI30,Přehled_body!$A$3:$A$130,0),MATCH(Tabulka!U$2,Přehled_body!$E$1:$ED$1,0)),)=\"\",,IF(IFERROR(INDEX(Přehled_body!$E$3:$ED$130,MATCH(Tabulka!$AI30,Přehled_body!$A$3:$A$130,0),MATCH(Tabulka!U$2,Přehled_body!$E$1:$ED$1,0)),)=0,0.00000000001,IFERROR(INDEX(Přehled_body!$E$3:$ED$130,MATCH(Tabulka!$AI30,Přehled_body!$A$3:$A$130,0),MATCH(Tabulka!U$2,Přehled_body!$E$1:$ED$1,0)),)))","v":0},{"$f":"IF(IFERROR(INDEX(Přehled_body!$E$3:$ED$130,MATCH(Tabulka!$AI30,Přehled_body!$A$3:$A$130,0),MATCH(Tabulka!V$2,Přehled_body!$E$1:$ED$1,0)),)=\"\",,IF(IFERROR(INDEX(Přehled_body!$E$3:$ED$130,MATCH(Tabulka!$AI30,Přehled_body!$A$3:$A$130,0),MATCH(Tabulka!V$2,Přehled_body!$E$1:$ED$1,0)),)=0,0.00000000001,IFERROR(INDEX(Přehled_body!$E$3:$ED$130,MATCH(Tabulka!$AI30,Přehled_body!$A$3:$A$130,0),MATCH(Tabulka!V$2,Přehled_body!$E$1:$ED$1,0)),)))","v":0},{"$f":"IF(IFERROR(INDEX(Přehled_body!$E$3:$ED$130,MATCH(Tabulka!$AI30,Přehled_body!$A$3:$A$130,0),MATCH(Tabulka!W$2,Přehled_body!$E$1:$ED$1,0)),)=\"\",,IF(IFERROR(INDEX(Přehled_body!$E$3:$ED$130,MATCH(Tabulka!$AI30,Přehled_body!$A$3:$A$130,0),MATCH(Tabulka!W$2,Přehled_body!$E$1:$ED$1,0)),)=0,0.00000000001,IFERROR(INDEX(Přehled_body!$E$3:$ED$130,MATCH(Tabulka!$AI30,Přehled_body!$A$3:$A$130,0),MATCH(Tabulka!W$2,Přehled_body!$E$1:$ED$1,0)),)))","v":0},{"$f":"IF(IFERROR(INDEX(Přehled_body!$E$3:$ED$130,MATCH(Tabulka!$AI30,Přehled_body!$A$3:$A$130,0),MATCH(Tabulka!X$2,Přehled_body!$E$1:$ED$1,0)),)=\"\",,IF(IFERROR(INDEX(Přehled_body!$E$3:$ED$130,MATCH(Tabulka!$AI30,Přehled_body!$A$3:$A$130,0),MATCH(Tabulka!X$2,Přehled_body!$E$1:$ED$1,0)),)=0,0.00000000001,IFERROR(INDEX(Přehled_body!$E$3:$ED$130,MATCH(Tabulka!$AI30,Přehled_body!$A$3:$A$130,0),MATCH(Tabulka!X$2,Přehled_body!$E$1:$ED$1,0)),)))","v":0},{"$f":"IF(IFERROR(INDEX(Přehled_body!$E$3:$ED$130,MATCH(Tabulka!$AI30,Přehled_body!$A$3:$A$130,0),MATCH(Tabulka!Y$2,Přehled_body!$E$1:$ED$1,0)),)=\"\",,IF(IFERROR(INDEX(Přehled_body!$E$3:$ED$130,MATCH(Tabulka!$AI30,Přehled_body!$A$3:$A$130,0),MATCH(Tabulka!Y$2,Přehled_body!$E$1:$ED$1,0)),)=0,0.00000000001,IFERROR(INDEX(Přehled_body!$E$3:$ED$130,MATCH(Tabulka!$AI30,Přehled_body!$A$3:$A$130,0),MATCH(Tabulka!Y$2,Přehled_body!$E$1:$ED$1,0)),)))","v":0},{"$f":"IF(IFERROR(INDEX(Přehled_body!$E$3:$ED$130,MATCH(Tabulka!$AI30,Přehled_body!$A$3:$A$130,0),MATCH(Tabulka!Z$2,Přehled_body!$E$1:$ED$1,0)),)=\"\",,IF(IFERROR(INDEX(Přehled_body!$E$3:$ED$130,MATCH(Tabulka!$AI30,Přehled_body!$A$3:$A$130,0),MATCH(Tabulka!Z$2,Přehled_body!$E$1:$ED$1,0)),)=0,0.00000000001,IFERROR(INDEX(Přehled_body!$E$3:$ED$130,MATCH(Tabulka!$AI30,Přehled_body!$A$3:$A$130,0),MATCH(Tabulka!Z$2,Přehled_body!$E$1:$ED$1,0)),)))","v":0},{"$f":"IF(IFERROR(INDEX(Přehled_body!$E$3:$ED$130,MATCH(Tabulka!$AI30,Přehled_body!$A$3:$A$130,0),MATCH(Tabulka!AA$2,Přehled_body!$E$1:$ED$1,0)),)=\"\",,IF(IFERROR(INDEX(Přehled_body!$E$3:$ED$130,MATCH(Tabulka!$AI30,Přehled_body!$A$3:$A$130,0),MATCH(Tabulka!AA$2,Přehled_body!$E$1:$ED$1,0)),)=0,0.00000000001,IFERROR(INDEX(Přehled_body!$E$3:$ED$130,MATCH(Tabulka!$AI30,Přehled_body!$A$3:$A$130,0),MATCH(Tabulka!AA$2,Přehled_body!$E$1:$ED$1,0)),)))","v":0},{"$f":"IF(IFERROR(INDEX(Přehled_body!$E$3:$ED$130,MATCH(Tabulka!$AI30,Přehled_body!$A$3:$A$130,0),MATCH(Tabulka!AB$2,Přehled_body!$E$1:$ED$1,0)),)=\"\",,IF(IFERROR(INDEX(Přehled_body!$E$3:$ED$130,MATCH(Tabulka!$AI30,Přehled_body!$A$3:$A$130,0),MATCH(Tabulka!AB$2,Přehled_body!$E$1:$ED$1,0)),)=0,0.00000000001,IFERROR(INDEX(Přehled_body!$E$3:$ED$130,MATCH(Tabulka!$AI30,Přehled_body!$A$3:$A$130,0),MATCH(Tabulka!AB$2,Přehled_body!$E$1:$ED$1,0)),)))","v":0},{"$f":"IF(IFERROR(INDEX(Přehled_body!$E$3:$ED$130,MATCH(Tabulka!$AI30,Přehled_body!$A$3:$A$130,0),MATCH(Tabulka!AC$2,Přehled_body!$E$1:$ED$1,0)),)=\"\",,IF(IFERROR(INDEX(Přehled_body!$E$3:$ED$130,MATCH(Tabulka!$AI30,Přehled_body!$A$3:$A$130,0),MATCH(Tabulka!AC$2,Přehled_body!$E$1:$ED$1,0)),)=0,0.00000000001,IFERROR(INDEX(Přehled_body!$E$3:$ED$130,MATCH(Tabulka!$AI30,Přehled_body!$A$3:$A$130,0),MATCH(Tabulka!AC$2,Přehled_body!$E$1:$ED$1,0)),)))","v":0},{"$f":"IF(IFERROR(INDEX(Přehled_body!$E$3:$ED$130,MATCH(Tabulka!$AI30,Přehled_body!$A$3:$A$130,0),MATCH(Tabulka!AD$2,Přehled_body!$E$1:$ED$1,0)),)=\"\",,IF(IFERROR(INDEX(Přehled_body!$E$3:$ED$130,MATCH(Tabulka!$AI30,Přehled_body!$A$3:$A$130,0),MATCH(Tabulka!AD$2,Přehled_body!$E$1:$ED$1,0)),)=0,0.00000000001,IFERROR(INDEX(Přehled_body!$E$3:$ED$130,MATCH(Tabulka!$AI30,Přehled_body!$A$3:$A$130,0),MATCH(Tabulka!AD$2,Přehled_body!$E$1:$ED$1,0)),)))","v":0},{"$f":"IF(SUM(AG29)<2,-90000+SUM(D30:AD30),SUM(D30:AD30))","v":6.00000000002},{"$f":"SUM(AE29-AE30)","v":-0.99999999997},null,6.00000000002,{"$f":"CONCATENATE($B$30,\" \",$B$31,C30)","v":"Míra ŠedivýProhry"},null,null,7,null,null,"Míra",6]
[{"$f":"CONCATENATE(B31,\" \",B30)","v":"Šedivý Míra"},"Šedivý","Placeno panáků",{"$f":"IF(IFERROR(INDEX(Přehled_body!$E$3:$ED$130,MATCH(Tabulka!$AI31,Přehled_body!$A$3:$A$130,0),MATCH(Tabulka!D$2,Přehled_body!$E$1:$ED$1,0)),)=\"\",,IF(IFERROR(INDEX(Přehled_body!$E$3:$ED$130,MATCH(Tabulka!$AI31,Přehled_body!$A$3:$A$130,0),MATCH(Tabulka!D$2,Přehled_body!$E$1:$ED$1,0)),)=0,0.00000000001,IFERROR(INDEX(Přehled_body!$E$3:$ED$130,MATCH(Tabulka!$AI31,Přehled_body!$A$3:$A$130,0),MATCH(Tabulka!D$2,Přehled_body!$E$1:$ED$1,0)),)))","v":0},{"$f":"IF(IFERROR(INDEX(Přehled_body!$E$3:$ED$130,MATCH(Tabulka!$AI31,Přehled_body!$A$3:$A$130,0),MATCH(Tabulka!E$2,Přehled_body!$E$1:$ED$1,0)),)=\"\",,IF(IFERROR(INDEX(Přehled_body!$E$3:$ED$130,MATCH(Tabulka!$AI31,Přehled_body!$A$3:$A$130,0),MATCH(Tabulka!E$2,Přehled_body!$E$1:$ED$1,0)),)=0,0.00000000001,IFERROR(INDEX(Přehled_body!$E$3:$ED$130,MATCH(Tabulka!$AI31,Přehled_body!$A$3:$A$130,0),MATCH(Tabulka!E$2,Přehled_body!$E$1:$ED$1,0)),)))","v":0},{"$f":"IF(IFERROR(INDEX(Přehled_body!$E$3:$ED$130,MATCH(Tabulka!$AI31,Přehled_body!$A$3:$A$130,0),MATCH(Tabulka!F$2,Přehled_body!$E$1:$ED$1,0)),)=\"\",,IF(IFERROR(INDEX(Přehled_body!$E$3:$ED$130,MATCH(Tabulka!$AI31,Přehled_body!$A$3:$A$130,0),MATCH(Tabulka!F$2,Přehled_body!$E$1:$ED$1,0)),)=0,0.00000000001,IFERROR(INDEX(Přehled_body!$E$3:$ED$130,MATCH(Tabulka!$AI31,Přehled_body!$A$3:$A$130,0),MATCH(Tabulka!F$2,Přehled_body!$E$1:$ED$1,0)),)))","v":9.9999999999999994E-12},{"$f":"IF(IFERROR(INDEX(Přehled_body!$E$3:$ED$130,MATCH(Tabulka!$AI31,Přehled_body!$A$3:$A$130,0),MATCH(Tabulka!G$2,Přehled_body!$E$1:$ED$1,0)),)=\"\",,IF(IFERROR(INDEX(Přehled_body!$E$3:$ED$130,MATCH(Tabulka!$AI31,Přehled_body!$A$3:$A$130,0),MATCH(Tabulka!G$2,Přehled_body!$E$1:$ED$1,0)),)=0,0.00000000001,IFERROR(INDEX(Přehled_body!$E$3:$ED$130,MATCH(Tabulka!$AI31,Přehled_body!$A$3:$A$130,0),MATCH(Tabulka!G$2,Přehled_body!$E$1:$ED$1,0)),)))","v":9.9999999999999994E-12},{"$f":"IF(IFERROR(INDEX(Přehled_body!$E$3:$ED$130,MATCH(Tabulka!$AI31,Přehled_body!$A$3:$A$130,0),MATCH(Tabulka!H$2,Přehled_body!$E$1:$ED$1,0)),)=\"\",,IF(IFERROR(INDEX(Přehled_body!$E$3:$ED$130,MATCH(Tabulka!$AI31,Přehled_body!$A$3:$A$130,0),MATCH(Tabulka!H$2,Přehled_body!$E$1:$ED$1,0)),)=0,0.00000000001,IFERROR(INDEX(Přehled_body!$E$3:$ED$130,MATCH(Tabulka!$AI31,Přehled_body!$A$3:$A$130,0),MATCH(Tabulka!H$2,Přehled_body!$E$1:$ED$1,0)),)))","v":0},{"$f":"IF(IFERROR(INDEX(Přehled_body!$E$3:$ED$130,MATCH(Tabulka!$AI31,Přehled_body!$A$3:$A$130,0),MATCH(Tabulka!I$2,Přehled_body!$E$1:$ED$1,0)),)=\"\",,IF(IFERROR(INDEX(Přehled_body!$E$3:$ED$130,MATCH(Tabulka!$AI31,Přehled_body!$A$3:$A$130,0),MATCH(Tabulka!I$2,Přehled_body!$E$1:$ED$1,0)),)=0,0.00000000001,IFERROR(INDEX(Přehled_body!$E$3:$ED$130,MATCH(Tabulka!$AI31,Přehled_body!$A$3:$A$130,0),MATCH(Tabulka!I$2,Přehled_body!$E$1:$ED$1,0)),)))","v":1},{"$f":"IF(IFERROR(INDEX(Přehled_body!$E$3:$ED$130,MATCH(Tabulka!$AI31,Přehled_body!$A$3:$A$130,0),MATCH(Tabulka!J$2,Přehled_body!$E$1:$ED$1,0)),)=\"\",,IF(IFERROR(INDEX(Přehled_body!$E$3:$ED$130,MATCH(Tabulka!$AI31,Přehled_body!$A$3:$A$130,0),MATCH(Tabulka!J$2,Přehled_body!$E$1:$ED$1,0)),)=0,0.00000000001,IFERROR(INDEX(Přehled_body!$E$3:$ED$130,MATCH(Tabulka!$AI31,Přehled_body!$A$3:$A$130,0),MATCH(Tabulka!J$2,Přehled_body!$E$1:$ED$1,0)),)))","v":2},{"$f":"IF(IFERROR(INDEX(Přehled_body!$E$3:$ED$130,MATCH(Tabulka!$AI31,Přehled_body!$A$3:$A$130,0),MATCH(Tabulka!K$2,Přehled_body!$E$1:$ED$1,0)),)=\"\",,IF(IFERROR(INDEX(Přehled_body!$E$3:$ED$130,MATCH(Tabulka!$AI31,Přehled_body!$A$3:$A$130,0),MATCH(Tabulka!K$2,Přehled_body!$E$1:$ED$1,0)),)=0,0.00000000001,IFERROR(INDEX(Přehled_body!$E$3:$ED$130,MATCH(Tabulka!$AI31,Přehled_body!$A$3:$A$130,0),MATCH(Tabulka!K$2,Přehled_body!$E$1:$ED$1,0)),)))","v":1},{"$f":"IF(IFERROR(INDEX(Přehled_body!$E$3:$ED$130,MATCH(Tabulka!$AI31,Přehled_body!$A$3:$A$130,0),MATCH(Tabulka!L$2,Přehled_body!$E$1:$ED$1,0)),)=\"\",,IF(IFERROR(INDEX(Přehled_body!$E$3:$ED$130,MATCH(Tabulka!$AI31,Přehled_body!$A$3:$A$130,0),MATCH(Tabulka!L$2,Přehled_body!$E$1:$ED$1,0)),)=0,0.00000000001,IFERROR(INDEX(Přehled_body!$E$3:$ED$130,MATCH(Tabulka!$AI31,Přehled_body!$A$3:$A$130,0),MATCH(Tabulka!L$2,Přehled_body!$E$1:$ED$1,0)),)))","v":0},{"$f":"IF(IFERROR(INDEX(Přehled_body!$E$3:$ED$130,MATCH(Tabulka!$AI31,Přehled_body!$A$3:$A$130,0),MATCH(Tabulka!M$2,Přehled_body!$E$1:$ED$1,0)),)=\"\",,IF(IFERROR(INDEX(Přehled_body!$E$3:$ED$130,MATCH(Tabulka!$AI31,Přehled_body!$A$3:$A$130,0),MATCH(Tabulka!M$2,Přehled_body!$E$1:$ED$1,0)),)=0,0.00000000001,IFERROR(INDEX(Přehled_body!$E$3:$ED$130,MATCH(Tabulka!$AI31,Přehled_body!$A$3:$A$130,0),MATCH(Tabulka!M$2,Přehled_body!$E$1:$ED$1,0)),)))","v":0},{"$f":"IF(IFERROR(INDEX(Přehled_body!$E$3:$ED$130,MATCH(Tabulka!$AI31,Přehled_body!$A$3:$A$130,0),MATCH(Tabulka!N$2,Přehled_body!$E$1:$ED$1,0)),)=\"\",,IF(IFERROR(INDEX(Přehled_body!$E$3:$ED$130,MATCH(Tabulka!$AI31,Přehled_body!$A$3:$A$130,0),MATCH(Tabulka!N$2,Přehled_body!$E$1:$ED$1,0)),)=0,0.00000000001,IFERROR(INDEX(Přehled_body!$E$3:$ED$130,MATCH(Tabulka!$AI31,Přehled_body!$A$3:$A$130,0),MATCH(Tabulka!N$2,Přehled_body!$E$1:$ED$1,0)),)))","v":1},{"$f":"IF(IFERROR(INDEX(Přehled_body!$E$3:$ED$130,MATCH(Tabulka!$AI31,Přehled_body!$A$3:$A$130,0),MATCH(Tabulka!O$2,Přehled_body!$E$1:$ED$1,0)),)=\"\",,IF(IFERROR(INDEX(Přehled_body!$E$3:$ED$130,MATCH(Tabulka!$AI31,Přehled_body!$A$3:$A$130,0),MATCH(Tabulka!O$2,Přehled_body!$E$1:$ED$1,0)),)=0,0.00000000001,IFERROR(INDEX(Přehled_body!$E$3:$ED$130,MATCH(Tabulka!$AI31,Přehled_body!$A$3:$A$130,0),MATCH(Tabulka!O$2,Přehled_body!$E$1:$ED$1,0)),)))","v":0},{"$f":"IF(IFERROR(INDEX(Přehled_body!$E$3:$ED$130,MATCH(Tabulka!$AI31,Přehled_body!$A$3:$A$130,0),MATCH(Tabulka!P$2,Přehled_body!$E$1:$ED$1,0)),)=\"\",,IF(IFERROR(INDEX(Přehled_body!$E$3:$ED$130,MATCH(Tabulka!$AI31,Přehled_body!$A$3:$A$130,0),MATCH(Tabulka!P$2,Přehled_body!$E$1:$ED$1,0)),)=0,0.00000000001,IFERROR(INDEX(Přehled_body!$E$3:$ED$130,MATCH(Tabulka!$AI31,Přehled_body!$A$3:$A$130,0),MATCH(Tabulka!P$2,Přehled_body!$E$1:$ED$1,0)),)))","v":0},{"$f":"IF(IFERROR(INDEX(Přehled_body!$E$3:$ED$130,MATCH(Tabulka!$AI31,Přehled_body!$A$3:$A$130,0),MATCH(Tabulka!Q$2,Přehled_body!$E$1:$ED$1,0)),)=\"\",,IF(IFERROR(INDEX(Přehled_body!$E$3:$ED$130,MATCH(Tabulka!$AI31,Přehled_body!$A$3:$A$130,0),MATCH(Tabulka!Q$2,Přehled_body!$E$1:$ED$1,0)),)=0,0.00000000001,IFERROR(INDEX(Přehled_body!$E$3:$ED$130,MATCH(Tabulka!$AI31,Přehled_body!$A$3:$A$130,0),MATCH(Tabulka!Q$2,Přehled_body!$E$1:$ED$1,0)),)))","v":1},{"$f":"IF(IFERROR(INDEX(Přehled_body!$E$3:$ED$130,MATCH(Tabulka!$AI31,Přehled_body!$A$3:$A$130,0),MATCH(Tabulka!R$2,Přehled_body!$E$1:$ED$1,0)),)=\"\",,IF(IFERROR(INDEX(Přehled_body!$E$3:$ED$130,MATCH(Tabulka!$AI31,Přehled_body!$A$3:$A$130,0),MATCH(Tabulka!R$2,Přehled_body!$E$1:$ED$1,0)),)=0,0.00000000001,IFERROR(INDEX(Přehled_body!$E$3:$ED$130,MATCH(Tabulka!$AI31,Přehled_body!$A$3:$A$130,0),MATCH(Tabulka!R$2,Přehled_body!$E$1:$ED$1,0)),)))","v":0},{"$f":"IF(IFERROR(INDEX(Přehled_body!$E$3:$ED$130,MATCH(Tabulka!$AI31,Přehled_body!$A$3:$A$130,0),MATCH(Tabulka!S$2,Přehled_body!$E$1:$ED$1,0)),)=\"\",,IF(IFERROR(INDEX(Přehled_body!$E$3:$ED$130,MATCH(Tabulka!$AI31,Přehled_body!$A$3:$A$130,0),MATCH(Tabulka!S$2,Přehled_body!$E$1:$ED$1,0)),)=0,0.00000000001,IFERROR(INDEX(Přehled_body!$E$3:$ED$130,MATCH(Tabulka!$AI31,Přehled_body!$A$3:$A$130,0),MATCH(Tabulka!S$2,Přehled_body!$E$1:$ED$1,0)),)))","v":0},{"$f":"IF(IFERROR(INDEX(Přehled_body!$E$3:$ED$130,MATCH(Tabulka!$AI31,Přehled_body!$A$3:$A$130,0),MATCH(Tabulka!T$2,Přehled_body!$E$1:$ED$1,0)),)=\"\",,IF(IFERROR(INDEX(Přehled_body!$E$3:$ED$130,MATCH(Tabulka!$AI31,Přehled_body!$A$3:$A$130,0),MATCH(Tabulka!T$2,Přehled_body!$E$1:$ED$1,0)),)=0,0.00000000001,IFERROR(INDEX(Přehled_body!$E$3:$ED$130,MATCH(Tabulka!$AI31,Přehled_body!$A$3:$A$130,0),MATCH(Tabulka!T$2,Přehled_body!$E$1:$ED$1,0)),)))","v":0},{"$f":"IF(IFERROR(INDEX(Přehled_body!$E$3:$ED$130,MATCH(Tabulka!$AI31,Přehled_body!$A$3:$A$130,0),MATCH(Tabulka!U$2,Přehled_body!$E$1:$ED$1,0)),)=\"\",,IF(IFERROR(INDEX(Přehled_body!$E$3:$ED$130,MATCH(Tabulka!$AI31,Přehled_body!$A$3:$A$130,0),MATCH(Tabulka!U$2,Přehled_body!$E$1:$ED$1,0)),)=0,0.00000000001,IFERROR(INDEX(Přehled_body!$E$3:$ED$130,MATCH(Tabulka!$AI31,Přehled_body!$A$3:$A$130,0),MATCH(Tabulka!U$2,Přehled_body!$E$1:$ED$1,0)),)))","v":0},{"$f":"IF(IFERROR(INDEX(Přehled_body!$E$3:$ED$130,MATCH(Tabulka!$AI31,Přehled_body!$A$3:$A$130,0),MATCH(Tabulka!V$2,Přehled_body!$E$1:$ED$1,0)),)=\"\",,IF(IFERROR(INDEX(Přehled_body!$E$3:$ED$130,MATCH(Tabulka!$AI31,Přehled_body!$A$3:$A$130,0),MATCH(Tabulka!V$2,Přehled_body!$E$1:$ED$1,0)),)=0,0.00000000001,IFERROR(INDEX(Přehled_body!$E$3:$ED$130,MATCH(Tabulka!$AI31,Přehled_body!$A$3:$A$130,0),MATCH(Tabulka!V$2,Přehled_body!$E$1:$ED$1,0)),)))","v":0},{"$f":"IF(IFERROR(INDEX(Přehled_body!$E$3:$ED$130,MATCH(Tabulka!$AI31,Přehled_body!$A$3:$A$130,0),MATCH(Tabulka!W$2,Přehled_body!$E$1:$ED$1,0)),)=\"\",,IF(IFERROR(INDEX(Přehled_body!$E$3:$ED$130,MATCH(Tabulka!$AI31,Přehled_body!$A$3:$A$130,0),MATCH(Tabulka!W$2,Přehled_body!$E$1:$ED$1,0)),)=0,0.00000000001,IFERROR(INDEX(Přehled_body!$E$3:$ED$130,MATCH(Tabulka!$AI31,Přehled_body!$A$3:$A$130,0),MATCH(Tabulka!W$2,Přehled_body!$E$1:$ED$1,0)),)))","v":0},{"$f":"IF(IFERROR(INDEX(Přehled_body!$E$3:$ED$130,MATCH(Tabulka!$AI31,Přehled_body!$A$3:$A$130,0),MATCH(Tabulka!X$2,Přehled_body!$E$1:$ED$1,0)),)=\"\",,IF(IFERROR(INDEX(Přehled_body!$E$3:$ED$130,MATCH(Tabulka!$AI31,Přehled_body!$A$3:$A$130,0),MATCH(Tabulka!X$2,Přehled_body!$E$1:$ED$1,0)),)=0,0.00000000001,IFERROR(INDEX(Přehled_body!$E$3:$ED$130,MATCH(Tabulka!$AI31,Přehled_body!$A$3:$A$130,0),MATCH(Tabulka!X$2,Přehled_body!$E$1:$ED$1,0)),)))","v":0},{"$f":"IF(IFERROR(INDEX(Přehled_body!$E$3:$ED$130,MATCH(Tabulka!$AI31,Přehled_body!$A$3:$A$130,0),MATCH(Tabulka!Y$2,Přehled_body!$E$1:$ED$1,0)),)=\"\",,IF(IFERROR(INDEX(Přehled_body!$E$3:$ED$130,MATCH(Tabulka!$AI31,Přehled_body!$A$3:$A$130,0),MATCH(Tabulka!Y$2,Přehled_body!$E$1:$ED$1,0)),)=0,0.00000000001,IFERROR(INDEX(Přehled_body!$E$3:$ED$130,MATCH(Tabulka!$AI31,Přehled_body!$A$3:$A$130,0),MATCH(Tabulka!Y$2,Přehled_body!$E$1:$ED$1,0)),)))","v":0},{"$f":"IF(IFERROR(INDEX(Přehled_body!$E$3:$ED$130,MATCH(Tabulka!$AI31,Přehled_body!$A$3:$A$130,0),MATCH(Tabulka!Z$2,Přehled_body!$E$1:$ED$1,0)),)=\"\",,IF(IFERROR(INDEX(Přehled_body!$E$3:$ED$130,MATCH(Tabulka!$AI31,Přehled_body!$A$3:$A$130,0),MATCH(Tabulka!Z$2,Přehled_body!$E$1:$ED$1,0)),)=0,0.00000000001,IFERROR(INDEX(Přehled_body!$E$3:$ED$130,MATCH(Tabulka!$AI31,Přehled_body!$A$3:$A$130,0),MATCH(Tabulka!Z$2,Přehled_body!$E$1:$ED$1,0)),)))","v":0},{"$f":"IF(IFERROR(INDEX(Přehled_body!$E$3:$ED$130,MATCH(Tabulka!$AI31,Přehled_body!$A$3:$A$130,0),MATCH(Tabulka!AA$2,Přehled_body!$E$1:$ED$1,0)),)=\"\",,IF(IFERROR(INDEX(Přehled_body!$E$3:$ED$130,MATCH(Tabulka!$AI31,Přehled_body!$A$3:$A$130,0),MATCH(Tabulka!AA$2,Přehled_body!$E$1:$ED$1,0)),)=0,0.00000000001,IFERROR(INDEX(Přehled_body!$E$3:$ED$130,MATCH(Tabulka!$AI31,Přehled_body!$A$3:$A$130,0),MATCH(Tabulka!AA$2,Přehled_body!$E$1:$ED$1,0)),)))","v":0},{"$f":"IF(IFERROR(INDEX(Přehled_body!$E$3:$ED$130,MATCH(Tabulka!$AI31,Přehled_body!$A$3:$A$130,0),MATCH(Tabulka!AB$2,Přehled_body!$E$1:$ED$1,0)),)=\"\",,IF(IFERROR(INDEX(Přehled_body!$E$3:$ED$130,MATCH(Tabulka!$AI31,Přehled_body!$A$3:$A$130,0),MATCH(Tabulka!AB$2,Přehled_body!$E$1:$ED$1,0)),)=0,0.00000000001,IFERROR(INDEX(Přehled_body!$E$3:$ED$130,MATCH(Tabulka!$AI31,Přehled_body!$A$3:$A$130,0),MATCH(Tabulka!AB$2,Přehled_body!$E$1:$ED$1,0)),)))","v":0},{"$f":"IF(IFERROR(INDEX(Přehled_body!$E$3:$ED$130,MATCH(Tabulka!$AI31,Přehled_body!$A$3:$A$130,0),MATCH(Tabulka!AC$2,Přehled_body!$E$1:$ED$1,0)),)=\"\",,IF(IFERROR(INDEX(Přehled_body!$E$3:$ED$130,MATCH(Tabulka!$AI31,Přehled_body!$A$3:$A$130,0),MATCH(Tabulka!AC$2,Přehled_body!$E$1:$ED$1,0)),)=0,0.00000000001,IFERROR(INDEX(Přehled_body!$E$3:$ED$130,MATCH(Tabulka!$AI31,Přehled_body!$A$3:$A$130,0),MATCH(Tabulka!AC$2,Přehled_body!$E$1:$ED$1,0)),)))","v":0},{"$f":"IF(IFERROR(INDEX(Přehled_body!$E$3:$ED$130,MATCH(Tabulka!$AI31,Přehled_body!$A$3:$A$130,0),MATCH(Tabulka!AD$2,Přehled_body!$E$1:$ED$1,0)),)=\"\",,IF(IFERROR(INDEX(Přehled_body!$E$3:$ED$130,MATCH(Tabulka!$AI31,Přehled_body!$A$3:$A$130,0),MATCH(Tabulka!AD$2,Přehled_body!$E$1:$ED$1,0)),)=0,0.00000000001,IFERROR(INDEX(Přehled_body!$E$3:$ED$130,MATCH(Tabulka!$AI31,Přehled_body!$A$3:$A$130,0),MATCH(Tabulka!AD$2,Přehled_body!$E$1:$ED$1,0)),)))","v":0},{"$f":"IF(SUM(AG29)<2,-90000+SUM(D31:AD31),SUM(D31:AD31))","v":6.00000000002},null,null,{"$f":"SUM(D31:AD31)+INDEX(List4!$D$2:$F$17,MATCH(Tabulka!A30,List4!$D$2:$D$17,0),3)","v":6.0000001310200002},{"$f":"CONCATENATE($B$30,\" \",$B$31,C31)","v":"Míra ŠedivýPlaceno panáků"},null,null,7,null,null,"Šedivý",{"$f":"CONCATENATE(AQ31,\" \",AQ32)","v":"Jarda Klein"},"Jarda"]
[null,null,"Přehozy",{"$f":"IF(IFERROR(INDEX(Přehled_body!$E$3:$ED$130,MATCH(Tabulka!$AI32,Přehled_body!$A$3:$A$130,0),MATCH(Tabulka!D$2,Přehled_body!$E$1:$ED$1,0)),)=\"\",,IF(IFERROR(INDEX(Přehled_body!$E$3:$ED$130,MATCH(Tabulka!$AI32,Přehled_body!$A$3:$A$130,0),MATCH(Tabulka!D$2,Přehled_body!$E$1:$ED$1,0)),)=0,0.00000000001,IFERROR(INDEX(Přehled_body!$E$3:$ED$130,MATCH(Tabulka!$AI32,Přehled_body!$A$3:$A$130,0),MATCH(Tabulka!D$2,Přehled_body!$E$1:$ED$1,0)),)))","v":0},{"$f":"IF(IFERROR(INDEX(Přehled_body!$E$3:$ED$130,MATCH(Tabulka!$AI32,Přehled_body!$A$3:$A$130,0),MATCH(Tabulka!E$2,Přehled_body!$E$1:$ED$1,0)),)=\"\",,IF(IFERROR(INDEX(Přehled_body!$E$3:$ED$130,MATCH(Tabulka!$AI32,Přehled_body!$A$3:$A$130,0),MATCH(Tabulka!E$2,Přehled_body!$E$1:$ED$1,0)),)=0,0.00000000001,IFERROR(INDEX(Přehled_body!$E$3:$ED$130,MATCH(Tabulka!$AI32,Přehled_body!$A$3:$A$130,0),MATCH(Tabulka!E$2,Přehled_body!$E$1:$ED$1,0)),)))","v":0},{"$f":"IF(IFERROR(INDEX(Přehled_body!$E$3:$ED$130,MATCH(Tabulka!$AI32,Přehled_body!$A$3:$A$130,0),MATCH(Tabulka!F$2,Přehled_body!$E$1:$ED$1,0)),)=\"\",,IF(IFERROR(INDEX(Přehled_body!$E$3:$ED$130,MATCH(Tabulka!$AI32,Přehled_body!$A$3:$A$130,0),MATCH(Tabulka!F$2,Přehled_body!$E$1:$ED$1,0)),)=0,0.00000000001,IFERROR(INDEX(Přehled_body!$E$3:$ED$130,MATCH(Tabulka!$AI32,Přehled_body!$A$3:$A$130,0),MATCH(Tabulka!F$2,Přehled_body!$E$1:$ED$1,0)),)))","v":9.9999999999999994E-12},{"$f":"IF(IFERROR(INDEX(Přehled_body!$E$3:$ED$130,MATCH(Tabulka!$AI32,Přehled_body!$A$3:$A$130,0),MATCH(Tabulka!G$2,Přehled_body!$E$1:$ED$1,0)),)=\"\",,IF(IFERROR(INDEX(Přehled_body!$E$3:$ED$130,MATCH(Tabulka!$AI32,Přehled_body!$A$3:$A$130,0),MATCH(Tabulka!G$2,Přehled_body!$E$1:$ED$1,0)),)=0,0.00000000001,IFERROR(INDEX(Přehled_body!$E$3:$ED$130,MATCH(Tabulka!$AI32,Přehled_body!$A$3:$A$130,0),MATCH(Tabulka!G$2,Přehled_body!$E$1:$ED$1,0)),)))","v":9.9999999999999994E-12},{"$f":"IF(IFERROR(INDEX(Přehled_body!$E$3:$ED$130,MATCH(Tabulka!$AI32,Přehled_body!$A$3:$A$130,0),MATCH(Tabulka!H$2,Přehled_body!$E$1:$ED$1,0)),)=\"\",,IF(IFERROR(INDEX(Přehled_body!$E$3:$ED$130,MATCH(Tabulka!$AI32,Přehled_body!$A$3:$A$130,0),MATCH(Tabulka!H$2,Přehled_body!$E$1:$ED$1,0)),)=0,0.00000000001,IFERROR(INDEX(Přehled_body!$E$3:$ED$130,MATCH(Tabulka!$AI32,Přehled_body!$A$3:$A$130,0),MATCH(Tabulka!H$2,Přehled_body!$E$1:$ED$1,0)),)))","v":0},{"$f":"IF(IFERROR(INDEX(Přehled_body!$E$3:$ED$130,MATCH(Tabulka!$AI32,Přehled_body!$A$3:$A$130,0),MATCH(Tabulka!I$2,Přehled_body!$E$1:$ED$1,0)),)=\"\",,IF(IFERROR(INDEX(Přehled_body!$E$3:$ED$130,MATCH(Tabulka!$AI32,Přehled_body!$A$3:$A$130,0),MATCH(Tabulka!I$2,Přehled_body!$E$1:$ED$1,0)),)=0,0.00000000001,IFERROR(INDEX(Přehled_body!$E$3:$ED$130,MATCH(Tabulka!$AI32,Přehled_body!$A$3:$A$130,0),MATCH(Tabulka!I$2,Přehled_body!$E$1:$ED$1,0)),)))","v":9.9999999999999994E-12},{"$f":"IF(IFERROR(INDEX(Přehled_body!$E$3:$ED$130,MATCH(Tabulka!$AI32,Přehled_body!$A$3:$A$130,0),MATCH(Tabulka!J$2,Přehled_body!$E$1:$ED$1,0)),)=\"\",,IF(IFERROR(INDEX(Přehled_body!$E$3:$ED$130,MATCH(Tabulka!$AI32,Přehled_body!$A$3:$A$130,0),MATCH(Tabulka!J$2,Přehled_body!$E$1:$ED$1,0)),)=0,0.00000000001,IFERROR(INDEX(Přehled_body!$E$3:$ED$130,MATCH(Tabulka!$AI32,Přehled_body!$A$3:$A$130,0),MATCH(Tabulka!J$2,Přehled_body!$E$1:$ED$1,0)),)))","v":9.9999999999999994E-12},{"$f":"IF(IFERROR(INDEX(Přehled_body!$E$3:$ED$130,MATCH(Tabulka!$AI32,Přehled_body!$A$3:$A$130,0),MATCH(Tabulka!K$2,Přehled_body!$E$1:$ED$1,0)),)=\"\",,IF(IFERROR(INDEX(Přehled_body!$E$3:$ED$130,MATCH(Tabulka!$AI32,Přehled_body!$A$3:$A$130,0),MATCH(Tabulka!K$2,Přehled_body!$E$1:$ED$1,0)),)=0,0.00000000001,IFERROR(INDEX(Přehled_body!$E$3:$ED$130,MATCH(Tabulka!$AI32,Přehled_body!$A$3:$A$130,0),MATCH(Tabulka!K$2,Přehled_body!$E$1:$ED$1,0)),)))","v":9.9999999999999994E-12},{"$f":"IF(IFERROR(INDEX(Přehled_body!$E$3:$ED$130,MATCH(Tabulka!$AI32,Přehled_body!$A$3:$A$130,0),MATCH(Tabulka!L$2,Přehled_body!$E$1:$ED$1,0)),)=\"\",,IF(IFERROR(INDEX(Přehled_body!$E$3:$ED$130,MATCH(Tabulka!$AI32,Přehled_body!$A$3:$A$130,0),MATCH(Tabulka!L$2,Přehled_body!$E$1:$ED$1,0)),)=0,0.00000000001,IFERROR(INDEX(Přehled_body!$E$3:$ED$130,MATCH(Tabulka!$AI32,Přehled_body!$A$3:$A$130,0),MATCH(Tabulka!L$2,Přehled_body!$E$1:$ED$1,0)),)))","v":0},{"$f":"IF(IFERROR(INDEX(Přehled_body!$E$3:$ED$130,MATCH(Tabulka!$AI32,Přehled_body!$A$3:$A$130,0),MATCH(Tabulka!M$2,Přehled_body!$E$1:$ED$1,0)),)=\"\",,IF(IFERROR(INDEX(Přehled_body!$E$3:$ED$130,MATCH(Tabulka!$AI32,Přehled_body!$A$3:$A$130,0),MATCH(Tabulka!M$2,Přehled_body!$E$1:$ED$1,0)),)=0,0.00000000001,IFERROR(INDEX(Přehled_body!$E$3:$ED$130,MATCH(Tabulka!$AI32,Přehled_body!$A$3:$A$130,0),MATCH(Tabulka!M$2,Přehled_body!$E$1:$ED$1,0)),)))","v":0},{"$f":"IF(IFERROR(INDEX(Přehled_body!$E$3:$ED$130,MATCH(Tabulka!$AI32,Přehled_body!$A$3:$A$130,0),MATCH(Tabulka!N$2,Přehled_body!$E$1:$ED$1,0)),)=\"\",,IF(IFERROR(INDEX(Přehled_body!$E$3:$ED$130,MATCH(Tabulka!$AI32,Přehled_body!$A$3:$A$130,0),MATCH(Tabulka!N$2,Přehled_body!$E$1:$ED$1,0)),)=0,0.00000000001,IFERROR(INDEX(Přehled_body!$E$3:$ED$130,MATCH(Tabulka!$AI32,Přehled_body!$A$3:$A$130,0),MATCH(Tabulka!N$2,Přehled_body!$E$1:$ED$1,0)),)))","v":1},{"$f":"IF(IFERROR(INDEX(Přehled_body!$E$3:$ED$130,MATCH(Tabulka!$AI32,Přehled_body!$A$3:$A$130,0),MATCH(Tabulka!O$2,Přehled_body!$E$1:$ED$1,0)),)=\"\",,IF(IFERROR(INDEX(Přehled_body!$E$3:$ED$130,MATCH(Tabulka!$AI32,Přehled_body!$A$3:$A$130,0),MATCH(Tabulka!O$2,Přehled_body!$E$1:$ED$1,0)),)=0,0.00000000001,IFERROR(INDEX(Přehled_body!$E$3:$ED$130,MATCH(Tabulka!$AI32,Přehled_body!$A$3:$A$130,0),MATCH(Tabulka!O$2,Přehled_body!$E$1:$ED$1,0)),)))","v":0},{"$f":"IF(IFERROR(INDEX(Přehled_body!$E$3:$ED$130,MATCH(Tabulka!$AI32,Přehled_body!$A$3:$A$130,0),MATCH(Tabulka!P$2,Přehled_body!$E$1:$ED$1,0)),)=\"\",,IF(IFERROR(INDEX(Přehled_body!$E$3:$ED$130,MATCH(Tabulka!$AI32,Přehled_body!$A$3:$A$130,0),MATCH(Tabulka!P$2,Přehled_body!$E$1:$ED$1,0)),)=0,0.00000000001,IFERROR(INDEX(Přehled_body!$E$3:$ED$130,MATCH(Tabulka!$AI32,Přehled_body!$A$3:$A$130,0),MATCH(Tabulka!P$2,Přehled_body!$E$1:$ED$1,0)),)))","v":0},{"$f":"IF(IFERROR(INDEX(Přehled_body!$E$3:$ED$130,MATCH(Tabulka!$AI32,Přehled_body!$A$3:$A$130,0),MATCH(Tabulka!Q$2,Přehled_body!$E$1:$ED$1,0)),)=\"\",,IF(IFERROR(INDEX(Přehled_body!$E$3:$ED$130,MATCH(Tabulka!$AI32,Přehled_body!$A$3:$A$130,0),MATCH(Tabulka!Q$2,Přehled_body!$E$1:$ED$1,0)),)=0,0.00000000001,IFERROR(INDEX(Přehled_body!$E$3:$ED$130,MATCH(Tabulka!$AI32,Přehled_body!$A$3:$A$130,0),MATCH(Tabulka!Q$2,Přehled_body!$E$1:$ED$1,0)),)))","v":1},{"$f":"IF(IFERROR(INDEX(Přehled_body!$E$3:$ED$130,MATCH(Tabulka!$AI32,Přehled_body!$A$3:$A$130,0),MATCH(Tabulka!R$2,Přehled_body!$E$1:$ED$1,0)),)=\"\",,IF(IFERROR(INDEX(Přehled_body!$E$3:$ED$130,MATCH(Tabulka!$AI32,Přehled_body!$A$3:$A$130,0),MATCH(Tabulka!R$2,Přehled_body!$E$1:$ED$1,0)),)=0,0.00000000001,IFERROR(INDEX(Přehled_body!$E$3:$ED$130,MATCH(Tabulka!$AI32,Přehled_body!$A$3:$A$130,0),MATCH(Tabulka!R$2,Přehled_body!$E$1:$ED$1,0)),)))","v":0},{"$f":"IF(IFERROR(INDEX(Přehled_body!$E$3:$ED$130,MATCH(Tabulka!$AI32,Přehled_body!$A$3:$A$130,0),MATCH(Tabulka!S$2,Přehled_body!$E$1:$ED$1,0)),)=\"\",,IF(IFERROR(INDEX(Přehled_body!$E$3:$ED$130,MATCH(Tabulka!$AI32,Přehled_body!$A$3:$A$130,0),MATCH(Tabulka!S$2,Přehled_body!$E$1:$ED$1,0)),)=0,0.00000000001,IFERROR(INDEX(Přehled_body!$E$3:$ED$130,MATCH(Tabulka!$AI32,Přehled_body!$A$3:$A$130,0),MATCH(Tabulka!S$2,Přehled_body!$E$1:$ED$1,0)),)))","v":0},{"$f":"IF(IFERROR(INDEX(Přehled_body!$E$3:$ED$130,MATCH(Tabulka!$AI32,Přehled_body!$A$3:$A$130,0),MATCH(Tabulka!T$2,Přehled_body!$E$1:$ED$1,0)),)=\"\",,IF(IFERROR(INDEX(Přehled_body!$E$3:$ED$130,MATCH(Tabulka!$AI32,Přehled_body!$A$3:$A$130,0),MATCH(Tabulka!T$2,Přehled_body!$E$1:$ED$1,0)),)=0,0.00000000001,IFERROR(INDEX(Přehled_body!$E$3:$ED$130,MATCH(Tabulka!$AI32,Přehled_body!$A$3:$A$130,0),MATCH(Tabulka!T$2,Přehled_body!$E$1:$ED$1,0)),)))","v":0},{"$f":"IF(IFERROR(INDEX(Přehled_body!$E$3:$ED$130,MATCH(Tabulka!$AI32,Přehled_body!$A$3:$A$130,0),MATCH(Tabulka!U$2,Přehled_body!$E$1:$ED$1,0)),)=\"\",,IF(IFERROR(INDEX(Přehled_body!$E$3:$ED$130,MATCH(Tabulka!$AI32,Přehled_body!$A$3:$A$130,0),MATCH(Tabulka!U$2,Přehled_body!$E$1:$ED$1,0)),)=0,0.00000000001,IFERROR(INDEX(Přehled_body!$E$3:$ED$130,MATCH(Tabulka!$AI32,Přehled_body!$A$3:$A$130,0),MATCH(Tabulka!U$2,Přehled_body!$E$1:$ED$1,0)),)))","v":0},{"$f":"IF(IFERROR(INDEX(Přehled_body!$E$3:$ED$130,MATCH(Tabulka!$AI32,Přehled_body!$A$3:$A$130,0),MATCH(Tabulka!V$2,Přehled_body!$E$1:$ED$1,0)),)=\"\",,IF(IFERROR(INDEX(Přehled_body!$E$3:$ED$130,MATCH(Tabulka!$AI32,Přehled_body!$A$3:$A$130,0),MATCH(Tabulka!V$2,Přehled_body!$E$1:$ED$1,0)),)=0,0.00000000001,IFERROR(INDEX(Přehled_body!$E$3:$ED$130,MATCH(Tabulka!$AI32,Přehled_body!$A$3:$A$130,0),MATCH(Tabulka!V$2,Přehled_body!$E$1:$ED$1,0)),)))","v":0},{"$f":"IF(IFERROR(INDEX(Přehled_body!$E$3:$ED$130,MATCH(Tabulka!$AI32,Přehled_body!$A$3:$A$130,0),MATCH(Tabulka!W$2,Přehled_body!$E$1:$ED$1,0)),)=\"\",,IF(IFERROR(INDEX(Přehled_body!$E$3:$ED$130,MATCH(Tabulka!$AI32,Přehled_body!$A$3:$A$130,0),MATCH(Tabulka!W$2,Přehled_body!$E$1:$ED$1,0)),)=0,0.00000000001,IFERROR(INDEX(Přehled_body!$E$3:$ED$130,MATCH(Tabulka!$AI32,Přehled_body!$A$3:$A$130,0),MATCH(Tabulka!W$2,Přehled_body!$E$1:$ED$1,0)),)))","v":0},{"$f":"IF(IFERROR(INDEX(Přehled_body!$E$3:$ED$130,MATCH(Tabulka!$AI32,Přehled_body!$A$3:$A$130,0),MATCH(Tabulka!X$2,Přehled_body!$E$1:$ED$1,0)),)=\"\",,IF(IFERROR(INDEX(Přehled_body!$E$3:$ED$130,MATCH(Tabulka!$AI32,Přehled_body!$A$3:$A$130,0),MATCH(Tabulka!X$2,Přehled_body!$E$1:$ED$1,0)),)=0,0.00000000001,IFERROR(INDEX(Přehled_body!$E$3:$ED$130,MATCH(Tabulka!$AI32,Přehled_body!$A$3:$A$130,0),MATCH(Tabulka!X$2,Přehled_body!$E$1:$ED$1,0)),)))","v":0},{"$f":"IF(IFERROR(INDEX(Přehled_body!$E$3:$ED$130,MATCH(Tabulka!$AI32,Přehled_body!$A$3:$A$130,0),MATCH(Tabulka!Y$2,Přehled_body!$E$1:$ED$1,0)),)=\"\",,IF(IFERROR(INDEX(Přehled_body!$E$3:$ED$130,MATCH(Tabulka!$AI32,Přehled_body!$A$3:$A$130,0),MATCH(Tabulka!Y$2,Přehled_body!$E$1:$ED$1,0)),)=0,0.00000000001,IFERROR(INDEX(Přehled_body!$E$3:$ED$130,MATCH(Tabulka!$AI32,Přehled_body!$A$3:$A$130,0),MATCH(Tabulka!Y$2,Přehled_body!$E$1:$ED$1,0)),)))","v":0},{"$f":"IF(IFERROR(INDEX(Přehled_body!$E$3:$ED$130,MATCH(Tabulka!$AI32,Přehled_body!$A$3:$A$130,0),MATCH(Tabulka!Z$2,Přehled_body!$E$1:$ED$1,0)),)=\"\",,IF(IFERROR(INDEX(Přehled_body!$E$3:$ED$130,MATCH(Tabulka!$AI32,Přehled_body!$A$3:$A$130,0),MATCH(Tabulka!Z$2,Přehled_body!$E$1:$ED$1,0)),)=0,0.00000000001,IFERROR(INDEX(Přehled_body!$E$3:$ED$130,MATCH(Tabulka!$AI32,Přehled_body!$A$3:$A$130,0),MATCH(Tabulka!Z$2,Přehled_body!$E$1:$ED$1,0)),)))","v":0},{"$f":"IF(IFERROR(INDEX(Přehled_body!$E$3:$ED$130,MATCH(Tabulka!$AI32,Přehled_body!$A$3:$A$130,0),MATCH(Tabulka!AA$2,Přehled_body!$E$1:$ED$1,0)),)=\"\",,IF(IFERROR(INDEX(Přehled_body!$E$3:$ED$130,MATCH(Tabulka!$AI32,Přehled_body!$A$3:$A$130,0),MATCH(Tabulka!AA$2,Přehled_body!$E$1:$ED$1,0)),)=0,0.00000000001,IFERROR(INDEX(Přehled_body!$E$3:$ED$130,MATCH(Tabulka!$AI32,Přehled_body!$A$3:$A$130,0),MATCH(Tabulka!AA$2,Přehled_body!$E$1:$ED$1,0)),)))","v":0},{"$f":"IF(IFERROR(INDEX(Přehled_body!$E$3:$ED$130,MATCH(Tabulka!$AI32,Přehled_body!$A$3:$A$130,0),MATCH(Tabulka!AB$2,Přehled_body!$E$1:$ED$1,0)),)=\"\",,IF(IFERROR(INDEX(Přehled_body!$E$3:$ED$130,MATCH(Tabulka!$AI32,Přehled_body!$A$3:$A$130,0),MATCH(Tabulka!AB$2,Přehled_body!$E$1:$ED$1,0)),)=0,0.00000000001,IFERROR(INDEX(Přehled_body!$E$3:$ED$130,MATCH(Tabulka!$AI32,Přehled_body!$A$3:$A$130,0),MATCH(Tabulka!AB$2,Přehled_body!$E$1:$ED$1,0)),)))","v":0},{"$f":"IF(IFERROR(INDEX(Přehled_body!$E$3:$ED$130,MATCH(Tabulka!$AI32,Přehled_body!$A$3:$A$130,0),MATCH(Tabulka!AC$2,Přehled_body!$E$1:$ED$1,0)),)=\"\",,IF(IFERROR(INDEX(Přehled_body!$E$3:$ED$130,MATCH(Tabulka!$AI32,Přehled_body!$A$3:$A$130,0),MATCH(Tabulka!AC$2,Přehled_body!$E$1:$ED$1,0)),)=0,0.00000000001,IFERROR(INDEX(Přehled_body!$E$3:$ED$130,MATCH(Tabulka!$AI32,Přehled_body!$A$3:$A$130,0),MATCH(Tabulka!AC$2,Přehled_body!$E$1:$ED$1,0)),)))","v":0},{"$f":"IF(IFERROR(INDEX(Přehled_body!$E$3:$ED$130,MATCH(Tabulka!$AI32,Přehled_body!$A$3:$A$130,0),MATCH(Tabulka!AD$2,Přehled_body!$E$1:$ED$1,0)),)=\"\",,IF(IFERROR(INDEX(Přehled_body!$E$3:$ED$130,MATCH(Tabulka!$AI32,Přehled_body!$A$3:$A$130,0),MATCH(Tabulka!AD$2,Přehled_body!$E$1:$ED$1,0)),)=0,0.00000000001,IFERROR(INDEX(Přehled_body!$E$3:$ED$130,MATCH(Tabulka!$AI32,Přehled_body!$A$3:$A$130,0),MATCH(Tabulka!AD$2,Přehled_body!$E$1:$ED$1,0)),)))","v":0},{"$f":"IF(SUM(AG29)<2,-90000+SUM(D32:AD32),SUM(D32:AD32))","v":2.00000000005},null,null,2.00000000005,{"$f":"CONCATENATE($B$30,\" \",$B$31,C32)","v":"Míra ŠedivýPřehozy"},null,null,7,null,null,null,{"$f":"CONCATENATE(AQ32,\" \",AQ31)","v":"Klein Jarda"},"Klein"]
[null,null,"Poč. kol",{"$f":"IF(IFERROR(INDEX(Přehled_body!$E$3:$ED$130,MATCH(Tabulka!$AI33,Přehled_body!$A$3:$A$130,0),MATCH(Tabulka!D$2,Přehled_body!$E$1:$ED$1,0)),)=\"\",,IF(IFERROR(INDEX(Přehled_body!$E$3:$ED$130,MATCH(Tabulka!$AI33,Přehled_body!$A$3:$A$130,0),MATCH(Tabulka!D$2,Přehled_body!$E$1:$ED$1,0)),)=0,0.00000000001,IFERROR(INDEX(Přehled_body!$E$3:$ED$130,MATCH(Tabulka!$AI33,Přehled_body!$A$3:$A$130,0),MATCH(Tabulka!D$2,Přehled_body!$E$1:$ED$1,0)),)))","v":0},{"$f":"IF(IFERROR(INDEX(Přehled_body!$E$3:$ED$130,MATCH(Tabulka!$AI33,Přehled_body!$A$3:$A$130,0),MATCH(Tabulka!E$2,Přehled_body!$E$1:$ED$1,0)),)=\"\",,IF(IFERROR(INDEX(Přehled_body!$E$3:$ED$130,MATCH(Tabulka!$AI33,Přehled_body!$A$3:$A$130,0),MATCH(Tabulka!E$2,Přehled_body!$E$1:$ED$1,0)),)=0,0.00000000001,IFERROR(INDEX(Přehled_body!$E$3:$ED$130,MATCH(Tabulka!$AI33,Přehled_body!$A$3:$A$130,0),MATCH(Tabulka!E$2,Přehled_body!$E$1:$ED$1,0)),)))","v":0},{"$f":"IF(IFERROR(INDEX(Přehled_body!$E$3:$ED$130,MATCH(Tabulka!$AI33,Přehled_body!$A$3:$A$130,0),MATCH(Tabulka!F$2,Přehled_body!$E$1:$ED$1,0)),)=\"\",,IF(IFERROR(INDEX(Přehled_body!$E$3:$ED$130,MATCH(Tabulka!$AI33,Přehled_body!$A$3:$A$130,0),MATCH(Tabulka!F$2,Přehled_body!$E$1:$ED$1,0)),)=0,0.00000000001,IFERROR(INDEX(Přehled_body!$E$3:$ED$130,MATCH(Tabulka!$AI33,Přehled_body!$A$3:$A$130,0),MATCH(Tabulka!F$2,Přehled_body!$E$1:$ED$1,0)),)))","v":4},{"$f":"IF(IFERROR(INDEX(Přehled_body!$E$3:$ED$130,MATCH(Tabulka!$AI33,Přehled_body!$A$3:$A$130,0),MATCH(Tabulka!G$2,Přehled_body!$E$1:$ED$1,0)),)=\"\",,IF(IFERROR(INDEX(Přehled_body!$E$3:$ED$130,MATCH(Tabulka!$AI33,Přehled_body!$A$3:$A$130,0),MATCH(Tabulka!G$2,Přehled_body!$E$1:$ED$1,0)),)=0,0.00000000001,IFERROR(INDEX(Přehled_body!$E$3:$ED$130,MATCH(Tabulka!$AI33,Přehled_body!$A$3:$A$130,0),MATCH(Tabulka!G$2,Přehled_body!$E$1:$ED$1,0)),)))","v":4},{"$f":"IF(IFERROR(INDEX(Přehled_body!$E$3:$ED$130,MATCH(Tabulka!$AI33,Přehled_body!$A$3:$A$130,0),MATCH(Tabulka!H$2,Přehled_body!$E$1:$ED$1,0)),)=\"\",,IF(IFERROR(INDEX(Přehled_body!$E$3:$ED$130,MATCH(Tabulka!$AI33,Přehled_body!$A$3:$A$130,0),MATCH(Tabulka!H$2,Přehled_body!$E$1:$ED$1,0)),)=0,0.00000000001,IFERROR(INDEX(Přehled_body!$E$3:$ED$130,MATCH(Tabulka!$AI33,Přehled_body!$A$3:$A$130,0),MATCH(Tabulka!H$2,Přehled_body!$E$1:$ED$1,0)),)))","v":0},{"$f":"IF(IFERROR(INDEX(Přehled_body!$E$3:$ED$130,MATCH(Tabulka!$AI33,Přehled_body!$A$3:$A$130,0),MATCH(Tabulka!I$2,Přehled_body!$E$1:$ED$1,0)),)=\"\",,IF(IFERROR(INDEX(Přehled_body!$E$3:$ED$130,MATCH(Tabulka!$AI33,Přehled_body!$A$3:$A$130,0),MATCH(Tabulka!I$2,Přehled_body!$E$1:$ED$1,0)),)=0,0.00000000001,IFERROR(INDEX(Přehled_body!$E$3:$ED$130,MATCH(Tabulka!$AI33,Přehled_body!$A$3:$A$130,0),MATCH(Tabulka!I$2,Přehled_body!$E$1:$ED$1,0)),)))","v":4},{"$f":"IF(IFERROR(INDEX(Přehled_body!$E$3:$ED$130,MATCH(Tabulka!$AI33,Přehled_body!$A$3:$A$130,0),MATCH(Tabulka!J$2,Přehled_body!$E$1:$ED$1,0)),)=\"\",,IF(IFERROR(INDEX(Přehled_body!$E$3:$ED$130,MATCH(Tabulka!$AI33,Přehled_body!$A$3:$A$130,0),MATCH(Tabulka!J$2,Přehled_body!$E$1:$ED$1,0)),)=0,0.00000000001,IFERROR(INDEX(Přehled_body!$E$3:$ED$130,MATCH(Tabulka!$AI33,Přehled_body!$A$3:$A$130,0),MATCH(Tabulka!J$2,Přehled_body!$E$1:$ED$1,0)),)))","v":4},{"$f":"IF(IFERROR(INDEX(Přehled_body!$E$3:$ED$130,MATCH(Tabulka!$AI33,Přehled_body!$A$3:$A$130,0),MATCH(Tabulka!K$2,Přehled_body!$E$1:$ED$1,0)),)=\"\",,IF(IFERROR(INDEX(Přehled_body!$E$3:$ED$130,MATCH(Tabulka!$AI33,Přehled_body!$A$3:$A$130,0),MATCH(Tabulka!K$2,Přehled_body!$E$1:$ED$1,0)),)=0,0.00000000001,IFERROR(INDEX(Přehled_body!$E$3:$ED$130,MATCH(Tabulka!$AI33,Přehled_body!$A$3:$A$130,0),MATCH(Tabulka!K$2,Přehled_body!$E$1:$ED$1,0)),)))","v":4},{"$f":"IF(IFERROR(INDEX(Přehled_body!$E$3:$ED$130,MATCH(Tabulka!$AI33,Přehled_body!$A$3:$A$130,0),MATCH(Tabulka!L$2,Přehled_body!$E$1:$ED$1,0)),)=\"\",,IF(IFERROR(INDEX(Přehled_body!$E$3:$ED$130,MATCH(Tabulka!$AI33,Přehled_body!$A$3:$A$130,0),MATCH(Tabulka!L$2,Přehled_body!$E$1:$ED$1,0)),)=0,0.00000000001,IFERROR(INDEX(Přehled_body!$E$3:$ED$130,MATCH(Tabulka!$AI33,Přehled_body!$A$3:$A$130,0),MATCH(Tabulka!L$2,Přehled_body!$E$1:$ED$1,0)),)))","v":0},{"$f":"IF(IFERROR(INDEX(Přehled_body!$E$3:$ED$130,MATCH(Tabulka!$AI33,Přehled_body!$A$3:$A$130,0),MATCH(Tabulka!M$2,Přehled_body!$E$1:$ED$1,0)),)=\"\",,IF(IFERROR(INDEX(Přehled_body!$E$3:$ED$130,MATCH(Tabulka!$AI33,Přehled_body!$A$3:$A$130,0),MATCH(Tabulka!M$2,Přehled_body!$E$1:$ED$1,0)),)=0,0.00000000001,IFERROR(INDEX(Přehled_body!$E$3:$ED$130,MATCH(Tabulka!$AI33,Přehled_body!$A$3:$A$130,0),MATCH(Tabulka!M$2,Přehled_body!$E$1:$ED$1,0)),)))","v":0},{"$f":"IF(IFERROR(INDEX(Přehled_body!$E$3:$ED$130,MATCH(Tabulka!$AI33,Přehled_body!$A$3:$A$130,0),MATCH(Tabulka!N$2,Přehled_body!$E$1:$ED$1,0)),)=\"\",,IF(IFERROR(INDEX(Přehled_body!$E$3:$ED$130,MATCH(Tabulka!$AI33,Přehled_body!$A$3:$A$130,0),MATCH(Tabulka!N$2,Přehled_body!$E$1:$ED$1,0)),)=0,0.00000000001,IFERROR(INDEX(Přehled_body!$E$3:$ED$130,MATCH(Tabulka!$AI33,Přehled_body!$A$3:$A$130,0),MATCH(Tabulka!N$2,Přehled_body!$E$1:$ED$1,0)),)))","v":5},{"$f":"IF(IFERROR(INDEX(Přehled_body!$E$3:$ED$130,MATCH(Tabulka!$AI33,Přehled_body!$A$3:$A$130,0),MATCH(Tabulka!O$2,Přehled_body!$E$1:$ED$1,0)),)=\"\",,IF(IFERROR(INDEX(Přehled_body!$E$3:$ED$130,MATCH(Tabulka!$AI33,Přehled_body!$A$3:$A$130,0),MATCH(Tabulka!O$2,Přehled_body!$E$1:$ED$1,0)),)=0,0.00000000001,IFERROR(INDEX(Přehled_body!$E$3:$ED$130,MATCH(Tabulka!$AI33,Přehled_body!$A$3:$A$130,0),MATCH(Tabulka!O$2,Přehled_body!$E$1:$ED$1,0)),)))","v":0},{"$f":"IF(IFERROR(INDEX(Přehled_body!$E$3:$ED$130,MATCH(Tabulka!$AI33,Přehled_body!$A$3:$A$130,0),MATCH(Tabulka!P$2,Přehled_body!$E$1:$ED$1,0)),)=\"\",,IF(IFERROR(INDEX(Přehled_body!$E$3:$ED$130,MATCH(Tabulka!$AI33,Přehled_body!$A$3:$A$130,0),MATCH(Tabulka!P$2,Přehled_body!$E$1:$ED$1,0)),)=0,0.00000000001,IFERROR(INDEX(Přehled_body!$E$3:$ED$130,MATCH(Tabulka!$AI33,Přehled_body!$A$3:$A$130,0),MATCH(Tabulka!P$2,Přehled_body!$E$1:$ED$1,0)),)))","v":0},{"$f":"IF(IFERROR(INDEX(Přehled_body!$E$3:$ED$130,MATCH(Tabulka!$AI33,Přehled_body!$A$3:$A$130,0),MATCH(Tabulka!Q$2,Přehled_body!$E$1:$ED$1,0)),)=\"\",,IF(IFERROR(INDEX(Přehled_body!$E$3:$ED$130,MATCH(Tabulka!$AI33,Přehled_body!$A$3:$A$130,0),MATCH(Tabulka!Q$2,Přehled_body!$E$1:$ED$1,0)),)=0,0.00000000001,IFERROR(INDEX(Přehled_body!$E$3:$ED$130,MATCH(Tabulka!$AI33,Přehled_body!$A$3:$A$130,0),MATCH(Tabulka!Q$2,Přehled_body!$E$1:$ED$1,0)),)))","v":5},{"$f":"IF(IFERROR(INDEX(Přehled_body!$E$3:$ED$130,MATCH(Tabulka!$AI33,Přehled_body!$A$3:$A$130,0),MATCH(Tabulka!R$2,Přehled_body!$E$1:$ED$1,0)),)=\"\",,IF(IFERROR(INDEX(Přehled_body!$E$3:$ED$130,MATCH(Tabulka!$AI33,Přehled_body!$A$3:$A$130,0),MATCH(Tabulka!R$2,Přehled_body!$E$1:$ED$1,0)),)=0,0.00000000001,IFERROR(INDEX(Přehled_body!$E$3:$ED$130,MATCH(Tabulka!$AI33,Přehled_body!$A$3:$A$130,0),MATCH(Tabulka!R$2,Přehled_body!$E$1:$ED$1,0)),)))","v":0},{"$f":"IF(IFERROR(INDEX(Přehled_body!$E$3:$ED$130,MATCH(Tabulka!$AI33,Přehled_body!$A$3:$A$130,0),MATCH(Tabulka!S$2,Přehled_body!$E$1:$ED$1,0)),)=\"\",,IF(IFERROR(INDEX(Přehled_body!$E$3:$ED$130,MATCH(Tabulka!$AI33,Přehled_body!$A$3:$A$130,0),MATCH(Tabulka!S$2,Přehled_body!$E$1:$ED$1,0)),)=0,0.00000000001,IFERROR(INDEX(Přehled_body!$E$3:$ED$130,MATCH(Tabulka!$AI33,Přehled_body!$A$3:$A$130,0),MATCH(Tabulka!S$2,Přehled_body!$E$1:$ED$1,0)),)))","v":0},{"$f":"IF(IFERROR(INDEX(Přehled_body!$E$3:$ED$130,MATCH(Tabulka!$AI33,Přehled_body!$A$3:$A$130,0),MATCH(Tabulka!T$2,Přehled_body!$E$1:$ED$1,0)),)=\"\",,IF(IFERROR(INDEX(Přehled_body!$E$3:$ED$130,MATCH(Tabulka!$AI33,Přehled_body!$A$3:$A$130,0),MATCH(Tabulka!T$2,Přehled_body!$E$1:$ED$1,0)),)=0,0.00000000001,IFERROR(INDEX(Přehled_body!$E$3:$ED$130,MATCH(Tabulka!$AI33,Přehled_body!$A$3:$A$130,0),MATCH(Tabulka!T$2,Přehled_body!$E$1:$ED$1,0)),)))","v":0},{"$f":"IF(IFERROR(INDEX(Přehled_body!$E$3:$ED$130,MATCH(Tabulka!$AI33,Přehled_body!$A$3:$A$130,0),MATCH(Tabulka!U$2,Přehled_body!$E$1:$ED$1,0)),)=\"\",,IF(IFERROR(INDEX(Přehled_body!$E$3:$ED$130,MATCH(Tabulka!$AI33,Přehled_body!$A$3:$A$130,0),MATCH(Tabulka!U$2,Přehled_body!$E$1:$ED$1,0)),)=0,0.00000000001,IFERROR(INDEX(Přehled_body!$E$3:$ED$130,MATCH(Tabulka!$AI33,Přehled_body!$A$3:$A$130,0),MATCH(Tabulka!U$2,Přehled_body!$E$1:$ED$1,0)),)))","v":0},{"$f":"IF(IFERROR(INDEX(Přehled_body!$E$3:$ED$130,MATCH(Tabulka!$AI33,Přehled_body!$A$3:$A$130,0),MATCH(Tabulka!V$2,Přehled_body!$E$1:$ED$1,0)),)=\"\",,IF(IFERROR(INDEX(Přehled_body!$E$3:$ED$130,MATCH(Tabulka!$AI33,Přehled_body!$A$3:$A$130,0),MATCH(Tabulka!V$2,Přehled_body!$E$1:$ED$1,0)),)=0,0.00000000001,IFERROR(INDEX(Přehled_body!$E$3:$ED$130,MATCH(Tabulka!$AI33,Přehled_body!$A$3:$A$130,0),MATCH(Tabulka!V$2,Přehled_body!$E$1:$ED$1,0)),)))","v":0},{"$f":"IF(IFERROR(INDEX(Přehled_body!$E$3:$ED$130,MATCH(Tabulka!$AI33,Přehled_body!$A$3:$A$130,0),MATCH(Tabulka!W$2,Přehled_body!$E$1:$ED$1,0)),)=\"\",,IF(IFERROR(INDEX(Přehled_body!$E$3:$ED$130,MATCH(Tabulka!$AI33,Přehled_body!$A$3:$A$130,0),MATCH(Tabulka!W$2,Přehled_body!$E$1:$ED$1,0)),)=0,0.00000000001,IFERROR(INDEX(Přehled_body!$E$3:$ED$130,MATCH(Tabulka!$AI33,Přehled_body!$A$3:$A$130,0),MATCH(Tabulka!W$2,Přehled_body!$E$1:$ED$1,0)),)))","v":0},{"$f":"IF(IFERROR(INDEX(Přehled_body!$E$3:$ED$130,MATCH(Tabulka!$AI33,Přehled_body!$A$3:$A$130,0),MATCH(Tabulka!X$2,Přehled_body!$E$1:$ED$1,0)),)=\"\",,IF(IFERROR(INDEX(Přehled_body!$E$3:$ED$130,MATCH(Tabulka!$AI33,Přehled_body!$A$3:$A$130,0),MATCH(Tabulka!X$2,Přehled_body!$E$1:$ED$1,0)),)=0,0.00000000001,IFERROR(INDEX(Přehled_body!$E$3:$ED$130,MATCH(Tabulka!$AI33,Přehled_body!$A$3:$A$130,0),MATCH(Tabulka!X$2,Přehled_body!$E$1:$ED$1,0)),)))","v":0},{"$f":"IF(IFERROR(INDEX(Přehled_body!$E$3:$ED$130,MATCH(Tabulka!$AI33,Přehled_body!$A$3:$A$130,0),MATCH(Tabulka!Y$2,Přehled_body!$E$1:$ED$1,0)),)=\"\",,IF(IFERROR(INDEX(Přehled_body!$E$3:$ED$130,MATCH(Tabulka!$AI33,Přehled_body!$A$3:$A$130,0),MATCH(Tabulka!Y$2,Přehled_body!$E$1:$ED$1,0)),)=0,0.00000000001,IFERROR(INDEX(Přehled_body!$E$3:$ED$130,MATCH(Tabulka!$AI33,Přehled_body!$A$3:$A$130,0),MATCH(Tabulka!Y$2,Přehled_body!$E$1:$ED$1,0)),)))","v":0},{"$f":"IF(IFERROR(INDEX(Přehled_body!$E$3:$ED$130,MATCH(Tabulka!$AI33,Přehled_body!$A$3:$A$130,0),MATCH(Tabulka!Z$2,Přehled_body!$E$1:$ED$1,0)),)=\"\",,IF(IFERROR(INDEX(Přehled_body!$E$3:$ED$130,MATCH(Tabulka!$AI33,Přehled_body!$A$3:$A$130,0),MATCH(Tabulka!Z$2,Přehled_body!$E$1:$ED$1,0)),)=0,0.00000000001,IFERROR(INDEX(Přehled_body!$E$3:$ED$130,MATCH(Tabulka!$AI33,Přehled_body!$A$3:$A$130,0),MATCH(Tabulka!Z$2,Přehled_body!$E$1:$ED$1,0)),)))","v":0},{"$f":"IF(IFERROR(INDEX(Přehled_body!$E$3:$ED$130,MATCH(Tabulka!$AI33,Přehled_body!$A$3:$A$130,0),MATCH(Tabulka!AA$2,Přehled_body!$E$1:$ED$1,0)),)=\"\",,IF(IFERROR(INDEX(Přehled_body!$E$3:$ED$130,MATCH(Tabulka!$AI33,Přehled_body!$A$3:$A$130,0),MATCH(Tabulka!AA$2,Přehled_body!$E$1:$ED$1,0)),)=0,0.00000000001,IFERROR(INDEX(Přehled_body!$E$3:$ED$130,MATCH(Tabulka!$AI33,Přehled_body!$A$3:$A$130,0),MATCH(Tabulka!AA$2,Přehled_body!$E$1:$ED$1,0)),)))","v":0},{"$f":"IF(IFERROR(INDEX(Přehled_body!$E$3:$ED$130,MATCH(Tabulka!$AI33,Přehled_body!$A$3:$A$130,0),MATCH(Tabulka!AB$2,Přehled_body!$E$1:$ED$1,0)),)=\"\",,IF(IFERROR(INDEX(Přehled_body!$E$3:$ED$130,MATCH(Tabulka!$AI33,Přehled_body!$A$3:$A$130,0),MATCH(Tabulka!AB$2,Přehled_body!$E$1:$ED$1,0)),)=0,0.00000000001,IFERROR(INDEX(Přehled_body!$E$3:$ED$130,MATCH(Tabulka!$AI33,Přehled_body!$A$3:$A$130,0),MATCH(Tabulka!AB$2,Přehled_body!$E$1:$ED$1,0)),)))","v":0},{"$f":"IF(IFERROR(INDEX(Přehled_body!$E$3:$ED$130,MATCH(Tabulka!$AI33,Přehled_body!$A$3:$A$130,0),MATCH(Tabulka!AC$2,Přehled_body!$E$1:$ED$1,0)),)=\"\",,IF(IFERROR(INDEX(Přehled_body!$E$3:$ED$130,MATCH(Tabulka!$AI33,Přehled_body!$A$3:$A$130,0),MATCH(Tabulka!AC$2,Přehled_body!$E$1:$ED$1,0)),)=0,0.00000000001,IFERROR(INDEX(Přehled_body!$E$3:$ED$130,MATCH(Tabulka!$AI33,Přehled_body!$A$3:$A$130,0),MATCH(Tabulka!AC$2,Přehled_body!$E$1:$ED$1,0)),)))","v":0},{"$f":"IF(IFERROR(INDEX(Přehled_body!$E$3:$ED$130,MATCH(Tabulka!$AI33,Přehled_body!$A$3:$A$130,0),MATCH(Tabulka!AD$2,Přehled_body!$E$1:$ED$1,0)),)=\"\",,IF(IFERROR(INDEX(Přehled_body!$E$3:$ED$130,MATCH(Tabulka!$AI33,Přehled_body!$A$3:$A$130,0),MATCH(Tabulka!AD$2,Přehled_body!$E$1:$ED$1,0)),)=0,0.00000000001,IFERROR(INDEX(Přehled_body!$E$3:$ED$130,MATCH(Tabulka!$AI33,Přehled_body!$A$3:$A$130,0),MATCH(Tabulka!AD$2,Přehled_body!$E$1:$ED$1,0)),)))","v":0},{"$f":"IF(SUM(AG29)<2,-90000+SUM(D33:AD33),SUM(D33:AD33))","v":30},null,null,30,{"$f":"CONCATENATE($B$30,\" \",$B$31,C33)","v":"Míra ŠedivýPoč. kol"},null,null,7]
[7,null,"Výhry",{"$f":"IF(IFERROR(INDEX(Přehled_body!$E$3:$ED$130,MATCH(Tabulka!$AI34,Přehled_body!$A$3:$A$130,0),MATCH(Tabulka!D$2,Přehled_body!$E$1:$ED$1,0)),)=\"\",,IF(IFERROR(INDEX(Přehled_body!$E$3:$ED$130,MATCH(Tabulka!$AI34,Přehled_body!$A$3:$A$130,0),MATCH(Tabulka!D$2,Přehled_body!$E$1:$ED$1,0)),)=0,0.00000000001,IFERROR(INDEX(Přehled_body!$E$3:$ED$130,MATCH(Tabulka!$AI34,Přehled_body!$A$3:$A$130,0),MATCH(Tabulka!D$2,Přehled_body!$E$1:$ED$1,0)),)))","v":1},{"$f":"IF(IFERROR(INDEX(Přehled_body!$E$3:$ED$130,MATCH(Tabulka!$AI34,Přehled_body!$A$3:$A$130,0),MATCH(Tabulka!E$2,Přehled_body!$E$1:$ED$1,0)),)=\"\",,IF(IFERROR(INDEX(Přehled_body!$E$3:$ED$130,MATCH(Tabulka!$AI34,Přehled_body!$A$3:$A$130,0),MATCH(Tabulka!E$2,Přehled_body!$E$1:$ED$1,0)),)=0,0.00000000001,IFERROR(INDEX(Přehled_body!$E$3:$ED$130,MATCH(Tabulka!$AI34,Přehled_body!$A$3:$A$130,0),MATCH(Tabulka!E$2,Přehled_body!$E$1:$ED$1,0)),)))","v":9.9999999999999994E-12},{"$f":"IF(IFERROR(INDEX(Přehled_body!$E$3:$ED$130,MATCH(Tabulka!$AI34,Přehled_body!$A$3:$A$130,0),MATCH(Tabulka!F$2,Přehled_body!$E$1:$ED$1,0)),)=\"\",,IF(IFERROR(INDEX(Přehled_body!$E$3:$ED$130,MATCH(Tabulka!$AI34,Přehled_body!$A$3:$A$130,0),MATCH(Tabulka!F$2,Přehled_body!$E$1:$ED$1,0)),)=0,0.00000000001,IFERROR(INDEX(Přehled_body!$E$3:$ED$130,MATCH(Tabulka!$AI34,Přehled_body!$A$3:$A$130,0),MATCH(Tabulka!F$2,Přehled_body!$E$1:$ED$1,0)),)))","v":9.9999999999999994E-12},{"$f":"IF(IFERROR(INDEX(Přehled_body!$E$3:$ED$130,MATCH(Tabulka!$AI34,Přehled_body!$A$3:$A$130,0),MATCH(Tabulka!G$2,Přehled_body!$E$1:$ED$1,0)),)=\"\",,IF(IFERROR(INDEX(Přehled_body!$E$3:$ED$130,MATCH(Tabulka!$AI34,Přehled_body!$A$3:$A$130,0),MATCH(Tabulka!G$2,Přehled_body!$E$1:$ED$1,0)),)=0,0.00000000001,IFERROR(INDEX(Přehled_body!$E$3:$ED$130,MATCH(Tabulka!$AI34,Přehled_body!$A$3:$A$130,0),MATCH(Tabulka!G$2,Přehled_body!$E$1:$ED$1,0)),)))","v":9.9999999999999994E-12},{"$f":"IF(IFERROR(INDEX(Přehled_body!$E$3:$ED$130,MATCH(Tabulka!$AI34,Přehled_body!$A$3:$A$130,0),MATCH(Tabulka!H$2,Přehled_body!$E$1:$ED$1,0)),)=\"\",,IF(IFERROR(INDEX(Přehled_body!$E$3:$ED$130,MATCH(Tabulka!$AI34,Přehled_body!$A$3:$A$130,0),MATCH(Tabulka!H$2,Přehled_body!$E$1:$ED$1,0)),)=0,0.00000000001,IFERROR(INDEX(Přehled_body!$E$3:$ED$130,MATCH(Tabulka!$AI34,Přehled_body!$A$3:$A$130,0),MATCH(Tabulka!H$2,Přehled_body!$E$1:$ED$1,0)),)))","v":9.9999999999999994E-12},{"$f":"IF(IFERROR(INDEX(Přehled_body!$E$3:$ED$130,MATCH(Tabulka!$AI34,Přehled_body!$A$3:$A$130,0),MATCH(Tabulka!I$2,Přehled_body!$E$1:$ED$1,0)),)=\"\",,IF(IFERROR(INDEX(Přehled_body!$E$3:$ED$130,MATCH(Tabulka!$AI34,Přehled_body!$A$3:$A$130,0),MATCH(Tabulka!I$2,Přehled_body!$E$1:$ED$1,0)),)=0,0.00000000001,IFERROR(INDEX(Přehled_body!$E$3:$ED$130,MATCH(Tabulka!$AI34,Přehled_body!$A$3:$A$130,0),MATCH(Tabulka!I$2,Přehled_body!$E$1:$ED$1,0)),)))","v":9.9999999999999994E-12},{"$f":"IF(IFERROR(INDEX(Přehled_body!$E$3:$ED$130,MATCH(Tabulka!$AI34,Přehled_body!$A$3:$A$130,0),MATCH(Tabulka!J$2,Přehled_body!$E$1:$ED$1,0)),)=\"\",,IF(IFERROR(INDEX(Přehled_body!$E$3:$ED$130,MATCH(Tabulka!$AI34,Přehled_body!$A$3:$A$130,0),MATCH(Tabulka!J$2,Přehled_body!$E$1:$ED$1,0)),)=0,0.00000000001,IFERROR(INDEX(Přehled_body!$E$3:$ED$130,MATCH(Tabulka!$AI34,Přehled_body!$A$3:$A$130,0),MATCH(Tabulka!J$2,Přehled_body!$E$1:$ED$1,0)),)))","v":9.9999999999999994E-12},{"$f":"IF(IFERROR(INDEX(Přehled_body!$E$3:$ED$130,MATCH(Tabulka!$AI34,Přehled_body!$A$3:$A$130,0),MATCH(Tabulka!K$2,Přehled_body!$E$1:$ED$1,0)),)=\"\",,IF(IFERROR(INDEX(Přehled_body!$E$3:$ED$130,MATCH(Tabulka!$AI34,Přehled_body!$A$3:$A$130,0),MATCH(Tabulka!K$2,Přehled_body!$E$1:$ED$1,0)),)=0,0.00000000001,IFERROR(INDEX(Přehled_body!$E$3:$ED$130,MATCH(Tabulka!$AI34,Přehled_body!$A$3:$A$130,0),MATCH(Tabulka!K$2,Přehled_body!$E$1:$ED$1,0)),)))","v":1},{"$f":"IF(IFERROR(INDEX(Přehled_body!$E$3:$ED$130,MATCH(Tabulka!$AI34,Přehled_body!$A$3:$A$130,0),MATCH(Tabulka!L$2,Přehled_body!$E$1:$ED$1,0)),)=\"\",,IF(IFERROR(INDEX(Přehled_body!$E$3:$ED$130,MATCH(Tabulka!$AI34,Přehled_body!$A$3:$A$130,0),MATCH(Tabulka!L$2,Přehled_body!$E$1:$ED$1,0)),)=0,0.00000000001,IFERROR(INDEX(Přehled_body!$E$3:$ED$130,MATCH(Tabulka!$AI34,Přehled_body!$A$3:$A$130,0),MATCH(Tabulka!L$2,Přehled_body!$E$1:$ED$1,0)),)))","v":9.9999999999999994E-12},{"$f":"IF(IFERROR(INDEX(Přehled_body!$E$3:$ED$130,MATCH(Tabulka!$AI34,Přehled_body!$A$3:$A$130,0),MATCH(Tabulka!M$2,Přehled_body!$E$1:$ED$1,0)),)=\"\",,IF(IFERROR(INDEX(Přehled_body!$E$3:$ED$130,MATCH(Tabulka!$AI34,Přehled_body!$A$3:$A$130,0),MATCH(Tabulka!M$2,Přehled_body!$E$1:$ED$1,0)),)=0,0.00000000001,IFERROR(INDEX(Přehled_body!$E$3:$ED$130,MATCH(Tabulka!$AI34,Přehled_body!$A$3:$A$130,0),MATCH(Tabulka!M$2,Přehled_body!$E$1:$ED$1,0)),)))","v":1},{"$f":"IF(IFERROR(INDEX(Přehled_body!$E$3:$ED$130,MATCH(Tabulka!$AI34,Přehled_body!$A$3:$A$130,0),MATCH(Tabulka!N$2,Přehled_body!$E$1:$ED$1,0)),)=\"\",,IF(IFERROR(INDEX(Přehled_body!$E$3:$ED$130,MATCH(Tabulka!$AI34,Přehled_body!$A$3:$A$130,0),MATCH(Tabulka!N$2,Přehled_body!$E$1:$ED$1,0)),)=0,0.00000000001,IFERROR(INDEX(Přehled_body!$E$3:$ED$130,MATCH(Tabulka!$AI34,Přehled_body!$A$3:$A$130,0),MATCH(Tabulka!N$2,Přehled_body!$E$1:$ED$1,0)),)))","v":2},{"$f":"IF(IFERROR(INDEX(Přehled_body!$E$3:$ED$130,MATCH(Tabulka!$AI34,Přehled_body!$A$3:$A$130,0),MATCH(Tabulka!O$2,Přehled_body!$E$1:$ED$1,0)),)=\"\",,IF(IFERROR(INDEX(Přehled_body!$E$3:$ED$130,MATCH(Tabulka!$AI34,Přehled_body!$A$3:$A$130,0),MATCH(Tabulka!O$2,Přehled_body!$E$1:$ED$1,0)),)=0,0.00000000001,IFERROR(INDEX(Přehled_body!$E$3:$ED$130,MATCH(Tabulka!$AI34,Přehled_body!$A$3:$A$130,0),MATCH(Tabulka!O$2,Přehled_body!$E$1:$ED$1,0)),)))","v":2},{"$f":"IF(IFERROR(INDEX(Přehled_body!$E$3:$ED$130,MATCH(Tabulka!$AI34,Přehled_body!$A$3:$A$130,0),MATCH(Tabulka!P$2,Přehled_body!$E$1:$ED$1,0)),)=\"\",,IF(IFERROR(INDEX(Přehled_body!$E$3:$ED$130,MATCH(Tabulka!$AI34,Přehled_body!$A$3:$A$130,0),MATCH(Tabulka!P$2,Přehled_body!$E$1:$ED$1,0)),)=0,0.00000000001,IFERROR(INDEX(Přehled_body!$E$3:$ED$130,MATCH(Tabulka!$AI34,Přehled_body!$A$3:$A$130,0),MATCH(Tabulka!P$2,Přehled_body!$E$1:$ED$1,0)),)))","v":9.9999999999999994E-12},{"$f":"IF(IFERROR(INDEX(Přehled_body!$E$3:$ED$130,MATCH(Tabulka!$AI34,Přehled_body!$A$3:$A$130,0),MATCH(Tabulka!Q$2,Přehled_body!$E$1:$ED$1,0)),)=\"\",,IF(IFERROR(INDEX(Přehled_body!$E$3:$ED$130,MATCH(Tabulka!$AI34,Přehled_body!$A$3:$A$130,0),MATCH(Tabulka!Q$2,Přehled_body!$E$1:$ED$1,0)),)=0,0.00000000001,IFERROR(INDEX(Přehled_body!$E$3:$ED$130,MATCH(Tabulka!$AI34,Přehled_body!$A$3:$A$130,0),MATCH(Tabulka!Q$2,Přehled_body!$E$1:$ED$1,0)),)))","v":9.9999999999999994E-12},{"$f":"IF(IFERROR(INDEX(Přehled_body!$E$3:$ED$130,MATCH(Tabulka!$AI34,Přehled_body!$A$3:$A$130,0),MATCH(Tabulka!R$2,Přehled_body!$E$1:$ED$1,0)),)=\"\",,IF(IFERROR(INDEX(Přehled_body!$E$3:$ED$130,MATCH(Tabulka!$AI34,Přehled_body!$A$3:$A$130,0),MATCH(Tabulka!R$2,Přehled_body!$E$1:$ED$1,0)),)=0,0.00000000001,IFERROR(INDEX(Přehled_body!$E$3:$ED$130,MATCH(Tabulka!$AI34,Přehled_body!$A$3:$A$130,0),MATCH(Tabulka!R$2,Přehled_body!$E$1:$ED$1,0)),)))","v":2},{"$f":"IF(IFERROR(INDEX(Přehled_body!$E$3:$ED$130,MATCH(Tabulka!$AI34,Přehled_body!$A$3:$A$130,0),MATCH(Tabulka!S$2,Přehled_body!$E$1:$ED$1,0)),)=\"\",,IF(IFERROR(INDEX(Přehled_body!$E$3:$ED$130,MATCH(Tabulka!$AI34,Přehled_body!$A$3:$A$130,0),MATCH(Tabulka!S$2,Přehled_body!$E$1:$ED$1,0)),)=0,0.00000000001,IFERROR(INDEX(Přehled_body!$E$3:$ED$130,MATCH(Tabulka!$AI34,Přehled_body!$A$3:$A$130,0),MATCH(Tabulka!S$2,Přehled_body!$E$1:$ED$1,0)),)))","v":9.9999999999999994E-12},{"$f":"IF(IFERROR(INDEX(Přehled_body!$E$3:$ED$130,MATCH(Tabulka!$AI34,Přehled_body!$A$3:$A$130,0),MATCH(Tabulka!T$2,Přehled_body!$E$1:$ED$1,0)),)=\"\",,IF(IFERROR(INDEX(Přehled_body!$E$3:$ED$130,MATCH(Tabulka!$AI34,Přehled_body!$A$3:$A$130,0),MATCH(Tabulka!T$2,Přehled_body!$E$1:$ED$1,0)),)=0,0.00000000001,IFERROR(INDEX(Přehled_body!$E$3:$ED$130,MATCH(Tabulka!$AI34,Přehled_body!$A$3:$A$130,0),MATCH(Tabulka!T$2,Přehled_body!$E$1:$ED$1,0)),)))","v":9.9999999999999994E-12},{"$f":"IF(IFERROR(INDEX(Přehled_body!$E$3:$ED$130,MATCH(Tabulka!$AI34,Přehled_body!$A$3:$A$130,0),MATCH(Tabulka!U$2,Přehled_body!$E$1:$ED$1,0)),)=\"\",,IF(IFERROR(INDEX(Přehled_body!$E$3:$ED$130,MATCH(Tabulka!$AI34,Přehled_body!$A$3:$A$130,0),MATCH(Tabulka!U$2,Přehled_body!$E$1:$ED$1,0)),)=0,0.00000000001,IFERROR(INDEX(Přehled_body!$E$3:$ED$130,MATCH(Tabulka!$AI34,Přehled_body!$A$3:$A$130,0),MATCH(Tabulka!U$2,Přehled_body!$E$1:$ED$1,0)),)))","v":0},{"$f":"IF(IFERROR(INDEX(Přehled_body!$E$3:$ED$130,MATCH(Tabulka!$AI34,Přehled_body!$A$3:$A$130,0),MATCH(Tabulka!V$2,Přehled_body!$E$1:$ED$1,0)),)=\"\",,IF(IFERROR(INDEX(Přehled_body!$E$3:$ED$130,MATCH(Tabulka!$AI34,Přehled_body!$A$3:$A$130,0),MATCH(Tabulka!V$2,Přehled_body!$E$1:$ED$1,0)),)=0,0.00000000001,IFERROR(INDEX(Přehled_body!$E$3:$ED$130,MATCH(Tabulka!$AI34,Přehled_body!$A$3:$A$130,0),MATCH(Tabulka!V$2,Přehled_body!$E$1:$ED$1,0)),)))","v":0},{"$f":"IF(IFERROR(INDEX(Přehled_body!$E$3:$ED$130,MATCH(Tabulka!$AI34,Přehled_body!$A$3:$A$130,0),MATCH(Tabulka!W$2,Přehled_body!$E$1:$ED$1,0)),)=\"\",,IF(IFERROR(INDEX(Přehled_body!$E$3:$ED$130,MATCH(Tabulka!$AI34,Přehled_body!$A$3:$A$130,0),MATCH(Tabulka!W$2,Přehled_body!$E$1:$ED$1,0)),)=0,0.00000000001,IFERROR(INDEX(Přehled_body!$E$3:$ED$130,MATCH(Tabulka!$AI34,Přehled_body!$A$3:$A$130,0),MATCH(Tabulka!W$2,Přehled_body!$E$1:$ED$1,0)),)))","v":0},{"$f":"IF(IFERROR(INDEX(Přehled_body!$E$3:$ED$130,MATCH(Tabulka!$AI34,Přehled_body!$A$3:$A$130,0),MATCH(Tabulka!X$2,Přehled_body!$E$1:$ED$1,0)),)=\"\",,IF(IFERROR(INDEX(Přehled_body!$E$3:$ED$130,MATCH(Tabulka!$AI34,Přehled_body!$A$3:$A$130,0),MATCH(Tabulka!X$2,Přehled_body!$E$1:$ED$1,0)),)=0,0.00000000001,IFERROR(INDEX(Přehled_body!$E$3:$ED$130,MATCH(Tabulka!$AI34,Přehled_body!$A$3:$A$130,0),MATCH(Tabulka!X$2,Přehled_body!$E$1:$ED$1,0)),)))","v":0},{"$f":"IF(IFERROR(INDEX(Přehled_body!$E$3:$ED$130,MATCH(Tabulka!$AI34,Přehled_body!$A$3:$A$130,0),MATCH(Tabulka!Y$2,Přehled_body!$E$1:$ED$1,0)),)=\"\",,IF(IFERROR(INDEX(Přehled_body!$E$3:$ED$130,MATCH(Tabulka!$AI34,Přehled_body!$A$3:$A$130,0),MATCH(Tabulka!Y$2,Přehled_body!$E$1:$ED$1,0)),)=0,0.00000000001,IFERROR(INDEX(Přehled_body!$E$3:$ED$130,MATCH(Tabulka!$AI34,Přehled_body!$A$3:$A$130,0),MATCH(Tabulka!Y$2,Přehled_body!$E$1:$ED$1,0)),)))","v":0},{"$f":"IF(IFERROR(INDEX(Přehled_body!$E$3:$ED$130,MATCH(Tabulka!$AI34,Přehled_body!$A$3:$A$130,0),MATCH(Tabulka!Z$2,Přehled_body!$E$1:$ED$1,0)),)=\"\",,IF(IFERROR(INDEX(Přehled_body!$E$3:$ED$130,MATCH(Tabulka!$AI34,Přehled_body!$A$3:$A$130,0),MATCH(Tabulka!Z$2,Přehled_body!$E$1:$ED$1,0)),)=0,0.00000000001,IFERROR(INDEX(Přehled_body!$E$3:$ED$130,MATCH(Tabulka!$AI34,Přehled_body!$A$3:$A$130,0),MATCH(Tabulka!Z$2,Přehled_body!$E$1:$ED$1,0)),)))","v":0},{"$f":"IF(IFERROR(INDEX(Přehled_body!$E$3:$ED$130,MATCH(Tabulka!$AI34,Přehled_body!$A$3:$A$130,0),MATCH(Tabulka!AA$2,Přehled_body!$E$1:$ED$1,0)),)=\"\",,IF(IFERROR(INDEX(Přehled_body!$E$3:$ED$130,MATCH(Tabulka!$AI34,Přehled_body!$A$3:$A$130,0),MATCH(Tabulka!AA$2,Přehled_body!$E$1:$ED$1,0)),)=0,0.00000000001,IFERROR(INDEX(Přehled_body!$E$3:$ED$130,MATCH(Tabulka!$AI34,Přehled_body!$A$3:$A$130,0),MATCH(Tabulka!AA$2,Přehled_body!$E$1:$ED$1,0)),)))","v":0},{"$f":"IF(IFERROR(INDEX(Přehled_body!$E$3:$ED$130,MATCH(Tabulka!$AI34,Přehled_body!$A$3:$A$130,0),MATCH(Tabulka!AB$2,Přehled_body!$E$1:$ED$1,0)),)=\"\",,IF(IFERROR(INDEX(Přehled_body!$E$3:$ED$130,MATCH(Tabulka!$AI34,Přehled_body!$A$3:$A$130,0),MATCH(Tabulka!AB$2,Přehled_body!$E$1:$ED$1,0)),)=0,0.00000000001,IFERROR(INDEX(Přehled_body!$E$3:$ED$130,MATCH(Tabulka!$AI34,Přehled_body!$A$3:$A$130,0),MATCH(Tabulka!AB$2,Přehled_body!$E$1:$ED$1,0)),)))","v":0},{"$f":"IF(IFERROR(INDEX(Přehled_body!$E$3:$ED$130,MATCH(Tabulka!$AI34,Přehled_body!$A$3:$A$130,0),MATCH(Tabulka!AC$2,Přehled_body!$E$1:$ED$1,0)),)=\"\",,IF(IFERROR(INDEX(Přehled_body!$E$3:$ED$130,MATCH(Tabulka!$AI34,Přehled_body!$A$3:$A$130,0),MATCH(Tabulka!AC$2,Přehled_body!$E$1:$ED$1,0)),)=0,0.00000000001,IFERROR(INDEX(Přehled_body!$E$3:$ED$130,MATCH(Tabulka!$AI34,Přehled_body!$A$3:$A$130,0),MATCH(Tabulka!AC$2,Přehled_body!$E$1:$ED$1,0)),)))","v":0},{"$f":"IF(IFERROR(INDEX(Přehled_body!$E$3:$ED$130,MATCH(Tabulka!$AI34,Přehled_body!$A$3:$A$130,0),MATCH(Tabulka!AD$2,Přehled_body!$E$1:$ED$1,0)),)=\"\",,IF(IFERROR(INDEX(Přehled_body!$E$3:$ED$130,MATCH(Tabulka!$AI34,Přehled_body!$A$3:$A$130,0),MATCH(Tabulka!AD$2,Přehled_body!$E$1:$ED$1,0)),)=0,0.00000000001,IFERROR(INDEX(Přehled_body!$E$3:$ED$130,MATCH(Tabulka!$AI34,Přehled_body!$A$3:$A$130,0),MATCH(Tabulka!AD$2,Přehled_body!$E$1:$ED$1,0)),)))","v":0},{"$f":"IF(SUM(AG34)<2,-90000+SUM(D34:AD34),SUM(D34:AD34))","v":9.0000000001099991},null,{"$f":"COUNTIF(D34:AD34,\">0\")","v":17},9.0000000001099991,{"$f":"CONCATENATE($B$35,\" \",$B$36,C34)","v":"Jiří BlínVýhry"},null,null,17]
[{"$f":"CONCATENATE(B35,\" \",B36)","v":"Jiří Blín"},"Jiří","Prohry",{"$f":"IF(IFERROR(INDEX(Přehled_body!$E$3:$ED$130,MATCH(Tabulka!$AI35,Přehled_body!$A$3:$A$130,0),MATCH(Tabulka!D$2,Přehled_body!$E$1:$ED$1,0)),)=\"\",,IF(IFERROR(INDEX(Přehled_body!$E$3:$ED$130,MATCH(Tabulka!$AI35,Přehled_body!$A$3:$A$130,0),MATCH(Tabulka!D$2,Přehled_body!$E$1:$ED$1,0)),)=0,0.00000000001,IFERROR(INDEX(Přehled_body!$E$3:$ED$130,MATCH(Tabulka!$AI35,Přehled_body!$A$3:$A$130,0),MATCH(Tabulka!D$2,Přehled_body!$E$1:$ED$1,0)),)))","v":1},{"$f":"IF(IFERROR(INDEX(Přehled_body!$E$3:$ED$130,MATCH(Tabulka!$AI35,Přehled_body!$A$3:$A$130,0),MATCH(Tabulka!E$2,Přehled_body!$E$1:$ED$1,0)),)=\"\",,IF(IFERROR(INDEX(Přehled_body!$E$3:$ED$130,MATCH(Tabulka!$AI35,Přehled_body!$A$3:$A$130,0),MATCH(Tabulka!E$2,Přehled_body!$E$1:$ED$1,0)),)=0,0.00000000001,IFERROR(INDEX(Přehled_body!$E$3:$ED$130,MATCH(Tabulka!$AI35,Přehled_body!$A$3:$A$130,0),MATCH(Tabulka!E$2,Přehled_body!$E$1:$ED$1,0)),)))","v":2},{"$f":"IF(IFERROR(INDEX(Přehled_body!$E$3:$ED$130,MATCH(Tabulka!$AI35,Přehled_body!$A$3:$A$130,0),MATCH(Tabulka!F$2,Přehled_body!$E$1:$ED$1,0)),)=\"\",,IF(IFERROR(INDEX(Přehled_body!$E$3:$ED$130,MATCH(Tabulka!$AI35,Přehled_body!$A$3:$A$130,0),MATCH(Tabulka!F$2,Přehled_body!$E$1:$ED$1,0)),)=0,0.00000000001,IFERROR(INDEX(Přehled_body!$E$3:$ED$130,MATCH(Tabulka!$AI35,Přehled_body!$A$3:$A$130,0),MATCH(Tabulka!F$2,Přehled_body!$E$1:$ED$1,0)),)))","v":3},{"$f":"IF(IFERROR(INDEX(Přehled_body!$E$3:$ED$130,MATCH(Tabulka!$AI35,Přehled_body!$A$3:$A$130,0),MATCH(Tabulka!G$2,Přehled_body!$E$1:$ED$1,0)),)=\"\",,IF(IFERROR(INDEX(Přehled_body!$E$3:$ED$130,MATCH(Tabulka!$AI35,Přehled_body!$A$3:$A$130,0),MATCH(Tabulka!G$2,Přehled_body!$E$1:$ED$1,0)),)=0,0.00000000001,IFERROR(INDEX(Přehled_body!$E$3:$ED$130,MATCH(Tabulka!$AI35,Přehled_body!$A$3:$A$130,0),MATCH(Tabulka!G$2,Přehled_body!$E$1:$ED$1,0)),)))","v":9.9999999999999994E-12},{"$f":"IF(IFERROR(INDEX(Přehled_body!$E$3:$ED$130,MATCH(Tabulka!$AI35,Přehled_body!$A$3:$A$130,0),MATCH(Tabulka!H$2,Přehled_body!$E$1:$ED$1,0)),)=\"\",,IF(IFERROR(INDEX(Přehled_body!$E$3:$ED$130,MATCH(Tabulka!$AI35,Přehled_body!$A$3:$A$130,0),MATCH(Tabulka!H$2,Přehled_body!$E$1:$ED$1,0)),)=0,0.00000000001,IFERROR(INDEX(Přehled_body!$E$3:$ED$130,MATCH(Tabulka!$AI35,Přehled_body!$A$3:$A$130,0),MATCH(Tabulka!H$2,Přehled_body!$E$1:$ED$1,0)),)))","v":9.9999999999999994E-12},{"$f":"IF(IFERROR(INDEX(Přehled_body!$E$3:$ED$130,MATCH(Tabulka!$AI35,Přehled_body!$A$3:$A$130,0),MATCH(Tabulka!I$2,Přehled_body!$E$1:$ED$1,0)),)=\"\",,IF(IFERROR(INDEX(Přehled_body!$E$3:$ED$130,MATCH(Tabulka!$AI35,Přehled_body!$A$3:$A$130,0),MATCH(Tabulka!I$2,Přehled_body!$E$1:$ED$1,0)),)=0,0.00000000001,IFERROR(INDEX(Přehled_body!$E$3:$ED$130,MATCH(Tabulka!$AI35,Přehled_body!$A$3:$A$130,0),MATCH(Tabulka!I$2,Přehled_body!$E$1:$ED$1,0)),)))","v":1},{"$f":"IF(IFERROR(INDEX(Přehled_body!$E$3:$ED$130,MATCH(Tabulka!$AI35,Přehled_body!$A$3:$A$130,0),MATCH(Tabulka!J$2,Přehled_body!$E$1:$ED$1,0)),)=\"\",,IF(IFERROR(INDEX(Přehled_body!$E$3:$ED$130,MATCH(Tabulka!$AI35,Přehled_body!$A$3:$A$130,0),MATCH(Tabulka!J$2,Přehled_body!$E$1:$ED$1,0)),)=0,0.00000000001,IFERROR(INDEX(Přehled_body!$E$3:$ED$130,MATCH(Tabulka!$AI35,Přehled_body!$A$3:$A$130,0),MATCH(Tabulka!J$2,Přehled_body!$E$1:$ED$1,0)),)))","v":1},{"$f":"IF(IFERROR(INDEX(Přehled_body!$E$3:$ED$130,MATCH(Tabulka!$AI35,Přehled_body!$A$3:$A$130,0),MATCH(Tabulka!K$2,Přehled_body!$E$1:$ED$1,0)),)=\"\",,IF(IFERROR(INDEX(Přehled_body!$E$3:$ED$130,MATCH(Tabulka!$AI35,Přehled_body!$A$3:$A$130,0),MATCH(Tabulka!K$2,Přehled_body!$E$1:$ED$1,0)),)=0,0.00000000001,IFERROR(INDEX(Přehled_body!$E$3:$ED$130,MATCH(Tabulka!$AI35,Přehled_body!$A$3:$A$130,0),MATCH(Tabulka!K$2,Přehled_body!$E$1:$ED$1,0)),)))","v":2},{"$f":"IF(IFERROR(INDEX(Přehled_body!$E$3:$ED$130,MATCH(Tabulka!$AI35,Přehled_body!$A$3:$A$130,0),MATCH(Tabulka!L$2,Přehled_body!$E$1:$ED$1,0)),)=\"\",,IF(IFERROR(INDEX(Přehled_body!$E$3:$ED$130,MATCH(Tabulka!$AI35,Přehled_body!$A$3:$A$130,0),MATCH(Tabulka!L$2,Přehled_body!$E$1:$ED$1,0)),)=0,0.00000000001,IFERROR(INDEX(Přehled_body!$E$3:$ED$130,MATCH(Tabulka!$AI35,Přehled_body!$A$3:$A$130,0),MATCH(Tabulka!L$2,Přehled_body!$E$1:$ED$1,0)),)))","v":1},{"$f":"IF(IFERROR(INDEX(Přehled_body!$E$3:$ED$130,MATCH(Tabulka!$AI35,Přehled_body!$A$3:$A$130,0),MATCH(Tabulka!M$2,Přehled_body!$E$1:$ED$1,0)),)=\"\",,IF(IFERROR(INDEX(Přehled_body!$E$3:$ED$130,MATCH(Tabulka!$AI35,Přehled_body!$A$3:$A$130,0),MATCH(Tabulka!M$2,Přehled_body!$E$1:$ED$1,0)),)=0,0.00000000001,IFERROR(INDEX(Přehled_body!$E$3:$ED$130,MATCH(Tabulka!$AI35,Přehled_body!$A$3:$A$130,0),MATCH(Tabulka!M$2,Přehled_body!$E$1:$ED$1,0)),)))","v":9.9999999999999994E-12},{"$f":"IF(IFERROR(INDEX(Přehled_body!$E$3:$ED$130,MATCH(Tabulka!$AI35,Přehled_body!$A$3:$A$130,0),MATCH(Tabulka!N$2,Přehled_body!$E$1:$ED$1,0)),)=\"\",,IF(IFERROR(INDEX(Přehled_body!$E$3:$ED$130,MATCH(Tabulka!$AI35,Přehled_body!$A$3:$A$130,0),MATCH(Tabulka!N$2,Přehled_body!$E$1:$ED$1,0)),)=0,0.00000000001,IFERROR(INDEX(Přehled_body!$E$3:$ED$130,MATCH(Tabulka!$AI35,Přehled_body!$A$3:$A$130,0),MATCH(Tabulka!N$2,Přehled_body!$E$1:$ED$1,0)),)))","v":1},{"$f":"IF(IFERROR(INDEX(Přehled_body!$E$3:$ED$130,MATCH(Tabulka!$AI35,Přehled_body!$A$3:$A$130,0),MATCH(Tabulka!O$2,Přehled_body!$E$1:$ED$1,0)),)=\"\",,IF(IFERROR(INDEX(Přehled_body!$E$3:$ED$130,MATCH(Tabulka!$AI35,Přehled_body!$A$3:$A$130,0),MATCH(Tabulka!O$2,Přehled_body!$E$1:$ED$1,0)),)=0,0.00000000001,IFERROR(INDEX(Přehled_body!$E$3:$ED$130,MATCH(Tabulka!$AI35,Přehled_body!$A$3:$A$130,0),MATCH(Tabulka!O$2,Přehled_body!$E$1:$ED$1,0)),)))","v":1},{"$f":"IF(IFERROR(INDEX(Přehled_body!$E$3:$ED$130,MATCH(Tabulka!$AI35,Přehled_body!$A$3:$A$130,0),MATCH(Tabulka!P$2,Přehled_body!$E$1:$ED$1,0)),)=\"\",,IF(IFERROR(INDEX(Přehled_body!$E$3:$ED$130,MATCH(Tabulka!$AI35,Přehled_body!$A$3:$A$130,0),MATCH(Tabulka!P$2,Přehled_body!$E$1:$ED$1,0)),)=0,0.00000000001,IFERROR(INDEX(Přehled_body!$E$3:$ED$130,MATCH(Tabulka!$AI35,Přehled_body!$A$3:$A$130,0),MATCH(Tabulka!P$2,Přehled_body!$E$1:$ED$1,0)),)))","v":1},{"$f":"IF(IFERROR(INDEX(Přehled_body!$E$3:$ED$130,MATCH(Tabulka!$AI35,Přehled_body!$A$3:$A$130,0),MATCH(Tabulka!Q$2,Přehled_body!$E$1:$ED$1,0)),)=\"\",,IF(IFERROR(INDEX(Přehled_body!$E$3:$ED$130,MATCH(Tabulka!$AI35,Přehled_body!$A$3:$A$130,0),MATCH(Tabulka!Q$2,Přehled_body!$E$1:$ED$1,0)),)=0,0.00000000001,IFERROR(INDEX(Přehled_body!$E$3:$ED$130,MATCH(Tabulka!$AI35,Přehled_body!$A$3:$A$130,0),MATCH(Tabulka!Q$2,Přehled_body!$E$1:$ED$1,0)),)))","v":1},{"$f":"IF(IFERROR(INDEX(Přehled_body!$E$3:$ED$130,MATCH(Tabulka!$AI35,Přehled_body!$A$3:$A$130,0),MATCH(Tabulka!R$2,Přehled_body!$E$1:$ED$1,0)),)=\"\",,IF(IFERROR(INDEX(Přehled_body!$E$3:$ED$130,MATCH(Tabulka!$AI35,Přehled_body!$A$3:$A$130,0),MATCH(Tabulka!R$2,Přehled_body!$E$1:$ED$1,0)),)=0,0.00000000001,IFERROR(INDEX(Přehled_body!$E$3:$ED$130,MATCH(Tabulka!$AI35,Přehled_body!$A$3:$A$130,0),MATCH(Tabulka!R$2,Přehled_body!$E$1:$ED$1,0)),)))","v":9.9999999999999994E-12},{"$f":"IF(IFERROR(INDEX(Přehled_body!$E$3:$ED$130,MATCH(Tabulka!$AI35,Přehled_body!$A$3:$A$130,0),MATCH(Tabulka!S$2,Přehled_body!$E$1:$ED$1,0)),)=\"\",,IF(IFERROR(INDEX(Přehled_body!$E$3:$ED$130,MATCH(Tabulka!$AI35,Přehled_body!$A$3:$A$130,0),MATCH(Tabulka!S$2,Přehled_body!$E$1:$ED$1,0)),)=0,0.00000000001,IFERROR(INDEX(Přehled_body!$E$3:$ED$130,MATCH(Tabulka!$AI35,Přehled_body!$A$3:$A$130,0),MATCH(Tabulka!S$2,Přehled_body!$E$1:$ED$1,0)),)))","v":3},{"$f":"IF(IFERROR(INDEX(Přehled_body!$E$3:$ED$130,MATCH(Tabulka!$AI35,Přehled_body!$A$3:$A$130,0),MATCH(Tabulka!T$2,Přehled_body!$E$1:$ED$1,0)),)=\"\",,IF(IFERROR(INDEX(Přehled_body!$E$3:$ED$130,MATCH(Tabulka!$AI35,Přehled_body!$A$3:$A$130,0),MATCH(Tabulka!T$2,Přehled_body!$E$1:$ED$1,0)),)=0,0.00000000001,IFERROR(INDEX(Přehled_body!$E$3:$ED$130,MATCH(Tabulka!$AI35,Přehled_body!$A$3:$A$130,0),MATCH(Tabulka!T$2,Přehled_body!$E$1:$ED$1,0)),)))","v":9.9999999999999994E-12},{"$f":"IF(IFERROR(INDEX(Přehled_body!$E$3:$ED$130,MATCH(Tabulka!$AI35,Přehled_body!$A$3:$A$130,0),MATCH(Tabulka!U$2,Přehled_body!$E$1:$ED$1,0)),)=\"\",,IF(IFERROR(INDEX(Přehled_body!$E$3:$ED$130,MATCH(Tabulka!$AI35,Přehled_body!$A$3:$A$130,0),MATCH(Tabulka!U$2,Přehled_body!$E$1:$ED$1,0)),)=0,0.00000000001,IFERROR(INDEX(Přehled_body!$E$3:$ED$130,MATCH(Tabulka!$AI35,Přehled_body!$A$3:$A$130,0),MATCH(Tabulka!U$2,Přehled_body!$E$1:$ED$1,0)),)))","v":0},{"$f":"IF(IFERROR(INDEX(Přehled_body!$E$3:$ED$130,MATCH(Tabulka!$AI35,Přehled_body!$A$3:$A$130,0),MATCH(Tabulka!V$2,Přehled_body!$E$1:$ED$1,0)),)=\"\",,IF(IFERROR(INDEX(Přehled_body!$E$3:$ED$130,MATCH(Tabulka!$AI35,Přehled_body!$A$3:$A$130,0),MATCH(Tabulka!V$2,Přehled_body!$E$1:$ED$1,0)),)=0,0.00000000001,IFERROR(INDEX(Přehled_body!$E$3:$ED$130,MATCH(Tabulka!$AI35,Přehled_body!$A$3:$A$130,0),MATCH(Tabulka!V$2,Přehled_body!$E$1:$ED$1,0)),)))","v":0},{"$f":"IF(IFERROR(INDEX(Přehled_body!$E$3:$ED$130,MATCH(Tabulka!$AI35,Přehled_body!$A$3:$A$130,0),MATCH(Tabulka!W$2,Přehled_body!$E$1:$ED$1,0)),)=\"\",,IF(IFERROR(INDEX(Přehled_body!$E$3:$ED$130,MATCH(Tabulka!$AI35,Přehled_body!$A$3:$A$130,0),MATCH(Tabulka!W$2,Přehled_body!$E$1:$ED$1,0)),)=0,0.00000000001,IFERROR(INDEX(Přehled_body!$E$3:$ED$130,MATCH(Tabulka!$AI35,Přehled_body!$A$3:$A$130,0),MATCH(Tabulka!W$2,Přehled_body!$E$1:$ED$1,0)),)))","v":0},{"$f":"IF(IFERROR(INDEX(Přehled_body!$E$3:$ED$130,MATCH(Tabulka!$AI35,Přehled_body!$A$3:$A$130,0),MATCH(Tabulka!X$2,Přehled_body!$E$1:$ED$1,0)),)=\"\",,IF(IFERROR(INDEX(Přehled_body!$E$3:$ED$130,MATCH(Tabulka!$AI35,Přehled_body!$A$3:$A$130,0),MATCH(Tabulka!X$2,Přehled_body!$E$1:$ED$1,0)),)=0,0.00000000001,IFERROR(INDEX(Přehled_body!$E$3:$ED$130,MATCH(Tabulka!$AI35,Přehled_body!$A$3:$A$130,0),MATCH(Tabulka!X$2,Přehled_body!$E$1:$ED$1,0)),)))","v":0},{"$f":"IF(IFERROR(INDEX(Přehled_body!$E$3:$ED$130,MATCH(Tabulka!$AI35,Přehled_body!$A$3:$A$130,0),MATCH(Tabulka!Y$2,Přehled_body!$E$1:$ED$1,0)),)=\"\",,IF(IFERROR(INDEX(Přehled_body!$E$3:$ED$130,MATCH(Tabulka!$AI35,Přehled_body!$A$3:$A$130,0),MATCH(Tabulka!Y$2,Přehled_body!$E$1:$ED$1,0)),)=0,0.00000000001,IFERROR(INDEX(Přehled_body!$E$3:$ED$130,MATCH(Tabulka!$AI35,Přehled_body!$A$3:$A$130,0),MATCH(Tabulka!Y$2,Přehled_body!$E$1:$ED$1,0)),)))","v":0},{"$f":"IF(IFERROR(INDEX(Přehled_body!$E$3:$ED$130,MATCH(Tabulka!$AI35,Přehled_body!$A$3:$A$130,0),MATCH(Tabulka!Z$2,Přehled_body!$E$1:$ED$1,0)),)=\"\",,IF(IFERROR(INDEX(Přehled_body!$E$3:$ED$130,MATCH(Tabulka!$AI35,Přehled_body!$A$3:$A$130,0),MATCH(Tabulka!Z$2,Přehled_body!$E$1:$ED$1,0)),)=0,0.00000000001,IFERROR(INDEX(Přehled_body!$E$3:$ED$130,MATCH(Tabulka!$AI35,Přehled_body!$A$3:$A$130,0),MATCH(Tabulka!Z$2,Přehled_body!$E$1:$ED$1,0)),)))","v":0},{"$f":"IF(IFERROR(INDEX(Přehled_body!$E$3:$ED$130,MATCH(Tabulka!$AI35,Přehled_body!$A$3:$A$130,0),MATCH(Tabulka!AA$2,Přehled_body!$E$1:$ED$1,0)),)=\"\",,IF(IFERROR(INDEX(Přehled_body!$E$3:$ED$130,MATCH(Tabulka!$AI35,Přehled_body!$A$3:$A$130,0),MATCH(Tabulka!AA$2,Přehled_body!$E$1:$ED$1,0)),)=0,0.00000000001,IFERROR(INDEX(Přehled_body!$E$3:$ED$130,MATCH(Tabulka!$AI35,Přehled_body!$A$3:$A$130,0),MATCH(Tabulka!AA$2,Přehled_body!$E$1:$ED$1,0)),)))","v":0},{"$f":"IF(IFERROR(INDEX(Přehled_body!$E$3:$ED$130,MATCH(Tabulka!$AI35,Přehled_body!$A$3:$A$130,0),MATCH(Tabulka!AB$2,Přehled_body!$E$1:$ED$1,0)),)=\"\",,IF(IFERROR(INDEX(Přehled_body!$E$3:$ED$130,MATCH(Tabulka!$AI35,Přehled_body!$A$3:$A$130,0),MATCH(Tabulka!AB$2,Přehled_body!$E$1:$ED$1,0)),)=0,0.00000000001,IFERROR(INDEX(Přehled_body!$E$3:$ED$130,MATCH(Tabulka!$AI35,Přehled_body!$A$3:$A$130,0),MATCH(Tabulka!AB$2,Přehled_body!$E$1:$ED$1,0)),)))","v":0},{"$f":"IF(IFERROR(INDEX(Přehled_body!$E$3:$ED$130,MATCH(Tabulka!$AI35,Přehled_body!$A$3:$A$130,0),MATCH(Tabulka!AC$2,Přehled_body!$E$1:$ED$1,0)),)=\"\",,IF(IFERROR(INDEX(Přehled_body!$E$3:$ED$130,MATCH(Tabulka!$AI35,Přehled_body!$A$3:$A$130,0),MATCH(Tabulka!AC$2,Přehled_body!$E$1:$ED$1,0)),)=0,0.00000000001,IFERROR(INDEX(Přehled_body!$E$3:$ED$130,MATCH(Tabulka!$AI35,Přehled_body!$A$3:$A$130,0),MATCH(Tabulka!AC$2,Přehled_body!$E$1:$ED$1,0)),)))","v":0},{"$f":"IF(IFERROR(INDEX(Přehled_body!$E$3:$ED$130,MATCH(Tabulka!$AI35,Přehled_body!$A$3:$A$130,0),MATCH(Tabulka!AD$2,Přehled_body!$E$1:$ED$1,0)),)=\"\",,IF(IFERROR(INDEX(Přehled_body!$E$3:$ED$130,MATCH(Tabulka!$AI35,Přehled_body!$A$3:$A$130,0),MATCH(Tabulka!AD$2,Přehled_body!$E$1:$ED$1,0)),)=0,0.00000000001,IFERROR(INDEX(Přehled_body!$E$3:$ED$130,MATCH(Tabulka!$AI35,Přehled_body!$A$3:$A$130,0),MATCH(Tabulka!AD$2,Přehled_body!$E$1:$ED$1,0)),)))","v":0},{"$f":"IF(SUM(AG34)<2,-90000+SUM(D35:AD35),SUM(D35:AD35))","v":18.000000000049997},{"$f":"SUM(AE34-AE35)","v":-8.9999999999399982},null,18.000000000049997,{"$f":"CONCATENATE($B$35,\" \",$B$36,C35)","v":"Jiří BlínProhry"},null,null,17,null,null,"Jiří",7]
[{"$f":"CONCATENATE(B36,\" \",B35)","v":"Blín Jiří"},"Blín","Placeno panáků",{"$f":"IF(IFERROR(INDEX(Přehled_body!$E$3:$ED$130,MATCH(Tabulka!$AI36,Přehled_body!$A$3:$A$130,0),MATCH(Tabulka!D$2,Přehled_body!$E$1:$ED$1,0)),)=\"\",,IF(IFERROR(INDEX(Přehled_body!$E$3:$ED$130,MATCH(Tabulka!$AI36,Přehled_body!$A$3:$A$130,0),MATCH(Tabulka!D$2,Přehled_body!$E$1:$ED$1,0)),)=0,0.00000000001,IFERROR(INDEX(Přehled_body!$E$3:$ED$130,MATCH(Tabulka!$AI36,Přehled_body!$A$3:$A$130,0),MATCH(Tabulka!D$2,Přehled_body!$E$1:$ED$1,0)),)))","v":2},{"$f":"IF(IFERROR(INDEX(Přehled_body!$E$3:$ED$130,MATCH(Tabulka!$AI36,Přehled_body!$A$3:$A$130,0),MATCH(Tabulka!E$2,Přehled_body!$E$1:$ED$1,0)),)=\"\",,IF(IFERROR(INDEX(Přehled_body!$E$3:$ED$130,MATCH(Tabulka!$AI36,Přehled_body!$A$3:$A$130,0),MATCH(Tabulka!E$2,Přehled_body!$E$1:$ED$1,0)),)=0,0.00000000001,IFERROR(INDEX(Přehled_body!$E$3:$ED$130,MATCH(Tabulka!$AI36,Přehled_body!$A$3:$A$130,0),MATCH(Tabulka!E$2,Přehled_body!$E$1:$ED$1,0)),)))","v":4},{"$f":"IF(IFERROR(INDEX(Přehled_body!$E$3:$ED$130,MATCH(Tabulka!$AI36,Přehled_body!$A$3:$A$130,0),MATCH(Tabulka!F$2,Přehled_body!$E$1:$ED$1,0)),)=\"\",,IF(IFERROR(INDEX(Přehled_body!$E$3:$ED$130,MATCH(Tabulka!$AI36,Přehled_body!$A$3:$A$130,0),MATCH(Tabulka!F$2,Přehled_body!$E$1:$ED$1,0)),)=0,0.00000000001,IFERROR(INDEX(Přehled_body!$E$3:$ED$130,MATCH(Tabulka!$AI36,Přehled_body!$A$3:$A$130,0),MATCH(Tabulka!F$2,Přehled_body!$E$1:$ED$1,0)),)))","v":4},{"$f":"IF(IFERROR(INDEX(Přehled_body!$E$3:$ED$130,MATCH(Tabulka!$AI36,Přehled_body!$A$3:$A$130,0),MATCH(Tabulka!G$2,Přehled_body!$E$1:$ED$1,0)),)=\"\",,IF(IFERROR(INDEX(Přehled_body!$E$3:$ED$130,MATCH(Tabulka!$AI36,Přehled_body!$A$3:$A$130,0),MATCH(Tabulka!G$2,Přehled_body!$E$1:$ED$1,0)),)=0,0.00000000001,IFERROR(INDEX(Přehled_body!$E$3:$ED$130,MATCH(Tabulka!$AI36,Přehled_body!$A$3:$A$130,0),MATCH(Tabulka!G$2,Přehled_body!$E$1:$ED$1,0)),)))","v":9.9999999999999994E-12},{"$f":"IF(IFERROR(INDEX(Přehled_body!$E$3:$ED$130,MATCH(Tabulka!$AI36,Přehled_body!$A$3:$A$130,0),MATCH(Tabulka!H$2,Přehled_body!$E$1:$ED$1,0)),)=\"\",,IF(IFERROR(INDEX(Přehled_body!$E$3:$ED$130,MATCH(Tabulka!$AI36,Přehled_body!$A$3:$A$130,0),MATCH(Tabulka!H$2,Přehled_body!$E$1:$ED$1,0)),)=0,0.00000000001,IFERROR(INDEX(Přehled_body!$E$3:$ED$130,MATCH(Tabulka!$AI36,Přehled_body!$A$3:$A$130,0),MATCH(Tabulka!H$2,Přehled_body!$E$1:$ED$1,0)),)))","v":9.9999999999999994E-12},{"$f":"IF(IFERROR(INDEX(Přehled_body!$E$3:$ED$130,MATCH(Tabulka!$AI36,Přehled_body!$A$3:$A$130,0),MATCH(Tabulka!I$2,Přehled_body!$E$1:$ED$1,0)),)=\"\",,IF(IFERROR(INDEX(Přehled_body!$E$3:$ED$130,MATCH(Tabulka!$AI36,Přehled_body!$A$3:$A$130,0),MATCH(Tabulka!I$2,Přehled_body!$E$1:$ED$1,0)),)=0,0.00000000001,IFERROR(INDEX(Přehled_body!$E$3:$ED$130,MATCH(Tabulka!$AI36,Přehled_body!$A$3:$A$130,0),MATCH(Tabulka!I$2,Přehled_body!$E$1:$ED$1,0)),)))","v":1},{"$f":"IF(IFERROR(INDEX(Přehled_body!$E$3:$ED$130,MATCH(Tabulka!$AI36,Přehled_body!$A$3:$A$130,0),MATCH(Tabulka!J$2,Přehled_body!$E$1:$ED$1,0)),)=\"\",,IF(IFERROR(INDEX(Přehled_body!$E$3:$ED$130,MATCH(Tabulka!$AI36,Přehled_body!$A$3:$A$130,0),MATCH(Tabulka!J$2,Přehled_body!$E$1:$ED$1,0)),)=0,0.00000000001,IFERROR(INDEX(Přehled_body!$E$3:$ED$130,MATCH(Tabulka!$AI36,Přehled_body!$A$3:$A$130,0),MATCH(Tabulka!J$2,Přehled_body!$E$1:$ED$1,0)),)))","v":1},{"$f":"IF(IFERROR(INDEX(Přehled_body!$E$3:$ED$130,MATCH(Tabulka!$AI36,Přehled_body!$A$3:$A$130,0),MATCH(Tabulka!K$2,Přehled_body!$E$1:$ED$1,0)),)=\"\",,IF(IFERROR(INDEX(Přehled_body!$E$3:$ED$130,MATCH(Tabulka!$AI36,Přehled_body!$A$3:$A$130,0),MATCH(Tabulka!K$2,Přehled_body!$E$1:$ED$1,0)),)=0,0.00000000001,IFERROR(INDEX(Přehled_body!$E$3:$ED$130,MATCH(Tabulka!$AI36,Přehled_body!$A$3:$A$130,0),MATCH(Tabulka!K$2,Přehled_body!$E$1:$ED$1,0)),)))","v":2},{"$f":"IF(IFERROR(INDEX(Přehled_body!$E$3:$ED$130,MATCH(Tabulka!$AI36,Přehled_body!$A$3:$A$130,0),MATCH(Tabulka!L$2,Přehled_body!$E$1:$ED$1,0)),)=\"\",,IF(IFERROR(INDEX(Přehled_body!$E$3:$ED$130,MATCH(Tabulka!$AI36,Přehled_body!$A$3:$A$130,0),MATCH(Tabulka!L$2,Přehled_body!$E$1:$ED$1,0)),)=0,0.00000000001,IFERROR(INDEX(Přehled_body!$E$3:$ED$130,MATCH(Tabulka!$AI36,Přehled_body!$A$3:$A$130,0),MATCH(Tabulka!L$2,Přehled_body!$E$1:$ED$1,0)),)))","v":1},{"$f":"IF(IFERROR(INDEX(Přehled_body!$E$3:$ED$130,MATCH(Tabulka!$AI36,Přehled_body!$A$3:$A$130,0),MATCH(Tabulka!M$2,Přehled_body!$E$1:$ED$1,0)),)=\"\",,IF(IFERROR(INDEX(Přehled_body!$E$3:$ED$130,MATCH(Tabulka!$AI36,Přehled_body!$A$3:$A$130,0),MATCH(Tabulka!M$2,Přehled_body!$E$1:$ED$1,0)),)=0,0.00000000001,IFERROR(INDEX(Přehled_body!$E$3:$ED$130,MATCH(Tabulka!$AI36,Přehled_body!$A$3:$A$130,0),MATCH(Tabulka!M$2,Přehled_body!$E$1:$ED$1,0)),)))","v":9.9999999999999994E-12},{"$f":"IF(IFERROR(INDEX(Přehled_body!$E$3:$ED$130,MATCH(Tabulka!$AI36,Přehled_body!$A$3:$A$130,0),MATCH(Tabulka!N$2,Přehled_body!$E$1:$ED$1,0)),)=\"\",,IF(IFERROR(INDEX(Přehled_body!$E$3:$ED$130,MATCH(Tabulka!$AI36,Přehled_body!$A$3:$A$130,0),MATCH(Tabulka!N$2,Přehled_body!$E$1:$ED$1,0)),)=0,0.00000000001,IFERROR(INDEX(Přehled_body!$E$3:$ED$130,MATCH(Tabulka!$AI36,Přehled_body!$A$3:$A$130,0),MATCH(Tabulka!N$2,Přehled_body!$E$1:$ED$1,0)),)))","v":2},{"$f":"IF(IFERROR(INDEX(Přehled_body!$E$3:$ED$130,MATCH(Tabulka!$AI36,Přehled_body!$A$3:$A$130,0),MATCH(Tabulka!O$2,Přehled_body!$E$1:$ED$1,0)),)=\"\",,IF(IFERROR(INDEX(Přehled_body!$E$3:$ED$130,MATCH(Tabulka!$AI36,Přehled_body!$A$3:$A$130,0),MATCH(Tabulka!O$2,Přehled_body!$E$1:$ED$1,0)),)=0,0.00000000001,IFERROR(INDEX(Přehled_body!$E$3:$ED$130,MATCH(Tabulka!$AI36,Přehled_body!$A$3:$A$130,0),MATCH(Tabulka!O$2,Přehled_body!$E$1:$ED$1,0)),)))","v":1},{"$f":"IF(IFERROR(INDEX(Přehled_body!$E$3:$ED$130,MATCH(Tabulka!$AI36,Přehled_body!$A$3:$A$130,0),MATCH(Tabulka!P$2,Přehled_body!$E$1:$ED$1,0)),)=\"\",,IF(IFERROR(INDEX(Přehled_body!$E$3:$ED$130,MATCH(Tabulka!$AI36,Přehled_body!$A$3:$A$130,0),MATCH(Tabulka!P$2,Přehled_body!$E$1:$ED$1,0)),)=0,0.00000000001,IFERROR(INDEX(Přehled_body!$E$3:$ED$130,MATCH(Tabulka!$AI36,Přehled_body!$A$3:$A$130,0),MATCH(Tabulka!P$2,Přehled_body!$E$1:$ED$1,0)),)))","v":1},{"$f":"IF(IFERROR(INDEX(Přehled_body!$E$3:$ED$130,MATCH(Tabulka!$AI36,Přehled_body!$A$3:$A$130,0),MATCH(Tabulka!Q$2,Přehled_body!$E$1:$ED$1,0)),)=\"\",,IF(IFERROR(INDEX(Přehled_body!$E$3:$ED$130,MATCH(Tabulka!$AI36,Přehled_body!$A$3:$A$130,0),MATCH(Tabulka!Q$2,Přehled_body!$E$1:$ED$1,0)),)=0,0.00000000001,IFERROR(INDEX(Přehled_body!$E$3:$ED$130,MATCH(Tabulka!$AI36,Přehled_body!$A$3:$A$130,0),MATCH(Tabulka!Q$2,Přehled_body!$E$1:$ED$1,0)),)))","v":2},{"$f":"IF(IFERROR(INDEX(Přehled_body!$E$3:$ED$130,MATCH(Tabulka!$AI36,Přehled_body!$A$3:$A$130,0),MATCH(Tabulka!R$2,Přehled_body!$E$1:$ED$1,0)),)=\"\",,IF(IFERROR(INDEX(Přehled_body!$E$3:$ED$130,MATCH(Tabulka!$AI36,Přehled_body!$A$3:$A$130,0),MATCH(Tabulka!R$2,Přehled_body!$E$1:$ED$1,0)),)=0,0.00000000001,IFERROR(INDEX(Přehled_body!$E$3:$ED$130,MATCH(Tabulka!$AI36,Přehled_body!$A$3:$A$130,0),MATCH(Tabulka!R$2,Přehled_body!$E$1:$ED$1,0)),)))","v":9.9999999999999994E-12},{"$f":"IF(IFERROR(INDEX(Přehled_body!$E$3:$ED$130,MATCH(Tabulka!$AI36,Přehled_body!$A$3:$A$130,0),MATCH(Tabulka!S$2,Přehled_body!$E$1:$ED$1,0)),)=\"\",,IF(IFERROR(INDEX(Přehled_body!$E$3:$ED$130,MATCH(Tabulka!$AI36,Přehled_body!$A$3:$A$130,0),MATCH(Tabulka!S$2,Přehled_body!$E$1:$ED$1,0)),)=0,0.00000000001,IFERROR(INDEX(Přehled_body!$E$3:$ED$130,MATCH(Tabulka!$AI36,Přehled_body!$A$3:$A$130,0),MATCH(Tabulka!S$2,Přehled_body!$E$1:$ED$1,0)),)))","v":3},{"$f":"IF(IFERROR(INDEX(Přehled_body!$E$3:$ED$130,MATCH(Tabulka!$AI36,Přehled_body!$A$3:$A$130,0),MATCH(Tabulka!T$2,Přehled_body!$E$1:$ED$1,0)),)=\"\",,IF(IFERROR(INDEX(Přehled_body!$E$3:$ED$130,MATCH(Tabulka!$AI36,Přehled_body!$A$3:$A$130,0),MATCH(Tabulka!T$2,Přehled_body!$E$1:$ED$1,0)),)=0,0.00000000001,IFERROR(INDEX(Přehled_body!$E$3:$ED$130,MATCH(Tabulka!$AI36,Přehled_body!$A$3:$A$130,0),MATCH(Tabulka!T$2,Přehled_body!$E$1:$ED$1,0)),)))","v":9.9999999999999994E-12},{"$f":"IF(IFERROR(INDEX(Přehled_body!$E$3:$ED$130,MATCH(Tabulka!$AI36,Přehled_body!$A$3:$A$130,0),MATCH(Tabulka!U$2,Přehled_body!$E$1:$ED$1,0)),)=\"\",,IF(IFERROR(INDEX(Přehled_body!$E$3:$ED$130,MATCH(Tabulka!$AI36,Přehled_body!$A$3:$A$130,0),MATCH(Tabulka!U$2,Přehled_body!$E$1:$ED$1,0)),)=0,0.00000000001,IFERROR(INDEX(Přehled_body!$E$3:$ED$130,MATCH(Tabulka!$AI36,Přehled_body!$A$3:$A$130,0),MATCH(Tabulka!U$2,Přehled_body!$E$1:$ED$1,0)),)))","v":0},{"$f":"IF(IFERROR(INDEX(Přehled_body!$E$3:$ED$130,MATCH(Tabulka!$AI36,Přehled_body!$A$3:$A$130,0),MATCH(Tabulka!V$2,Přehled_body!$E$1:$ED$1,0)),)=\"\",,IF(IFERROR(INDEX(Přehled_body!$E$3:$ED$130,MATCH(Tabulka!$AI36,Přehled_body!$A$3:$A$130,0),MATCH(Tabulka!V$2,Přehled_body!$E$1:$ED$1,0)),)=0,0.00000000001,IFERROR(INDEX(Přehled_body!$E$3:$ED$130,MATCH(Tabulka!$AI36,Přehled_body!$A$3:$A$130,0),MATCH(Tabulka!V$2,Přehled_body!$E$1:$ED$1,0)),)))","v":0},{"$f":"IF(IFERROR(INDEX(Přehled_body!$E$3:$ED$130,MATCH(Tabulka!$AI36,Přehled_body!$A$3:$A$130,0),MATCH(Tabulka!W$2,Přehled_body!$E$1:$ED$1,0)),)=\"\",,IF(IFERROR(INDEX(Přehled_body!$E$3:$ED$130,MATCH(Tabulka!$AI36,Přehled_body!$A$3:$A$130,0),MATCH(Tabulka!W$2,Přehled_body!$E$1:$ED$1,0)),)=0,0.00000000001,IFERROR(INDEX(Přehled_body!$E$3:$ED$130,MATCH(Tabulka!$AI36,Přehled_body!$A$3:$A$130,0),MATCH(Tabulka!W$2,Přehled_body!$E$1:$ED$1,0)),)))","v":0},{"$f":"IF(IFERROR(INDEX(Přehled_body!$E$3:$ED$130,MATCH(Tabulka!$AI36,Přehled_body!$A$3:$A$130,0),MATCH(Tabulka!X$2,Přehled_body!$E$1:$ED$1,0)),)=\"\",,IF(IFERROR(INDEX(Přehled_body!$E$3:$ED$130,MATCH(Tabulka!$AI36,Přehled_body!$A$3:$A$130,0),MATCH(Tabulka!X$2,Přehled_body!$E$1:$ED$1,0)),)=0,0.00000000001,IFERROR(INDEX(Přehled_body!$E$3:$ED$130,MATCH(Tabulka!$AI36,Přehled_body!$A$3:$A$130,0),MATCH(Tabulka!X$2,Přehled_body!$E$1:$ED$1,0)),)))","v":0},{"$f":"IF(IFERROR(INDEX(Přehled_body!$E$3:$ED$130,MATCH(Tabulka!$AI36,Přehled_body!$A$3:$A$130,0),MATCH(Tabulka!Y$2,Přehled_body!$E$1:$ED$1,0)),)=\"\",,IF(IFERROR(INDEX(Přehled_body!$E$3:$ED$130,MATCH(Tabulka!$AI36,Přehled_body!$A$3:$A$130,0),MATCH(Tabulka!Y$2,Přehled_body!$E$1:$ED$1,0)),)=0,0.00000000001,IFERROR(INDEX(Přehled_body!$E$3:$ED$130,MATCH(Tabulka!$AI36,Přehled_body!$A$3:$A$130,0),MATCH(Tabulka!Y$2,Přehled_body!$E$1:$ED$1,0)),)))","v":0},{"$f":"IF(IFERROR(INDEX(Přehled_body!$E$3:$ED$130,MATCH(Tabulka!$AI36,Přehled_body!$A$3:$A$130,0),MATCH(Tabulka!Z$2,Přehled_body!$E$1:$ED$1,0)),)=\"\",,IF(IFERROR(INDEX(Přehled_body!$E$3:$ED$130,MATCH(Tabulka!$AI36,Přehled_body!$A$3:$A$130,0),MATCH(Tabulka!Z$2,Přehled_body!$E$1:$ED$1,0)),)=0,0.00000000001,IFERROR(INDEX(Přehled_body!$E$3:$ED$130,MATCH(Tabulka!$AI36,Přehled_body!$A$3:$A$130,0),MATCH(Tabulka!Z$2,Přehled_body!$E$1:$ED$1,0)),)))","v":0},{"$f":"IF(IFERROR(INDEX(Přehled_body!$E$3:$ED$130,MATCH(Tabulka!$AI36,Přehled_body!$A$3:$A$130,0),MATCH(Tabulka!AA$2,Přehled_body!$E$1:$ED$1,0)),)=\"\",,IF(IFERROR(INDEX(Přehled_body!$E$3:$ED$130,MATCH(Tabulka!$AI36,Přehled_body!$A$3:$A$130,0),MATCH(Tabulka!AA$2,Přehled_body!$E$1:$ED$1,0)),)=0,0.00000000001,IFERROR(INDEX(Přehled_body!$E$3:$ED$130,MATCH(Tabulka!$AI36,Přehled_body!$A$3:$A$130,0),MATCH(Tabulka!AA$2,Přehled_body!$E$1:$ED$1,0)),)))","v":0},{"$f":"IF(IFERROR(INDEX(Přehled_body!$E$3:$ED$130,MATCH(Tabulka!$AI36,Přehled_body!$A$3:$A$130,0),MATCH(Tabulka!AB$2,Přehled_body!$E$1:$ED$1,0)),)=\"\",,IF(IFERROR(INDEX(Přehled_body!$E$3:$ED$130,MATCH(Tabulka!$AI36,Přehled_body!$A$3:$A$130,0),MATCH(Tabulka!AB$2,Přehled_body!$E$1:$ED$1,0)),)=0,0.00000000001,IFERROR(INDEX(Přehled_body!$E$3:$ED$130,MATCH(Tabulka!$AI36,Přehled_body!$A$3:$A$130,0),MATCH(Tabulka!AB$2,Přehled_body!$E$1:$ED$1,0)),)))","v":0},{"$f":"IF(IFERROR(INDEX(Přehled_body!$E$3:$ED$130,MATCH(Tabulka!$AI36,Přehled_body!$A$3:$A$130,0),MATCH(Tabulka!AC$2,Přehled_body!$E$1:$ED$1,0)),)=\"\",,IF(IFERROR(INDEX(Přehled_body!$E$3:$ED$130,MATCH(Tabulka!$AI36,Přehled_body!$A$3:$A$130,0),MATCH(Tabulka!AC$2,Přehled_body!$E$1:$ED$1,0)),)=0,0.00000000001,IFERROR(INDEX(Přehled_body!$E$3:$ED$130,MATCH(Tabulka!$AI36,Přehled_body!$A$3:$A$130,0),MATCH(Tabulka!AC$2,Přehled_body!$E$1:$ED$1,0)),)))","v":0},{"$f":"IF(IFERROR(INDEX(Přehled_body!$E$3:$ED$130,MATCH(Tabulka!$AI36,Přehled_body!$A$3:$A$130,0),MATCH(Tabulka!AD$2,Přehled_body!$E$1:$ED$1,0)),)=\"\",,IF(IFERROR(INDEX(Přehled_body!$E$3:$ED$130,MATCH(Tabulka!$AI36,Přehled_body!$A$3:$A$130,0),MATCH(Tabulka!AD$2,Přehled_body!$E$1:$ED$1,0)),)=0,0.00000000001,IFERROR(INDEX(Přehled_body!$E$3:$ED$130,MATCH(Tabulka!$AI36,Přehled_body!$A$3:$A$130,0),MATCH(Tabulka!AD$2,Přehled_body!$E$1:$ED$1,0)),)))","v":0},{"$f":"IF(SUM(AG34)<2,-90000+SUM(D36:AD36),SUM(D36:AD36))","v":24.000000000050001},null,null,{"$f":"SUM(D36:AD36)+INDEX(List4!$D$2:$F$17,MATCH(Tabulka!A35,List4!$D$2:$D$17,0),3)","v":24.000000011050002},{"$f":"CONCATENATE($B$35,\" \",$B$36,C36)","v":"Jiří BlínPlaceno panáků"},null,null,17,null,null,"Blín",{"$f":"CONCATENATE(AQ36,\" \",AQ37)","v":"Kuba Šedivý"},"Kuba"]
[null,null,"Přehozy",{"$f":"IF(IFERROR(INDEX(Přehled_body!$E$3:$ED$130,MATCH(Tabulka!$AI37,Přehled_body!$A$3:$A$130,0),MATCH(Tabulka!D$2,Přehled_body!$E$1:$ED$1,0)),)=\"\",,IF(IFERROR(INDEX(Přehled_body!$E$3:$ED$130,MATCH(Tabulka!$AI37,Přehled_body!$A$3:$A$130,0),MATCH(Tabulka!D$2,Přehled_body!$E$1:$ED$1,0)),)=0,0.00000000001,IFERROR(INDEX(Přehled_body!$E$3:$ED$130,MATCH(Tabulka!$AI37,Přehled_body!$A$3:$A$130,0),MATCH(Tabulka!D$2,Přehled_body!$E$1:$ED$1,0)),)))","v":9.9999999999999994E-12},{"$f":"IF(IFERROR(INDEX(Přehled_body!$E$3:$ED$130,MATCH(Tabulka!$AI37,Přehled_body!$A$3:$A$130,0),MATCH(Tabulka!E$2,Přehled_body!$E$1:$ED$1,0)),)=\"\",,IF(IFERROR(INDEX(Přehled_body!$E$3:$ED$130,MATCH(Tabulka!$AI37,Přehled_body!$A$3:$A$130,0),MATCH(Tabulka!E$2,Přehled_body!$E$1:$ED$1,0)),)=0,0.00000000001,IFERROR(INDEX(Přehled_body!$E$3:$ED$130,MATCH(Tabulka!$AI37,Přehled_body!$A$3:$A$130,0),MATCH(Tabulka!E$2,Přehled_body!$E$1:$ED$1,0)),)))","v":9.9999999999999994E-12},{"$f":"IF(IFERROR(INDEX(Přehled_body!$E$3:$ED$130,MATCH(Tabulka!$AI37,Přehled_body!$A$3:$A$130,0),MATCH(Tabulka!F$2,Přehled_body!$E$1:$ED$1,0)),)=\"\",,IF(IFERROR(INDEX(Přehled_body!$E$3:$ED$130,MATCH(Tabulka!$AI37,Přehled_body!$A$3:$A$130,0),MATCH(Tabulka!F$2,Přehled_body!$E$1:$ED$1,0)),)=0,0.00000000001,IFERROR(INDEX(Přehled_body!$E$3:$ED$130,MATCH(Tabulka!$AI37,Přehled_body!$A$3:$A$130,0),MATCH(Tabulka!F$2,Přehled_body!$E$1:$ED$1,0)),)))","v":9.9999999999999994E-12},{"$f":"IF(IFERROR(INDEX(Přehled_body!$E$3:$ED$130,MATCH(Tabulka!$AI37,Přehled_body!$A$3:$A$130,0),MATCH(Tabulka!G$2,Přehled_body!$E$1:$ED$1,0)),)=\"\",,IF(IFERROR(INDEX(Přehled_body!$E$3:$ED$130,MATCH(Tabulka!$AI37,Přehled_body!$A$3:$A$130,0),MATCH(Tabulka!G$2,Přehled_body!$E$1:$ED$1,0)),)=0,0.00000000001,IFERROR(INDEX(Přehled_body!$E$3:$ED$130,MATCH(Tabulka!$AI37,Přehled_body!$A$3:$A$130,0),MATCH(Tabulka!G$2,Přehled_body!$E$1:$ED$1,0)),)))","v":9.9999999999999994E-12},{"$f":"IF(IFERROR(INDEX(Přehled_body!$E$3:$ED$130,MATCH(Tabulka!$AI37,Přehled_body!$A$3:$A$130,0),MATCH(Tabulka!H$2,Přehled_body!$E$1:$ED$1,0)),)=\"\",,IF(IFERROR(INDEX(Přehled_body!$E$3:$ED$130,MATCH(Tabulka!$AI37,Přehled_body!$A$3:$A$130,0),MATCH(Tabulka!H$2,Přehled_body!$E$1:$ED$1,0)),)=0,0.00000000001,IFERROR(INDEX(Přehled_body!$E$3:$ED$130,MATCH(Tabulka!$AI37,Přehled_body!$A$3:$A$130,0),MATCH(Tabulka!H$2,Přehled_body!$E$1:$ED$1,0)),)))","v":1},{"$f":"IF(IFERROR(INDEX(Přehled_body!$E$3:$ED$130,MATCH(Tabulka!$AI37,Přehled_body!$A$3:$A$130,0),MATCH(Tabulka!I$2,Přehled_body!$E$1:$ED$1,0)),)=\"\",,IF(IFERROR(INDEX(Přehled_body!$E$3:$ED$130,MATCH(Tabulka!$AI37,Přehled_body!$A$3:$A$130,0),MATCH(Tabulka!I$2,Přehled_body!$E$1:$ED$1,0)),)=0,0.00000000001,IFERROR(INDEX(Přehled_body!$E$3:$ED$130,MATCH(Tabulka!$AI37,Přehled_body!$A$3:$A$130,0),MATCH(Tabulka!I$2,Přehled_body!$E$1:$ED$1,0)),)))","v":3},{"$f":"IF(IFERROR(INDEX(Přehled_body!$E$3:$ED$130,MATCH(Tabulka!$AI37,Přehled_body!$A$3:$A$130,0),MATCH(Tabulka!J$2,Přehled_body!$E$1:$ED$1,0)),)=\"\",,IF(IFERROR(INDEX(Přehled_body!$E$3:$ED$130,MATCH(Tabulka!$AI37,Přehled_body!$A$3:$A$130,0),MATCH(Tabulka!J$2,Přehled_body!$E$1:$ED$1,0)),)=0,0.00000000001,IFERROR(INDEX(Přehled_body!$E$3:$ED$130,MATCH(Tabulka!$AI37,Přehled_body!$A$3:$A$130,0),MATCH(Tabulka!J$2,Přehled_body!$E$1:$ED$1,0)),)))","v":2},{"$f":"IF(IFERROR(INDEX(Přehled_body!$E$3:$ED$130,MATCH(Tabulka!$AI37,Přehled_body!$A$3:$A$130,0),MATCH(Tabulka!K$2,Přehled_body!$E$1:$ED$1,0)),)=\"\",,IF(IFERROR(INDEX(Přehled_body!$E$3:$ED$130,MATCH(Tabulka!$AI37,Přehled_body!$A$3:$A$130,0),MATCH(Tabulka!K$2,Přehled_body!$E$1:$ED$1,0)),)=0,0.00000000001,IFERROR(INDEX(Přehled_body!$E$3:$ED$130,MATCH(Tabulka!$AI37,Přehled_body!$A$3:$A$130,0),MATCH(Tabulka!K$2,Přehled_body!$E$1:$ED$1,0)),)))","v":9.9999999999999994E-12},{"$f":"IF(IFERROR(INDEX(Přehled_body!$E$3:$ED$130,MATCH(Tabulka!$AI37,Přehled_body!$A$3:$A$130,0),MATCH(Tabulka!L$2,Přehled_body!$E$1:$ED$1,0)),)=\"\",,IF(IFERROR(INDEX(Přehled_body!$E$3:$ED$130,MATCH(Tabulka!$AI37,Přehled_body!$A$3:$A$130,0),MATCH(Tabulka!L$2,Přehled_body!$E$1:$ED$1,0)),)=0,0.00000000001,IFERROR(INDEX(Přehled_body!$E$3:$ED$130,MATCH(Tabulka!$AI37,Přehled_body!$A$3:$A$130,0),MATCH(Tabulka!L$2,Přehled_body!$E$1:$ED$1,0)),)))","v":9.9999999999999994E-12},{"$f":"IF(IFERROR(INDEX(Přehled_body!$E$3:$ED$130,MATCH(Tabulka!$AI37,Přehled_body!$A$3:$A$130,0),MATCH(Tabulka!M$2,Přehled_body!$E$1:$ED$1,0)),)=\"\",,IF(IFERROR(INDEX(Přehled_body!$E$3:$ED$130,MATCH(Tabulka!$AI37,Přehled_body!$A$3:$A$130,0),MATCH(Tabulka!M$2,Přehled_body!$E$1:$ED$1,0)),)=0,0.00000000001,IFERROR(INDEX(Přehled_body!$E$3:$ED$130,MATCH(Tabulka!$AI37,Přehled_body!$A$3:$A$130,0),MATCH(Tabulka!M$2,Přehled_body!$E$1:$ED$1,0)),)))","v":9.9999999999999994E-12},{"$f":"IF(IFERROR(INDEX(Přehled_body!$E$3:$ED$130,MATCH(Tabulka!$AI37,Přehled_body!$A$3:$A$130,0),MATCH(Tabulka!N$2,Přehled_body!$E$1:$ED$1,0)),)=\"\",,IF(IFERROR(INDEX(Přehled_body!$E$3:$ED$130,MATCH(Tabulka!$AI37,Přehled_body!$A$3:$A$130,0),MATCH(Tabulka!N$2,Přehled_body!$E$1:$ED$1,0)),)=0,0.00000000001,IFERROR(INDEX(Přehled_body!$E$3:$ED$130,MATCH(Tabulka!$AI37,Přehled_body!$A$3:$A$130,0),MATCH(Tabulka!N$2,Přehled_body!$E$1:$ED$1,0)),)))","v":1},{"$f":"IF(IFERROR(INDEX(Přehled_body!$E$3:$ED$130,MATCH(Tabulka!$AI37,Přehled_body!$A$3:$A$130,0),MATCH(Tabulka!O$2,Přehled_body!$E$1:$ED$1,0)),)=\"\",,IF(IFERROR(INDEX(Přehled_body!$E$3:$ED$130,MATCH(Tabulka!$AI37,Přehled_body!$A$3:$A$130,0),MATCH(Tabulka!O$2,Přehled_body!$E$1:$ED$1,0)),)=0,0.00000000001,IFERROR(INDEX(Přehled_body!$E$3:$ED$130,MATCH(Tabulka!$AI37,Přehled_body!$A$3:$A$130,0),MATCH(Tabulka!O$2,Přehled_body!$E$1:$ED$1,0)),)))","v":9.9999999999999994E-12},{"$f":"IF(IFERROR(INDEX(Přehled_body!$E$3:$ED$130,MATCH(Tabulka!$AI37,Přehled_body!$A$3:$A$130,0),MATCH(Tabulka!P$2,Přehled_body!$E$1:$ED$1,0)),)=\"\",,IF(IFERROR(INDEX(Přehled_body!$E$3:$ED$130,MATCH(Tabulka!$AI37,Přehled_body!$A$3:$A$130,0),MATCH(Tabulka!P$2,Přehled_body!$E$1:$ED$1,0)),)=0,0.00000000001,IFERROR(INDEX(Přehled_body!$E$3:$ED$130,MATCH(Tabulka!$AI37,Přehled_body!$A$3:$A$130,0),MATCH(Tabulka!P$2,Přehled_body!$E$1:$ED$1,0)),)))","v":9.9999999999999994E-12},{"$f":"IF(IFERROR(INDEX(Přehled_body!$E$3:$ED$130,MATCH(Tabulka!$AI37,Přehled_body!$A$3:$A$130,0),MATCH(Tabulka!Q$2,Přehled_body!$E$1:$ED$1,0)),)=\"\",,IF(IFERROR(INDEX(Přehled_body!$E$3:$ED$130,MATCH(Tabulka!$AI37,Přehled_body!$A$3:$A$130,0),MATCH(Tabulka!Q$2,Přehled_body!$E$1:$ED$1,0)),)=0,0.00000000001,IFERROR(INDEX(Přehled_body!$E$3:$ED$130,MATCH(Tabulka!$AI37,Přehled_body!$A$3:$A$130,0),MATCH(Tabulka!Q$2,Přehled_body!$E$1:$ED$1,0)),)))","v":9.9999999999999994E-12},{"$f":"IF(IFERROR(INDEX(Přehled_body!$E$3:$ED$130,MATCH(Tabulka!$AI37,Přehled_body!$A$3:$A$130,0),MATCH(Tabulka!R$2,Přehled_body!$E$1:$ED$1,0)),)=\"\",,IF(IFERROR(INDEX(Přehled_body!$E$3:$ED$130,MATCH(Tabulka!$AI37,Přehled_body!$A$3:$A$130,0),MATCH(Tabulka!R$2,Přehled_body!$E$1:$ED$1,0)),)=0,0.00000000001,IFERROR(INDEX(Přehled_body!$E$3:$ED$130,MATCH(Tabulka!$AI37,Přehled_body!$A$3:$A$130,0),MATCH(Tabulka!R$2,Přehled_body!$E$1:$ED$1,0)),)))","v":2},{"$f":"IF(IFERROR(INDEX(Přehled_body!$E$3:$ED$130,MATCH(Tabulka!$AI37,Přehled_body!$A$3:$A$130,0),MATCH(Tabulka!S$2,Přehled_body!$E$1:$ED$1,0)),)=\"\",,IF(IFERROR(INDEX(Přehled_body!$E$3:$ED$130,MATCH(Tabulka!$AI37,Přehled_body!$A$3:$A$130,0),MATCH(Tabulka!S$2,Přehled_body!$E$1:$ED$1,0)),)=0,0.00000000001,IFERROR(INDEX(Přehled_body!$E$3:$ED$130,MATCH(Tabulka!$AI37,Přehled_body!$A$3:$A$130,0),MATCH(Tabulka!S$2,Přehled_body!$E$1:$ED$1,0)),)))","v":1},{"$f":"IF(IFERROR(INDEX(Přehled_body!$E$3:$ED$130,MATCH(Tabulka!$AI37,Přehled_body!$A$3:$A$130,0),MATCH(Tabulka!T$2,Přehled_body!$E$1:$ED$1,0)),)=\"\",,IF(IFERROR(INDEX(Přehled_body!$E$3:$ED$130,MATCH(Tabulka!$AI37,Přehled_body!$A$3:$A$130,0),MATCH(Tabulka!T$2,Přehled_body!$E$1:$ED$1,0)),)=0,0.00000000001,IFERROR(INDEX(Přehled_body!$E$3:$ED$130,MATCH(Tabulka!$AI37,Přehled_body!$A$3:$A$130,0),MATCH(Tabulka!T$2,Přehled_body!$E$1:$ED$1,0)),)))","v":1},{"$f":"IF(IFERROR(INDEX(Přehled_body!$E$3:$ED$130,MATCH(Tabulka!$AI37,Přehled_body!$A$3:$A$130,0),MATCH(Tabulka!U$2,Přehled_body!$E$1:$ED$1,0)),)=\"\",,IF(IFERROR(INDEX(Přehled_body!$E$3:$ED$130,MATCH(Tabulka!$AI37,Přehled_body!$A$3:$A$130,0),MATCH(Tabulka!U$2,Přehled_body!$E$1:$ED$1,0)),)=0,0.00000000001,IFERROR(INDEX(Přehled_body!$E$3:$ED$130,MATCH(Tabulka!$AI37,Přehled_body!$A$3:$A$130,0),MATCH(Tabulka!U$2,Přehled_body!$E$1:$ED$1,0)),)))","v":0},{"$f":"IF(IFERROR(INDEX(Přehled_body!$E$3:$ED$130,MATCH(Tabulka!$AI37,Přehled_body!$A$3:$A$130,0),MATCH(Tabulka!V$2,Přehled_body!$E$1:$ED$1,0)),)=\"\",,IF(IFERROR(INDEX(Přehled_body!$E$3:$ED$130,MATCH(Tabulka!$AI37,Přehled_body!$A$3:$A$130,0),MATCH(Tabulka!V$2,Přehled_body!$E$1:$ED$1,0)),)=0,0.00000000001,IFERROR(INDEX(Přehled_body!$E$3:$ED$130,MATCH(Tabulka!$AI37,Přehled_body!$A$3:$A$130,0),MATCH(Tabulka!V$2,Přehled_body!$E$1:$ED$1,0)),)))","v":0},{"$f":"IF(IFERROR(INDEX(Přehled_body!$E$3:$ED$130,MATCH(Tabulka!$AI37,Přehled_body!$A$3:$A$130,0),MATCH(Tabulka!W$2,Přehled_body!$E$1:$ED$1,0)),)=\"\",,IF(IFERROR(INDEX(Přehled_body!$E$3:$ED$130,MATCH(Tabulka!$AI37,Přehled_body!$A$3:$A$130,0),MATCH(Tabulka!W$2,Přehled_body!$E$1:$ED$1,0)),)=0,0.00000000001,IFERROR(INDEX(Přehled_body!$E$3:$ED$130,MATCH(Tabulka!$AI37,Přehled_body!$A$3:$A$130,0),MATCH(Tabulka!W$2,Přehled_body!$E$1:$ED$1,0)),)))","v":0},{"$f":"IF(IFERROR(INDEX(Přehled_body!$E$3:$ED$130,MATCH(Tabulka!$AI37,Přehled_body!$A$3:$A$130,0),MATCH(Tabulka!X$2,Přehled_body!$E$1:$ED$1,0)),)=\"\",,IF(IFERROR(INDEX(Přehled_body!$E$3:$ED$130,MATCH(Tabulka!$AI37,Přehled_body!$A$3:$A$130,0),MATCH(Tabulka!X$2,Přehled_body!$E$1:$ED$1,0)),)=0,0.00000000001,IFERROR(INDEX(Přehled_body!$E$3:$ED$130,MATCH(Tabulka!$AI37,Přehled_body!$A$3:$A$130,0),MATCH(Tabulka!X$2,Přehled_body!$E$1:$ED$1,0)),)))","v":0},{"$f":"IF(IFERROR(INDEX(Přehled_body!$E$3:$ED$130,MATCH(Tabulka!$AI37,Přehled_body!$A$3:$A$130,0),MATCH(Tabulka!Y$2,Přehled_body!$E$1:$ED$1,0)),)=\"\",,IF(IFERROR(INDEX(Přehled_body!$E$3:$ED$130,MATCH(Tabulka!$AI37,Přehled_body!$A$3:$A$130,0),MATCH(Tabulka!Y$2,Přehled_body!$E$1:$ED$1,0)),)=0,0.00000000001,IFERROR(INDEX(Přehled_body!$E$3:$ED$130,MATCH(Tabulka!$AI37,Přehled_body!$A$3:$A$130,0),MATCH(Tabulka!Y$2,Přehled_body!$E$1:$ED$1,0)),)))","v":0},{"$f":"IF(IFERROR(INDEX(Přehled_body!$E$3:$ED$130,MATCH(Tabulka!$AI37,Přehled_body!$A$3:$A$130,0),MATCH(Tabulka!Z$2,Přehled_body!$E$1:$ED$1,0)),)=\"\",,IF(IFERROR(INDEX(Přehled_body!$E$3:$ED$130,MATCH(Tabulka!$AI37,Přehled_body!$A$3:$A$130,0),MATCH(Tabulka!Z$2,Přehled_body!$E$1:$ED$1,0)),)=0,0.00000000001,IFERROR(INDEX(Přehled_body!$E$3:$ED$130,MATCH(Tabulka!$AI37,Přehled_body!$A$3:$A$130,0),MATCH(Tabulka!Z$2,Přehled_body!$E$1:$ED$1,0)),)))","v":0},{"$f":"IF(IFERROR(INDEX(Přehled_body!$E$3:$ED$130,MATCH(Tabulka!$AI37,Přehled_body!$A$3:$A$130,0),MATCH(Tabulka!AA$2,Přehled_body!$E$1:$ED$1,0)),)=\"\",,IF(IFERROR(INDEX(Přehled_body!$E$3:$ED$130,MATCH(Tabulka!$AI37,Přehled_body!$A$3:$A$130,0),MATCH(Tabulka!AA$2,Přehled_body!$E$1:$ED$1,0)),)=0,0.00000000001,IFERROR(INDEX(Přehled_body!$E$3:$ED$130,MATCH(Tabulka!$AI37,Přehled_body!$A$3:$A$130,0),MATCH(Tabulka!AA$2,Přehled_body!$E$1:$ED$1,0)),)))","v":0},{"$f":"IF(IFERROR(INDEX(Přehled_body!$E$3:$ED$130,MATCH(Tabulka!$AI37,Přehled_body!$A$3:$A$130,0),MATCH(Tabulka!AB$2,Přehled_body!$E$1:$ED$1,0)),)=\"\",,IF(IFERROR(INDEX(Přehled_body!$E$3:$ED$130,MATCH(Tabulka!$AI37,Přehled_body!$A$3:$A$130,0),MATCH(Tabulka!AB$2,Přehled_body!$E$1:$ED$1,0)),)=0,0.00000000001,IFERROR(INDEX(Přehled_body!$E$3:$ED$130,MATCH(Tabulka!$AI37,Přehled_body!$A$3:$A$130,0),MATCH(Tabulka!AB$2,Přehled_body!$E$1:$ED$1,0)),)))","v":0},{"$f":"IF(IFERROR(INDEX(Přehled_body!$E$3:$ED$130,MATCH(Tabulka!$AI37,Přehled_body!$A$3:$A$130,0),MATCH(Tabulka!AC$2,Přehled_body!$E$1:$ED$1,0)),)=\"\",,IF(IFERROR(INDEX(Přehled_body!$E$3:$ED$130,MATCH(Tabulka!$AI37,Přehled_body!$A$3:$A$130,0),MATCH(Tabulka!AC$2,Přehled_body!$E$1:$ED$1,0)),)=0,0.00000000001,IFERROR(INDEX(Přehled_body!$E$3:$ED$130,MATCH(Tabulka!$AI37,Přehled_body!$A$3:$A$130,0),MATCH(Tabulka!AC$2,Přehled_body!$E$1:$ED$1,0)),)))","v":0},{"$f":"IF(IFERROR(INDEX(Přehled_body!$E$3:$ED$130,MATCH(Tabulka!$AI37,Přehled_body!$A$3:$A$130,0),MATCH(Tabulka!AD$2,Přehled_body!$E$1:$ED$1,0)),)=\"\",,IF(IFERROR(INDEX(Přehled_body!$E$3:$ED$130,MATCH(Tabulka!$AI37,Přehled_body!$A$3:$A$130,0),MATCH(Tabulka!AD$2,Přehled_body!$E$1:$ED$1,0)),)=0,0.00000000001,IFERROR(INDEX(Přehled_body!$E$3:$ED$130,MATCH(Tabulka!$AI37,Přehled_body!$A$3:$A$130,0),MATCH(Tabulka!AD$2,Přehled_body!$E$1:$ED$1,0)),)))","v":0},{"$f":"IF(SUM(AG34)<2,-90000+SUM(D37:AD37),SUM(D37:AD37))","v":11.0000000001},null,null,11.0000000001,{"$f":"CONCATENATE($B$35,\" \",$B$36,C37)","v":"Jiří BlínPřehozy"},null,null,17,null,null,null,{"$f":"CONCATENATE(AQ37,\" \",AQ36)","v":"Šedivý Kuba"},"Šedivý"]
[null,null,"Poč. kol",{"$f":"IF(IFERROR(INDEX(Přehled_body!$E$3:$ED$130,MATCH(Tabulka!$AI38,Přehled_body!$A$3:$A$130,0),MATCH(Tabulka!D$2,Přehled_body!$E$1:$ED$1,0)),)=\"\",,IF(IFERROR(INDEX(Přehled_body!$E$3:$ED$130,MATCH(Tabulka!$AI38,Přehled_body!$A$3:$A$130,0),MATCH(Tabulka!D$2,Přehled_body!$E$1:$ED$1,0)),)=0,0.00000000001,IFERROR(INDEX(Přehled_body!$E$3:$ED$130,MATCH(Tabulka!$AI38,Přehled_body!$A$3:$A$130,0),MATCH(Tabulka!D$2,Přehled_body!$E$1:$ED$1,0)),)))","v":4},{"$f":"IF(IFERROR(INDEX(Přehled_body!$E$3:$ED$130,MATCH(Tabulka!$AI38,Přehled_body!$A$3:$A$130,0),MATCH(Tabulka!E$2,Přehled_body!$E$1:$ED$1,0)),)=\"\",,IF(IFERROR(INDEX(Přehled_body!$E$3:$ED$130,MATCH(Tabulka!$AI38,Přehled_body!$A$3:$A$130,0),MATCH(Tabulka!E$2,Přehled_body!$E$1:$ED$1,0)),)=0,0.00000000001,IFERROR(INDEX(Přehled_body!$E$3:$ED$130,MATCH(Tabulka!$AI38,Přehled_body!$A$3:$A$130,0),MATCH(Tabulka!E$2,Přehled_body!$E$1:$ED$1,0)),)))","v":4},{"$f":"IF(IFERROR(INDEX(Přehled_body!$E$3:$ED$130,MATCH(Tabulka!$AI38,Přehled_body!$A$3:$A$130,0),MATCH(Tabulka!F$2,Přehled_body!$E$1:$ED$1,0)),)=\"\",,IF(IFERROR(INDEX(Přehled_body!$E$3:$ED$130,MATCH(Tabulka!$AI38,Přehled_body!$A$3:$A$130,0),MATCH(Tabulka!F$2,Přehled_body!$E$1:$ED$1,0)),)=0,0.00000000001,IFERROR(INDEX(Přehled_body!$E$3:$ED$130,MATCH(Tabulka!$AI38,Přehled_body!$A$3:$A$130,0),MATCH(Tabulka!F$2,Přehled_body!$E$1:$ED$1,0)),)))","v":4},{"$f":"IF(IFERROR(INDEX(Přehled_body!$E$3:$ED$130,MATCH(Tabulka!$AI38,Přehled_body!$A$3:$A$130,0),MATCH(Tabulka!G$2,Přehled_body!$E$1:$ED$1,0)),)=\"\",,IF(IFERROR(INDEX(Přehled_body!$E$3:$ED$130,MATCH(Tabulka!$AI38,Přehled_body!$A$3:$A$130,0),MATCH(Tabulka!G$2,Přehled_body!$E$1:$ED$1,0)),)=0,0.00000000001,IFERROR(INDEX(Přehled_body!$E$3:$ED$130,MATCH(Tabulka!$AI38,Přehled_body!$A$3:$A$130,0),MATCH(Tabulka!G$2,Přehled_body!$E$1:$ED$1,0)),)))","v":4},{"$f":"IF(IFERROR(INDEX(Přehled_body!$E$3:$ED$130,MATCH(Tabulka!$AI38,Přehled_body!$A$3:$A$130,0),MATCH(Tabulka!H$2,Přehled_body!$E$1:$ED$1,0)),)=\"\",,IF(IFERROR(INDEX(Přehled_body!$E$3:$ED$130,MATCH(Tabulka!$AI38,Přehled_body!$A$3:$A$130,0),MATCH(Tabulka!H$2,Přehled_body!$E$1:$ED$1,0)),)=0,0.00000000001,IFERROR(INDEX(Přehled_body!$E$3:$ED$130,MATCH(Tabulka!$AI38,Přehled_body!$A$3:$A$130,0),MATCH(Tabulka!H$2,Přehled_body!$E$1:$ED$1,0)),)))","v":4},{"$f":"IF(IFERROR(INDEX(Přehled_body!$E$3:$ED$130,MATCH(Tabulka!$AI38,Přehled_body!$A$3:$A$130,0),MATCH(Tabulka!I$2,Přehled_body!$E$1:$ED$1,0)),)=\"\",,IF(IFERROR(INDEX(Přehled_body!$E$3:$ED$130,MATCH(Tabulka!$AI38,Přehled_body!$A$3:$A$130,0),MATCH(Tabulka!I$2,Přehled_body!$E$1:$ED$1,0)),)=0,0.00000000001,IFERROR(INDEX(Přehled_body!$E$3:$ED$130,MATCH(Tabulka!$AI38,Přehled_body!$A$3:$A$130,0),MATCH(Tabulka!I$2,Přehled_body!$E$1:$ED$1,0)),)))","v":4},{"$f":"IF(IFERROR(INDEX(Přehled_body!$E$3:$ED$130,MATCH(Tabulka!$AI38,Přehled_body!$A$3:$A$130,0),MATCH(Tabulka!J$2,Přehled_body!$E$1:$ED$1,0)),)=\"\",,IF(IFERROR(INDEX(Přehled_body!$E$3:$ED$130,MATCH(Tabulka!$AI38,Přehled_body!$A$3:$A$130,0),MATCH(Tabulka!J$2,Přehled_body!$E$1:$ED$1,0)),)=0,0.00000000001,IFERROR(INDEX(Přehled_body!$E$3:$ED$130,MATCH(Tabulka!$AI38,Přehled_body!$A$3:$A$130,0),MATCH(Tabulka!J$2,Přehled_body!$E$1:$ED$1,0)),)))","v":4},{"$f":"IF(IFERROR(INDEX(Přehled_body!$E$3:$ED$130,MATCH(Tabulka!$AI38,Přehled_body!$A$3:$A$130,0),MATCH(Tabulka!K$2,Přehled_body!$E$1:$ED$1,0)),)=\"\",,IF(IFERROR(INDEX(Přehled_body!$E$3:$ED$130,MATCH(Tabulka!$AI38,Přehled_body!$A$3:$A$130,0),MATCH(Tabulka!K$2,Přehled_body!$E$1:$ED$1,0)),)=0,0.00000000001,IFERROR(INDEX(Přehled_body!$E$3:$ED$130,MATCH(Tabulka!$AI38,Přehled_body!$A$3:$A$130,0),MATCH(Tabulka!K$2,Přehled_body!$E$1:$ED$1,0)),)))","v":4},{"$f":"IF(IFERROR(INDEX(Přehled_body!$E$3:$ED$130,MATCH(Tabulka!$AI38,Přehled_body!$A$3:$A$130,0),MATCH(Tabulka!L$2,Přehled_body!$E$1:$ED$1,0)),)=\"\",,IF(IFERROR(INDEX(Přehled_body!$E$3:$ED$130,MATCH(Tabulka!$AI38,Přehled_body!$A$3:$A$130,0),MATCH(Tabulka!L$2,Přehled_body!$E$1:$ED$1,0)),)=0,0.00000000001,IFERROR(INDEX(Přehled_body!$E$3:$ED$130,MATCH(Tabulka!$AI38,Přehled_body!$A$3:$A$130,0),MATCH(Tabulka!L$2,Přehled_body!$E$1:$ED$1,0)),)))","v":3},{"$f":"IF(IFERROR(INDEX(Přehled_body!$E$3:$ED$130,MATCH(Tabulka!$AI38,Přehled_body!$A$3:$A$130,0),MATCH(Tabulka!M$2,Přehled_body!$E$1:$ED$1,0)),)=\"\",,IF(IFERROR(INDEX(Přehled_body!$E$3:$ED$130,MATCH(Tabulka!$AI38,Přehled_body!$A$3:$A$130,0),MATCH(Tabulka!M$2,Přehled_body!$E$1:$ED$1,0)),)=0,0.00000000001,IFERROR(INDEX(Přehled_body!$E$3:$ED$130,MATCH(Tabulka!$AI38,Přehled_body!$A$3:$A$130,0),MATCH(Tabulka!M$2,Přehled_body!$E$1:$ED$1,0)),)))","v":4},{"$f":"IF(IFERROR(INDEX(Přehled_body!$E$3:$ED$130,MATCH(Tabulka!$AI38,Přehled_body!$A$3:$A$130,0),MATCH(Tabulka!N$2,Přehled_body!$E$1:$ED$1,0)),)=\"\",,IF(IFERROR(INDEX(Přehled_body!$E$3:$ED$130,MATCH(Tabulka!$AI38,Přehled_body!$A$3:$A$130,0),MATCH(Tabulka!N$2,Přehled_body!$E$1:$ED$1,0)),)=0,0.00000000001,IFERROR(INDEX(Přehled_body!$E$3:$ED$130,MATCH(Tabulka!$AI38,Přehled_body!$A$3:$A$130,0),MATCH(Tabulka!N$2,Přehled_body!$E$1:$ED$1,0)),)))","v":5},{"$f":"IF(IFERROR(INDEX(Přehled_body!$E$3:$ED$130,MATCH(Tabulka!$AI38,Přehled_body!$A$3:$A$130,0),MATCH(Tabulka!O$2,Přehled_body!$E$1:$ED$1,0)),)=\"\",,IF(IFERROR(INDEX(Přehled_body!$E$3:$ED$130,MATCH(Tabulka!$AI38,Přehled_body!$A$3:$A$130,0),MATCH(Tabulka!O$2,Přehled_body!$E$1:$ED$1,0)),)=0,0.00000000001,IFERROR(INDEX(Přehled_body!$E$3:$ED$130,MATCH(Tabulka!$AI38,Přehled_body!$A$3:$A$130,0),MATCH(Tabulka!O$2,Přehled_body!$E$1:$ED$1,0)),)))","v":4},{"$f":"IF(IFERROR(INDEX(Přehled_body!$E$3:$ED$130,MATCH(Tabulka!$AI38,Přehled_body!$A$3:$A$130,0),MATCH(Tabulka!P$2,Přehled_body!$E$1:$ED$1,0)),)=\"\",,IF(IFERROR(INDEX(Přehled_body!$E$3:$ED$130,MATCH(Tabulka!$AI38,Přehled_body!$A$3:$A$130,0),MATCH(Tabulka!P$2,Přehled_body!$E$1:$ED$1,0)),)=0,0.00000000001,IFERROR(INDEX(Přehled_body!$E$3:$ED$130,MATCH(Tabulka!$AI38,Přehled_body!$A$3:$A$130,0),MATCH(Tabulka!P$2,Přehled_body!$E$1:$ED$1,0)),)))","v":4},{"$f":"IF(IFERROR(INDEX(Přehled_body!$E$3:$ED$130,MATCH(Tabulka!$AI38,Přehled_body!$A$3:$A$130,0),MATCH(Tabulka!Q$2,Přehled_body!$E$1:$ED$1,0)),)=\"\",,IF(IFERROR(INDEX(Přehled_body!$E$3:$ED$130,MATCH(Tabulka!$AI38,Přehled_body!$A$3:$A$130,0),MATCH(Tabulka!Q$2,Přehled_body!$E$1:$ED$1,0)),)=0,0.00000000001,IFERROR(INDEX(Přehled_body!$E$3:$ED$130,MATCH(Tabulka!$AI38,Přehled_body!$A$3:$A$130,0),MATCH(Tabulka!Q$2,Přehled_body!$E$1:$ED$1,0)),)))","v":5},{"$f":"IF(IFERROR(INDEX(Přehled_body!$E$3:$ED$130,MATCH(Tabulka!$AI38,Přehled_body!$A$3:$A$130,0),MATCH(Tabulka!R$2,Přehled_body!$E$1:$ED$1,0)),)=\"\",,IF(IFERROR(INDEX(Přehled_body!$E$3:$ED$130,MATCH(Tabulka!$AI38,Přehled_body!$A$3:$A$130,0),MATCH(Tabulka!R$2,Přehled_body!$E$1:$ED$1,0)),)=0,0.00000000001,IFERROR(INDEX(Přehled_body!$E$3:$ED$130,MATCH(Tabulka!$AI38,Přehled_body!$A$3:$A$130,0),MATCH(Tabulka!R$2,Přehled_body!$E$1:$ED$1,0)),)))","v":4},{"$f":"IF(IFERROR(INDEX(Přehled_body!$E$3:$ED$130,MATCH(Tabulka!$AI38,Přehled_body!$A$3:$A$130,0),MATCH(Tabulka!S$2,Přehled_body!$E$1:$ED$1,0)),)=\"\",,IF(IFERROR(INDEX(Přehled_body!$E$3:$ED$130,MATCH(Tabulka!$AI38,Přehled_body!$A$3:$A$130,0),MATCH(Tabulka!S$2,Přehled_body!$E$1:$ED$1,0)),)=0,0.00000000001,IFERROR(INDEX(Přehled_body!$E$3:$ED$130,MATCH(Tabulka!$AI38,Přehled_body!$A$3:$A$130,0),MATCH(Tabulka!S$2,Přehled_body!$E$1:$ED$1,0)),)))","v":4},{"$f":"IF(IFERROR(INDEX(Přehled_body!$E$3:$ED$130,MATCH(Tabulka!$AI38,Přehled_body!$A$3:$A$130,0),MATCH(Tabulka!T$2,Přehled_body!$E$1:$ED$1,0)),)=\"\",,IF(IFERROR(INDEX(Přehled_body!$E$3:$ED$130,MATCH(Tabulka!$AI38,Přehled_body!$A$3:$A$130,0),MATCH(Tabulka!T$2,Přehled_body!$E$1:$ED$1,0)),)=0,0.00000000001,IFERROR(INDEX(Přehled_body!$E$3:$ED$130,MATCH(Tabulka!$AI38,Přehled_body!$A$3:$A$130,0),MATCH(Tabulka!T$2,Přehled_body!$E$1:$ED$1,0)),)))","v":4},{"$f":"IF(IFERROR(INDEX(Přehled_body!$E$3:$ED$130,MATCH(Tabulka!$AI38,Přehled_body!$A$3:$A$130,0),MATCH(Tabulka!U$2,Přehled_body!$E$1:$ED$1,0)),)=\"\",,IF(IFERROR(INDEX(Přehled_body!$E$3:$ED$130,MATCH(Tabulka!$AI38,Přehled_body!$A$3:$A$130,0),MATCH(Tabulka!U$2,Přehled_body!$E$1:$ED$1,0)),)=0,0.00000000001,IFERROR(INDEX(Přehled_body!$E$3:$ED$130,MATCH(Tabulka!$AI38,Přehled_body!$A$3:$A$130,0),MATCH(Tabulka!U$2,Přehled_body!$E$1:$ED$1,0)),)))","v":0},{"$f":"IF(IFERROR(INDEX(Přehled_body!$E$3:$ED$130,MATCH(Tabulka!$AI38,Přehled_body!$A$3:$A$130,0),MATCH(Tabulka!V$2,Přehled_body!$E$1:$ED$1,0)),)=\"\",,IF(IFERROR(INDEX(Přehled_body!$E$3:$ED$130,MATCH(Tabulka!$AI38,Přehled_body!$A$3:$A$130,0),MATCH(Tabulka!V$2,Přehled_body!$E$1:$ED$1,0)),)=0,0.00000000001,IFERROR(INDEX(Přehled_body!$E$3:$ED$130,MATCH(Tabulka!$AI38,Přehled_body!$A$3:$A$130,0),MATCH(Tabulka!V$2,Přehled_body!$E$1:$ED$1,0)),)))","v":0},{"$f":"IF(IFERROR(INDEX(Přehled_body!$E$3:$ED$130,MATCH(Tabulka!$AI38,Přehled_body!$A$3:$A$130,0),MATCH(Tabulka!W$2,Přehled_body!$E$1:$ED$1,0)),)=\"\",,IF(IFERROR(INDEX(Přehled_body!$E$3:$ED$130,MATCH(Tabulka!$AI38,Přehled_body!$A$3:$A$130,0),MATCH(Tabulka!W$2,Přehled_body!$E$1:$ED$1,0)),)=0,0.00000000001,IFERROR(INDEX(Přehled_body!$E$3:$ED$130,MATCH(Tabulka!$AI38,Přehled_body!$A$3:$A$130,0),MATCH(Tabulka!W$2,Přehled_body!$E$1:$ED$1,0)),)))","v":0},{"$f":"IF(IFERROR(INDEX(Přehled_body!$E$3:$ED$130,MATCH(Tabulka!$AI38,Přehled_body!$A$3:$A$130,0),MATCH(Tabulka!X$2,Přehled_body!$E$1:$ED$1,0)),)=\"\",,IF(IFERROR(INDEX(Přehled_body!$E$3:$ED$130,MATCH(Tabulka!$AI38,Přehled_body!$A$3:$A$130,0),MATCH(Tabulka!X$2,Přehled_body!$E$1:$ED$1,0)),)=0,0.00000000001,IFERROR(INDEX(Přehled_body!$E$3:$ED$130,MATCH(Tabulka!$AI38,Přehled_body!$A$3:$A$130,0),MATCH(Tabulka!X$2,Přehled_body!$E$1:$ED$1,0)),)))","v":0},{"$f":"IF(IFERROR(INDEX(Přehled_body!$E$3:$ED$130,MATCH(Tabulka!$AI38,Přehled_body!$A$3:$A$130,0),MATCH(Tabulka!Y$2,Přehled_body!$E$1:$ED$1,0)),)=\"\",,IF(IFERROR(INDEX(Přehled_body!$E$3:$ED$130,MATCH(Tabulka!$AI38,Přehled_body!$A$3:$A$130,0),MATCH(Tabulka!Y$2,Přehled_body!$E$1:$ED$1,0)),)=0,0.00000000001,IFERROR(INDEX(Přehled_body!$E$3:$ED$130,MATCH(Tabulka!$AI38,Přehled_body!$A$3:$A$130,0),MATCH(Tabulka!Y$2,Přehled_body!$E$1:$ED$1,0)),)))","v":0},{"$f":"IF(IFERROR(INDEX(Přehled_body!$E$3:$ED$130,MATCH(Tabulka!$AI38,Přehled_body!$A$3:$A$130,0),MATCH(Tabulka!Z$2,Přehled_body!$E$1:$ED$1,0)),)=\"\",,IF(IFERROR(INDEX(Přehled_body!$E$3:$ED$130,MATCH(Tabulka!$AI38,Přehled_body!$A$3:$A$130,0),MATCH(Tabulka!Z$2,Přehled_body!$E$1:$ED$1,0)),)=0,0.00000000001,IFERROR(INDEX(Přehled_body!$E$3:$ED$130,MATCH(Tabulka!$AI38,Přehled_body!$A$3:$A$130,0),MATCH(Tabulka!Z$2,Přehled_body!$E$1:$ED$1,0)),)))","v":0},{"$f":"IF(IFERROR(INDEX(Přehled_body!$E$3:$ED$130,MATCH(Tabulka!$AI38,Přehled_body!$A$3:$A$130,0),MATCH(Tabulka!AA$2,Přehled_body!$E$1:$ED$1,0)),)=\"\",,IF(IFERROR(INDEX(Přehled_body!$E$3:$ED$130,MATCH(Tabulka!$AI38,Přehled_body!$A$3:$A$130,0),MATCH(Tabulka!AA$2,Přehled_body!$E$1:$ED$1,0)),)=0,0.00000000001,IFERROR(INDEX(Přehled_body!$E$3:$ED$130,MATCH(Tabulka!$AI38,Přehled_body!$A$3:$A$130,0),MATCH(Tabulka!AA$2,Přehled_body!$E$1:$ED$1,0)),)))","v":0},{"$f":"IF(IFERROR(INDEX(Přehled_body!$E$3:$ED$130,MATCH(Tabulka!$AI38,Přehled_body!$A$3:$A$130,0),MATCH(Tabulka!AB$2,Přehled_body!$E$1:$ED$1,0)),)=\"\",,IF(IFERROR(INDEX(Přehled_body!$E$3:$ED$130,MATCH(Tabulka!$AI38,Přehled_body!$A$3:$A$130,0),MATCH(Tabulka!AB$2,Přehled_body!$E$1:$ED$1,0)),)=0,0.00000000001,IFERROR(INDEX(Přehled_body!$E$3:$ED$130,MATCH(Tabulka!$AI38,Přehled_body!$A$3:$A$130,0),MATCH(Tabulka!AB$2,Přehled_body!$E$1:$ED$1,0)),)))","v":0},{"$f":"IF(IFERROR(INDEX(Přehled_body!$E$3:$ED$130,MATCH(Tabulka!$AI38,Přehled_body!$A$3:$A$130,0),MATCH(Tabulka!AC$2,Přehled_body!$E$1:$ED$1,0)),)=\"\",,IF(IFERROR(INDEX(Přehled_body!$E$3:$ED$130,MATCH(Tabulka!$AI38,Přehled_body!$A$3:$A$130,0),MATCH(Tabulka!AC$2,Přehled_body!$E$1:$ED$1,0)),)=0,0.00000000001,IFERROR(INDEX(Přehled_body!$E$3:$ED$130,MATCH(Tabulka!$AI38,Přehled_body!$A$3:$A$130,0),MATCH(Tabulka!AC$2,Přehled_body!$E$1:$ED$1,0)),)))","v":0},{"$f":"IF(IFERROR(INDEX(Přehled_body!$E$3:$ED$130,MATCH(Tabulka!$AI38,Přehled_body!$A$3:$A$130,0),MATCH(Tabulka!AD$2,Přehled_body!$E$1:$ED$1,0)),)=\"\",,IF(IFERROR(INDEX(Přehled_body!$E$3:$ED$130,MATCH(Tabulka!$AI38,Přehled_body!$A$3:$A$130,0),MATCH(Tabulka!AD$2,Přehled_body!$E$1:$ED$1,0)),)=0,0.00000000001,IFERROR(INDEX(Přehled_body!$E$3:$ED$130,MATCH(Tabulka!$AI38,Přehled_body!$A$3:$A$130,0),MATCH(Tabulka!AD$2,Přehled_body!$E$1:$ED$1,0)),)))","v":0},{"$f":"IF(SUM(AG34)<2,-90000+SUM(D38:AD38),SUM(D38:AD38))","v":69},null,null,69,{"$f":"CONCATENATE($B$35,\" \",$B$36,C38)","v":"Jiří BlínPoč. kol"},null,null,17]
[8,null,"Výhry",{"$f":"IF(IFERROR(INDEX(Přehled_body!$E$3:$ED$130,MATCH(Tabulka!$AI39,Přehled_body!$A$3:$A$130,0),MATCH(Tabulka!D$2,Přehled_body!$E$1:$ED$1,0)),)=\"\",,IF(IFERROR(INDEX(Přehled_body!$E$3:$ED$130,MATCH(Tabulka!$AI39,Přehled_body!$A$3:$A$130,0),MATCH(Tabulka!D$2,Přehled_body!$E$1:$ED$1,0)),)=0,0.00000000001,IFERROR(INDEX(Přehled_body!$E$3:$ED$130,MATCH(Tabulka!$AI39,Přehled_body!$A$3:$A$130,0),MATCH(Tabulka!D$2,Přehled_body!$E$1:$ED$1,0)),)))","v":9.9999999999999994E-12},{"$f":"IF(IFERROR(INDEX(Přehled_body!$E$3:$ED$130,MATCH(Tabulka!$AI39,Přehled_body!$A$3:$A$130,0),MATCH(Tabulka!E$2,Přehled_body!$E$1:$ED$1,0)),)=\"\",,IF(IFERROR(INDEX(Přehled_body!$E$3:$ED$130,MATCH(Tabulka!$AI39,Přehled_body!$A$3:$A$130,0),MATCH(Tabulka!E$2,Přehled_body!$E$1:$ED$1,0)),)=0,0.00000000001,IFERROR(INDEX(Přehled_body!$E$3:$ED$130,MATCH(Tabulka!$AI39,Přehled_body!$A$3:$A$130,0),MATCH(Tabulka!E$2,Přehled_body!$E$1:$ED$1,0)),)))","v":0},{"$f":"IF(IFERROR(INDEX(Přehled_body!$E$3:$ED$130,MATCH(Tabulka!$AI39,Přehled_body!$A$3:$A$130,0),MATCH(Tabulka!F$2,Přehled_body!$E$1:$ED$1,0)),)=\"\",,IF(IFERROR(INDEX(Přehled_body!$E$3:$ED$130,MATCH(Tabulka!$AI39,Přehled_body!$A$3:$A$130,0),MATCH(Tabulka!F$2,Přehled_body!$E$1:$ED$1,0)),)=0,0.00000000001,IFERROR(INDEX(Přehled_body!$E$3:$ED$130,MATCH(Tabulka!$AI39,Přehled_body!$A$3:$A$130,0),MATCH(Tabulka!F$2,Přehled_body!$E$1:$ED$1,0)),)))","v":9.9999999999999994E-12},{"$f":"IF(IFERROR(INDEX(Přehled_body!$E$3:$ED$130,MATCH(Tabulka!$AI39,Přehled_body!$A$3:$A$130,0),MATCH(Tabulka!G$2,Přehled_body!$E$1:$ED$1,0)),)=\"\",,IF(IFERROR(INDEX(Přehled_body!$E$3:$ED$130,MATCH(Tabulka!$AI39,Přehled_body!$A$3:$A$130,0),MATCH(Tabulka!G$2,Přehled_body!$E$1:$ED$1,0)),)=0,0.00000000001,IFERROR(INDEX(Přehled_body!$E$3:$ED$130,MATCH(Tabulka!$AI39,Přehled_body!$A$3:$A$130,0),MATCH(Tabulka!G$2,Přehled_body!$E$1:$ED$1,0)),)))","v":9.9999999999999994E-12},{"$f":"IF(IFERROR(INDEX(Přehled_body!$E$3:$ED$130,MATCH(Tabulka!$AI39,Přehled_body!$A$3:$A$130,0),MATCH(Tabulka!H$2,Přehled_body!$E$1:$ED$1,0)),)=\"\",,IF(IFERROR(INDEX(Přehled_body!$E$3:$ED$130,MATCH(Tabulka!$AI39,Přehled_body!$A$3:$A$130,0),MATCH(Tabulka!H$2,Přehled_body!$E$1:$ED$1,0)),)=0,0.00000000001,IFERROR(INDEX(Přehled_body!$E$3:$ED$130,MATCH(Tabulka!$AI39,Přehled_body!$A$3:$A$130,0),MATCH(Tabulka!H$2,Přehled_body!$E$1:$ED$1,0)),)))","v":9.9999999999999994E-12},{"$f":"IF(IFERROR(INDEX(Přehled_body!$E$3:$ED$130,MATCH(Tabulka!$AI39,Přehled_body!$A$3:$A$130,0),MATCH(Tabulka!I$2,Přehled_body!$E$1:$ED$1,0)),)=\"\",,IF(IFERROR(INDEX(Přehled_body!$E$3:$ED$130,MATCH(Tabulka!$AI39,Přehled_body!$A$3:$A$130,0),MATCH(Tabulka!I$2,Přehled_body!$E$1:$ED$1,0)),)=0,0.00000000001,IFERROR(INDEX(Přehled_body!$E$3:$ED$130,MATCH(Tabulka!$AI39,Přehled_body!$A$3:$A$130,0),MATCH(Tabulka!I$2,Přehled_body!$E$1:$ED$1,0)),)))","v":0},{"$f":"IF(IFERROR(INDEX(Přehled_body!$E$3:$ED$130,MATCH(Tabulka!$AI39,Přehled_body!$A$3:$A$130,0),MATCH(Tabulka!J$2,Přehled_body!$E$1:$ED$1,0)),)=\"\",,IF(IFERROR(INDEX(Přehled_body!$E$3:$ED$130,MATCH(Tabulka!$AI39,Přehled_body!$A$3:$A$130,0),MATCH(Tabulka!J$2,Přehled_body!$E$1:$ED$1,0)),)=0,0.00000000001,IFERROR(INDEX(Přehled_body!$E$3:$ED$130,MATCH(Tabulka!$AI39,Přehled_body!$A$3:$A$130,0),MATCH(Tabulka!J$2,Přehled_body!$E$1:$ED$1,0)),)))","v":9.9999999999999994E-12},{"$f":"IF(IFERROR(INDEX(Přehled_body!$E$3:$ED$130,MATCH(Tabulka!$AI39,Přehled_body!$A$3:$A$130,0),MATCH(Tabulka!K$2,Přehled_body!$E$1:$ED$1,0)),)=\"\",,IF(IFERROR(INDEX(Přehled_body!$E$3:$ED$130,MATCH(Tabulka!$AI39,Přehled_body!$A$3:$A$130,0),MATCH(Tabulka!K$2,Přehled_body!$E$1:$ED$1,0)),)=0,0.00000000001,IFERROR(INDEX(Přehled_body!$E$3:$ED$130,MATCH(Tabulka!$AI39,Přehled_body!$A$3:$A$130,0),MATCH(Tabulka!K$2,Přehled_body!$E$1:$ED$1,0)),)))","v":9.9999999999999994E-12},{"$f":"IF(IFERROR(INDEX(Přehled_body!$E$3:$ED$130,MATCH(Tabulka!$AI39,Přehled_body!$A$3:$A$130,0),MATCH(Tabulka!L$2,Přehled_body!$E$1:$ED$1,0)),)=\"\",,IF(IFERROR(INDEX(Přehled_body!$E$3:$ED$130,MATCH(Tabulka!$AI39,Přehled_body!$A$3:$A$130,0),MATCH(Tabulka!L$2,Přehled_body!$E$1:$ED$1,0)),)=0,0.00000000001,IFERROR(INDEX(Přehled_body!$E$3:$ED$130,MATCH(Tabulka!$AI39,Přehled_body!$A$3:$A$130,0),MATCH(Tabulka!L$2,Přehled_body!$E$1:$ED$1,0)),)))","v":9.9999999999999994E-12},{"$f":"IF(IFERROR(INDEX(Přehled_body!$E$3:$ED$130,MATCH(Tabulka!$AI39,Přehled_body!$A$3:$A$130,0),MATCH(Tabulka!M$2,Přehled_body!$E$1:$ED$1,0)),)=\"\",,IF(IFERROR(INDEX(Přehled_body!$E$3:$ED$130,MATCH(Tabulka!$AI39,Přehled_body!$A$3:$A$130,0),MATCH(Tabulka!M$2,Přehled_body!$E$1:$ED$1,0)),)=0,0.00000000001,IFERROR(INDEX(Přehled_body!$E$3:$ED$130,MATCH(Tabulka!$AI39,Přehled_body!$A$3:$A$130,0),MATCH(Tabulka!M$2,Přehled_body!$E$1:$ED$1,0)),)))","v":0},{"$f":"IF(IFERROR(INDEX(Přehled_body!$E$3:$ED$130,MATCH(Tabulka!$AI39,Přehled_body!$A$3:$A$130,0),MATCH(Tabulka!N$2,Přehled_body!$E$1:$ED$1,0)),)=\"\",,IF(IFERROR(INDEX(Přehled_body!$E$3:$ED$130,MATCH(Tabulka!$AI39,Přehled_body!$A$3:$A$130,0),MATCH(Tabulka!N$2,Přehled_body!$E$1:$ED$1,0)),)=0,0.00000000001,IFERROR(INDEX(Přehled_body!$E$3:$ED$130,MATCH(Tabulka!$AI39,Přehled_body!$A$3:$A$130,0),MATCH(Tabulka!N$2,Přehled_body!$E$1:$ED$1,0)),)))","v":0},{"$f":"IF(IFERROR(INDEX(Přehled_body!$E$3:$ED$130,MATCH(Tabulka!$AI39,Přehled_body!$A$3:$A$130,0),MATCH(Tabulka!O$2,Přehled_body!$E$1:$ED$1,0)),)=\"\",,IF(IFERROR(INDEX(Přehled_body!$E$3:$ED$130,MATCH(Tabulka!$AI39,Přehled_body!$A$3:$A$130,0),MATCH(Tabulka!O$2,Přehled_body!$E$1:$ED$1,0)),)=0,0.00000000001,IFERROR(INDEX(Přehled_body!$E$3:$ED$130,MATCH(Tabulka!$AI39,Přehled_body!$A$3:$A$130,0),MATCH(Tabulka!O$2,Přehled_body!$E$1:$ED$1,0)),)))","v":9.9999999999999994E-12},{"$f":"IF(IFERROR(INDEX(Přehled_body!$E$3:$ED$130,MATCH(Tabulka!$AI39,Přehled_body!$A$3:$A$130,0),MATCH(Tabulka!P$2,Přehled_body!$E$1:$ED$1,0)),)=\"\",,IF(IFERROR(INDEX(Přehled_body!$E$3:$ED$130,MATCH(Tabulka!$AI39,Přehled_body!$A$3:$A$130,0),MATCH(Tabulka!P$2,Přehled_body!$E$1:$ED$1,0)),)=0,0.00000000001,IFERROR(INDEX(Přehled_body!$E$3:$ED$130,MATCH(Tabulka!$AI39,Přehled_body!$A$3:$A$130,0),MATCH(Tabulka!P$2,Přehled_body!$E$1:$ED$1,0)),)))","v":9.9999999999999994E-12},{"$f":"IF(IFERROR(INDEX(Přehled_body!$E$3:$ED$130,MATCH(Tabulka!$AI39,Přehled_body!$A$3:$A$130,0),MATCH(Tabulka!Q$2,Přehled_body!$E$1:$ED$1,0)),)=\"\",,IF(IFERROR(INDEX(Přehled_body!$E$3:$ED$130,MATCH(Tabulka!$AI39,Přehled_body!$A$3:$A$130,0),MATCH(Tabulka!Q$2,Přehled_body!$E$1:$ED$1,0)),)=0,0.00000000001,IFERROR(INDEX(Přehled_body!$E$3:$ED$130,MATCH(Tabulka!$AI39,Přehled_body!$A$3:$A$130,0),MATCH(Tabulka!Q$2,Přehled_body!$E$1:$ED$1,0)),)))","v":0},{"$f":"IF(IFERROR(INDEX(Přehled_body!$E$3:$ED$130,MATCH(Tabulka!$AI39,Přehled_body!$A$3:$A$130,0),MATCH(Tabulka!R$2,Přehled_body!$E$1:$ED$1,0)),)=\"\",,IF(IFERROR(INDEX(Přehled_body!$E$3:$ED$130,MATCH(Tabulka!$AI39,Přehled_body!$A$3:$A$130,0),MATCH(Tabulka!R$2,Přehled_body!$E$1:$ED$1,0)),)=0,0.00000000001,IFERROR(INDEX(Přehled_body!$E$3:$ED$130,MATCH(Tabulka!$AI39,Přehled_body!$A$3:$A$130,0),MATCH(Tabulka!R$2,Přehled_body!$E$1:$ED$1,0)),)))","v":9.9999999999999994E-12},{"$f":"IF(IFERROR(INDEX(Přehled_body!$E$3:$ED$130,MATCH(Tabulka!$AI39,Přehled_body!$A$3:$A$130,0),MATCH(Tabulka!S$2,Přehled_body!$E$1:$ED$1,0)),)=\"\",,IF(IFERROR(INDEX(Přehled_body!$E$3:$ED$130,MATCH(Tabulka!$AI39,Přehled_body!$A$3:$A$130,0),MATCH(Tabulka!S$2,Přehled_body!$E$1:$ED$1,0)),)=0,0.00000000001,IFERROR(INDEX(Přehled_body!$E$3:$ED$130,MATCH(Tabulka!$AI39,Přehled_body!$A$3:$A$130,0),MATCH(Tabulka!S$2,Přehled_body!$E$1:$ED$1,0)),)))","v":0},{"$f":"IF(IFERROR(INDEX(Přehled_body!$E$3:$ED$130,MATCH(Tabulka!$AI39,Přehled_body!$A$3:$A$130,0),MATCH(Tabulka!T$2,Přehled_body!$E$1:$ED$1,0)),)=\"\",,IF(IFERROR(INDEX(Přehled_body!$E$3:$ED$130,MATCH(Tabulka!$AI39,Přehled_body!$A$3:$A$130,0),MATCH(Tabulka!T$2,Přehled_body!$E$1:$ED$1,0)),)=0,0.00000000001,IFERROR(INDEX(Přehled_body!$E$3:$ED$130,MATCH(Tabulka!$AI39,Přehled_body!$A$3:$A$130,0),MATCH(Tabulka!T$2,Přehled_body!$E$1:$ED$1,0)),)))","v":0},{"$f":"IF(IFERROR(INDEX(Přehled_body!$E$3:$ED$130,MATCH(Tabulka!$AI39,Přehled_body!$A$3:$A$130,0),MATCH(Tabulka!U$2,Přehled_body!$E$1:$ED$1,0)),)=\"\",,IF(IFERROR(INDEX(Přehled_body!$E$3:$ED$130,MATCH(Tabulka!$AI39,Přehled_body!$A$3:$A$130,0),MATCH(Tabulka!U$2,Přehled_body!$E$1:$ED$1,0)),)=0,0.00000000001,IFERROR(INDEX(Přehled_body!$E$3:$ED$130,MATCH(Tabulka!$AI39,Přehled_body!$A$3:$A$130,0),MATCH(Tabulka!U$2,Přehled_body!$E$1:$ED$1,0)),)))","v":0},{"$f":"IF(IFERROR(INDEX(Přehled_body!$E$3:$ED$130,MATCH(Tabulka!$AI39,Přehled_body!$A$3:$A$130,0),MATCH(Tabulka!V$2,Přehled_body!$E$1:$ED$1,0)),)=\"\",,IF(IFERROR(INDEX(Přehled_body!$E$3:$ED$130,MATCH(Tabulka!$AI39,Přehled_body!$A$3:$A$130,0),MATCH(Tabulka!V$2,Přehled_body!$E$1:$ED$1,0)),)=0,0.00000000001,IFERROR(INDEX(Přehled_body!$E$3:$ED$130,MATCH(Tabulka!$AI39,Přehled_body!$A$3:$A$130,0),MATCH(Tabulka!V$2,Přehled_body!$E$1:$ED$1,0)),)))","v":0},{"$f":"IF(IFERROR(INDEX(Přehled_body!$E$3:$ED$130,MATCH(Tabulka!$AI39,Přehled_body!$A$3:$A$130,0),MATCH(Tabulka!W$2,Přehled_body!$E$1:$ED$1,0)),)=\"\",,IF(IFERROR(INDEX(Přehled_body!$E$3:$ED$130,MATCH(Tabulka!$AI39,Přehled_body!$A$3:$A$130,0),MATCH(Tabulka!W$2,Přehled_body!$E$1:$ED$1,0)),)=0,0.00000000001,IFERROR(INDEX(Přehled_body!$E$3:$ED$130,MATCH(Tabulka!$AI39,Přehled_body!$A$3:$A$130,0),MATCH(Tabulka!W$2,Přehled_body!$E$1:$ED$1,0)),)))","v":0},{"$f":"IF(IFERROR(INDEX(Přehled_body!$E$3:$ED$130,MATCH(Tabulka!$AI39,Přehled_body!$A$3:$A$130,0),MATCH(Tabulka!X$2,Přehled_body!$E$1:$ED$1,0)),)=\"\",,IF(IFERROR(INDEX(Přehled_body!$E$3:$ED$130,MATCH(Tabulka!$AI39,Přehled_body!$A$3:$A$130,0),MATCH(Tabulka!X$2,Přehled_body!$E$1:$ED$1,0)),)=0,0.00000000001,IFERROR(INDEX(Přehled_body!$E$3:$ED$130,MATCH(Tabulka!$AI39,Přehled_body!$A$3:$A$130,0),MATCH(Tabulka!X$2,Přehled_body!$E$1:$ED$1,0)),)))","v":0},{"$f":"IF(IFERROR(INDEX(Přehled_body!$E$3:$ED$130,MATCH(Tabulka!$AI39,Přehled_body!$A$3:$A$130,0),MATCH(Tabulka!Y$2,Přehled_body!$E$1:$ED$1,0)),)=\"\",,IF(IFERROR(INDEX(Přehled_body!$E$3:$ED$130,MATCH(Tabulka!$AI39,Přehled_body!$A$3:$A$130,0),MATCH(Tabulka!Y$2,Přehled_body!$E$1:$ED$1,0)),)=0,0.00000000001,IFERROR(INDEX(Přehled_body!$E$3:$ED$130,MATCH(Tabulka!$AI39,Přehled_body!$A$3:$A$130,0),MATCH(Tabulka!Y$2,Přehled_body!$E$1:$ED$1,0)),)))","v":0},{"$f":"IF(IFERROR(INDEX(Přehled_body!$E$3:$ED$130,MATCH(Tabulka!$AI39,Přehled_body!$A$3:$A$130,0),MATCH(Tabulka!Z$2,Přehled_body!$E$1:$ED$1,0)),)=\"\",,IF(IFERROR(INDEX(Přehled_body!$E$3:$ED$130,MATCH(Tabulka!$AI39,Přehled_body!$A$3:$A$130,0),MATCH(Tabulka!Z$2,Přehled_body!$E$1:$ED$1,0)),)=0,0.00000000001,IFERROR(INDEX(Přehled_body!$E$3:$ED$130,MATCH(Tabulka!$AI39,Přehled_body!$A$3:$A$130,0),MATCH(Tabulka!Z$2,Přehled_body!$E$1:$ED$1,0)),)))","v":0},{"$f":"IF(IFERROR(INDEX(Přehled_body!$E$3:$ED$130,MATCH(Tabulka!$AI39,Přehled_body!$A$3:$A$130,0),MATCH(Tabulka!AA$2,Přehled_body!$E$1:$ED$1,0)),)=\"\",,IF(IFERROR(INDEX(Přehled_body!$E$3:$ED$130,MATCH(Tabulka!$AI39,Přehled_body!$A$3:$A$130,0),MATCH(Tabulka!AA$2,Přehled_body!$E$1:$ED$1,0)),)=0,0.00000000001,IFERROR(INDEX(Přehled_body!$E$3:$ED$130,MATCH(Tabulka!$AI39,Přehled_body!$A$3:$A$130,0),MATCH(Tabulka!AA$2,Přehled_body!$E$1:$ED$1,0)),)))","v":0},{"$f":"IF(IFERROR(INDEX(Přehled_body!$E$3:$ED$130,MATCH(Tabulka!$AI39,Přehled_body!$A$3:$A$130,0),MATCH(Tabulka!AB$2,Přehled_body!$E$1:$ED$1,0)),)=\"\",,IF(IFERROR(INDEX(Přehled_body!$E$3:$ED$130,MATCH(Tabulka!$AI39,Přehled_body!$A$3:$A$130,0),MATCH(Tabulka!AB$2,Přehled_body!$E$1:$ED$1,0)),)=0,0.00000000001,IFERROR(INDEX(Přehled_body!$E$3:$ED$130,MATCH(Tabulka!$AI39,Přehled_body!$A$3:$A$130,0),MATCH(Tabulka!AB$2,Přehled_body!$E$1:$ED$1,0)),)))","v":0},{"$f":"IF(IFERROR(INDEX(Přehled_body!$E$3:$ED$130,MATCH(Tabulka!$AI39,Přehled_body!$A$3:$A$130,0),MATCH(Tabulka!AC$2,Přehled_body!$E$1:$ED$1,0)),)=\"\",,IF(IFERROR(INDEX(Přehled_body!$E$3:$ED$130,MATCH(Tabulka!$AI39,Přehled_body!$A$3:$A$130,0),MATCH(Tabulka!AC$2,Přehled_body!$E$1:$ED$1,0)),)=0,0.00000000001,IFERROR(INDEX(Přehled_body!$E$3:$ED$130,MATCH(Tabulka!$AI39,Přehled_body!$A$3:$A$130,0),MATCH(Tabulka!AC$2,Přehled_body!$E$1:$ED$1,0)),)))","v":0},{"$f":"IF(IFERROR(INDEX(Přehled_body!$E$3:$ED$130,MATCH(Tabulka!$AI39,Přehled_body!$A$3:$A$130,0),MATCH(Tabulka!AD$2,Přehled_body!$E$1:$ED$1,0)),)=\"\",,IF(IFERROR(INDEX(Přehled_body!$E$3:$ED$130,MATCH(Tabulka!$AI39,Přehled_body!$A$3:$A$130,0),MATCH(Tabulka!AD$2,Přehled_body!$E$1:$ED$1,0)),)=0,0.00000000001,IFERROR(INDEX(Přehled_body!$E$3:$ED$130,MATCH(Tabulka!$AI39,Přehled_body!$A$3:$A$130,0),MATCH(Tabulka!AD$2,Přehled_body!$E$1:$ED$1,0)),)))","v":0},{"$f":"IF(SUM(AG39)<2,-90000+SUM(D39:AD39),SUM(D39:AD39))","v":1.0000000000000002E-10},null,{"$f":"COUNTIF(D39:AD39,\">0\")","v":10},1.0000000000000002E-10,{"$f":"CONCATENATE($B$40,\" \",$B$41,C39)","v":"Adam ŠmídVýhry"},null,null,10]
[{"$f":"CONCATENATE(B40,\" \",B41)","v":"Adam Šmíd"},"Adam","Prohry",{"$f":"IF(IFERROR(INDEX(Přehled_body!$E$3:$ED$130,MATCH(Tabulka!$AI40,Přehled_body!$A$3:$A$130,0),MATCH(Tabulka!D$2,Přehled_body!$E$1:$ED$1,0)),)=\"\",,IF(IFERROR(INDEX(Přehled_body!$E$3:$ED$130,MATCH(Tabulka!$AI40,Přehled_body!$A$3:$A$130,0),MATCH(Tabulka!D$2,Přehled_body!$E$1:$ED$1,0)),)=0,0.00000000001,IFERROR(INDEX(Přehled_body!$E$3:$ED$130,MATCH(Tabulka!$AI40,Přehled_body!$A$3:$A$130,0),MATCH(Tabulka!D$2,Přehled_body!$E$1:$ED$1,0)),)))","v":9.9999999999999994E-12},{"$f":"IF(IFERROR(INDEX(Přehled_body!$E$3:$ED$130,MATCH(Tabulka!$AI40,Přehled_body!$A$3:$A$130,0),MATCH(Tabulka!E$2,Přehled_body!$E$1:$ED$1,0)),)=\"\",,IF(IFERROR(INDEX(Přehled_body!$E$3:$ED$130,MATCH(Tabulka!$AI40,Přehled_body!$A$3:$A$130,0),MATCH(Tabulka!E$2,Přehled_body!$E$1:$ED$1,0)),)=0,0.00000000001,IFERROR(INDEX(Přehled_body!$E$3:$ED$130,MATCH(Tabulka!$AI40,Přehled_body!$A$3:$A$130,0),MATCH(Tabulka!E$2,Přehled_body!$E$1:$ED$1,0)),)))","v":0},{"$f":"IF(IFERROR(INDEX(Přehled_body!$E$3:$ED$130,MATCH(Tabulka!$AI40,Přehled_body!$A$3:$A$130,0),MATCH(Tabulka!F$2,Přehled_body!$E$1:$ED$1,0)),)=\"\",,IF(IFERROR(INDEX(Přehled_body!$E$3:$ED$130,MATCH(Tabulka!$AI40,Přehled_body!$A$3:$A$130,0),MATCH(Tabulka!F$2,Přehled_body!$E$1:$ED$1,0)),)=0,0.00000000001,IFERROR(INDEX(Přehled_body!$E$3:$ED$130,MATCH(Tabulka!$AI40,Přehled_body!$A$3:$A$130,0),MATCH(Tabulka!F$2,Přehled_body!$E$1:$ED$1,0)),)))","v":9.9999999999999994E-12},{"$f":"IF(IFERROR(INDEX(Přehled_body!$E$3:$ED$130,MATCH(Tabulka!$AI40,Přehled_body!$A$3:$A$130,0),MATCH(Tabulka!G$2,Přehled_body!$E$1:$ED$1,0)),)=\"\",,IF(IFERROR(INDEX(Přehled_body!$E$3:$ED$130,MATCH(Tabulka!$AI40,Přehled_body!$A$3:$A$130,0),MATCH(Tabulka!G$2,Přehled_body!$E$1:$ED$1,0)),)=0,0.00000000001,IFERROR(INDEX(Přehled_body!$E$3:$ED$130,MATCH(Tabulka!$AI40,Přehled_body!$A$3:$A$130,0),MATCH(Tabulka!G$2,Přehled_body!$E$1:$ED$1,0)),)))","v":1},{"$f":"IF(IFERROR(INDEX(Přehled_body!$E$3:$ED$130,MATCH(Tabulka!$AI40,Přehled_body!$A$3:$A$130,0),MATCH(Tabulka!H$2,Přehled_body!$E$1:$ED$1,0)),)=\"\",,IF(IFERROR(INDEX(Přehled_body!$E$3:$ED$130,MATCH(Tabulka!$AI40,Přehled_body!$A$3:$A$130,0),MATCH(Tabulka!H$2,Přehled_body!$E$1:$ED$1,0)),)=0,0.00000000001,IFERROR(INDEX(Přehled_body!$E$3:$ED$130,MATCH(Tabulka!$AI40,Přehled_body!$A$3:$A$130,0),MATCH(Tabulka!H$2,Přehled_body!$E$1:$ED$1,0)),)))","v":1},{"$f":"IF(IFERROR(INDEX(Přehled_body!$E$3:$ED$130,MATCH(Tabulka!$AI40,Přehled_body!$A$3:$A$130,0),MATCH(Tabulka!I$2,Přehled_body!$E$1:$ED$1,0)),)=\"\",,IF(IFERROR(INDEX(Přehled_body!$E$3:$ED$130,MATCH(Tabulka!$AI40,Přehled_body!$A$3:$A$130,0),MATCH(Tabulka!I$2,Přehled_body!$E$1:$ED$1,0)),)=0,0.00000000001,IFERROR(INDEX(Přehled_body!$E$3:$ED$130,MATCH(Tabulka!$AI40,Přehled_body!$A$3:$A$130,0),MATCH(Tabulka!I$2,Přehled_body!$E$1:$ED$1,0)),)))","v":0},{"$f":"IF(IFERROR(INDEX(Přehled_body!$E$3:$ED$130,MATCH(Tabulka!$AI40,Přehled_body!$A$3:$A$130,0),MATCH(Tabulka!J$2,Přehled_body!$E$1:$ED$1,0)),)=\"\",,IF(IFERROR(INDEX(Přehled_body!$E$3:$ED$130,MATCH(Tabulka!$AI40,Přehled_body!$A$3:$A$130,0),MATCH(Tabulka!J$2,Přehled_body!$E$1:$ED$1,0)),)=0,0.00000000001,IFERROR(INDEX(Přehled_body!$E$3:$ED$130,MATCH(Tabulka!$AI40,Přehled_body!$A$3:$A$130,0),MATCH(Tabulka!J$2,Přehled_body!$E$1:$ED$1,0)),)))","v":9.9999999999999994E-12},{"$f":"IF(IFERROR(INDEX(Přehled_body!$E$3:$ED$130,MATCH(Tabulka!$AI40,Přehled_body!$A$3:$A$130,0),MATCH(Tabulka!K$2,Přehled_body!$E$1:$ED$1,0)),)=\"\",,IF(IFERROR(INDEX(Přehled_body!$E$3:$ED$130,MATCH(Tabulka!$AI40,Přehled_body!$A$3:$A$130,0),MATCH(Tabulka!K$2,Přehled_body!$E$1:$ED$1,0)),)=0,0.00000000001,IFERROR(INDEX(Přehled_body!$E$3:$ED$130,MATCH(Tabulka!$AI40,Přehled_body!$A$3:$A$130,0),MATCH(Tabulka!K$2,Přehled_body!$E$1:$ED$1,0)),)))","v":1},{"$f":"IF(IFERROR(INDEX(Přehled_body!$E$3:$ED$130,MATCH(Tabulka!$AI40,Přehled_body!$A$3:$A$130,0),MATCH(Tabulka!L$2,Přehled_body!$E$1:$ED$1,0)),)=\"\",,IF(IFERROR(INDEX(Přehled_body!$E$3:$ED$130,MATCH(Tabulka!$AI40,Přehled_body!$A$3:$A$130,0),MATCH(Tabulka!L$2,Přehled_body!$E$1:$ED$1,0)),)=0,0.00000000001,IFERROR(INDEX(Přehled_body!$E$3:$ED$130,MATCH(Tabulka!$AI40,Přehled_body!$A$3:$A$130,0),MATCH(Tabulka!L$2,Přehled_body!$E$1:$ED$1,0)),)))","v":1},{"$f":"IF(IFERROR(INDEX(Přehled_body!$E$3:$ED$130,MATCH(Tabulka!$AI40,Přehled_body!$A$3:$A$130,0),MATCH(Tabulka!M$2,Přehled_body!$E$1:$ED$1,0)),)=\"\",,IF(IFERROR(INDEX(Přehled_body!$E$3:$ED$130,MATCH(Tabulka!$AI40,Přehled_body!$A$3:$A$130,0),MATCH(Tabulka!M$2,Přehled_body!$E$1:$ED$1,0)),)=0,0.00000000001,IFERROR(INDEX(Přehled_body!$E$3:$ED$130,MATCH(Tabulka!$AI40,Přehled_body!$A$3:$A$130,0),MATCH(Tabulka!M$2,Přehled_body!$E$1:$ED$1,0)),)))","v":0},{"$f":"IF(IFERROR(INDEX(Přehled_body!$E$3:$ED$130,MATCH(Tabulka!$AI40,Přehled_body!$A$3:$A$130,0),MATCH(Tabulka!N$2,Přehled_body!$E$1:$ED$1,0)),)=\"\",,IF(IFERROR(INDEX(Přehled_body!$E$3:$ED$130,MATCH(Tabulka!$AI40,Přehled_body!$A$3:$A$130,0),MATCH(Tabulka!N$2,Přehled_body!$E$1:$ED$1,0)),)=0,0.00000000001,IFERROR(INDEX(Přehled_body!$E$3:$ED$130,MATCH(Tabulka!$AI40,Přehled_body!$A$3:$A$130,0),MATCH(Tabulka!N$2,Přehled_body!$E$1:$ED$1,0)),)))","v":0},{"$f":"IF(IFERROR(INDEX(Přehled_body!$E$3:$ED$130,MATCH(Tabulka!$AI40,Přehled_body!$A$3:$A$130,0),MATCH(Tabulka!O$2,Přehled_body!$E$1:$ED$1,0)),)=\"\",,IF(IFERROR(INDEX(Přehled_body!$E$3:$ED$130,MATCH(Tabulka!$AI40,Přehled_body!$A$3:$A$130,0),MATCH(Tabulka!O$2,Přehled_body!$E$1:$ED$1,0)),)=0,0.00000000001,IFERROR(INDEX(Přehled_body!$E$3:$ED$130,MATCH(Tabulka!$AI40,Přehled_body!$A$3:$A$130,0),MATCH(Tabulka!O$2,Přehled_body!$E$1:$ED$1,0)),)))","v":9.9999999999999994E-12},{"$f":"IF(IFERROR(INDEX(Přehled_body!$E$3:$ED$130,MATCH(Tabulka!$AI40,Přehled_body!$A$3:$A$130,0),MATCH(Tabulka!P$2,Přehled_body!$E$1:$ED$1,0)),)=\"\",,IF(IFERROR(INDEX(Přehled_body!$E$3:$ED$130,MATCH(Tabulka!$AI40,Přehled_body!$A$3:$A$130,0),MATCH(Tabulka!P$2,Přehled_body!$E$1:$ED$1,0)),)=0,0.00000000001,IFERROR(INDEX(Přehled_body!$E$3:$ED$130,MATCH(Tabulka!$AI40,Přehled_body!$A$3:$A$130,0),MATCH(Tabulka!P$2,Přehled_body!$E$1:$ED$1,0)),)))","v":9.9999999999999994E-12},{"$f":"IF(IFERROR(INDEX(Přehled_body!$E$3:$ED$130,MATCH(Tabulka!$AI40,Přehled_body!$A$3:$A$130,0),MATCH(Tabulka!Q$2,Přehled_body!$E$1:$ED$1,0)),)=\"\",,IF(IFERROR(INDEX(Přehled_body!$E$3:$ED$130,MATCH(Tabulka!$AI40,Přehled_body!$A$3:$A$130,0),MATCH(Tabulka!Q$2,Přehled_body!$E$1:$ED$1,0)),)=0,0.00000000001,IFERROR(INDEX(Přehled_body!$E$3:$ED$130,MATCH(Tabulka!$AI40,Přehled_body!$A$3:$A$130,0),MATCH(Tabulka!Q$2,Přehled_body!$E$1:$ED$1,0)),)))","v":0},{"$f":"IF(IFERROR(INDEX(Přehled_body!$E$3:$ED$130,MATCH(Tabulka!$AI40,Přehled_body!$A$3:$A$130,0),MATCH(Tabulka!R$2,Přehled_body!$E$1:$ED$1,0)),)=\"\",,IF(IFERROR(INDEX(Přehled_body!$E$3:$ED$130,MATCH(Tabulka!$AI40,Přehled_body!$A$3:$A$130,0),MATCH(Tabulka!R$2,Přehled_body!$E$1:$ED$1,0)),)=0,0.00000000001,IFERROR(INDEX(Přehled_body!$E$3:$ED$130,MATCH(Tabulka!$AI40,Přehled_body!$A$3:$A$130,0),MATCH(Tabulka!R$2,Přehled_body!$E$1:$ED$1,0)),)))","v":3},{"$f":"IF(IFERROR(INDEX(Přehled_body!$E$3:$ED$130,MATCH(Tabulka!$AI40,Přehled_body!$A$3:$A$130,0),MATCH(Tabulka!S$2,Přehled_body!$E$1:$ED$1,0)),)=\"\",,IF(IFERROR(INDEX(Přehled_body!$E$3:$ED$130,MATCH(Tabulka!$AI40,Přehled_body!$A$3:$A$130,0),MATCH(Tabulka!S$2,Přehled_body!$E$1:$ED$1,0)),)=0,0.00000000001,IFERROR(INDEX(Přehled_body!$E$3:$ED$130,MATCH(Tabulka!$AI40,Přehled_body!$A$3:$A$130,0),MATCH(Tabulka!S$2,Přehled_body!$E$1:$ED$1,0)),)))","v":0},{"$f":"IF(IFERROR(INDEX(Přehled_body!$E$3:$ED$130,MATCH(Tabulka!$AI40,Přehled_body!$A$3:$A$130,0),MATCH(Tabulka!T$2,Přehled_body!$E$1:$ED$1,0)),)=\"\",,IF(IFERROR(INDEX(Přehled_body!$E$3:$ED$130,MATCH(Tabulka!$AI40,Přehled_body!$A$3:$A$130,0),MATCH(Tabulka!T$2,Přehled_body!$E$1:$ED$1,0)),)=0,0.00000000001,IFERROR(INDEX(Přehled_body!$E$3:$ED$130,MATCH(Tabulka!$AI40,Přehled_body!$A$3:$A$130,0),MATCH(Tabulka!T$2,Přehled_body!$E$1:$ED$1,0)),)))","v":0},{"$f":"IF(IFERROR(INDEX(Přehled_body!$E$3:$ED$130,MATCH(Tabulka!$AI40,Přehled_body!$A$3:$A$130,0),MATCH(Tabulka!U$2,Přehled_body!$E$1:$ED$1,0)),)=\"\",,IF(IFERROR(INDEX(Přehled_body!$E$3:$ED$130,MATCH(Tabulka!$AI40,Přehled_body!$A$3:$A$130,0),MATCH(Tabulka!U$2,Přehled_body!$E$1:$ED$1,0)),)=0,0.00000000001,IFERROR(INDEX(Přehled_body!$E$3:$ED$130,MATCH(Tabulka!$AI40,Přehled_body!$A$3:$A$130,0),MATCH(Tabulka!U$2,Přehled_body!$E$1:$ED$1,0)),)))","v":0},{"$f":"IF(IFERROR(INDEX(Přehled_body!$E$3:$ED$130,MATCH(Tabulka!$AI40,Přehled_body!$A$3:$A$130,0),MATCH(Tabulka!V$2,Přehled_body!$E$1:$ED$1,0)),)=\"\",,IF(IFERROR(INDEX(Přehled_body!$E$3:$ED$130,MATCH(Tabulka!$AI40,Přehled_body!$A$3:$A$130,0),MATCH(Tabulka!V$2,Přehled_body!$E$1:$ED$1,0)),)=0,0.00000000001,IFERROR(INDEX(Přehled_body!$E$3:$ED$130,MATCH(Tabulka!$AI40,Přehled_body!$A$3:$A$130,0),MATCH(Tabulka!V$2,Přehled_body!$E$1:$ED$1,0)),)))","v":0},{"$f":"IF(IFERROR(INDEX(Přehled_body!$E$3:$ED$130,MATCH(Tabulka!$AI40,Přehled_body!$A$3:$A$130,0),MATCH(Tabulka!W$2,Přehled_body!$E$1:$ED$1,0)),)=\"\",,IF(IFERROR(INDEX(Přehled_body!$E$3:$ED$130,MATCH(Tabulka!$AI40,Přehled_body!$A$3:$A$130,0),MATCH(Tabulka!W$2,Přehled_body!$E$1:$ED$1,0)),)=0,0.00000000001,IFERROR(INDEX(Přehled_body!$E$3:$ED$130,MATCH(Tabulka!$AI40,Přehled_body!$A$3:$A$130,0),MATCH(Tabulka!W$2,Přehled_body!$E$1:$ED$1,0)),)))","v":0},{"$f":"IF(IFERROR(INDEX(Přehled_body!$E$3:$ED$130,MATCH(Tabulka!$AI40,Přehled_body!$A$3:$A$130,0),MATCH(Tabulka!X$2,Přehled_body!$E$1:$ED$1,0)),)=\"\",,IF(IFERROR(INDEX(Přehled_body!$E$3:$ED$130,MATCH(Tabulka!$AI40,Přehled_body!$A$3:$A$130,0),MATCH(Tabulka!X$2,Přehled_body!$E$1:$ED$1,0)),)=0,0.00000000001,IFERROR(INDEX(Přehled_body!$E$3:$ED$130,MATCH(Tabulka!$AI40,Přehled_body!$A$3:$A$130,0),MATCH(Tabulka!X$2,Přehled_body!$E$1:$ED$1,0)),)))","v":0},{"$f":"IF(IFERROR(INDEX(Přehled_body!$E$3:$ED$130,MATCH(Tabulka!$AI40,Přehled_body!$A$3:$A$130,0),MATCH(Tabulka!Y$2,Přehled_body!$E$1:$ED$1,0)),)=\"\",,IF(IFERROR(INDEX(Přehled_body!$E$3:$ED$130,MATCH(Tabulka!$AI40,Přehled_body!$A$3:$A$130,0),MATCH(Tabulka!Y$2,Přehled_body!$E$1:$ED$1,0)),)=0,0.00000000001,IFERROR(INDEX(Přehled_body!$E$3:$ED$130,MATCH(Tabulka!$AI40,Přehled_body!$A$3:$A$130,0),MATCH(Tabulka!Y$2,Přehled_body!$E$1:$ED$1,0)),)))","v":0},{"$f":"IF(IFERROR(INDEX(Přehled_body!$E$3:$ED$130,MATCH(Tabulka!$AI40,Přehled_body!$A$3:$A$130,0),MATCH(Tabulka!Z$2,Přehled_body!$E$1:$ED$1,0)),)=\"\",,IF(IFERROR(INDEX(Přehled_body!$E$3:$ED$130,MATCH(Tabulka!$AI40,Přehled_body!$A$3:$A$130,0),MATCH(Tabulka!Z$2,Přehled_body!$E$1:$ED$1,0)),)=0,0.00000000001,IFERROR(INDEX(Přehled_body!$E$3:$ED$130,MATCH(Tabulka!$AI40,Přehled_body!$A$3:$A$130,0),MATCH(Tabulka!Z$2,Přehled_body!$E$1:$ED$1,0)),)))","v":0},{"$f":"IF(IFERROR(INDEX(Přehled_body!$E$3:$ED$130,MATCH(Tabulka!$AI40,Přehled_body!$A$3:$A$130,0),MATCH(Tabulka!AA$2,Přehled_body!$E$1:$ED$1,0)),)=\"\",,IF(IFERROR(INDEX(Přehled_body!$E$3:$ED$130,MATCH(Tabulka!$AI40,Přehled_body!$A$3:$A$130,0),MATCH(Tabulka!AA$2,Přehled_body!$E$1:$ED$1,0)),)=0,0.00000000001,IFERROR(INDEX(Přehled_body!$E$3:$ED$130,MATCH(Tabulka!$AI40,Přehled_body!$A$3:$A$130,0),MATCH(Tabulka!AA$2,Přehled_body!$E$1:$ED$1,0)),)))","v":0},{"$f":"IF(IFERROR(INDEX(Přehled_body!$E$3:$ED$130,MATCH(Tabulka!$AI40,Přehled_body!$A$3:$A$130,0),MATCH(Tabulka!AB$2,Přehled_body!$E$1:$ED$1,0)),)=\"\",,IF(IFERROR(INDEX(Přehled_body!$E$3:$ED$130,MATCH(Tabulka!$AI40,Přehled_body!$A$3:$A$130,0),MATCH(Tabulka!AB$2,Přehled_body!$E$1:$ED$1,0)),)=0,0.00000000001,IFERROR(INDEX(Přehled_body!$E$3:$ED$130,MATCH(Tabulka!$AI40,Přehled_body!$A$3:$A$130,0),MATCH(Tabulka!AB$2,Přehled_body!$E$1:$ED$1,0)),)))","v":0},{"$f":"IF(IFERROR(INDEX(Přehled_body!$E$3:$ED$130,MATCH(Tabulka!$AI40,Přehled_body!$A$3:$A$130,0),MATCH(Tabulka!AC$2,Přehled_body!$E$1:$ED$1,0)),)=\"\",,IF(IFERROR(INDEX(Přehled_body!$E$3:$ED$130,MATCH(Tabulka!$AI40,Přehled_body!$A$3:$A$130,0),MATCH(Tabulka!AC$2,Přehled_body!$E$1:$ED$1,0)),)=0,0.00000000001,IFERROR(INDEX(Přehled_body!$E$3:$ED$130,MATCH(Tabulka!$AI40,Přehled_body!$A$3:$A$130,0),MATCH(Tabulka!AC$2,Přehled_body!$E$1:$ED$1,0)),)))","v":0},{"$f":"IF(IFERROR(INDEX(Přehled_body!$E$3:$ED$130,MATCH(Tabulka!$AI40,Přehled_body!$A$3:$A$130,0),MATCH(Tabulka!AD$2,Přehled_body!$E$1:$ED$1,0)),)=\"\",,IF(IFERROR(INDEX(Přehled_body!$E$3:$ED$130,MATCH(Tabulka!$AI40,Přehled_body!$A$3:$A$130,0),MATCH(Tabulka!AD$2,Přehled_body!$E$1:$ED$1,0)),)=0,0.00000000001,IFERROR(INDEX(Přehled_body!$E$3:$ED$130,MATCH(Tabulka!$AI40,Přehled_body!$A$3:$A$130,0),MATCH(Tabulka!AD$2,Přehled_body!$E$1:$ED$1,0)),)))","v":0},{"$f":"IF(SUM(AG39)<2,-90000+SUM(D40:AD40),SUM(D40:AD40))","v":7.00000000005},{"$f":"SUM(AE39-AE40)","v":-6.99999999995},null,7.00000000005,{"$f":"CONCATENATE($B$40,\" \",$B$41,C40)","v":"Adam ŠmídProhry"},null,null,10,null,null,"Adam",8]
[{"$f":"CONCATENATE(B41,\" \",B40)","v":"Šmíd Adam"},"Šmíd","Placeno panáků",{"$f":"IF(IFERROR(INDEX(Přehled_body!$E$3:$ED$130,MATCH(Tabulka!$AI41,Přehled_body!$A$3:$A$130,0),MATCH(Tabulka!D$2,Přehled_body!$E$1:$ED$1,0)),)=\"\",,IF(IFERROR(INDEX(Přehled_body!$E$3:$ED$130,MATCH(Tabulka!$AI41,Přehled_body!$A$3:$A$130,0),MATCH(Tabulka!D$2,Přehled_body!$E$1:$ED$1,0)),)=0,0.00000000001,IFERROR(INDEX(Přehled_body!$E$3:$ED$130,MATCH(Tabulka!$AI41,Přehled_body!$A$3:$A$130,0),MATCH(Tabulka!D$2,Přehled_body!$E$1:$ED$1,0)),)))","v":9.9999999999999994E-12},{"$f":"IF(IFERROR(INDEX(Přehled_body!$E$3:$ED$130,MATCH(Tabulka!$AI41,Přehled_body!$A$3:$A$130,0),MATCH(Tabulka!E$2,Přehled_body!$E$1:$ED$1,0)),)=\"\",,IF(IFERROR(INDEX(Přehled_body!$E$3:$ED$130,MATCH(Tabulka!$AI41,Přehled_body!$A$3:$A$130,0),MATCH(Tabulka!E$2,Přehled_body!$E$1:$ED$1,0)),)=0,0.00000000001,IFERROR(INDEX(Přehled_body!$E$3:$ED$130,MATCH(Tabulka!$AI41,Přehled_body!$A$3:$A$130,0),MATCH(Tabulka!E$2,Přehled_body!$E$1:$ED$1,0)),)))","v":0},{"$f":"IF(IFERROR(INDEX(Přehled_body!$E$3:$ED$130,MATCH(Tabulka!$AI41,Přehled_body!$A$3:$A$130,0),MATCH(Tabulka!F$2,Přehled_body!$E$1:$ED$1,0)),)=\"\",,IF(IFERROR(INDEX(Přehled_body!$E$3:$ED$130,MATCH(Tabulka!$AI41,Přehled_body!$A$3:$A$130,0),MATCH(Tabulka!F$2,Přehled_body!$E$1:$ED$1,0)),)=0,0.00000000001,IFERROR(INDEX(Přehled_body!$E$3:$ED$130,MATCH(Tabulka!$AI41,Přehled_body!$A$3:$A$130,0),MATCH(Tabulka!F$2,Přehled_body!$E$1:$ED$1,0)),)))","v":5},{"$f":"IF(IFERROR(INDEX(Přehled_body!$E$3:$ED$130,MATCH(Tabulka!$AI41,Přehled_body!$A$3:$A$130,0),MATCH(Tabulka!G$2,Přehled_body!$E$1:$ED$1,0)),)=\"\",,IF(IFERROR(INDEX(Přehled_body!$E$3:$ED$130,MATCH(Tabulka!$AI41,Přehled_body!$A$3:$A$130,0),MATCH(Tabulka!G$2,Přehled_body!$E$1:$ED$1,0)),)=0,0.00000000001,IFERROR(INDEX(Přehled_body!$E$3:$ED$130,MATCH(Tabulka!$AI41,Přehled_body!$A$3:$A$130,0),MATCH(Tabulka!G$2,Přehled_body!$E$1:$ED$1,0)),)))","v":1},{"$f":"IF(IFERROR(INDEX(Přehled_body!$E$3:$ED$130,MATCH(Tabulka!$AI41,Přehled_body!$A$3:$A$130,0),MATCH(Tabulka!H$2,Přehled_body!$E$1:$ED$1,0)),)=\"\",,IF(IFERROR(INDEX(Přehled_body!$E$3:$ED$130,MATCH(Tabulka!$AI41,Přehled_body!$A$3:$A$130,0),MATCH(Tabulka!H$2,Přehled_body!$E$1:$ED$1,0)),)=0,0.00000000001,IFERROR(INDEX(Přehled_body!$E$3:$ED$130,MATCH(Tabulka!$AI41,Přehled_body!$A$3:$A$130,0),MATCH(Tabulka!H$2,Přehled_body!$E$1:$ED$1,0)),)))","v":1},{"$f":"IF(IFERROR(INDEX(Přehled_body!$E$3:$ED$130,MATCH(Tabulka!$AI41,Přehled_body!$A$3:$A$130,0),MATCH(Tabulka!I$2,Přehled_body!$E$1:$ED$1,0)),)=\"\",,IF(IFERROR(INDEX(Přehled_body!$E$3:$ED$130,MATCH(Tabulka!$AI41,Přehled_body!$A$3:$A$130,0),MATCH(Tabulka!I$2,Přehled_body!$E$1:$ED$1,0)),)=0,0.00000000001,IFERROR(INDEX(Přehled_body!$E$3:$ED$130,MATCH(Tabulka!$AI41,Přehled_body!$A$3:$A$130,0),MATCH(Tabulka!I$2,Přehled_body!$E$1:$ED$1,0)),)))","v":0},{"$f":"IF(IFERROR(INDEX(Přehled_body!$E$3:$ED$130,MATCH(Tabulka!$AI41,Přehled_body!$A$3:$A$130,0),MATCH(Tabulka!J$2,Přehled_body!$E$1:$ED$1,0)),)=\"\",,IF(IFERROR(INDEX(Přehled_body!$E$3:$ED$130,MATCH(Tabulka!$AI41,Přehled_body!$A$3:$A$130,0),MATCH(Tabulka!J$2,Přehled_body!$E$1:$ED$1,0)),)=0,0.00000000001,IFERROR(INDEX(Přehled_body!$E$3:$ED$130,MATCH(Tabulka!$AI41,Přehled_body!$A$3:$A$130,0),MATCH(Tabulka!J$2,Přehled_body!$E$1:$ED$1,0)),)))","v":9.9999999999999994E-12},{"$f":"IF(IFERROR(INDEX(Přehled_body!$E$3:$ED$130,MATCH(Tabulka!$AI41,Přehled_body!$A$3:$A$130,0),MATCH(Tabulka!K$2,Přehled_body!$E$1:$ED$1,0)),)=\"\",,IF(IFERROR(INDEX(Přehled_body!$E$3:$ED$130,MATCH(Tabulka!$AI41,Přehled_body!$A$3:$A$130,0),MATCH(Tabulka!K$2,Přehled_body!$E$1:$ED$1,0)),)=0,0.00000000001,IFERROR(INDEX(Přehled_body!$E$3:$ED$130,MATCH(Tabulka!$AI41,Přehled_body!$A$3:$A$130,0),MATCH(Tabulka!K$2,Přehled_body!$E$1:$ED$1,0)),)))","v":1},{"$f":"IF(IFERROR(INDEX(Přehled_body!$E$3:$ED$130,MATCH(Tabulka!$AI41,Přehled_body!$A$3:$A$130,0),MATCH(Tabulka!L$2,Přehled_body!$E$1:$ED$1,0)),)=\"\",,IF(IFERROR(INDEX(Přehled_body!$E$3:$ED$130,MATCH(Tabulka!$AI41,Přehled_body!$A$3:$A$130,0),MATCH(Tabulka!L$2,Přehled_body!$E$1:$ED$1,0)),)=0,0.00000000001,IFERROR(INDEX(Přehled_body!$E$3:$ED$130,MATCH(Tabulka!$AI41,Přehled_body!$A$3:$A$130,0),MATCH(Tabulka!L$2,Přehled_body!$E$1:$ED$1,0)),)))","v":2},{"$f":"IF(IFERROR(INDEX(Přehled_body!$E$3:$ED$130,MATCH(Tabulka!$AI41,Přehled_body!$A$3:$A$130,0),MATCH(Tabulka!M$2,Přehled_body!$E$1:$ED$1,0)),)=\"\",,IF(IFERROR(INDEX(Přehled_body!$E$3:$ED$130,MATCH(Tabulka!$AI41,Přehled_body!$A$3:$A$130,0),MATCH(Tabulka!M$2,Přehled_body!$E$1:$ED$1,0)),)=0,0.00000000001,IFERROR(INDEX(Přehled_body!$E$3:$ED$130,MATCH(Tabulka!$AI41,Přehled_body!$A$3:$A$130,0),MATCH(Tabulka!M$2,Přehled_body!$E$1:$ED$1,0)),)))","v":0},{"$f":"IF(IFERROR(INDEX(Přehled_body!$E$3:$ED$130,MATCH(Tabulka!$AI41,Přehled_body!$A$3:$A$130,0),MATCH(Tabulka!N$2,Přehled_body!$E$1:$ED$1,0)),)=\"\",,IF(IFERROR(INDEX(Přehled_body!$E$3:$ED$130,MATCH(Tabulka!$AI41,Přehled_body!$A$3:$A$130,0),MATCH(Tabulka!N$2,Přehled_body!$E$1:$ED$1,0)),)=0,0.00000000001,IFERROR(INDEX(Přehled_body!$E$3:$ED$130,MATCH(Tabulka!$AI41,Přehled_body!$A$3:$A$130,0),MATCH(Tabulka!N$2,Přehled_body!$E$1:$ED$1,0)),)))","v":0},{"$f":"IF(IFERROR(INDEX(Přehled_body!$E$3:$ED$130,MATCH(Tabulka!$AI41,Přehled_body!$A$3:$A$130,0),MATCH(Tabulka!O$2,Přehled_body!$E$1:$ED$1,0)),)=\"\",,IF(IFERROR(INDEX(Přehled_body!$E$3:$ED$130,MATCH(Tabulka!$AI41,Přehled_body!$A$3:$A$130,0),MATCH(Tabulka!O$2,Přehled_body!$E$1:$ED$1,0)),)=0,0.00000000001,IFERROR(INDEX(Přehled_body!$E$3:$ED$130,MATCH(Tabulka!$AI41,Přehled_body!$A$3:$A$130,0),MATCH(Tabulka!O$2,Přehled_body!$E$1:$ED$1,0)),)))","v":9.9999999999999994E-12},{"$f":"IF(IFERROR(INDEX(Přehled_body!$E$3:$ED$130,MATCH(Tabulka!$AI41,Přehled_body!$A$3:$A$130,0),MATCH(Tabulka!P$2,Přehled_body!$E$1:$ED$1,0)),)=\"\",,IF(IFERROR(INDEX(Přehled_body!$E$3:$ED$130,MATCH(Tabulka!$AI41,Přehled_body!$A$3:$A$130,0),MATCH(Tabulka!P$2,Přehled_body!$E$1:$ED$1,0)),)=0,0.00000000001,IFERROR(INDEX(Přehled_body!$E$3:$ED$130,MATCH(Tabulka!$AI41,Přehled_body!$A$3:$A$130,0),MATCH(Tabulka!P$2,Přehled_body!$E$1:$ED$1,0)),)))","v":9.9999999999999994E-12},{"$f":"IF(IFERROR(INDEX(Přehled_body!$E$3:$ED$130,MATCH(Tabulka!$AI41,Přehled_body!$A$3:$A$130,0),MATCH(Tabulka!Q$2,Přehled_body!$E$1:$ED$1,0)),)=\"\",,IF(IFERROR(INDEX(Přehled_body!$E$3:$ED$130,MATCH(Tabulka!$AI41,Přehled_body!$A$3:$A$130,0),MATCH(Tabulka!Q$2,Přehled_body!$E$1:$ED$1,0)),)=0,0.00000000001,IFERROR(INDEX(Přehled_body!$E$3:$ED$130,MATCH(Tabulka!$AI41,Přehled_body!$A$3:$A$130,0),MATCH(Tabulka!Q$2,Přehled_body!$E$1:$ED$1,0)),)))","v":0},{"$f":"IF(IFERROR(INDEX(Přehled_body!$E$3:$ED$130,MATCH(Tabulka!$AI41,Přehled_body!$A$3:$A$130,0),MATCH(Tabulka!R$2,Přehled_body!$E$1:$ED$1,0)),)=\"\",,IF(IFERROR(INDEX(Přehled_body!$E$3:$ED$130,MATCH(Tabulka!$AI41,Přehled_body!$A$3:$A$130,0),MATCH(Tabulka!R$2,Přehled_body!$E$1:$ED$1,0)),)=0,0.00000000001,IFERROR(INDEX(Přehled_body!$E$3:$ED$130,MATCH(Tabulka!$AI41,Přehled_body!$A$3:$A$130,0),MATCH(Tabulka!R$2,Přehled_body!$E$1:$ED$1,0)),)))","v":4},{"$f":"IF(IFERROR(INDEX(Přehled_body!$E$3:$ED$130,MATCH(Tabulka!$AI41,Přehled_body!$A$3:$A$130,0),MATCH(Tabulka!S$2,Přehled_body!$E$1:$ED$1,0)),)=\"\",,IF(IFERROR(INDEX(Přehled_body!$E$3:$ED$130,MATCH(Tabulka!$AI41,Přehled_body!$A$3:$A$130,0),MATCH(Tabulka!S$2,Přehled_body!$E$1:$ED$1,0)),)=0,0.00000000001,IFERROR(INDEX(Přehled_body!$E$3:$ED$130,MATCH(Tabulka!$AI41,Přehled_body!$A$3:$A$130,0),MATCH(Tabulka!S$2,Přehled_body!$E$1:$ED$1,0)),)))","v":0},{"$f":"IF(IFERROR(INDEX(Přehled_body!$E$3:$ED$130,MATCH(Tabulka!$AI41,Přehled_body!$A$3:$A$130,0),MATCH(Tabulka!T$2,Přehled_body!$E$1:$ED$1,0)),)=\"\",,IF(IFERROR(INDEX(Přehled_body!$E$3:$ED$130,MATCH(Tabulka!$AI41,Přehled_body!$A$3:$A$130,0),MATCH(Tabulka!T$2,Přehled_body!$E$1:$ED$1,0)),)=0,0.00000000001,IFERROR(INDEX(Přehled_body!$E$3:$ED$130,MATCH(Tabulka!$AI41,Přehled_body!$A$3:$A$130,0),MATCH(Tabulka!T$2,Přehled_body!$E$1:$ED$1,0)),)))","v":0},{"$f":"IF(IFERROR(INDEX(Přehled_body!$E$3:$ED$130,MATCH(Tabulka!$AI41,Přehled_body!$A$3:$A$130,0),MATCH(Tabulka!U$2,Přehled_body!$E$1:$ED$1,0)),)=\"\",,IF(IFERROR(INDEX(Přehled_body!$E$3:$ED$130,MATCH(Tabulka!$AI41,Přehled_body!$A$3:$A$130,0),MATCH(Tabulka!U$2,Přehled_body!$E$1:$ED$1,0)),)=0,0.00000000001,IFERROR(INDEX(Přehled_body!$E$3:$ED$130,MATCH(Tabulka!$AI41,Přehled_body!$A$3:$A$130,0),MATCH(Tabulka!U$2,Přehled_body!$E$1:$ED$1,0)),)))","v":0},{"$f":"IF(IFERROR(INDEX(Přehled_body!$E$3:$ED$130,MATCH(Tabulka!$AI41,Přehled_body!$A$3:$A$130,0),MATCH(Tabulka!V$2,Přehled_body!$E$1:$ED$1,0)),)=\"\",,IF(IFERROR(INDEX(Přehled_body!$E$3:$ED$130,MATCH(Tabulka!$AI41,Přehled_body!$A$3:$A$130,0),MATCH(Tabulka!V$2,Přehled_body!$E$1:$ED$1,0)),)=0,0.00000000001,IFERROR(INDEX(Přehled_body!$E$3:$ED$130,MATCH(Tabulka!$AI41,Přehled_body!$A$3:$A$130,0),MATCH(Tabulka!V$2,Přehled_body!$E$1:$ED$1,0)),)))","v":0},{"$f":"IF(IFERROR(INDEX(Přehled_body!$E$3:$ED$130,MATCH(Tabulka!$AI41,Přehled_body!$A$3:$A$130,0),MATCH(Tabulka!W$2,Přehled_body!$E$1:$ED$1,0)),)=\"\",,IF(IFERROR(INDEX(Přehled_body!$E$3:$ED$130,MATCH(Tabulka!$AI41,Přehled_body!$A$3:$A$130,0),MATCH(Tabulka!W$2,Přehled_body!$E$1:$ED$1,0)),)=0,0.00000000001,IFERROR(INDEX(Přehled_body!$E$3:$ED$130,MATCH(Tabulka!$AI41,Přehled_body!$A$3:$A$130,0),MATCH(Tabulka!W$2,Přehled_body!$E$1:$ED$1,0)),)))","v":0},{"$f":"IF(IFERROR(INDEX(Přehled_body!$E$3:$ED$130,MATCH(Tabulka!$AI41,Přehled_body!$A$3:$A$130,0),MATCH(Tabulka!X$2,Přehled_body!$E$1:$ED$1,0)),)=\"\",,IF(IFERROR(INDEX(Přehled_body!$E$3:$ED$130,MATCH(Tabulka!$AI41,Přehled_body!$A$3:$A$130,0),MATCH(Tabulka!X$2,Přehled_body!$E$1:$ED$1,0)),)=0,0.00000000001,IFERROR(INDEX(Přehled_body!$E$3:$ED$130,MATCH(Tabulka!$AI41,Přehled_body!$A$3:$A$130,0),MATCH(Tabulka!X$2,Přehled_body!$E$1:$ED$1,0)),)))","v":0},{"$f":"IF(IFERROR(INDEX(Přehled_body!$E$3:$ED$130,MATCH(Tabulka!$AI41,Přehled_body!$A$3:$A$130,0),MATCH(Tabulka!Y$2,Přehled_body!$E$1:$ED$1,0)),)=\"\",,IF(IFERROR(INDEX(Přehled_body!$E$3:$ED$130,MATCH(Tabulka!$AI41,Přehled_body!$A$3:$A$130,0),MATCH(Tabulka!Y$2,Přehled_body!$E$1:$ED$1,0)),)=0,0.00000000001,IFERROR(INDEX(Přehled_body!$E$3:$ED$130,MATCH(Tabulka!$AI41,Přehled_body!$A$3:$A$130,0),MATCH(Tabulka!Y$2,Přehled_body!$E$1:$ED$1,0)),)))","v":0},{"$f":"IF(IFERROR(INDEX(Přehled_body!$E$3:$ED$130,MATCH(Tabulka!$AI41,Přehled_body!$A$3:$A$130,0),MATCH(Tabulka!Z$2,Přehled_body!$E$1:$ED$1,0)),)=\"\",,IF(IFERROR(INDEX(Přehled_body!$E$3:$ED$130,MATCH(Tabulka!$AI41,Přehled_body!$A$3:$A$130,0),MATCH(Tabulka!Z$2,Přehled_body!$E$1:$ED$1,0)),)=0,0.00000000001,IFERROR(INDEX(Přehled_body!$E$3:$ED$130,MATCH(Tabulka!$AI41,Přehled_body!$A$3:$A$130,0),MATCH(Tabulka!Z$2,Přehled_body!$E$1:$ED$1,0)),)))","v":0},{"$f":"IF(IFERROR(INDEX(Přehled_body!$E$3:$ED$130,MATCH(Tabulka!$AI41,Přehled_body!$A$3:$A$130,0),MATCH(Tabulka!AA$2,Přehled_body!$E$1:$ED$1,0)),)=\"\",,IF(IFERROR(INDEX(Přehled_body!$E$3:$ED$130,MATCH(Tabulka!$AI41,Přehled_body!$A$3:$A$130,0),MATCH(Tabulka!AA$2,Přehled_body!$E$1:$ED$1,0)),)=0,0.00000000001,IFERROR(INDEX(Přehled_body!$E$3:$ED$130,MATCH(Tabulka!$AI41,Přehled_body!$A$3:$A$130,0),MATCH(Tabulka!AA$2,Přehled_body!$E$1:$ED$1,0)),)))","v":0},{"$f":"IF(IFERROR(INDEX(Přehled_body!$E$3:$ED$130,MATCH(Tabulka!$AI41,Přehled_body!$A$3:$A$130,0),MATCH(Tabulka!AB$2,Přehled_body!$E$1:$ED$1,0)),)=\"\",,IF(IFERROR(INDEX(Přehled_body!$E$3:$ED$130,MATCH(Tabulka!$AI41,Přehled_body!$A$3:$A$130,0),MATCH(Tabulka!AB$2,Přehled_body!$E$1:$ED$1,0)),)=0,0.00000000001,IFERROR(INDEX(Přehled_body!$E$3:$ED$130,MATCH(Tabulka!$AI41,Přehled_body!$A$3:$A$130,0),MATCH(Tabulka!AB$2,Přehled_body!$E$1:$ED$1,0)),)))","v":0},{"$f":"IF(IFERROR(INDEX(Přehled_body!$E$3:$ED$130,MATCH(Tabulka!$AI41,Přehled_body!$A$3:$A$130,0),MATCH(Tabulka!AC$2,Přehled_body!$E$1:$ED$1,0)),)=\"\",,IF(IFERROR(INDEX(Přehled_body!$E$3:$ED$130,MATCH(Tabulka!$AI41,Přehled_body!$A$3:$A$130,0),MATCH(Tabulka!AC$2,Přehled_body!$E$1:$ED$1,0)),)=0,0.00000000001,IFERROR(INDEX(Přehled_body!$E$3:$ED$130,MATCH(Tabulka!$AI41,Přehled_body!$A$3:$A$130,0),MATCH(Tabulka!AC$2,Přehled_body!$E$1:$ED$1,0)),)))","v":0},{"$f":"IF(IFERROR(INDEX(Přehled_body!$E$3:$ED$130,MATCH(Tabulka!$AI41,Přehled_body!$A$3:$A$130,0),MATCH(Tabulka!AD$2,Přehled_body!$E$1:$ED$1,0)),)=\"\",,IF(IFERROR(INDEX(Přehled_body!$E$3:$ED$130,MATCH(Tabulka!$AI41,Přehled_body!$A$3:$A$130,0),MATCH(Tabulka!AD$2,Přehled_body!$E$1:$ED$1,0)),)=0,0.00000000001,IFERROR(INDEX(Přehled_body!$E$3:$ED$130,MATCH(Tabulka!$AI41,Přehled_body!$A$3:$A$130,0),MATCH(Tabulka!AD$2,Přehled_body!$E$1:$ED$1,0)),)))","v":0},{"$f":"IF(SUM(AG39)<2,-90000+SUM(D41:AD41),SUM(D41:AD41))","v":14.000000000039998},null,null,{"$f":"SUM(D41:AD41)+INDEX(List4!$D$2:$F$17,MATCH(Tabulka!A40,List4!$D$2:$D$17,0),3)","v":14.000000141039997},{"$f":"CONCATENATE($B$40,\" \",$B$41,C41)","v":"Adam ŠmídPlaceno panáků"},null,null,10,null,null,"Šmíd",{"$f":"CONCATENATE(AQ41,\" \",AQ42)","v":"Standa Roth"},"Standa"]
[null,null,"Přehozy",{"$f":"IF(IFERROR(INDEX(Přehled_body!$E$3:$ED$130,MATCH(Tabulka!$AI42,Přehled_body!$A$3:$A$130,0),MATCH(Tabulka!D$2,Přehled_body!$E$1:$ED$1,0)),)=\"\",,IF(IFERROR(INDEX(Přehled_body!$E$3:$ED$130,MATCH(Tabulka!$AI42,Přehled_body!$A$3:$A$130,0),MATCH(Tabulka!D$2,Přehled_body!$E$1:$ED$1,0)),)=0,0.00000000001,IFERROR(INDEX(Přehled_body!$E$3:$ED$130,MATCH(Tabulka!$AI42,Přehled_body!$A$3:$A$130,0),MATCH(Tabulka!D$2,Přehled_body!$E$1:$ED$1,0)),)))","v":9.9999999999999994E-12},{"$f":"IF(IFERROR(INDEX(Přehled_body!$E$3:$ED$130,MATCH(Tabulka!$AI42,Přehled_body!$A$3:$A$130,0),MATCH(Tabulka!E$2,Přehled_body!$E$1:$ED$1,0)),)=\"\",,IF(IFERROR(INDEX(Přehled_body!$E$3:$ED$130,MATCH(Tabulka!$AI42,Přehled_body!$A$3:$A$130,0),MATCH(Tabulka!E$2,Přehled_body!$E$1:$ED$1,0)),)=0,0.00000000001,IFERROR(INDEX(Přehled_body!$E$3:$ED$130,MATCH(Tabulka!$AI42,Přehled_body!$A$3:$A$130,0),MATCH(Tabulka!E$2,Přehled_body!$E$1:$ED$1,0)),)))","v":0},{"$f":"IF(IFERROR(INDEX(Přehled_body!$E$3:$ED$130,MATCH(Tabulka!$AI42,Přehled_body!$A$3:$A$130,0),MATCH(Tabulka!F$2,Přehled_body!$E$1:$ED$1,0)),)=\"\",,IF(IFERROR(INDEX(Přehled_body!$E$3:$ED$130,MATCH(Tabulka!$AI42,Přehled_body!$A$3:$A$130,0),MATCH(Tabulka!F$2,Přehled_body!$E$1:$ED$1,0)),)=0,0.00000000001,IFERROR(INDEX(Přehled_body!$E$3:$ED$130,MATCH(Tabulka!$AI42,Přehled_body!$A$3:$A$130,0),MATCH(Tabulka!F$2,Přehled_body!$E$1:$ED$1,0)),)))","v":9.9999999999999994E-12},{"$f":"IF(IFERROR(INDEX(Přehled_body!$E$3:$ED$130,MATCH(Tabulka!$AI42,Přehled_body!$A$3:$A$130,0),MATCH(Tabulka!G$2,Přehled_body!$E$1:$ED$1,0)),)=\"\",,IF(IFERROR(INDEX(Přehled_body!$E$3:$ED$130,MATCH(Tabulka!$AI42,Přehled_body!$A$3:$A$130,0),MATCH(Tabulka!G$2,Přehled_body!$E$1:$ED$1,0)),)=0,0.00000000001,IFERROR(INDEX(Přehled_body!$E$3:$ED$130,MATCH(Tabulka!$AI42,Přehled_body!$A$3:$A$130,0),MATCH(Tabulka!G$2,Přehled_body!$E$1:$ED$1,0)),)))","v":9.9999999999999994E-12},{"$f":"IF(IFERROR(INDEX(Přehled_body!$E$3:$ED$130,MATCH(Tabulka!$AI42,Přehled_body!$A$3:$A$130,0),MATCH(Tabulka!H$2,Přehled_body!$E$1:$ED$1,0)),)=\"\",,IF(IFERROR(INDEX(Přehled_body!$E$3:$ED$130,MATCH(Tabulka!$AI42,Přehled_body!$A$3:$A$130,0),MATCH(Tabulka!H$2,Přehled_body!$E$1:$ED$1,0)),)=0,0.00000000001,IFERROR(INDEX(Přehled_body!$E$3:$ED$130,MATCH(Tabulka!$AI42,Přehled_body!$A$3:$A$130,0),MATCH(Tabulka!H$2,Přehled_body!$E$1:$ED$1,0)),)))","v":9.9999999999999994E-12},{"$f":"IF(IFERROR(INDEX(Přehled_body!$E$3:$ED$130,MATCH(Tabulka!$AI42,Přehled_body!$A$3:$A$130,0),MATCH(Tabulka!I$2,Přehled_body!$E$1:$ED$1,0)),)=\"\",,IF(IFERROR(INDEX(Přehled_body!$E$3:$ED$130,MATCH(Tabulka!$AI42,Přehled_body!$A$3:$A$130,0),MATCH(Tabulka!I$2,Přehled_body!$E$1:$ED$1,0)),)=0,0.00000000001,IFERROR(INDEX(Přehled_body!$E$3:$ED$130,MATCH(Tabulka!$AI42,Přehled_body!$A$3:$A$130,0),MATCH(Tabulka!I$2,Přehled_body!$E$1:$ED$1,0)),)))","v":0},{"$f":"IF(IFERROR(INDEX(Přehled_body!$E$3:$ED$130,MATCH(Tabulka!$AI42,Přehled_body!$A$3:$A$130,0),MATCH(Tabulka!J$2,Přehled_body!$E$1:$ED$1,0)),)=\"\",,IF(IFERROR(INDEX(Přehled_body!$E$3:$ED$130,MATCH(Tabulka!$AI42,Přehled_body!$A$3:$A$130,0),MATCH(Tabulka!J$2,Přehled_body!$E$1:$ED$1,0)),)=0,0.00000000001,IFERROR(INDEX(Přehled_body!$E$3:$ED$130,MATCH(Tabulka!$AI42,Přehled_body!$A$3:$A$130,0),MATCH(Tabulka!J$2,Přehled_body!$E$1:$ED$1,0)),)))","v":2},{"$f":"IF(IFERROR(INDEX(Přehled_body!$E$3:$ED$130,MATCH(Tabulka!$AI42,Přehled_body!$A$3:$A$130,0),MATCH(Tabulka!K$2,Přehled_body!$E$1:$ED$1,0)),)=\"\",,IF(IFERROR(INDEX(Přehled_body!$E$3:$ED$130,MATCH(Tabulka!$AI42,Přehled_body!$A$3:$A$130,0),MATCH(Tabulka!K$2,Přehled_body!$E$1:$ED$1,0)),)=0,0.00000000001,IFERROR(INDEX(Přehled_body!$E$3:$ED$130,MATCH(Tabulka!$AI42,Přehled_body!$A$3:$A$130,0),MATCH(Tabulka!K$2,Přehled_body!$E$1:$ED$1,0)),)))","v":9.9999999999999994E-12},{"$f":"IF(IFERROR(INDEX(Přehled_body!$E$3:$ED$130,MATCH(Tabulka!$AI42,Přehled_body!$A$3:$A$130,0),MATCH(Tabulka!L$2,Přehled_body!$E$1:$ED$1,0)),)=\"\",,IF(IFERROR(INDEX(Přehled_body!$E$3:$ED$130,MATCH(Tabulka!$AI42,Přehled_body!$A$3:$A$130,0),MATCH(Tabulka!L$2,Přehled_body!$E$1:$ED$1,0)),)=0,0.00000000001,IFERROR(INDEX(Přehled_body!$E$3:$ED$130,MATCH(Tabulka!$AI42,Přehled_body!$A$3:$A$130,0),MATCH(Tabulka!L$2,Přehled_body!$E$1:$ED$1,0)),)))","v":9.9999999999999994E-12},{"$f":"IF(IFERROR(INDEX(Přehled_body!$E$3:$ED$130,MATCH(Tabulka!$AI42,Přehled_body!$A$3:$A$130,0),MATCH(Tabulka!M$2,Přehled_body!$E$1:$ED$1,0)),)=\"\",,IF(IFERROR(INDEX(Přehled_body!$E$3:$ED$130,MATCH(Tabulka!$AI42,Přehled_body!$A$3:$A$130,0),MATCH(Tabulka!M$2,Přehled_body!$E$1:$ED$1,0)),)=0,0.00000000001,IFERROR(INDEX(Přehled_body!$E$3:$ED$130,MATCH(Tabulka!$AI42,Přehled_body!$A$3:$A$130,0),MATCH(Tabulka!M$2,Přehled_body!$E$1:$ED$1,0)),)))","v":0},{"$f":"IF(IFERROR(INDEX(Přehled_body!$E$3:$ED$130,MATCH(Tabulka!$AI42,Přehled_body!$A$3:$A$130,0),MATCH(Tabulka!N$2,Přehled_body!$E$1:$ED$1,0)),)=\"\",,IF(IFERROR(INDEX(Přehled_body!$E$3:$ED$130,MATCH(Tabulka!$AI42,Přehled_body!$A$3:$A$130,0),MATCH(Tabulka!N$2,Přehled_body!$E$1:$ED$1,0)),)=0,0.00000000001,IFERROR(INDEX(Přehled_body!$E$3:$ED$130,MATCH(Tabulka!$AI42,Přehled_body!$A$3:$A$130,0),MATCH(Tabulka!N$2,Přehled_body!$E$1:$ED$1,0)),)))","v":0},{"$f":"IF(IFERROR(INDEX(Přehled_body!$E$3:$ED$130,MATCH(Tabulka!$AI42,Přehled_body!$A$3:$A$130,0),MATCH(Tabulka!O$2,Přehled_body!$E$1:$ED$1,0)),)=\"\",,IF(IFERROR(INDEX(Přehled_body!$E$3:$ED$130,MATCH(Tabulka!$AI42,Přehled_body!$A$3:$A$130,0),MATCH(Tabulka!O$2,Přehled_body!$E$1:$ED$1,0)),)=0,0.00000000001,IFERROR(INDEX(Přehled_body!$E$3:$ED$130,MATCH(Tabulka!$AI42,Přehled_body!$A$3:$A$130,0),MATCH(Tabulka!O$2,Přehled_body!$E$1:$ED$1,0)),)))","v":9.9999999999999994E-12},{"$f":"IF(IFERROR(INDEX(Přehled_body!$E$3:$ED$130,MATCH(Tabulka!$AI42,Přehled_body!$A$3:$A$130,0),MATCH(Tabulka!P$2,Přehled_body!$E$1:$ED$1,0)),)=\"\",,IF(IFERROR(INDEX(Přehled_body!$E$3:$ED$130,MATCH(Tabulka!$AI42,Přehled_body!$A$3:$A$130,0),MATCH(Tabulka!P$2,Přehled_body!$E$1:$ED$1,0)),)=0,0.00000000001,IFERROR(INDEX(Přehled_body!$E$3:$ED$130,MATCH(Tabulka!$AI42,Přehled_body!$A$3:$A$130,0),MATCH(Tabulka!P$2,Přehled_body!$E$1:$ED$1,0)),)))","v":9.9999999999999994E-12},{"$f":"IF(IFERROR(INDEX(Přehled_body!$E$3:$ED$130,MATCH(Tabulka!$AI42,Přehled_body!$A$3:$A$130,0),MATCH(Tabulka!Q$2,Přehled_body!$E$1:$ED$1,0)),)=\"\",,IF(IFERROR(INDEX(Přehled_body!$E$3:$ED$130,MATCH(Tabulka!$AI42,Přehled_body!$A$3:$A$130,0),MATCH(Tabulka!Q$2,Přehled_body!$E$1:$ED$1,0)),)=0,0.00000000001,IFERROR(INDEX(Přehled_body!$E$3:$ED$130,MATCH(Tabulka!$AI42,Přehled_body!$A$3:$A$130,0),MATCH(Tabulka!Q$2,Přehled_body!$E$1:$ED$1,0)),)))","v":0},{"$f":"IF(IFERROR(INDEX(Přehled_body!$E$3:$ED$130,MATCH(Tabulka!$AI42,Přehled_body!$A$3:$A$130,0),MATCH(Tabulka!R$2,Přehled_body!$E$1:$ED$1,0)),)=\"\",,IF(IFERROR(INDEX(Přehled_body!$E$3:$ED$130,MATCH(Tabulka!$AI42,Přehled_body!$A$3:$A$130,0),MATCH(Tabulka!R$2,Přehled_body!$E$1:$ED$1,0)),)=0,0.00000000001,IFERROR(INDEX(Přehled_body!$E$3:$ED$130,MATCH(Tabulka!$AI42,Přehled_body!$A$3:$A$130,0),MATCH(Tabulka!R$2,Přehled_body!$E$1:$ED$1,0)),)))","v":9.9999999999999994E-12},{"$f":"IF(IFERROR(INDEX(Přehled_body!$E$3:$ED$130,MATCH(Tabulka!$AI42,Přehled_body!$A$3:$A$130,0),MATCH(Tabulka!S$2,Přehled_body!$E$1:$ED$1,0)),)=\"\",,IF(IFERROR(INDEX(Přehled_body!$E$3:$ED$130,MATCH(Tabulka!$AI42,Přehled_body!$A$3:$A$130,0),MATCH(Tabulka!S$2,Přehled_body!$E$1:$ED$1,0)),)=0,0.00000000001,IFERROR(INDEX(Přehled_body!$E$3:$ED$130,MATCH(Tabulka!$AI42,Přehled_body!$A$3:$A$130,0),MATCH(Tabulka!S$2,Přehled_body!$E$1:$ED$1,0)),)))","v":0},{"$f":"IF(IFERROR(INDEX(Přehled_body!$E$3:$ED$130,MATCH(Tabulka!$AI42,Přehled_body!$A$3:$A$130,0),MATCH(Tabulka!T$2,Přehled_body!$E$1:$ED$1,0)),)=\"\",,IF(IFERROR(INDEX(Přehled_body!$E$3:$ED$130,MATCH(Tabulka!$AI42,Přehled_body!$A$3:$A$130,0),MATCH(Tabulka!T$2,Přehled_body!$E$1:$ED$1,0)),)=0,0.00000000001,IFERROR(INDEX(Přehled_body!$E$3:$ED$130,MATCH(Tabulka!$AI42,Přehled_body!$A$3:$A$130,0),MATCH(Tabulka!T$2,Přehled_body!$E$1:$ED$1,0)),)))","v":0},{"$f":"IF(IFERROR(INDEX(Přehled_body!$E$3:$ED$130,MATCH(Tabulka!$AI42,Přehled_body!$A$3:$A$130,0),MATCH(Tabulka!U$2,Přehled_body!$E$1:$ED$1,0)),)=\"\",,IF(IFERROR(INDEX(Přehled_body!$E$3:$ED$130,MATCH(Tabulka!$AI42,Přehled_body!$A$3:$A$130,0),MATCH(Tabulka!U$2,Přehled_body!$E$1:$ED$1,0)),)=0,0.00000000001,IFERROR(INDEX(Přehled_body!$E$3:$ED$130,MATCH(Tabulka!$AI42,Přehled_body!$A$3:$A$130,0),MATCH(Tabulka!U$2,Přehled_body!$E$1:$ED$1,0)),)))","v":0},{"$f":"IF(IFERROR(INDEX(Přehled_body!$E$3:$ED$130,MATCH(Tabulka!$AI42,Přehled_body!$A$3:$A$130,0),MATCH(Tabulka!V$2,Přehled_body!$E$1:$ED$1,0)),)=\"\",,IF(IFERROR(INDEX(Přehled_body!$E$3:$ED$130,MATCH(Tabulka!$AI42,Přehled_body!$A$3:$A$130,0),MATCH(Tabulka!V$2,Přehled_body!$E$1:$ED$1,0)),)=0,0.00000000001,IFERROR(INDEX(Přehled_body!$E$3:$ED$130,MATCH(Tabulka!$AI42,Přehled_body!$A$3:$A$130,0),MATCH(Tabulka!V$2,Přehled_body!$E$1:$ED$1,0)),)))","v":0},{"$f":"IF(IFERROR(INDEX(Přehled_body!$E$3:$ED$130,MATCH(Tabulka!$AI42,Přehled_body!$A$3:$A$130,0),MATCH(Tabulka!W$2,Přehled_body!$E$1:$ED$1,0)),)=\"\",,IF(IFERROR(INDEX(Přehled_body!$E$3:$ED$130,MATCH(Tabulka!$AI42,Přehled_body!$A$3:$A$130,0),MATCH(Tabulka!W$2,Přehled_body!$E$1:$ED$1,0)),)=0,0.00000000001,IFERROR(INDEX(Přehled_body!$E$3:$ED$130,MATCH(Tabulka!$AI42,Přehled_body!$A$3:$A$130,0),MATCH(Tabulka!W$2,Přehled_body!$E$1:$ED$1,0)),)))","v":0},{"$f":"IF(IFERROR(INDEX(Přehled_body!$E$3:$ED$130,MATCH(Tabulka!$AI42,Přehled_body!$A$3:$A$130,0),MATCH(Tabulka!X$2,Přehled_body!$E$1:$ED$1,0)),)=\"\",,IF(IFERROR(INDEX(Přehled_body!$E$3:$ED$130,MATCH(Tabulka!$AI42,Přehled_body!$A$3:$A$130,0),MATCH(Tabulka!X$2,Přehled_body!$E$1:$ED$1,0)),)=0,0.00000000001,IFERROR(INDEX(Přehled_body!$E$3:$ED$130,MATCH(Tabulka!$AI42,Přehled_body!$A$3:$A$130,0),MATCH(Tabulka!X$2,Přehled_body!$E$1:$ED$1,0)),)))","v":0},{"$f":"IF(IFERROR(INDEX(Přehled_body!$E$3:$ED$130,MATCH(Tabulka!$AI42,Přehled_body!$A$3:$A$130,0),MATCH(Tabulka!Y$2,Přehled_body!$E$1:$ED$1,0)),)=\"\",,IF(IFERROR(INDEX(Přehled_body!$E$3:$ED$130,MATCH(Tabulka!$AI42,Přehled_body!$A$3:$A$130,0),MATCH(Tabulka!Y$2,Přehled_body!$E$1:$ED$1,0)),)=0,0.00000000001,IFERROR(INDEX(Přehled_body!$E$3:$ED$130,MATCH(Tabulka!$AI42,Přehled_body!$A$3:$A$130,0),MATCH(Tabulka!Y$2,Přehled_body!$E$1:$ED$1,0)),)))","v":0},{"$f":"IF(IFERROR(INDEX(Přehled_body!$E$3:$ED$130,MATCH(Tabulka!$AI42,Přehled_body!$A$3:$A$130,0),MATCH(Tabulka!Z$2,Přehled_body!$E$1:$ED$1,0)),)=\"\",,IF(IFERROR(INDEX(Přehled_body!$E$3:$ED$130,MATCH(Tabulka!$AI42,Přehled_body!$A$3:$A$130,0),MATCH(Tabulka!Z$2,Přehled_body!$E$1:$ED$1,0)),)=0,0.00000000001,IFERROR(INDEX(Přehled_body!$E$3:$ED$130,MATCH(Tabulka!$AI42,Přehled_body!$A$3:$A$130,0),MATCH(Tabulka!Z$2,Přehled_body!$E$1:$ED$1,0)),)))","v":0},{"$f":"IF(IFERROR(INDEX(Přehled_body!$E$3:$ED$130,MATCH(Tabulka!$AI42,Přehled_body!$A$3:$A$130,0),MATCH(Tabulka!AA$2,Přehled_body!$E$1:$ED$1,0)),)=\"\",,IF(IFERROR(INDEX(Přehled_body!$E$3:$ED$130,MATCH(Tabulka!$AI42,Přehled_body!$A$3:$A$130,0),MATCH(Tabulka!AA$2,Přehled_body!$E$1:$ED$1,0)),)=0,0.00000000001,IFERROR(INDEX(Přehled_body!$E$3:$ED$130,MATCH(Tabulka!$AI42,Přehled_body!$A$3:$A$130,0),MATCH(Tabulka!AA$2,Přehled_body!$E$1:$ED$1,0)),)))","v":0},{"$f":"IF(IFERROR(INDEX(Přehled_body!$E$3:$ED$130,MATCH(Tabulka!$AI42,Přehled_body!$A$3:$A$130,0),MATCH(Tabulka!AB$2,Přehled_body!$E$1:$ED$1,0)),)=\"\",,IF(IFERROR(INDEX(Přehled_body!$E$3:$ED$130,MATCH(Tabulka!$AI42,Přehled_body!$A$3:$A$130,0),MATCH(Tabulka!AB$2,Přehled_body!$E$1:$ED$1,0)),)=0,0.00000000001,IFERROR(INDEX(Přehled_body!$E$3:$ED$130,MATCH(Tabulka!$AI42,Přehled_body!$A$3:$A$130,0),MATCH(Tabulka!AB$2,Přehled_body!$E$1:$ED$1,0)),)))","v":0},{"$f":"IF(IFERROR(INDEX(Přehled_body!$E$3:$ED$130,MATCH(Tabulka!$AI42,Přehled_body!$A$3:$A$130,0),MATCH(Tabulka!AC$2,Přehled_body!$E$1:$ED$1,0)),)=\"\",,IF(IFERROR(INDEX(Přehled_body!$E$3:$ED$130,MATCH(Tabulka!$AI42,Přehled_body!$A$3:$A$130,0),MATCH(Tabulka!AC$2,Přehled_body!$E$1:$ED$1,0)),)=0,0.00000000001,IFERROR(INDEX(Přehled_body!$E$3:$ED$130,MATCH(Tabulka!$AI42,Přehled_body!$A$3:$A$130,0),MATCH(Tabulka!AC$2,Přehled_body!$E$1:$ED$1,0)),)))","v":0},{"$f":"IF(IFERROR(INDEX(Přehled_body!$E$3:$ED$130,MATCH(Tabulka!$AI42,Přehled_body!$A$3:$A$130,0),MATCH(Tabulka!AD$2,Přehled_body!$E$1:$ED$1,0)),)=\"\",,IF(IFERROR(INDEX(Přehled_body!$E$3:$ED$130,MATCH(Tabulka!$AI42,Přehled_body!$A$3:$A$130,0),MATCH(Tabulka!AD$2,Přehled_body!$E$1:$ED$1,0)),)=0,0.00000000001,IFERROR(INDEX(Přehled_body!$E$3:$ED$130,MATCH(Tabulka!$AI42,Přehled_body!$A$3:$A$130,0),MATCH(Tabulka!AD$2,Přehled_body!$E$1:$ED$1,0)),)))","v":0},{"$f":"IF(SUM(AG39)<2,-90000+SUM(D42:AD42),SUM(D42:AD42))","v":2.00000000009},null,null,2.00000000009,{"$f":"CONCATENATE($B$40,\" \",$B$41,C42)","v":"Adam ŠmídPřehozy"},null,null,10,null,null,null,{"$f":"CONCATENATE(AQ42,\" \",AQ41)","v":"Roth Standa"},"Roth"]
[null,null,"Poč. kol",{"$f":"IF(IFERROR(INDEX(Přehled_body!$E$3:$ED$130,MATCH(Tabulka!$AI43,Přehled_body!$A$3:$A$130,0),MATCH(Tabulka!D$2,Přehled_body!$E$1:$ED$1,0)),)=\"\",,IF(IFERROR(INDEX(Přehled_body!$E$3:$ED$130,MATCH(Tabulka!$AI43,Přehled_body!$A$3:$A$130,0),MATCH(Tabulka!D$2,Přehled_body!$E$1:$ED$1,0)),)=0,0.00000000001,IFERROR(INDEX(Přehled_body!$E$3:$ED$130,MATCH(Tabulka!$AI43,Přehled_body!$A$3:$A$130,0),MATCH(Tabulka!D$2,Přehled_body!$E$1:$ED$1,0)),)))","v":1},{"$f":"IF(IFERROR(INDEX(Přehled_body!$E$3:$ED$130,MATCH(Tabulka!$AI43,Přehled_body!$A$3:$A$130,0),MATCH(Tabulka!E$2,Přehled_body!$E$1:$ED$1,0)),)=\"\",,IF(IFERROR(INDEX(Přehled_body!$E$3:$ED$130,MATCH(Tabulka!$AI43,Přehled_body!$A$3:$A$130,0),MATCH(Tabulka!E$2,Přehled_body!$E$1:$ED$1,0)),)=0,0.00000000001,IFERROR(INDEX(Přehled_body!$E$3:$ED$130,MATCH(Tabulka!$AI43,Přehled_body!$A$3:$A$130,0),MATCH(Tabulka!E$2,Přehled_body!$E$1:$ED$1,0)),)))","v":0},{"$f":"IF(IFERROR(INDEX(Přehled_body!$E$3:$ED$130,MATCH(Tabulka!$AI43,Přehled_body!$A$3:$A$130,0),MATCH(Tabulka!F$2,Přehled_body!$E$1:$ED$1,0)),)=\"\",,IF(IFERROR(INDEX(Přehled_body!$E$3:$ED$130,MATCH(Tabulka!$AI43,Přehled_body!$A$3:$A$130,0),MATCH(Tabulka!F$2,Přehled_body!$E$1:$ED$1,0)),)=0,0.00000000001,IFERROR(INDEX(Přehled_body!$E$3:$ED$130,MATCH(Tabulka!$AI43,Přehled_body!$A$3:$A$130,0),MATCH(Tabulka!F$2,Přehled_body!$E$1:$ED$1,0)),)))","v":2},{"$f":"IF(IFERROR(INDEX(Přehled_body!$E$3:$ED$130,MATCH(Tabulka!$AI43,Přehled_body!$A$3:$A$130,0),MATCH(Tabulka!G$2,Přehled_body!$E$1:$ED$1,0)),)=\"\",,IF(IFERROR(INDEX(Přehled_body!$E$3:$ED$130,MATCH(Tabulka!$AI43,Přehled_body!$A$3:$A$130,0),MATCH(Tabulka!G$2,Přehled_body!$E$1:$ED$1,0)),)=0,0.00000000001,IFERROR(INDEX(Přehled_body!$E$3:$ED$130,MATCH(Tabulka!$AI43,Přehled_body!$A$3:$A$130,0),MATCH(Tabulka!G$2,Přehled_body!$E$1:$ED$1,0)),)))","v":2},{"$f":"IF(IFERROR(INDEX(Přehled_body!$E$3:$ED$130,MATCH(Tabulka!$AI43,Přehled_body!$A$3:$A$130,0),MATCH(Tabulka!H$2,Přehled_body!$E$1:$ED$1,0)),)=\"\",,IF(IFERROR(INDEX(Přehled_body!$E$3:$ED$130,MATCH(Tabulka!$AI43,Přehled_body!$A$3:$A$130,0),MATCH(Tabulka!H$2,Přehled_body!$E$1:$ED$1,0)),)=0,0.00000000001,IFERROR(INDEX(Přehled_body!$E$3:$ED$130,MATCH(Tabulka!$AI43,Přehled_body!$A$3:$A$130,0),MATCH(Tabulka!H$2,Přehled_body!$E$1:$ED$1,0)),)))","v":1},{"$f":"IF(IFERROR(INDEX(Přehled_body!$E$3:$ED$130,MATCH(Tabulka!$AI43,Přehled_body!$A$3:$A$130,0),MATCH(Tabulka!I$2,Přehled_body!$E$1:$ED$1,0)),)=\"\",,IF(IFERROR(INDEX(Přehled_body!$E$3:$ED$130,MATCH(Tabulka!$AI43,Přehled_body!$A$3:$A$130,0),MATCH(Tabulka!I$2,Přehled_body!$E$1:$ED$1,0)),)=0,0.00000000001,IFERROR(INDEX(Přehled_body!$E$3:$ED$130,MATCH(Tabulka!$AI43,Přehled_body!$A$3:$A$130,0),MATCH(Tabulka!I$2,Přehled_body!$E$1:$ED$1,0)),)))","v":0},{"$f":"IF(IFERROR(INDEX(Přehled_body!$E$3:$ED$130,MATCH(Tabulka!$AI43,Přehled_body!$A$3:$A$130,0),MATCH(Tabulka!J$2,Přehled_body!$E$1:$ED$1,0)),)=\"\",,IF(IFERROR(INDEX(Přehled_body!$E$3:$ED$130,MATCH(Tabulka!$AI43,Přehled_body!$A$3:$A$130,0),MATCH(Tabulka!J$2,Přehled_body!$E$1:$ED$1,0)),)=0,0.00000000001,IFERROR(INDEX(Přehled_body!$E$3:$ED$130,MATCH(Tabulka!$AI43,Přehled_body!$A$3:$A$130,0),MATCH(Tabulka!J$2,Přehled_body!$E$1:$ED$1,0)),)))","v":2},{"$f":"IF(IFERROR(INDEX(Přehled_body!$E$3:$ED$130,MATCH(Tabulka!$AI43,Přehled_body!$A$3:$A$130,0),MATCH(Tabulka!K$2,Přehled_body!$E$1:$ED$1,0)),)=\"\",,IF(IFERROR(INDEX(Přehled_body!$E$3:$ED$130,MATCH(Tabulka!$AI43,Přehled_body!$A$3:$A$130,0),MATCH(Tabulka!K$2,Přehled_body!$E$1:$ED$1,0)),)=0,0.00000000001,IFERROR(INDEX(Přehled_body!$E$3:$ED$130,MATCH(Tabulka!$AI43,Přehled_body!$A$3:$A$130,0),MATCH(Tabulka!K$2,Přehled_body!$E$1:$ED$1,0)),)))","v":2},{"$f":"IF(IFERROR(INDEX(Přehled_body!$E$3:$ED$130,MATCH(Tabulka!$AI43,Přehled_body!$A$3:$A$130,0),MATCH(Tabulka!L$2,Přehled_body!$E$1:$ED$1,0)),)=\"\",,IF(IFERROR(INDEX(Přehled_body!$E$3:$ED$130,MATCH(Tabulka!$AI43,Přehled_body!$A$3:$A$130,0),MATCH(Tabulka!L$2,Přehled_body!$E$1:$ED$1,0)),)=0,0.00000000001,IFERROR(INDEX(Přehled_body!$E$3:$ED$130,MATCH(Tabulka!$AI43,Přehled_body!$A$3:$A$130,0),MATCH(Tabulka!L$2,Přehled_body!$E$1:$ED$1,0)),)))","v":2},{"$f":"IF(IFERROR(INDEX(Přehled_body!$E$3:$ED$130,MATCH(Tabulka!$AI43,Přehled_body!$A$3:$A$130,0),MATCH(Tabulka!M$2,Přehled_body!$E$1:$ED$1,0)),)=\"\",,IF(IFERROR(INDEX(Přehled_body!$E$3:$ED$130,MATCH(Tabulka!$AI43,Přehled_body!$A$3:$A$130,0),MATCH(Tabulka!M$2,Přehled_body!$E$1:$ED$1,0)),)=0,0.00000000001,IFERROR(INDEX(Přehled_body!$E$3:$ED$130,MATCH(Tabulka!$AI43,Přehled_body!$A$3:$A$130,0),MATCH(Tabulka!M$2,Přehled_body!$E$1:$ED$1,0)),)))","v":0},{"$f":"IF(IFERROR(INDEX(Přehled_body!$E$3:$ED$130,MATCH(Tabulka!$AI43,Přehled_body!$A$3:$A$130,0),MATCH(Tabulka!N$2,Přehled_body!$E$1:$ED$1,0)),)=\"\",,IF(IFERROR(INDEX(Přehled_body!$E$3:$ED$130,MATCH(Tabulka!$AI43,Přehled_body!$A$3:$A$130,0),MATCH(Tabulka!N$2,Přehled_body!$E$1:$ED$1,0)),)=0,0.00000000001,IFERROR(INDEX(Přehled_body!$E$3:$ED$130,MATCH(Tabulka!$AI43,Přehled_body!$A$3:$A$130,0),MATCH(Tabulka!N$2,Přehled_body!$E$1:$ED$1,0)),)))","v":0},{"$f":"IF(IFERROR(INDEX(Přehled_body!$E$3:$ED$130,MATCH(Tabulka!$AI43,Přehled_body!$A$3:$A$130,0),MATCH(Tabulka!O$2,Přehled_body!$E$1:$ED$1,0)),)=\"\",,IF(IFERROR(INDEX(Přehled_body!$E$3:$ED$130,MATCH(Tabulka!$AI43,Přehled_body!$A$3:$A$130,0),MATCH(Tabulka!O$2,Přehled_body!$E$1:$ED$1,0)),)=0,0.00000000001,IFERROR(INDEX(Přehled_body!$E$3:$ED$130,MATCH(Tabulka!$AI43,Přehled_body!$A$3:$A$130,0),MATCH(Tabulka!O$2,Přehled_body!$E$1:$ED$1,0)),)))","v":1},{"$f":"IF(IFERROR(INDEX(Přehled_body!$E$3:$ED$130,MATCH(Tabulka!$AI43,Přehled_body!$A$3:$A$130,0),MATCH(Tabulka!P$2,Přehled_body!$E$1:$ED$1,0)),)=\"\",,IF(IFERROR(INDEX(Přehled_body!$E$3:$ED$130,MATCH(Tabulka!$AI43,Přehled_body!$A$3:$A$130,0),MATCH(Tabulka!P$2,Přehled_body!$E$1:$ED$1,0)),)=0,0.00000000001,IFERROR(INDEX(Přehled_body!$E$3:$ED$130,MATCH(Tabulka!$AI43,Přehled_body!$A$3:$A$130,0),MATCH(Tabulka!P$2,Přehled_body!$E$1:$ED$1,0)),)))","v":3},{"$f":"IF(IFERROR(INDEX(Přehled_body!$E$3:$ED$130,MATCH(Tabulka!$AI43,Přehled_body!$A$3:$A$130,0),MATCH(Tabulka!Q$2,Přehled_body!$E$1:$ED$1,0)),)=\"\",,IF(IFERROR(INDEX(Přehled_body!$E$3:$ED$130,MATCH(Tabulka!$AI43,Přehled_body!$A$3:$A$130,0),MATCH(Tabulka!Q$2,Přehled_body!$E$1:$ED$1,0)),)=0,0.00000000001,IFERROR(INDEX(Přehled_body!$E$3:$ED$130,MATCH(Tabulka!$AI43,Přehled_body!$A$3:$A$130,0),MATCH(Tabulka!Q$2,Přehled_body!$E$1:$ED$1,0)),)))","v":0},{"$f":"IF(IFERROR(INDEX(Přehled_body!$E$3:$ED$130,MATCH(Tabulka!$AI43,Přehled_body!$A$3:$A$130,0),MATCH(Tabulka!R$2,Přehled_body!$E$1:$ED$1,0)),)=\"\",,IF(IFERROR(INDEX(Přehled_body!$E$3:$ED$130,MATCH(Tabulka!$AI43,Přehled_body!$A$3:$A$130,0),MATCH(Tabulka!R$2,Přehled_body!$E$1:$ED$1,0)),)=0,0.00000000001,IFERROR(INDEX(Přehled_body!$E$3:$ED$130,MATCH(Tabulka!$AI43,Přehled_body!$A$3:$A$130,0),MATCH(Tabulka!R$2,Přehled_body!$E$1:$ED$1,0)),)))","v":3},{"$f":"IF(IFERROR(INDEX(Přehled_body!$E$3:$ED$130,MATCH(Tabulka!$AI43,Přehled_body!$A$3:$A$130,0),MATCH(Tabulka!S$2,Přehled_body!$E$1:$ED$1,0)),)=\"\",,IF(IFERROR(INDEX(Přehled_body!$E$3:$ED$130,MATCH(Tabulka!$AI43,Přehled_body!$A$3:$A$130,0),MATCH(Tabulka!S$2,Přehled_body!$E$1:$ED$1,0)),)=0,0.00000000001,IFERROR(INDEX(Přehled_body!$E$3:$ED$130,MATCH(Tabulka!$AI43,Přehled_body!$A$3:$A$130,0),MATCH(Tabulka!S$2,Přehled_body!$E$1:$ED$1,0)),)))","v":0},{"$f":"IF(IFERROR(INDEX(Přehled_body!$E$3:$ED$130,MATCH(Tabulka!$AI43,Přehled_body!$A$3:$A$130,0),MATCH(Tabulka!T$2,Přehled_body!$E$1:$ED$1,0)),)=\"\",,IF(IFERROR(INDEX(Přehled_body!$E$3:$ED$130,MATCH(Tabulka!$AI43,Přehled_body!$A$3:$A$130,0),MATCH(Tabulka!T$2,Přehled_body!$E$1:$ED$1,0)),)=0,0.00000000001,IFERROR(INDEX(Přehled_body!$E$3:$ED$130,MATCH(Tabulka!$AI43,Přehled_body!$A$3:$A$130,0),MATCH(Tabulka!T$2,Přehled_body!$E$1:$ED$1,0)),)))","v":0},{"$f":"IF(IFERROR(INDEX(Přehled_body!$E$3:$ED$130,MATCH(Tabulka!$AI43,Přehled_body!$A$3:$A$130,0),MATCH(Tabulka!U$2,Přehled_body!$E$1:$ED$1,0)),)=\"\",,IF(IFERROR(INDEX(Přehled_body!$E$3:$ED$130,MATCH(Tabulka!$AI43,Přehled_body!$A$3:$A$130,0),MATCH(Tabulka!U$2,Přehled_body!$E$1:$ED$1,0)),)=0,0.00000000001,IFERROR(INDEX(Přehled_body!$E$3:$ED$130,MATCH(Tabulka!$AI43,Přehled_body!$A$3:$A$130,0),MATCH(Tabulka!U$2,Přehled_body!$E$1:$ED$1,0)),)))","v":0},{"$f":"IF(IFERROR(INDEX(Přehled_body!$E$3:$ED$130,MATCH(Tabulka!$AI43,Přehled_body!$A$3:$A$130,0),MATCH(Tabulka!V$2,Přehled_body!$E$1:$ED$1,0)),)=\"\",,IF(IFERROR(INDEX(Přehled_body!$E$3:$ED$130,MATCH(Tabulka!$AI43,Přehled_body!$A$3:$A$130,0),MATCH(Tabulka!V$2,Přehled_body!$E$1:$ED$1,0)),)=0,0.00000000001,IFERROR(INDEX(Přehled_body!$E$3:$ED$130,MATCH(Tabulka!$AI43,Přehled_body!$A$3:$A$130,0),MATCH(Tabulka!V$2,Přehled_body!$E$1:$ED$1,0)),)))","v":0},{"$f":"IF(IFERROR(INDEX(Přehled_body!$E$3:$ED$130,MATCH(Tabulka!$AI43,Přehled_body!$A$3:$A$130,0),MATCH(Tabulka!W$2,Přehled_body!$E$1:$ED$1,0)),)=\"\",,IF(IFERROR(INDEX(Přehled_body!$E$3:$ED$130,MATCH(Tabulka!$AI43,Přehled_body!$A$3:$A$130,0),MATCH(Tabulka!W$2,Přehled_body!$E$1:$ED$1,0)),)=0,0.00000000001,IFERROR(INDEX(Přehled_body!$E$3:$ED$130,MATCH(Tabulka!$AI43,Přehled_body!$A$3:$A$130,0),MATCH(Tabulka!W$2,Přehled_body!$E$1:$ED$1,0)),)))","v":0},{"$f":"IF(IFERROR(INDEX(Přehled_body!$E$3:$ED$130,MATCH(Tabulka!$AI43,Přehled_body!$A$3:$A$130,0),MATCH(Tabulka!X$2,Přehled_body!$E$1:$ED$1,0)),)=\"\",,IF(IFERROR(INDEX(Přehled_body!$E$3:$ED$130,MATCH(Tabulka!$AI43,Přehled_body!$A$3:$A$130,0),MATCH(Tabulka!X$2,Přehled_body!$E$1:$ED$1,0)),)=0,0.00000000001,IFERROR(INDEX(Přehled_body!$E$3:$ED$130,MATCH(Tabulka!$AI43,Přehled_body!$A$3:$A$130,0),MATCH(Tabulka!X$2,Přehled_body!$E$1:$ED$1,0)),)))","v":0},{"$f":"IF(IFERROR(INDEX(Přehled_body!$E$3:$ED$130,MATCH(Tabulka!$AI43,Přehled_body!$A$3:$A$130,0),MATCH(Tabulka!Y$2,Přehled_body!$E$1:$ED$1,0)),)=\"\",,IF(IFERROR(INDEX(Přehled_body!$E$3:$ED$130,MATCH(Tabulka!$AI43,Přehled_body!$A$3:$A$130,0),MATCH(Tabulka!Y$2,Přehled_body!$E$1:$ED$1,0)),)=0,0.00000000001,IFERROR(INDEX(Přehled_body!$E$3:$ED$130,MATCH(Tabulka!$AI43,Přehled_body!$A$3:$A$130,0),MATCH(Tabulka!Y$2,Přehled_body!$E$1:$ED$1,0)),)))","v":0},{"$f":"IF(IFERROR(INDEX(Přehled_body!$E$3:$ED$130,MATCH(Tabulka!$AI43,Přehled_body!$A$3:$A$130,0),MATCH(Tabulka!Z$2,Přehled_body!$E$1:$ED$1,0)),)=\"\",,IF(IFERROR(INDEX(Přehled_body!$E$3:$ED$130,MATCH(Tabulka!$AI43,Přehled_body!$A$3:$A$130,0),MATCH(Tabulka!Z$2,Přehled_body!$E$1:$ED$1,0)),)=0,0.00000000001,IFERROR(INDEX(Přehled_body!$E$3:$ED$130,MATCH(Tabulka!$AI43,Přehled_body!$A$3:$A$130,0),MATCH(Tabulka!Z$2,Přehled_body!$E$1:$ED$1,0)),)))","v":0},{"$f":"IF(IFERROR(INDEX(Přehled_body!$E$3:$ED$130,MATCH(Tabulka!$AI43,Přehled_body!$A$3:$A$130,0),MATCH(Tabulka!AA$2,Přehled_body!$E$1:$ED$1,0)),)=\"\",,IF(IFERROR(INDEX(Přehled_body!$E$3:$ED$130,MATCH(Tabulka!$AI43,Přehled_body!$A$3:$A$130,0),MATCH(Tabulka!AA$2,Přehled_body!$E$1:$ED$1,0)),)=0,0.00000000001,IFERROR(INDEX(Přehled_body!$E$3:$ED$130,MATCH(Tabulka!$AI43,Přehled_body!$A$3:$A$130,0),MATCH(Tabulka!AA$2,Přehled_body!$E$1:$ED$1,0)),)))","v":0},{"$f":"IF(IFERROR(INDEX(Přehled_body!$E$3:$ED$130,MATCH(Tabulka!$AI43,Přehled_body!$A$3:$A$130,0),MATCH(Tabulka!AB$2,Přehled_body!$E$1:$ED$1,0)),)=\"\",,IF(IFERROR(INDEX(Přehled_body!$E$3:$ED$130,MATCH(Tabulka!$AI43,Přehled_body!$A$3:$A$130,0),MATCH(Tabulka!AB$2,Přehled_body!$E$1:$ED$1,0)),)=0,0.00000000001,IFERROR(INDEX(Přehled_body!$E$3:$ED$130,MATCH(Tabulka!$AI43,Přehled_body!$A$3:$A$130,0),MATCH(Tabulka!AB$2,Přehled_body!$E$1:$ED$1,0)),)))","v":0},{"$f":"IF(IFERROR(INDEX(Přehled_body!$E$3:$ED$130,MATCH(Tabulka!$AI43,Přehled_body!$A$3:$A$130,0),MATCH(Tabulka!AC$2,Přehled_body!$E$1:$ED$1,0)),)=\"\",,IF(IFERROR(INDEX(Přehled_body!$E$3:$ED$130,MATCH(Tabulka!$AI43,Přehled_body!$A$3:$A$130,0),MATCH(Tabulka!AC$2,Přehled_body!$E$1:$ED$1,0)),)=0,0.00000000001,IFERROR(INDEX(Přehled_body!$E$3:$ED$130,MATCH(Tabulka!$AI43,Přehled_body!$A$3:$A$130,0),MATCH(Tabulka!AC$2,Přehled_body!$E$1:$ED$1,0)),)))","v":0},{"$f":"IF(IFERROR(INDEX(Přehled_body!$E$3:$ED$130,MATCH(Tabulka!$AI43,Přehled_body!$A$3:$A$130,0),MATCH(Tabulka!AD$2,Přehled_body!$E$1:$ED$1,0)),)=\"\",,IF(IFERROR(INDEX(Přehled_body!$E$3:$ED$130,MATCH(Tabulka!$AI43,Přehled_body!$A$3:$A$130,0),MATCH(Tabulka!AD$2,Přehled_body!$E$1:$ED$1,0)),)=0,0.00000000001,IFERROR(INDEX(Přehled_body!$E$3:$ED$130,MATCH(Tabulka!$AI43,Přehled_body!$A$3:$A$130,0),MATCH(Tabulka!AD$2,Přehled_body!$E$1:$ED$1,0)),)))","v":0},{"$f":"IF(SUM(AG39)<2,-90000+SUM(D43:AD43),SUM(D43:AD43))","v":19},null,null,19,{"$f":"CONCATENATE($B$40,\" \",$B$41,C43)","v":"Adam ŠmídPoč. kol"},null,null,10]
[9,null,"Výhry",{"$f":"IF(IFERROR(INDEX(Přehled_body!$E$3:$ED$130,MATCH(Tabulka!$AI44,Přehled_body!$A$3:$A$130,0),MATCH(Tabulka!D$2,Přehled_body!$E$1:$ED$1,0)),)=\"\",,IF(IFERROR(INDEX(Přehled_body!$E$3:$ED$130,MATCH(Tabulka!$AI44,Přehled_body!$A$3:$A$130,0),MATCH(Tabulka!D$2,Přehled_body!$E$1:$ED$1,0)),)=0,0.00000000001,IFERROR(INDEX(Přehled_body!$E$3:$ED$130,MATCH(Tabulka!$AI44,Přehled_body!$A$3:$A$130,0),MATCH(Tabulka!D$2,Přehled_body!$E$1:$ED$1,0)),)))","v":9.9999999999999994E-12},{"$f":"IF(IFERROR(INDEX(Přehled_body!$E$3:$ED$130,MATCH(Tabulka!$AI44,Přehled_body!$A$3:$A$130,0),MATCH(Tabulka!E$2,Přehled_body!$E$1:$ED$1,0)),)=\"\",,IF(IFERROR(INDEX(Přehled_body!$E$3:$ED$130,MATCH(Tabulka!$AI44,Přehled_body!$A$3:$A$130,0),MATCH(Tabulka!E$2,Přehled_body!$E$1:$ED$1,0)),)=0,0.00000000001,IFERROR(INDEX(Přehled_body!$E$3:$ED$130,MATCH(Tabulka!$AI44,Přehled_body!$A$3:$A$130,0),MATCH(Tabulka!E$2,Přehled_body!$E$1:$ED$1,0)),)))","v":0},{"$f":"IF(IFERROR(INDEX(Přehled_body!$E$3:$ED$130,MATCH(Tabulka!$AI44,Přehled_body!$A$3:$A$130,0),MATCH(Tabulka!F$2,Přehled_body!$E$1:$ED$1,0)),)=\"\",,IF(IFERROR(INDEX(Přehled_body!$E$3:$ED$130,MATCH(Tabulka!$AI44,Přehled_body!$A$3:$A$130,0),MATCH(Tabulka!F$2,Přehled_body!$E$1:$ED$1,0)),)=0,0.00000000001,IFERROR(INDEX(Přehled_body!$E$3:$ED$130,MATCH(Tabulka!$AI44,Přehled_body!$A$3:$A$130,0),MATCH(Tabulka!F$2,Přehled_body!$E$1:$ED$1,0)),)))","v":0},{"$f":"IF(IFERROR(INDEX(Přehled_body!$E$3:$ED$130,MATCH(Tabulka!$AI44,Přehled_body!$A$3:$A$130,0),MATCH(Tabulka!G$2,Přehled_body!$E$1:$ED$1,0)),)=\"\",,IF(IFERROR(INDEX(Přehled_body!$E$3:$ED$130,MATCH(Tabulka!$AI44,Přehled_body!$A$3:$A$130,0),MATCH(Tabulka!G$2,Přehled_body!$E$1:$ED$1,0)),)=0,0.00000000001,IFERROR(INDEX(Přehled_body!$E$3:$ED$130,MATCH(Tabulka!$AI44,Přehled_body!$A$3:$A$130,0),MATCH(Tabulka!G$2,Přehled_body!$E$1:$ED$1,0)),)))","v":0},{"$f":"IF(IFERROR(INDEX(Přehled_body!$E$3:$ED$130,MATCH(Tabulka!$AI44,Přehled_body!$A$3:$A$130,0),MATCH(Tabulka!H$2,Přehled_body!$E$1:$ED$1,0)),)=\"\",,IF(IFERROR(INDEX(Přehled_body!$E$3:$ED$130,MATCH(Tabulka!$AI44,Přehled_body!$A$3:$A$130,0),MATCH(Tabulka!H$2,Přehled_body!$E$1:$ED$1,0)),)=0,0.00000000001,IFERROR(INDEX(Přehled_body!$E$3:$ED$130,MATCH(Tabulka!$AI44,Přehled_body!$A$3:$A$130,0),MATCH(Tabulka!H$2,Přehled_body!$E$1:$ED$1,0)),)))","v":0},{"$f":"IF(IFERROR(INDEX(Přehled_body!$E$3:$ED$130,MATCH(Tabulka!$AI44,Přehled_body!$A$3:$A$130,0),MATCH(Tabulka!I$2,Přehled_body!$E$1:$ED$1,0)),)=\"\",,IF(IFERROR(INDEX(Přehled_body!$E$3:$ED$130,MATCH(Tabulka!$AI44,Přehled_body!$A$3:$A$130,0),MATCH(Tabulka!I$2,Přehled_body!$E$1:$ED$1,0)),)=0,0.00000000001,IFERROR(INDEX(Přehled_body!$E$3:$ED$130,MATCH(Tabulka!$AI44,Přehled_body!$A$3:$A$130,0),MATCH(Tabulka!I$2,Přehled_body!$E$1:$ED$1,0)),)))","v":0},{"$f":"IF(IFERROR(INDEX(Přehled_body!$E$3:$ED$130,MATCH(Tabulka!$AI44,Přehled_body!$A$3:$A$130,0),MATCH(Tabulka!J$2,Přehled_body!$E$1:$ED$1,0)),)=\"\",,IF(IFERROR(INDEX(Přehled_body!$E$3:$ED$130,MATCH(Tabulka!$AI44,Přehled_body!$A$3:$A$130,0),MATCH(Tabulka!J$2,Přehled_body!$E$1:$ED$1,0)),)=0,0.00000000001,IFERROR(INDEX(Přehled_body!$E$3:$ED$130,MATCH(Tabulka!$AI44,Přehled_body!$A$3:$A$130,0),MATCH(Tabulka!J$2,Přehled_body!$E$1:$ED$1,0)),)))","v":0},{"$f":"IF(IFERROR(INDEX(Přehled_body!$E$3:$ED$130,MATCH(Tabulka!$AI44,Přehled_body!$A$3:$A$130,0),MATCH(Tabulka!K$2,Přehled_body!$E$1:$ED$1,0)),)=\"\",,IF(IFERROR(INDEX(Přehled_body!$E$3:$ED$130,MATCH(Tabulka!$AI44,Přehled_body!$A$3:$A$130,0),MATCH(Tabulka!K$2,Přehled_body!$E$1:$ED$1,0)),)=0,0.00000000001,IFERROR(INDEX(Přehled_body!$E$3:$ED$130,MATCH(Tabulka!$AI44,Přehled_body!$A$3:$A$130,0),MATCH(Tabulka!K$2,Přehled_body!$E$1:$ED$1,0)),)))","v":0},{"$f":"IF(IFERROR(INDEX(Přehled_body!$E$3:$ED$130,MATCH(Tabulka!$AI44,Přehled_body!$A$3:$A$130,0),MATCH(Tabulka!L$2,Přehled_body!$E$1:$ED$1,0)),)=\"\",,IF(IFERROR(INDEX(Přehled_body!$E$3:$ED$130,MATCH(Tabulka!$AI44,Přehled_body!$A$3:$A$130,0),MATCH(Tabulka!L$2,Přehled_body!$E$1:$ED$1,0)),)=0,0.00000000001,IFERROR(INDEX(Přehled_body!$E$3:$ED$130,MATCH(Tabulka!$AI44,Přehled_body!$A$3:$A$130,0),MATCH(Tabulka!L$2,Přehled_body!$E$1:$ED$1,0)),)))","v":0},{"$f":"IF(IFERROR(INDEX(Přehled_body!$E$3:$ED$130,MATCH(Tabulka!$AI44,Přehled_body!$A$3:$A$130,0),MATCH(Tabulka!M$2,Přehled_body!$E$1:$ED$1,0)),)=\"\",,IF(IFERROR(INDEX(Přehled_body!$E$3:$ED$130,MATCH(Tabulka!$AI44,Přehled_body!$A$3:$A$130,0),MATCH(Tabulka!M$2,Přehled_body!$E$1:$ED$1,0)),)=0,0.00000000001,IFERROR(INDEX(Přehled_body!$E$3:$ED$130,MATCH(Tabulka!$AI44,Přehled_body!$A$3:$A$130,0),MATCH(Tabulka!M$2,Přehled_body!$E$1:$ED$1,0)),)))","v":0},{"$f":"IF(IFERROR(INDEX(Přehled_body!$E$3:$ED$130,MATCH(Tabulka!$AI44,Přehled_body!$A$3:$A$130,0),MATCH(Tabulka!N$2,Přehled_body!$E$1:$ED$1,0)),)=\"\",,IF(IFERROR(INDEX(Přehled_body!$E$3:$ED$130,MATCH(Tabulka!$AI44,Přehled_body!$A$3:$A$130,0),MATCH(Tabulka!N$2,Přehled_body!$E$1:$ED$1,0)),)=0,0.00000000001,IFERROR(INDEX(Přehled_body!$E$3:$ED$130,MATCH(Tabulka!$AI44,Přehled_body!$A$3:$A$130,0),MATCH(Tabulka!N$2,Přehled_body!$E$1:$ED$1,0)),)))","v":0},{"$f":"IF(IFERROR(INDEX(Přehled_body!$E$3:$ED$130,MATCH(Tabulka!$AI44,Přehled_body!$A$3:$A$130,0),MATCH(Tabulka!O$2,Přehled_body!$E$1:$ED$1,0)),)=\"\",,IF(IFERROR(INDEX(Přehled_body!$E$3:$ED$130,MATCH(Tabulka!$AI44,Přehled_body!$A$3:$A$130,0),MATCH(Tabulka!O$2,Přehled_body!$E$1:$ED$1,0)),)=0,0.00000000001,IFERROR(INDEX(Přehled_body!$E$3:$ED$130,MATCH(Tabulka!$AI44,Přehled_body!$A$3:$A$130,0),MATCH(Tabulka!O$2,Přehled_body!$E$1:$ED$1,0)),)))","v":0},{"$f":"IF(IFERROR(INDEX(Přehled_body!$E$3:$ED$130,MATCH(Tabulka!$AI44,Přehled_body!$A$3:$A$130,0),MATCH(Tabulka!P$2,Přehled_body!$E$1:$ED$1,0)),)=\"\",,IF(IFERROR(INDEX(Přehled_body!$E$3:$ED$130,MATCH(Tabulka!$AI44,Přehled_body!$A$3:$A$130,0),MATCH(Tabulka!P$2,Přehled_body!$E$1:$ED$1,0)),)=0,0.00000000001,IFERROR(INDEX(Přehled_body!$E$3:$ED$130,MATCH(Tabulka!$AI44,Přehled_body!$A$3:$A$130,0),MATCH(Tabulka!P$2,Přehled_body!$E$1:$ED$1,0)),)))","v":0},{"$f":"IF(IFERROR(INDEX(Přehled_body!$E$3:$ED$130,MATCH(Tabulka!$AI44,Přehled_body!$A$3:$A$130,0),MATCH(Tabulka!Q$2,Přehled_body!$E$1:$ED$1,0)),)=\"\",,IF(IFERROR(INDEX(Přehled_body!$E$3:$ED$130,MATCH(Tabulka!$AI44,Přehled_body!$A$3:$A$130,0),MATCH(Tabulka!Q$2,Přehled_body!$E$1:$ED$1,0)),)=0,0.00000000001,IFERROR(INDEX(Přehled_body!$E$3:$ED$130,MATCH(Tabulka!$AI44,Přehled_body!$A$3:$A$130,0),MATCH(Tabulka!Q$2,Přehled_body!$E$1:$ED$1,0)),)))","v":0},{"$f":"IF(IFERROR(INDEX(Přehled_body!$E$3:$ED$130,MATCH(Tabulka!$AI44,Přehled_body!$A$3:$A$130,0),MATCH(Tabulka!R$2,Přehled_body!$E$1:$ED$1,0)),)=\"\",,IF(IFERROR(INDEX(Přehled_body!$E$3:$ED$130,MATCH(Tabulka!$AI44,Přehled_body!$A$3:$A$130,0),MATCH(Tabulka!R$2,Přehled_body!$E$1:$ED$1,0)),)=0,0.00000000001,IFERROR(INDEX(Přehled_body!$E$3:$ED$130,MATCH(Tabulka!$AI44,Přehled_body!$A$3:$A$130,0),MATCH(Tabulka!R$2,Přehled_body!$E$1:$ED$1,0)),)))","v":0},{"$f":"IF(IFERROR(INDEX(Přehled_body!$E$3:$ED$130,MATCH(Tabulka!$AI44,Přehled_body!$A$3:$A$130,0),MATCH(Tabulka!S$2,Přehled_body!$E$1:$ED$1,0)),)=\"\",,IF(IFERROR(INDEX(Přehled_body!$E$3:$ED$130,MATCH(Tabulka!$AI44,Přehled_body!$A$3:$A$130,0),MATCH(Tabulka!S$2,Přehled_body!$E$1:$ED$1,0)),)=0,0.00000000001,IFERROR(INDEX(Přehled_body!$E$3:$ED$130,MATCH(Tabulka!$AI44,Přehled_body!$A$3:$A$130,0),MATCH(Tabulka!S$2,Přehled_body!$E$1:$ED$1,0)),)))","v":0},{"$f":"IF(IFERROR(INDEX(Přehled_body!$E$3:$ED$130,MATCH(Tabulka!$AI44,Přehled_body!$A$3:$A$130,0),MATCH(Tabulka!T$2,Přehled_body!$E$1:$ED$1,0)),)=\"\",,IF(IFERROR(INDEX(Přehled_body!$E$3:$ED$130,MATCH(Tabulka!$AI44,Přehled_body!$A$3:$A$130,0),MATCH(Tabulka!T$2,Přehled_body!$E$1:$ED$1,0)),)=0,0.00000000001,IFERROR(INDEX(Přehled_body!$E$3:$ED$130,MATCH(Tabulka!$AI44,Přehled_body!$A$3:$A$130,0),MATCH(Tabulka!T$2,Přehled_body!$E$1:$ED$1,0)),)))","v":0},{"$f":"IF(IFERROR(INDEX(Přehled_body!$E$3:$ED$130,MATCH(Tabulka!$AI44,Přehled_body!$A$3:$A$130,0),MATCH(Tabulka!U$2,Přehled_body!$E$1:$ED$1,0)),)=\"\",,IF(IFERROR(INDEX(Přehled_body!$E$3:$ED$130,MATCH(Tabulka!$AI44,Přehled_body!$A$3:$A$130,0),MATCH(Tabulka!U$2,Přehled_body!$E$1:$ED$1,0)),)=0,0.00000000001,IFERROR(INDEX(Přehled_body!$E$3:$ED$130,MATCH(Tabulka!$AI44,Přehled_body!$A$3:$A$130,0),MATCH(Tabulka!U$2,Přehled_body!$E$1:$ED$1,0)),)))","v":0},{"$f":"IF(IFERROR(INDEX(Přehled_body!$E$3:$ED$130,MATCH(Tabulka!$AI44,Přehled_body!$A$3:$A$130,0),MATCH(Tabulka!V$2,Přehled_body!$E$1:$ED$1,0)),)=\"\",,IF(IFERROR(INDEX(Přehled_body!$E$3:$ED$130,MATCH(Tabulka!$AI44,Přehled_body!$A$3:$A$130,0),MATCH(Tabulka!V$2,Přehled_body!$E$1:$ED$1,0)),)=0,0.00000000001,IFERROR(INDEX(Přehled_body!$E$3:$ED$130,MATCH(Tabulka!$AI44,Přehled_body!$A$3:$A$130,0),MATCH(Tabulka!V$2,Přehled_body!$E$1:$ED$1,0)),)))","v":0},{"$f":"IF(IFERROR(INDEX(Přehled_body!$E$3:$ED$130,MATCH(Tabulka!$AI44,Přehled_body!$A$3:$A$130,0),MATCH(Tabulka!W$2,Přehled_body!$E$1:$ED$1,0)),)=\"\",,IF(IFERROR(INDEX(Přehled_body!$E$3:$ED$130,MATCH(Tabulka!$AI44,Přehled_body!$A$3:$A$130,0),MATCH(Tabulka!W$2,Přehled_body!$E$1:$ED$1,0)),)=0,0.00000000001,IFERROR(INDEX(Přehled_body!$E$3:$ED$130,MATCH(Tabulka!$AI44,Přehled_body!$A$3:$A$130,0),MATCH(Tabulka!W$2,Přehled_body!$E$1:$ED$1,0)),)))","v":0},{"$f":"IF(IFERROR(INDEX(Přehled_body!$E$3:$ED$130,MATCH(Tabulka!$AI44,Přehled_body!$A$3:$A$130,0),MATCH(Tabulka!X$2,Přehled_body!$E$1:$ED$1,0)),)=\"\",,IF(IFERROR(INDEX(Přehled_body!$E$3:$ED$130,MATCH(Tabulka!$AI44,Přehled_body!$A$3:$A$130,0),MATCH(Tabulka!X$2,Přehled_body!$E$1:$ED$1,0)),)=0,0.00000000001,IFERROR(INDEX(Přehled_body!$E$3:$ED$130,MATCH(Tabulka!$AI44,Přehled_body!$A$3:$A$130,0),MATCH(Tabulka!X$2,Přehled_body!$E$1:$ED$1,0)),)))","v":0},{"$f":"IF(IFERROR(INDEX(Přehled_body!$E$3:$ED$130,MATCH(Tabulka!$AI44,Přehled_body!$A$3:$A$130,0),MATCH(Tabulka!Y$2,Přehled_body!$E$1:$ED$1,0)),)=\"\",,IF(IFERROR(INDEX(Přehled_body!$E$3:$ED$130,MATCH(Tabulka!$AI44,Přehled_body!$A$3:$A$130,0),MATCH(Tabulka!Y$2,Přehled_body!$E$1:$ED$1,0)),)=0,0.00000000001,IFERROR(INDEX(Přehled_body!$E$3:$ED$130,MATCH(Tabulka!$AI44,Přehled_body!$A$3:$A$130,0),MATCH(Tabulka!Y$2,Přehled_body!$E$1:$ED$1,0)),)))","v":0},{"$f":"IF(IFERROR(INDEX(Přehled_body!$E$3:$ED$130,MATCH(Tabulka!$AI44,Přehled_body!$A$3:$A$130,0),MATCH(Tabulka!Z$2,Přehled_body!$E$1:$ED$1,0)),)=\"\",,IF(IFERROR(INDEX(Přehled_body!$E$3:$ED$130,MATCH(Tabulka!$AI44,Přehled_body!$A$3:$A$130,0),MATCH(Tabulka!Z$2,Přehled_body!$E$1:$ED$1,0)),)=0,0.00000000001,IFERROR(INDEX(Přehled_body!$E$3:$ED$130,MATCH(Tabulka!$AI44,Přehled_body!$A$3:$A$130,0),MATCH(Tabulka!Z$2,Přehled_body!$E$1:$ED$1,0)),)))","v":0},{"$f":"IF(IFERROR(INDEX(Přehled_body!$E$3:$ED$130,MATCH(Tabulka!$AI44,Přehled_body!$A$3:$A$130,0),MATCH(Tabulka!AA$2,Přehled_body!$E$1:$ED$1,0)),)=\"\",,IF(IFERROR(INDEX(Přehled_body!$E$3:$ED$130,MATCH(Tabulka!$AI44,Přehled_body!$A$3:$A$130,0),MATCH(Tabulka!AA$2,Přehled_body!$E$1:$ED$1,0)),)=0,0.00000000001,IFERROR(INDEX(Přehled_body!$E$3:$ED$130,MATCH(Tabulka!$AI44,Přehled_body!$A$3:$A$130,0),MATCH(Tabulka!AA$2,Přehled_body!$E$1:$ED$1,0)),)))","v":0},{"$f":"IF(IFERROR(INDEX(Přehled_body!$E$3:$ED$130,MATCH(Tabulka!$AI44,Přehled_body!$A$3:$A$130,0),MATCH(Tabulka!AB$2,Přehled_body!$E$1:$ED$1,0)),)=\"\",,IF(IFERROR(INDEX(Přehled_body!$E$3:$ED$130,MATCH(Tabulka!$AI44,Přehled_body!$A$3:$A$130,0),MATCH(Tabulka!AB$2,Přehled_body!$E$1:$ED$1,0)),)=0,0.00000000001,IFERROR(INDEX(Přehled_body!$E$3:$ED$130,MATCH(Tabulka!$AI44,Přehled_body!$A$3:$A$130,0),MATCH(Tabulka!AB$2,Přehled_body!$E$1:$ED$1,0)),)))","v":0},{"$f":"IF(IFERROR(INDEX(Přehled_body!$E$3:$ED$130,MATCH(Tabulka!$AI44,Přehled_body!$A$3:$A$130,0),MATCH(Tabulka!AC$2,Přehled_body!$E$1:$ED$1,0)),)=\"\",,IF(IFERROR(INDEX(Přehled_body!$E$3:$ED$130,MATCH(Tabulka!$AI44,Přehled_body!$A$3:$A$130,0),MATCH(Tabulka!AC$2,Přehled_body!$E$1:$ED$1,0)),)=0,0.00000000001,IFERROR(INDEX(Přehled_body!$E$3:$ED$130,MATCH(Tabulka!$AI44,Přehled_body!$A$3:$A$130,0),MATCH(Tabulka!AC$2,Přehled_body!$E$1:$ED$1,0)),)))","v":0},{"$f":"IF(IFERROR(INDEX(Přehled_body!$E$3:$ED$130,MATCH(Tabulka!$AI44,Přehled_body!$A$3:$A$130,0),MATCH(Tabulka!AD$2,Přehled_body!$E$1:$ED$1,0)),)=\"\",,IF(IFERROR(INDEX(Přehled_body!$E$3:$ED$130,MATCH(Tabulka!$AI44,Přehled_body!$A$3:$A$130,0),MATCH(Tabulka!AD$2,Přehled_body!$E$1:$ED$1,0)),)=0,0.00000000001,IFERROR(INDEX(Přehled_body!$E$3:$ED$130,MATCH(Tabulka!$AI44,Přehled_body!$A$3:$A$130,0),MATCH(Tabulka!AD$2,Přehled_body!$E$1:$ED$1,0)),)))","v":0},{"$f":"IF(SUM(AG44)<2,-90000+SUM(D44:AD44),SUM(D44:AD44))","v":-89999.999999999985},null,{"$f":"COUNTIF(D44:AD44,\">0\")","v":1},9.9999999999999994E-12,{"$f":"CONCATENATE($B$45,\" \",$B$46,C44)","v":"Míra ChalupníkVýhry"},null,null,{"$f":"COUNTIF(D44:AD44,\">0\")","v":1}]
[{"$f":"CONCATENATE(B45,\" \",B46)","v":"Míra Chalupník"},"Míra","Prohry",{"$f":"IF(IFERROR(INDEX(Přehled_body!$E$3:$ED$130,MATCH(Tabulka!$AI45,Přehled_body!$A$3:$A$130,0),MATCH(Tabulka!D$2,Přehled_body!$E$1:$ED$1,0)),)=\"\",,IF(IFERROR(INDEX(Přehled_body!$E$3:$ED$130,MATCH(Tabulka!$AI45,Přehled_body!$A$3:$A$130,0),MATCH(Tabulka!D$2,Přehled_body!$E$1:$ED$1,0)),)=0,0.00000000001,IFERROR(INDEX(Přehled_body!$E$3:$ED$130,MATCH(Tabulka!$AI45,Přehled_body!$A$3:$A$130,0),MATCH(Tabulka!D$2,Přehled_body!$E$1:$ED$1,0)),)))","v":2},{"$f":"IF(IFERROR(INDEX(Přehled_body!$E$3:$ED$130,MATCH(Tabulka!$AI45,Přehled_body!$A$3:$A$130,0),MATCH(Tabulka!E$2,Přehled_body!$E$1:$ED$1,0)),)=\"\",,IF(IFERROR(INDEX(Přehled_body!$E$3:$ED$130,MATCH(Tabulka!$AI45,Přehled_body!$A$3:$A$130,0),MATCH(Tabulka!E$2,Přehled_body!$E$1:$ED$1,0)),)=0,0.00000000001,IFERROR(INDEX(Přehled_body!$E$3:$ED$130,MATCH(Tabulka!$AI45,Přehled_body!$A$3:$A$130,0),MATCH(Tabulka!E$2,Přehled_body!$E$1:$ED$1,0)),)))","v":0},{"$f":"IF(IFERROR(INDEX(Přehled_body!$E$3:$ED$130,MATCH(Tabulka!$AI45,Přehled_body!$A$3:$A$130,0),MATCH(Tabulka!F$2,Přehled_body!$E$1:$ED$1,0)),)=\"\",,IF(IFERROR(INDEX(Přehled_body!$E$3:$ED$130,MATCH(Tabulka!$AI45,Přehled_body!$A$3:$A$130,0),MATCH(Tabulka!F$2,Přehled_body!$E$1:$ED$1,0)),)=0,0.00000000001,IFERROR(INDEX(Přehled_body!$E$3:$ED$130,MATCH(Tabulka!$AI45,Přehled_body!$A$3:$A$130,0),MATCH(Tabulka!F$2,Přehled_body!$E$1:$ED$1,0)),)))","v":0},{"$f":"IF(IFERROR(INDEX(Přehled_body!$E$3:$ED$130,MATCH(Tabulka!$AI45,Přehled_body!$A$3:$A$130,0),MATCH(Tabulka!G$2,Přehled_body!$E$1:$ED$1,0)),)=\"\",,IF(IFERROR(INDEX(Přehled_body!$E$3:$ED$130,MATCH(Tabulka!$AI45,Přehled_body!$A$3:$A$130,0),MATCH(Tabulka!G$2,Přehled_body!$E$1:$ED$1,0)),)=0,0.00000000001,IFERROR(INDEX(Přehled_body!$E$3:$ED$130,MATCH(Tabulka!$AI45,Přehled_body!$A$3:$A$130,0),MATCH(Tabulka!G$2,Přehled_body!$E$1:$ED$1,0)),)))","v":0},{"$f":"IF(IFERROR(INDEX(Přehled_body!$E$3:$ED$130,MATCH(Tabulka!$AI45,Přehled_body!$A$3:$A$130,0),MATCH(Tabulka!H$2,Přehled_body!$E$1:$ED$1,0)),)=\"\",,IF(IFERROR(INDEX(Přehled_body!$E$3:$ED$130,MATCH(Tabulka!$AI45,Přehled_body!$A$3:$A$130,0),MATCH(Tabulka!H$2,Přehled_body!$E$1:$ED$1,0)),)=0,0.00000000001,IFERROR(INDEX(Přehled_body!$E$3:$ED$130,MATCH(Tabulka!$AI45,Přehled_body!$A$3:$A$130,0),MATCH(Tabulka!H$2,Přehled_body!$E$1:$ED$1,0)),)))","v":0},{"$f":"IF(IFERROR(INDEX(Přehled_body!$E$3:$ED$130,MATCH(Tabulka!$AI45,Přehled_body!$A$3:$A$130,0),MATCH(Tabulka!I$2,Přehled_body!$E$1:$ED$1,0)),)=\"\",,IF(IFERROR(INDEX(Přehled_body!$E$3:$ED$130,MATCH(Tabulka!$AI45,Přehled_body!$A$3:$A$130,0),MATCH(Tabulka!I$2,Přehled_body!$E$1:$ED$1,0)),)=0,0.00000000001,IFERROR(INDEX(Přehled_body!$E$3:$ED$130,MATCH(Tabulka!$AI45,Přehled_body!$A$3:$A$130,0),MATCH(Tabulka!I$2,Přehled_body!$E$1:$ED$1,0)),)))","v":0},{"$f":"IF(IFERROR(INDEX(Přehled_body!$E$3:$ED$130,MATCH(Tabulka!$AI45,Přehled_body!$A$3:$A$130,0),MATCH(Tabulka!J$2,Přehled_body!$E$1:$ED$1,0)),)=\"\",,IF(IFERROR(INDEX(Přehled_body!$E$3:$ED$130,MATCH(Tabulka!$AI45,Přehled_body!$A$3:$A$130,0),MATCH(Tabulka!J$2,Přehled_body!$E$1:$ED$1,0)),)=0,0.00000000001,IFERROR(INDEX(Přehled_body!$E$3:$ED$130,MATCH(Tabulka!$AI45,Přehled_body!$A$3:$A$130,0),MATCH(Tabulka!J$2,Přehled_body!$E$1:$ED$1,0)),)))","v":0},{"$f":"IF(IFERROR(INDEX(Přehled_body!$E$3:$ED$130,MATCH(Tabulka!$AI45,Přehled_body!$A$3:$A$130,0),MATCH(Tabulka!K$2,Přehled_body!$E$1:$ED$1,0)),)=\"\",,IF(IFERROR(INDEX(Přehled_body!$E$3:$ED$130,MATCH(Tabulka!$AI45,Přehled_body!$A$3:$A$130,0),MATCH(Tabulka!K$2,Přehled_body!$E$1:$ED$1,0)),)=0,0.00000000001,IFERROR(INDEX(Přehled_body!$E$3:$ED$130,MATCH(Tabulka!$AI45,Přehled_body!$A$3:$A$130,0),MATCH(Tabulka!K$2,Přehled_body!$E$1:$ED$1,0)),)))","v":0},{"$f":"IF(IFERROR(INDEX(Přehled_body!$E$3:$ED$130,MATCH(Tabulka!$AI45,Přehled_body!$A$3:$A$130,0),MATCH(Tabulka!L$2,Přehled_body!$E$1:$ED$1,0)),)=\"\",,IF(IFERROR(INDEX(Přehled_body!$E$3:$ED$130,MATCH(Tabulka!$AI45,Přehled_body!$A$3:$A$130,0),MATCH(Tabulka!L$2,Přehled_body!$E$1:$ED$1,0)),)=0,0.00000000001,IFERROR(INDEX(Přehled_body!$E$3:$ED$130,MATCH(Tabulka!$AI45,Přehled_body!$A$3:$A$130,0),MATCH(Tabulka!L$2,Přehled_body!$E$1:$ED$1,0)),)))","v":0},{"$f":"IF(IFERROR(INDEX(Přehled_body!$E$3:$ED$130,MATCH(Tabulka!$AI45,Přehled_body!$A$3:$A$130,0),MATCH(Tabulka!M$2,Přehled_body!$E$1:$ED$1,0)),)=\"\",,IF(IFERROR(INDEX(Přehled_body!$E$3:$ED$130,MATCH(Tabulka!$AI45,Přehled_body!$A$3:$A$130,0),MATCH(Tabulka!M$2,Přehled_body!$E$1:$ED$1,0)),)=0,0.00000000001,IFERROR(INDEX(Přehled_body!$E$3:$ED$130,MATCH(Tabulka!$AI45,Přehled_body!$A$3:$A$130,0),MATCH(Tabulka!M$2,Přehled_body!$E$1:$ED$1,0)),)))","v":0},{"$f":"IF(IFERROR(INDEX(Přehled_body!$E$3:$ED$130,MATCH(Tabulka!$AI45,Přehled_body!$A$3:$A$130,0),MATCH(Tabulka!N$2,Přehled_body!$E$1:$ED$1,0)),)=\"\",,IF(IFERROR(INDEX(Přehled_body!$E$3:$ED$130,MATCH(Tabulka!$AI45,Přehled_body!$A$3:$A$130,0),MATCH(Tabulka!N$2,Přehled_body!$E$1:$ED$1,0)),)=0,0.00000000001,IFERROR(INDEX(Přehled_body!$E$3:$ED$130,MATCH(Tabulka!$AI45,Přehled_body!$A$3:$A$130,0),MATCH(Tabulka!N$2,Přehled_body!$E$1:$ED$1,0)),)))","v":0},{"$f":"IF(IFERROR(INDEX(Přehled_body!$E$3:$ED$130,MATCH(Tabulka!$AI45,Přehled_body!$A$3:$A$130,0),MATCH(Tabulka!O$2,Přehled_body!$E$1:$ED$1,0)),)=\"\",,IF(IFERROR(INDEX(Přehled_body!$E$3:$ED$130,MATCH(Tabulka!$AI45,Přehled_body!$A$3:$A$130,0),MATCH(Tabulka!O$2,Přehled_body!$E$1:$ED$1,0)),)=0,0.00000000001,IFERROR(INDEX(Přehled_body!$E$3:$ED$130,MATCH(Tabulka!$AI45,Přehled_body!$A$3:$A$130,0),MATCH(Tabulka!O$2,Přehled_body!$E$1:$ED$1,0)),)))","v":0},{"$f":"IF(IFERROR(INDEX(Přehled_body!$E$3:$ED$130,MATCH(Tabulka!$AI45,Přehled_body!$A$3:$A$130,0),MATCH(Tabulka!P$2,Přehled_body!$E$1:$ED$1,0)),)=\"\",,IF(IFERROR(INDEX(Přehled_body!$E$3:$ED$130,MATCH(Tabulka!$AI45,Přehled_body!$A$3:$A$130,0),MATCH(Tabulka!P$2,Přehled_body!$E$1:$ED$1,0)),)=0,0.00000000001,IFERROR(INDEX(Přehled_body!$E$3:$ED$130,MATCH(Tabulka!$AI45,Přehled_body!$A$3:$A$130,0),MATCH(Tabulka!P$2,Přehled_body!$E$1:$ED$1,0)),)))","v":0},{"$f":"IF(IFERROR(INDEX(Přehled_body!$E$3:$ED$130,MATCH(Tabulka!$AI45,Přehled_body!$A$3:$A$130,0),MATCH(Tabulka!Q$2,Přehled_body!$E$1:$ED$1,0)),)=\"\",,IF(IFERROR(INDEX(Přehled_body!$E$3:$ED$130,MATCH(Tabulka!$AI45,Přehled_body!$A$3:$A$130,0),MATCH(Tabulka!Q$2,Přehled_body!$E$1:$ED$1,0)),)=0,0.00000000001,IFERROR(INDEX(Přehled_body!$E$3:$ED$130,MATCH(Tabulka!$AI45,Přehled_body!$A$3:$A$130,0),MATCH(Tabulka!Q$2,Přehled_body!$E$1:$ED$1,0)),)))","v":0},{"$f":"IF(IFERROR(INDEX(Přehled_body!$E$3:$ED$130,MATCH(Tabulka!$AI45,Přehled_body!$A$3:$A$130,0),MATCH(Tabulka!R$2,Přehled_body!$E$1:$ED$1,0)),)=\"\",,IF(IFERROR(INDEX(Přehled_body!$E$3:$ED$130,MATCH(Tabulka!$AI45,Přehled_body!$A$3:$A$130,0),MATCH(Tabulka!R$2,Přehled_body!$E$1:$ED$1,0)),)=0,0.00000000001,IFERROR(INDEX(Přehled_body!$E$3:$ED$130,MATCH(Tabulka!$AI45,Přehled_body!$A$3:$A$130,0),MATCH(Tabulka!R$2,Přehled_body!$E$1:$ED$1,0)),)))","v":0},{"$f":"IF(IFERROR(INDEX(Přehled_body!$E$3:$ED$130,MATCH(Tabulka!$AI45,Přehled_body!$A$3:$A$130,0),MATCH(Tabulka!S$2,Přehled_body!$E$1:$ED$1,0)),)=\"\",,IF(IFERROR(INDEX(Přehled_body!$E$3:$ED$130,MATCH(Tabulka!$AI45,Přehled_body!$A$3:$A$130,0),MATCH(Tabulka!S$2,Přehled_body!$E$1:$ED$1,0)),)=0,0.00000000001,IFERROR(INDEX(Přehled_body!$E$3:$ED$130,MATCH(Tabulka!$AI45,Přehled_body!$A$3:$A$130,0),MATCH(Tabulka!S$2,Přehled_body!$E$1:$ED$1,0)),)))","v":0},{"$f":"IF(IFERROR(INDEX(Přehled_body!$E$3:$ED$130,MATCH(Tabulka!$AI45,Přehled_body!$A$3:$A$130,0),MATCH(Tabulka!T$2,Přehled_body!$E$1:$ED$1,0)),)=\"\",,IF(IFERROR(INDEX(Přehled_body!$E$3:$ED$130,MATCH(Tabulka!$AI45,Přehled_body!$A$3:$A$130,0),MATCH(Tabulka!T$2,Přehled_body!$E$1:$ED$1,0)),)=0,0.00000000001,IFERROR(INDEX(Přehled_body!$E$3:$ED$130,MATCH(Tabulka!$AI45,Přehled_body!$A$3:$A$130,0),MATCH(Tabulka!T$2,Přehled_body!$E$1:$ED$1,0)),)))","v":0},{"$f":"IF(IFERROR(INDEX(Přehled_body!$E$3:$ED$130,MATCH(Tabulka!$AI45,Přehled_body!$A$3:$A$130,0),MATCH(Tabulka!U$2,Přehled_body!$E$1:$ED$1,0)),)=\"\",,IF(IFERROR(INDEX(Přehled_body!$E$3:$ED$130,MATCH(Tabulka!$AI45,Přehled_body!$A$3:$A$130,0),MATCH(Tabulka!U$2,Přehled_body!$E$1:$ED$1,0)),)=0,0.00000000001,IFERROR(INDEX(Přehled_body!$E$3:$ED$130,MATCH(Tabulka!$AI45,Přehled_body!$A$3:$A$130,0),MATCH(Tabulka!U$2,Přehled_body!$E$1:$ED$1,0)),)))","v":0},{"$f":"IF(IFERROR(INDEX(Přehled_body!$E$3:$ED$130,MATCH(Tabulka!$AI45,Přehled_body!$A$3:$A$130,0),MATCH(Tabulka!V$2,Přehled_body!$E$1:$ED$1,0)),)=\"\",,IF(IFERROR(INDEX(Přehled_body!$E$3:$ED$130,MATCH(Tabulka!$AI45,Přehled_body!$A$3:$A$130,0),MATCH(Tabulka!V$2,Přehled_body!$E$1:$ED$1,0)),)=0,0.00000000001,IFERROR(INDEX(Přehled_body!$E$3:$ED$130,MATCH(Tabulka!$AI45,Přehled_body!$A$3:$A$130,0),MATCH(Tabulka!V$2,Přehled_body!$E$1:$ED$1,0)),)))","v":0},{"$f":"IF(IFERROR(INDEX(Přehled_body!$E$3:$ED$130,MATCH(Tabulka!$AI45,Přehled_body!$A$3:$A$130,0),MATCH(Tabulka!W$2,Přehled_body!$E$1:$ED$1,0)),)=\"\",,IF(IFERROR(INDEX(Přehled_body!$E$3:$ED$130,MATCH(Tabulka!$AI45,Přehled_body!$A$3:$A$130,0),MATCH(Tabulka!W$2,Přehled_body!$E$1:$ED$1,0)),)=0,0.00000000001,IFERROR(INDEX(Přehled_body!$E$3:$ED$130,MATCH(Tabulka!$AI45,Přehled_body!$A$3:$A$130,0),MATCH(Tabulka!W$2,Přehled_body!$E$1:$ED$1,0)),)))","v":0},{"$f":"IF(IFERROR(INDEX(Přehled_body!$E$3:$ED$130,MATCH(Tabulka!$AI45,Přehled_body!$A$3:$A$130,0),MATCH(Tabulka!X$2,Přehled_body!$E$1:$ED$1,0)),)=\"\",,IF(IFERROR(INDEX(Přehled_body!$E$3:$ED$130,MATCH(Tabulka!$AI45,Přehled_body!$A$3:$A$130,0),MATCH(Tabulka!X$2,Přehled_body!$E$1:$ED$1,0)),)=0,0.00000000001,IFERROR(INDEX(Přehled_body!$E$3:$ED$130,MATCH(Tabulka!$AI45,Přehled_body!$A$3:$A$130,0),MATCH(Tabulka!X$2,Přehled_body!$E$1:$ED$1,0)),)))","v":0},{"$f":"IF(IFERROR(INDEX(Přehled_body!$E$3:$ED$130,MATCH(Tabulka!$AI45,Přehled_body!$A$3:$A$130,0),MATCH(Tabulka!Y$2,Přehled_body!$E$1:$ED$1,0)),)=\"\",,IF(IFERROR(INDEX(Přehled_body!$E$3:$ED$130,MATCH(Tabulka!$AI45,Přehled_body!$A$3:$A$130,0),MATCH(Tabulka!Y$2,Přehled_body!$E$1:$ED$1,0)),)=0,0.00000000001,IFERROR(INDEX(Přehled_body!$E$3:$ED$130,MATCH(Tabulka!$AI45,Přehled_body!$A$3:$A$130,0),MATCH(Tabulka!Y$2,Přehled_body!$E$1:$ED$1,0)),)))","v":0},{"$f":"IF(IFERROR(INDEX(Přehled_body!$E$3:$ED$130,MATCH(Tabulka!$AI45,Přehled_body!$A$3:$A$130,0),MATCH(Tabulka!Z$2,Přehled_body!$E$1:$ED$1,0)),)=\"\",,IF(IFERROR(INDEX(Přehled_body!$E$3:$ED$130,MATCH(Tabulka!$AI45,Přehled_body!$A$3:$A$130,0),MATCH(Tabulka!Z$2,Přehled_body!$E$1:$ED$1,0)),)=0,0.00000000001,IFERROR(INDEX(Přehled_body!$E$3:$ED$130,MATCH(Tabulka!$AI45,Přehled_body!$A$3:$A$130,0),MATCH(Tabulka!Z$2,Přehled_body!$E$1:$ED$1,0)),)))","v":0},{"$f":"IF(IFERROR(INDEX(Přehled_body!$E$3:$ED$130,MATCH(Tabulka!$AI45,Přehled_body!$A$3:$A$130,0),MATCH(Tabulka!AA$2,Přehled_body!$E$1:$ED$1,0)),)=\"\",,IF(IFERROR(INDEX(Přehled_body!$E$3:$ED$130,MATCH(Tabulka!$AI45,Přehled_body!$A$3:$A$130,0),MATCH(Tabulka!AA$2,Přehled_body!$E$1:$ED$1,0)),)=0,0.00000000001,IFERROR(INDEX(Přehled_body!$E$3:$ED$130,MATCH(Tabulka!$AI45,Přehled_body!$A$3:$A$130,0),MATCH(Tabulka!AA$2,Přehled_body!$E$1:$ED$1,0)),)))","v":0},{"$f":"IF(IFERROR(INDEX(Přehled_body!$E$3:$ED$130,MATCH(Tabulka!$AI45,Přehled_body!$A$3:$A$130,0),MATCH(Tabulka!AB$2,Přehled_body!$E$1:$ED$1,0)),)=\"\",,IF(IFERROR(INDEX(Přehled_body!$E$3:$ED$130,MATCH(Tabulka!$AI45,Přehled_body!$A$3:$A$130,0),MATCH(Tabulka!AB$2,Přehled_body!$E$1:$ED$1,0)),)=0,0.00000000001,IFERROR(INDEX(Přehled_body!$E$3:$ED$130,MATCH(Tabulka!$AI45,Přehled_body!$A$3:$A$130,0),MATCH(Tabulka!AB$2,Přehled_body!$E$1:$ED$1,0)),)))","v":0},{"$f":"IF(IFERROR(INDEX(Přehled_body!$E$3:$ED$130,MATCH(Tabulka!$AI45,Přehled_body!$A$3:$A$130,0),MATCH(Tabulka!AC$2,Přehled_body!$E$1:$ED$1,0)),)=\"\",,IF(IFERROR(INDEX(Přehled_body!$E$3:$ED$130,MATCH(Tabulka!$AI45,Přehled_body!$A$3:$A$130,0),MATCH(Tabulka!AC$2,Přehled_body!$E$1:$ED$1,0)),)=0,0.00000000001,IFERROR(INDEX(Přehled_body!$E$3:$ED$130,MATCH(Tabulka!$AI45,Přehled_body!$A$3:$A$130,0),MATCH(Tabulka!AC$2,Přehled_body!$E$1:$ED$1,0)),)))","v":0},{"$f":"IF(IFERROR(INDEX(Přehled_body!$E$3:$ED$130,MATCH(Tabulka!$AI45,Přehled_body!$A$3:$A$130,0),MATCH(Tabulka!AD$2,Přehled_body!$E$1:$ED$1,0)),)=\"\",,IF(IFERROR(INDEX(Přehled_body!$E$3:$ED$130,MATCH(Tabulka!$AI45,Přehled_body!$A$3:$A$130,0),MATCH(Tabulka!AD$2,Přehled_body!$E$1:$ED$1,0)),)=0,0.00000000001,IFERROR(INDEX(Přehled_body!$E$3:$ED$130,MATCH(Tabulka!$AI45,Přehled_body!$A$3:$A$130,0),MATCH(Tabulka!AD$2,Přehled_body!$E$1:$ED$1,0)),)))","v":0},{"$f":"IF(SUM(AG44)<2,-90000+SUM(D45:AD45),SUM(D45:AD45))","v":-89998},{"$f":"SUM(AE44-AE45)","v":-1.9999999999854481},null,2,{"$f":"CONCATENATE($B$45,\" \",$B$46,C45)","v":"Míra ChalupníkProhry"},null,null,1,null,null,"Míra",9]
[{"$f":"CONCATENATE(B46,\" \",B45)","v":"Chalupník Míra"},"Chalupník","Placeno panáků",{"$f":"IF(IFERROR(INDEX(Přehled_body!$E$3:$ED$130,MATCH(Tabulka!$AI46,Přehled_body!$A$3:$A$130,0),MATCH(Tabulka!D$2,Přehled_body!$E$1:$ED$1,0)),)=\"\",,IF(IFERROR(INDEX(Přehled_body!$E$3:$ED$130,MATCH(Tabulka!$AI46,Přehled_body!$A$3:$A$130,0),MATCH(Tabulka!D$2,Přehled_body!$E$1:$ED$1,0)),)=0,0.00000000001,IFERROR(INDEX(Přehled_body!$E$3:$ED$130,MATCH(Tabulka!$AI46,Přehled_body!$A$3:$A$130,0),MATCH(Tabulka!D$2,Přehled_body!$E$1:$ED$1,0)),)))","v":2},{"$f":"IF(IFERROR(INDEX(Přehled_body!$E$3:$ED$130,MATCH(Tabulka!$AI46,Přehled_body!$A$3:$A$130,0),MATCH(Tabulka!E$2,Přehled_body!$E$1:$ED$1,0)),)=\"\",,IF(IFERROR(INDEX(Přehled_body!$E$3:$ED$130,MATCH(Tabulka!$AI46,Přehled_body!$A$3:$A$130,0),MATCH(Tabulka!E$2,Přehled_body!$E$1:$ED$1,0)),)=0,0.00000000001,IFERROR(INDEX(Přehled_body!$E$3:$ED$130,MATCH(Tabulka!$AI46,Přehled_body!$A$3:$A$130,0),MATCH(Tabulka!E$2,Přehled_body!$E$1:$ED$1,0)),)))","v":0},{"$f":"IF(IFERROR(INDEX(Přehled_body!$E$3:$ED$130,MATCH(Tabulka!$AI46,Přehled_body!$A$3:$A$130,0),MATCH(Tabulka!F$2,Přehled_body!$E$1:$ED$1,0)),)=\"\",,IF(IFERROR(INDEX(Přehled_body!$E$3:$ED$130,MATCH(Tabulka!$AI46,Přehled_body!$A$3:$A$130,0),MATCH(Tabulka!F$2,Přehled_body!$E$1:$ED$1,0)),)=0,0.00000000001,IFERROR(INDEX(Přehled_body!$E$3:$ED$130,MATCH(Tabulka!$AI46,Přehled_body!$A$3:$A$130,0),MATCH(Tabulka!F$2,Přehled_body!$E$1:$ED$1,0)),)))","v":0},{"$f":"IF(IFERROR(INDEX(Přehled_body!$E$3:$ED$130,MATCH(Tabulka!$AI46,Přehled_body!$A$3:$A$130,0),MATCH(Tabulka!G$2,Přehled_body!$E$1:$ED$1,0)),)=\"\",,IF(IFERROR(INDEX(Přehled_body!$E$3:$ED$130,MATCH(Tabulka!$AI46,Přehled_body!$A$3:$A$130,0),MATCH(Tabulka!G$2,Přehled_body!$E$1:$ED$1,0)),)=0,0.00000000001,IFERROR(INDEX(Přehled_body!$E$3:$ED$130,MATCH(Tabulka!$AI46,Přehled_body!$A$3:$A$130,0),MATCH(Tabulka!G$2,Přehled_body!$E$1:$ED$1,0)),)))","v":0},{"$f":"IF(IFERROR(INDEX(Přehled_body!$E$3:$ED$130,MATCH(Tabulka!$AI46,Přehled_body!$A$3:$A$130,0),MATCH(Tabulka!H$2,Přehled_body!$E$1:$ED$1,0)),)=\"\",,IF(IFERROR(INDEX(Přehled_body!$E$3:$ED$130,MATCH(Tabulka!$AI46,Přehled_body!$A$3:$A$130,0),MATCH(Tabulka!H$2,Přehled_body!$E$1:$ED$1,0)),)=0,0.00000000001,IFERROR(INDEX(Přehled_body!$E$3:$ED$130,MATCH(Tabulka!$AI46,Přehled_body!$A$3:$A$130,0),MATCH(Tabulka!H$2,Přehled_body!$E$1:$ED$1,0)),)))","v":0},{"$f":"IF(IFERROR(INDEX(Přehled_body!$E$3:$ED$130,MATCH(Tabulka!$AI46,Přehled_body!$A$3:$A$130,0),MATCH(Tabulka!I$2,Přehled_body!$E$1:$ED$1,0)),)=\"\",,IF(IFERROR(INDEX(Přehled_body!$E$3:$ED$130,MATCH(Tabulka!$AI46,Přehled_body!$A$3:$A$130,0),MATCH(Tabulka!I$2,Přehled_body!$E$1:$ED$1,0)),)=0,0.00000000001,IFERROR(INDEX(Přehled_body!$E$3:$ED$130,MATCH(Tabulka!$AI46,Přehled_body!$A$3:$A$130,0),MATCH(Tabulka!I$2,Přehled_body!$E$1:$ED$1,0)),)))","v":0},{"$f":"IF(IFERROR(INDEX(Přehled_body!$E$3:$ED$130,MATCH(Tabulka!$AI46,Přehled_body!$A$3:$A$130,0),MATCH(Tabulka!J$2,Přehled_body!$E$1:$ED$1,0)),)=\"\",,IF(IFERROR(INDEX(Přehled_body!$E$3:$ED$130,MATCH(Tabulka!$AI46,Přehled_body!$A$3:$A$130,0),MATCH(Tabulka!J$2,Přehled_body!$E$1:$ED$1,0)),)=0,0.00000000001,IFERROR(INDEX(Přehled_body!$E$3:$ED$130,MATCH(Tabulka!$AI46,Přehled_body!$A$3:$A$130,0),MATCH(Tabulka!J$2,Přehled_body!$E$1:$ED$1,0)),)))","v":0},{"$f":"IF(IFERROR(INDEX(Přehled_body!$E$3:$ED$130,MATCH(Tabulka!$AI46,Přehled_body!$A$3:$A$130,0),MATCH(Tabulka!K$2,Přehled_body!$E$1:$ED$1,0)),)=\"\",,IF(IFERROR(INDEX(Přehled_body!$E$3:$ED$130,MATCH(Tabulka!$AI46,Přehled_body!$A$3:$A$130,0),MATCH(Tabulka!K$2,Přehled_body!$E$1:$ED$1,0)),)=0,0.00000000001,IFERROR(INDEX(Přehled_body!$E$3:$ED$130,MATCH(Tabulka!$AI46,Přehled_body!$A$3:$A$130,0),MATCH(Tabulka!K$2,Přehled_body!$E$1:$ED$1,0)),)))","v":0},{"$f":"IF(IFERROR(INDEX(Přehled_body!$E$3:$ED$130,MATCH(Tabulka!$AI46,Přehled_body!$A$3:$A$130,0),MATCH(Tabulka!L$2,Přehled_body!$E$1:$ED$1,0)),)=\"\",,IF(IFERROR(INDEX(Přehled_body!$E$3:$ED$130,MATCH(Tabulka!$AI46,Přehled_body!$A$3:$A$130,0),MATCH(Tabulka!L$2,Přehled_body!$E$1:$ED$1,0)),)=0,0.00000000001,IFERROR(INDEX(Přehled_body!$E$3:$ED$130,MATCH(Tabulka!$AI46,Přehled_body!$A$3:$A$130,0),MATCH(Tabulka!L$2,Přehled_body!$E$1:$ED$1,0)),)))","v":0},{"$f":"IF(IFERROR(INDEX(Přehled_body!$E$3:$ED$130,MATCH(Tabulka!$AI46,Přehled_body!$A$3:$A$130,0),MATCH(Tabulka!M$2,Přehled_body!$E$1:$ED$1,0)),)=\"\",,IF(IFERROR(INDEX(Přehled_body!$E$3:$ED$130,MATCH(Tabulka!$AI46,Přehled_body!$A$3:$A$130,0),MATCH(Tabulka!M$2,Přehled_body!$E$1:$ED$1,0)),)=0,0.00000000001,IFERROR(INDEX(Přehled_body!$E$3:$ED$130,MATCH(Tabulka!$AI46,Přehled_body!$A$3:$A$130,0),MATCH(Tabulka!M$2,Přehled_body!$E$1:$ED$1,0)),)))","v":0},{"$f":"IF(IFERROR(INDEX(Přehled_body!$E$3:$ED$130,MATCH(Tabulka!$AI46,Přehled_body!$A$3:$A$130,0),MATCH(Tabulka!N$2,Přehled_body!$E$1:$ED$1,0)),)=\"\",,IF(IFERROR(INDEX(Přehled_body!$E$3:$ED$130,MATCH(Tabulka!$AI46,Přehled_body!$A$3:$A$130,0),MATCH(Tabulka!N$2,Přehled_body!$E$1:$ED$1,0)),)=0,0.00000000001,IFERROR(INDEX(Přehled_body!$E$3:$ED$130,MATCH(Tabulka!$AI46,Přehled_body!$A$3:$A$130,0),MATCH(Tabulka!N$2,Přehled_body!$E$1:$ED$1,0)),)))","v":0},{"$f":"IF(IFERROR(INDEX(Přehled_body!$E$3:$ED$130,MATCH(Tabulka!$AI46,Přehled_body!$A$3:$A$130,0),MATCH(Tabulka!O$2,Přehled_body!$E$1:$ED$1,0)),)=\"\",,IF(IFERROR(INDEX(Přehled_body!$E$3:$ED$130,MATCH(Tabulka!$AI46,Přehled_body!$A$3:$A$130,0),MATCH(Tabulka!O$2,Přehled_body!$E$1:$ED$1,0)),)=0,0.00000000001,IFERROR(INDEX(Přehled_body!$E$3:$ED$130,MATCH(Tabulka!$AI46,Přehled_body!$A$3:$A$130,0),MATCH(Tabulka!O$2,Přehled_body!$E$1:$ED$1,0)),)))","v":0},{"$f":"IF(IFERROR(INDEX(Přehled_body!$E$3:$ED$130,MATCH(Tabulka!$AI46,Přehled_body!$A$3:$A$130,0),MATCH(Tabulka!P$2,Přehled_body!$E$1:$ED$1,0)),)=\"\",,IF(IFERROR(INDEX(Přehled_body!$E$3:$ED$130,MATCH(Tabulka!$AI46,Přehled_body!$A$3:$A$130,0),MATCH(Tabulka!P$2,Přehled_body!$E$1:$ED$1,0)),)=0,0.00000000001,IFERROR(INDEX(Přehled_body!$E$3:$ED$130,MATCH(Tabulka!$AI46,Přehled_body!$A$3:$A$130,0),MATCH(Tabulka!P$2,Přehled_body!$E$1:$ED$1,0)),)))","v":0},{"$f":"IF(IFERROR(INDEX(Přehled_body!$E$3:$ED$130,MATCH(Tabulka!$AI46,Přehled_body!$A$3:$A$130,0),MATCH(Tabulka!Q$2,Přehled_body!$E$1:$ED$1,0)),)=\"\",,IF(IFERROR(INDEX(Přehled_body!$E$3:$ED$130,MATCH(Tabulka!$AI46,Přehled_body!$A$3:$A$130,0),MATCH(Tabulka!Q$2,Přehled_body!$E$1:$ED$1,0)),)=0,0.00000000001,IFERROR(INDEX(Přehled_body!$E$3:$ED$130,MATCH(Tabulka!$AI46,Přehled_body!$A$3:$A$130,0),MATCH(Tabulka!Q$2,Přehled_body!$E$1:$ED$1,0)),)))","v":0},{"$f":"IF(IFERROR(INDEX(Přehled_body!$E$3:$ED$130,MATCH(Tabulka!$AI46,Přehled_body!$A$3:$A$130,0),MATCH(Tabulka!R$2,Přehled_body!$E$1:$ED$1,0)),)=\"\",,IF(IFERROR(INDEX(Přehled_body!$E$3:$ED$130,MATCH(Tabulka!$AI46,Přehled_body!$A$3:$A$130,0),MATCH(Tabulka!R$2,Přehled_body!$E$1:$ED$1,0)),)=0,0.00000000001,IFERROR(INDEX(Přehled_body!$E$3:$ED$130,MATCH(Tabulka!$AI46,Přehled_body!$A$3:$A$130,0),MATCH(Tabulka!R$2,Přehled_body!$E$1:$ED$1,0)),)))","v":0},{"$f":"IF(IFERROR(INDEX(Přehled_body!$E$3:$ED$130,MATCH(Tabulka!$AI46,Přehled_body!$A$3:$A$130,0),MATCH(Tabulka!S$2,Přehled_body!$E$1:$ED$1,0)),)=\"\",,IF(IFERROR(INDEX(Přehled_body!$E$3:$ED$130,MATCH(Tabulka!$AI46,Přehled_body!$A$3:$A$130,0),MATCH(Tabulka!S$2,Přehled_body!$E$1:$ED$1,0)),)=0,0.00000000001,IFERROR(INDEX(Přehled_body!$E$3:$ED$130,MATCH(Tabulka!$AI46,Přehled_body!$A$3:$A$130,0),MATCH(Tabulka!S$2,Přehled_body!$E$1:$ED$1,0)),)))","v":0},{"$f":"IF(IFERROR(INDEX(Přehled_body!$E$3:$ED$130,MATCH(Tabulka!$AI46,Přehled_body!$A$3:$A$130,0),MATCH(Tabulka!T$2,Přehled_body!$E$1:$ED$1,0)),)=\"\",,IF(IFERROR(INDEX(Přehled_body!$E$3:$ED$130,MATCH(Tabulka!$AI46,Přehled_body!$A$3:$A$130,0),MATCH(Tabulka!T$2,Přehled_body!$E$1:$ED$1,0)),)=0,0.00000000001,IFERROR(INDEX(Přehled_body!$E$3:$ED$130,MATCH(Tabulka!$AI46,Přehled_body!$A$3:$A$130,0),MATCH(Tabulka!T$2,Přehled_body!$E$1:$ED$1,0)),)))","v":0},{"$f":"IF(IFERROR(INDEX(Přehled_body!$E$3:$ED$130,MATCH(Tabulka!$AI46,Přehled_body!$A$3:$A$130,0),MATCH(Tabulka!U$2,Přehled_body!$E$1:$ED$1,0)),)=\"\",,IF(IFERROR(INDEX(Přehled_body!$E$3:$ED$130,MATCH(Tabulka!$AI46,Přehled_body!$A$3:$A$130,0),MATCH(Tabulka!U$2,Přehled_body!$E$1:$ED$1,0)),)=0,0.00000000001,IFERROR(INDEX(Přehled_body!$E$3:$ED$130,MATCH(Tabulka!$AI46,Přehled_body!$A$3:$A$130,0),MATCH(Tabulka!U$2,Přehled_body!$E$1:$ED$1,0)),)))","v":0},{"$f":"IF(IFERROR(INDEX(Přehled_body!$E$3:$ED$130,MATCH(Tabulka!$AI46,Přehled_body!$A$3:$A$130,0),MATCH(Tabulka!V$2,Přehled_body!$E$1:$ED$1,0)),)=\"\",,IF(IFERROR(INDEX(Přehled_body!$E$3:$ED$130,MATCH(Tabulka!$AI46,Přehled_body!$A$3:$A$130,0),MATCH(Tabulka!V$2,Přehled_body!$E$1:$ED$1,0)),)=0,0.00000000001,IFERROR(INDEX(Přehled_body!$E$3:$ED$130,MATCH(Tabulka!$AI46,Přehled_body!$A$3:$A$130,0),MATCH(Tabulka!V$2,Přehled_body!$E$1:$ED$1,0)),)))","v":0},{"$f":"IF(IFERROR(INDEX(Přehled_body!$E$3:$ED$130,MATCH(Tabulka!$AI46,Přehled_body!$A$3:$A$130,0),MATCH(Tabulka!W$2,Přehled_body!$E$1:$ED$1,0)),)=\"\",,IF(IFERROR(INDEX(Přehled_body!$E$3:$ED$130,MATCH(Tabulka!$AI46,Přehled_body!$A$3:$A$130,0),MATCH(Tabulka!W$2,Přehled_body!$E$1:$ED$1,0)),)=0,0.00000000001,IFERROR(INDEX(Přehled_body!$E$3:$ED$130,MATCH(Tabulka!$AI46,Přehled_body!$A$3:$A$130,0),MATCH(Tabulka!W$2,Přehled_body!$E$1:$ED$1,0)),)))","v":0},{"$f":"IF(IFERROR(INDEX(Přehled_body!$E$3:$ED$130,MATCH(Tabulka!$AI46,Přehled_body!$A$3:$A$130,0),MATCH(Tabulka!X$2,Přehled_body!$E$1:$ED$1,0)),)=\"\",,IF(IFERROR(INDEX(Přehled_body!$E$3:$ED$130,MATCH(Tabulka!$AI46,Přehled_body!$A$3:$A$130,0),MATCH(Tabulka!X$2,Přehled_body!$E$1:$ED$1,0)),)=0,0.00000000001,IFERROR(INDEX(Přehled_body!$E$3:$ED$130,MATCH(Tabulka!$AI46,Přehled_body!$A$3:$A$130,0),MATCH(Tabulka!X$2,Přehled_body!$E$1:$ED$1,0)),)))","v":0},{"$f":"IF(IFERROR(INDEX(Přehled_body!$E$3:$ED$130,MATCH(Tabulka!$AI46,Přehled_body!$A$3:$A$130,0),MATCH(Tabulka!Y$2,Přehled_body!$E$1:$ED$1,0)),)=\"\",,IF(IFERROR(INDEX(Přehled_body!$E$3:$ED$130,MATCH(Tabulka!$AI46,Přehled_body!$A$3:$A$130,0),MATCH(Tabulka!Y$2,Přehled_body!$E$1:$ED$1,0)),)=0,0.00000000001,IFERROR(INDEX(Přehled_body!$E$3:$ED$130,MATCH(Tabulka!$AI46,Přehled_body!$A$3:$A$130,0),MATCH(Tabulka!Y$2,Přehled_body!$E$1:$ED$1,0)),)))","v":0},{"$f":"IF(IFERROR(INDEX(Přehled_body!$E$3:$ED$130,MATCH(Tabulka!$AI46,Přehled_body!$A$3:$A$130,0),MATCH(Tabulka!Z$2,Přehled_body!$E$1:$ED$1,0)),)=\"\",,IF(IFERROR(INDEX(Přehled_body!$E$3:$ED$130,MATCH(Tabulka!$AI46,Přehled_body!$A$3:$A$130,0),MATCH(Tabulka!Z$2,Přehled_body!$E$1:$ED$1,0)),)=0,0.00000000001,IFERROR(INDEX(Přehled_body!$E$3:$ED$130,MATCH(Tabulka!$AI46,Přehled_body!$A$3:$A$130,0),MATCH(Tabulka!Z$2,Přehled_body!$E$1:$ED$1,0)),)))","v":0},{"$f":"IF(IFERROR(INDEX(Přehled_body!$E$3:$ED$130,MATCH(Tabulka!$AI46,Přehled_body!$A$3:$A$130,0),MATCH(Tabulka!AA$2,Přehled_body!$E$1:$ED$1,0)),)=\"\",,IF(IFERROR(INDEX(Přehled_body!$E$3:$ED$130,MATCH(Tabulka!$AI46,Přehled_body!$A$3:$A$130,0),MATCH(Tabulka!AA$2,Přehled_body!$E$1:$ED$1,0)),)=0,0.00000000001,IFERROR(INDEX(Přehled_body!$E$3:$ED$130,MATCH(Tabulka!$AI46,Přehled_body!$A$3:$A$130,0),MATCH(Tabulka!AA$2,Přehled_body!$E$1:$ED$1,0)),)))","v":0},{"$f":"IF(IFERROR(INDEX(Přehled_body!$E$3:$ED$130,MATCH(Tabulka!$AI46,Přehled_body!$A$3:$A$130,0),MATCH(Tabulka!AB$2,Přehled_body!$E$1:$ED$1,0)),)=\"\",,IF(IFERROR(INDEX(Přehled_body!$E$3:$ED$130,MATCH(Tabulka!$AI46,Přehled_body!$A$3:$A$130,0),MATCH(Tabulka!AB$2,Přehled_body!$E$1:$ED$1,0)),)=0,0.00000000001,IFERROR(INDEX(Přehled_body!$E$3:$ED$130,MATCH(Tabulka!$AI46,Přehled_body!$A$3:$A$130,0),MATCH(Tabulka!AB$2,Přehled_body!$E$1:$ED$1,0)),)))","v":0},{"$f":"IF(IFERROR(INDEX(Přehled_body!$E$3:$ED$130,MATCH(Tabulka!$AI46,Přehled_body!$A$3:$A$130,0),MATCH(Tabulka!AC$2,Přehled_body!$E$1:$ED$1,0)),)=\"\",,IF(IFERROR(INDEX(Přehled_body!$E$3:$ED$130,MATCH(Tabulka!$AI46,Přehled_body!$A$3:$A$130,0),MATCH(Tabulka!AC$2,Přehled_body!$E$1:$ED$1,0)),)=0,0.00000000001,IFERROR(INDEX(Přehled_body!$E$3:$ED$130,MATCH(Tabulka!$AI46,Přehled_body!$A$3:$A$130,0),MATCH(Tabulka!AC$2,Přehled_body!$E$1:$ED$1,0)),)))","v":0},{"$f":"IF(IFERROR(INDEX(Přehled_body!$E$3:$ED$130,MATCH(Tabulka!$AI46,Přehled_body!$A$3:$A$130,0),MATCH(Tabulka!AD$2,Přehled_body!$E$1:$ED$1,0)),)=\"\",,IF(IFERROR(INDEX(Přehled_body!$E$3:$ED$130,MATCH(Tabulka!$AI46,Přehled_body!$A$3:$A$130,0),MATCH(Tabulka!AD$2,Přehled_body!$E$1:$ED$1,0)),)=0,0.00000000001,IFERROR(INDEX(Přehled_body!$E$3:$ED$130,MATCH(Tabulka!$AI46,Přehled_body!$A$3:$A$130,0),MATCH(Tabulka!AD$2,Přehled_body!$E$1:$ED$1,0)),)))","v":0},{"$f":"IF(SUM(AG44)<2,-90000+SUM(D46:AD46),SUM(D46:AD46))","v":-89998},null,null,{"$f":"SUM(D46:AD46)+INDEX(List4!$D$2:$F$17,MATCH(Tabulka!A45,List4!$D$2:$D$17,0),3)","v":2.0000000409999998},{"$f":"CONCATENATE($B$45,\" \",$B$46,C46)","v":"Míra ChalupníkPlaceno panáků"},null,null,1,null,null,"Chalupník",{"$f":"CONCATENATE(AQ46,\" \",AQ47)","v":"Jiří Fiala"},"Jiří"]
[null,null,"Přehozy",{"$f":"IF(IFERROR(INDEX(Přehled_body!$E$3:$ED$130,MATCH(Tabulka!$AI47,Přehled_body!$A$3:$A$130,0),MATCH(Tabulka!D$2,Přehled_body!$E$1:$ED$1,0)),)=\"\",,IF(IFERROR(INDEX(Přehled_body!$E$3:$ED$130,MATCH(Tabulka!$AI47,Přehled_body!$A$3:$A$130,0),MATCH(Tabulka!D$2,Přehled_body!$E$1:$ED$1,0)),)=0,0.00000000001,IFERROR(INDEX(Přehled_body!$E$3:$ED$130,MATCH(Tabulka!$AI47,Přehled_body!$A$3:$A$130,0),MATCH(Tabulka!D$2,Přehled_body!$E$1:$ED$1,0)),)))","v":1},{"$f":"IF(IFERROR(INDEX(Přehled_body!$E$3:$ED$130,MATCH(Tabulka!$AI47,Přehled_body!$A$3:$A$130,0),MATCH(Tabulka!E$2,Přehled_body!$E$1:$ED$1,0)),)=\"\",,IF(IFERROR(INDEX(Přehled_body!$E$3:$ED$130,MATCH(Tabulka!$AI47,Přehled_body!$A$3:$A$130,0),MATCH(Tabulka!E$2,Přehled_body!$E$1:$ED$1,0)),)=0,0.00000000001,IFERROR(INDEX(Přehled_body!$E$3:$ED$130,MATCH(Tabulka!$AI47,Přehled_body!$A$3:$A$130,0),MATCH(Tabulka!E$2,Přehled_body!$E$1:$ED$1,0)),)))","v":0},{"$f":"IF(IFERROR(INDEX(Přehled_body!$E$3:$ED$130,MATCH(Tabulka!$AI47,Přehled_body!$A$3:$A$130,0),MATCH(Tabulka!F$2,Přehled_body!$E$1:$ED$1,0)),)=\"\",,IF(IFERROR(INDEX(Přehled_body!$E$3:$ED$130,MATCH(Tabulka!$AI47,Přehled_body!$A$3:$A$130,0),MATCH(Tabulka!F$2,Přehled_body!$E$1:$ED$1,0)),)=0,0.00000000001,IFERROR(INDEX(Přehled_body!$E$3:$ED$130,MATCH(Tabulka!$AI47,Přehled_body!$A$3:$A$130,0),MATCH(Tabulka!F$2,Přehled_body!$E$1:$ED$1,0)),)))","v":0},{"$f":"IF(IFERROR(INDEX(Přehled_body!$E$3:$ED$130,MATCH(Tabulka!$AI47,Přehled_body!$A$3:$A$130,0),MATCH(Tabulka!G$2,Přehled_body!$E$1:$ED$1,0)),)=\"\",,IF(IFERROR(INDEX(Přehled_body!$E$3:$ED$130,MATCH(Tabulka!$AI47,Přehled_body!$A$3:$A$130,0),MATCH(Tabulka!G$2,Přehled_body!$E$1:$ED$1,0)),)=0,0.00000000001,IFERROR(INDEX(Přehled_body!$E$3:$ED$130,MATCH(Tabulka!$AI47,Přehled_body!$A$3:$A$130,0),MATCH(Tabulka!G$2,Přehled_body!$E$1:$ED$1,0)),)))","v":0},{"$f":"IF(IFERROR(INDEX(Přehled_body!$E$3:$ED$130,MATCH(Tabulka!$AI47,Přehled_body!$A$3:$A$130,0),MATCH(Tabulka!H$2,Přehled_body!$E$1:$ED$1,0)),)=\"\",,IF(IFERROR(INDEX(Přehled_body!$E$3:$ED$130,MATCH(Tabulka!$AI47,Přehled_body!$A$3:$A$130,0),MATCH(Tabulka!H$2,Přehled_body!$E$1:$ED$1,0)),)=0,0.00000000001,IFERROR(INDEX(Přehled_body!$E$3:$ED$130,MATCH(Tabulka!$AI47,Přehled_body!$A$3:$A$130,0),MATCH(Tabulka!H$2,Přehled_body!$E$1:$ED$1,0)),)))","v":0},{"$f":"IF(IFERROR(INDEX(Přehled_body!$E$3:$ED$130,MATCH(Tabulka!$AI47,Přehled_body!$A$3:$A$130,0),MATCH(Tabulka!I$2,Přehled_body!$E$1:$ED$1,0)),)=\"\",,IF(IFERROR(INDEX(Přehled_body!$E$3:$ED$130,MATCH(Tabulka!$AI47,Přehled_body!$A$3:$A$130,0),MATCH(Tabulka!I$2,Přehled_body!$E$1:$ED$1,0)),)=0,0.00000000001,IFERROR(INDEX(Přehled_body!$E$3:$ED$130,MATCH(Tabulka!$AI47,Přehled_body!$A$3:$A$130,0),MATCH(Tabulka!I$2,Přehled_body!$E$1:$ED$1,0)),)))","v":0},{"$f":"IF(IFERROR(INDEX(Přehled_body!$E$3:$ED$130,MATCH(Tabulka!$AI47,Přehled_body!$A$3:$A$130,0),MATCH(Tabulka!J$2,Přehled_body!$E$1:$ED$1,0)),)=\"\",,IF(IFERROR(INDEX(Přehled_body!$E$3:$ED$130,MATCH(Tabulka!$AI47,Přehled_body!$A$3:$A$130,0),MATCH(Tabulka!J$2,Přehled_body!$E$1:$ED$1,0)),)=0,0.00000000001,IFERROR(INDEX(Přehled_body!$E$3:$ED$130,MATCH(Tabulka!$AI47,Přehled_body!$A$3:$A$130,0),MATCH(Tabulka!J$2,Přehled_body!$E$1:$ED$1,0)),)))","v":0},{"$f":"IF(IFERROR(INDEX(Přehled_body!$E$3:$ED$130,MATCH(Tabulka!$AI47,Přehled_body!$A$3:$A$130,0),MATCH(Tabulka!K$2,Přehled_body!$E$1:$ED$1,0)),)=\"\",,IF(IFERROR(INDEX(Přehled_body!$E$3:$ED$130,MATCH(Tabulka!$AI47,Přehled_body!$A$3:$A$130,0),MATCH(Tabulka!K$2,Přehled_body!$E$1:$ED$1,0)),)=0,0.00000000001,IFERROR(INDEX(Přehled_body!$E$3:$ED$130,MATCH(Tabulka!$AI47,Přehled_body!$A$3:$A$130,0),MATCH(Tabulka!K$2,Přehled_body!$E$1:$ED$1,0)),)))","v":0},{"$f":"IF(IFERROR(INDEX(Přehled_body!$E$3:$ED$130,MATCH(Tabulka!$AI47,Přehled_body!$A$3:$A$130,0),MATCH(Tabulka!L$2,Přehled_body!$E$1:$ED$1,0)),)=\"\",,IF(IFERROR(INDEX(Přehled_body!$E$3:$ED$130,MATCH(Tabulka!$AI47,Přehled_body!$A$3:$A$130,0),MATCH(Tabulka!L$2,Přehled_body!$E$1:$ED$1,0)),)=0,0.00000000001,IFERROR(INDEX(Přehled_body!$E$3:$ED$130,MATCH(Tabulka!$AI47,Přehled_body!$A$3:$A$130,0),MATCH(Tabulka!L$2,Přehled_body!$E$1:$ED$1,0)),)))","v":0},{"$f":"IF(IFERROR(INDEX(Přehled_body!$E$3:$ED$130,MATCH(Tabulka!$AI47,Přehled_body!$A$3:$A$130,0),MATCH(Tabulka!M$2,Přehled_body!$E$1:$ED$1,0)),)=\"\",,IF(IFERROR(INDEX(Přehled_body!$E$3:$ED$130,MATCH(Tabulka!$AI47,Přehled_body!$A$3:$A$130,0),MATCH(Tabulka!M$2,Přehled_body!$E$1:$ED$1,0)),)=0,0.00000000001,IFERROR(INDEX(Přehled_body!$E$3:$ED$130,MATCH(Tabulka!$AI47,Přehled_body!$A$3:$A$130,0),MATCH(Tabulka!M$2,Přehled_body!$E$1:$ED$1,0)),)))","v":0},{"$f":"IF(IFERROR(INDEX(Přehled_body!$E$3:$ED$130,MATCH(Tabulka!$AI47,Přehled_body!$A$3:$A$130,0),MATCH(Tabulka!N$2,Přehled_body!$E$1:$ED$1,0)),)=\"\",,IF(IFERROR(INDEX(Přehled_body!$E$3:$ED$130,MATCH(Tabulka!$AI47,Přehled_body!$A$3:$A$130,0),MATCH(Tabulka!N$2,Přehled_body!$E$1:$ED$1,0)),)=0,0.00000000001,IFERROR(INDEX(Přehled_body!$E$3:$ED$130,MATCH(Tabulka!$AI47,Přehled_body!$A$3:$A$130,0),MATCH(Tabulka!N$2,Přehled_body!$E$1:$ED$1,0)),)))","v":0},{"$f":"IF(IFERROR(INDEX(Přehled_body!$E$3:$ED$130,MATCH(Tabulka!$AI47,Přehled_body!$A$3:$A$130,0),MATCH(Tabulka!O$2,Přehled_body!$E$1:$ED$1,0)),)=\"\",,IF(IFERROR(INDEX(Přehled_body!$E$3:$ED$130,MATCH(Tabulka!$AI47,Přehled_body!$A$3:$A$130,0),MATCH(Tabulka!O$2,Přehled_body!$E$1:$ED$1,0)),)=0,0.00000000001,IFERROR(INDEX(Přehled_body!$E$3:$ED$130,MATCH(Tabulka!$AI47,Přehled_body!$A$3:$A$130,0),MATCH(Tabulka!O$2,Přehled_body!$E$1:$ED$1,0)),)))","v":0},{"$f":"IF(IFERROR(INDEX(Přehled_body!$E$3:$ED$130,MATCH(Tabulka!$AI47,Přehled_body!$A$3:$A$130,0),MATCH(Tabulka!P$2,Přehled_body!$E$1:$ED$1,0)),)=\"\",,IF(IFERROR(INDEX(Přehled_body!$E$3:$ED$130,MATCH(Tabulka!$AI47,Přehled_body!$A$3:$A$130,0),MATCH(Tabulka!P$2,Přehled_body!$E$1:$ED$1,0)),)=0,0.00000000001,IFERROR(INDEX(Přehled_body!$E$3:$ED$130,MATCH(Tabulka!$AI47,Přehled_body!$A$3:$A$130,0),MATCH(Tabulka!P$2,Přehled_body!$E$1:$ED$1,0)),)))","v":0},{"$f":"IF(IFERROR(INDEX(Přehled_body!$E$3:$ED$130,MATCH(Tabulka!$AI47,Přehled_body!$A$3:$A$130,0),MATCH(Tabulka!Q$2,Přehled_body!$E$1:$ED$1,0)),)=\"\",,IF(IFERROR(INDEX(Přehled_body!$E$3:$ED$130,MATCH(Tabulka!$AI47,Přehled_body!$A$3:$A$130,0),MATCH(Tabulka!Q$2,Přehled_body!$E$1:$ED$1,0)),)=0,0.00000000001,IFERROR(INDEX(Přehled_body!$E$3:$ED$130,MATCH(Tabulka!$AI47,Přehled_body!$A$3:$A$130,0),MATCH(Tabulka!Q$2,Přehled_body!$E$1:$ED$1,0)),)))","v":0},{"$f":"IF(IFERROR(INDEX(Přehled_body!$E$3:$ED$130,MATCH(Tabulka!$AI47,Přehled_body!$A$3:$A$130,0),MATCH(Tabulka!R$2,Přehled_body!$E$1:$ED$1,0)),)=\"\",,IF(IFERROR(INDEX(Přehled_body!$E$3:$ED$130,MATCH(Tabulka!$AI47,Přehled_body!$A$3:$A$130,0),MATCH(Tabulka!R$2,Přehled_body!$E$1:$ED$1,0)),)=0,0.00000000001,IFERROR(INDEX(Přehled_body!$E$3:$ED$130,MATCH(Tabulka!$AI47,Přehled_body!$A$3:$A$130,0),MATCH(Tabulka!R$2,Přehled_body!$E$1:$ED$1,0)),)))","v":0},{"$f":"IF(IFERROR(INDEX(Přehled_body!$E$3:$ED$130,MATCH(Tabulka!$AI47,Přehled_body!$A$3:$A$130,0),MATCH(Tabulka!S$2,Přehled_body!$E$1:$ED$1,0)),)=\"\",,IF(IFERROR(INDEX(Přehled_body!$E$3:$ED$130,MATCH(Tabulka!$AI47,Přehled_body!$A$3:$A$130,0),MATCH(Tabulka!S$2,Přehled_body!$E$1:$ED$1,0)),)=0,0.00000000001,IFERROR(INDEX(Přehled_body!$E$3:$ED$130,MATCH(Tabulka!$AI47,Přehled_body!$A$3:$A$130,0),MATCH(Tabulka!S$2,Přehled_body!$E$1:$ED$1,0)),)))","v":0},{"$f":"IF(IFERROR(INDEX(Přehled_body!$E$3:$ED$130,MATCH(Tabulka!$AI47,Přehled_body!$A$3:$A$130,0),MATCH(Tabulka!T$2,Přehled_body!$E$1:$ED$1,0)),)=\"\",,IF(IFERROR(INDEX(Přehled_body!$E$3:$ED$130,MATCH(Tabulka!$AI47,Přehled_body!$A$3:$A$130,0),MATCH(Tabulka!T$2,Přehled_body!$E$1:$ED$1,0)),)=0,0.00000000001,IFERROR(INDEX(Přehled_body!$E$3:$ED$130,MATCH(Tabulka!$AI47,Přehled_body!$A$3:$A$130,0),MATCH(Tabulka!T$2,Přehled_body!$E$1:$ED$1,0)),)))","v":0},{"$f":"IF(IFERROR(INDEX(Přehled_body!$E$3:$ED$130,MATCH(Tabulka!$AI47,Přehled_body!$A$3:$A$130,0),MATCH(Tabulka!U$2,Přehled_body!$E$1:$ED$1,0)),)=\"\",,IF(IFERROR(INDEX(Přehled_body!$E$3:$ED$130,MATCH(Tabulka!$AI47,Přehled_body!$A$3:$A$130,0),MATCH(Tabulka!U$2,Přehled_body!$E$1:$ED$1,0)),)=0,0.00000000001,IFERROR(INDEX(Přehled_body!$E$3:$ED$130,MATCH(Tabulka!$AI47,Přehled_body!$A$3:$A$130,0),MATCH(Tabulka!U$2,Přehled_body!$E$1:$ED$1,0)),)))","v":0},{"$f":"IF(IFERROR(INDEX(Přehled_body!$E$3:$ED$130,MATCH(Tabulka!$AI47,Přehled_body!$A$3:$A$130,0),MATCH(Tabulka!V$2,Přehled_body!$E$1:$ED$1,0)),)=\"\",,IF(IFERROR(INDEX(Přehled_body!$E$3:$ED$130,MATCH(Tabulka!$AI47,Přehled_body!$A$3:$A$130,0),MATCH(Tabulka!V$2,Přehled_body!$E$1:$ED$1,0)),)=0,0.00000000001,IFERROR(INDEX(Přehled_body!$E$3:$ED$130,MATCH(Tabulka!$AI47,Přehled_body!$A$3:$A$130,0),MATCH(Tabulka!V$2,Přehled_body!$E$1:$ED$1,0)),)))","v":0},{"$f":"IF(IFERROR(INDEX(Přehled_body!$E$3:$ED$130,MATCH(Tabulka!$AI47,Přehled_body!$A$3:$A$130,0),MATCH(Tabulka!W$2,Přehled_body!$E$1:$ED$1,0)),)=\"\",,IF(IFERROR(INDEX(Přehled_body!$E$3:$ED$130,MATCH(Tabulka!$AI47,Přehled_body!$A$3:$A$130,0),MATCH(Tabulka!W$2,Přehled_body!$E$1:$ED$1,0)),)=0,0.00000000001,IFERROR(INDEX(Přehled_body!$E$3:$ED$130,MATCH(Tabulka!$AI47,Přehled_body!$A$3:$A$130,0),MATCH(Tabulka!W$2,Přehled_body!$E$1:$ED$1,0)),)))","v":0},{"$f":"IF(IFERROR(INDEX(Přehled_body!$E$3:$ED$130,MATCH(Tabulka!$AI47,Přehled_body!$A$3:$A$130,0),MATCH(Tabulka!X$2,Přehled_body!$E$1:$ED$1,0)),)=\"\",,IF(IFERROR(INDEX(Přehled_body!$E$3:$ED$130,MATCH(Tabulka!$AI47,Přehled_body!$A$3:$A$130,0),MATCH(Tabulka!X$2,Přehled_body!$E$1:$ED$1,0)),)=0,0.00000000001,IFERROR(INDEX(Přehled_body!$E$3:$ED$130,MATCH(Tabulka!$AI47,Přehled_body!$A$3:$A$130,0),MATCH(Tabulka!X$2,Přehled_body!$E$1:$ED$1,0)),)))","v":0},{"$f":"IF(IFERROR(INDEX(Přehled_body!$E$3:$ED$130,MATCH(Tabulka!$AI47,Přehled_body!$A$3:$A$130,0),MATCH(Tabulka!Y$2,Přehled_body!$E$1:$ED$1,0)),)=\"\",,IF(IFERROR(INDEX(Přehled_body!$E$3:$ED$130,MATCH(Tabulka!$AI47,Přehled_body!$A$3:$A$130,0),MATCH(Tabulka!Y$2,Přehled_body!$E$1:$ED$1,0)),)=0,0.00000000001,IFERROR(INDEX(Přehled_body!$E$3:$ED$130,MATCH(Tabulka!$AI47,Přehled_body!$A$3:$A$130,0),MATCH(Tabulka!Y$2,Přehled_body!$E$1:$ED$1,0)),)))","v":0},{"$f":"IF(IFERROR(INDEX(Přehled_body!$E$3:$ED$130,MATCH(Tabulka!$AI47,Přehled_body!$A$3:$A$130,0),MATCH(Tabulka!Z$2,Přehled_body!$E$1:$ED$1,0)),)=\"\",,IF(IFERROR(INDEX(Přehled_body!$E$3:$ED$130,MATCH(Tabulka!$AI47,Přehled_body!$A$3:$A$130,0),MATCH(Tabulka!Z$2,Přehled_body!$E$1:$ED$1,0)),)=0,0.00000000001,IFERROR(INDEX(Přehled_body!$E$3:$ED$130,MATCH(Tabulka!$AI47,Přehled_body!$A$3:$A$130,0),MATCH(Tabulka!Z$2,Přehled_body!$E$1:$ED$1,0)),)))","v":0},{"$f":"IF(IFERROR(INDEX(Přehled_body!$E$3:$ED$130,MATCH(Tabulka!$AI47,Přehled_body!$A$3:$A$130,0),MATCH(Tabulka!AA$2,Přehled_body!$E$1:$ED$1,0)),)=\"\",,IF(IFERROR(INDEX(Přehled_body!$E$3:$ED$130,MATCH(Tabulka!$AI47,Přehled_body!$A$3:$A$130,0),MATCH(Tabulka!AA$2,Přehled_body!$E$1:$ED$1,0)),)=0,0.00000000001,IFERROR(INDEX(Přehled_body!$E$3:$ED$130,MATCH(Tabulka!$AI47,Přehled_body!$A$3:$A$130,0),MATCH(Tabulka!AA$2,Přehled_body!$E$1:$ED$1,0)),)))","v":0},{"$f":"IF(IFERROR(INDEX(Přehled_body!$E$3:$ED$130,MATCH(Tabulka!$AI47,Přehled_body!$A$3:$A$130,0),MATCH(Tabulka!AB$2,Přehled_body!$E$1:$ED$1,0)),)=\"\",,IF(IFERROR(INDEX(Přehled_body!$E$3:$ED$130,MATCH(Tabulka!$AI47,Přehled_body!$A$3:$A$130,0),MATCH(Tabulka!AB$2,Přehled_body!$E$1:$ED$1,0)),)=0,0.00000000001,IFERROR(INDEX(Přehled_body!$E$3:$ED$130,MATCH(Tabulka!$AI47,Přehled_body!$A$3:$A$130,0),MATCH(Tabulka!AB$2,Přehled_body!$E$1:$ED$1,0)),)))","v":0},{"$f":"IF(IFERROR(INDEX(Přehled_body!$E$3:$ED$130,MATCH(Tabulka!$AI47,Přehled_body!$A$3:$A$130,0),MATCH(Tabulka!AC$2,Přehled_body!$E$1:$ED$1,0)),)=\"\",,IF(IFERROR(INDEX(Přehled_body!$E$3:$ED$130,MATCH(Tabulka!$AI47,Přehled_body!$A$3:$A$130,0),MATCH(Tabulka!AC$2,Přehled_body!$E$1:$ED$1,0)),)=0,0.00000000001,IFERROR(INDEX(Přehled_body!$E$3:$ED$130,MATCH(Tabulka!$AI47,Přehled_body!$A$3:$A$130,0),MATCH(Tabulka!AC$2,Přehled_body!$E$1:$ED$1,0)),)))","v":0},{"$f":"IF(IFERROR(INDEX(Přehled_body!$E$3:$ED$130,MATCH(Tabulka!$AI47,Přehled_body!$A$3:$A$130,0),MATCH(Tabulka!AD$2,Přehled_body!$E$1:$ED$1,0)),)=\"\",,IF(IFERROR(INDEX(Přehled_body!$E$3:$ED$130,MATCH(Tabulka!$AI47,Přehled_body!$A$3:$A$130,0),MATCH(Tabulka!AD$2,Přehled_body!$E$1:$ED$1,0)),)=0,0.00000000001,IFERROR(INDEX(Přehled_body!$E$3:$ED$130,MATCH(Tabulka!$AI47,Přehled_body!$A$3:$A$130,0),MATCH(Tabulka!AD$2,Přehled_body!$E$1:$ED$1,0)),)))","v":0},{"$f":"IF(SUM(AG44)<2,-90000+SUM(D47:AD47),SUM(D47:AD47))","v":-89999},null,null,1,{"$f":"CONCATENATE($B$45,\" \",$B$46,C47)","v":"Míra ChalupníkPřehozy"},null,null,1,null,null,null,{"$f":"CONCATENATE(AQ47,\" \",AQ46)","v":"Fiala Jiří"},"Fiala"]
[null,null,"Poč. kol",{"$f":"IF(IFERROR(INDEX(Přehled_body!$E$3:$ED$130,MATCH(Tabulka!$AI48,Přehled_body!$A$3:$A$130,0),MATCH(Tabulka!D$2,Přehled_body!$E$1:$ED$1,0)),)=\"\",,IF(IFERROR(INDEX(Přehled_body!$E$3:$ED$130,MATCH(Tabulka!$AI48,Přehled_body!$A$3:$A$130,0),MATCH(Tabulka!D$2,Přehled_body!$E$1:$ED$1,0)),)=0,0.00000000001,IFERROR(INDEX(Přehled_body!$E$3:$ED$130,MATCH(Tabulka!$AI48,Přehled_body!$A$3:$A$130,0),MATCH(Tabulka!D$2,Přehled_body!$E$1:$ED$1,0)),)))","v":4},{"$f":"IF(IFERROR(INDEX(Přehled_body!$E$3:$ED$130,MATCH(Tabulka!$AI48,Přehled_body!$A$3:$A$130,0),MATCH(Tabulka!E$2,Přehled_body!$E$1:$ED$1,0)),)=\"\",,IF(IFERROR(INDEX(Přehled_body!$E$3:$ED$130,MATCH(Tabulka!$AI48,Přehled_body!$A$3:$A$130,0),MATCH(Tabulka!E$2,Přehled_body!$E$1:$ED$1,0)),)=0,0.00000000001,IFERROR(INDEX(Přehled_body!$E$3:$ED$130,MATCH(Tabulka!$AI48,Přehled_body!$A$3:$A$130,0),MATCH(Tabulka!E$2,Přehled_body!$E$1:$ED$1,0)),)))","v":0},{"$f":"IF(IFERROR(INDEX(Přehled_body!$E$3:$ED$130,MATCH(Tabulka!$AI48,Přehled_body!$A$3:$A$130,0),MATCH(Tabulka!F$2,Přehled_body!$E$1:$ED$1,0)),)=\"\",,IF(IFERROR(INDEX(Přehled_body!$E$3:$ED$130,MATCH(Tabulka!$AI48,Přehled_body!$A$3:$A$130,0),MATCH(Tabulka!F$2,Přehled_body!$E$1:$ED$1,0)),)=0,0.00000000001,IFERROR(INDEX(Přehled_body!$E$3:$ED$130,MATCH(Tabulka!$AI48,Přehled_body!$A$3:$A$130,0),MATCH(Tabulka!F$2,Přehled_body!$E$1:$ED$1,0)),)))","v":0},{"$f":"IF(IFERROR(INDEX(Přehled_body!$E$3:$ED$130,MATCH(Tabulka!$AI48,Přehled_body!$A$3:$A$130,0),MATCH(Tabulka!G$2,Přehled_body!$E$1:$ED$1,0)),)=\"\",,IF(IFERROR(INDEX(Přehled_body!$E$3:$ED$130,MATCH(Tabulka!$AI48,Přehled_body!$A$3:$A$130,0),MATCH(Tabulka!G$2,Přehled_body!$E$1:$ED$1,0)),)=0,0.00000000001,IFERROR(INDEX(Přehled_body!$E$3:$ED$130,MATCH(Tabulka!$AI48,Přehled_body!$A$3:$A$130,0),MATCH(Tabulka!G$2,Přehled_body!$E$1:$ED$1,0)),)))","v":0},{"$f":"IF(IFERROR(INDEX(Přehled_body!$E$3:$ED$130,MATCH(Tabulka!$AI48,Přehled_body!$A$3:$A$130,0),MATCH(Tabulka!H$2,Přehled_body!$E$1:$ED$1,0)),)=\"\",,IF(IFERROR(INDEX(Přehled_body!$E$3:$ED$130,MATCH(Tabulka!$AI48,Přehled_body!$A$3:$A$130,0),MATCH(Tabulka!H$2,Přehled_body!$E$1:$ED$1,0)),)=0,0.00000000001,IFERROR(INDEX(Přehled_body!$E$3:$ED$130,MATCH(Tabulka!$AI48,Přehled_body!$A$3:$A$130,0),MATCH(Tabulka!H$2,Přehled_body!$E$1:$ED$1,0)),)))","v":0},{"$f":"IF(IFERROR(INDEX(Přehled_body!$E$3:$ED$130,MATCH(Tabulka!$AI48,Přehled_body!$A$3:$A$130,0),MATCH(Tabulka!I$2,Přehled_body!$E$1:$ED$1,0)),)=\"\",,IF(IFERROR(INDEX(Přehled_body!$E$3:$ED$130,MATCH(Tabulka!$AI48,Přehled_body!$A$3:$A$130,0),MATCH(Tabulka!I$2,Přehled_body!$E$1:$ED$1,0)),)=0,0.00000000001,IFERROR(INDEX(Přehled_body!$E$3:$ED$130,MATCH(Tabulka!$AI48,Přehled_body!$A$3:$A$130,0),MATCH(Tabulka!I$2,Přehled_body!$E$1:$ED$1,0)),)))","v":0},{"$f":"IF(IFERROR(INDEX(Přehled_body!$E$3:$ED$130,MATCH(Tabulka!$AI48,Přehled_body!$A$3:$A$130,0),MATCH(Tabulka!J$2,Přehled_body!$E$1:$ED$1,0)),)=\"\",,IF(IFERROR(INDEX(Přehled_body!$E$3:$ED$130,MATCH(Tabulka!$AI48,Přehled_body!$A$3:$A$130,0),MATCH(Tabulka!J$2,Přehled_body!$E$1:$ED$1,0)),)=0,0.00000000001,IFERROR(INDEX(Přehled_body!$E$3:$ED$130,MATCH(Tabulka!$AI48,Přehled_body!$A$3:$A$130,0),MATCH(Tabulka!J$2,Přehled_body!$E$1:$ED$1,0)),)))","v":0},{"$f":"IF(IFERROR(INDEX(Přehled_body!$E$3:$ED$130,MATCH(Tabulka!$AI48,Přehled_body!$A$3:$A$130,0),MATCH(Tabulka!K$2,Přehled_body!$E$1:$ED$1,0)),)=\"\",,IF(IFERROR(INDEX(Přehled_body!$E$3:$ED$130,MATCH(Tabulka!$AI48,Přehled_body!$A$3:$A$130,0),MATCH(Tabulka!K$2,Přehled_body!$E$1:$ED$1,0)),)=0,0.00000000001,IFERROR(INDEX(Přehled_body!$E$3:$ED$130,MATCH(Tabulka!$AI48,Přehled_body!$A$3:$A$130,0),MATCH(Tabulka!K$2,Přehled_body!$E$1:$ED$1,0)),)))","v":0},{"$f":"IF(IFERROR(INDEX(Přehled_body!$E$3:$ED$130,MATCH(Tabulka!$AI48,Přehled_body!$A$3:$A$130,0),MATCH(Tabulka!L$2,Přehled_body!$E$1:$ED$1,0)),)=\"\",,IF(IFERROR(INDEX(Přehled_body!$E$3:$ED$130,MATCH(Tabulka!$AI48,Přehled_body!$A$3:$A$130,0),MATCH(Tabulka!L$2,Přehled_body!$E$1:$ED$1,0)),)=0,0.00000000001,IFERROR(INDEX(Přehled_body!$E$3:$ED$130,MATCH(Tabulka!$AI48,Přehled_body!$A$3:$A$130,0),MATCH(Tabulka!L$2,Přehled_body!$E$1:$ED$1,0)),)))","v":0},{"$f":"IF(IFERROR(INDEX(Přehled_body!$E$3:$ED$130,MATCH(Tabulka!$AI48,Přehled_body!$A$3:$A$130,0),MATCH(Tabulka!M$2,Přehled_body!$E$1:$ED$1,0)),)=\"\",,IF(IFERROR(INDEX(Přehled_body!$E$3:$ED$130,MATCH(Tabulka!$AI48,Přehled_body!$A$3:$A$130,0),MATCH(Tabulka!M$2,Přehled_body!$E$1:$ED$1,0)),)=0,0.00000000001,IFERROR(INDEX(Přehled_body!$E$3:$ED$130,MATCH(Tabulka!$AI48,Přehled_body!$A$3:$A$130,0),MATCH(Tabulka!M$2,Přehled_body!$E$1:$ED$1,0)),)))","v":0},{"$f":"IF(IFERROR(INDEX(Přehled_body!$E$3:$ED$130,MATCH(Tabulka!$AI48,Přehled_body!$A$3:$A$130,0),MATCH(Tabulka!N$2,Přehled_body!$E$1:$ED$1,0)),)=\"\",,IF(IFERROR(INDEX(Přehled_body!$E$3:$ED$130,MATCH(Tabulka!$AI48,Přehled_body!$A$3:$A$130,0),MATCH(Tabulka!N$2,Přehled_body!$E$1:$ED$1,0)),)=0,0.00000000001,IFERROR(INDEX(Přehled_body!$E$3:$ED$130,MATCH(Tabulka!$AI48,Přehled_body!$A$3:$A$130,0),MATCH(Tabulka!N$2,Přehled_body!$E$1:$ED$1,0)),)))","v":0},{"$f":"IF(IFERROR(INDEX(Přehled_body!$E$3:$ED$130,MATCH(Tabulka!$AI48,Přehled_body!$A$3:$A$130,0),MATCH(Tabulka!O$2,Přehled_body!$E$1:$ED$1,0)),)=\"\",,IF(IFERROR(INDEX(Přehled_body!$E$3:$ED$130,MATCH(Tabulka!$AI48,Přehled_body!$A$3:$A$130,0),MATCH(Tabulka!O$2,Přehled_body!$E$1:$ED$1,0)),)=0,0.00000000001,IFERROR(INDEX(Přehled_body!$E$3:$ED$130,MATCH(Tabulka!$AI48,Přehled_body!$A$3:$A$130,0),MATCH(Tabulka!O$2,Přehled_body!$E$1:$ED$1,0)),)))","v":0},{"$f":"IF(IFERROR(INDEX(Přehled_body!$E$3:$ED$130,MATCH(Tabulka!$AI48,Přehled_body!$A$3:$A$130,0),MATCH(Tabulka!P$2,Přehled_body!$E$1:$ED$1,0)),)=\"\",,IF(IFERROR(INDEX(Přehled_body!$E$3:$ED$130,MATCH(Tabulka!$AI48,Přehled_body!$A$3:$A$130,0),MATCH(Tabulka!P$2,Přehled_body!$E$1:$ED$1,0)),)=0,0.00000000001,IFERROR(INDEX(Přehled_body!$E$3:$ED$130,MATCH(Tabulka!$AI48,Přehled_body!$A$3:$A$130,0),MATCH(Tabulka!P$2,Přehled_body!$E$1:$ED$1,0)),)))","v":0},{"$f":"IF(IFERROR(INDEX(Přehled_body!$E$3:$ED$130,MATCH(Tabulka!$AI48,Přehled_body!$A$3:$A$130,0),MATCH(Tabulka!Q$2,Přehled_body!$E$1:$ED$1,0)),)=\"\",,IF(IFERROR(INDEX(Přehled_body!$E$3:$ED$130,MATCH(Tabulka!$AI48,Přehled_body!$A$3:$A$130,0),MATCH(Tabulka!Q$2,Přehled_body!$E$1:$ED$1,0)),)=0,0.00000000001,IFERROR(INDEX(Přehled_body!$E$3:$ED$130,MATCH(Tabulka!$AI48,Přehled_body!$A$3:$A$130,0),MATCH(Tabulka!Q$2,Přehled_body!$E$1:$ED$1,0)),)))","v":0},{"$f":"IF(IFERROR(INDEX(Přehled_body!$E$3:$ED$130,MATCH(Tabulka!$AI48,Přehled_body!$A$3:$A$130,0),MATCH(Tabulka!R$2,Přehled_body!$E$1:$ED$1,0)),)=\"\",,IF(IFERROR(INDEX(Přehled_body!$E$3:$ED$130,MATCH(Tabulka!$AI48,Přehled_body!$A$3:$A$130,0),MATCH(Tabulka!R$2,Přehled_body!$E$1:$ED$1,0)),)=0,0.00000000001,IFERROR(INDEX(Přehled_body!$E$3:$ED$130,MATCH(Tabulka!$AI48,Přehled_body!$A$3:$A$130,0),MATCH(Tabulka!R$2,Přehled_body!$E$1:$ED$1,0)),)))","v":0},{"$f":"IF(IFERROR(INDEX(Přehled_body!$E$3:$ED$130,MATCH(Tabulka!$AI48,Přehled_body!$A$3:$A$130,0),MATCH(Tabulka!S$2,Přehled_body!$E$1:$ED$1,0)),)=\"\",,IF(IFERROR(INDEX(Přehled_body!$E$3:$ED$130,MATCH(Tabulka!$AI48,Přehled_body!$A$3:$A$130,0),MATCH(Tabulka!S$2,Přehled_body!$E$1:$ED$1,0)),)=0,0.00000000001,IFERROR(INDEX(Přehled_body!$E$3:$ED$130,MATCH(Tabulka!$AI48,Přehled_body!$A$3:$A$130,0),MATCH(Tabulka!S$2,Přehled_body!$E$1:$ED$1,0)),)))","v":0},{"$f":"IF(IFERROR(INDEX(Přehled_body!$E$3:$ED$130,MATCH(Tabulka!$AI48,Přehled_body!$A$3:$A$130,0),MATCH(Tabulka!T$2,Přehled_body!$E$1:$ED$1,0)),)=\"\",,IF(IFERROR(INDEX(Přehled_body!$E$3:$ED$130,MATCH(Tabulka!$AI48,Přehled_body!$A$3:$A$130,0),MATCH(Tabulka!T$2,Přehled_body!$E$1:$ED$1,0)),)=0,0.00000000001,IFERROR(INDEX(Přehled_body!$E$3:$ED$130,MATCH(Tabulka!$AI48,Přehled_body!$A$3:$A$130,0),MATCH(Tabulka!T$2,Přehled_body!$E$1:$ED$1,0)),)))","v":0},{"$f":"IF(IFERROR(INDEX(Přehled_body!$E$3:$ED$130,MATCH(Tabulka!$AI48,Přehled_body!$A$3:$A$130,0),MATCH(Tabulka!U$2,Přehled_body!$E$1:$ED$1,0)),)=\"\",,IF(IFERROR(INDEX(Přehled_body!$E$3:$ED$130,MATCH(Tabulka!$AI48,Přehled_body!$A$3:$A$130,0),MATCH(Tabulka!U$2,Přehled_body!$E$1:$ED$1,0)),)=0,0.00000000001,IFERROR(INDEX(Přehled_body!$E$3:$ED$130,MATCH(Tabulka!$AI48,Přehled_body!$A$3:$A$130,0),MATCH(Tabulka!U$2,Přehled_body!$E$1:$ED$1,0)),)))","v":0},{"$f":"IF(IFERROR(INDEX(Přehled_body!$E$3:$ED$130,MATCH(Tabulka!$AI48,Přehled_body!$A$3:$A$130,0),MATCH(Tabulka!V$2,Přehled_body!$E$1:$ED$1,0)),)=\"\",,IF(IFERROR(INDEX(Přehled_body!$E$3:$ED$130,MATCH(Tabulka!$AI48,Přehled_body!$A$3:$A$130,0),MATCH(Tabulka!V$2,Přehled_body!$E$1:$ED$1,0)),)=0,0.00000000001,IFERROR(INDEX(Přehled_body!$E$3:$ED$130,MATCH(Tabulka!$AI48,Přehled_body!$A$3:$A$130,0),MATCH(Tabulka!V$2,Přehled_body!$E$1:$ED$1,0)),)))","v":0},{"$f":"IF(IFERROR(INDEX(Přehled_body!$E$3:$ED$130,MATCH(Tabulka!$AI48,Přehled_body!$A$3:$A$130,0),MATCH(Tabulka!W$2,Přehled_body!$E$1:$ED$1,0)),)=\"\",,IF(IFERROR(INDEX(Přehled_body!$E$3:$ED$130,MATCH(Tabulka!$AI48,Přehled_body!$A$3:$A$130,0),MATCH(Tabulka!W$2,Přehled_body!$E$1:$ED$1,0)),)=0,0.00000000001,IFERROR(INDEX(Přehled_body!$E$3:$ED$130,MATCH(Tabulka!$AI48,Přehled_body!$A$3:$A$130,0),MATCH(Tabulka!W$2,Přehled_body!$E$1:$ED$1,0)),)))","v":0},{"$f":"IF(IFERROR(INDEX(Přehled_body!$E$3:$ED$130,MATCH(Tabulka!$AI48,Přehled_body!$A$3:$A$130,0),MATCH(Tabulka!X$2,Přehled_body!$E$1:$ED$1,0)),)=\"\",,IF(IFERROR(INDEX(Přehled_body!$E$3:$ED$130,MATCH(Tabulka!$AI48,Přehled_body!$A$3:$A$130,0),MATCH(Tabulka!X$2,Přehled_body!$E$1:$ED$1,0)),)=0,0.00000000001,IFERROR(INDEX(Přehled_body!$E$3:$ED$130,MATCH(Tabulka!$AI48,Přehled_body!$A$3:$A$130,0),MATCH(Tabulka!X$2,Přehled_body!$E$1:$ED$1,0)),)))","v":0},{"$f":"IF(IFERROR(INDEX(Přehled_body!$E$3:$ED$130,MATCH(Tabulka!$AI48,Přehled_body!$A$3:$A$130,0),MATCH(Tabulka!Y$2,Přehled_body!$E$1:$ED$1,0)),)=\"\",,IF(IFERROR(INDEX(Přehled_body!$E$3:$ED$130,MATCH(Tabulka!$AI48,Přehled_body!$A$3:$A$130,0),MATCH(Tabulka!Y$2,Přehled_body!$E$1:$ED$1,0)),)=0,0.00000000001,IFERROR(INDEX(Přehled_body!$E$3:$ED$130,MATCH(Tabulka!$AI48,Přehled_body!$A$3:$A$130,0),MATCH(Tabulka!Y$2,Přehled_body!$E$1:$ED$1,0)),)))","v":0},{"$f":"IF(IFERROR(INDEX(Přehled_body!$E$3:$ED$130,MATCH(Tabulka!$AI48,Přehled_body!$A$3:$A$130,0),MATCH(Tabulka!Z$2,Přehled_body!$E$1:$ED$1,0)),)=\"\",,IF(IFERROR(INDEX(Přehled_body!$E$3:$ED$130,MATCH(Tabulka!$AI48,Přehled_body!$A$3:$A$130,0),MATCH(Tabulka!Z$2,Přehled_body!$E$1:$ED$1,0)),)=0,0.00000000001,IFERROR(INDEX(Přehled_body!$E$3:$ED$130,MATCH(Tabulka!$AI48,Přehled_body!$A$3:$A$130,0),MATCH(Tabulka!Z$2,Přehled_body!$E$1:$ED$1,0)),)))","v":0},{"$f":"IF(IFERROR(INDEX(Přehled_body!$E$3:$ED$130,MATCH(Tabulka!$AI48,Přehled_body!$A$3:$A$130,0),MATCH(Tabulka!AA$2,Přehled_body!$E$1:$ED$1,0)),)=\"\",,IF(IFERROR(INDEX(Přehled_body!$E$3:$ED$130,MATCH(Tabulka!$AI48,Přehled_body!$A$3:$A$130,0),MATCH(Tabulka!AA$2,Přehled_body!$E$1:$ED$1,0)),)=0,0.00000000001,IFERROR(INDEX(Přehled_body!$E$3:$ED$130,MATCH(Tabulka!$AI48,Přehled_body!$A$3:$A$130,0),MATCH(Tabulka!AA$2,Přehled_body!$E$1:$ED$1,0)),)))","v":0},{"$f":"IF(IFERROR(INDEX(Přehled_body!$E$3:$ED$130,MATCH(Tabulka!$AI48,Přehled_body!$A$3:$A$130,0),MATCH(Tabulka!AB$2,Přehled_body!$E$1:$ED$1,0)),)=\"\",,IF(IFERROR(INDEX(Přehled_body!$E$3:$ED$130,MATCH(Tabulka!$AI48,Přehled_body!$A$3:$A$130,0),MATCH(Tabulka!AB$2,Přehled_body!$E$1:$ED$1,0)),)=0,0.00000000001,IFERROR(INDEX(Přehled_body!$E$3:$ED$130,MATCH(Tabulka!$AI48,Přehled_body!$A$3:$A$130,0),MATCH(Tabulka!AB$2,Přehled_body!$E$1:$ED$1,0)),)))","v":0},{"$f":"IF(IFERROR(INDEX(Přehled_body!$E$3:$ED$130,MATCH(Tabulka!$AI48,Přehled_body!$A$3:$A$130,0),MATCH(Tabulka!AC$2,Přehled_body!$E$1:$ED$1,0)),)=\"\",,IF(IFERROR(INDEX(Přehled_body!$E$3:$ED$130,MATCH(Tabulka!$AI48,Přehled_body!$A$3:$A$130,0),MATCH(Tabulka!AC$2,Přehled_body!$E$1:$ED$1,0)),)=0,0.00000000001,IFERROR(INDEX(Přehled_body!$E$3:$ED$130,MATCH(Tabulka!$AI48,Přehled_body!$A$3:$A$130,0),MATCH(Tabulka!AC$2,Přehled_body!$E$1:$ED$1,0)),)))","v":0},{"$f":"IF(IFERROR(INDEX(Přehled_body!$E$3:$ED$130,MATCH(Tabulka!$AI48,Přehled_body!$A$3:$A$130,0),MATCH(Tabulka!AD$2,Přehled_body!$E$1:$ED$1,0)),)=\"\",,IF(IFERROR(INDEX(Přehled_body!$E$3:$ED$130,MATCH(Tabulka!$AI48,Přehled_body!$A$3:$A$130,0),MATCH(Tabulka!AD$2,Přehled_body!$E$1:$ED$1,0)),)=0,0.00000000001,IFERROR(INDEX(Přehled_body!$E$3:$ED$130,MATCH(Tabulka!$AI48,Přehled_body!$A$3:$A$130,0),MATCH(Tabulka!AD$2,Přehled_body!$E$1:$ED$1,0)),)))","v":0},{"$f":"IF(SUM(AG44)<2,-90000+SUM(D48:AD48),SUM(D48:AD48))","v":-89996},null,null,4,{"$f":"CONCATENATE($B$45,\" \",$B$46,C48)","v":"Míra ChalupníkPoč. kol"},null,null,{"$f":"COUNTIF(D48:AD48,\">0\")","v":1}]
[10,null,"Výhry",{"$f":"IF(IFERROR(INDEX(Přehled_body!$E$3:$ED$130,MATCH(Tabulka!$AI49,Přehled_body!$A$3:$A$130,0),MATCH(Tabulka!D$2,Přehled_body!$E$1:$ED$1,0)),)=\"\",,IF(IFERROR(INDEX(Přehled_body!$E$3:$ED$130,MATCH(Tabulka!$AI49,Přehled_body!$A$3:$A$130,0),MATCH(Tabulka!D$2,Přehled_body!$E$1:$ED$1,0)),)=0,0.00000000001,IFERROR(INDEX(Přehled_body!$E$3:$ED$130,MATCH(Tabulka!$AI49,Přehled_body!$A$3:$A$130,0),MATCH(Tabulka!D$2,Přehled_body!$E$1:$ED$1,0)),)))","v":1},{"$f":"IF(IFERROR(INDEX(Přehled_body!$E$3:$ED$130,MATCH(Tabulka!$AI49,Přehled_body!$A$3:$A$130,0),MATCH(Tabulka!E$2,Přehled_body!$E$1:$ED$1,0)),)=\"\",,IF(IFERROR(INDEX(Přehled_body!$E$3:$ED$130,MATCH(Tabulka!$AI49,Přehled_body!$A$3:$A$130,0),MATCH(Tabulka!E$2,Přehled_body!$E$1:$ED$1,0)),)=0,0.00000000001,IFERROR(INDEX(Přehled_body!$E$3:$ED$130,MATCH(Tabulka!$AI49,Přehled_body!$A$3:$A$130,0),MATCH(Tabulka!E$2,Přehled_body!$E$1:$ED$1,0)),)))","v":9.9999999999999994E-12},{"$f":"IF(IFERROR(INDEX(Přehled_body!$E$3:$ED$130,MATCH(Tabulka!$AI49,Přehled_body!$A$3:$A$130,0),MATCH(Tabulka!F$2,Přehled_body!$E$1:$ED$1,0)),)=\"\",,IF(IFERROR(INDEX(Přehled_body!$E$3:$ED$130,MATCH(Tabulka!$AI49,Přehled_body!$A$3:$A$130,0),MATCH(Tabulka!F$2,Přehled_body!$E$1:$ED$1,0)),)=0,0.00000000001,IFERROR(INDEX(Přehled_body!$E$3:$ED$130,MATCH(Tabulka!$AI49,Přehled_body!$A$3:$A$130,0),MATCH(Tabulka!F$2,Přehled_body!$E$1:$ED$1,0)),)))","v":2},{"$f":"IF(IFERROR(INDEX(Přehled_body!$E$3:$ED$130,MATCH(Tabulka!$AI49,Přehled_body!$A$3:$A$130,0),MATCH(Tabulka!G$2,Přehled_body!$E$1:$ED$1,0)),)=\"\",,IF(IFERROR(INDEX(Přehled_body!$E$3:$ED$130,MATCH(Tabulka!$AI49,Přehled_body!$A$3:$A$130,0),MATCH(Tabulka!G$2,Přehled_body!$E$1:$ED$1,0)),)=0,0.00000000001,IFERROR(INDEX(Přehled_body!$E$3:$ED$130,MATCH(Tabulka!$AI49,Přehled_body!$A$3:$A$130,0),MATCH(Tabulka!G$2,Přehled_body!$E$1:$ED$1,0)),)))","v":3},{"$f":"IF(IFERROR(INDEX(Přehled_body!$E$3:$ED$130,MATCH(Tabulka!$AI49,Přehled_body!$A$3:$A$130,0),MATCH(Tabulka!H$2,Přehled_body!$E$1:$ED$1,0)),)=\"\",,IF(IFERROR(INDEX(Přehled_body!$E$3:$ED$130,MATCH(Tabulka!$AI49,Přehled_body!$A$3:$A$130,0),MATCH(Tabulka!H$2,Přehled_body!$E$1:$ED$1,0)),)=0,0.00000000001,IFERROR(INDEX(Přehled_body!$E$3:$ED$130,MATCH(Tabulka!$AI49,Přehled_body!$A$3:$A$130,0),MATCH(Tabulka!H$2,Přehled_body!$E$1:$ED$1,0)),)))","v":2},{"$f":"IF(IFERROR(INDEX(Přehled_body!$E$3:$ED$130,MATCH(Tabulka!$AI49,Přehled_body!$A$3:$A$130,0),MATCH(Tabulka!I$2,Přehled_body!$E$1:$ED$1,0)),)=\"\",,IF(IFERROR(INDEX(Přehled_body!$E$3:$ED$130,MATCH(Tabulka!$AI49,Přehled_body!$A$3:$A$130,0),MATCH(Tabulka!I$2,Přehled_body!$E$1:$ED$1,0)),)=0,0.00000000001,IFERROR(INDEX(Přehled_body!$E$3:$ED$130,MATCH(Tabulka!$AI49,Přehled_body!$A$3:$A$130,0),MATCH(Tabulka!I$2,Přehled_body!$E$1:$ED$1,0)),)))","v":1},{"$f":"IF(IFERROR(INDEX(Přehled_body!$E$3:$ED$130,MATCH(Tabulka!$AI49,Přehled_body!$A$3:$A$130,0),MATCH(Tabulka!J$2,Přehled_body!$E$1:$ED$1,0)),)=\"\",,IF(IFERROR(INDEX(Přehled_body!$E$3:$ED$130,MATCH(Tabulka!$AI49,Přehled_body!$A$3:$A$130,0),MATCH(Tabulka!J$2,Přehled_body!$E$1:$ED$1,0)),)=0,0.00000000001,IFERROR(INDEX(Přehled_body!$E$3:$ED$130,MATCH(Tabulka!$AI49,Přehled_body!$A$3:$A$130,0),MATCH(Tabulka!J$2,Přehled_body!$E$1:$ED$1,0)),)))","v":9.9999999999999994E-12},{"$f":"IF(IFERROR(INDEX(Přehled_body!$E$3:$ED$130,MATCH(Tabulka!$AI49,Přehled_body!$A$3:$A$130,0),MATCH(Tabulka!K$2,Přehled_body!$E$1:$ED$1,0)),)=\"\",,IF(IFERROR(INDEX(Přehled_body!$E$3:$ED$130,MATCH(Tabulka!$AI49,Přehled_body!$A$3:$A$130,0),MATCH(Tabulka!K$2,Přehled_body!$E$1:$ED$1,0)),)=0,0.00000000001,IFERROR(INDEX(Přehled_body!$E$3:$ED$130,MATCH(Tabulka!$AI49,Přehled_body!$A$3:$A$130,0),MATCH(Tabulka!K$2,Přehled_body!$E$1:$ED$1,0)),)))","v":0},{"$f":"IF(IFERROR(INDEX(Přehled_body!$E$3:$ED$130,MATCH(Tabulka!$AI49,Přehled_body!$A$3:$A$130,0),MATCH(Tabulka!L$2,Přehled_body!$E$1:$ED$1,0)),)=\"\",,IF(IFERROR(INDEX(Přehled_body!$E$3:$ED$130,MATCH(Tabulka!$AI49,Přehled_body!$A$3:$A$130,0),MATCH(Tabulka!L$2,Přehled_body!$E$1:$ED$1,0)),)=0,0.00000000001,IFERROR(INDEX(Přehled_body!$E$3:$ED$130,MATCH(Tabulka!$AI49,Přehled_body!$A$3:$A$130,0),MATCH(Tabulka!L$2,Přehled_body!$E$1:$ED$1,0)),)))","v":1},{"$f":"IF(IFERROR(INDEX(Přehled_body!$E$3:$ED$130,MATCH(Tabulka!$AI49,Přehled_body!$A$3:$A$130,0),MATCH(Tabulka!M$2,Přehled_body!$E$1:$ED$1,0)),)=\"\",,IF(IFERROR(INDEX(Přehled_body!$E$3:$ED$130,MATCH(Tabulka!$AI49,Přehled_body!$A$3:$A$130,0),MATCH(Tabulka!M$2,Přehled_body!$E$1:$ED$1,0)),)=0,0.00000000001,IFERROR(INDEX(Přehled_body!$E$3:$ED$130,MATCH(Tabulka!$AI49,Přehled_body!$A$3:$A$130,0),MATCH(Tabulka!M$2,Přehled_body!$E$1:$ED$1,0)),)))","v":1},{"$f":"IF(IFERROR(INDEX(Přehled_body!$E$3:$ED$130,MATCH(Tabulka!$AI49,Přehled_body!$A$3:$A$130,0),MATCH(Tabulka!N$2,Přehled_body!$E$1:$ED$1,0)),)=\"\",,IF(IFERROR(INDEX(Přehled_body!$E$3:$ED$130,MATCH(Tabulka!$AI49,Přehled_body!$A$3:$A$130,0),MATCH(Tabulka!N$2,Přehled_body!$E$1:$ED$1,0)),)=0,0.00000000001,IFERROR(INDEX(Přehled_body!$E$3:$ED$130,MATCH(Tabulka!$AI49,Přehled_body!$A$3:$A$130,0),MATCH(Tabulka!N$2,Přehled_body!$E$1:$ED$1,0)),)))","v":2},{"$f":"IF(IFERROR(INDEX(Přehled_body!$E$3:$ED$130,MATCH(Tabulka!$AI49,Přehled_body!$A$3:$A$130,0),MATCH(Tabulka!O$2,Přehled_body!$E$1:$ED$1,0)),)=\"\",,IF(IFERROR(INDEX(Přehled_body!$E$3:$ED$130,MATCH(Tabulka!$AI49,Přehled_body!$A$3:$A$130,0),MATCH(Tabulka!O$2,Přehled_body!$E$1:$ED$1,0)),)=0,0.00000000001,IFERROR(INDEX(Přehled_body!$E$3:$ED$130,MATCH(Tabulka!$AI49,Přehled_body!$A$3:$A$130,0),MATCH(Tabulka!O$2,Přehled_body!$E$1:$ED$1,0)),)))","v":9.9999999999999994E-12},{"$f":"IF(IFERROR(INDEX(Přehled_body!$E$3:$ED$130,MATCH(Tabulka!$AI49,Přehled_body!$A$3:$A$130,0),MATCH(Tabulka!P$2,Přehled_body!$E$1:$ED$1,0)),)=\"\",,IF(IFERROR(INDEX(Přehled_body!$E$3:$ED$130,MATCH(Tabulka!$AI49,Přehled_body!$A$3:$A$130,0),MATCH(Tabulka!P$2,Přehled_body!$E$1:$ED$1,0)),)=0,0.00000000001,IFERROR(INDEX(Přehled_body!$E$3:$ED$130,MATCH(Tabulka!$AI49,Přehled_body!$A$3:$A$130,0),MATCH(Tabulka!P$2,Přehled_body!$E$1:$ED$1,0)),)))","v":9.9999999999999994E-12},{"$f":"IF(IFERROR(INDEX(Přehled_body!$E$3:$ED$130,MATCH(Tabulka!$AI49,Přehled_body!$A$3:$A$130,0),MATCH(Tabulka!Q$2,Přehled_body!$E$1:$ED$1,0)),)=\"\",,IF(IFERROR(INDEX(Přehled_body!$E$3:$ED$130,MATCH(Tabulka!$AI49,Přehled_body!$A$3:$A$130,0),MATCH(Tabulka!Q$2,Přehled_body!$E$1:$ED$1,0)),)=0,0.00000000001,IFERROR(INDEX(Přehled_body!$E$3:$ED$130,MATCH(Tabulka!$AI49,Přehled_body!$A$3:$A$130,0),MATCH(Tabulka!Q$2,Přehled_body!$E$1:$ED$1,0)),)))","v":1},{"$f":"IF(IFERROR(INDEX(Přehled_body!$E$3:$ED$130,MATCH(Tabulka!$AI49,Přehled_body!$A$3:$A$130,0),MATCH(Tabulka!R$2,Přehled_body!$E$1:$ED$1,0)),)=\"\",,IF(IFERROR(INDEX(Přehled_body!$E$3:$ED$130,MATCH(Tabulka!$AI49,Přehled_body!$A$3:$A$130,0),MATCH(Tabulka!R$2,Přehled_body!$E$1:$ED$1,0)),)=0,0.00000000001,IFERROR(INDEX(Přehled_body!$E$3:$ED$130,MATCH(Tabulka!$AI49,Přehled_body!$A$3:$A$130,0),MATCH(Tabulka!R$2,Přehled_body!$E$1:$ED$1,0)),)))","v":0},{"$f":"IF(IFERROR(INDEX(Přehled_body!$E$3:$ED$130,MATCH(Tabulka!$AI49,Přehled_body!$A$3:$A$130,0),MATCH(Tabulka!S$2,Přehled_body!$E$1:$ED$1,0)),)=\"\",,IF(IFERROR(INDEX(Přehled_body!$E$3:$ED$130,MATCH(Tabulka!$AI49,Přehled_body!$A$3:$A$130,0),MATCH(Tabulka!S$2,Přehled_body!$E$1:$ED$1,0)),)=0,0.00000000001,IFERROR(INDEX(Přehled_body!$E$3:$ED$130,MATCH(Tabulka!$AI49,Přehled_body!$A$3:$A$130,0),MATCH(Tabulka!S$2,Přehled_body!$E$1:$ED$1,0)),)))","v":9.9999999999999994E-12},{"$f":"IF(IFERROR(INDEX(Přehled_body!$E$3:$ED$130,MATCH(Tabulka!$AI49,Přehled_body!$A$3:$A$130,0),MATCH(Tabulka!T$2,Přehled_body!$E$1:$ED$1,0)),)=\"\",,IF(IFERROR(INDEX(Přehled_body!$E$3:$ED$130,MATCH(Tabulka!$AI49,Přehled_body!$A$3:$A$130,0),MATCH(Tabulka!T$2,Přehled_body!$E$1:$ED$1,0)),)=0,0.00000000001,IFERROR(INDEX(Přehled_body!$E$3:$ED$130,MATCH(Tabulka!$AI49,Přehled_body!$A$3:$A$130,0),MATCH(Tabulka!T$2,Přehled_body!$E$1:$ED$1,0)),)))","v":2},{"$f":"IF(IFERROR(INDEX(Přehled_body!$E$3:$ED$130,MATCH(Tabulka!$AI49,Přehled_body!$A$3:$A$130,0),MATCH(Tabulka!U$2,Přehled_body!$E$1:$ED$1,0)),)=\"\",,IF(IFERROR(INDEX(Přehled_body!$E$3:$ED$130,MATCH(Tabulka!$AI49,Přehled_body!$A$3:$A$130,0),MATCH(Tabulka!U$2,Přehled_body!$E$1:$ED$1,0)),)=0,0.00000000001,IFERROR(INDEX(Přehled_body!$E$3:$ED$130,MATCH(Tabulka!$AI49,Přehled_body!$A$3:$A$130,0),MATCH(Tabulka!U$2,Přehled_body!$E$1:$ED$1,0)),)))","v":0},{"$f":"IF(IFERROR(INDEX(Přehled_body!$E$3:$ED$130,MATCH(Tabulka!$AI49,Přehled_body!$A$3:$A$130,0),MATCH(Tabulka!V$2,Přehled_body!$E$1:$ED$1,0)),)=\"\",,IF(IFERROR(INDEX(Přehled_body!$E$3:$ED$130,MATCH(Tabulka!$AI49,Přehled_body!$A$3:$A$130,0),MATCH(Tabulka!V$2,Přehled_body!$E$1:$ED$1,0)),)=0,0.00000000001,IFERROR(INDEX(Přehled_body!$E$3:$ED$130,MATCH(Tabulka!$AI49,Přehled_body!$A$3:$A$130,0),MATCH(Tabulka!V$2,Přehled_body!$E$1:$ED$1,0)),)))","v":0},{"$f":"IF(IFERROR(INDEX(Přehled_body!$E$3:$ED$130,MATCH(Tabulka!$AI49,Přehled_body!$A$3:$A$130,0),MATCH(Tabulka!W$2,Přehled_body!$E$1:$ED$1,0)),)=\"\",,IF(IFERROR(INDEX(Přehled_body!$E$3:$ED$130,MATCH(Tabulka!$AI49,Přehled_body!$A$3:$A$130,0),MATCH(Tabulka!W$2,Přehled_body!$E$1:$ED$1,0)),)=0,0.00000000001,IFERROR(INDEX(Přehled_body!$E$3:$ED$130,MATCH(Tabulka!$AI49,Přehled_body!$A$3:$A$130,0),MATCH(Tabulka!W$2,Přehled_body!$E$1:$ED$1,0)),)))","v":0},{"$f":"IF(IFERROR(INDEX(Přehled_body!$E$3:$ED$130,MATCH(Tabulka!$AI49,Přehled_body!$A$3:$A$130,0),MATCH(Tabulka!X$2,Přehled_body!$E$1:$ED$1,0)),)=\"\",,IF(IFERROR(INDEX(Přehled_body!$E$3:$ED$130,MATCH(Tabulka!$AI49,Přehled_body!$A$3:$A$130,0),MATCH(Tabulka!X$2,Přehled_body!$E$1:$ED$1,0)),)=0,0.00000000001,IFERROR(INDEX(Přehled_body!$E$3:$ED$130,MATCH(Tabulka!$AI49,Přehled_body!$A$3:$A$130,0),MATCH(Tabulka!X$2,Přehled_body!$E$1:$ED$1,0)),)))","v":0},{"$f":"IF(IFERROR(INDEX(Přehled_body!$E$3:$ED$130,MATCH(Tabulka!$AI49,Přehled_body!$A$3:$A$130,0),MATCH(Tabulka!Y$2,Přehled_body!$E$1:$ED$1,0)),)=\"\",,IF(IFERROR(INDEX(Přehled_body!$E$3:$ED$130,MATCH(Tabulka!$AI49,Přehled_body!$A$3:$A$130,0),MATCH(Tabulka!Y$2,Přehled_body!$E$1:$ED$1,0)),)=0,0.00000000001,IFERROR(INDEX(Přehled_body!$E$3:$ED$130,MATCH(Tabulka!$AI49,Přehled_body!$A$3:$A$130,0),MATCH(Tabulka!Y$2,Přehled_body!$E$1:$ED$1,0)),)))","v":0},{"$f":"IF(IFERROR(INDEX(Přehled_body!$E$3:$ED$130,MATCH(Tabulka!$AI49,Přehled_body!$A$3:$A$130,0),MATCH(Tabulka!Z$2,Přehled_body!$E$1:$ED$1,0)),)=\"\",,IF(IFERROR(INDEX(Přehled_body!$E$3:$ED$130,MATCH(Tabulka!$AI49,Přehled_body!$A$3:$A$130,0),MATCH(Tabulka!Z$2,Přehled_body!$E$1:$ED$1,0)),)=0,0.00000000001,IFERROR(INDEX(Přehled_body!$E$3:$ED$130,MATCH(Tabulka!$AI49,Přehled_body!$A$3:$A$130,0),MATCH(Tabulka!Z$2,Přehled_body!$E$1:$ED$1,0)),)))","v":0},{"$f":"IF(IFERROR(INDEX(Přehled_body!$E$3:$ED$130,MATCH(Tabulka!$AI49,Přehled_body!$A$3:$A$130,0),MATCH(Tabulka!AA$2,Přehled_body!$E$1:$ED$1,0)),)=\"\",,IF(IFERROR(INDEX(Přehled_body!$E$3:$ED$130,MATCH(Tabulka!$AI49,Přehled_body!$A$3:$A$130,0),MATCH(Tabulka!AA$2,Přehled_body!$E$1:$ED$1,0)),)=0,0.00000000001,IFERROR(INDEX(Přehled_body!$E$3:$ED$130,MATCH(Tabulka!$AI49,Přehled_body!$A$3:$A$130,0),MATCH(Tabulka!AA$2,Přehled_body!$E$1:$ED$1,0)),)))","v":0},{"$f":"IF(IFERROR(INDEX(Přehled_body!$E$3:$ED$130,MATCH(Tabulka!$AI49,Přehled_body!$A$3:$A$130,0),MATCH(Tabulka!AB$2,Přehled_body!$E$1:$ED$1,0)),)=\"\",,IF(IFERROR(INDEX(Přehled_body!$E$3:$ED$130,MATCH(Tabulka!$AI49,Přehled_body!$A$3:$A$130,0),MATCH(Tabulka!AB$2,Přehled_body!$E$1:$ED$1,0)),)=0,0.00000000001,IFERROR(INDEX(Přehled_body!$E$3:$ED$130,MATCH(Tabulka!$AI49,Přehled_body!$A$3:$A$130,0),MATCH(Tabulka!AB$2,Přehled_body!$E$1:$ED$1,0)),)))","v":0},{"$f":"IF(IFERROR(INDEX(Přehled_body!$E$3:$ED$130,MATCH(Tabulka!$AI49,Přehled_body!$A$3:$A$130,0),MATCH(Tabulka!AC$2,Přehled_body!$E$1:$ED$1,0)),)=\"\",,IF(IFERROR(INDEX(Přehled_body!$E$3:$ED$130,MATCH(Tabulka!$AI49,Přehled_body!$A$3:$A$130,0),MATCH(Tabulka!AC$2,Přehled_body!$E$1:$ED$1,0)),)=0,0.00000000001,IFERROR(INDEX(Přehled_body!$E$3:$ED$130,MATCH(Tabulka!$AI49,Přehled_body!$A$3:$A$130,0),MATCH(Tabulka!AC$2,Přehled_body!$E$1:$ED$1,0)),)))","v":0},{"$f":"IF(IFERROR(INDEX(Přehled_body!$E$3:$ED$130,MATCH(Tabulka!$AI49,Přehled_body!$A$3:$A$130,0),MATCH(Tabulka!AD$2,Přehled_body!$E$1:$ED$1,0)),)=\"\",,IF(IFERROR(INDEX(Přehled_body!$E$3:$ED$130,MATCH(Tabulka!$AI49,Přehled_body!$A$3:$A$130,0),MATCH(Tabulka!AD$2,Přehled_body!$E$1:$ED$1,0)),)=0,0.00000000001,IFERROR(INDEX(Přehled_body!$E$3:$ED$130,MATCH(Tabulka!$AI49,Přehled_body!$A$3:$A$130,0),MATCH(Tabulka!AD$2,Přehled_body!$E$1:$ED$1,0)),)))","v":0},{"$f":"IF(SUM(AG49)<2,-90000+SUM(D49:AD49),SUM(D49:AD49))","v":16.000000000049997},null,{"$f":"COUNTIF(D49:AD49,\">0\")","v":15},16.000000000049997,{"$f":"CONCATENATE($B$50,\" \",$B$51,C49)","v":"Jarda KleinVýhry"},null,null,15]
[{"$f":"CONCATENATE(B50,\" \",B51)","v":"Jarda Klein"},"Jarda","Prohry",{"$f":"IF(IFERROR(INDEX(Přehled_body!$E$3:$ED$130,MATCH(Tabulka!$AI50,Přehled_body!$A$3:$A$130,0),MATCH(Tabulka!D$2,Přehled_body!$E$1:$ED$1,0)),)=\"\",,IF(IFERROR(INDEX(Přehled_body!$E$3:$ED$130,MATCH(Tabulka!$AI50,Přehled_body!$A$3:$A$130,0),MATCH(Tabulka!D$2,Přehled_body!$E$1:$ED$1,0)),)=0,0.00000000001,IFERROR(INDEX(Přehled_body!$E$3:$ED$130,MATCH(Tabulka!$AI50,Přehled_body!$A$3:$A$130,0),MATCH(Tabulka!D$2,Přehled_body!$E$1:$ED$1,0)),)))","v":9.9999999999999994E-12},{"$f":"IF(IFERROR(INDEX(Přehled_body!$E$3:$ED$130,MATCH(Tabulka!$AI50,Přehled_body!$A$3:$A$130,0),MATCH(Tabulka!E$2,Přehled_body!$E$1:$ED$1,0)),)=\"\",,IF(IFERROR(INDEX(Přehled_body!$E$3:$ED$130,MATCH(Tabulka!$AI50,Přehled_body!$A$3:$A$130,0),MATCH(Tabulka!E$2,Přehled_body!$E$1:$ED$1,0)),)=0,0.00000000001,IFERROR(INDEX(Přehled_body!$E$3:$ED$130,MATCH(Tabulka!$AI50,Přehled_body!$A$3:$A$130,0),MATCH(Tabulka!E$2,Přehled_body!$E$1:$ED$1,0)),)))","v":2},{"$f":"IF(IFERROR(INDEX(Přehled_body!$E$3:$ED$130,MATCH(Tabulka!$AI50,Přehled_body!$A$3:$A$130,0),MATCH(Tabulka!F$2,Přehled_body!$E$1:$ED$1,0)),)=\"\",,IF(IFERROR(INDEX(Přehled_body!$E$3:$ED$130,MATCH(Tabulka!$AI50,Přehled_body!$A$3:$A$130,0),MATCH(Tabulka!F$2,Přehled_body!$E$1:$ED$1,0)),)=0,0.00000000001,IFERROR(INDEX(Přehled_body!$E$3:$ED$130,MATCH(Tabulka!$AI50,Přehled_body!$A$3:$A$130,0),MATCH(Tabulka!F$2,Přehled_body!$E$1:$ED$1,0)),)))","v":9.9999999999999994E-12},{"$f":"IF(IFERROR(INDEX(Přehled_body!$E$3:$ED$130,MATCH(Tabulka!$AI50,Přehled_body!$A$3:$A$130,0),MATCH(Tabulka!G$2,Přehled_body!$E$1:$ED$1,0)),)=\"\",,IF(IFERROR(INDEX(Přehled_body!$E$3:$ED$130,MATCH(Tabulka!$AI50,Přehled_body!$A$3:$A$130,0),MATCH(Tabulka!G$2,Přehled_body!$E$1:$ED$1,0)),)=0,0.00000000001,IFERROR(INDEX(Přehled_body!$E$3:$ED$130,MATCH(Tabulka!$AI50,Přehled_body!$A$3:$A$130,0),MATCH(Tabulka!G$2,Přehled_body!$E$1:$ED$1,0)),)))","v":9.9999999999999994E-12},{"$f":"IF(IFERROR(INDEX(Přehled_body!$E$3:$ED$130,MATCH(Tabulka!$AI50,Přehled_body!$A$3:$A$130,0),MATCH(Tabulka!H$2,Přehled_body!$E$1:$ED$1,0)),)=\"\",,IF(IFERROR(INDEX(Přehled_body!$E$3:$ED$130,MATCH(Tabulka!$AI50,Přehled_body!$A$3:$A$130,0),MATCH(Tabulka!H$2,Přehled_body!$E$1:$ED$1,0)),)=0,0.00000000001,IFERROR(INDEX(Přehled_body!$E$3:$ED$130,MATCH(Tabulka!$AI50,Přehled_body!$A$3:$A$130,0),MATCH(Tabulka!H$2,Přehled_body!$E$1:$ED$1,0)),)))","v":9.9999999999999994E-12},{"$f":"IF(IFERROR(INDEX(Přehled_body!$E$3:$ED$130,MATCH(Tabulka!$AI50,Přehled_body!$A$3:$A$130,0),MATCH(Tabulka!I$2,Přehled_body!$E$1:$ED$1,0)),)=\"\",,IF(IFERROR(INDEX(Přehled_body!$E$3:$ED$130,MATCH(Tabulka!$AI50,Přehled_body!$A$3:$A$130,0),MATCH(Tabulka!I$2,Přehled_body!$E$1:$ED$1,0)),)=0,0.00000000001,IFERROR(INDEX(Přehled_body!$E$3:$ED$130,MATCH(Tabulka!$AI50,Přehled_body!$A$3:$A$130,0),MATCH(Tabulka!I$2,Přehled_body!$E$1:$ED$1,0)),)))","v":1},{"$f":"IF(IFERROR(INDEX(Přehled_body!$E$3:$ED$130,MATCH(Tabulka!$AI50,Přehled_body!$A$3:$A$130,0),MATCH(Tabulka!J$2,Přehled_body!$E$1:$ED$1,0)),)=\"\",,IF(IFERROR(INDEX(Přehled_body!$E$3:$ED$130,MATCH(Tabulka!$AI50,Přehled_body!$A$3:$A$130,0),MATCH(Tabulka!J$2,Přehled_body!$E$1:$ED$1,0)),)=0,0.00000000001,IFERROR(INDEX(Přehled_body!$E$3:$ED$130,MATCH(Tabulka!$AI50,Přehled_body!$A$3:$A$130,0),MATCH(Tabulka!J$2,Přehled_body!$E$1:$ED$1,0)),)))","v":9.9999999999999994E-12},{"$f":"IF(IFERROR(INDEX(Přehled_body!$E$3:$ED$130,MATCH(Tabulka!$AI50,Přehled_body!$A$3:$A$130,0),MATCH(Tabulka!K$2,Přehled_body!$E$1:$ED$1,0)),)=\"\",,IF(IFERROR(INDEX(Přehled_body!$E$3:$ED$130,MATCH(Tabulka!$AI50,Přehled_body!$A$3:$A$130,0),MATCH(Tabulka!K$2,Přehled_body!$E$1:$ED$1,0)),)=0,0.00000000001,IFERROR(INDEX(Přehled_body!$E$3:$ED$130,MATCH(Tabulka!$AI50,Přehled_body!$A$3:$A$130,0),MATCH(Tabulka!K$2,Přehled_body!$E$1:$ED$1,0)),)))","v":0},{"$f":"IF(IFERROR(INDEX(Přehled_body!$E$3:$ED$130,MATCH(Tabulka!$AI50,Přehled_body!$A$3:$A$130,0),MATCH(Tabulka!L$2,Přehled_body!$E$1:$ED$1,0)),)=\"\",,IF(IFERROR(INDEX(Přehled_body!$E$3:$ED$130,MATCH(Tabulka!$AI50,Přehled_body!$A$3:$A$130,0),MATCH(Tabulka!L$2,Přehled_body!$E$1:$ED$1,0)),)=0,0.00000000001,IFERROR(INDEX(Přehled_body!$E$3:$ED$130,MATCH(Tabulka!$AI50,Přehled_body!$A$3:$A$130,0),MATCH(Tabulka!L$2,Přehled_body!$E$1:$ED$1,0)),)))","v":1},{"$f":"IF(IFERROR(INDEX(Přehled_body!$E$3:$ED$130,MATCH(Tabulka!$AI50,Přehled_body!$A$3:$A$130,0),MATCH(Tabulka!M$2,Přehled_body!$E$1:$ED$1,0)),)=\"\",,IF(IFERROR(INDEX(Přehled_body!$E$3:$ED$130,MATCH(Tabulka!$AI50,Přehled_body!$A$3:$A$130,0),MATCH(Tabulka!M$2,Přehled_body!$E$1:$ED$1,0)),)=0,0.00000000001,IFERROR(INDEX(Přehled_body!$E$3:$ED$130,MATCH(Tabulka!$AI50,Přehled_body!$A$3:$A$130,0),MATCH(Tabulka!M$2,Přehled_body!$E$1:$ED$1,0)),)))","v":1},{"$f":"IF(IFERROR(INDEX(Přehled_body!$E$3:$ED$130,MATCH(Tabulka!$AI50,Přehled_body!$A$3:$A$130,0),MATCH(Tabulka!N$2,Přehled_body!$E$1:$ED$1,0)),)=\"\",,IF(IFERROR(INDEX(Přehled_body!$E$3:$ED$130,MATCH(Tabulka!$AI50,Přehled_body!$A$3:$A$130,0),MATCH(Tabulka!N$2,Přehled_body!$E$1:$ED$1,0)),)=0,0.00000000001,IFERROR(INDEX(Přehled_body!$E$3:$ED$130,MATCH(Tabulka!$AI50,Přehled_body!$A$3:$A$130,0),MATCH(Tabulka!N$2,Přehled_body!$E$1:$ED$1,0)),)))","v":9.9999999999999994E-12},{"$f":"IF(IFERROR(INDEX(Přehled_body!$E$3:$ED$130,MATCH(Tabulka!$AI50,Přehled_body!$A$3:$A$130,0),MATCH(Tabulka!O$2,Přehled_body!$E$1:$ED$1,0)),)=\"\",,IF(IFERROR(INDEX(Přehled_body!$E$3:$ED$130,MATCH(Tabulka!$AI50,Přehled_body!$A$3:$A$130,0),MATCH(Tabulka!O$2,Přehled_body!$E$1:$ED$1,0)),)=0,0.00000000001,IFERROR(INDEX(Přehled_body!$E$3:$ED$130,MATCH(Tabulka!$AI50,Přehled_body!$A$3:$A$130,0),MATCH(Tabulka!O$2,Přehled_body!$E$1:$ED$1,0)),)))","v":1},{"$f":"IF(IFERROR(INDEX(Přehled_body!$E$3:$ED$130,MATCH(Tabulka!$AI50,Přehled_body!$A$3:$A$130,0),MATCH(Tabulka!P$2,Přehled_body!$E$1:$ED$1,0)),)=\"\",,IF(IFERROR(INDEX(Přehled_body!$E$3:$ED$130,MATCH(Tabulka!$AI50,Přehled_body!$A$3:$A$130,0),MATCH(Tabulka!P$2,Přehled_body!$E$1:$ED$1,0)),)=0,0.00000000001,IFERROR(INDEX(Přehled_body!$E$3:$ED$130,MATCH(Tabulka!$AI50,Přehled_body!$A$3:$A$130,0),MATCH(Tabulka!P$2,Přehled_body!$E$1:$ED$1,0)),)))","v":2},{"$f":"IF(IFERROR(INDEX(Přehled_body!$E$3:$ED$130,MATCH(Tabulka!$AI50,Přehled_body!$A$3:$A$130,0),MATCH(Tabulka!Q$2,Přehled_body!$E$1:$ED$1,0)),)=\"\",,IF(IFERROR(INDEX(Přehled_body!$E$3:$ED$130,MATCH(Tabulka!$AI50,Přehled_body!$A$3:$A$130,0),MATCH(Tabulka!Q$2,Přehled_body!$E$1:$ED$1,0)),)=0,0.00000000001,IFERROR(INDEX(Přehled_body!$E$3:$ED$130,MATCH(Tabulka!$AI50,Přehled_body!$A$3:$A$130,0),MATCH(Tabulka!Q$2,Přehled_body!$E$1:$ED$1,0)),)))","v":9.9999999999999994E-12},{"$f":"IF(IFERROR(INDEX(Přehled_body!$E$3:$ED$130,MATCH(Tabulka!$AI50,Přehled_body!$A$3:$A$130,0),MATCH(Tabulka!R$2,Přehled_body!$E$1:$ED$1,0)),)=\"\",,IF(IFERROR(INDEX(Přehled_body!$E$3:$ED$130,MATCH(Tabulka!$AI50,Přehled_body!$A$3:$A$130,0),MATCH(Tabulka!R$2,Přehled_body!$E$1:$ED$1,0)),)=0,0.00000000001,IFERROR(INDEX(Přehled_body!$E$3:$ED$130,MATCH(Tabulka!$AI50,Přehled_body!$A$3:$A$130,0),MATCH(Tabulka!R$2,Přehled_body!$E$1:$ED$1,0)),)))","v":0},{"$f":"IF(IFERROR(INDEX(Přehled_body!$E$3:$ED$130,MATCH(Tabulka!$AI50,Přehled_body!$A$3:$A$130,0),MATCH(Tabulka!S$2,Přehled_body!$E$1:$ED$1,0)),)=\"\",,IF(IFERROR(INDEX(Přehled_body!$E$3:$ED$130,MATCH(Tabulka!$AI50,Přehled_body!$A$3:$A$130,0),MATCH(Tabulka!S$2,Přehled_body!$E$1:$ED$1,0)),)=0,0.00000000001,IFERROR(INDEX(Přehled_body!$E$3:$ED$130,MATCH(Tabulka!$AI50,Přehled_body!$A$3:$A$130,0),MATCH(Tabulka!S$2,Přehled_body!$E$1:$ED$1,0)),)))","v":9.9999999999999994E-12},{"$f":"IF(IFERROR(INDEX(Přehled_body!$E$3:$ED$130,MATCH(Tabulka!$AI50,Přehled_body!$A$3:$A$130,0),MATCH(Tabulka!T$2,Přehled_body!$E$1:$ED$1,0)),)=\"\",,IF(IFERROR(INDEX(Přehled_body!$E$3:$ED$130,MATCH(Tabulka!$AI50,Přehled_body!$A$3:$A$130,0),MATCH(Tabulka!T$2,Přehled_body!$E$1:$ED$1,0)),)=0,0.00000000001,IFERROR(INDEX(Přehled_body!$E$3:$ED$130,MATCH(Tabulka!$AI50,Přehled_body!$A$3:$A$130,0),MATCH(Tabulka!T$2,Přehled_body!$E$1:$ED$1,0)),)))","v":9.9999999999999994E-12},{"$f":"IF(IFERROR(INDEX(Přehled_body!$E$3:$ED$130,MATCH(Tabulka!$AI50,Přehled_body!$A$3:$A$130,0),MATCH(Tabulka!U$2,Přehled_body!$E$1:$ED$1,0)),)=\"\",,IF(IFERROR(INDEX(Přehled_body!$E$3:$ED$130,MATCH(Tabulka!$AI50,Přehled_body!$A$3:$A$130,0),MATCH(Tabulka!U$2,Přehled_body!$E$1:$ED$1,0)),)=0,0.00000000001,IFERROR(INDEX(Přehled_body!$E$3:$ED$130,MATCH(Tabulka!$AI50,Přehled_body!$A$3:$A$130,0),MATCH(Tabulka!U$2,Přehled_body!$E$1:$ED$1,0)),)))","v":0},{"$f":"IF(IFERROR(INDEX(Přehled_body!$E$3:$ED$130,MATCH(Tabulka!$AI50,Přehled_body!$A$3:$A$130,0),MATCH(Tabulka!V$2,Přehled_body!$E$1:$ED$1,0)),)=\"\",,IF(IFERROR(INDEX(Přehled_body!$E$3:$ED$130,MATCH(Tabulka!$AI50,Přehled_body!$A$3:$A$130,0),MATCH(Tabulka!V$2,Přehled_body!$E$1:$ED$1,0)),)=0,0.00000000001,IFERROR(INDEX(Přehled_body!$E$3:$ED$130,MATCH(Tabulka!$AI50,Přehled_body!$A$3:$A$130,0),MATCH(Tabulka!V$2,Přehled_body!$E$1:$ED$1,0)),)))","v":0},{"$f":"IF(IFERROR(INDEX(Přehled_body!$E$3:$ED$130,MATCH(Tabulka!$AI50,Přehled_body!$A$3:$A$130,0),MATCH(Tabulka!W$2,Přehled_body!$E$1:$ED$1,0)),)=\"\",,IF(IFERROR(INDEX(Přehled_body!$E$3:$ED$130,MATCH(Tabulka!$AI50,Přehled_body!$A$3:$A$130,0),MATCH(Tabulka!W$2,Přehled_body!$E$1:$ED$1,0)),)=0,0.00000000001,IFERROR(INDEX(Přehled_body!$E$3:$ED$130,MATCH(Tabulka!$AI50,Přehled_body!$A$3:$A$130,0),MATCH(Tabulka!W$2,Přehled_body!$E$1:$ED$1,0)),)))","v":0},{"$f":"IF(IFERROR(INDEX(Přehled_body!$E$3:$ED$130,MATCH(Tabulka!$AI50,Přehled_body!$A$3:$A$130,0),MATCH(Tabulka!X$2,Přehled_body!$E$1:$ED$1,0)),)=\"\",,IF(IFERROR(INDEX(Přehled_body!$E$3:$ED$130,MATCH(Tabulka!$AI50,Přehled_body!$A$3:$A$130,0),MATCH(Tabulka!X$2,Přehled_body!$E$1:$ED$1,0)),)=0,0.00000000001,IFERROR(INDEX(Přehled_body!$E$3:$ED$130,MATCH(Tabulka!$AI50,Přehled_body!$A$3:$A$130,0),MATCH(Tabulka!X$2,Přehled_body!$E$1:$ED$1,0)),)))","v":0},{"$f":"IF(IFERROR(INDEX(Přehled_body!$E$3:$ED$130,MATCH(Tabulka!$AI50,Přehled_body!$A$3:$A$130,0),MATCH(Tabulka!Y$2,Přehled_body!$E$1:$ED$1,0)),)=\"\",,IF(IFERROR(INDEX(Přehled_body!$E$3:$ED$130,MATCH(Tabulka!$AI50,Přehled_body!$A$3:$A$130,0),MATCH(Tabulka!Y$2,Přehled_body!$E$1:$ED$1,0)),)=0,0.00000000001,IFERROR(INDEX(Přehled_body!$E$3:$ED$130,MATCH(Tabulka!$AI50,Přehled_body!$A$3:$A$130,0),MATCH(Tabulka!Y$2,Přehled_body!$E$1:$ED$1,0)),)))","v":0},{"$f":"IF(IFERROR(INDEX(Přehled_body!$E$3:$ED$130,MATCH(Tabulka!$AI50,Přehled_body!$A$3:$A$130,0),MATCH(Tabulka!Z$2,Přehled_body!$E$1:$ED$1,0)),)=\"\",,IF(IFERROR(INDEX(Přehled_body!$E$3:$ED$130,MATCH(Tabulka!$AI50,Přehled_body!$A$3:$A$130,0),MATCH(Tabulka!Z$2,Přehled_body!$E$1:$ED$1,0)),)=0,0.00000000001,IFERROR(INDEX(Přehled_body!$E$3:$ED$130,MATCH(Tabulka!$AI50,Přehled_body!$A$3:$A$130,0),MATCH(Tabulka!Z$2,Přehled_body!$E$1:$ED$1,0)),)))","v":0},{"$f":"IF(IFERROR(INDEX(Přehled_body!$E$3:$ED$130,MATCH(Tabulka!$AI50,Přehled_body!$A$3:$A$130,0),MATCH(Tabulka!AA$2,Přehled_body!$E$1:$ED$1,0)),)=\"\",,IF(IFERROR(INDEX(Přehled_body!$E$3:$ED$130,MATCH(Tabulka!$AI50,Přehled_body!$A$3:$A$130,0),MATCH(Tabulka!AA$2,Přehled_body!$E$1:$ED$1,0)),)=0,0.00000000001,IFERROR(INDEX(Přehled_body!$E$3:$ED$130,MATCH(Tabulka!$AI50,Přehled_body!$A$3:$A$130,0),MATCH(Tabulka!AA$2,Přehled_body!$E$1:$ED$1,0)),)))","v":0},{"$f":"IF(IFERROR(INDEX(Přehled_body!$E$3:$ED$130,MATCH(Tabulka!$AI50,Přehled_body!$A$3:$A$130,0),MATCH(Tabulka!AB$2,Přehled_body!$E$1:$ED$1,0)),)=\"\",,IF(IFERROR(INDEX(Přehled_body!$E$3:$ED$130,MATCH(Tabulka!$AI50,Přehled_body!$A$3:$A$130,0),MATCH(Tabulka!AB$2,Přehled_body!$E$1:$ED$1,0)),)=0,0.00000000001,IFERROR(INDEX(Přehled_body!$E$3:$ED$130,MATCH(Tabulka!$AI50,Přehled_body!$A$3:$A$130,0),MATCH(Tabulka!AB$2,Přehled_body!$E$1:$ED$1,0)),)))","v":0},{"$f":"IF(IFERROR(INDEX(Přehled_body!$E$3:$ED$130,MATCH(Tabulka!$AI50,Přehled_body!$A$3:$A$130,0),MATCH(Tabulka!AC$2,Přehled_body!$E$1:$ED$1,0)),)=\"\",,IF(IFERROR(INDEX(Přehled_body!$E$3:$ED$130,MATCH(Tabulka!$AI50,Přehled_body!$A$3:$A$130,0),MATCH(Tabulka!AC$2,Přehled_body!$E$1:$ED$1,0)),)=0,0.00000000001,IFERROR(INDEX(Přehled_body!$E$3:$ED$130,MATCH(Tabulka!$AI50,Přehled_body!$A$3:$A$130,0),MATCH(Tabulka!AC$2,Přehled_body!$E$1:$ED$1,0)),)))","v":0},{"$f":"IF(IFERROR(INDEX(Přehled_body!$E$3:$ED$130,MATCH(Tabulka!$AI50,Přehled_body!$A$3:$A$130,0),MATCH(Tabulka!AD$2,Přehled_body!$E$1:$ED$1,0)),)=\"\",,IF(IFERROR(INDEX(Přehled_body!$E$3:$ED$130,MATCH(Tabulka!$AI50,Přehled_body!$A$3:$A$130,0),MATCH(Tabulka!AD$2,Přehled_body!$E$1:$ED$1,0)),)=0,0.00000000001,IFERROR(INDEX(Přehled_body!$E$3:$ED$130,MATCH(Tabulka!$AI50,Přehled_body!$A$3:$A$130,0),MATCH(Tabulka!AD$2,Přehled_body!$E$1:$ED$1,0)),)))","v":0},{"$f":"IF(SUM(AG49)<2,-90000+SUM(D50:AD50),SUM(D50:AD50))","v":8.0000000000899973},{"$f":"SUM(AE49-AE50)","v":7.99999999996},null,8.0000000000899973,{"$f":"CONCATENATE($B$50,\" \",$B$51,C50)","v":"Jarda KleinProhry"},null,null,15,null,null,"Jarda",10]
[{"$f":"CONCATENATE(B51,\" \",B50)","v":"Klein Jarda"},"Klein","Placeno panáků",{"$f":"IF(IFERROR(INDEX(Přehled_body!$E$3:$ED$130,MATCH(Tabulka!$AI51,Přehled_body!$A$3:$A$130,0),MATCH(Tabulka!D$2,Přehled_body!$E$1:$ED$1,0)),)=\"\",,IF(IFERROR(INDEX(Přehled_body!$E$3:$ED$130,MATCH(Tabulka!$AI51,Přehled_body!$A$3:$A$130,0),MATCH(Tabulka!D$2,Přehled_body!$E$1:$ED$1,0)),)=0,0.00000000001,IFERROR(INDEX(Přehled_body!$E$3:$ED$130,MATCH(Tabulka!$AI51,Přehled_body!$A$3:$A$130,0),MATCH(Tabulka!D$2,Přehled_body!$E$1:$ED$1,0)),)))","v":9.9999999999999994E-12},{"$f":"IF(IFERROR(INDEX(Přehled_body!$E$3:$ED$130,MATCH(Tabulka!$AI51,Přehled_body!$A$3:$A$130,0),MATCH(Tabulka!E$2,Přehled_body!$E$1:$ED$1,0)),)=\"\",,IF(IFERROR(INDEX(Přehled_body!$E$3:$ED$130,MATCH(Tabulka!$AI51,Přehled_body!$A$3:$A$130,0),MATCH(Tabulka!E$2,Přehled_body!$E$1:$ED$1,0)),)=0,0.00000000001,IFERROR(INDEX(Přehled_body!$E$3:$ED$130,MATCH(Tabulka!$AI51,Přehled_body!$A$3:$A$130,0),MATCH(Tabulka!E$2,Přehled_body!$E$1:$ED$1,0)),)))","v":4},{"$f":"IF(IFERROR(INDEX(Přehled_body!$E$3:$ED$130,MATCH(Tabulka!$AI51,Přehled_body!$A$3:$A$130,0),MATCH(Tabulka!F$2,Přehled_body!$E$1:$ED$1,0)),)=\"\",,IF(IFERROR(INDEX(Přehled_body!$E$3:$ED$130,MATCH(Tabulka!$AI51,Přehled_body!$A$3:$A$130,0),MATCH(Tabulka!F$2,Přehled_body!$E$1:$ED$1,0)),)=0,0.00000000001,IFERROR(INDEX(Přehled_body!$E$3:$ED$130,MATCH(Tabulka!$AI51,Přehled_body!$A$3:$A$130,0),MATCH(Tabulka!F$2,Přehled_body!$E$1:$ED$1,0)),)))","v":9.9999999999999994E-12},{"$f":"IF(IFERROR(INDEX(Přehled_body!$E$3:$ED$130,MATCH(Tabulka!$AI51,Přehled_body!$A$3:$A$130,0),MATCH(Tabulka!G$2,Přehled_body!$E$1:$ED$1,0)),)=\"\",,IF(IFERROR(INDEX(Přehled_body!$E$3:$ED$130,MATCH(Tabulka!$AI51,Přehled_body!$A$3:$A$130,0),MATCH(Tabulka!G$2,Přehled_body!$E$1:$ED$1,0)),)=0,0.00000000001,IFERROR(INDEX(Přehled_body!$E$3:$ED$130,MATCH(Tabulka!$AI51,Přehled_body!$A$3:$A$130,0),MATCH(Tabulka!G$2,Přehled_body!$E$1:$ED$1,0)),)))","v":9.9999999999999994E-12},{"$f":"IF(IFERROR(INDEX(Přehled_body!$E$3:$ED$130,MATCH(Tabulka!$AI51,Přehled_body!$A$3:$A$130,0),MATCH(Tabulka!H$2,Přehled_body!$E$1:$ED$1,0)),)=\"\",,IF(IFERROR(INDEX(Přehled_body!$E$3:$ED$130,MATCH(Tabulka!$AI51,Přehled_body!$A$3:$A$130,0),MATCH(Tabulka!H$2,Přehled_body!$E$1:$ED$1,0)),)=0,0.00000000001,IFERROR(INDEX(Přehled_body!$E$3:$ED$130,MATCH(Tabulka!$AI51,Přehled_body!$A$3:$A$130,0),MATCH(Tabulka!H$2,Přehled_body!$E$1:$ED$1,0)),)))","v":9.9999999999999994E-12},{"$f":"IF(IFERROR(INDEX(Přehled_body!$E$3:$ED$130,MATCH(Tabulka!$AI51,Přehled_body!$A$3:$A$130,0),MATCH(Tabulka!I$2,Přehled_body!$E$1:$ED$1,0)),)=\"\",,IF(IFERROR(INDEX(Přehled_body!$E$3:$ED$130,MATCH(Tabulka!$AI51,Přehled_body!$A$3:$A$130,0),MATCH(Tabulka!I$2,Přehled_body!$E$1:$ED$1,0)),)=0,0.00000000001,IFERROR(INDEX(Přehled_body!$E$3:$ED$130,MATCH(Tabulka!$AI51,Přehled_body!$A$3:$A$130,0),MATCH(Tabulka!I$2,Přehled_body!$E$1:$ED$1,0)),)))","v":1},{"$f":"IF(IFERROR(INDEX(Přehled_body!$E$3:$ED$130,MATCH(Tabulka!$AI51,Přehled_body!$A$3:$A$130,0),MATCH(Tabulka!J$2,Přehled_body!$E$1:$ED$1,0)),)=\"\",,IF(IFERROR(INDEX(Přehled_body!$E$3:$ED$130,MATCH(Tabulka!$AI51,Přehled_body!$A$3:$A$130,0),MATCH(Tabulka!J$2,Přehled_body!$E$1:$ED$1,0)),)=0,0.00000000001,IFERROR(INDEX(Přehled_body!$E$3:$ED$130,MATCH(Tabulka!$AI51,Přehled_body!$A$3:$A$130,0),MATCH(Tabulka!J$2,Přehled_body!$E$1:$ED$1,0)),)))","v":9.9999999999999994E-12},{"$f":"IF(IFERROR(INDEX(Přehled_body!$E$3:$ED$130,MATCH(Tabulka!$AI51,Přehled_body!$A$3:$A$130,0),MATCH(Tabulka!K$2,Přehled_body!$E$1:$ED$1,0)),)=\"\",,IF(IFERROR(INDEX(Přehled_body!$E$3:$ED$130,MATCH(Tabulka!$AI51,Přehled_body!$A$3:$A$130,0),MATCH(Tabulka!K$2,Přehled_body!$E$1:$ED$1,0)),)=0,0.00000000001,IFERROR(INDEX(Přehled_body!$E$3:$ED$130,MATCH(Tabulka!$AI51,Přehled_body!$A$3:$A$130,0),MATCH(Tabulka!K$2,Přehled_body!$E$1:$ED$1,0)),)))","v":0},{"$f":"IF(IFERROR(INDEX(Přehled_body!$E$3:$ED$130,MATCH(Tabulka!$AI51,Přehled_body!$A$3:$A$130,0),MATCH(Tabulka!L$2,Přehled_body!$E$1:$ED$1,0)),)=\"\",,IF(IFERROR(INDEX(Přehled_body!$E$3:$ED$130,MATCH(Tabulka!$AI51,Přehled_body!$A$3:$A$130,0),MATCH(Tabulka!L$2,Přehled_body!$E$1:$ED$1,0)),)=0,0.00000000001,IFERROR(INDEX(Přehled_body!$E$3:$ED$130,MATCH(Tabulka!$AI51,Přehled_body!$A$3:$A$130,0),MATCH(Tabulka!L$2,Přehled_body!$E$1:$ED$1,0)),)))","v":1},{"$f":"IF(IFERROR(INDEX(Přehled_body!$E$3:$ED$130,MATCH(Tabulka!$AI51,Přehled_body!$A$3:$A$130,0),MATCH(Tabulka!M$2,Přehled_body!$E$1:$ED$1,0)),)=\"\",,IF(IFERROR(INDEX(Přehled_body!$E$3:$ED$130,MATCH(Tabulka!$AI51,Přehled_body!$A$3:$A$130,0),MATCH(Tabulka!M$2,Přehled_body!$E$1:$ED$1,0)),)=0,0.00000000001,IFERROR(INDEX(Přehled_body!$E$3:$ED$130,MATCH(Tabulka!$AI51,Přehled_body!$A$3:$A$130,0),MATCH(Tabulka!M$2,Přehled_body!$E$1:$ED$1,0)),)))","v":1},{"$f":"IF(IFERROR(INDEX(Přehled_body!$E$3:$ED$130,MATCH(Tabulka!$AI51,Přehled_body!$A$3:$A$130,0),MATCH(Tabulka!N$2,Přehled_body!$E$1:$ED$1,0)),)=\"\",,IF(IFERROR(INDEX(Přehled_body!$E$3:$ED$130,MATCH(Tabulka!$AI51,Přehled_body!$A$3:$A$130,0),MATCH(Tabulka!N$2,Přehled_body!$E$1:$ED$1,0)),)=0,0.00000000001,IFERROR(INDEX(Přehled_body!$E$3:$ED$130,MATCH(Tabulka!$AI51,Přehled_body!$A$3:$A$130,0),MATCH(Tabulka!N$2,Přehled_body!$E$1:$ED$1,0)),)))","v":9.9999999999999994E-12},{"$f":"IF(IFERROR(INDEX(Přehled_body!$E$3:$ED$130,MATCH(Tabulka!$AI51,Přehled_body!$A$3:$A$130,0),MATCH(Tabulka!O$2,Přehled_body!$E$1:$ED$1,0)),)=\"\",,IF(IFERROR(INDEX(Přehled_body!$E$3:$ED$130,MATCH(Tabulka!$AI51,Přehled_body!$A$3:$A$130,0),MATCH(Tabulka!O$2,Přehled_body!$E$1:$ED$1,0)),)=0,0.00000000001,IFERROR(INDEX(Přehled_body!$E$3:$ED$130,MATCH(Tabulka!$AI51,Přehled_body!$A$3:$A$130,0),MATCH(Tabulka!O$2,Přehled_body!$E$1:$ED$1,0)),)))","v":1},{"$f":"IF(IFERROR(INDEX(Přehled_body!$E$3:$ED$130,MATCH(Tabulka!$AI51,Přehled_body!$A$3:$A$130,0),MATCH(Tabulka!P$2,Přehled_body!$E$1:$ED$1,0)),)=\"\",,IF(IFERROR(INDEX(Přehled_body!$E$3:$ED$130,MATCH(Tabulka!$AI51,Přehled_body!$A$3:$A$130,0),MATCH(Tabulka!P$2,Přehled_body!$E$1:$ED$1,0)),)=0,0.00000000001,IFERROR(INDEX(Přehled_body!$E$3:$ED$130,MATCH(Tabulka!$AI51,Přehled_body!$A$3:$A$130,0),MATCH(Tabulka!P$2,Přehled_body!$E$1:$ED$1,0)),)))","v":2},{"$f":"IF(IFERROR(INDEX(Přehled_body!$E$3:$ED$130,MATCH(Tabulka!$AI51,Přehled_body!$A$3:$A$130,0),MATCH(Tabulka!Q$2,Přehled_body!$E$1:$ED$1,0)),)=\"\",,IF(IFERROR(INDEX(Přehled_body!$E$3:$ED$130,MATCH(Tabulka!$AI51,Přehled_body!$A$3:$A$130,0),MATCH(Tabulka!Q$2,Přehled_body!$E$1:$ED$1,0)),)=0,0.00000000001,IFERROR(INDEX(Přehled_body!$E$3:$ED$130,MATCH(Tabulka!$AI51,Přehled_body!$A$3:$A$130,0),MATCH(Tabulka!Q$2,Přehled_body!$E$1:$ED$1,0)),)))","v":9.9999999999999994E-12},{"$f":"IF(IFERROR(INDEX(Přehled_body!$E$3:$ED$130,MATCH(Tabulka!$AI51,Přehled_body!$A$3:$A$130,0),MATCH(Tabulka!R$2,Přehled_body!$E$1:$ED$1,0)),)=\"\",,IF(IFERROR(INDEX(Přehled_body!$E$3:$ED$130,MATCH(Tabulka!$AI51,Přehled_body!$A$3:$A$130,0),MATCH(Tabulka!R$2,Přehled_body!$E$1:$ED$1,0)),)=0,0.00000000001,IFERROR(INDEX(Přehled_body!$E$3:$ED$130,MATCH(Tabulka!$AI51,Přehled_body!$A$3:$A$130,0),MATCH(Tabulka!R$2,Přehled_body!$E$1:$ED$1,0)),)))","v":0},{"$f":"IF(IFERROR(INDEX(Přehled_body!$E$3:$ED$130,MATCH(Tabulka!$AI51,Přehled_body!$A$3:$A$130,0),MATCH(Tabulka!S$2,Přehled_body!$E$1:$ED$1,0)),)=\"\",,IF(IFERROR(INDEX(Přehled_body!$E$3:$ED$130,MATCH(Tabulka!$AI51,Přehled_body!$A$3:$A$130,0),MATCH(Tabulka!S$2,Přehled_body!$E$1:$ED$1,0)),)=0,0.00000000001,IFERROR(INDEX(Přehled_body!$E$3:$ED$130,MATCH(Tabulka!$AI51,Přehled_body!$A$3:$A$130,0),MATCH(Tabulka!S$2,Přehled_body!$E$1:$ED$1,0)),)))","v":9.9999999999999994E-12},{"$f":"IF(IFERROR(INDEX(Přehled_body!$E$3:$ED$130,MATCH(Tabulka!$AI51,Přehled_body!$A$3:$A$130,0),MATCH(Tabulka!T$2,Přehled_body!$E$1:$ED$1,0)),)=\"\",,IF(IFERROR(INDEX(Přehled_body!$E$3:$ED$130,MATCH(Tabulka!$AI51,Přehled_body!$A$3:$A$130,0),MATCH(Tabulka!T$2,Přehled_body!$E$1:$ED$1,0)),)=0,0.00000000001,IFERROR(INDEX(Přehled_body!$E$3:$ED$130,MATCH(Tabulka!$AI51,Přehled_body!$A$3:$A$130,0),MATCH(Tabulka!T$2,Přehled_body!$E$1:$ED$1,0)),)))","v":9.9999999999999994E-12},{"$f":"IF(IFERROR(INDEX(Přehled_body!$E$3:$ED$130,MATCH(Tabulka!$AI51,Přehled_body!$A$3:$A$130,0),MATCH(Tabulka!U$2,Přehled_body!$E$1:$ED$1,0)),)=\"\",,IF(IFERROR(INDEX(Přehled_body!$E$3:$ED$130,MATCH(Tabulka!$AI51,Přehled_body!$A$3:$A$130,0),MATCH(Tabulka!U$2,Přehled_body!$E$1:$ED$1,0)),)=0,0.00000000001,IFERROR(INDEX(Přehled_body!$E$3:$ED$130,MATCH(Tabulka!$AI51,Přehled_body!$A$3:$A$130,0),MATCH(Tabulka!U$2,Přehled_body!$E$1:$ED$1,0)),)))","v":0},{"$f":"IF(IFERROR(INDEX(Přehled_body!$E$3:$ED$130,MATCH(Tabulka!$AI51,Přehled_body!$A$3:$A$130,0),MATCH(Tabulka!V$2,Přehled_body!$E$1:$ED$1,0)),)=\"\",,IF(IFERROR(INDEX(Přehled_body!$E$3:$ED$130,MATCH(Tabulka!$AI51,Přehled_body!$A$3:$A$130,0),MATCH(Tabulka!V$2,Přehled_body!$E$1:$ED$1,0)),)=0,0.00000000001,IFERROR(INDEX(Přehled_body!$E$3:$ED$130,MATCH(Tabulka!$AI51,Přehled_body!$A$3:$A$130,0),MATCH(Tabulka!V$2,Přehled_body!$E$1:$ED$1,0)),)))","v":0},{"$f":"IF(IFERROR(INDEX(Přehled_body!$E$3:$ED$130,MATCH(Tabulka!$AI51,Přehled_body!$A$3:$A$130,0),MATCH(Tabulka!W$2,Přehled_body!$E$1:$ED$1,0)),)=\"\",,IF(IFERROR(INDEX(Přehled_body!$E$3:$ED$130,MATCH(Tabulka!$AI51,Přehled_body!$A$3:$A$130,0),MATCH(Tabulka!W$2,Přehled_body!$E$1:$ED$1,0)),)=0,0.00000000001,IFERROR(INDEX(Přehled_body!$E$3:$ED$130,MATCH(Tabulka!$AI51,Přehled_body!$A$3:$A$130,0),MATCH(Tabulka!W$2,Přehled_body!$E$1:$ED$1,0)),)))","v":0},{"$f":"IF(IFERROR(INDEX(Přehled_body!$E$3:$ED$130,MATCH(Tabulka!$AI51,Přehled_body!$A$3:$A$130,0),MATCH(Tabulka!X$2,Přehled_body!$E$1:$ED$1,0)),)=\"\",,IF(IFERROR(INDEX(Přehled_body!$E$3:$ED$130,MATCH(Tabulka!$AI51,Přehled_body!$A$3:$A$130,0),MATCH(Tabulka!X$2,Přehled_body!$E$1:$ED$1,0)),)=0,0.00000000001,IFERROR(INDEX(Přehled_body!$E$3:$ED$130,MATCH(Tabulka!$AI51,Přehled_body!$A$3:$A$130,0),MATCH(Tabulka!X$2,Přehled_body!$E$1:$ED$1,0)),)))","v":0},{"$f":"IF(IFERROR(INDEX(Přehled_body!$E$3:$ED$130,MATCH(Tabulka!$AI51,Přehled_body!$A$3:$A$130,0),MATCH(Tabulka!Y$2,Přehled_body!$E$1:$ED$1,0)),)=\"\",,IF(IFERROR(INDEX(Přehled_body!$E$3:$ED$130,MATCH(Tabulka!$AI51,Přehled_body!$A$3:$A$130,0),MATCH(Tabulka!Y$2,Přehled_body!$E$1:$ED$1,0)),)=0,0.00000000001,IFERROR(INDEX(Přehled_body!$E$3:$ED$130,MATCH(Tabulka!$AI51,Přehled_body!$A$3:$A$130,0),MATCH(Tabulka!Y$2,Přehled_body!$E$1:$ED$1,0)),)))","v":0},{"$f":"IF(IFERROR(INDEX(Přehled_body!$E$3:$ED$130,MATCH(Tabulka!$AI51,Přehled_body!$A$3:$A$130,0),MATCH(Tabulka!Z$2,Přehled_body!$E$1:$ED$1,0)),)=\"\",,IF(IFERROR(INDEX(Přehled_body!$E$3:$ED$130,MATCH(Tabulka!$AI51,Přehled_body!$A$3:$A$130,0),MATCH(Tabulka!Z$2,Přehled_body!$E$1:$ED$1,0)),)=0,0.00000000001,IFERROR(INDEX(Přehled_body!$E$3:$ED$130,MATCH(Tabulka!$AI51,Přehled_body!$A$3:$A$130,0),MATCH(Tabulka!Z$2,Přehled_body!$E$1:$ED$1,0)),)))","v":0},{"$f":"IF(IFERROR(INDEX(Přehled_body!$E$3:$ED$130,MATCH(Tabulka!$AI51,Přehled_body!$A$3:$A$130,0),MATCH(Tabulka!AA$2,Přehled_body!$E$1:$ED$1,0)),)=\"\",,IF(IFERROR(INDEX(Přehled_body!$E$3:$ED$130,MATCH(Tabulka!$AI51,Přehled_body!$A$3:$A$130,0),MATCH(Tabulka!AA$2,Přehled_body!$E$1:$ED$1,0)),)=0,0.00000000001,IFERROR(INDEX(Přehled_body!$E$3:$ED$130,MATCH(Tabulka!$AI51,Přehled_body!$A$3:$A$130,0),MATCH(Tabulka!AA$2,Přehled_body!$E$1:$ED$1,0)),)))","v":0},{"$f":"IF(IFERROR(INDEX(Přehled_body!$E$3:$ED$130,MATCH(Tabulka!$AI51,Přehled_body!$A$3:$A$130,0),MATCH(Tabulka!AB$2,Přehled_body!$E$1:$ED$1,0)),)=\"\",,IF(IFERROR(INDEX(Přehled_body!$E$3:$ED$130,MATCH(Tabulka!$AI51,Přehled_body!$A$3:$A$130,0),MATCH(Tabulka!AB$2,Přehled_body!$E$1:$ED$1,0)),)=0,0.00000000001,IFERROR(INDEX(Přehled_body!$E$3:$ED$130,MATCH(Tabulka!$AI51,Přehled_body!$A$3:$A$130,0),MATCH(Tabulka!AB$2,Přehled_body!$E$1:$ED$1,0)),)))","v":0},{"$f":"IF(IFERROR(INDEX(Přehled_body!$E$3:$ED$130,MATCH(Tabulka!$AI51,Přehled_body!$A$3:$A$130,0),MATCH(Tabulka!AC$2,Přehled_body!$E$1:$ED$1,0)),)=\"\",,IF(IFERROR(INDEX(Přehled_body!$E$3:$ED$130,MATCH(Tabulka!$AI51,Přehled_body!$A$3:$A$130,0),MATCH(Tabulka!AC$2,Přehled_body!$E$1:$ED$1,0)),)=0,0.00000000001,IFERROR(INDEX(Přehled_body!$E$3:$ED$130,MATCH(Tabulka!$AI51,Přehled_body!$A$3:$A$130,0),MATCH(Tabulka!AC$2,Přehled_body!$E$1:$ED$1,0)),)))","v":0},{"$f":"IF(IFERROR(INDEX(Přehled_body!$E$3:$ED$130,MATCH(Tabulka!$AI51,Přehled_body!$A$3:$A$130,0),MATCH(Tabulka!AD$2,Přehled_body!$E$1:$ED$1,0)),)=\"\",,IF(IFERROR(INDEX(Přehled_body!$E$3:$ED$130,MATCH(Tabulka!$AI51,Přehled_body!$A$3:$A$130,0),MATCH(Tabulka!AD$2,Přehled_body!$E$1:$ED$1,0)),)=0,0.00000000001,IFERROR(INDEX(Přehled_body!$E$3:$ED$130,MATCH(Tabulka!$AI51,Přehled_body!$A$3:$A$130,0),MATCH(Tabulka!AD$2,Přehled_body!$E$1:$ED$1,0)),)))","v":0},{"$f":"IF(SUM(AG49)<2,-90000+SUM(D51:AD51),SUM(D51:AD51))","v":10.000000000089997},null,null,{"$f":"SUM(D51:AD51)+INDEX(List4!$D$2:$F$17,MATCH(Tabulka!A50,List4!$D$2:$D$17,0),3)","v":10.000000081089997},{"$f":"CONCATENATE($B$50,\" \",$B$51,C51)","v":"Jarda KleinPlaceno panáků"},null,null,15,null,null,"Klein",{"$f":"CONCATENATE(AQ51,\" \",AQ52)","v":"Petr Weiner"},"Petr"]
[null,null,"Přehozy",{"$f":"IF(IFERROR(INDEX(Přehled_body!$E$3:$ED$130,MATCH(Tabulka!$AI52,Přehled_body!$A$3:$A$130,0),MATCH(Tabulka!D$2,Přehled_body!$E$1:$ED$1,0)),)=\"\",,IF(IFERROR(INDEX(Přehled_body!$E$3:$ED$130,MATCH(Tabulka!$AI52,Přehled_body!$A$3:$A$130,0),MATCH(Tabulka!D$2,Přehled_body!$E$1:$ED$1,0)),)=0,0.00000000001,IFERROR(INDEX(Přehled_body!$E$3:$ED$130,MATCH(Tabulka!$AI52,Přehled_body!$A$3:$A$130,0),MATCH(Tabulka!D$2,Přehled_body!$E$1:$ED$1,0)),)))","v":3},{"$f":"IF(IFERROR(INDEX(Přehled_body!$E$3:$ED$130,MATCH(Tabulka!$AI52,Přehled_body!$A$3:$A$130,0),MATCH(Tabulka!E$2,Přehled_body!$E$1:$ED$1,0)),)=\"\",,IF(IFERROR(INDEX(Přehled_body!$E$3:$ED$130,MATCH(Tabulka!$AI52,Přehled_body!$A$3:$A$130,0),MATCH(Tabulka!E$2,Přehled_body!$E$1:$ED$1,0)),)=0,0.00000000001,IFERROR(INDEX(Přehled_body!$E$3:$ED$130,MATCH(Tabulka!$AI52,Přehled_body!$A$3:$A$130,0),MATCH(Tabulka!E$2,Přehled_body!$E$1:$ED$1,0)),)))","v":4},{"$f":"IF(IFERROR(INDEX(Přehled_body!$E$3:$ED$130,MATCH(Tabulka!$AI52,Přehled_body!$A$3:$A$130,0),MATCH(Tabulka!F$2,Přehled_body!$E$1:$ED$1,0)),)=\"\",,IF(IFERROR(INDEX(Přehled_body!$E$3:$ED$130,MATCH(Tabulka!$AI52,Přehled_body!$A$3:$A$130,0),MATCH(Tabulka!F$2,Přehled_body!$E$1:$ED$1,0)),)=0,0.00000000001,IFERROR(INDEX(Přehled_body!$E$3:$ED$130,MATCH(Tabulka!$AI52,Přehled_body!$A$3:$A$130,0),MATCH(Tabulka!F$2,Přehled_body!$E$1:$ED$1,0)),)))","v":9.9999999999999994E-12},{"$f":"IF(IFERROR(INDEX(Přehled_body!$E$3:$ED$130,MATCH(Tabulka!$AI52,Přehled_body!$A$3:$A$130,0),MATCH(Tabulka!G$2,Přehled_body!$E$1:$ED$1,0)),)=\"\",,IF(IFERROR(INDEX(Přehled_body!$E$3:$ED$130,MATCH(Tabulka!$AI52,Přehled_body!$A$3:$A$130,0),MATCH(Tabulka!G$2,Přehled_body!$E$1:$ED$1,0)),)=0,0.00000000001,IFERROR(INDEX(Přehled_body!$E$3:$ED$130,MATCH(Tabulka!$AI52,Přehled_body!$A$3:$A$130,0),MATCH(Tabulka!G$2,Přehled_body!$E$1:$ED$1,0)),)))","v":9.9999999999999994E-12},{"$f":"IF(IFERROR(INDEX(Přehled_body!$E$3:$ED$130,MATCH(Tabulka!$AI52,Přehled_body!$A$3:$A$130,0),MATCH(Tabulka!H$2,Přehled_body!$E$1:$ED$1,0)),)=\"\",,IF(IFERROR(INDEX(Přehled_body!$E$3:$ED$130,MATCH(Tabulka!$AI52,Přehled_body!$A$3:$A$130,0),MATCH(Tabulka!H$2,Přehled_body!$E$1:$ED$1,0)),)=0,0.00000000001,IFERROR(INDEX(Přehled_body!$E$3:$ED$130,MATCH(Tabulka!$AI52,Přehled_body!$A$3:$A$130,0),MATCH(Tabulka!H$2,Přehled_body!$E$1:$ED$1,0)),)))","v":3},{"$f":"IF(IFERROR(INDEX(Přehled_body!$E$3:$ED$130,MATCH(Tabulka!$AI52,Přehled_body!$A$3:$A$130,0),MATCH(Tabulka!I$2,Přehled_body!$E$1:$ED$1,0)),)=\"\",,IF(IFERROR(INDEX(Přehled_body!$E$3:$ED$130,MATCH(Tabulka!$AI52,Přehled_body!$A$3:$A$130,0),MATCH(Tabulka!I$2,Přehled_body!$E$1:$ED$1,0)),)=0,0.00000000001,IFERROR(INDEX(Přehled_body!$E$3:$ED$130,MATCH(Tabulka!$AI52,Přehled_body!$A$3:$A$130,0),MATCH(Tabulka!I$2,Přehled_body!$E$1:$ED$1,0)),)))","v":1},{"$f":"IF(IFERROR(INDEX(Přehled_body!$E$3:$ED$130,MATCH(Tabulka!$AI52,Přehled_body!$A$3:$A$130,0),MATCH(Tabulka!J$2,Přehled_body!$E$1:$ED$1,0)),)=\"\",,IF(IFERROR(INDEX(Přehled_body!$E$3:$ED$130,MATCH(Tabulka!$AI52,Přehled_body!$A$3:$A$130,0),MATCH(Tabulka!J$2,Přehled_body!$E$1:$ED$1,0)),)=0,0.00000000001,IFERROR(INDEX(Přehled_body!$E$3:$ED$130,MATCH(Tabulka!$AI52,Přehled_body!$A$3:$A$130,0),MATCH(Tabulka!J$2,Přehled_body!$E$1:$ED$1,0)),)))","v":1},{"$f":"IF(IFERROR(INDEX(Přehled_body!$E$3:$ED$130,MATCH(Tabulka!$AI52,Přehled_body!$A$3:$A$130,0),MATCH(Tabulka!K$2,Přehled_body!$E$1:$ED$1,0)),)=\"\",,IF(IFERROR(INDEX(Přehled_body!$E$3:$ED$130,MATCH(Tabulka!$AI52,Přehled_body!$A$3:$A$130,0),MATCH(Tabulka!K$2,Přehled_body!$E$1:$ED$1,0)),)=0,0.00000000001,IFERROR(INDEX(Přehled_body!$E$3:$ED$130,MATCH(Tabulka!$AI52,Přehled_body!$A$3:$A$130,0),MATCH(Tabulka!K$2,Přehled_body!$E$1:$ED$1,0)),)))","v":0},{"$f":"IF(IFERROR(INDEX(Přehled_body!$E$3:$ED$130,MATCH(Tabulka!$AI52,Přehled_body!$A$3:$A$130,0),MATCH(Tabulka!L$2,Přehled_body!$E$1:$ED$1,0)),)=\"\",,IF(IFERROR(INDEX(Přehled_body!$E$3:$ED$130,MATCH(Tabulka!$AI52,Přehled_body!$A$3:$A$130,0),MATCH(Tabulka!L$2,Přehled_body!$E$1:$ED$1,0)),)=0,0.00000000001,IFERROR(INDEX(Přehled_body!$E$3:$ED$130,MATCH(Tabulka!$AI52,Přehled_body!$A$3:$A$130,0),MATCH(Tabulka!L$2,Přehled_body!$E$1:$ED$1,0)),)))","v":1},{"$f":"IF(IFERROR(INDEX(Přehled_body!$E$3:$ED$130,MATCH(Tabulka!$AI52,Přehled_body!$A$3:$A$130,0),MATCH(Tabulka!M$2,Přehled_body!$E$1:$ED$1,0)),)=\"\",,IF(IFERROR(INDEX(Přehled_body!$E$3:$ED$130,MATCH(Tabulka!$AI52,Přehled_body!$A$3:$A$130,0),MATCH(Tabulka!M$2,Přehled_body!$E$1:$ED$1,0)),)=0,0.00000000001,IFERROR(INDEX(Přehled_body!$E$3:$ED$130,MATCH(Tabulka!$AI52,Přehled_body!$A$3:$A$130,0),MATCH(Tabulka!M$2,Přehled_body!$E$1:$ED$1,0)),)))","v":1},{"$f":"IF(IFERROR(INDEX(Přehled_body!$E$3:$ED$130,MATCH(Tabulka!$AI52,Přehled_body!$A$3:$A$130,0),MATCH(Tabulka!N$2,Přehled_body!$E$1:$ED$1,0)),)=\"\",,IF(IFERROR(INDEX(Přehled_body!$E$3:$ED$130,MATCH(Tabulka!$AI52,Přehled_body!$A$3:$A$130,0),MATCH(Tabulka!N$2,Přehled_body!$E$1:$ED$1,0)),)=0,0.00000000001,IFERROR(INDEX(Přehled_body!$E$3:$ED$130,MATCH(Tabulka!$AI52,Přehled_body!$A$3:$A$130,0),MATCH(Tabulka!N$2,Přehled_body!$E$1:$ED$1,0)),)))","v":1},{"$f":"IF(IFERROR(INDEX(Přehled_body!$E$3:$ED$130,MATCH(Tabulka!$AI52,Přehled_body!$A$3:$A$130,0),MATCH(Tabulka!O$2,Přehled_body!$E$1:$ED$1,0)),)=\"\",,IF(IFERROR(INDEX(Přehled_body!$E$3:$ED$130,MATCH(Tabulka!$AI52,Přehled_body!$A$3:$A$130,0),MATCH(Tabulka!O$2,Přehled_body!$E$1:$ED$1,0)),)=0,0.00000000001,IFERROR(INDEX(Přehled_body!$E$3:$ED$130,MATCH(Tabulka!$AI52,Přehled_body!$A$3:$A$130,0),MATCH(Tabulka!O$2,Přehled_body!$E$1:$ED$1,0)),)))","v":2},{"$f":"IF(IFERROR(INDEX(Přehled_body!$E$3:$ED$130,MATCH(Tabulka!$AI52,Přehled_body!$A$3:$A$130,0),MATCH(Tabulka!P$2,Přehled_body!$E$1:$ED$1,0)),)=\"\",,IF(IFERROR(INDEX(Přehled_body!$E$3:$ED$130,MATCH(Tabulka!$AI52,Přehled_body!$A$3:$A$130,0),MATCH(Tabulka!P$2,Přehled_body!$E$1:$ED$1,0)),)=0,0.00000000001,IFERROR(INDEX(Přehled_body!$E$3:$ED$130,MATCH(Tabulka!$AI52,Přehled_body!$A$3:$A$130,0),MATCH(Tabulka!P$2,Přehled_body!$E$1:$ED$1,0)),)))","v":9.9999999999999994E-12},{"$f":"IF(IFERROR(INDEX(Přehled_body!$E$3:$ED$130,MATCH(Tabulka!$AI52,Přehled_body!$A$3:$A$130,0),MATCH(Tabulka!Q$2,Přehled_body!$E$1:$ED$1,0)),)=\"\",,IF(IFERROR(INDEX(Přehled_body!$E$3:$ED$130,MATCH(Tabulka!$AI52,Přehled_body!$A$3:$A$130,0),MATCH(Tabulka!Q$2,Přehled_body!$E$1:$ED$1,0)),)=0,0.00000000001,IFERROR(INDEX(Přehled_body!$E$3:$ED$130,MATCH(Tabulka!$AI52,Přehled_body!$A$3:$A$130,0),MATCH(Tabulka!Q$2,Přehled_body!$E$1:$ED$1,0)),)))","v":2},{"$f":"IF(IFERROR(INDEX(Přehled_body!$E$3:$ED$130,MATCH(Tabulka!$AI52,Přehled_body!$A$3:$A$130,0),MATCH(Tabulka!R$2,Přehled_body!$E$1:$ED$1,0)),)=\"\",,IF(IFERROR(INDEX(Přehled_body!$E$3:$ED$130,MATCH(Tabulka!$AI52,Přehled_body!$A$3:$A$130,0),MATCH(Tabulka!R$2,Přehled_body!$E$1:$ED$1,0)),)=0,0.00000000001,IFERROR(INDEX(Přehled_body!$E$3:$ED$130,MATCH(Tabulka!$AI52,Přehled_body!$A$3:$A$130,0),MATCH(Tabulka!R$2,Přehled_body!$E$1:$ED$1,0)),)))","v":0},{"$f":"IF(IFERROR(INDEX(Přehled_body!$E$3:$ED$130,MATCH(Tabulka!$AI52,Přehled_body!$A$3:$A$130,0),MATCH(Tabulka!S$2,Přehled_body!$E$1:$ED$1,0)),)=\"\",,IF(IFERROR(INDEX(Přehled_body!$E$3:$ED$130,MATCH(Tabulka!$AI52,Přehled_body!$A$3:$A$130,0),MATCH(Tabulka!S$2,Přehled_body!$E$1:$ED$1,0)),)=0,0.00000000001,IFERROR(INDEX(Přehled_body!$E$3:$ED$130,MATCH(Tabulka!$AI52,Přehled_body!$A$3:$A$130,0),MATCH(Tabulka!S$2,Přehled_body!$E$1:$ED$1,0)),)))","v":1},{"$f":"IF(IFERROR(INDEX(Přehled_body!$E$3:$ED$130,MATCH(Tabulka!$AI52,Přehled_body!$A$3:$A$130,0),MATCH(Tabulka!T$2,Přehled_body!$E$1:$ED$1,0)),)=\"\",,IF(IFERROR(INDEX(Přehled_body!$E$3:$ED$130,MATCH(Tabulka!$AI52,Přehled_body!$A$3:$A$130,0),MATCH(Tabulka!T$2,Přehled_body!$E$1:$ED$1,0)),)=0,0.00000000001,IFERROR(INDEX(Přehled_body!$E$3:$ED$130,MATCH(Tabulka!$AI52,Přehled_body!$A$3:$A$130,0),MATCH(Tabulka!T$2,Přehled_body!$E$1:$ED$1,0)),)))","v":1},{"$f":"IF(IFERROR(INDEX(Přehled_body!$E$3:$ED$130,MATCH(Tabulka!$AI52,Přehled_body!$A$3:$A$130,0),MATCH(Tabulka!U$2,Přehled_body!$E$1:$ED$1,0)),)=\"\",,IF(IFERROR(INDEX(Přehled_body!$E$3:$ED$130,MATCH(Tabulka!$AI52,Přehled_body!$A$3:$A$130,0),MATCH(Tabulka!U$2,Přehled_body!$E$1:$ED$1,0)),)=0,0.00000000001,IFERROR(INDEX(Přehled_body!$E$3:$ED$130,MATCH(Tabulka!$AI52,Přehled_body!$A$3:$A$130,0),MATCH(Tabulka!U$2,Přehled_body!$E$1:$ED$1,0)),)))","v":0},{"$f":"IF(IFERROR(INDEX(Přehled_body!$E$3:$ED$130,MATCH(Tabulka!$AI52,Přehled_body!$A$3:$A$130,0),MATCH(Tabulka!V$2,Přehled_body!$E$1:$ED$1,0)),)=\"\",,IF(IFERROR(INDEX(Přehled_body!$E$3:$ED$130,MATCH(Tabulka!$AI52,Přehled_body!$A$3:$A$130,0),MATCH(Tabulka!V$2,Přehled_body!$E$1:$ED$1,0)),)=0,0.00000000001,IFERROR(INDEX(Přehled_body!$E$3:$ED$130,MATCH(Tabulka!$AI52,Přehled_body!$A$3:$A$130,0),MATCH(Tabulka!V$2,Přehled_body!$E$1:$ED$1,0)),)))","v":0},{"$f":"IF(IFERROR(INDEX(Přehled_body!$E$3:$ED$130,MATCH(Tabulka!$AI52,Přehled_body!$A$3:$A$130,0),MATCH(Tabulka!W$2,Přehled_body!$E$1:$ED$1,0)),)=\"\",,IF(IFERROR(INDEX(Přehled_body!$E$3:$ED$130,MATCH(Tabulka!$AI52,Přehled_body!$A$3:$A$130,0),MATCH(Tabulka!W$2,Přehled_body!$E$1:$ED$1,0)),)=0,0.00000000001,IFERROR(INDEX(Přehled_body!$E$3:$ED$130,MATCH(Tabulka!$AI52,Přehled_body!$A$3:$A$130,0),MATCH(Tabulka!W$2,Přehled_body!$E$1:$ED$1,0)),)))","v":0},{"$f":"IF(IFERROR(INDEX(Přehled_body!$E$3:$ED$130,MATCH(Tabulka!$AI52,Přehled_body!$A$3:$A$130,0),MATCH(Tabulka!X$2,Přehled_body!$E$1:$ED$1,0)),)=\"\",,IF(IFERROR(INDEX(Přehled_body!$E$3:$ED$130,MATCH(Tabulka!$AI52,Přehled_body!$A$3:$A$130,0),MATCH(Tabulka!X$2,Přehled_body!$E$1:$ED$1,0)),)=0,0.00000000001,IFERROR(INDEX(Přehled_body!$E$3:$ED$130,MATCH(Tabulka!$AI52,Přehled_body!$A$3:$A$130,0),MATCH(Tabulka!X$2,Přehled_body!$E$1:$ED$1,0)),)))","v":0},{"$f":"IF(IFERROR(INDEX(Přehled_body!$E$3:$ED$130,MATCH(Tabulka!$AI52,Přehled_body!$A$3:$A$130,0),MATCH(Tabulka!Y$2,Přehled_body!$E$1:$ED$1,0)),)=\"\",,IF(IFERROR(INDEX(Přehled_body!$E$3:$ED$130,MATCH(Tabulka!$AI52,Přehled_body!$A$3:$A$130,0),MATCH(Tabulka!Y$2,Přehled_body!$E$1:$ED$1,0)),)=0,0.00000000001,IFERROR(INDEX(Přehled_body!$E$3:$ED$130,MATCH(Tabulka!$AI52,Přehled_body!$A$3:$A$130,0),MATCH(Tabulka!Y$2,Přehled_body!$E$1:$ED$1,0)),)))","v":0},{"$f":"IF(IFERROR(INDEX(Přehled_body!$E$3:$ED$130,MATCH(Tabulka!$AI52,Přehled_body!$A$3:$A$130,0),MATCH(Tabulka!Z$2,Přehled_body!$E$1:$ED$1,0)),)=\"\",,IF(IFERROR(INDEX(Přehled_body!$E$3:$ED$130,MATCH(Tabulka!$AI52,Přehled_body!$A$3:$A$130,0),MATCH(Tabulka!Z$2,Přehled_body!$E$1:$ED$1,0)),)=0,0.00000000001,IFERROR(INDEX(Přehled_body!$E$3:$ED$130,MATCH(Tabulka!$AI52,Přehled_body!$A$3:$A$130,0),MATCH(Tabulka!Z$2,Přehled_body!$E$1:$ED$1,0)),)))","v":0},{"$f":"IF(IFERROR(INDEX(Přehled_body!$E$3:$ED$130,MATCH(Tabulka!$AI52,Přehled_body!$A$3:$A$130,0),MATCH(Tabulka!AA$2,Přehled_body!$E$1:$ED$1,0)),)=\"\",,IF(IFERROR(INDEX(Přehled_body!$E$3:$ED$130,MATCH(Tabulka!$AI52,Přehled_body!$A$3:$A$130,0),MATCH(Tabulka!AA$2,Přehled_body!$E$1:$ED$1,0)),)=0,0.00000000001,IFERROR(INDEX(Přehled_body!$E$3:$ED$130,MATCH(Tabulka!$AI52,Přehled_body!$A$3:$A$130,0),MATCH(Tabulka!AA$2,Přehled_body!$E$1:$ED$1,0)),)))","v":0},{"$f":"IF(IFERROR(INDEX(Přehled_body!$E$3:$ED$130,MATCH(Tabulka!$AI52,Přehled_body!$A$3:$A$130,0),MATCH(Tabulka!AB$2,Přehled_body!$E$1:$ED$1,0)),)=\"\",,IF(IFERROR(INDEX(Přehled_body!$E$3:$ED$130,MATCH(Tabulka!$AI52,Přehled_body!$A$3:$A$130,0),MATCH(Tabulka!AB$2,Přehled_body!$E$1:$ED$1,0)),)=0,0.00000000001,IFERROR(INDEX(Přehled_body!$E$3:$ED$130,MATCH(Tabulka!$AI52,Přehled_body!$A$3:$A$130,0),MATCH(Tabulka!AB$2,Přehled_body!$E$1:$ED$1,0)),)))","v":0},{"$f":"IF(IFERROR(INDEX(Přehled_body!$E$3:$ED$130,MATCH(Tabulka!$AI52,Přehled_body!$A$3:$A$130,0),MATCH(Tabulka!AC$2,Přehled_body!$E$1:$ED$1,0)),)=\"\",,IF(IFERROR(INDEX(Přehled_body!$E$3:$ED$130,MATCH(Tabulka!$AI52,Přehled_body!$A$3:$A$130,0),MATCH(Tabulka!AC$2,Přehled_body!$E$1:$ED$1,0)),)=0,0.00000000001,IFERROR(INDEX(Přehled_body!$E$3:$ED$130,MATCH(Tabulka!$AI52,Přehled_body!$A$3:$A$130,0),MATCH(Tabulka!AC$2,Přehled_body!$E$1:$ED$1,0)),)))","v":0},{"$f":"IF(IFERROR(INDEX(Přehled_body!$E$3:$ED$130,MATCH(Tabulka!$AI52,Přehled_body!$A$3:$A$130,0),MATCH(Tabulka!AD$2,Přehled_body!$E$1:$ED$1,0)),)=\"\",,IF(IFERROR(INDEX(Přehled_body!$E$3:$ED$130,MATCH(Tabulka!$AI52,Přehled_body!$A$3:$A$130,0),MATCH(Tabulka!AD$2,Přehled_body!$E$1:$ED$1,0)),)=0,0.00000000001,IFERROR(INDEX(Přehled_body!$E$3:$ED$130,MATCH(Tabulka!$AI52,Přehled_body!$A$3:$A$130,0),MATCH(Tabulka!AD$2,Přehled_body!$E$1:$ED$1,0)),)))","v":0},{"$f":"IF(SUM(AG49)<2,-90000+SUM(D52:AD52),SUM(D52:AD52))","v":21.000000000030003},null,null,21.000000000030003,{"$f":"CONCATENATE($B$50,\" \",$B$51,C52)","v":"Jarda KleinPřehozy"},null,null,15,null,null,null,{"$f":"CONCATENATE(AQ52,\" \",AQ51)","v":"Weiner Petr"},"Weiner"]
[null,null,"Poč. kol",{"$f":"IF(IFERROR(INDEX(Přehled_body!$E$3:$ED$130,MATCH(Tabulka!$AI53,Přehled_body!$A$3:$A$130,0),MATCH(Tabulka!D$2,Přehled_body!$E$1:$ED$1,0)),)=\"\",,IF(IFERROR(INDEX(Přehled_body!$E$3:$ED$130,MATCH(Tabulka!$AI53,Přehled_body!$A$3:$A$130,0),MATCH(Tabulka!D$2,Přehled_body!$E$1:$ED$1,0)),)=0,0.00000000001,IFERROR(INDEX(Přehled_body!$E$3:$ED$130,MATCH(Tabulka!$AI53,Přehled_body!$A$3:$A$130,0),MATCH(Tabulka!D$2,Přehled_body!$E$1:$ED$1,0)),)))","v":4},{"$f":"IF(IFERROR(INDEX(Přehled_body!$E$3:$ED$130,MATCH(Tabulka!$AI53,Přehled_body!$A$3:$A$130,0),MATCH(Tabulka!E$2,Přehled_body!$E$1:$ED$1,0)),)=\"\",,IF(IFERROR(INDEX(Přehled_body!$E$3:$ED$130,MATCH(Tabulka!$AI53,Přehled_body!$A$3:$A$130,0),MATCH(Tabulka!E$2,Přehled_body!$E$1:$ED$1,0)),)=0,0.00000000001,IFERROR(INDEX(Přehled_body!$E$3:$ED$130,MATCH(Tabulka!$AI53,Přehled_body!$A$3:$A$130,0),MATCH(Tabulka!E$2,Přehled_body!$E$1:$ED$1,0)),)))","v":4},{"$f":"IF(IFERROR(INDEX(Přehled_body!$E$3:$ED$130,MATCH(Tabulka!$AI53,Přehled_body!$A$3:$A$130,0),MATCH(Tabulka!F$2,Přehled_body!$E$1:$ED$1,0)),)=\"\",,IF(IFERROR(INDEX(Přehled_body!$E$3:$ED$130,MATCH(Tabulka!$AI53,Přehled_body!$A$3:$A$130,0),MATCH(Tabulka!F$2,Přehled_body!$E$1:$ED$1,0)),)=0,0.00000000001,IFERROR(INDEX(Přehled_body!$E$3:$ED$130,MATCH(Tabulka!$AI53,Přehled_body!$A$3:$A$130,0),MATCH(Tabulka!F$2,Přehled_body!$E$1:$ED$1,0)),)))","v":4},{"$f":"IF(IFERROR(INDEX(Přehled_body!$E$3:$ED$130,MATCH(Tabulka!$AI53,Přehled_body!$A$3:$A$130,0),MATCH(Tabulka!G$2,Přehled_body!$E$1:$ED$1,0)),)=\"\",,IF(IFERROR(INDEX(Přehled_body!$E$3:$ED$130,MATCH(Tabulka!$AI53,Přehled_body!$A$3:$A$130,0),MATCH(Tabulka!G$2,Přehled_body!$E$1:$ED$1,0)),)=0,0.00000000001,IFERROR(INDEX(Přehled_body!$E$3:$ED$130,MATCH(Tabulka!$AI53,Přehled_body!$A$3:$A$130,0),MATCH(Tabulka!G$2,Přehled_body!$E$1:$ED$1,0)),)))","v":4},{"$f":"IF(IFERROR(INDEX(Přehled_body!$E$3:$ED$130,MATCH(Tabulka!$AI53,Přehled_body!$A$3:$A$130,0),MATCH(Tabulka!H$2,Přehled_body!$E$1:$ED$1,0)),)=\"\",,IF(IFERROR(INDEX(Přehled_body!$E$3:$ED$130,MATCH(Tabulka!$AI53,Přehled_body!$A$3:$A$130,0),MATCH(Tabulka!H$2,Přehled_body!$E$1:$ED$1,0)),)=0,0.00000000001,IFERROR(INDEX(Přehled_body!$E$3:$ED$130,MATCH(Tabulka!$AI53,Přehled_body!$A$3:$A$130,0),MATCH(Tabulka!H$2,Přehled_body!$E$1:$ED$1,0)),)))","v":4},{"$f":"IF(IFERROR(INDEX(Přehled_body!$E$3:$ED$130,MATCH(Tabulka!$AI53,Přehled_body!$A$3:$A$130,0),MATCH(Tabulka!I$2,Přehled_body!$E$1:$ED$1,0)),)=\"\",,IF(IFERROR(INDEX(Přehled_body!$E$3:$ED$130,MATCH(Tabulka!$AI53,Přehled_body!$A$3:$A$130,0),MATCH(Tabulka!I$2,Přehled_body!$E$1:$ED$1,0)),)=0,0.00000000001,IFERROR(INDEX(Přehled_body!$E$3:$ED$130,MATCH(Tabulka!$AI53,Přehled_body!$A$3:$A$130,0),MATCH(Tabulka!I$2,Přehled_body!$E$1:$ED$1,0)),)))","v":4},{"$f":"IF(IFERROR(INDEX(Přehled_body!$E$3:$ED$130,MATCH(Tabulka!$AI53,Přehled_body!$A$3:$A$130,0),MATCH(Tabulka!J$2,Přehled_body!$E$1:$ED$1,0)),)=\"\",,IF(IFERROR(INDEX(Přehled_body!$E$3:$ED$130,MATCH(Tabulka!$AI53,Přehled_body!$A$3:$A$130,0),MATCH(Tabulka!J$2,Přehled_body!$E$1:$ED$1,0)),)=0,0.00000000001,IFERROR(INDEX(Přehled_body!$E$3:$ED$130,MATCH(Tabulka!$AI53,Přehled_body!$A$3:$A$130,0),MATCH(Tabulka!J$2,Přehled_body!$E$1:$ED$1,0)),)))","v":4},{"$f":"IF(IFERROR(INDEX(Přehled_body!$E$3:$ED$130,MATCH(Tabulka!$AI53,Přehled_body!$A$3:$A$130,0),MATCH(Tabulka!K$2,Přehled_body!$E$1:$ED$1,0)),)=\"\",,IF(IFERROR(INDEX(Přehled_body!$E$3:$ED$130,MATCH(Tabulka!$AI53,Přehled_body!$A$3:$A$130,0),MATCH(Tabulka!K$2,Přehled_body!$E$1:$ED$1,0)),)=0,0.00000000001,IFERROR(INDEX(Přehled_body!$E$3:$ED$130,MATCH(Tabulka!$AI53,Přehled_body!$A$3:$A$130,0),MATCH(Tabulka!K$2,Přehled_body!$E$1:$ED$1,0)),)))","v":0},{"$f":"IF(IFERROR(INDEX(Přehled_body!$E$3:$ED$130,MATCH(Tabulka!$AI53,Přehled_body!$A$3:$A$130,0),MATCH(Tabulka!L$2,Přehled_body!$E$1:$ED$1,0)),)=\"\",,IF(IFERROR(INDEX(Přehled_body!$E$3:$ED$130,MATCH(Tabulka!$AI53,Přehled_body!$A$3:$A$130,0),MATCH(Tabulka!L$2,Přehled_body!$E$1:$ED$1,0)),)=0,0.00000000001,IFERROR(INDEX(Přehled_body!$E$3:$ED$130,MATCH(Tabulka!$AI53,Přehled_body!$A$3:$A$130,0),MATCH(Tabulka!L$2,Přehled_body!$E$1:$ED$1,0)),)))","v":3},{"$f":"IF(IFERROR(INDEX(Přehled_body!$E$3:$ED$130,MATCH(Tabulka!$AI53,Přehled_body!$A$3:$A$130,0),MATCH(Tabulka!M$2,Přehled_body!$E$1:$ED$1,0)),)=\"\",,IF(IFERROR(INDEX(Přehled_body!$E$3:$ED$130,MATCH(Tabulka!$AI53,Přehled_body!$A$3:$A$130,0),MATCH(Tabulka!M$2,Přehled_body!$E$1:$ED$1,0)),)=0,0.00000000001,IFERROR(INDEX(Přehled_body!$E$3:$ED$130,MATCH(Tabulka!$AI53,Přehled_body!$A$3:$A$130,0),MATCH(Tabulka!M$2,Přehled_body!$E$1:$ED$1,0)),)))","v":4},{"$f":"IF(IFERROR(INDEX(Přehled_body!$E$3:$ED$130,MATCH(Tabulka!$AI53,Přehled_body!$A$3:$A$130,0),MATCH(Tabulka!N$2,Přehled_body!$E$1:$ED$1,0)),)=\"\",,IF(IFERROR(INDEX(Přehled_body!$E$3:$ED$130,MATCH(Tabulka!$AI53,Přehled_body!$A$3:$A$130,0),MATCH(Tabulka!N$2,Přehled_body!$E$1:$ED$1,0)),)=0,0.00000000001,IFERROR(INDEX(Přehled_body!$E$3:$ED$130,MATCH(Tabulka!$AI53,Přehled_body!$A$3:$A$130,0),MATCH(Tabulka!N$2,Přehled_body!$E$1:$ED$1,0)),)))","v":5},{"$f":"IF(IFERROR(INDEX(Přehled_body!$E$3:$ED$130,MATCH(Tabulka!$AI53,Přehled_body!$A$3:$A$130,0),MATCH(Tabulka!O$2,Přehled_body!$E$1:$ED$1,0)),)=\"\",,IF(IFERROR(INDEX(Přehled_body!$E$3:$ED$130,MATCH(Tabulka!$AI53,Přehled_body!$A$3:$A$130,0),MATCH(Tabulka!O$2,Přehled_body!$E$1:$ED$1,0)),)=0,0.00000000001,IFERROR(INDEX(Přehled_body!$E$3:$ED$130,MATCH(Tabulka!$AI53,Přehled_body!$A$3:$A$130,0),MATCH(Tabulka!O$2,Přehled_body!$E$1:$ED$1,0)),)))","v":4},{"$f":"IF(IFERROR(INDEX(Přehled_body!$E$3:$ED$130,MATCH(Tabulka!$AI53,Přehled_body!$A$3:$A$130,0),MATCH(Tabulka!P$2,Přehled_body!$E$1:$ED$1,0)),)=\"\",,IF(IFERROR(INDEX(Přehled_body!$E$3:$ED$130,MATCH(Tabulka!$AI53,Přehled_body!$A$3:$A$130,0),MATCH(Tabulka!P$2,Přehled_body!$E$1:$ED$1,0)),)=0,0.00000000001,IFERROR(INDEX(Přehled_body!$E$3:$ED$130,MATCH(Tabulka!$AI53,Přehled_body!$A$3:$A$130,0),MATCH(Tabulka!P$2,Přehled_body!$E$1:$ED$1,0)),)))","v":4},{"$f":"IF(IFERROR(INDEX(Přehled_body!$E$3:$ED$130,MATCH(Tabulka!$AI53,Přehled_body!$A$3:$A$130,0),MATCH(Tabulka!Q$2,Přehled_body!$E$1:$ED$1,0)),)=\"\",,IF(IFERROR(INDEX(Přehled_body!$E$3:$ED$130,MATCH(Tabulka!$AI53,Přehled_body!$A$3:$A$130,0),MATCH(Tabulka!Q$2,Přehled_body!$E$1:$ED$1,0)),)=0,0.00000000001,IFERROR(INDEX(Přehled_body!$E$3:$ED$130,MATCH(Tabulka!$AI53,Přehled_body!$A$3:$A$130,0),MATCH(Tabulka!Q$2,Přehled_body!$E$1:$ED$1,0)),)))","v":5},{"$f":"IF(IFERROR(INDEX(Přehled_body!$E$3:$ED$130,MATCH(Tabulka!$AI53,Přehled_body!$A$3:$A$130,0),MATCH(Tabulka!R$2,Přehled_body!$E$1:$ED$1,0)),)=\"\",,IF(IFERROR(INDEX(Přehled_body!$E$3:$ED$130,MATCH(Tabulka!$AI53,Přehled_body!$A$3:$A$130,0),MATCH(Tabulka!R$2,Přehled_body!$E$1:$ED$1,0)),)=0,0.00000000001,IFERROR(INDEX(Přehled_body!$E$3:$ED$130,MATCH(Tabulka!$AI53,Přehled_body!$A$3:$A$130,0),MATCH(Tabulka!R$2,Přehled_body!$E$1:$ED$1,0)),)))","v":0},{"$f":"IF(IFERROR(INDEX(Přehled_body!$E$3:$ED$130,MATCH(Tabulka!$AI53,Přehled_body!$A$3:$A$130,0),MATCH(Tabulka!S$2,Přehled_body!$E$1:$ED$1,0)),)=\"\",,IF(IFERROR(INDEX(Přehled_body!$E$3:$ED$130,MATCH(Tabulka!$AI53,Přehled_body!$A$3:$A$130,0),MATCH(Tabulka!S$2,Přehled_body!$E$1:$ED$1,0)),)=0,0.00000000001,IFERROR(INDEX(Přehled_body!$E$3:$ED$130,MATCH(Tabulka!$AI53,Přehled_body!$A$3:$A$130,0),MATCH(Tabulka!S$2,Přehled_body!$E$1:$ED$1,0)),)))","v":4},{"$f":"IF(IFERROR(INDEX(Přehled_body!$E$3:$ED$130,MATCH(Tabulka!$AI53,Přehled_body!$A$3:$A$130,0),MATCH(Tabulka!T$2,Přehled_body!$E$1:$ED$1,0)),)=\"\",,IF(IFERROR(INDEX(Přehled_body!$E$3:$ED$130,MATCH(Tabulka!$AI53,Přehled_body!$A$3:$A$130,0),MATCH(Tabulka!T$2,Přehled_body!$E$1:$ED$1,0)),)=0,0.00000000001,IFERROR(INDEX(Přehled_body!$E$3:$ED$130,MATCH(Tabulka!$AI53,Přehled_body!$A$3:$A$130,0),MATCH(Tabulka!T$2,Přehled_body!$E$1:$ED$1,0)),)))","v":4},{"$f":"IF(IFERROR(INDEX(Přehled_body!$E$3:$ED$130,MATCH(Tabulka!$AI53,Přehled_body!$A$3:$A$130,0),MATCH(Tabulka!U$2,Přehled_body!$E$1:$ED$1,0)),)=\"\",,IF(IFERROR(INDEX(Přehled_body!$E$3:$ED$130,MATCH(Tabulka!$AI53,Přehled_body!$A$3:$A$130,0),MATCH(Tabulka!U$2,Přehled_body!$E$1:$ED$1,0)),)=0,0.00000000001,IFERROR(INDEX(Přehled_body!$E$3:$ED$130,MATCH(Tabulka!$AI53,Přehled_body!$A$3:$A$130,0),MATCH(Tabulka!U$2,Přehled_body!$E$1:$ED$1,0)),)))","v":0},{"$f":"IF(IFERROR(INDEX(Přehled_body!$E$3:$ED$130,MATCH(Tabulka!$AI53,Přehled_body!$A$3:$A$130,0),MATCH(Tabulka!V$2,Přehled_body!$E$1:$ED$1,0)),)=\"\",,IF(IFERROR(INDEX(Přehled_body!$E$3:$ED$130,MATCH(Tabulka!$AI53,Přehled_body!$A$3:$A$130,0),MATCH(Tabulka!V$2,Přehled_body!$E$1:$ED$1,0)),)=0,0.00000000001,IFERROR(INDEX(Přehled_body!$E$3:$ED$130,MATCH(Tabulka!$AI53,Přehled_body!$A$3:$A$130,0),MATCH(Tabulka!V$2,Přehled_body!$E$1:$ED$1,0)),)))","v":0},{"$f":"IF(IFERROR(INDEX(Přehled_body!$E$3:$ED$130,MATCH(Tabulka!$AI53,Přehled_body!$A$3:$A$130,0),MATCH(Tabulka!W$2,Přehled_body!$E$1:$ED$1,0)),)=\"\",,IF(IFERROR(INDEX(Přehled_body!$E$3:$ED$130,MATCH(Tabulka!$AI53,Přehled_body!$A$3:$A$130,0),MATCH(Tabulka!W$2,Přehled_body!$E$1:$ED$1,0)),)=0,0.00000000001,IFERROR(INDEX(Přehled_body!$E$3:$ED$130,MATCH(Tabulka!$AI53,Přehled_body!$A$3:$A$130,0),MATCH(Tabulka!W$2,Přehled_body!$E$1:$ED$1,0)),)))","v":0},{"$f":"IF(IFERROR(INDEX(Přehled_body!$E$3:$ED$130,MATCH(Tabulka!$AI53,Přehled_body!$A$3:$A$130,0),MATCH(Tabulka!X$2,Přehled_body!$E$1:$ED$1,0)),)=\"\",,IF(IFERROR(INDEX(Přehled_body!$E$3:$ED$130,MATCH(Tabulka!$AI53,Přehled_body!$A$3:$A$130,0),MATCH(Tabulka!X$2,Přehled_body!$E$1:$ED$1,0)),)=0,0.00000000001,IFERROR(INDEX(Přehled_body!$E$3:$ED$130,MATCH(Tabulka!$AI53,Přehled_body!$A$3:$A$130,0),MATCH(Tabulka!X$2,Přehled_body!$E$1:$ED$1,0)),)))","v":0},{"$f":"IF(IFERROR(INDEX(Přehled_body!$E$3:$ED$130,MATCH(Tabulka!$AI53,Přehled_body!$A$3:$A$130,0),MATCH(Tabulka!Y$2,Přehled_body!$E$1:$ED$1,0)),)=\"\",,IF(IFERROR(INDEX(Přehled_body!$E$3:$ED$130,MATCH(Tabulka!$AI53,Přehled_body!$A$3:$A$130,0),MATCH(Tabulka!Y$2,Přehled_body!$E$1:$ED$1,0)),)=0,0.00000000001,IFERROR(INDEX(Přehled_body!$E$3:$ED$130,MATCH(Tabulka!$AI53,Přehled_body!$A$3:$A$130,0),MATCH(Tabulka!Y$2,Přehled_body!$E$1:$ED$1,0)),)))","v":0},{"$f":"IF(IFERROR(INDEX(Přehled_body!$E$3:$ED$130,MATCH(Tabulka!$AI53,Přehled_body!$A$3:$A$130,0),MATCH(Tabulka!Z$2,Přehled_body!$E$1:$ED$1,0)),)=\"\",,IF(IFERROR(INDEX(Přehled_body!$E$3:$ED$130,MATCH(Tabulka!$AI53,Přehled_body!$A$3:$A$130,0),MATCH(Tabulka!Z$2,Přehled_body!$E$1:$ED$1,0)),)=0,0.00000000001,IFERROR(INDEX(Přehled_body!$E$3:$ED$130,MATCH(Tabulka!$AI53,Přehled_body!$A$3:$A$130,0),MATCH(Tabulka!Z$2,Přehled_body!$E$1:$ED$1,0)),)))","v":0},{"$f":"IF(IFERROR(INDEX(Přehled_body!$E$3:$ED$130,MATCH(Tabulka!$AI53,Přehled_body!$A$3:$A$130,0),MATCH(Tabulka!AA$2,Přehled_body!$E$1:$ED$1,0)),)=\"\",,IF(IFERROR(INDEX(Přehled_body!$E$3:$ED$130,MATCH(Tabulka!$AI53,Přehled_body!$A$3:$A$130,0),MATCH(Tabulka!AA$2,Přehled_body!$E$1:$ED$1,0)),)=0,0.00000000001,IFERROR(INDEX(Přehled_body!$E$3:$ED$130,MATCH(Tabulka!$AI53,Přehled_body!$A$3:$A$130,0),MATCH(Tabulka!AA$2,Přehled_body!$E$1:$ED$1,0)),)))","v":0},{"$f":"IF(IFERROR(INDEX(Přehled_body!$E$3:$ED$130,MATCH(Tabulka!$AI53,Přehled_body!$A$3:$A$130,0),MATCH(Tabulka!AB$2,Přehled_body!$E$1:$ED$1,0)),)=\"\",,IF(IFERROR(INDEX(Přehled_body!$E$3:$ED$130,MATCH(Tabulka!$AI53,Přehled_body!$A$3:$A$130,0),MATCH(Tabulka!AB$2,Přehled_body!$E$1:$ED$1,0)),)=0,0.00000000001,IFERROR(INDEX(Přehled_body!$E$3:$ED$130,MATCH(Tabulka!$AI53,Přehled_body!$A$3:$A$130,0),MATCH(Tabulka!AB$2,Přehled_body!$E$1:$ED$1,0)),)))","v":0},{"$f":"IF(IFERROR(INDEX(Přehled_body!$E$3:$ED$130,MATCH(Tabulka!$AI53,Přehled_body!$A$3:$A$130,0),MATCH(Tabulka!AC$2,Přehled_body!$E$1:$ED$1,0)),)=\"\",,IF(IFERROR(INDEX(Přehled_body!$E$3:$ED$130,MATCH(Tabulka!$AI53,Přehled_body!$A$3:$A$130,0),MATCH(Tabulka!AC$2,Přehled_body!$E$1:$ED$1,0)),)=0,0.00000000001,IFERROR(INDEX(Přehled_body!$E$3:$ED$130,MATCH(Tabulka!$AI53,Přehled_body!$A$3:$A$130,0),MATCH(Tabulka!AC$2,Přehled_body!$E$1:$ED$1,0)),)))","v":0},{"$f":"IF(IFERROR(INDEX(Přehled_body!$E$3:$ED$130,MATCH(Tabulka!$AI53,Přehled_body!$A$3:$A$130,0),MATCH(Tabulka!AD$2,Přehled_body!$E$1:$ED$1,0)),)=\"\",,IF(IFERROR(INDEX(Přehled_body!$E$3:$ED$130,MATCH(Tabulka!$AI53,Přehled_body!$A$3:$A$130,0),MATCH(Tabulka!AD$2,Přehled_body!$E$1:$ED$1,0)),)=0,0.00000000001,IFERROR(INDEX(Přehled_body!$E$3:$ED$130,MATCH(Tabulka!$AI53,Přehled_body!$A$3:$A$130,0),MATCH(Tabulka!AD$2,Přehled_body!$E$1:$ED$1,0)),)))","v":0},{"$f":"IF(SUM(AG49)<2,-90000+SUM(D53:AD53),SUM(D53:AD53))","v":61},null,null,61,{"$f":"CONCATENATE($B$50,\" \",$B$51,C53)","v":"Jarda KleinPoč. kol"},null,null,15]
[11,null,"Výhry",{"$f":"IF(IFERROR(INDEX(Přehled_body!$E$3:$ED$130,MATCH(Tabulka!$AI54,Přehled_body!$A$3:$A$130,0),MATCH(Tabulka!D$2,Přehled_body!$E$1:$ED$1,0)),)=\"\",,IF(IFERROR(INDEX(Přehled_body!$E$3:$ED$130,MATCH(Tabulka!$AI54,Přehled_body!$A$3:$A$130,0),MATCH(Tabulka!D$2,Přehled_body!$E$1:$ED$1,0)),)=0,0.00000000001,IFERROR(INDEX(Přehled_body!$E$3:$ED$130,MATCH(Tabulka!$AI54,Přehled_body!$A$3:$A$130,0),MATCH(Tabulka!D$2,Přehled_body!$E$1:$ED$1,0)),)))","v":1},{"$f":"IF(IFERROR(INDEX(Přehled_body!$E$3:$ED$130,MATCH(Tabulka!$AI54,Přehled_body!$A$3:$A$130,0),MATCH(Tabulka!E$2,Přehled_body!$E$1:$ED$1,0)),)=\"\",,IF(IFERROR(INDEX(Přehled_body!$E$3:$ED$130,MATCH(Tabulka!$AI54,Přehled_body!$A$3:$A$130,0),MATCH(Tabulka!E$2,Přehled_body!$E$1:$ED$1,0)),)=0,0.00000000001,IFERROR(INDEX(Přehled_body!$E$3:$ED$130,MATCH(Tabulka!$AI54,Přehled_body!$A$3:$A$130,0),MATCH(Tabulka!E$2,Přehled_body!$E$1:$ED$1,0)),)))","v":0},{"$f":"IF(IFERROR(INDEX(Přehled_body!$E$3:$ED$130,MATCH(Tabulka!$AI54,Přehled_body!$A$3:$A$130,0),MATCH(Tabulka!F$2,Přehled_body!$E$1:$ED$1,0)),)=\"\",,IF(IFERROR(INDEX(Přehled_body!$E$3:$ED$130,MATCH(Tabulka!$AI54,Přehled_body!$A$3:$A$130,0),MATCH(Tabulka!F$2,Přehled_body!$E$1:$ED$1,0)),)=0,0.00000000001,IFERROR(INDEX(Přehled_body!$E$3:$ED$130,MATCH(Tabulka!$AI54,Přehled_body!$A$3:$A$130,0),MATCH(Tabulka!F$2,Přehled_body!$E$1:$ED$1,0)),)))","v":0},{"$f":"IF(IFERROR(INDEX(Přehled_body!$E$3:$ED$130,MATCH(Tabulka!$AI54,Přehled_body!$A$3:$A$130,0),MATCH(Tabulka!G$2,Přehled_body!$E$1:$ED$1,0)),)=\"\",,IF(IFERROR(INDEX(Přehled_body!$E$3:$ED$130,MATCH(Tabulka!$AI54,Přehled_body!$A$3:$A$130,0),MATCH(Tabulka!G$2,Přehled_body!$E$1:$ED$1,0)),)=0,0.00000000001,IFERROR(INDEX(Přehled_body!$E$3:$ED$130,MATCH(Tabulka!$AI54,Přehled_body!$A$3:$A$130,0),MATCH(Tabulka!G$2,Přehled_body!$E$1:$ED$1,0)),)))","v":0},{"$f":"IF(IFERROR(INDEX(Přehled_body!$E$3:$ED$130,MATCH(Tabulka!$AI54,Přehled_body!$A$3:$A$130,0),MATCH(Tabulka!H$2,Přehled_body!$E$1:$ED$1,0)),)=\"\",,IF(IFERROR(INDEX(Přehled_body!$E$3:$ED$130,MATCH(Tabulka!$AI54,Přehled_body!$A$3:$A$130,0),MATCH(Tabulka!H$2,Přehled_body!$E$1:$ED$1,0)),)=0,0.00000000001,IFERROR(INDEX(Přehled_body!$E$3:$ED$130,MATCH(Tabulka!$AI54,Přehled_body!$A$3:$A$130,0),MATCH(Tabulka!H$2,Přehled_body!$E$1:$ED$1,0)),)))","v":0},{"$f":"IF(IFERROR(INDEX(Přehled_body!$E$3:$ED$130,MATCH(Tabulka!$AI54,Přehled_body!$A$3:$A$130,0),MATCH(Tabulka!I$2,Přehled_body!$E$1:$ED$1,0)),)=\"\",,IF(IFERROR(INDEX(Přehled_body!$E$3:$ED$130,MATCH(Tabulka!$AI54,Přehled_body!$A$3:$A$130,0),MATCH(Tabulka!I$2,Přehled_body!$E$1:$ED$1,0)),)=0,0.00000000001,IFERROR(INDEX(Přehled_body!$E$3:$ED$130,MATCH(Tabulka!$AI54,Přehled_body!$A$3:$A$130,0),MATCH(Tabulka!I$2,Přehled_body!$E$1:$ED$1,0)),)))","v":0},{"$f":"IF(IFERROR(INDEX(Přehled_body!$E$3:$ED$130,MATCH(Tabulka!$AI54,Přehled_body!$A$3:$A$130,0),MATCH(Tabulka!J$2,Přehled_body!$E$1:$ED$1,0)),)=\"\",,IF(IFERROR(INDEX(Přehled_body!$E$3:$ED$130,MATCH(Tabulka!$AI54,Přehled_body!$A$3:$A$130,0),MATCH(Tabulka!J$2,Přehled_body!$E$1:$ED$1,0)),)=0,0.00000000001,IFERROR(INDEX(Přehled_body!$E$3:$ED$130,MATCH(Tabulka!$AI54,Přehled_body!$A$3:$A$130,0),MATCH(Tabulka!J$2,Přehled_body!$E$1:$ED$1,0)),)))","v":0},{"$f":"IF(IFERROR(INDEX(Přehled_body!$E$3:$ED$130,MATCH(Tabulka!$AI54,Přehled_body!$A$3:$A$130,0),MATCH(Tabulka!K$2,Přehled_body!$E$1:$ED$1,0)),)=\"\",,IF(IFERROR(INDEX(Přehled_body!$E$3:$ED$130,MATCH(Tabulka!$AI54,Přehled_body!$A$3:$A$130,0),MATCH(Tabulka!K$2,Přehled_body!$E$1:$ED$1,0)),)=0,0.00000000001,IFERROR(INDEX(Přehled_body!$E$3:$ED$130,MATCH(Tabulka!$AI54,Přehled_body!$A$3:$A$130,0),MATCH(Tabulka!K$2,Přehled_body!$E$1:$ED$1,0)),)))","v":0},{"$f":"IF(IFERROR(INDEX(Přehled_body!$E$3:$ED$130,MATCH(Tabulka!$AI54,Přehled_body!$A$3:$A$130,0),MATCH(Tabulka!L$2,Přehled_body!$E$1:$ED$1,0)),)=\"\",,IF(IFERROR(INDEX(Přehled_body!$E$3:$ED$130,MATCH(Tabulka!$AI54,Přehled_body!$A$3:$A$130,0),MATCH(Tabulka!L$2,Přehled_body!$E$1:$ED$1,0)),)=0,0.00000000001,IFERROR(INDEX(Přehled_body!$E$3:$ED$130,MATCH(Tabulka!$AI54,Přehled_body!$A$3:$A$130,0),MATCH(Tabulka!L$2,Přehled_body!$E$1:$ED$1,0)),)))","v":0},{"$f":"IF(IFERROR(INDEX(Přehled_body!$E$3:$ED$130,MATCH(Tabulka!$AI54,Přehled_body!$A$3:$A$130,0),MATCH(Tabulka!M$2,Přehled_body!$E$1:$ED$1,0)),)=\"\",,IF(IFERROR(INDEX(Přehled_body!$E$3:$ED$130,MATCH(Tabulka!$AI54,Přehled_body!$A$3:$A$130,0),MATCH(Tabulka!M$2,Přehled_body!$E$1:$ED$1,0)),)=0,0.00000000001,IFERROR(INDEX(Přehled_body!$E$3:$ED$130,MATCH(Tabulka!$AI54,Přehled_body!$A$3:$A$130,0),MATCH(Tabulka!M$2,Přehled_body!$E$1:$ED$1,0)),)))","v":2},{"$f":"IF(IFERROR(INDEX(Přehled_body!$E$3:$ED$130,MATCH(Tabulka!$AI54,Přehled_body!$A$3:$A$130,0),MATCH(Tabulka!N$2,Přehled_body!$E$1:$ED$1,0)),)=\"\",,IF(IFERROR(INDEX(Přehled_body!$E$3:$ED$130,MATCH(Tabulka!$AI54,Přehled_body!$A$3:$A$130,0),MATCH(Tabulka!N$2,Přehled_body!$E$1:$ED$1,0)),)=0,0.00000000001,IFERROR(INDEX(Přehled_body!$E$3:$ED$130,MATCH(Tabulka!$AI54,Přehled_body!$A$3:$A$130,0),MATCH(Tabulka!N$2,Přehled_body!$E$1:$ED$1,0)),)))","v":0},{"$f":"IF(IFERROR(INDEX(Přehled_body!$E$3:$ED$130,MATCH(Tabulka!$AI54,Přehled_body!$A$3:$A$130,0),MATCH(Tabulka!O$2,Přehled_body!$E$1:$ED$1,0)),)=\"\",,IF(IFERROR(INDEX(Přehled_body!$E$3:$ED$130,MATCH(Tabulka!$AI54,Přehled_body!$A$3:$A$130,0),MATCH(Tabulka!O$2,Přehled_body!$E$1:$ED$1,0)),)=0,0.00000000001,IFERROR(INDEX(Přehled_body!$E$3:$ED$130,MATCH(Tabulka!$AI54,Přehled_body!$A$3:$A$130,0),MATCH(Tabulka!O$2,Přehled_body!$E$1:$ED$1,0)),)))","v":0},{"$f":"IF(IFERROR(INDEX(Přehled_body!$E$3:$ED$130,MATCH(Tabulka!$AI54,Přehled_body!$A$3:$A$130,0),MATCH(Tabulka!P$2,Přehled_body!$E$1:$ED$1,0)),)=\"\",,IF(IFERROR(INDEX(Přehled_body!$E$3:$ED$130,MATCH(Tabulka!$AI54,Přehled_body!$A$3:$A$130,0),MATCH(Tabulka!P$2,Přehled_body!$E$1:$ED$1,0)),)=0,0.00000000001,IFERROR(INDEX(Přehled_body!$E$3:$ED$130,MATCH(Tabulka!$AI54,Přehled_body!$A$3:$A$130,0),MATCH(Tabulka!P$2,Přehled_body!$E$1:$ED$1,0)),)))","v":0},{"$f":"IF(IFERROR(INDEX(Přehled_body!$E$3:$ED$130,MATCH(Tabulka!$AI54,Přehled_body!$A$3:$A$130,0),MATCH(Tabulka!Q$2,Přehled_body!$E$1:$ED$1,0)),)=\"\",,IF(IFERROR(INDEX(Přehled_body!$E$3:$ED$130,MATCH(Tabulka!$AI54,Přehled_body!$A$3:$A$130,0),MATCH(Tabulka!Q$2,Přehled_body!$E$1:$ED$1,0)),)=0,0.00000000001,IFERROR(INDEX(Přehled_body!$E$3:$ED$130,MATCH(Tabulka!$AI54,Přehled_body!$A$3:$A$130,0),MATCH(Tabulka!Q$2,Přehled_body!$E$1:$ED$1,0)),)))","v":0},{"$f":"IF(IFERROR(INDEX(Přehled_body!$E$3:$ED$130,MATCH(Tabulka!$AI54,Přehled_body!$A$3:$A$130,0),MATCH(Tabulka!R$2,Přehled_body!$E$1:$ED$1,0)),)=\"\",,IF(IFERROR(INDEX(Přehled_body!$E$3:$ED$130,MATCH(Tabulka!$AI54,Přehled_body!$A$3:$A$130,0),MATCH(Tabulka!R$2,Přehled_body!$E$1:$ED$1,0)),)=0,0.00000000001,IFERROR(INDEX(Přehled_body!$E$3:$ED$130,MATCH(Tabulka!$AI54,Přehled_body!$A$3:$A$130,0),MATCH(Tabulka!R$2,Přehled_body!$E$1:$ED$1,0)),)))","v":0},{"$f":"IF(IFERROR(INDEX(Přehled_body!$E$3:$ED$130,MATCH(Tabulka!$AI54,Přehled_body!$A$3:$A$130,0),MATCH(Tabulka!S$2,Přehled_body!$E$1:$ED$1,0)),)=\"\",,IF(IFERROR(INDEX(Přehled_body!$E$3:$ED$130,MATCH(Tabulka!$AI54,Přehled_body!$A$3:$A$130,0),MATCH(Tabulka!S$2,Přehled_body!$E$1:$ED$1,0)),)=0,0.00000000001,IFERROR(INDEX(Přehled_body!$E$3:$ED$130,MATCH(Tabulka!$AI54,Přehled_body!$A$3:$A$130,0),MATCH(Tabulka!S$2,Přehled_body!$E$1:$ED$1,0)),)))","v":0},{"$f":"IF(IFERROR(INDEX(Přehled_body!$E$3:$ED$130,MATCH(Tabulka!$AI54,Přehled_body!$A$3:$A$130,0),MATCH(Tabulka!T$2,Přehled_body!$E$1:$ED$1,0)),)=\"\",,IF(IFERROR(INDEX(Přehled_body!$E$3:$ED$130,MATCH(Tabulka!$AI54,Přehled_body!$A$3:$A$130,0),MATCH(Tabulka!T$2,Přehled_body!$E$1:$ED$1,0)),)=0,0.00000000001,IFERROR(INDEX(Přehled_body!$E$3:$ED$130,MATCH(Tabulka!$AI54,Přehled_body!$A$3:$A$130,0),MATCH(Tabulka!T$2,Přehled_body!$E$1:$ED$1,0)),)))","v":1},{"$f":"IF(IFERROR(INDEX(Přehled_body!$E$3:$ED$130,MATCH(Tabulka!$AI54,Přehled_body!$A$3:$A$130,0),MATCH(Tabulka!U$2,Přehled_body!$E$1:$ED$1,0)),)=\"\",,IF(IFERROR(INDEX(Přehled_body!$E$3:$ED$130,MATCH(Tabulka!$AI54,Přehled_body!$A$3:$A$130,0),MATCH(Tabulka!U$2,Přehled_body!$E$1:$ED$1,0)),)=0,0.00000000001,IFERROR(INDEX(Přehled_body!$E$3:$ED$130,MATCH(Tabulka!$AI54,Přehled_body!$A$3:$A$130,0),MATCH(Tabulka!U$2,Přehled_body!$E$1:$ED$1,0)),)))","v":0},{"$f":"IF(IFERROR(INDEX(Přehled_body!$E$3:$ED$130,MATCH(Tabulka!$AI54,Přehled_body!$A$3:$A$130,0),MATCH(Tabulka!V$2,Přehled_body!$E$1:$ED$1,0)),)=\"\",,IF(IFERROR(INDEX(Přehled_body!$E$3:$ED$130,MATCH(Tabulka!$AI54,Přehled_body!$A$3:$A$130,0),MATCH(Tabulka!V$2,Přehled_body!$E$1:$ED$1,0)),)=0,0.00000000001,IFERROR(INDEX(Přehled_body!$E$3:$ED$130,MATCH(Tabulka!$AI54,Přehled_body!$A$3:$A$130,0),MATCH(Tabulka!V$2,Přehled_body!$E$1:$ED$1,0)),)))","v":0},{"$f":"IF(IFERROR(INDEX(Přehled_body!$E$3:$ED$130,MATCH(Tabulka!$AI54,Přehled_body!$A$3:$A$130,0),MATCH(Tabulka!W$2,Přehled_body!$E$1:$ED$1,0)),)=\"\",,IF(IFERROR(INDEX(Přehled_body!$E$3:$ED$130,MATCH(Tabulka!$AI54,Přehled_body!$A$3:$A$130,0),MATCH(Tabulka!W$2,Přehled_body!$E$1:$ED$1,0)),)=0,0.00000000001,IFERROR(INDEX(Přehled_body!$E$3:$ED$130,MATCH(Tabulka!$AI54,Přehled_body!$A$3:$A$130,0),MATCH(Tabulka!W$2,Přehled_body!$E$1:$ED$1,0)),)))","v":0},{"$f":"IF(IFERROR(INDEX(Přehled_body!$E$3:$ED$130,MATCH(Tabulka!$AI54,Přehled_body!$A$3:$A$130,0),MATCH(Tabulka!X$2,Přehled_body!$E$1:$ED$1,0)),)=\"\",,IF(IFERROR(INDEX(Přehled_body!$E$3:$ED$130,MATCH(Tabulka!$AI54,Přehled_body!$A$3:$A$130,0),MATCH(Tabulka!X$2,Přehled_body!$E$1:$ED$1,0)),)=0,0.00000000001,IFERROR(INDEX(Přehled_body!$E$3:$ED$130,MATCH(Tabulka!$AI54,Přehled_body!$A$3:$A$130,0),MATCH(Tabulka!X$2,Přehled_body!$E$1:$ED$1,0)),)))","v":0},{"$f":"IF(IFERROR(INDEX(Přehled_body!$E$3:$ED$130,MATCH(Tabulka!$AI54,Přehled_body!$A$3:$A$130,0),MATCH(Tabulka!Y$2,Přehled_body!$E$1:$ED$1,0)),)=\"\",,IF(IFERROR(INDEX(Přehled_body!$E$3:$ED$130,MATCH(Tabulka!$AI54,Přehled_body!$A$3:$A$130,0),MATCH(Tabulka!Y$2,Přehled_body!$E$1:$ED$1,0)),)=0,0.00000000001,IFERROR(INDEX(Přehled_body!$E$3:$ED$130,MATCH(Tabulka!$AI54,Přehled_body!$A$3:$A$130,0),MATCH(Tabulka!Y$2,Přehled_body!$E$1:$ED$1,0)),)))","v":0},{"$f":"IF(IFERROR(INDEX(Přehled_body!$E$3:$ED$130,MATCH(Tabulka!$AI54,Přehled_body!$A$3:$A$130,0),MATCH(Tabulka!Z$2,Přehled_body!$E$1:$ED$1,0)),)=\"\",,IF(IFERROR(INDEX(Přehled_body!$E$3:$ED$130,MATCH(Tabulka!$AI54,Přehled_body!$A$3:$A$130,0),MATCH(Tabulka!Z$2,Přehled_body!$E$1:$ED$1,0)),)=0,0.00000000001,IFERROR(INDEX(Přehled_body!$E$3:$ED$130,MATCH(Tabulka!$AI54,Přehled_body!$A$3:$A$130,0),MATCH(Tabulka!Z$2,Přehled_body!$E$1:$ED$1,0)),)))","v":0},{"$f":"IF(IFERROR(INDEX(Přehled_body!$E$3:$ED$130,MATCH(Tabulka!$AI54,Přehled_body!$A$3:$A$130,0),MATCH(Tabulka!AA$2,Přehled_body!$E$1:$ED$1,0)),)=\"\",,IF(IFERROR(INDEX(Přehled_body!$E$3:$ED$130,MATCH(Tabulka!$AI54,Přehled_body!$A$3:$A$130,0),MATCH(Tabulka!AA$2,Přehled_body!$E$1:$ED$1,0)),)=0,0.00000000001,IFERROR(INDEX(Přehled_body!$E$3:$ED$130,MATCH(Tabulka!$AI54,Přehled_body!$A$3:$A$130,0),MATCH(Tabulka!AA$2,Přehled_body!$E$1:$ED$1,0)),)))","v":0},{"$f":"IF(IFERROR(INDEX(Přehled_body!$E$3:$ED$130,MATCH(Tabulka!$AI54,Přehled_body!$A$3:$A$130,0),MATCH(Tabulka!AB$2,Přehled_body!$E$1:$ED$1,0)),)=\"\",,IF(IFERROR(INDEX(Přehled_body!$E$3:$ED$130,MATCH(Tabulka!$AI54,Přehled_body!$A$3:$A$130,0),MATCH(Tabulka!AB$2,Přehled_body!$E$1:$ED$1,0)),)=0,0.00000000001,IFERROR(INDEX(Přehled_body!$E$3:$ED$130,MATCH(Tabulka!$AI54,Přehled_body!$A$3:$A$130,0),MATCH(Tabulka!AB$2,Přehled_body!$E$1:$ED$1,0)),)))","v":0},{"$f":"IF(IFERROR(INDEX(Přehled_body!$E$3:$ED$130,MATCH(Tabulka!$AI54,Přehled_body!$A$3:$A$130,0),MATCH(Tabulka!AC$2,Přehled_body!$E$1:$ED$1,0)),)=\"\",,IF(IFERROR(INDEX(Přehled_body!$E$3:$ED$130,MATCH(Tabulka!$AI54,Přehled_body!$A$3:$A$130,0),MATCH(Tabulka!AC$2,Přehled_body!$E$1:$ED$1,0)),)=0,0.00000000001,IFERROR(INDEX(Přehled_body!$E$3:$ED$130,MATCH(Tabulka!$AI54,Přehled_body!$A$3:$A$130,0),MATCH(Tabulka!AC$2,Přehled_body!$E$1:$ED$1,0)),)))","v":0},{"$f":"IF(IFERROR(INDEX(Přehled_body!$E$3:$ED$130,MATCH(Tabulka!$AI54,Přehled_body!$A$3:$A$130,0),MATCH(Tabulka!AD$2,Přehled_body!$E$1:$ED$1,0)),)=\"\",,IF(IFERROR(INDEX(Přehled_body!$E$3:$ED$130,MATCH(Tabulka!$AI54,Přehled_body!$A$3:$A$130,0),MATCH(Tabulka!AD$2,Přehled_body!$E$1:$ED$1,0)),)=0,0.00000000001,IFERROR(INDEX(Přehled_body!$E$3:$ED$130,MATCH(Tabulka!$AI54,Přehled_body!$A$3:$A$130,0),MATCH(Tabulka!AD$2,Přehled_body!$E$1:$ED$1,0)),)))","v":0},{"$f":"IF(SUM(AG54)<2,-90000+SUM(D54:AD54),SUM(D54:AD54))","v":4},null,{"$f":"COUNTIF(D54:AD54,\">0\")","v":3},4,{"$f":"CONCATENATE($B$55,\" \",$B$56,C54)","v":"Kuba ŠedivýVýhry"},null,null,3]
[{"$f":"CONCATENATE(B55,\" \",B56)","v":"Kuba Šedivý"},"Kuba","Prohry",{"$f":"IF(IFERROR(INDEX(Přehled_body!$E$3:$ED$130,MATCH(Tabulka!$AI55,Přehled_body!$A$3:$A$130,0),MATCH(Tabulka!D$2,Přehled_body!$E$1:$ED$1,0)),)=\"\",,IF(IFERROR(INDEX(Přehled_body!$E$3:$ED$130,MATCH(Tabulka!$AI55,Přehled_body!$A$3:$A$130,0),MATCH(Tabulka!D$2,Přehled_body!$E$1:$ED$1,0)),)=0,0.00000000001,IFERROR(INDEX(Přehled_body!$E$3:$ED$130,MATCH(Tabulka!$AI55,Přehled_body!$A$3:$A$130,0),MATCH(Tabulka!D$2,Přehled_body!$E$1:$ED$1,0)),)))","v":9.9999999999999994E-12},{"$f":"IF(IFERROR(INDEX(Přehled_body!$E$3:$ED$130,MATCH(Tabulka!$AI55,Přehled_body!$A$3:$A$130,0),MATCH(Tabulka!E$2,Přehled_body!$E$1:$ED$1,0)),)=\"\",,IF(IFERROR(INDEX(Přehled_body!$E$3:$ED$130,MATCH(Tabulka!$AI55,Přehled_body!$A$3:$A$130,0),MATCH(Tabulka!E$2,Přehled_body!$E$1:$ED$1,0)),)=0,0.00000000001,IFERROR(INDEX(Přehled_body!$E$3:$ED$130,MATCH(Tabulka!$AI55,Přehled_body!$A$3:$A$130,0),MATCH(Tabulka!E$2,Přehled_body!$E$1:$ED$1,0)),)))","v":0},{"$f":"IF(IFERROR(INDEX(Přehled_body!$E$3:$ED$130,MATCH(Tabulka!$AI55,Přehled_body!$A$3:$A$130,0),MATCH(Tabulka!F$2,Přehled_body!$E$1:$ED$1,0)),)=\"\",,IF(IFERROR(INDEX(Přehled_body!$E$3:$ED$130,MATCH(Tabulka!$AI55,Přehled_body!$A$3:$A$130,0),MATCH(Tabulka!F$2,Přehled_body!$E$1:$ED$1,0)),)=0,0.00000000001,IFERROR(INDEX(Přehled_body!$E$3:$ED$130,MATCH(Tabulka!$AI55,Přehled_body!$A$3:$A$130,0),MATCH(Tabulka!F$2,Přehled_body!$E$1:$ED$1,0)),)))","v":0},{"$f":"IF(IFERROR(INDEX(Přehled_body!$E$3:$ED$130,MATCH(Tabulka!$AI55,Přehled_body!$A$3:$A$130,0),MATCH(Tabulka!G$2,Přehled_body!$E$1:$ED$1,0)),)=\"\",,IF(IFERROR(INDEX(Přehled_body!$E$3:$ED$130,MATCH(Tabulka!$AI55,Přehled_body!$A$3:$A$130,0),MATCH(Tabulka!G$2,Přehled_body!$E$1:$ED$1,0)),)=0,0.00000000001,IFERROR(INDEX(Přehled_body!$E$3:$ED$130,MATCH(Tabulka!$AI55,Přehled_body!$A$3:$A$130,0),MATCH(Tabulka!G$2,Přehled_body!$E$1:$ED$1,0)),)))","v":0},{"$f":"IF(IFERROR(INDEX(Přehled_body!$E$3:$ED$130,MATCH(Tabulka!$AI55,Přehled_body!$A$3:$A$130,0),MATCH(Tabulka!H$2,Přehled_body!$E$1:$ED$1,0)),)=\"\",,IF(IFERROR(INDEX(Přehled_body!$E$3:$ED$130,MATCH(Tabulka!$AI55,Přehled_body!$A$3:$A$130,0),MATCH(Tabulka!H$2,Přehled_body!$E$1:$ED$1,0)),)=0,0.00000000001,IFERROR(INDEX(Přehled_body!$E$3:$ED$130,MATCH(Tabulka!$AI55,Přehled_body!$A$3:$A$130,0),MATCH(Tabulka!H$2,Přehled_body!$E$1:$ED$1,0)),)))","v":0},{"$f":"IF(IFERROR(INDEX(Přehled_body!$E$3:$ED$130,MATCH(Tabulka!$AI55,Přehled_body!$A$3:$A$130,0),MATCH(Tabulka!I$2,Přehled_body!$E$1:$ED$1,0)),)=\"\",,IF(IFERROR(INDEX(Přehled_body!$E$3:$ED$130,MATCH(Tabulka!$AI55,Přehled_body!$A$3:$A$130,0),MATCH(Tabulka!I$2,Přehled_body!$E$1:$ED$1,0)),)=0,0.00000000001,IFERROR(INDEX(Přehled_body!$E$3:$ED$130,MATCH(Tabulka!$AI55,Přehled_body!$A$3:$A$130,0),MATCH(Tabulka!I$2,Přehled_body!$E$1:$ED$1,0)),)))","v":0},{"$f":"IF(IFERROR(INDEX(Přehled_body!$E$3:$ED$130,MATCH(Tabulka!$AI55,Přehled_body!$A$3:$A$130,0),MATCH(Tabulka!J$2,Přehled_body!$E$1:$ED$1,0)),)=\"\",,IF(IFERROR(INDEX(Přehled_body!$E$3:$ED$130,MATCH(Tabulka!$AI55,Přehled_body!$A$3:$A$130,0),MATCH(Tabulka!J$2,Přehled_body!$E$1:$ED$1,0)),)=0,0.00000000001,IFERROR(INDEX(Přehled_body!$E$3:$ED$130,MATCH(Tabulka!$AI55,Přehled_body!$A$3:$A$130,0),MATCH(Tabulka!J$2,Přehled_body!$E$1:$ED$1,0)),)))","v":0},{"$f":"IF(IFERROR(INDEX(Přehled_body!$E$3:$ED$130,MATCH(Tabulka!$AI55,Přehled_body!$A$3:$A$130,0),MATCH(Tabulka!K$2,Přehled_body!$E$1:$ED$1,0)),)=\"\",,IF(IFERROR(INDEX(Přehled_body!$E$3:$ED$130,MATCH(Tabulka!$AI55,Přehled_body!$A$3:$A$130,0),MATCH(Tabulka!K$2,Přehled_body!$E$1:$ED$1,0)),)=0,0.00000000001,IFERROR(INDEX(Přehled_body!$E$3:$ED$130,MATCH(Tabulka!$AI55,Přehled_body!$A$3:$A$130,0),MATCH(Tabulka!K$2,Přehled_body!$E$1:$ED$1,0)),)))","v":0},{"$f":"IF(IFERROR(INDEX(Přehled_body!$E$3:$ED$130,MATCH(Tabulka!$AI55,Přehled_body!$A$3:$A$130,0),MATCH(Tabulka!L$2,Přehled_body!$E$1:$ED$1,0)),)=\"\",,IF(IFERROR(INDEX(Přehled_body!$E$3:$ED$130,MATCH(Tabulka!$AI55,Přehled_body!$A$3:$A$130,0),MATCH(Tabulka!L$2,Přehled_body!$E$1:$ED$1,0)),)=0,0.00000000001,IFERROR(INDEX(Přehled_body!$E$3:$ED$130,MATCH(Tabulka!$AI55,Přehled_body!$A$3:$A$130,0),MATCH(Tabulka!L$2,Přehled_body!$E$1:$ED$1,0)),)))","v":0},{"$f":"IF(IFERROR(INDEX(Přehled_body!$E$3:$ED$130,MATCH(Tabulka!$AI55,Přehled_body!$A$3:$A$130,0),MATCH(Tabulka!M$2,Přehled_body!$E$1:$ED$1,0)),)=\"\",,IF(IFERROR(INDEX(Přehled_body!$E$3:$ED$130,MATCH(Tabulka!$AI55,Přehled_body!$A$3:$A$130,0),MATCH(Tabulka!M$2,Přehled_body!$E$1:$ED$1,0)),)=0,0.00000000001,IFERROR(INDEX(Přehled_body!$E$3:$ED$130,MATCH(Tabulka!$AI55,Přehled_body!$A$3:$A$130,0),MATCH(Tabulka!M$2,Přehled_body!$E$1:$ED$1,0)),)))","v":9.9999999999999994E-12},{"$f":"IF(IFERROR(INDEX(Přehled_body!$E$3:$ED$130,MATCH(Tabulka!$AI55,Přehled_body!$A$3:$A$130,0),MATCH(Tabulka!N$2,Přehled_body!$E$1:$ED$1,0)),)=\"\",,IF(IFERROR(INDEX(Přehled_body!$E$3:$ED$130,MATCH(Tabulka!$AI55,Přehled_body!$A$3:$A$130,0),MATCH(Tabulka!N$2,Přehled_body!$E$1:$ED$1,0)),)=0,0.00000000001,IFERROR(INDEX(Přehled_body!$E$3:$ED$130,MATCH(Tabulka!$AI55,Přehled_body!$A$3:$A$130,0),MATCH(Tabulka!N$2,Přehled_body!$E$1:$ED$1,0)),)))","v":0},{"$f":"IF(IFERROR(INDEX(Přehled_body!$E$3:$ED$130,MATCH(Tabulka!$AI55,Přehled_body!$A$3:$A$130,0),MATCH(Tabulka!O$2,Přehled_body!$E$1:$ED$1,0)),)=\"\",,IF(IFERROR(INDEX(Přehled_body!$E$3:$ED$130,MATCH(Tabulka!$AI55,Přehled_body!$A$3:$A$130,0),MATCH(Tabulka!O$2,Přehled_body!$E$1:$ED$1,0)),)=0,0.00000000001,IFERROR(INDEX(Přehled_body!$E$3:$ED$130,MATCH(Tabulka!$AI55,Přehled_body!$A$3:$A$130,0),MATCH(Tabulka!O$2,Přehled_body!$E$1:$ED$1,0)),)))","v":0},{"$f":"IF(IFERROR(INDEX(Přehled_body!$E$3:$ED$130,MATCH(Tabulka!$AI55,Přehled_body!$A$3:$A$130,0),MATCH(Tabulka!P$2,Přehled_body!$E$1:$ED$1,0)),)=\"\",,IF(IFERROR(INDEX(Přehled_body!$E$3:$ED$130,MATCH(Tabulka!$AI55,Přehled_body!$A$3:$A$130,0),MATCH(Tabulka!P$2,Přehled_body!$E$1:$ED$1,0)),)=0,0.00000000001,IFERROR(INDEX(Přehled_body!$E$3:$ED$130,MATCH(Tabulka!$AI55,Přehled_body!$A$3:$A$130,0),MATCH(Tabulka!P$2,Přehled_body!$E$1:$ED$1,0)),)))","v":0},{"$f":"IF(IFERROR(INDEX(Přehled_body!$E$3:$ED$130,MATCH(Tabulka!$AI55,Přehled_body!$A$3:$A$130,0),MATCH(Tabulka!Q$2,Přehled_body!$E$1:$ED$1,0)),)=\"\",,IF(IFERROR(INDEX(Přehled_body!$E$3:$ED$130,MATCH(Tabulka!$AI55,Přehled_body!$A$3:$A$130,0),MATCH(Tabulka!Q$2,Přehled_body!$E$1:$ED$1,0)),)=0,0.00000000001,IFERROR(INDEX(Přehled_body!$E$3:$ED$130,MATCH(Tabulka!$AI55,Přehled_body!$A$3:$A$130,0),MATCH(Tabulka!Q$2,Přehled_body!$E$1:$ED$1,0)),)))","v":0},{"$f":"IF(IFERROR(INDEX(Přehled_body!$E$3:$ED$130,MATCH(Tabulka!$AI55,Přehled_body!$A$3:$A$130,0),MATCH(Tabulka!R$2,Přehled_body!$E$1:$ED$1,0)),)=\"\",,IF(IFERROR(INDEX(Přehled_body!$E$3:$ED$130,MATCH(Tabulka!$AI55,Přehled_body!$A$3:$A$130,0),MATCH(Tabulka!R$2,Přehled_body!$E$1:$ED$1,0)),)=0,0.00000000001,IFERROR(INDEX(Přehled_body!$E$3:$ED$130,MATCH(Tabulka!$AI55,Přehled_body!$A$3:$A$130,0),MATCH(Tabulka!R$2,Přehled_body!$E$1:$ED$1,0)),)))","v":0},{"$f":"IF(IFERROR(INDEX(Přehled_body!$E$3:$ED$130,MATCH(Tabulka!$AI55,Přehled_body!$A$3:$A$130,0),MATCH(Tabulka!S$2,Přehled_body!$E$1:$ED$1,0)),)=\"\",,IF(IFERROR(INDEX(Přehled_body!$E$3:$ED$130,MATCH(Tabulka!$AI55,Přehled_body!$A$3:$A$130,0),MATCH(Tabulka!S$2,Přehled_body!$E$1:$ED$1,0)),)=0,0.00000000001,IFERROR(INDEX(Přehled_body!$E$3:$ED$130,MATCH(Tabulka!$AI55,Přehled_body!$A$3:$A$130,0),MATCH(Tabulka!S$2,Přehled_body!$E$1:$ED$1,0)),)))","v":0},{"$f":"IF(IFERROR(INDEX(Přehled_body!$E$3:$ED$130,MATCH(Tabulka!$AI55,Přehled_body!$A$3:$A$130,0),MATCH(Tabulka!T$2,Přehled_body!$E$1:$ED$1,0)),)=\"\",,IF(IFERROR(INDEX(Přehled_body!$E$3:$ED$130,MATCH(Tabulka!$AI55,Přehled_body!$A$3:$A$130,0),MATCH(Tabulka!T$2,Přehled_body!$E$1:$ED$1,0)),)=0,0.00000000001,IFERROR(INDEX(Přehled_body!$E$3:$ED$130,MATCH(Tabulka!$AI55,Přehled_body!$A$3:$A$130,0),MATCH(Tabulka!T$2,Přehled_body!$E$1:$ED$1,0)),)))","v":0.1},{"$f":"IF(IFERROR(INDEX(Přehled_body!$E$3:$ED$130,MATCH(Tabulka!$AI55,Přehled_body!$A$3:$A$130,0),MATCH(Tabulka!U$2,Přehled_body!$E$1:$ED$1,0)),)=\"\",,IF(IFERROR(INDEX(Přehled_body!$E$3:$ED$130,MATCH(Tabulka!$AI55,Přehled_body!$A$3:$A$130,0),MATCH(Tabulka!U$2,Přehled_body!$E$1:$ED$1,0)),)=0,0.00000000001,IFERROR(INDEX(Přehled_body!$E$3:$ED$130,MATCH(Tabulka!$AI55,Přehled_body!$A$3:$A$130,0),MATCH(Tabulka!U$2,Přehled_body!$E$1:$ED$1,0)),)))","v":0},{"$f":"IF(IFERROR(INDEX(Přehled_body!$E$3:$ED$130,MATCH(Tabulka!$AI55,Přehled_body!$A$3:$A$130,0),MATCH(Tabulka!V$2,Přehled_body!$E$1:$ED$1,0)),)=\"\",,IF(IFERROR(INDEX(Přehled_body!$E$3:$ED$130,MATCH(Tabulka!$AI55,Přehled_body!$A$3:$A$130,0),MATCH(Tabulka!V$2,Přehled_body!$E$1:$ED$1,0)),)=0,0.00000000001,IFERROR(INDEX(Přehled_body!$E$3:$ED$130,MATCH(Tabulka!$AI55,Přehled_body!$A$3:$A$130,0),MATCH(Tabulka!V$2,Přehled_body!$E$1:$ED$1,0)),)))","v":0},{"$f":"IF(IFERROR(INDEX(Přehled_body!$E$3:$ED$130,MATCH(Tabulka!$AI55,Přehled_body!$A$3:$A$130,0),MATCH(Tabulka!W$2,Přehled_body!$E$1:$ED$1,0)),)=\"\",,IF(IFERROR(INDEX(Přehled_body!$E$3:$ED$130,MATCH(Tabulka!$AI55,Přehled_body!$A$3:$A$130,0),MATCH(Tabulka!W$2,Přehled_body!$E$1:$ED$1,0)),)=0,0.00000000001,IFERROR(INDEX(Přehled_body!$E$3:$ED$130,MATCH(Tabulka!$AI55,Přehled_body!$A$3:$A$130,0),MATCH(Tabulka!W$2,Přehled_body!$E$1:$ED$1,0)),)))","v":0},{"$f":"IF(IFERROR(INDEX(Přehled_body!$E$3:$ED$130,MATCH(Tabulka!$AI55,Přehled_body!$A$3:$A$130,0),MATCH(Tabulka!X$2,Přehled_body!$E$1:$ED$1,0)),)=\"\",,IF(IFERROR(INDEX(Přehled_body!$E$3:$ED$130,MATCH(Tabulka!$AI55,Přehled_body!$A$3:$A$130,0),MATCH(Tabulka!X$2,Přehled_body!$E$1:$ED$1,0)),)=0,0.00000000001,IFERROR(INDEX(Přehled_body!$E$3:$ED$130,MATCH(Tabulka!$AI55,Přehled_body!$A$3:$A$130,0),MATCH(Tabulka!X$2,Přehled_body!$E$1:$ED$1,0)),)))","v":0},{"$f":"IF(IFERROR(INDEX(Přehled_body!$E$3:$ED$130,MATCH(Tabulka!$AI55,Přehled_body!$A$3:$A$130,0),MATCH(Tabulka!Y$2,Přehled_body!$E$1:$ED$1,0)),)=\"\",,IF(IFERROR(INDEX(Přehled_body!$E$3:$ED$130,MATCH(Tabulka!$AI55,Přehled_body!$A$3:$A$130,0),MATCH(Tabulka!Y$2,Přehled_body!$E$1:$ED$1,0)),)=0,0.00000000001,IFERROR(INDEX(Přehled_body!$E$3:$ED$130,MATCH(Tabulka!$AI55,Přehled_body!$A$3:$A$130,0),MATCH(Tabulka!Y$2,Přehled_body!$E$1:$ED$1,0)),)))","v":0},{"$f":"IF(IFERROR(INDEX(Přehled_body!$E$3:$ED$130,MATCH(Tabulka!$AI55,Přehled_body!$A$3:$A$130,0),MATCH(Tabulka!Z$2,Přehled_body!$E$1:$ED$1,0)),)=\"\",,IF(IFERROR(INDEX(Přehled_body!$E$3:$ED$130,MATCH(Tabulka!$AI55,Přehled_body!$A$3:$A$130,0),MATCH(Tabulka!Z$2,Přehled_body!$E$1:$ED$1,0)),)=0,0.00000000001,IFERROR(INDEX(Přehled_body!$E$3:$ED$130,MATCH(Tabulka!$AI55,Přehled_body!$A$3:$A$130,0),MATCH(Tabulka!Z$2,Přehled_body!$E$1:$ED$1,0)),)))","v":0},{"$f":"IF(IFERROR(INDEX(Přehled_body!$E$3:$ED$130,MATCH(Tabulka!$AI55,Přehled_body!$A$3:$A$130,0),MATCH(Tabulka!AA$2,Přehled_body!$E$1:$ED$1,0)),)=\"\",,IF(IFERROR(INDEX(Přehled_body!$E$3:$ED$130,MATCH(Tabulka!$AI55,Přehled_body!$A$3:$A$130,0),MATCH(Tabulka!AA$2,Přehled_body!$E$1:$ED$1,0)),)=0,0.00000000001,IFERROR(INDEX(Přehled_body!$E$3:$ED$130,MATCH(Tabulka!$AI55,Přehled_body!$A$3:$A$130,0),MATCH(Tabulka!AA$2,Přehled_body!$E$1:$ED$1,0)),)))","v":0},{"$f":"IF(IFERROR(INDEX(Přehled_body!$E$3:$ED$130,MATCH(Tabulka!$AI55,Přehled_body!$A$3:$A$130,0),MATCH(Tabulka!AB$2,Přehled_body!$E$1:$ED$1,0)),)=\"\",,IF(IFERROR(INDEX(Přehled_body!$E$3:$ED$130,MATCH(Tabulka!$AI55,Přehled_body!$A$3:$A$130,0),MATCH(Tabulka!AB$2,Přehled_body!$E$1:$ED$1,0)),)=0,0.00000000001,IFERROR(INDEX(Přehled_body!$E$3:$ED$130,MATCH(Tabulka!$AI55,Přehled_body!$A$3:$A$130,0),MATCH(Tabulka!AB$2,Přehled_body!$E$1:$ED$1,0)),)))","v":0},{"$f":"IF(IFERROR(INDEX(Přehled_body!$E$3:$ED$130,MATCH(Tabulka!$AI55,Přehled_body!$A$3:$A$130,0),MATCH(Tabulka!AC$2,Přehled_body!$E$1:$ED$1,0)),)=\"\",,IF(IFERROR(INDEX(Přehled_body!$E$3:$ED$130,MATCH(Tabulka!$AI55,Přehled_body!$A$3:$A$130,0),MATCH(Tabulka!AC$2,Přehled_body!$E$1:$ED$1,0)),)=0,0.00000000001,IFERROR(INDEX(Přehled_body!$E$3:$ED$130,MATCH(Tabulka!$AI55,Přehled_body!$A$3:$A$130,0),MATCH(Tabulka!AC$2,Přehled_body!$E$1:$ED$1,0)),)))","v":0},{"$f":"IF(IFERROR(INDEX(Přehled_body!$E$3:$ED$130,MATCH(Tabulka!$AI55,Přehled_body!$A$3:$A$130,0),MATCH(Tabulka!AD$2,Přehled_body!$E$1:$ED$1,0)),)=\"\",,IF(IFERROR(INDEX(Přehled_body!$E$3:$ED$130,MATCH(Tabulka!$AI55,Přehled_body!$A$3:$A$130,0),MATCH(Tabulka!AD$2,Přehled_body!$E$1:$ED$1,0)),)=0,0.00000000001,IFERROR(INDEX(Přehled_body!$E$3:$ED$130,MATCH(Tabulka!$AI55,Přehled_body!$A$3:$A$130,0),MATCH(Tabulka!AD$2,Přehled_body!$E$1:$ED$1,0)),)))","v":0},{"$f":"IF(SUM(AG54)<2,-90000+SUM(D55:AD55),SUM(D55:AD55))","v":0.10000000002000001},{"$f":"SUM(AE54-AE55)","v":3.8999999999799999},null,0.10000000002000001,{"$f":"CONCATENATE($B$55,\" \",$B$56,C55)","v":"Kuba ŠedivýProhry"},null,null,3,null,null,"Kuba",11]
[{"$f":"CONCATENATE(B56,\" \",B55)","v":"Šedivý Kuba"},"Šedivý","Placeno panáků",{"$f":"IF(IFERROR(INDEX(Přehled_body!$E$3:$ED$130,MATCH(Tabulka!$AI56,Přehled_body!$A$3:$A$130,0),MATCH(Tabulka!D$2,Přehled_body!$E$1:$ED$1,0)),)=\"\",,IF(IFERROR(INDEX(Přehled_body!$E$3:$ED$130,MATCH(Tabulka!$AI56,Přehled_body!$A$3:$A$130,0),MATCH(Tabulka!D$2,Přehled_body!$E$1:$ED$1,0)),)=0,0.00000000001,IFERROR(INDEX(Přehled_body!$E$3:$ED$130,MATCH(Tabulka!$AI56,Přehled_body!$A$3:$A$130,0),MATCH(Tabulka!D$2,Přehled_body!$E$1:$ED$1,0)),)))","v":9.9999999999999994E-12},{"$f":"IF(IFERROR(INDEX(Přehled_body!$E$3:$ED$130,MATCH(Tabulka!$AI56,Přehled_body!$A$3:$A$130,0),MATCH(Tabulka!E$2,Přehled_body!$E$1:$ED$1,0)),)=\"\",,IF(IFERROR(INDEX(Přehled_body!$E$3:$ED$130,MATCH(Tabulka!$AI56,Přehled_body!$A$3:$A$130,0),MATCH(Tabulka!E$2,Přehled_body!$E$1:$ED$1,0)),)=0,0.00000000001,IFERROR(INDEX(Přehled_body!$E$3:$ED$130,MATCH(Tabulka!$AI56,Přehled_body!$A$3:$A$130,0),MATCH(Tabulka!E$2,Přehled_body!$E$1:$ED$1,0)),)))","v":0},{"$f":"IF(IFERROR(INDEX(Přehled_body!$E$3:$ED$130,MATCH(Tabulka!$AI56,Přehled_body!$A$3:$A$130,0),MATCH(Tabulka!F$2,Přehled_body!$E$1:$ED$1,0)),)=\"\",,IF(IFERROR(INDEX(Přehled_body!$E$3:$ED$130,MATCH(Tabulka!$AI56,Přehled_body!$A$3:$A$130,0),MATCH(Tabulka!F$2,Přehled_body!$E$1:$ED$1,0)),)=0,0.00000000001,IFERROR(INDEX(Přehled_body!$E$3:$ED$130,MATCH(Tabulka!$AI56,Přehled_body!$A$3:$A$130,0),MATCH(Tabulka!F$2,Přehled_body!$E$1:$ED$1,0)),)))","v":0},{"$f":"IF(IFERROR(INDEX(Přehled_body!$E$3:$ED$130,MATCH(Tabulka!$AI56,Přehled_body!$A$3:$A$130,0),MATCH(Tabulka!G$2,Přehled_body!$E$1:$ED$1,0)),)=\"\",,IF(IFERROR(INDEX(Přehled_body!$E$3:$ED$130,MATCH(Tabulka!$AI56,Přehled_body!$A$3:$A$130,0),MATCH(Tabulka!G$2,Přehled_body!$E$1:$ED$1,0)),)=0,0.00000000001,IFERROR(INDEX(Přehled_body!$E$3:$ED$130,MATCH(Tabulka!$AI56,Přehled_body!$A$3:$A$130,0),MATCH(Tabulka!G$2,Přehled_body!$E$1:$ED$1,0)),)))","v":0},{"$f":"IF(IFERROR(INDEX(Přehled_body!$E$3:$ED$130,MATCH(Tabulka!$AI56,Přehled_body!$A$3:$A$130,0),MATCH(Tabulka!H$2,Přehled_body!$E$1:$ED$1,0)),)=\"\",,IF(IFERROR(INDEX(Přehled_body!$E$3:$ED$130,MATCH(Tabulka!$AI56,Přehled_body!$A$3:$A$130,0),MATCH(Tabulka!H$2,Přehled_body!$E$1:$ED$1,0)),)=0,0.00000000001,IFERROR(INDEX(Přehled_body!$E$3:$ED$130,MATCH(Tabulka!$AI56,Přehled_body!$A$3:$A$130,0),MATCH(Tabulka!H$2,Přehled_body!$E$1:$ED$1,0)),)))","v":0},{"$f":"IF(IFERROR(INDEX(Přehled_body!$E$3:$ED$130,MATCH(Tabulka!$AI56,Přehled_body!$A$3:$A$130,0),MATCH(Tabulka!I$2,Přehled_body!$E$1:$ED$1,0)),)=\"\",,IF(IFERROR(INDEX(Přehled_body!$E$3:$ED$130,MATCH(Tabulka!$AI56,Přehled_body!$A$3:$A$130,0),MATCH(Tabulka!I$2,Přehled_body!$E$1:$ED$1,0)),)=0,0.00000000001,IFERROR(INDEX(Přehled_body!$E$3:$ED$130,MATCH(Tabulka!$AI56,Přehled_body!$A$3:$A$130,0),MATCH(Tabulka!I$2,Přehled_body!$E$1:$ED$1,0)),)))","v":0},{"$f":"IF(IFERROR(INDEX(Přehled_body!$E$3:$ED$130,MATCH(Tabulka!$AI56,Přehled_body!$A$3:$A$130,0),MATCH(Tabulka!J$2,Přehled_body!$E$1:$ED$1,0)),)=\"\",,IF(IFERROR(INDEX(Přehled_body!$E$3:$ED$130,MATCH(Tabulka!$AI56,Přehled_body!$A$3:$A$130,0),MATCH(Tabulka!J$2,Přehled_body!$E$1:$ED$1,0)),)=0,0.00000000001,IFERROR(INDEX(Přehled_body!$E$3:$ED$130,MATCH(Tabulka!$AI56,Přehled_body!$A$3:$A$130,0),MATCH(Tabulka!J$2,Přehled_body!$E$1:$ED$1,0)),)))","v":0},{"$f":"IF(IFERROR(INDEX(Přehled_body!$E$3:$ED$130,MATCH(Tabulka!$AI56,Přehled_body!$A$3:$A$130,0),MATCH(Tabulka!K$2,Přehled_body!$E$1:$ED$1,0)),)=\"\",,IF(IFERROR(INDEX(Přehled_body!$E$3:$ED$130,MATCH(Tabulka!$AI56,Přehled_body!$A$3:$A$130,0),MATCH(Tabulka!K$2,Přehled_body!$E$1:$ED$1,0)),)=0,0.00000000001,IFERROR(INDEX(Přehled_body!$E$3:$ED$130,MATCH(Tabulka!$AI56,Přehled_body!$A$3:$A$130,0),MATCH(Tabulka!K$2,Přehled_body!$E$1:$ED$1,0)),)))","v":0},{"$f":"IF(IFERROR(INDEX(Přehled_body!$E$3:$ED$130,MATCH(Tabulka!$AI56,Přehled_body!$A$3:$A$130,0),MATCH(Tabulka!L$2,Přehled_body!$E$1:$ED$1,0)),)=\"\",,IF(IFERROR(INDEX(Přehled_body!$E$3:$ED$130,MATCH(Tabulka!$AI56,Přehled_body!$A$3:$A$130,0),MATCH(Tabulka!L$2,Přehled_body!$E$1:$ED$1,0)),)=0,0.00000000001,IFERROR(INDEX(Přehled_body!$E$3:$ED$130,MATCH(Tabulka!$AI56,Přehled_body!$A$3:$A$130,0),MATCH(Tabulka!L$2,Přehled_body!$E$1:$ED$1,0)),)))","v":0},{"$f":"IF(IFERROR(INDEX(Přehled_body!$E$3:$ED$130,MATCH(Tabulka!$AI56,Přehled_body!$A$3:$A$130,0),MATCH(Tabulka!M$2,Přehled_body!$E$1:$ED$1,0)),)=\"\",,IF(IFERROR(INDEX(Přehled_body!$E$3:$ED$130,MATCH(Tabulka!$AI56,Přehled_body!$A$3:$A$130,0),MATCH(Tabulka!M$2,Přehled_body!$E$1:$ED$1,0)),)=0,0.00000000001,IFERROR(INDEX(Přehled_body!$E$3:$ED$130,MATCH(Tabulka!$AI56,Přehled_body!$A$3:$A$130,0),MATCH(Tabulka!M$2,Přehled_body!$E$1:$ED$1,0)),)))","v":9.9999999999999994E-12},{"$f":"IF(IFERROR(INDEX(Přehled_body!$E$3:$ED$130,MATCH(Tabulka!$AI56,Přehled_body!$A$3:$A$130,0),MATCH(Tabulka!N$2,Přehled_body!$E$1:$ED$1,0)),)=\"\",,IF(IFERROR(INDEX(Přehled_body!$E$3:$ED$130,MATCH(Tabulka!$AI56,Přehled_body!$A$3:$A$130,0),MATCH(Tabulka!N$2,Přehled_body!$E$1:$ED$1,0)),)=0,0.00000000001,IFERROR(INDEX(Přehled_body!$E$3:$ED$130,MATCH(Tabulka!$AI56,Přehled_body!$A$3:$A$130,0),MATCH(Tabulka!N$2,Přehled_body!$E$1:$ED$1,0)),)))","v":0},{"$f":"IF(IFERROR(INDEX(Přehled_body!$E$3:$ED$130,MATCH(Tabulka!$AI56,Přehled_body!$A$3:$A$130,0),MATCH(Tabulka!O$2,Přehled_body!$E$1:$ED$1,0)),)=\"\",,IF(IFERROR(INDEX(Přehled_body!$E$3:$ED$130,MATCH(Tabulka!$AI56,Přehled_body!$A$3:$A$130,0),MATCH(Tabulka!O$2,Přehled_body!$E$1:$ED$1,0)),)=0,0.00000000001,IFERROR(INDEX(Přehled_body!$E$3:$ED$130,MATCH(Tabulka!$AI56,Přehled_body!$A$3:$A$130,0),MATCH(Tabulka!O$2,Přehled_body!$E$1:$ED$1,0)),)))","v":0},{"$f":"IF(IFERROR(INDEX(Přehled_body!$E$3:$ED$130,MATCH(Tabulka!$AI56,Přehled_body!$A$3:$A$130,0),MATCH(Tabulka!P$2,Přehled_body!$E$1:$ED$1,0)),)=\"\",,IF(IFERROR(INDEX(Přehled_body!$E$3:$ED$130,MATCH(Tabulka!$AI56,Přehled_body!$A$3:$A$130,0),MATCH(Tabulka!P$2,Přehled_body!$E$1:$ED$1,0)),)=0,0.00000000001,IFERROR(INDEX(Přehled_body!$E$3:$ED$130,MATCH(Tabulka!$AI56,Přehled_body!$A$3:$A$130,0),MATCH(Tabulka!P$2,Přehled_body!$E$1:$ED$1,0)),)))","v":0},{"$f":"IF(IFERROR(INDEX(Přehled_body!$E$3:$ED$130,MATCH(Tabulka!$AI56,Přehled_body!$A$3:$A$130,0),MATCH(Tabulka!Q$2,Přehled_body!$E$1:$ED$1,0)),)=\"\",,IF(IFERROR(INDEX(Přehled_body!$E$3:$ED$130,MATCH(Tabulka!$AI56,Přehled_body!$A$3:$A$130,0),MATCH(Tabulka!Q$2,Přehled_body!$E$1:$ED$1,0)),)=0,0.00000000001,IFERROR(INDEX(Přehled_body!$E$3:$ED$130,MATCH(Tabulka!$AI56,Přehled_body!$A$3:$A$130,0),MATCH(Tabulka!Q$2,Přehled_body!$E$1:$ED$1,0)),)))","v":0},{"$f":"IF(IFERROR(INDEX(Přehled_body!$E$3:$ED$130,MATCH(Tabulka!$AI56,Přehled_body!$A$3:$A$130,0),MATCH(Tabulka!R$2,Přehled_body!$E$1:$ED$1,0)),)=\"\",,IF(IFERROR(INDEX(Přehled_body!$E$3:$ED$130,MATCH(Tabulka!$AI56,Přehled_body!$A$3:$A$130,0),MATCH(Tabulka!R$2,Přehled_body!$E$1:$ED$1,0)),)=0,0.00000000001,IFERROR(INDEX(Přehled_body!$E$3:$ED$130,MATCH(Tabulka!$AI56,Přehled_body!$A$3:$A$130,0),MATCH(Tabulka!R$2,Přehled_body!$E$1:$ED$1,0)),)))","v":0},{"$f":"IF(IFERROR(INDEX(Přehled_body!$E$3:$ED$130,MATCH(Tabulka!$AI56,Přehled_body!$A$3:$A$130,0),MATCH(Tabulka!S$2,Přehled_body!$E$1:$ED$1,0)),)=\"\",,IF(IFERROR(INDEX(Přehled_body!$E$3:$ED$130,MATCH(Tabulka!$AI56,Přehled_body!$A$3:$A$130,0),MATCH(Tabulka!S$2,Přehled_body!$E$1:$ED$1,0)),)=0,0.00000000001,IFERROR(INDEX(Přehled_body!$E$3:$ED$130,MATCH(Tabulka!$AI56,Přehled_body!$A$3:$A$130,0),MATCH(Tabulka!S$2,Přehled_body!$E$1:$ED$1,0)),)))","v":0},{"$f":"IF(IFERROR(INDEX(Přehled_body!$E$3:$ED$130,MATCH(Tabulka!$AI56,Přehled_body!$A$3:$A$130,0),MATCH(Tabulka!T$2,Přehled_body!$E$1:$ED$1,0)),)=\"\",,IF(IFERROR(INDEX(Přehled_body!$E$3:$ED$130,MATCH(Tabulka!$AI56,Přehled_body!$A$3:$A$130,0),MATCH(Tabulka!T$2,Přehled_body!$E$1:$ED$1,0)),)=0,0.00000000001,IFERROR(INDEX(Přehled_body!$E$3:$ED$130,MATCH(Tabulka!$AI56,Přehled_body!$A$3:$A$130,0),MATCH(Tabulka!T$2,Přehled_body!$E$1:$ED$1,0)),)))","v":9.9999999999999994E-12},{"$f":"IF(IFERROR(INDEX(Přehled_body!$E$3:$ED$130,MATCH(Tabulka!$AI56,Přehled_body!$A$3:$A$130,0),MATCH(Tabulka!U$2,Přehled_body!$E$1:$ED$1,0)),)=\"\",,IF(IFERROR(INDEX(Přehled_body!$E$3:$ED$130,MATCH(Tabulka!$AI56,Přehled_body!$A$3:$A$130,0),MATCH(Tabulka!U$2,Přehled_body!$E$1:$ED$1,0)),)=0,0.00000000001,IFERROR(INDEX(Přehled_body!$E$3:$ED$130,MATCH(Tabulka!$AI56,Přehled_body!$A$3:$A$130,0),MATCH(Tabulka!U$2,Přehled_body!$E$1:$ED$1,0)),)))","v":0},{"$f":"IF(IFERROR(INDEX(Přehled_body!$E$3:$ED$130,MATCH(Tabulka!$AI56,Přehled_body!$A$3:$A$130,0),MATCH(Tabulka!V$2,Přehled_body!$E$1:$ED$1,0)),)=\"\",,IF(IFERROR(INDEX(Přehled_body!$E$3:$ED$130,MATCH(Tabulka!$AI56,Přehled_body!$A$3:$A$130,0),MATCH(Tabulka!V$2,Přehled_body!$E$1:$ED$1,0)),)=0,0.00000000001,IFERROR(INDEX(Přehled_body!$E$3:$ED$130,MATCH(Tabulka!$AI56,Přehled_body!$A$3:$A$130,0),MATCH(Tabulka!V$2,Přehled_body!$E$1:$ED$1,0)),)))","v":0},{"$f":"IF(IFERROR(INDEX(Přehled_body!$E$3:$ED$130,MATCH(Tabulka!$AI56,Přehled_body!$A$3:$A$130,0),MATCH(Tabulka!W$2,Přehled_body!$E$1:$ED$1,0)),)=\"\",,IF(IFERROR(INDEX(Přehled_body!$E$3:$ED$130,MATCH(Tabulka!$AI56,Přehled_body!$A$3:$A$130,0),MATCH(Tabulka!W$2,Přehled_body!$E$1:$ED$1,0)),)=0,0.00000000001,IFERROR(INDEX(Přehled_body!$E$3:$ED$130,MATCH(Tabulka!$AI56,Přehled_body!$A$3:$A$130,0),MATCH(Tabulka!W$2,Přehled_body!$E$1:$ED$1,0)),)))","v":0},{"$f":"IF(IFERROR(INDEX(Přehled_body!$E$3:$ED$130,MATCH(Tabulka!$AI56,Přehled_body!$A$3:$A$130,0),MATCH(Tabulka!X$2,Přehled_body!$E$1:$ED$1,0)),)=\"\",,IF(IFERROR(INDEX(Přehled_body!$E$3:$ED$130,MATCH(Tabulka!$AI56,Přehled_body!$A$3:$A$130,0),MATCH(Tabulka!X$2,Přehled_body!$E$1:$ED$1,0)),)=0,0.00000000001,IFERROR(INDEX(Přehled_body!$E$3:$ED$130,MATCH(Tabulka!$AI56,Přehled_body!$A$3:$A$130,0),MATCH(Tabulka!X$2,Přehled_body!$E$1:$ED$1,0)),)))","v":0},{"$f":"IF(IFERROR(INDEX(Přehled_body!$E$3:$ED$130,MATCH(Tabulka!$AI56,Přehled_body!$A$3:$A$130,0),MATCH(Tabulka!Y$2,Přehled_body!$E$1:$ED$1,0)),)=\"\",,IF(IFERROR(INDEX(Přehled_body!$E$3:$ED$130,MATCH(Tabulka!$AI56,Přehled_body!$A$3:$A$130,0),MATCH(Tabulka!Y$2,Přehled_body!$E$1:$ED$1,0)),)=0,0.00000000001,IFERROR(INDEX(Přehled_body!$E$3:$ED$130,MATCH(Tabulka!$AI56,Přehled_body!$A$3:$A$130,0),MATCH(Tabulka!Y$2,Přehled_body!$E$1:$ED$1,0)),)))","v":0},{"$f":"IF(IFERROR(INDEX(Přehled_body!$E$3:$ED$130,MATCH(Tabulka!$AI56,Přehled_body!$A$3:$A$130,0),MATCH(Tabulka!Z$2,Přehled_body!$E$1:$ED$1,0)),)=\"\",,IF(IFERROR(INDEX(Přehled_body!$E$3:$ED$130,MATCH(Tabulka!$AI56,Přehled_body!$A$3:$A$130,0),MATCH(Tabulka!Z$2,Přehled_body!$E$1:$ED$1,0)),)=0,0.00000000001,IFERROR(INDEX(Přehled_body!$E$3:$ED$130,MATCH(Tabulka!$AI56,Přehled_body!$A$3:$A$130,0),MATCH(Tabulka!Z$2,Přehled_body!$E$1:$ED$1,0)),)))","v":0},{"$f":"IF(IFERROR(INDEX(Přehled_body!$E$3:$ED$130,MATCH(Tabulka!$AI56,Přehled_body!$A$3:$A$130,0),MATCH(Tabulka!AA$2,Přehled_body!$E$1:$ED$1,0)),)=\"\",,IF(IFERROR(INDEX(Přehled_body!$E$3:$ED$130,MATCH(Tabulka!$AI56,Přehled_body!$A$3:$A$130,0),MATCH(Tabulka!AA$2,Přehled_body!$E$1:$ED$1,0)),)=0,0.00000000001,IFERROR(INDEX(Přehled_body!$E$3:$ED$130,MATCH(Tabulka!$AI56,Přehled_body!$A$3:$A$130,0),MATCH(Tabulka!AA$2,Přehled_body!$E$1:$ED$1,0)),)))","v":0},{"$f":"IF(IFERROR(INDEX(Přehled_body!$E$3:$ED$130,MATCH(Tabulka!$AI56,Přehled_body!$A$3:$A$130,0),MATCH(Tabulka!AB$2,Přehled_body!$E$1:$ED$1,0)),)=\"\",,IF(IFERROR(INDEX(Přehled_body!$E$3:$ED$130,MATCH(Tabulka!$AI56,Přehled_body!$A$3:$A$130,0),MATCH(Tabulka!AB$2,Přehled_body!$E$1:$ED$1,0)),)=0,0.00000000001,IFERROR(INDEX(Přehled_body!$E$3:$ED$130,MATCH(Tabulka!$AI56,Přehled_body!$A$3:$A$130,0),MATCH(Tabulka!AB$2,Přehled_body!$E$1:$ED$1,0)),)))","v":0},{"$f":"IF(IFERROR(INDEX(Přehled_body!$E$3:$ED$130,MATCH(Tabulka!$AI56,Přehled_body!$A$3:$A$130,0),MATCH(Tabulka!AC$2,Přehled_body!$E$1:$ED$1,0)),)=\"\",,IF(IFERROR(INDEX(Přehled_body!$E$3:$ED$130,MATCH(Tabulka!$AI56,Přehled_body!$A$3:$A$130,0),MATCH(Tabulka!AC$2,Přehled_body!$E$1:$ED$1,0)),)=0,0.00000000001,IFERROR(INDEX(Přehled_body!$E$3:$ED$130,MATCH(Tabulka!$AI56,Přehled_body!$A$3:$A$130,0),MATCH(Tabulka!AC$2,Přehled_body!$E$1:$ED$1,0)),)))","v":0},{"$f":"IF(IFERROR(INDEX(Přehled_body!$E$3:$ED$130,MATCH(Tabulka!$AI56,Přehled_body!$A$3:$A$130,0),MATCH(Tabulka!AD$2,Přehled_body!$E$1:$ED$1,0)),)=\"\",,IF(IFERROR(INDEX(Přehled_body!$E$3:$ED$130,MATCH(Tabulka!$AI56,Přehled_body!$A$3:$A$130,0),MATCH(Tabulka!AD$2,Přehled_body!$E$1:$ED$1,0)),)=0,0.00000000001,IFERROR(INDEX(Přehled_body!$E$3:$ED$130,MATCH(Tabulka!$AI56,Přehled_body!$A$3:$A$130,0),MATCH(Tabulka!AD$2,Přehled_body!$E$1:$ED$1,0)),)))","v":0},{"$f":"IF(SUM(AG54)<2,-90000+SUM(D56:AD56),SUM(D56:AD56))","v":3E-11},null,null,{"$f":"SUM(D56:AD56)+INDEX(List4!$D$2:$F$17,MATCH(Tabulka!A55,List4!$D$2:$D$17,0),3)","v":1.2102999999999999E-7},{"$f":"CONCATENATE($B$55,\" \",$B$56,C56)","v":"Kuba ŠedivýPlaceno panáků"},null,null,3,null,null,"Šedivý",{"$f":"CONCATENATE(AQ56,\" \",AQ57)","v":"Pavel Perneker"},"Pavel"]
[null,null,"Přehozy",{"$f":"IF(IFERROR(INDEX(Přehled_body!$E$3:$ED$130,MATCH(Tabulka!$AI57,Přehled_body!$A$3:$A$130,0),MATCH(Tabulka!D$2,Přehled_body!$E$1:$ED$1,0)),)=\"\",,IF(IFERROR(INDEX(Přehled_body!$E$3:$ED$130,MATCH(Tabulka!$AI57,Přehled_body!$A$3:$A$130,0),MATCH(Tabulka!D$2,Přehled_body!$E$1:$ED$1,0)),)=0,0.00000000001,IFERROR(INDEX(Přehled_body!$E$3:$ED$130,MATCH(Tabulka!$AI57,Přehled_body!$A$3:$A$130,0),MATCH(Tabulka!D$2,Přehled_body!$E$1:$ED$1,0)),)))","v":3},{"$f":"IF(IFERROR(INDEX(Přehled_body!$E$3:$ED$130,MATCH(Tabulka!$AI57,Přehled_body!$A$3:$A$130,0),MATCH(Tabulka!E$2,Přehled_body!$E$1:$ED$1,0)),)=\"\",,IF(IFERROR(INDEX(Přehled_body!$E$3:$ED$130,MATCH(Tabulka!$AI57,Přehled_body!$A$3:$A$130,0),MATCH(Tabulka!E$2,Přehled_body!$E$1:$ED$1,0)),)=0,0.00000000001,IFERROR(INDEX(Přehled_body!$E$3:$ED$130,MATCH(Tabulka!$AI57,Přehled_body!$A$3:$A$130,0),MATCH(Tabulka!E$2,Přehled_body!$E$1:$ED$1,0)),)))","v":0},{"$f":"IF(IFERROR(INDEX(Přehled_body!$E$3:$ED$130,MATCH(Tabulka!$AI57,Přehled_body!$A$3:$A$130,0),MATCH(Tabulka!F$2,Přehled_body!$E$1:$ED$1,0)),)=\"\",,IF(IFERROR(INDEX(Přehled_body!$E$3:$ED$130,MATCH(Tabulka!$AI57,Přehled_body!$A$3:$A$130,0),MATCH(Tabulka!F$2,Přehled_body!$E$1:$ED$1,0)),)=0,0.00000000001,IFERROR(INDEX(Přehled_body!$E$3:$ED$130,MATCH(Tabulka!$AI57,Přehled_body!$A$3:$A$130,0),MATCH(Tabulka!F$2,Přehled_body!$E$1:$ED$1,0)),)))","v":0},{"$f":"IF(IFERROR(INDEX(Přehled_body!$E$3:$ED$130,MATCH(Tabulka!$AI57,Přehled_body!$A$3:$A$130,0),MATCH(Tabulka!G$2,Přehled_body!$E$1:$ED$1,0)),)=\"\",,IF(IFERROR(INDEX(Přehled_body!$E$3:$ED$130,MATCH(Tabulka!$AI57,Přehled_body!$A$3:$A$130,0),MATCH(Tabulka!G$2,Přehled_body!$E$1:$ED$1,0)),)=0,0.00000000001,IFERROR(INDEX(Přehled_body!$E$3:$ED$130,MATCH(Tabulka!$AI57,Přehled_body!$A$3:$A$130,0),MATCH(Tabulka!G$2,Přehled_body!$E$1:$ED$1,0)),)))","v":0},{"$f":"IF(IFERROR(INDEX(Přehled_body!$E$3:$ED$130,MATCH(Tabulka!$AI57,Přehled_body!$A$3:$A$130,0),MATCH(Tabulka!H$2,Přehled_body!$E$1:$ED$1,0)),)=\"\",,IF(IFERROR(INDEX(Přehled_body!$E$3:$ED$130,MATCH(Tabulka!$AI57,Přehled_body!$A$3:$A$130,0),MATCH(Tabulka!H$2,Přehled_body!$E$1:$ED$1,0)),)=0,0.00000000001,IFERROR(INDEX(Přehled_body!$E$3:$ED$130,MATCH(Tabulka!$AI57,Přehled_body!$A$3:$A$130,0),MATCH(Tabulka!H$2,Přehled_body!$E$1:$ED$1,0)),)))","v":0},{"$f":"IF(IFERROR(INDEX(Přehled_body!$E$3:$ED$130,MATCH(Tabulka!$AI57,Přehled_body!$A$3:$A$130,0),MATCH(Tabulka!I$2,Přehled_body!$E$1:$ED$1,0)),)=\"\",,IF(IFERROR(INDEX(Přehled_body!$E$3:$ED$130,MATCH(Tabulka!$AI57,Přehled_body!$A$3:$A$130,0),MATCH(Tabulka!I$2,Přehled_body!$E$1:$ED$1,0)),)=0,0.00000000001,IFERROR(INDEX(Přehled_body!$E$3:$ED$130,MATCH(Tabulka!$AI57,Přehled_body!$A$3:$A$130,0),MATCH(Tabulka!I$2,Přehled_body!$E$1:$ED$1,0)),)))","v":0},{"$f":"IF(IFERROR(INDEX(Přehled_body!$E$3:$ED$130,MATCH(Tabulka!$AI57,Přehled_body!$A$3:$A$130,0),MATCH(Tabulka!J$2,Přehled_body!$E$1:$ED$1,0)),)=\"\",,IF(IFERROR(INDEX(Přehled_body!$E$3:$ED$130,MATCH(Tabulka!$AI57,Přehled_body!$A$3:$A$130,0),MATCH(Tabulka!J$2,Přehled_body!$E$1:$ED$1,0)),)=0,0.00000000001,IFERROR(INDEX(Přehled_body!$E$3:$ED$130,MATCH(Tabulka!$AI57,Přehled_body!$A$3:$A$130,0),MATCH(Tabulka!J$2,Přehled_body!$E$1:$ED$1,0)),)))","v":0},{"$f":"IF(IFERROR(INDEX(Přehled_body!$E$3:$ED$130,MATCH(Tabulka!$AI57,Přehled_body!$A$3:$A$130,0),MATCH(Tabulka!K$2,Přehled_body!$E$1:$ED$1,0)),)=\"\",,IF(IFERROR(INDEX(Přehled_body!$E$3:$ED$130,MATCH(Tabulka!$AI57,Přehled_body!$A$3:$A$130,0),MATCH(Tabulka!K$2,Přehled_body!$E$1:$ED$1,0)),)=0,0.00000000001,IFERROR(INDEX(Přehled_body!$E$3:$ED$130,MATCH(Tabulka!$AI57,Přehled_body!$A$3:$A$130,0),MATCH(Tabulka!K$2,Přehled_body!$E$1:$ED$1,0)),)))","v":0},{"$f":"IF(IFERROR(INDEX(Přehled_body!$E$3:$ED$130,MATCH(Tabulka!$AI57,Přehled_body!$A$3:$A$130,0),MATCH(Tabulka!L$2,Přehled_body!$E$1:$ED$1,0)),)=\"\",,IF(IFERROR(INDEX(Přehled_body!$E$3:$ED$130,MATCH(Tabulka!$AI57,Přehled_body!$A$3:$A$130,0),MATCH(Tabulka!L$2,Přehled_body!$E$1:$ED$1,0)),)=0,0.00000000001,IFERROR(INDEX(Přehled_body!$E$3:$ED$130,MATCH(Tabulka!$AI57,Přehled_body!$A$3:$A$130,0),MATCH(Tabulka!L$2,Přehled_body!$E$1:$ED$1,0)),)))","v":0},{"$f":"IF(IFERROR(INDEX(Přehled_body!$E$3:$ED$130,MATCH(Tabulka!$AI57,Přehled_body!$A$3:$A$130,0),MATCH(Tabulka!M$2,Přehled_body!$E$1:$ED$1,0)),)=\"\",,IF(IFERROR(INDEX(Přehled_body!$E$3:$ED$130,MATCH(Tabulka!$AI57,Přehled_body!$A$3:$A$130,0),MATCH(Tabulka!M$2,Přehled_body!$E$1:$ED$1,0)),)=0,0.00000000001,IFERROR(INDEX(Přehled_body!$E$3:$ED$130,MATCH(Tabulka!$AI57,Přehled_body!$A$3:$A$130,0),MATCH(Tabulka!M$2,Přehled_body!$E$1:$ED$1,0)),)))","v":3},{"$f":"IF(IFERROR(INDEX(Přehled_body!$E$3:$ED$130,MATCH(Tabulka!$AI57,Přehled_body!$A$3:$A$130,0),MATCH(Tabulka!N$2,Přehled_body!$E$1:$ED$1,0)),)=\"\",,IF(IFERROR(INDEX(Přehled_body!$E$3:$ED$130,MATCH(Tabulka!$AI57,Přehled_body!$A$3:$A$130,0),MATCH(Tabulka!N$2,Přehled_body!$E$1:$ED$1,0)),)=0,0.00000000001,IFERROR(INDEX(Přehled_body!$E$3:$ED$130,MATCH(Tabulka!$AI57,Přehled_body!$A$3:$A$130,0),MATCH(Tabulka!N$2,Přehled_body!$E$1:$ED$1,0)),)))","v":0},{"$f":"IF(IFERROR(INDEX(Přehled_body!$E$3:$ED$130,MATCH(Tabulka!$AI57,Přehled_body!$A$3:$A$130,0),MATCH(Tabulka!O$2,Přehled_body!$E$1:$ED$1,0)),)=\"\",,IF(IFERROR(INDEX(Přehled_body!$E$3:$ED$130,MATCH(Tabulka!$AI57,Přehled_body!$A$3:$A$130,0),MATCH(Tabulka!O$2,Přehled_body!$E$1:$ED$1,0)),)=0,0.00000000001,IFERROR(INDEX(Přehled_body!$E$3:$ED$130,MATCH(Tabulka!$AI57,Přehled_body!$A$3:$A$130,0),MATCH(Tabulka!O$2,Přehled_body!$E$1:$ED$1,0)),)))","v":0},{"$f":"IF(IFERROR(INDEX(Přehled_body!$E$3:$ED$130,MATCH(Tabulka!$AI57,Přehled_body!$A$3:$A$130,0),MATCH(Tabulka!P$2,Přehled_body!$E$1:$ED$1,0)),)=\"\",,IF(IFERROR(INDEX(Přehled_body!$E$3:$ED$130,MATCH(Tabulka!$AI57,Přehled_body!$A$3:$A$130,0),MATCH(Tabulka!P$2,Přehled_body!$E$1:$ED$1,0)),)=0,0.00000000001,IFERROR(INDEX(Přehled_body!$E$3:$ED$130,MATCH(Tabulka!$AI57,Přehled_body!$A$3:$A$130,0),MATCH(Tabulka!P$2,Přehled_body!$E$1:$ED$1,0)),)))","v":0},{"$f":"IF(IFERROR(INDEX(Přehled_body!$E$3:$ED$130,MATCH(Tabulka!$AI57,Přehled_body!$A$3:$A$130,0),MATCH(Tabulka!Q$2,Přehled_body!$E$1:$ED$1,0)),)=\"\",,IF(IFERROR(INDEX(Přehled_body!$E$3:$ED$130,MATCH(Tabulka!$AI57,Přehled_body!$A$3:$A$130,0),MATCH(Tabulka!Q$2,Přehled_body!$E$1:$ED$1,0)),)=0,0.00000000001,IFERROR(INDEX(Přehled_body!$E$3:$ED$130,MATCH(Tabulka!$AI57,Přehled_body!$A$3:$A$130,0),MATCH(Tabulka!Q$2,Přehled_body!$E$1:$ED$1,0)),)))","v":0},{"$f":"IF(IFERROR(INDEX(Přehled_body!$E$3:$ED$130,MATCH(Tabulka!$AI57,Přehled_body!$A$3:$A$130,0),MATCH(Tabulka!R$2,Přehled_body!$E$1:$ED$1,0)),)=\"\",,IF(IFERROR(INDEX(Přehled_body!$E$3:$ED$130,MATCH(Tabulka!$AI57,Přehled_body!$A$3:$A$130,0),MATCH(Tabulka!R$2,Přehled_body!$E$1:$ED$1,0)),)=0,0.00000000001,IFERROR(INDEX(Přehled_body!$E$3:$ED$130,MATCH(Tabulka!$AI57,Přehled_body!$A$3:$A$130,0),MATCH(Tabulka!R$2,Přehled_body!$E$1:$ED$1,0)),)))","v":0},{"$f":"IF(IFERROR(INDEX(Přehled_body!$E$3:$ED$130,MATCH(Tabulka!$AI57,Přehled_body!$A$3:$A$130,0),MATCH(Tabulka!S$2,Přehled_body!$E$1:$ED$1,0)),)=\"\",,IF(IFERROR(INDEX(Přehled_body!$E$3:$ED$130,MATCH(Tabulka!$AI57,Přehled_body!$A$3:$A$130,0),MATCH(Tabulka!S$2,Přehled_body!$E$1:$ED$1,0)),)=0,0.00000000001,IFERROR(INDEX(Přehled_body!$E$3:$ED$130,MATCH(Tabulka!$AI57,Přehled_body!$A$3:$A$130,0),MATCH(Tabulka!S$2,Přehled_body!$E$1:$ED$1,0)),)))","v":0},{"$f":"IF(IFERROR(INDEX(Přehled_body!$E$3:$ED$130,MATCH(Tabulka!$AI57,Přehled_body!$A$3:$A$130,0),MATCH(Tabulka!T$2,Přehled_body!$E$1:$ED$1,0)),)=\"\",,IF(IFERROR(INDEX(Přehled_body!$E$3:$ED$130,MATCH(Tabulka!$AI57,Přehled_body!$A$3:$A$130,0),MATCH(Tabulka!T$2,Přehled_body!$E$1:$ED$1,0)),)=0,0.00000000001,IFERROR(INDEX(Přehled_body!$E$3:$ED$130,MATCH(Tabulka!$AI57,Přehled_body!$A$3:$A$130,0),MATCH(Tabulka!T$2,Přehled_body!$E$1:$ED$1,0)),)))","v":2},{"$f":"IF(IFERROR(INDEX(Přehled_body!$E$3:$ED$130,MATCH(Tabulka!$AI57,Přehled_body!$A$3:$A$130,0),MATCH(Tabulka!U$2,Přehled_body!$E$1:$ED$1,0)),)=\"\",,IF(IFERROR(INDEX(Přehled_body!$E$3:$ED$130,MATCH(Tabulka!$AI57,Přehled_body!$A$3:$A$130,0),MATCH(Tabulka!U$2,Přehled_body!$E$1:$ED$1,0)),)=0,0.00000000001,IFERROR(INDEX(Přehled_body!$E$3:$ED$130,MATCH(Tabulka!$AI57,Přehled_body!$A$3:$A$130,0),MATCH(Tabulka!U$2,Přehled_body!$E$1:$ED$1,0)),)))","v":0},{"$f":"IF(IFERROR(INDEX(Přehled_body!$E$3:$ED$130,MATCH(Tabulka!$AI57,Přehled_body!$A$3:$A$130,0),MATCH(Tabulka!V$2,Přehled_body!$E$1:$ED$1,0)),)=\"\",,IF(IFERROR(INDEX(Přehled_body!$E$3:$ED$130,MATCH(Tabulka!$AI57,Přehled_body!$A$3:$A$130,0),MATCH(Tabulka!V$2,Přehled_body!$E$1:$ED$1,0)),)=0,0.00000000001,IFERROR(INDEX(Přehled_body!$E$3:$ED$130,MATCH(Tabulka!$AI57,Přehled_body!$A$3:$A$130,0),MATCH(Tabulka!V$2,Přehled_body!$E$1:$ED$1,0)),)))","v":0},{"$f":"IF(IFERROR(INDEX(Přehled_body!$E$3:$ED$130,MATCH(Tabulka!$AI57,Přehled_body!$A$3:$A$130,0),MATCH(Tabulka!W$2,Přehled_body!$E$1:$ED$1,0)),)=\"\",,IF(IFERROR(INDEX(Přehled_body!$E$3:$ED$130,MATCH(Tabulka!$AI57,Přehled_body!$A$3:$A$130,0),MATCH(Tabulka!W$2,Přehled_body!$E$1:$ED$1,0)),)=0,0.00000000001,IFERROR(INDEX(Přehled_body!$E$3:$ED$130,MATCH(Tabulka!$AI57,Přehled_body!$A$3:$A$130,0),MATCH(Tabulka!W$2,Přehled_body!$E$1:$ED$1,0)),)))","v":0},{"$f":"IF(IFERROR(INDEX(Přehled_body!$E$3:$ED$130,MATCH(Tabulka!$AI57,Přehled_body!$A$3:$A$130,0),MATCH(Tabulka!X$2,Přehled_body!$E$1:$ED$1,0)),)=\"\",,IF(IFERROR(INDEX(Přehled_body!$E$3:$ED$130,MATCH(Tabulka!$AI57,Přehled_body!$A$3:$A$130,0),MATCH(Tabulka!X$2,Přehled_body!$E$1:$ED$1,0)),)=0,0.00000000001,IFERROR(INDEX(Přehled_body!$E$3:$ED$130,MATCH(Tabulka!$AI57,Přehled_body!$A$3:$A$130,0),MATCH(Tabulka!X$2,Přehled_body!$E$1:$ED$1,0)),)))","v":0},{"$f":"IF(IFERROR(INDEX(Přehled_body!$E$3:$ED$130,MATCH(Tabulka!$AI57,Přehled_body!$A$3:$A$130,0),MATCH(Tabulka!Y$2,Přehled_body!$E$1:$ED$1,0)),)=\"\",,IF(IFERROR(INDEX(Přehled_body!$E$3:$ED$130,MATCH(Tabulka!$AI57,Přehled_body!$A$3:$A$130,0),MATCH(Tabulka!Y$2,Přehled_body!$E$1:$ED$1,0)),)=0,0.00000000001,IFERROR(INDEX(Přehled_body!$E$3:$ED$130,MATCH(Tabulka!$AI57,Přehled_body!$A$3:$A$130,0),MATCH(Tabulka!Y$2,Přehled_body!$E$1:$ED$1,0)),)))","v":0},{"$f":"IF(IFERROR(INDEX(Přehled_body!$E$3:$ED$130,MATCH(Tabulka!$AI57,Přehled_body!$A$3:$A$130,0),MATCH(Tabulka!Z$2,Přehled_body!$E$1:$ED$1,0)),)=\"\",,IF(IFERROR(INDEX(Přehled_body!$E$3:$ED$130,MATCH(Tabulka!$AI57,Přehled_body!$A$3:$A$130,0),MATCH(Tabulka!Z$2,Přehled_body!$E$1:$ED$1,0)),)=0,0.00000000001,IFERROR(INDEX(Přehled_body!$E$3:$ED$130,MATCH(Tabulka!$AI57,Přehled_body!$A$3:$A$130,0),MATCH(Tabulka!Z$2,Přehled_body!$E$1:$ED$1,0)),)))","v":0},{"$f":"IF(IFERROR(INDEX(Přehled_body!$E$3:$ED$130,MATCH(Tabulka!$AI57,Přehled_body!$A$3:$A$130,0),MATCH(Tabulka!AA$2,Přehled_body!$E$1:$ED$1,0)),)=\"\",,IF(IFERROR(INDEX(Přehled_body!$E$3:$ED$130,MATCH(Tabulka!$AI57,Přehled_body!$A$3:$A$130,0),MATCH(Tabulka!AA$2,Přehled_body!$E$1:$ED$1,0)),)=0,0.00000000001,IFERROR(INDEX(Přehled_body!$E$3:$ED$130,MATCH(Tabulka!$AI57,Přehled_body!$A$3:$A$130,0),MATCH(Tabulka!AA$2,Přehled_body!$E$1:$ED$1,0)),)))","v":0},{"$f":"IF(IFERROR(INDEX(Přehled_body!$E$3:$ED$130,MATCH(Tabulka!$AI57,Přehled_body!$A$3:$A$130,0),MATCH(Tabulka!AB$2,Přehled_body!$E$1:$ED$1,0)),)=\"\",,IF(IFERROR(INDEX(Přehled_body!$E$3:$ED$130,MATCH(Tabulka!$AI57,Přehled_body!$A$3:$A$130,0),MATCH(Tabulka!AB$2,Přehled_body!$E$1:$ED$1,0)),)=0,0.00000000001,IFERROR(INDEX(Přehled_body!$E$3:$ED$130,MATCH(Tabulka!$AI57,Přehled_body!$A$3:$A$130,0),MATCH(Tabulka!AB$2,Přehled_body!$E$1:$ED$1,0)),)))","v":0},{"$f":"IF(IFERROR(INDEX(Přehled_body!$E$3:$ED$130,MATCH(Tabulka!$AI57,Přehled_body!$A$3:$A$130,0),MATCH(Tabulka!AC$2,Přehled_body!$E$1:$ED$1,0)),)=\"\",,IF(IFERROR(INDEX(Přehled_body!$E$3:$ED$130,MATCH(Tabulka!$AI57,Přehled_body!$A$3:$A$130,0),MATCH(Tabulka!AC$2,Přehled_body!$E$1:$ED$1,0)),)=0,0.00000000001,IFERROR(INDEX(Přehled_body!$E$3:$ED$130,MATCH(Tabulka!$AI57,Přehled_body!$A$3:$A$130,0),MATCH(Tabulka!AC$2,Přehled_body!$E$1:$ED$1,0)),)))","v":0},{"$f":"IF(IFERROR(INDEX(Přehled_body!$E$3:$ED$130,MATCH(Tabulka!$AI57,Přehled_body!$A$3:$A$130,0),MATCH(Tabulka!AD$2,Přehled_body!$E$1:$ED$1,0)),)=\"\",,IF(IFERROR(INDEX(Přehled_body!$E$3:$ED$130,MATCH(Tabulka!$AI57,Přehled_body!$A$3:$A$130,0),MATCH(Tabulka!AD$2,Přehled_body!$E$1:$ED$1,0)),)=0,0.00000000001,IFERROR(INDEX(Přehled_body!$E$3:$ED$130,MATCH(Tabulka!$AI57,Přehled_body!$A$3:$A$130,0),MATCH(Tabulka!AD$2,Přehled_body!$E$1:$ED$1,0)),)))","v":0},{"$f":"IF(SUM(AG54)<2,-90000+SUM(D57:AD57),SUM(D57:AD57))","v":8},null,null,8,{"$f":"CONCATENATE($B$55,\" \",$B$56,C57)","v":"Kuba ŠedivýPřehozy"},null,null,3,null,null,null,{"$f":"CONCATENATE(AQ57,\" \",AQ56)","v":"Perneker Pavel"},"Perneker"]
[null,null,"Poč. kol",{"$f":"IF(IFERROR(INDEX(Přehled_body!$E$3:$ED$130,MATCH(Tabulka!$AI58,Přehled_body!$A$3:$A$130,0),MATCH(Tabulka!D$2,Přehled_body!$E$1:$ED$1,0)),)=\"\",,IF(IFERROR(INDEX(Přehled_body!$E$3:$ED$130,MATCH(Tabulka!$AI58,Přehled_body!$A$3:$A$130,0),MATCH(Tabulka!D$2,Přehled_body!$E$1:$ED$1,0)),)=0,0.00000000001,IFERROR(INDEX(Přehled_body!$E$3:$ED$130,MATCH(Tabulka!$AI58,Přehled_body!$A$3:$A$130,0),MATCH(Tabulka!D$2,Přehled_body!$E$1:$ED$1,0)),)))","v":3},{"$f":"IF(IFERROR(INDEX(Přehled_body!$E$3:$ED$130,MATCH(Tabulka!$AI58,Přehled_body!$A$3:$A$130,0),MATCH(Tabulka!E$2,Přehled_body!$E$1:$ED$1,0)),)=\"\",,IF(IFERROR(INDEX(Přehled_body!$E$3:$ED$130,MATCH(Tabulka!$AI58,Přehled_body!$A$3:$A$130,0),MATCH(Tabulka!E$2,Přehled_body!$E$1:$ED$1,0)),)=0,0.00000000001,IFERROR(INDEX(Přehled_body!$E$3:$ED$130,MATCH(Tabulka!$AI58,Přehled_body!$A$3:$A$130,0),MATCH(Tabulka!E$2,Přehled_body!$E$1:$ED$1,0)),)))","v":0},{"$f":"IF(IFERROR(INDEX(Přehled_body!$E$3:$ED$130,MATCH(Tabulka!$AI58,Přehled_body!$A$3:$A$130,0),MATCH(Tabulka!F$2,Přehled_body!$E$1:$ED$1,0)),)=\"\",,IF(IFERROR(INDEX(Přehled_body!$E$3:$ED$130,MATCH(Tabulka!$AI58,Přehled_body!$A$3:$A$130,0),MATCH(Tabulka!F$2,Přehled_body!$E$1:$ED$1,0)),)=0,0.00000000001,IFERROR(INDEX(Přehled_body!$E$3:$ED$130,MATCH(Tabulka!$AI58,Přehled_body!$A$3:$A$130,0),MATCH(Tabulka!F$2,Přehled_body!$E$1:$ED$1,0)),)))","v":0},{"$f":"IF(IFERROR(INDEX(Přehled_body!$E$3:$ED$130,MATCH(Tabulka!$AI58,Přehled_body!$A$3:$A$130,0),MATCH(Tabulka!G$2,Přehled_body!$E$1:$ED$1,0)),)=\"\",,IF(IFERROR(INDEX(Přehled_body!$E$3:$ED$130,MATCH(Tabulka!$AI58,Přehled_body!$A$3:$A$130,0),MATCH(Tabulka!G$2,Přehled_body!$E$1:$ED$1,0)),)=0,0.00000000001,IFERROR(INDEX(Přehled_body!$E$3:$ED$130,MATCH(Tabulka!$AI58,Přehled_body!$A$3:$A$130,0),MATCH(Tabulka!G$2,Přehled_body!$E$1:$ED$1,0)),)))","v":0},{"$f":"IF(IFERROR(INDEX(Přehled_body!$E$3:$ED$130,MATCH(Tabulka!$AI58,Přehled_body!$A$3:$A$130,0),MATCH(Tabulka!H$2,Přehled_body!$E$1:$ED$1,0)),)=\"\",,IF(IFERROR(INDEX(Přehled_body!$E$3:$ED$130,MATCH(Tabulka!$AI58,Přehled_body!$A$3:$A$130,0),MATCH(Tabulka!H$2,Přehled_body!$E$1:$ED$1,0)),)=0,0.00000000001,IFERROR(INDEX(Přehled_body!$E$3:$ED$130,MATCH(Tabulka!$AI58,Přehled_body!$A$3:$A$130,0),MATCH(Tabulka!H$2,Přehled_body!$E$1:$ED$1,0)),)))","v":0},{"$f":"IF(IFERROR(INDEX(Přehled_body!$E$3:$ED$130,MATCH(Tabulka!$AI58,Přehled_body!$A$3:$A$130,0),MATCH(Tabulka!I$2,Přehled_body!$E$1:$ED$1,0)),)=\"\",,IF(IFERROR(INDEX(Přehled_body!$E$3:$ED$130,MATCH(Tabulka!$AI58,Přehled_body!$A$3:$A$130,0),MATCH(Tabulka!I$2,Přehled_body!$E$1:$ED$1,0)),)=0,0.00000000001,IFERROR(INDEX(Přehled_body!$E$3:$ED$130,MATCH(Tabulka!$AI58,Přehled_body!$A$3:$A$130,0),MATCH(Tabulka!I$2,Přehled_body!$E$1:$ED$1,0)),)))","v":0},{"$f":"IF(IFERROR(INDEX(Přehled_body!$E$3:$ED$130,MATCH(Tabulka!$AI58,Přehled_body!$A$3:$A$130,0),MATCH(Tabulka!J$2,Přehled_body!$E$1:$ED$1,0)),)=\"\",,IF(IFERROR(INDEX(Přehled_body!$E$3:$ED$130,MATCH(Tabulka!$AI58,Přehled_body!$A$3:$A$130,0),MATCH(Tabulka!J$2,Přehled_body!$E$1:$ED$1,0)),)=0,0.00000000001,IFERROR(INDEX(Přehled_body!$E$3:$ED$130,MATCH(Tabulka!$AI58,Přehled_body!$A$3:$A$130,0),MATCH(Tabulka!J$2,Přehled_body!$E$1:$ED$1,0)),)))","v":0},{"$f":"IF(IFERROR(INDEX(Přehled_body!$E$3:$ED$130,MATCH(Tabulka!$AI58,Přehled_body!$A$3:$A$130,0),MATCH(Tabulka!K$2,Přehled_body!$E$1:$ED$1,0)),)=\"\",,IF(IFERROR(INDEX(Přehled_body!$E$3:$ED$130,MATCH(Tabulka!$AI58,Přehled_body!$A$3:$A$130,0),MATCH(Tabulka!K$2,Přehled_body!$E$1:$ED$1,0)),)=0,0.00000000001,IFERROR(INDEX(Přehled_body!$E$3:$ED$130,MATCH(Tabulka!$AI58,Přehled_body!$A$3:$A$130,0),MATCH(Tabulka!K$2,Přehled_body!$E$1:$ED$1,0)),)))","v":0},{"$f":"IF(IFERROR(INDEX(Přehled_body!$E$3:$ED$130,MATCH(Tabulka!$AI58,Přehled_body!$A$3:$A$130,0),MATCH(Tabulka!L$2,Přehled_body!$E$1:$ED$1,0)),)=\"\",,IF(IFERROR(INDEX(Přehled_body!$E$3:$ED$130,MATCH(Tabulka!$AI58,Přehled_body!$A$3:$A$130,0),MATCH(Tabulka!L$2,Přehled_body!$E$1:$ED$1,0)),)=0,0.00000000001,IFERROR(INDEX(Přehled_body!$E$3:$ED$130,MATCH(Tabulka!$AI58,Přehled_body!$A$3:$A$130,0),MATCH(Tabulka!L$2,Přehled_body!$E$1:$ED$1,0)),)))","v":0},{"$f":"IF(IFERROR(INDEX(Přehled_body!$E$3:$ED$130,MATCH(Tabulka!$AI58,Přehled_body!$A$3:$A$130,0),MATCH(Tabulka!M$2,Přehled_body!$E$1:$ED$1,0)),)=\"\",,IF(IFERROR(INDEX(Přehled_body!$E$3:$ED$130,MATCH(Tabulka!$AI58,Přehled_body!$A$3:$A$130,0),MATCH(Tabulka!M$2,Přehled_body!$E$1:$ED$1,0)),)=0,0.00000000001,IFERROR(INDEX(Přehled_body!$E$3:$ED$130,MATCH(Tabulka!$AI58,Přehled_body!$A$3:$A$130,0),MATCH(Tabulka!M$2,Přehled_body!$E$1:$ED$1,0)),)))","v":4},{"$f":"IF(IFERROR(INDEX(Přehled_body!$E$3:$ED$130,MATCH(Tabulka!$AI58,Přehled_body!$A$3:$A$130,0),MATCH(Tabulka!N$2,Přehled_body!$E$1:$ED$1,0)),)=\"\",,IF(IFERROR(INDEX(Přehled_body!$E$3:$ED$130,MATCH(Tabulka!$AI58,Přehled_body!$A$3:$A$130,0),MATCH(Tabulka!N$2,Přehled_body!$E$1:$ED$1,0)),)=0,0.00000000001,IFERROR(INDEX(Přehled_body!$E$3:$ED$130,MATCH(Tabulka!$AI58,Přehled_body!$A$3:$A$130,0),MATCH(Tabulka!N$2,Přehled_body!$E$1:$ED$1,0)),)))","v":0},{"$f":"IF(IFERROR(INDEX(Přehled_body!$E$3:$ED$130,MATCH(Tabulka!$AI58,Přehled_body!$A$3:$A$130,0),MATCH(Tabulka!O$2,Přehled_body!$E$1:$ED$1,0)),)=\"\",,IF(IFERROR(INDEX(Přehled_body!$E$3:$ED$130,MATCH(Tabulka!$AI58,Přehled_body!$A$3:$A$130,0),MATCH(Tabulka!O$2,Přehled_body!$E$1:$ED$1,0)),)=0,0.00000000001,IFERROR(INDEX(Přehled_body!$E$3:$ED$130,MATCH(Tabulka!$AI58,Přehled_body!$A$3:$A$130,0),MATCH(Tabulka!O$2,Přehled_body!$E$1:$ED$1,0)),)))","v":0},{"$f":"IF(IFERROR(INDEX(Přehled_body!$E$3:$ED$130,MATCH(Tabulka!$AI58,Přehled_body!$A$3:$A$130,0),MATCH(Tabulka!P$2,Přehled_body!$E$1:$ED$1,0)),)=\"\",,IF(IFERROR(INDEX(Přehled_body!$E$3:$ED$130,MATCH(Tabulka!$AI58,Přehled_body!$A$3:$A$130,0),MATCH(Tabulka!P$2,Přehled_body!$E$1:$ED$1,0)),)=0,0.00000000001,IFERROR(INDEX(Přehled_body!$E$3:$ED$130,MATCH(Tabulka!$AI58,Přehled_body!$A$3:$A$130,0),MATCH(Tabulka!P$2,Přehled_body!$E$1:$ED$1,0)),)))","v":0},{"$f":"IF(IFERROR(INDEX(Přehled_body!$E$3:$ED$130,MATCH(Tabulka!$AI58,Přehled_body!$A$3:$A$130,0),MATCH(Tabulka!Q$2,Přehled_body!$E$1:$ED$1,0)),)=\"\",,IF(IFERROR(INDEX(Přehled_body!$E$3:$ED$130,MATCH(Tabulka!$AI58,Přehled_body!$A$3:$A$130,0),MATCH(Tabulka!Q$2,Přehled_body!$E$1:$ED$1,0)),)=0,0.00000000001,IFERROR(INDEX(Přehled_body!$E$3:$ED$130,MATCH(Tabulka!$AI58,Přehled_body!$A$3:$A$130,0),MATCH(Tabulka!Q$2,Přehled_body!$E$1:$ED$1,0)),)))","v":0},{"$f":"IF(IFERROR(INDEX(Přehled_body!$E$3:$ED$130,MATCH(Tabulka!$AI58,Přehled_body!$A$3:$A$130,0),MATCH(Tabulka!R$2,Přehled_body!$E$1:$ED$1,0)),)=\"\",,IF(IFERROR(INDEX(Přehled_body!$E$3:$ED$130,MATCH(Tabulka!$AI58,Přehled_body!$A$3:$A$130,0),MATCH(Tabulka!R$2,Přehled_body!$E$1:$ED$1,0)),)=0,0.00000000001,IFERROR(INDEX(Přehled_body!$E$3:$ED$130,MATCH(Tabulka!$AI58,Přehled_body!$A$3:$A$130,0),MATCH(Tabulka!R$2,Přehled_body!$E$1:$ED$1,0)),)))","v":0},{"$f":"IF(IFERROR(INDEX(Přehled_body!$E$3:$ED$130,MATCH(Tabulka!$AI58,Přehled_body!$A$3:$A$130,0),MATCH(Tabulka!S$2,Přehled_body!$E$1:$ED$1,0)),)=\"\",,IF(IFERROR(INDEX(Přehled_body!$E$3:$ED$130,MATCH(Tabulka!$AI58,Přehled_body!$A$3:$A$130,0),MATCH(Tabulka!S$2,Přehled_body!$E$1:$ED$1,0)),)=0,0.00000000001,IFERROR(INDEX(Přehled_body!$E$3:$ED$130,MATCH(Tabulka!$AI58,Přehled_body!$A$3:$A$130,0),MATCH(Tabulka!S$2,Přehled_body!$E$1:$ED$1,0)),)))","v":0},{"$f":"IF(IFERROR(INDEX(Přehled_body!$E$3:$ED$130,MATCH(Tabulka!$AI58,Přehled_body!$A$3:$A$130,0),MATCH(Tabulka!T$2,Přehled_body!$E$1:$ED$1,0)),)=\"\",,IF(IFERROR(INDEX(Přehled_body!$E$3:$ED$130,MATCH(Tabulka!$AI58,Přehled_body!$A$3:$A$130,0),MATCH(Tabulka!T$2,Přehled_body!$E$1:$ED$1,0)),)=0,0.00000000001,IFERROR(INDEX(Přehled_body!$E$3:$ED$130,MATCH(Tabulka!$AI58,Přehled_body!$A$3:$A$130,0),MATCH(Tabulka!T$2,Přehled_body!$E$1:$ED$1,0)),)))","v":4},{"$f":"IF(IFERROR(INDEX(Přehled_body!$E$3:$ED$130,MATCH(Tabulka!$AI58,Přehled_body!$A$3:$A$130,0),MATCH(Tabulka!U$2,Přehled_body!$E$1:$ED$1,0)),)=\"\",,IF(IFERROR(INDEX(Přehled_body!$E$3:$ED$130,MATCH(Tabulka!$AI58,Přehled_body!$A$3:$A$130,0),MATCH(Tabulka!U$2,Přehled_body!$E$1:$ED$1,0)),)=0,0.00000000001,IFERROR(INDEX(Přehled_body!$E$3:$ED$130,MATCH(Tabulka!$AI58,Přehled_body!$A$3:$A$130,0),MATCH(Tabulka!U$2,Přehled_body!$E$1:$ED$1,0)),)))","v":0},{"$f":"IF(IFERROR(INDEX(Přehled_body!$E$3:$ED$130,MATCH(Tabulka!$AI58,Přehled_body!$A$3:$A$130,0),MATCH(Tabulka!V$2,Přehled_body!$E$1:$ED$1,0)),)=\"\",,IF(IFERROR(INDEX(Přehled_body!$E$3:$ED$130,MATCH(Tabulka!$AI58,Přehled_body!$A$3:$A$130,0),MATCH(Tabulka!V$2,Přehled_body!$E$1:$ED$1,0)),)=0,0.00000000001,IFERROR(INDEX(Přehled_body!$E$3:$ED$130,MATCH(Tabulka!$AI58,Přehled_body!$A$3:$A$130,0),MATCH(Tabulka!V$2,Přehled_body!$E$1:$ED$1,0)),)))","v":0},{"$f":"IF(IFERROR(INDEX(Přehled_body!$E$3:$ED$130,MATCH(Tabulka!$AI58,Přehled_body!$A$3:$A$130,0),MATCH(Tabulka!W$2,Přehled_body!$E$1:$ED$1,0)),)=\"\",,IF(IFERROR(INDEX(Přehled_body!$E$3:$ED$130,MATCH(Tabulka!$AI58,Přehled_body!$A$3:$A$130,0),MATCH(Tabulka!W$2,Přehled_body!$E$1:$ED$1,0)),)=0,0.00000000001,IFERROR(INDEX(Přehled_body!$E$3:$ED$130,MATCH(Tabulka!$AI58,Přehled_body!$A$3:$A$130,0),MATCH(Tabulka!W$2,Přehled_body!$E$1:$ED$1,0)),)))","v":0},{"$f":"IF(IFERROR(INDEX(Přehled_body!$E$3:$ED$130,MATCH(Tabulka!$AI58,Přehled_body!$A$3:$A$130,0),MATCH(Tabulka!X$2,Přehled_body!$E$1:$ED$1,0)),)=\"\",,IF(IFERROR(INDEX(Přehled_body!$E$3:$ED$130,MATCH(Tabulka!$AI58,Přehled_body!$A$3:$A$130,0),MATCH(Tabulka!X$2,Přehled_body!$E$1:$ED$1,0)),)=0,0.00000000001,IFERROR(INDEX(Přehled_body!$E$3:$ED$130,MATCH(Tabulka!$AI58,Přehled_body!$A$3:$A$130,0),MATCH(Tabulka!X$2,Přehled_body!$E$1:$ED$1,0)),)))","v":0},{"$f":"IF(IFERROR(INDEX(Přehled_body!$E$3:$ED$130,MATCH(Tabulka!$AI58,Přehled_body!$A$3:$A$130,0),MATCH(Tabulka!Y$2,Přehled_body!$E$1:$ED$1,0)),)=\"\",,IF(IFERROR(INDEX(Přehled_body!$E$3:$ED$130,MATCH(Tabulka!$AI58,Přehled_body!$A$3:$A$130,0),MATCH(Tabulka!Y$2,Přehled_body!$E$1:$ED$1,0)),)=0,0.00000000001,IFERROR(INDEX(Přehled_body!$E$3:$ED$130,MATCH(Tabulka!$AI58,Přehled_body!$A$3:$A$130,0),MATCH(Tabulka!Y$2,Přehled_body!$E$1:$ED$1,0)),)))","v":0},{"$f":"IF(IFERROR(INDEX(Přehled_body!$E$3:$ED$130,MATCH(Tabulka!$AI58,Přehled_body!$A$3:$A$130,0),MATCH(Tabulka!Z$2,Přehled_body!$E$1:$ED$1,0)),)=\"\",,IF(IFERROR(INDEX(Přehled_body!$E$3:$ED$130,MATCH(Tabulka!$AI58,Přehled_body!$A$3:$A$130,0),MATCH(Tabulka!Z$2,Přehled_body!$E$1:$ED$1,0)),)=0,0.00000000001,IFERROR(INDEX(Přehled_body!$E$3:$ED$130,MATCH(Tabulka!$AI58,Přehled_body!$A$3:$A$130,0),MATCH(Tabulka!Z$2,Přehled_body!$E$1:$ED$1,0)),)))","v":0},{"$f":"IF(IFERROR(INDEX(Přehled_body!$E$3:$ED$130,MATCH(Tabulka!$AI58,Přehled_body!$A$3:$A$130,0),MATCH(Tabulka!AA$2,Přehled_body!$E$1:$ED$1,0)),)=\"\",,IF(IFERROR(INDEX(Přehled_body!$E$3:$ED$130,MATCH(Tabulka!$AI58,Přehled_body!$A$3:$A$130,0),MATCH(Tabulka!AA$2,Přehled_body!$E$1:$ED$1,0)),)=0,0.00000000001,IFERROR(INDEX(Přehled_body!$E$3:$ED$130,MATCH(Tabulka!$AI58,Přehled_body!$A$3:$A$130,0),MATCH(Tabulka!AA$2,Přehled_body!$E$1:$ED$1,0)),)))","v":0},{"$f":"IF(IFERROR(INDEX(Přehled_body!$E$3:$ED$130,MATCH(Tabulka!$AI58,Přehled_body!$A$3:$A$130,0),MATCH(Tabulka!AB$2,Přehled_body!$E$1:$ED$1,0)),)=\"\",,IF(IFERROR(INDEX(Přehled_body!$E$3:$ED$130,MATCH(Tabulka!$AI58,Přehled_body!$A$3:$A$130,0),MATCH(Tabulka!AB$2,Přehled_body!$E$1:$ED$1,0)),)=0,0.00000000001,IFERROR(INDEX(Přehled_body!$E$3:$ED$130,MATCH(Tabulka!$AI58,Přehled_body!$A$3:$A$130,0),MATCH(Tabulka!AB$2,Přehled_body!$E$1:$ED$1,0)),)))","v":0},{"$f":"IF(IFERROR(INDEX(Přehled_body!$E$3:$ED$130,MATCH(Tabulka!$AI58,Přehled_body!$A$3:$A$130,0),MATCH(Tabulka!AC$2,Přehled_body!$E$1:$ED$1,0)),)=\"\",,IF(IFERROR(INDEX(Přehled_body!$E$3:$ED$130,MATCH(Tabulka!$AI58,Přehled_body!$A$3:$A$130,0),MATCH(Tabulka!AC$2,Přehled_body!$E$1:$ED$1,0)),)=0,0.00000000001,IFERROR(INDEX(Přehled_body!$E$3:$ED$130,MATCH(Tabulka!$AI58,Přehled_body!$A$3:$A$130,0),MATCH(Tabulka!AC$2,Přehled_body!$E$1:$ED$1,0)),)))","v":0},{"$f":"IF(IFERROR(INDEX(Přehled_body!$E$3:$ED$130,MATCH(Tabulka!$AI58,Přehled_body!$A$3:$A$130,0),MATCH(Tabulka!AD$2,Přehled_body!$E$1:$ED$1,0)),)=\"\",,IF(IFERROR(INDEX(Přehled_body!$E$3:$ED$130,MATCH(Tabulka!$AI58,Přehled_body!$A$3:$A$130,0),MATCH(Tabulka!AD$2,Přehled_body!$E$1:$ED$1,0)),)=0,0.00000000001,IFERROR(INDEX(Přehled_body!$E$3:$ED$130,MATCH(Tabulka!$AI58,Přehled_body!$A$3:$A$130,0),MATCH(Tabulka!AD$2,Přehled_body!$E$1:$ED$1,0)),)))","v":0},{"$f":"IF(SUM(AG54)<2,-90000+SUM(D58:AD58),SUM(D58:AD58))","v":11},null,null,11,{"$f":"CONCATENATE($B$55,\" \",$B$56,C58)","v":"Kuba ŠedivýPoč. kol"},null,null,3]
[12,null,"Výhry",{"$f":"IF(IFERROR(INDEX(Přehled_body!$E$3:$ED$130,MATCH(Tabulka!$AI59,Přehled_body!$A$3:$A$130,0),MATCH(Tabulka!D$2,Přehled_body!$E$1:$ED$1,0)),)=\"\",,IF(IFERROR(INDEX(Přehled_body!$E$3:$ED$130,MATCH(Tabulka!$AI59,Přehled_body!$A$3:$A$130,0),MATCH(Tabulka!D$2,Přehled_body!$E$1:$ED$1,0)),)=0,0.00000000001,IFERROR(INDEX(Přehled_body!$E$3:$ED$130,MATCH(Tabulka!$AI59,Přehled_body!$A$3:$A$130,0),MATCH(Tabulka!D$2,Přehled_body!$E$1:$ED$1,0)),)))","v":9.9999999999999994E-12},{"$f":"IF(IFERROR(INDEX(Přehled_body!$E$3:$ED$130,MATCH(Tabulka!$AI59,Přehled_body!$A$3:$A$130,0),MATCH(Tabulka!E$2,Přehled_body!$E$1:$ED$1,0)),)=\"\",,IF(IFERROR(INDEX(Přehled_body!$E$3:$ED$130,MATCH(Tabulka!$AI59,Přehled_body!$A$3:$A$130,0),MATCH(Tabulka!E$2,Přehled_body!$E$1:$ED$1,0)),)=0,0.00000000001,IFERROR(INDEX(Přehled_body!$E$3:$ED$130,MATCH(Tabulka!$AI59,Přehled_body!$A$3:$A$130,0),MATCH(Tabulka!E$2,Přehled_body!$E$1:$ED$1,0)),)))","v":2},{"$f":"IF(IFERROR(INDEX(Přehled_body!$E$3:$ED$130,MATCH(Tabulka!$AI59,Přehled_body!$A$3:$A$130,0),MATCH(Tabulka!F$2,Přehled_body!$E$1:$ED$1,0)),)=\"\",,IF(IFERROR(INDEX(Přehled_body!$E$3:$ED$130,MATCH(Tabulka!$AI59,Přehled_body!$A$3:$A$130,0),MATCH(Tabulka!F$2,Přehled_body!$E$1:$ED$1,0)),)=0,0.00000000001,IFERROR(INDEX(Přehled_body!$E$3:$ED$130,MATCH(Tabulka!$AI59,Přehled_body!$A$3:$A$130,0),MATCH(Tabulka!F$2,Přehled_body!$E$1:$ED$1,0)),)))","v":0},{"$f":"IF(IFERROR(INDEX(Přehled_body!$E$3:$ED$130,MATCH(Tabulka!$AI59,Přehled_body!$A$3:$A$130,0),MATCH(Tabulka!G$2,Přehled_body!$E$1:$ED$1,0)),)=\"\",,IF(IFERROR(INDEX(Přehled_body!$E$3:$ED$130,MATCH(Tabulka!$AI59,Přehled_body!$A$3:$A$130,0),MATCH(Tabulka!G$2,Přehled_body!$E$1:$ED$1,0)),)=0,0.00000000001,IFERROR(INDEX(Přehled_body!$E$3:$ED$130,MATCH(Tabulka!$AI59,Přehled_body!$A$3:$A$130,0),MATCH(Tabulka!G$2,Přehled_body!$E$1:$ED$1,0)),)))","v":9.9999999999999994E-12},{"$f":"IF(IFERROR(INDEX(Přehled_body!$E$3:$ED$130,MATCH(Tabulka!$AI59,Přehled_body!$A$3:$A$130,0),MATCH(Tabulka!H$2,Přehled_body!$E$1:$ED$1,0)),)=\"\",,IF(IFERROR(INDEX(Přehled_body!$E$3:$ED$130,MATCH(Tabulka!$AI59,Přehled_body!$A$3:$A$130,0),MATCH(Tabulka!H$2,Přehled_body!$E$1:$ED$1,0)),)=0,0.00000000001,IFERROR(INDEX(Přehled_body!$E$3:$ED$130,MATCH(Tabulka!$AI59,Přehled_body!$A$3:$A$130,0),MATCH(Tabulka!H$2,Přehled_body!$E$1:$ED$1,0)),)))","v":9.9999999999999994E-12},{"$f":"IF(IFERROR(INDEX(Přehled_body!$E$3:$ED$130,MATCH(Tabulka!$AI59,Přehled_body!$A$3:$A$130,0),MATCH(Tabulka!I$2,Přehled_body!$E$1:$ED$1,0)),)=\"\",,IF(IFERROR(INDEX(Přehled_body!$E$3:$ED$130,MATCH(Tabulka!$AI59,Přehled_body!$A$3:$A$130,0),MATCH(Tabulka!I$2,Přehled_body!$E$1:$ED$1,0)),)=0,0.00000000001,IFERROR(INDEX(Přehled_body!$E$3:$ED$130,MATCH(Tabulka!$AI59,Přehled_body!$A$3:$A$130,0),MATCH(Tabulka!I$2,Přehled_body!$E$1:$ED$1,0)),)))","v":1},{"$f":"IF(IFERROR(INDEX(Přehled_body!$E$3:$ED$130,MATCH(Tabulka!$AI59,Přehled_body!$A$3:$A$130,0),MATCH(Tabulka!J$2,Přehled_body!$E$1:$ED$1,0)),)=\"\",,IF(IFERROR(INDEX(Přehled_body!$E$3:$ED$130,MATCH(Tabulka!$AI59,Přehled_body!$A$3:$A$130,0),MATCH(Tabulka!J$2,Přehled_body!$E$1:$ED$1,0)),)=0,0.00000000001,IFERROR(INDEX(Přehled_body!$E$3:$ED$130,MATCH(Tabulka!$AI59,Přehled_body!$A$3:$A$130,0),MATCH(Tabulka!J$2,Přehled_body!$E$1:$ED$1,0)),)))","v":1},{"$f":"IF(IFERROR(INDEX(Přehled_body!$E$3:$ED$130,MATCH(Tabulka!$AI59,Přehled_body!$A$3:$A$130,0),MATCH(Tabulka!K$2,Přehled_body!$E$1:$ED$1,0)),)=\"\",,IF(IFERROR(INDEX(Přehled_body!$E$3:$ED$130,MATCH(Tabulka!$AI59,Přehled_body!$A$3:$A$130,0),MATCH(Tabulka!K$2,Přehled_body!$E$1:$ED$1,0)),)=0,0.00000000001,IFERROR(INDEX(Přehled_body!$E$3:$ED$130,MATCH(Tabulka!$AI59,Přehled_body!$A$3:$A$130,0),MATCH(Tabulka!K$2,Přehled_body!$E$1:$ED$1,0)),)))","v":1},{"$f":"IF(IFERROR(INDEX(Přehled_body!$E$3:$ED$130,MATCH(Tabulka!$AI59,Přehled_body!$A$3:$A$130,0),MATCH(Tabulka!L$2,Přehled_body!$E$1:$ED$1,0)),)=\"\",,IF(IFERROR(INDEX(Přehled_body!$E$3:$ED$130,MATCH(Tabulka!$AI59,Přehled_body!$A$3:$A$130,0),MATCH(Tabulka!L$2,Přehled_body!$E$1:$ED$1,0)),)=0,0.00000000001,IFERROR(INDEX(Přehled_body!$E$3:$ED$130,MATCH(Tabulka!$AI59,Přehled_body!$A$3:$A$130,0),MATCH(Tabulka!L$2,Přehled_body!$E$1:$ED$1,0)),)))","v":1},{"$f":"IF(IFERROR(INDEX(Přehled_body!$E$3:$ED$130,MATCH(Tabulka!$AI59,Přehled_body!$A$3:$A$130,0),MATCH(Tabulka!M$2,Přehled_body!$E$1:$ED$1,0)),)=\"\",,IF(IFERROR(INDEX(Přehled_body!$E$3:$ED$130,MATCH(Tabulka!$AI59,Přehled_body!$A$3:$A$130,0),MATCH(Tabulka!M$2,Přehled_body!$E$1:$ED$1,0)),)=0,0.00000000001,IFERROR(INDEX(Přehled_body!$E$3:$ED$130,MATCH(Tabulka!$AI59,Přehled_body!$A$3:$A$130,0),MATCH(Tabulka!M$2,Přehled_body!$E$1:$ED$1,0)),)))","v":9.9999999999999994E-12},{"$f":"IF(IFERROR(INDEX(Přehled_body!$E$3:$ED$130,MATCH(Tabulka!$AI59,Přehled_body!$A$3:$A$130,0),MATCH(Tabulka!N$2,Přehled_body!$E$1:$ED$1,0)),)=\"\",,IF(IFERROR(INDEX(Přehled_body!$E$3:$ED$130,MATCH(Tabulka!$AI59,Přehled_body!$A$3:$A$130,0),MATCH(Tabulka!N$2,Přehled_body!$E$1:$ED$1,0)),)=0,0.00000000001,IFERROR(INDEX(Přehled_body!$E$3:$ED$130,MATCH(Tabulka!$AI59,Přehled_body!$A$3:$A$130,0),MATCH(Tabulka!N$2,Přehled_body!$E$1:$ED$1,0)),)))","v":0},{"$f":"IF(IFERROR(INDEX(Přehled_body!$E$3:$ED$130,MATCH(Tabulka!$AI59,Přehled_body!$A$3:$A$130,0),MATCH(Tabulka!O$2,Přehled_body!$E$1:$ED$1,0)),)=\"\",,IF(IFERROR(INDEX(Přehled_body!$E$3:$ED$130,MATCH(Tabulka!$AI59,Přehled_body!$A$3:$A$130,0),MATCH(Tabulka!O$2,Přehled_body!$E$1:$ED$1,0)),)=0,0.00000000001,IFERROR(INDEX(Přehled_body!$E$3:$ED$130,MATCH(Tabulka!$AI59,Přehled_body!$A$3:$A$130,0),MATCH(Tabulka!O$2,Přehled_body!$E$1:$ED$1,0)),)))","v":1},{"$f":"IF(IFERROR(INDEX(Přehled_body!$E$3:$ED$130,MATCH(Tabulka!$AI59,Přehled_body!$A$3:$A$130,0),MATCH(Tabulka!P$2,Přehled_body!$E$1:$ED$1,0)),)=\"\",,IF(IFERROR(INDEX(Přehled_body!$E$3:$ED$130,MATCH(Tabulka!$AI59,Přehled_body!$A$3:$A$130,0),MATCH(Tabulka!P$2,Přehled_body!$E$1:$ED$1,0)),)=0,0.00000000001,IFERROR(INDEX(Přehled_body!$E$3:$ED$130,MATCH(Tabulka!$AI59,Přehled_body!$A$3:$A$130,0),MATCH(Tabulka!P$2,Přehled_body!$E$1:$ED$1,0)),)))","v":2},{"$f":"IF(IFERROR(INDEX(Přehled_body!$E$3:$ED$130,MATCH(Tabulka!$AI59,Přehled_body!$A$3:$A$130,0),MATCH(Tabulka!Q$2,Přehled_body!$E$1:$ED$1,0)),)=\"\",,IF(IFERROR(INDEX(Přehled_body!$E$3:$ED$130,MATCH(Tabulka!$AI59,Přehled_body!$A$3:$A$130,0),MATCH(Tabulka!Q$2,Přehled_body!$E$1:$ED$1,0)),)=0,0.00000000001,IFERROR(INDEX(Přehled_body!$E$3:$ED$130,MATCH(Tabulka!$AI59,Přehled_body!$A$3:$A$130,0),MATCH(Tabulka!Q$2,Přehled_body!$E$1:$ED$1,0)),)))","v":2},{"$f":"IF(IFERROR(INDEX(Přehled_body!$E$3:$ED$130,MATCH(Tabulka!$AI59,Přehled_body!$A$3:$A$130,0),MATCH(Tabulka!R$2,Přehled_body!$E$1:$ED$1,0)),)=\"\",,IF(IFERROR(INDEX(Přehled_body!$E$3:$ED$130,MATCH(Tabulka!$AI59,Přehled_body!$A$3:$A$130,0),MATCH(Tabulka!R$2,Přehled_body!$E$1:$ED$1,0)),)=0,0.00000000001,IFERROR(INDEX(Přehled_body!$E$3:$ED$130,MATCH(Tabulka!$AI59,Přehled_body!$A$3:$A$130,0),MATCH(Tabulka!R$2,Přehled_body!$E$1:$ED$1,0)),)))","v":1},{"$f":"IF(IFERROR(INDEX(Přehled_body!$E$3:$ED$130,MATCH(Tabulka!$AI59,Přehled_body!$A$3:$A$130,0),MATCH(Tabulka!S$2,Přehled_body!$E$1:$ED$1,0)),)=\"\",,IF(IFERROR(INDEX(Přehled_body!$E$3:$ED$130,MATCH(Tabulka!$AI59,Přehled_body!$A$3:$A$130,0),MATCH(Tabulka!S$2,Přehled_body!$E$1:$ED$1,0)),)=0,0.00000000001,IFERROR(INDEX(Přehled_body!$E$3:$ED$130,MATCH(Tabulka!$AI59,Přehled_body!$A$3:$A$130,0),MATCH(Tabulka!S$2,Přehled_body!$E$1:$ED$1,0)),)))","v":1},{"$f":"IF(IFERROR(INDEX(Přehled_body!$E$3:$ED$130,MATCH(Tabulka!$AI59,Přehled_body!$A$3:$A$130,0),MATCH(Tabulka!T$2,Přehled_body!$E$1:$ED$1,0)),)=\"\",,IF(IFERROR(INDEX(Přehled_body!$E$3:$ED$130,MATCH(Tabulka!$AI59,Přehled_body!$A$3:$A$130,0),MATCH(Tabulka!T$2,Přehled_body!$E$1:$ED$1,0)),)=0,0.00000000001,IFERROR(INDEX(Přehled_body!$E$3:$ED$130,MATCH(Tabulka!$AI59,Přehled_body!$A$3:$A$130,0),MATCH(Tabulka!T$2,Přehled_body!$E$1:$ED$1,0)),)))","v":1},{"$f":"IF(IFERROR(INDEX(Přehled_body!$E$3:$ED$130,MATCH(Tabulka!$AI59,Přehled_body!$A$3:$A$130,0),MATCH(Tabulka!U$2,Přehled_body!$E$1:$ED$1,0)),)=\"\",,IF(IFERROR(INDEX(Přehled_body!$E$3:$ED$130,MATCH(Tabulka!$AI59,Přehled_body!$A$3:$A$130,0),MATCH(Tabulka!U$2,Přehled_body!$E$1:$ED$1,0)),)=0,0.00000000001,IFERROR(INDEX(Přehled_body!$E$3:$ED$130,MATCH(Tabulka!$AI59,Přehled_body!$A$3:$A$130,0),MATCH(Tabulka!U$2,Přehled_body!$E$1:$ED$1,0)),)))","v":0},{"$f":"IF(IFERROR(INDEX(Přehled_body!$E$3:$ED$130,MATCH(Tabulka!$AI59,Přehled_body!$A$3:$A$130,0),MATCH(Tabulka!V$2,Přehled_body!$E$1:$ED$1,0)),)=\"\",,IF(IFERROR(INDEX(Přehled_body!$E$3:$ED$130,MATCH(Tabulka!$AI59,Přehled_body!$A$3:$A$130,0),MATCH(Tabulka!V$2,Přehled_body!$E$1:$ED$1,0)),)=0,0.00000000001,IFERROR(INDEX(Přehled_body!$E$3:$ED$130,MATCH(Tabulka!$AI59,Přehled_body!$A$3:$A$130,0),MATCH(Tabulka!V$2,Přehled_body!$E$1:$ED$1,0)),)))","v":0},{"$f":"IF(IFERROR(INDEX(Přehled_body!$E$3:$ED$130,MATCH(Tabulka!$AI59,Přehled_body!$A$3:$A$130,0),MATCH(Tabulka!W$2,Přehled_body!$E$1:$ED$1,0)),)=\"\",,IF(IFERROR(INDEX(Přehled_body!$E$3:$ED$130,MATCH(Tabulka!$AI59,Přehled_body!$A$3:$A$130,0),MATCH(Tabulka!W$2,Přehled_body!$E$1:$ED$1,0)),)=0,0.00000000001,IFERROR(INDEX(Přehled_body!$E$3:$ED$130,MATCH(Tabulka!$AI59,Přehled_body!$A$3:$A$130,0),MATCH(Tabulka!W$2,Přehled_body!$E$1:$ED$1,0)),)))","v":0},{"$f":"IF(IFERROR(INDEX(Přehled_body!$E$3:$ED$130,MATCH(Tabulka!$AI59,Přehled_body!$A$3:$A$130,0),MATCH(Tabulka!X$2,Přehled_body!$E$1:$ED$1,0)),)=\"\",,IF(IFERROR(INDEX(Přehled_body!$E$3:$ED$130,MATCH(Tabulka!$AI59,Přehled_body!$A$3:$A$130,0),MATCH(Tabulka!X$2,Přehled_body!$E$1:$ED$1,0)),)=0,0.00000000001,IFERROR(INDEX(Přehled_body!$E$3:$ED$130,MATCH(Tabulka!$AI59,Přehled_body!$A$3:$A$130,0),MATCH(Tabulka!X$2,Přehled_body!$E$1:$ED$1,0)),)))","v":0},{"$f":"IF(IFERROR(INDEX(Přehled_body!$E$3:$ED$130,MATCH(Tabulka!$AI59,Přehled_body!$A$3:$A$130,0),MATCH(Tabulka!Y$2,Přehled_body!$E$1:$ED$1,0)),)=\"\",,IF(IFERROR(INDEX(Přehled_body!$E$3:$ED$130,MATCH(Tabulka!$AI59,Přehled_body!$A$3:$A$130,0),MATCH(Tabulka!Y$2,Přehled_body!$E$1:$ED$1,0)),)=0,0.00000000001,IFERROR(INDEX(Přehled_body!$E$3:$ED$130,MATCH(Tabulka!$AI59,Přehled_body!$A$3:$A$130,0),MATCH(Tabulka!Y$2,Přehled_body!$E$1:$ED$1,0)),)))","v":0},{"$f":"IF(IFERROR(INDEX(Přehled_body!$E$3:$ED$130,MATCH(Tabulka!$AI59,Přehled_body!$A$3:$A$130,0),MATCH(Tabulka!Z$2,Přehled_body!$E$1:$ED$1,0)),)=\"\",,IF(IFERROR(INDEX(Přehled_body!$E$3:$ED$130,MATCH(Tabulka!$AI59,Přehled_body!$A$3:$A$130,0),MATCH(Tabulka!Z$2,Přehled_body!$E$1:$ED$1,0)),)=0,0.00000000001,IFERROR(INDEX(Přehled_body!$E$3:$ED$130,MATCH(Tabulka!$AI59,Přehled_body!$A$3:$A$130,0),MATCH(Tabulka!Z$2,Přehled_body!$E$1:$ED$1,0)),)))","v":0},{"$f":"IF(IFERROR(INDEX(Přehled_body!$E$3:$ED$130,MATCH(Tabulka!$AI59,Přehled_body!$A$3:$A$130,0),MATCH(Tabulka!AA$2,Přehled_body!$E$1:$ED$1,0)),)=\"\",,IF(IFERROR(INDEX(Přehled_body!$E$3:$ED$130,MATCH(Tabulka!$AI59,Přehled_body!$A$3:$A$130,0),MATCH(Tabulka!AA$2,Přehled_body!$E$1:$ED$1,0)),)=0,0.00000000001,IFERROR(INDEX(Přehled_body!$E$3:$ED$130,MATCH(Tabulka!$AI59,Přehled_body!$A$3:$A$130,0),MATCH(Tabulka!AA$2,Přehled_body!$E$1:$ED$1,0)),)))","v":0},{"$f":"IF(IFERROR(INDEX(Přehled_body!$E$3:$ED$130,MATCH(Tabulka!$AI59,Přehled_body!$A$3:$A$130,0),MATCH(Tabulka!AB$2,Přehled_body!$E$1:$ED$1,0)),)=\"\",,IF(IFERROR(INDEX(Přehled_body!$E$3:$ED$130,MATCH(Tabulka!$AI59,Přehled_body!$A$3:$A$130,0),MATCH(Tabulka!AB$2,Přehled_body!$E$1:$ED$1,0)),)=0,0.00000000001,IFERROR(INDEX(Přehled_body!$E$3:$ED$130,MATCH(Tabulka!$AI59,Přehled_body!$A$3:$A$130,0),MATCH(Tabulka!AB$2,Přehled_body!$E$1:$ED$1,0)),)))","v":0},{"$f":"IF(IFERROR(INDEX(Přehled_body!$E$3:$ED$130,MATCH(Tabulka!$AI59,Přehled_body!$A$3:$A$130,0),MATCH(Tabulka!AC$2,Přehled_body!$E$1:$ED$1,0)),)=\"\",,IF(IFERROR(INDEX(Přehled_body!$E$3:$ED$130,MATCH(Tabulka!$AI59,Přehled_body!$A$3:$A$130,0),MATCH(Tabulka!AC$2,Přehled_body!$E$1:$ED$1,0)),)=0,0.00000000001,IFERROR(INDEX(Přehled_body!$E$3:$ED$130,MATCH(Tabulka!$AI59,Přehled_body!$A$3:$A$130,0),MATCH(Tabulka!AC$2,Přehled_body!$E$1:$ED$1,0)),)))","v":0},{"$f":"IF(IFERROR(INDEX(Přehled_body!$E$3:$ED$130,MATCH(Tabulka!$AI59,Přehled_body!$A$3:$A$130,0),MATCH(Tabulka!AD$2,Přehled_body!$E$1:$ED$1,0)),)=\"\",,IF(IFERROR(INDEX(Přehled_body!$E$3:$ED$130,MATCH(Tabulka!$AI59,Přehled_body!$A$3:$A$130,0),MATCH(Tabulka!AD$2,Přehled_body!$E$1:$ED$1,0)),)=0,0.00000000001,IFERROR(INDEX(Přehled_body!$E$3:$ED$130,MATCH(Tabulka!$AI59,Přehled_body!$A$3:$A$130,0),MATCH(Tabulka!AD$2,Přehled_body!$E$1:$ED$1,0)),)))","v":0},{"$f":"IF(SUM(AG59)<2,-90000+SUM(D59:AD59),SUM(D59:AD59))","v":14.00000000004},null,{"$f":"COUNTIF(D59:AD59,\">0\")","v":15},14.00000000004,{"$f":"CONCATENATE($B$60,\" \",$B$61,C59)","v":"Standa RothVýhry"},null,null,15]
[{"$f":"CONCATENATE(B60,\" \",B61)","v":"Standa Roth"},"Standa","Prohry",{"$f":"IF(IFERROR(INDEX(Přehled_body!$E$3:$ED$130,MATCH(Tabulka!$AI60,Přehled_body!$A$3:$A$130,0),MATCH(Tabulka!D$2,Přehled_body!$E$1:$ED$1,0)),)=\"\",,IF(IFERROR(INDEX(Přehled_body!$E$3:$ED$130,MATCH(Tabulka!$AI60,Přehled_body!$A$3:$A$130,0),MATCH(Tabulka!D$2,Přehled_body!$E$1:$ED$1,0)),)=0,0.00000000001,IFERROR(INDEX(Přehled_body!$E$3:$ED$130,MATCH(Tabulka!$AI60,Přehled_body!$A$3:$A$130,0),MATCH(Tabulka!D$2,Přehled_body!$E$1:$ED$1,0)),)))","v":9.9999999999999994E-12},{"$f":"IF(IFERROR(INDEX(Přehled_body!$E$3:$ED$130,MATCH(Tabulka!$AI60,Přehled_body!$A$3:$A$130,0),MATCH(Tabulka!E$2,Přehled_body!$E$1:$ED$1,0)),)=\"\",,IF(IFERROR(INDEX(Přehled_body!$E$3:$ED$130,MATCH(Tabulka!$AI60,Přehled_body!$A$3:$A$130,0),MATCH(Tabulka!E$2,Přehled_body!$E$1:$ED$1,0)),)=0,0.00000000001,IFERROR(INDEX(Přehled_body!$E$3:$ED$130,MATCH(Tabulka!$AI60,Přehled_body!$A$3:$A$130,0),MATCH(Tabulka!E$2,Přehled_body!$E$1:$ED$1,0)),)))","v":9.9999999999999994E-12},{"$f":"IF(IFERROR(INDEX(Přehled_body!$E$3:$ED$130,MATCH(Tabulka!$AI60,Přehled_body!$A$3:$A$130,0),MATCH(Tabulka!F$2,Přehled_body!$E$1:$ED$1,0)),)=\"\",,IF(IFERROR(INDEX(Přehled_body!$E$3:$ED$130,MATCH(Tabulka!$AI60,Přehled_body!$A$3:$A$130,0),MATCH(Tabulka!F$2,Přehled_body!$E$1:$ED$1,0)),)=0,0.00000000001,IFERROR(INDEX(Přehled_body!$E$3:$ED$130,MATCH(Tabulka!$AI60,Přehled_body!$A$3:$A$130,0),MATCH(Tabulka!F$2,Přehled_body!$E$1:$ED$1,0)),)))","v":0},{"$f":"IF(IFERROR(INDEX(Přehled_body!$E$3:$ED$130,MATCH(Tabulka!$AI60,Přehled_body!$A$3:$A$130,0),MATCH(Tabulka!G$2,Přehled_body!$E$1:$ED$1,0)),)=\"\",,IF(IFERROR(INDEX(Přehled_body!$E$3:$ED$130,MATCH(Tabulka!$AI60,Přehled_body!$A$3:$A$130,0),MATCH(Tabulka!G$2,Přehled_body!$E$1:$ED$1,0)),)=0,0.00000000001,IFERROR(INDEX(Přehled_body!$E$3:$ED$130,MATCH(Tabulka!$AI60,Přehled_body!$A$3:$A$130,0),MATCH(Tabulka!G$2,Přehled_body!$E$1:$ED$1,0)),)))","v":9.9999999999999994E-12},{"$f":"IF(IFERROR(INDEX(Přehled_body!$E$3:$ED$130,MATCH(Tabulka!$AI60,Přehled_body!$A$3:$A$130,0),MATCH(Tabulka!H$2,Přehled_body!$E$1:$ED$1,0)),)=\"\",,IF(IFERROR(INDEX(Přehled_body!$E$3:$ED$130,MATCH(Tabulka!$AI60,Přehled_body!$A$3:$A$130,0),MATCH(Tabulka!H$2,Přehled_body!$E$1:$ED$1,0)),)=0,0.00000000001,IFERROR(INDEX(Přehled_body!$E$3:$ED$130,MATCH(Tabulka!$AI60,Přehled_body!$A$3:$A$130,0),MATCH(Tabulka!H$2,Přehled_body!$E$1:$ED$1,0)),)))","v":1},{"$f":"IF(IFERROR(INDEX(Přehled_body!$E$3:$ED$130,MATCH(Tabulka!$AI60,Přehled_body!$A$3:$A$130,0),MATCH(Tabulka!I$2,Přehled_body!$E$1:$ED$1,0)),)=\"\",,IF(IFERROR(INDEX(Přehled_body!$E$3:$ED$130,MATCH(Tabulka!$AI60,Přehled_body!$A$3:$A$130,0),MATCH(Tabulka!I$2,Přehled_body!$E$1:$ED$1,0)),)=0,0.00000000001,IFERROR(INDEX(Přehled_body!$E$3:$ED$130,MATCH(Tabulka!$AI60,Přehled_body!$A$3:$A$130,0),MATCH(Tabulka!I$2,Přehled_body!$E$1:$ED$1,0)),)))","v":9.9999999999999994E-12},{"$f":"IF(IFERROR(INDEX(Přehled_body!$E$3:$ED$130,MATCH(Tabulka!$AI60,Přehled_body!$A$3:$A$130,0),MATCH(Tabulka!J$2,Přehled_body!$E$1:$ED$1,0)),)=\"\",,IF(IFERROR(INDEX(Přehled_body!$E$3:$ED$130,MATCH(Tabulka!$AI60,Přehled_body!$A$3:$A$130,0),MATCH(Tabulka!J$2,Přehled_body!$E$1:$ED$1,0)),)=0,0.00000000001,IFERROR(INDEX(Přehled_body!$E$3:$ED$130,MATCH(Tabulka!$AI60,Přehled_body!$A$3:$A$130,0),MATCH(Tabulka!J$2,Přehled_body!$E$1:$ED$1,0)),)))","v":1},{"$f":"IF(IFERROR(INDEX(Přehled_body!$E$3:$ED$130,MATCH(Tabulka!$AI60,Přehled_body!$A$3:$A$130,0),MATCH(Tabulka!K$2,Přehled_body!$E$1:$ED$1,0)),)=\"\",,IF(IFERROR(INDEX(Přehled_body!$E$3:$ED$130,MATCH(Tabulka!$AI60,Přehled_body!$A$3:$A$130,0),MATCH(Tabulka!K$2,Přehled_body!$E$1:$ED$1,0)),)=0,0.00000000001,IFERROR(INDEX(Přehled_body!$E$3:$ED$130,MATCH(Tabulka!$AI60,Přehled_body!$A$3:$A$130,0),MATCH(Tabulka!K$2,Přehled_body!$E$1:$ED$1,0)),)))","v":9.9999999999999994E-12},{"$f":"IF(IFERROR(INDEX(Přehled_body!$E$3:$ED$130,MATCH(Tabulka!$AI60,Přehled_body!$A$3:$A$130,0),MATCH(Tabulka!L$2,Přehled_body!$E$1:$ED$1,0)),)=\"\",,IF(IFERROR(INDEX(Přehled_body!$E$3:$ED$130,MATCH(Tabulka!$AI60,Přehled_body!$A$3:$A$130,0),MATCH(Tabulka!L$2,Přehled_body!$E$1:$ED$1,0)),)=0,0.00000000001,IFERROR(INDEX(Přehled_body!$E$3:$ED$130,MATCH(Tabulka!$AI60,Přehled_body!$A$3:$A$130,0),MATCH(Tabulka!L$2,Přehled_body!$E$1:$ED$1,0)),)))","v":9.9999999999999994E-12},{"$f":"IF(IFERROR(INDEX(Přehled_body!$E$3:$ED$130,MATCH(Tabulka!$AI60,Přehled_body!$A$3:$A$130,0),MATCH(Tabulka!M$2,Přehled_body!$E$1:$ED$1,0)),)=\"\",,IF(IFERROR(INDEX(Přehled_body!$E$3:$ED$130,MATCH(Tabulka!$AI60,Přehled_body!$A$3:$A$130,0),MATCH(Tabulka!M$2,Přehled_body!$E$1:$ED$1,0)),)=0,0.00000000001,IFERROR(INDEX(Přehled_body!$E$3:$ED$130,MATCH(Tabulka!$AI60,Přehled_body!$A$3:$A$130,0),MATCH(Tabulka!M$2,Přehled_body!$E$1:$ED$1,0)),)))","v":2},{"$f":"IF(IFERROR(INDEX(Přehled_body!$E$3:$ED$130,MATCH(Tabulka!$AI60,Přehled_body!$A$3:$A$130,0),MATCH(Tabulka!N$2,Přehled_body!$E$1:$ED$1,0)),)=\"\",,IF(IFERROR(INDEX(Přehled_body!$E$3:$ED$130,MATCH(Tabulka!$AI60,Přehled_body!$A$3:$A$130,0),MATCH(Tabulka!N$2,Přehled_body!$E$1:$ED$1,0)),)=0,0.00000000001,IFERROR(INDEX(Přehled_body!$E$3:$ED$130,MATCH(Tabulka!$AI60,Přehled_body!$A$3:$A$130,0),MATCH(Tabulka!N$2,Přehled_body!$E$1:$ED$1,0)),)))","v":0},{"$f":"IF(IFERROR(INDEX(Přehled_body!$E$3:$ED$130,MATCH(Tabulka!$AI60,Přehled_body!$A$3:$A$130,0),MATCH(Tabulka!O$2,Přehled_body!$E$1:$ED$1,0)),)=\"\",,IF(IFERROR(INDEX(Přehled_body!$E$3:$ED$130,MATCH(Tabulka!$AI60,Přehled_body!$A$3:$A$130,0),MATCH(Tabulka!O$2,Přehled_body!$E$1:$ED$1,0)),)=0,0.00000000001,IFERROR(INDEX(Přehled_body!$E$3:$ED$130,MATCH(Tabulka!$AI60,Přehled_body!$A$3:$A$130,0),MATCH(Tabulka!O$2,Přehled_body!$E$1:$ED$1,0)),)))","v":9.9999999999999994E-12},{"$f":"IF(IFERROR(INDEX(Přehled_body!$E$3:$ED$130,MATCH(Tabulka!$AI60,Přehled_body!$A$3:$A$130,0),MATCH(Tabulka!P$2,Přehled_body!$E$1:$ED$1,0)),)=\"\",,IF(IFERROR(INDEX(Přehled_body!$E$3:$ED$130,MATCH(Tabulka!$AI60,Přehled_body!$A$3:$A$130,0),MATCH(Tabulka!P$2,Přehled_body!$E$1:$ED$1,0)),)=0,0.00000000001,IFERROR(INDEX(Přehled_body!$E$3:$ED$130,MATCH(Tabulka!$AI60,Přehled_body!$A$3:$A$130,0),MATCH(Tabulka!P$2,Přehled_body!$E$1:$ED$1,0)),)))","v":9.9999999999999994E-12},{"$f":"IF(IFERROR(INDEX(Přehled_body!$E$3:$ED$130,MATCH(Tabulka!$AI60,Přehled_body!$A$3:$A$130,0),MATCH(Tabulka!Q$2,Přehled_body!$E$1:$ED$1,0)),)=\"\",,IF(IFERROR(INDEX(Přehled_body!$E$3:$ED$130,MATCH(Tabulka!$AI60,Přehled_body!$A$3:$A$130,0),MATCH(Tabulka!Q$2,Přehled_body!$E$1:$ED$1,0)),)=0,0.00000000001,IFERROR(INDEX(Přehled_body!$E$3:$ED$130,MATCH(Tabulka!$AI60,Přehled_body!$A$3:$A$130,0),MATCH(Tabulka!Q$2,Přehled_body!$E$1:$ED$1,0)),)))","v":9.9999999999999994E-12},{"$f":"IF(IFERROR(INDEX(Přehled_body!$E$3:$ED$130,MATCH(Tabulka!$AI60,Přehled_body!$A$3:$A$130,0),MATCH(Tabulka!R$2,Přehled_body!$E$1:$ED$1,0)),)=\"\",,IF(IFERROR(INDEX(Přehled_body!$E$3:$ED$130,MATCH(Tabulka!$AI60,Přehled_body!$A$3:$A$130,0),MATCH(Tabulka!R$2,Přehled_body!$E$1:$ED$1,0)),)=0,0.00000000001,IFERROR(INDEX(Přehled_body!$E$3:$ED$130,MATCH(Tabulka!$AI60,Přehled_body!$A$3:$A$130,0),MATCH(Tabulka!R$2,Přehled_body!$E$1:$ED$1,0)),)))","v":9.9999999999999994E-12},{"$f":"IF(IFERROR(INDEX(Přehled_body!$E$3:$ED$130,MATCH(Tabulka!$AI60,Přehled_body!$A$3:$A$130,0),MATCH(Tabulka!S$2,Přehled_body!$E$1:$ED$1,0)),)=\"\",,IF(IFERROR(INDEX(Přehled_body!$E$3:$ED$130,MATCH(Tabulka!$AI60,Přehled_body!$A$3:$A$130,0),MATCH(Tabulka!S$2,Přehled_body!$E$1:$ED$1,0)),)=0,0.00000000001,IFERROR(INDEX(Přehled_body!$E$3:$ED$130,MATCH(Tabulka!$AI60,Přehled_body!$A$3:$A$130,0),MATCH(Tabulka!S$2,Přehled_body!$E$1:$ED$1,0)),)))","v":9.9999999999999994E-12},{"$f":"IF(IFERROR(INDEX(Přehled_body!$E$3:$ED$130,MATCH(Tabulka!$AI60,Přehled_body!$A$3:$A$130,0),MATCH(Tabulka!T$2,Přehled_body!$E$1:$ED$1,0)),)=\"\",,IF(IFERROR(INDEX(Přehled_body!$E$3:$ED$130,MATCH(Tabulka!$AI60,Přehled_body!$A$3:$A$130,0),MATCH(Tabulka!T$2,Přehled_body!$E$1:$ED$1,0)),)=0,0.00000000001,IFERROR(INDEX(Přehled_body!$E$3:$ED$130,MATCH(Tabulka!$AI60,Přehled_body!$A$3:$A$130,0),MATCH(Tabulka!T$2,Přehled_body!$E$1:$ED$1,0)),)))","v":9.9999999999999994E-12},{"$f":"IF(IFERROR(INDEX(Přehled_body!$E$3:$ED$130,MATCH(Tabulka!$AI60,Přehled_body!$A$3:$A$130,0),MATCH(Tabulka!U$2,Přehled_body!$E$1:$ED$1,0)),)=\"\",,IF(IFERROR(INDEX(Přehled_body!$E$3:$ED$130,MATCH(Tabulka!$AI60,Přehled_body!$A$3:$A$130,0),MATCH(Tabulka!U$2,Přehled_body!$E$1:$ED$1,0)),)=0,0.00000000001,IFERROR(INDEX(Přehled_body!$E$3:$ED$130,MATCH(Tabulka!$AI60,Přehled_body!$A$3:$A$130,0),MATCH(Tabulka!U$2,Přehled_body!$E$1:$ED$1,0)),)))","v":0},{"$f":"IF(IFERROR(INDEX(Přehled_body!$E$3:$ED$130,MATCH(Tabulka!$AI60,Přehled_body!$A$3:$A$130,0),MATCH(Tabulka!V$2,Přehled_body!$E$1:$ED$1,0)),)=\"\",,IF(IFERROR(INDEX(Přehled_body!$E$3:$ED$130,MATCH(Tabulka!$AI60,Přehled_body!$A$3:$A$130,0),MATCH(Tabulka!V$2,Přehled_body!$E$1:$ED$1,0)),)=0,0.00000000001,IFERROR(INDEX(Přehled_body!$E$3:$ED$130,MATCH(Tabulka!$AI60,Přehled_body!$A$3:$A$130,0),MATCH(Tabulka!V$2,Přehled_body!$E$1:$ED$1,0)),)))","v":0},{"$f":"IF(IFERROR(INDEX(Přehled_body!$E$3:$ED$130,MATCH(Tabulka!$AI60,Přehled_body!$A$3:$A$130,0),MATCH(Tabulka!W$2,Přehled_body!$E$1:$ED$1,0)),)=\"\",,IF(IFERROR(INDEX(Přehled_body!$E$3:$ED$130,MATCH(Tabulka!$AI60,Přehled_body!$A$3:$A$130,0),MATCH(Tabulka!W$2,Přehled_body!$E$1:$ED$1,0)),)=0,0.00000000001,IFERROR(INDEX(Přehled_body!$E$3:$ED$130,MATCH(Tabulka!$AI60,Přehled_body!$A$3:$A$130,0),MATCH(Tabulka!W$2,Přehled_body!$E$1:$ED$1,0)),)))","v":0},{"$f":"IF(IFERROR(INDEX(Přehled_body!$E$3:$ED$130,MATCH(Tabulka!$AI60,Přehled_body!$A$3:$A$130,0),MATCH(Tabulka!X$2,Přehled_body!$E$1:$ED$1,0)),)=\"\",,IF(IFERROR(INDEX(Přehled_body!$E$3:$ED$130,MATCH(Tabulka!$AI60,Přehled_body!$A$3:$A$130,0),MATCH(Tabulka!X$2,Přehled_body!$E$1:$ED$1,0)),)=0,0.00000000001,IFERROR(INDEX(Přehled_body!$E$3:$ED$130,MATCH(Tabulka!$AI60,Přehled_body!$A$3:$A$130,0),MATCH(Tabulka!X$2,Přehled_body!$E$1:$ED$1,0)),)))","v":0},{"$f":"IF(IFERROR(INDEX(Přehled_body!$E$3:$ED$130,MATCH(Tabulka!$AI60,Přehled_body!$A$3:$A$130,0),MATCH(Tabulka!Y$2,Přehled_body!$E$1:$ED$1,0)),)=\"\",,IF(IFERROR(INDEX(Přehled_body!$E$3:$ED$130,MATCH(Tabulka!$AI60,Přehled_body!$A$3:$A$130,0),MATCH(Tabulka!Y$2,Přehled_body!$E$1:$ED$1,0)),)=0,0.00000000001,IFERROR(INDEX(Přehled_body!$E$3:$ED$130,MATCH(Tabulka!$AI60,Přehled_body!$A$3:$A$130,0),MATCH(Tabulka!Y$2,Přehled_body!$E$1:$ED$1,0)),)))","v":0},{"$f":"IF(IFERROR(INDEX(Přehled_body!$E$3:$ED$130,MATCH(Tabulka!$AI60,Přehled_body!$A$3:$A$130,0),MATCH(Tabulka!Z$2,Přehled_body!$E$1:$ED$1,0)),)=\"\",,IF(IFERROR(INDEX(Přehled_body!$E$3:$ED$130,MATCH(Tabulka!$AI60,Přehled_body!$A$3:$A$130,0),MATCH(Tabulka!Z$2,Přehled_body!$E$1:$ED$1,0)),)=0,0.00000000001,IFERROR(INDEX(Přehled_body!$E$3:$ED$130,MATCH(Tabulka!$AI60,Přehled_body!$A$3:$A$130,0),MATCH(Tabulka!Z$2,Přehled_body!$E$1:$ED$1,0)),)))","v":0},{"$f":"IF(IFERROR(INDEX(Přehled_body!$E$3:$ED$130,MATCH(Tabulka!$AI60,Přehled_body!$A$3:$A$130,0),MATCH(Tabulka!AA$2,Přehled_body!$E$1:$ED$1,0)),)=\"\",,IF(IFERROR(INDEX(Přehled_body!$E$3:$ED$130,MATCH(Tabulka!$AI60,Přehled_body!$A$3:$A$130,0),MATCH(Tabulka!AA$2,Přehled_body!$E$1:$ED$1,0)),)=0,0.00000000001,IFERROR(INDEX(Přehled_body!$E$3:$ED$130,MATCH(Tabulka!$AI60,Přehled_body!$A$3:$A$130,0),MATCH(Tabulka!AA$2,Přehled_body!$E$1:$ED$1,0)),)))","v":0},{"$f":"IF(IFERROR(INDEX(Přehled_body!$E$3:$ED$130,MATCH(Tabulka!$AI60,Přehled_body!$A$3:$A$130,0),MATCH(Tabulka!AB$2,Přehled_body!$E$1:$ED$1,0)),)=\"\",,IF(IFERROR(INDEX(Přehled_body!$E$3:$ED$130,MATCH(Tabulka!$AI60,Přehled_body!$A$3:$A$130,0),MATCH(Tabulka!AB$2,Přehled_body!$E$1:$ED$1,0)),)=0,0.00000000001,IFERROR(INDEX(Přehled_body!$E$3:$ED$130,MATCH(Tabulka!$AI60,Přehled_body!$A$3:$A$130,0),MATCH(Tabulka!AB$2,Přehled_body!$E$1:$ED$1,0)),)))","v":0},{"$f":"IF(IFERROR(INDEX(Přehled_body!$E$3:$ED$130,MATCH(Tabulka!$AI60,Přehled_body!$A$3:$A$130,0),MATCH(Tabulka!AC$2,Přehled_body!$E$1:$ED$1,0)),)=\"\",,IF(IFERROR(INDEX(Přehled_body!$E$3:$ED$130,MATCH(Tabulka!$AI60,Přehled_body!$A$3:$A$130,0),MATCH(Tabulka!AC$2,Přehled_body!$E$1:$ED$1,0)),)=0,0.00000000001,IFERROR(INDEX(Přehled_body!$E$3:$ED$130,MATCH(Tabulka!$AI60,Přehled_body!$A$3:$A$130,0),MATCH(Tabulka!AC$2,Přehled_body!$E$1:$ED$1,0)),)))","v":0},{"$f":"IF(IFERROR(INDEX(Přehled_body!$E$3:$ED$130,MATCH(Tabulka!$AI60,Přehled_body!$A$3:$A$130,0),MATCH(Tabulka!AD$2,Přehled_body!$E$1:$ED$1,0)),)=\"\",,IF(IFERROR(INDEX(Přehled_body!$E$3:$ED$130,MATCH(Tabulka!$AI60,Přehled_body!$A$3:$A$130,0),MATCH(Tabulka!AD$2,Přehled_body!$E$1:$ED$1,0)),)=0,0.00000000001,IFERROR(INDEX(Přehled_body!$E$3:$ED$130,MATCH(Tabulka!$AI60,Přehled_body!$A$3:$A$130,0),MATCH(Tabulka!AD$2,Přehled_body!$E$1:$ED$1,0)),)))","v":0},{"$f":"IF(SUM(AG59)<2,-90000+SUM(D60:AD60),SUM(D60:AD60))","v":4.00000000012},{"$f":"SUM(AE59-AE60)","v":9.99999999992},null,4.00000000012,{"$f":"CONCATENATE($B$60,\" \",$B$61,C60)","v":"Standa RothProhry"},null,null,15,null,null,"Standa",12]
[{"$f":"CONCATENATE(B61,\" \",B60)","v":"Roth Standa"},"Roth","Placeno panáků",{"$f":"IF(IFERROR(INDEX(Přehled_body!$E$3:$ED$130,MATCH(Tabulka!$AI61,Přehled_body!$A$3:$A$130,0),MATCH(Tabulka!D$2,Přehled_body!$E$1:$ED$1,0)),)=\"\",,IF(IFERROR(INDEX(Přehled_body!$E$3:$ED$130,MATCH(Tabulka!$AI61,Přehled_body!$A$3:$A$130,0),MATCH(Tabulka!D$2,Přehled_body!$E$1:$ED$1,0)),)=0,0.00000000001,IFERROR(INDEX(Přehled_body!$E$3:$ED$130,MATCH(Tabulka!$AI61,Přehled_body!$A$3:$A$130,0),MATCH(Tabulka!D$2,Přehled_body!$E$1:$ED$1,0)),)))","v":9.9999999999999994E-12},{"$f":"IF(IFERROR(INDEX(Přehled_body!$E$3:$ED$130,MATCH(Tabulka!$AI61,Přehled_body!$A$3:$A$130,0),MATCH(Tabulka!E$2,Přehled_body!$E$1:$ED$1,0)),)=\"\",,IF(IFERROR(INDEX(Přehled_body!$E$3:$ED$130,MATCH(Tabulka!$AI61,Přehled_body!$A$3:$A$130,0),MATCH(Tabulka!E$2,Přehled_body!$E$1:$ED$1,0)),)=0,0.00000000001,IFERROR(INDEX(Přehled_body!$E$3:$ED$130,MATCH(Tabulka!$AI61,Přehled_body!$A$3:$A$130,0),MATCH(Tabulka!E$2,Přehled_body!$E$1:$ED$1,0)),)))","v":9.9999999999999994E-12},{"$f":"IF(IFERROR(INDEX(Přehled_body!$E$3:$ED$130,MATCH(Tabulka!$AI61,Přehled_body!$A$3:$A$130,0),MATCH(Tabulka!F$2,Přehled_body!$E$1:$ED$1,0)),)=\"\",,IF(IFERROR(INDEX(Přehled_body!$E$3:$ED$130,MATCH(Tabulka!$AI61,Přehled_body!$A$3:$A$130,0),MATCH(Tabulka!F$2,Přehled_body!$E$1:$ED$1,0)),)=0,0.00000000001,IFERROR(INDEX(Přehled_body!$E$3:$ED$130,MATCH(Tabulka!$AI61,Přehled_body!$A$3:$A$130,0),MATCH(Tabulka!F$2,Přehled_body!$E$1:$ED$1,0)),)))","v":0},{"$f":"IF(IFERROR(INDEX(Přehled_body!$E$3:$ED$130,MATCH(Tabulka!$AI61,Přehled_body!$A$3:$A$130,0),MATCH(Tabulka!G$2,Přehled_body!$E$1:$ED$1,0)),)=\"\",,IF(IFERROR(INDEX(Přehled_body!$E$3:$ED$130,MATCH(Tabulka!$AI61,Přehled_body!$A$3:$A$130,0),MATCH(Tabulka!G$2,Přehled_body!$E$1:$ED$1,0)),)=0,0.00000000001,IFERROR(INDEX(Přehled_body!$E$3:$ED$130,MATCH(Tabulka!$AI61,Přehled_body!$A$3:$A$130,0),MATCH(Tabulka!G$2,Přehled_body!$E$1:$ED$1,0)),)))","v":9.9999999999999994E-12},{"$f":"IF(IFERROR(INDEX(Přehled_body!$E$3:$ED$130,MATCH(Tabulka!$AI61,Přehled_body!$A$3:$A$130,0),MATCH(Tabulka!H$2,Přehled_body!$E$1:$ED$1,0)),)=\"\",,IF(IFERROR(INDEX(Přehled_body!$E$3:$ED$130,MATCH(Tabulka!$AI61,Přehled_body!$A$3:$A$130,0),MATCH(Tabulka!H$2,Přehled_body!$E$1:$ED$1,0)),)=0,0.00000000001,IFERROR(INDEX(Přehled_body!$E$3:$ED$130,MATCH(Tabulka!$AI61,Přehled_body!$A$3:$A$130,0),MATCH(Tabulka!H$2,Přehled_body!$E$1:$ED$1,0)),)))","v":2},{"$f":"IF(IFERROR(INDEX(Přehled_body!$E$3:$ED$130,MATCH(Tabulka!$AI61,Přehled_body!$A$3:$A$130,0),MATCH(Tabulka!I$2,Přehled_body!$E$1:$ED$1,0)),)=\"\",,IF(IFERROR(INDEX(Přehled_body!$E$3:$ED$130,MATCH(Tabulka!$AI61,Přehled_body!$A$3:$A$130,0),MATCH(Tabulka!I$2,Přehled_body!$E$1:$ED$1,0)),)=0,0.00000000001,IFERROR(INDEX(Přehled_body!$E$3:$ED$130,MATCH(Tabulka!$AI61,Přehled_body!$A$3:$A$130,0),MATCH(Tabulka!I$2,Přehled_body!$E$1:$ED$1,0)),)))","v":9.9999999999999994E-12},{"$f":"IF(IFERROR(INDEX(Přehled_body!$E$3:$ED$130,MATCH(Tabulka!$AI61,Přehled_body!$A$3:$A$130,0),MATCH(Tabulka!J$2,Přehled_body!$E$1:$ED$1,0)),)=\"\",,IF(IFERROR(INDEX(Přehled_body!$E$3:$ED$130,MATCH(Tabulka!$AI61,Přehled_body!$A$3:$A$130,0),MATCH(Tabulka!J$2,Přehled_body!$E$1:$ED$1,0)),)=0,0.00000000001,IFERROR(INDEX(Přehled_body!$E$3:$ED$130,MATCH(Tabulka!$AI61,Přehled_body!$A$3:$A$130,0),MATCH(Tabulka!J$2,Přehled_body!$E$1:$ED$1,0)),)))","v":1},{"$f":"IF(IFERROR(INDEX(Přehled_body!$E$3:$ED$130,MATCH(Tabulka!$AI61,Přehled_body!$A$3:$A$130,0),MATCH(Tabulka!K$2,Přehled_body!$E$1:$ED$1,0)),)=\"\",,IF(IFERROR(INDEX(Přehled_body!$E$3:$ED$130,MATCH(Tabulka!$AI61,Přehled_body!$A$3:$A$130,0),MATCH(Tabulka!K$2,Přehled_body!$E$1:$ED$1,0)),)=0,0.00000000001,IFERROR(INDEX(Přehled_body!$E$3:$ED$130,MATCH(Tabulka!$AI61,Přehled_body!$A$3:$A$130,0),MATCH(Tabulka!K$2,Přehled_body!$E$1:$ED$1,0)),)))","v":9.9999999999999994E-12},{"$f":"IF(IFERROR(INDEX(Přehled_body!$E$3:$ED$130,MATCH(Tabulka!$AI61,Přehled_body!$A$3:$A$130,0),MATCH(Tabulka!L$2,Přehled_body!$E$1:$ED$1,0)),)=\"\",,IF(IFERROR(INDEX(Přehled_body!$E$3:$ED$130,MATCH(Tabulka!$AI61,Přehled_body!$A$3:$A$130,0),MATCH(Tabulka!L$2,Přehled_body!$E$1:$ED$1,0)),)=0,0.00000000001,IFERROR(INDEX(Přehled_body!$E$3:$ED$130,MATCH(Tabulka!$AI61,Přehled_body!$A$3:$A$130,0),MATCH(Tabulka!L$2,Přehled_body!$E$1:$ED$1,0)),)))","v":9.9999999999999994E-12},{"$f":"IF(IFERROR(INDEX(Přehled_body!$E$3:$ED$130,MATCH(Tabulka!$AI61,Přehled_body!$A$3:$A$130,0),MATCH(Tabulka!M$2,Přehled_body!$E$1:$ED$1,0)),)=\"\",,IF(IFERROR(INDEX(Přehled_body!$E$3:$ED$130,MATCH(Tabulka!$AI61,Přehled_body!$A$3:$A$130,0),MATCH(Tabulka!M$2,Přehled_body!$E$1:$ED$1,0)),)=0,0.00000000001,IFERROR(INDEX(Přehled_body!$E$3:$ED$130,MATCH(Tabulka!$AI61,Přehled_body!$A$3:$A$130,0),MATCH(Tabulka!M$2,Přehled_body!$E$1:$ED$1,0)),)))","v":4},{"$f":"IF(IFERROR(INDEX(Přehled_body!$E$3:$ED$130,MATCH(Tabulka!$AI61,Přehled_body!$A$3:$A$130,0),MATCH(Tabulka!N$2,Přehled_body!$E$1:$ED$1,0)),)=\"\",,IF(IFERROR(INDEX(Přehled_body!$E$3:$ED$130,MATCH(Tabulka!$AI61,Přehled_body!$A$3:$A$130,0),MATCH(Tabulka!N$2,Přehled_body!$E$1:$ED$1,0)),)=0,0.00000000001,IFERROR(INDEX(Přehled_body!$E$3:$ED$130,MATCH(Tabulka!$AI61,Přehled_body!$A$3:$A$130,0),MATCH(Tabulka!N$2,Přehled_body!$E$1:$ED$1,0)),)))","v":0},{"$f":"IF(IFERROR(INDEX(Přehled_body!$E$3:$ED$130,MATCH(Tabulka!$AI61,Přehled_body!$A$3:$A$130,0),MATCH(Tabulka!O$2,Přehled_body!$E$1:$ED$1,0)),)=\"\",,IF(IFERROR(INDEX(Přehled_body!$E$3:$ED$130,MATCH(Tabulka!$AI61,Přehled_body!$A$3:$A$130,0),MATCH(Tabulka!O$2,Přehled_body!$E$1:$ED$1,0)),)=0,0.00000000001,IFERROR(INDEX(Přehled_body!$E$3:$ED$130,MATCH(Tabulka!$AI61,Přehled_body!$A$3:$A$130,0),MATCH(Tabulka!O$2,Přehled_body!$E$1:$ED$1,0)),)))","v":9.9999999999999994E-12},{"$f":"IF(IFERROR(INDEX(Přehled_body!$E$3:$ED$130,MATCH(Tabulka!$AI61,Přehled_body!$A$3:$A$130,0),MATCH(Tabulka!P$2,Přehled_body!$E$1:$ED$1,0)),)=\"\",,IF(IFERROR(INDEX(Přehled_body!$E$3:$ED$130,MATCH(Tabulka!$AI61,Přehled_body!$A$3:$A$130,0),MATCH(Tabulka!P$2,Přehled_body!$E$1:$ED$1,0)),)=0,0.00000000001,IFERROR(INDEX(Přehled_body!$E$3:$ED$130,MATCH(Tabulka!$AI61,Přehled_body!$A$3:$A$130,0),MATCH(Tabulka!P$2,Přehled_body!$E$1:$ED$1,0)),)))","v":9.9999999999999994E-12},{"$f":"IF(IFERROR(INDEX(Přehled_body!$E$3:$ED$130,MATCH(Tabulka!$AI61,Přehled_body!$A$3:$A$130,0),MATCH(Tabulka!Q$2,Přehled_body!$E$1:$ED$1,0)),)=\"\",,IF(IFERROR(INDEX(Přehled_body!$E$3:$ED$130,MATCH(Tabulka!$AI61,Přehled_body!$A$3:$A$130,0),MATCH(Tabulka!Q$2,Přehled_body!$E$1:$ED$1,0)),)=0,0.00000000001,IFERROR(INDEX(Přehled_body!$E$3:$ED$130,MATCH(Tabulka!$AI61,Přehled_body!$A$3:$A$130,0),MATCH(Tabulka!Q$2,Přehled_body!$E$1:$ED$1,0)),)))","v":9.9999999999999994E-12},{"$f":"IF(IFERROR(INDEX(Přehled_body!$E$3:$ED$130,MATCH(Tabulka!$AI61,Přehled_body!$A$3:$A$130,0),MATCH(Tabulka!R$2,Přehled_body!$E$1:$ED$1,0)),)=\"\",,IF(IFERROR(INDEX(Přehled_body!$E$3:$ED$130,MATCH(Tabulka!$AI61,Přehled_body!$A$3:$A$130,0),MATCH(Tabulka!R$2,Přehled_body!$E$1:$ED$1,0)),)=0,0.00000000001,IFERROR(INDEX(Přehled_body!$E$3:$ED$130,MATCH(Tabulka!$AI61,Přehled_body!$A$3:$A$130,0),MATCH(Tabulka!R$2,Přehled_body!$E$1:$ED$1,0)),)))","v":9.9999999999999994E-12},{"$f":"IF(IFERROR(INDEX(Přehled_body!$E$3:$ED$130,MATCH(Tabulka!$AI61,Přehled_body!$A$3:$A$130,0),MATCH(Tabulka!S$2,Přehled_body!$E$1:$ED$1,0)),)=\"\",,IF(IFERROR(INDEX(Přehled_body!$E$3:$ED$130,MATCH(Tabulka!$AI61,Přehled_body!$A$3:$A$130,0),MATCH(Tabulka!S$2,Přehled_body!$E$1:$ED$1,0)),)=0,0.00000000001,IFERROR(INDEX(Přehled_body!$E$3:$ED$130,MATCH(Tabulka!$AI61,Přehled_body!$A$3:$A$130,0),MATCH(Tabulka!S$2,Přehled_body!$E$1:$ED$1,0)),)))","v":9.9999999999999994E-12},{"$f":"IF(IFERROR(INDEX(Přehled_body!$E$3:$ED$130,MATCH(Tabulka!$AI61,Přehled_body!$A$3:$A$130,0),MATCH(Tabulka!T$2,Přehled_body!$E$1:$ED$1,0)),)=\"\",,IF(IFERROR(INDEX(Přehled_body!$E$3:$ED$130,MATCH(Tabulka!$AI61,Přehled_body!$A$3:$A$130,0),MATCH(Tabulka!T$2,Přehled_body!$E$1:$ED$1,0)),)=0,0.00000000001,IFERROR(INDEX(Přehled_body!$E$3:$ED$130,MATCH(Tabulka!$AI61,Přehled_body!$A$3:$A$130,0),MATCH(Tabulka!T$2,Přehled_body!$E$1:$ED$1,0)),)))","v":9.9999999999999994E-12},{"$f":"IF(IFERROR(INDEX(Přehled_body!$E$3:$ED$130,MATCH(Tabulka!$AI61,Přehled_body!$A$3:$A$130,0),MATCH(Tabulka!U$2,Přehled_body!$E$1:$ED$1,0)),)=\"\",,IF(IFERROR(INDEX(Přehled_body!$E$3:$ED$130,MATCH(Tabulka!$AI61,Přehled_body!$A$3:$A$130,0),MATCH(Tabulka!U$2,Přehled_body!$E$1:$ED$1,0)),)=0,0.00000000001,IFERROR(INDEX(Přehled_body!$E$3:$ED$130,MATCH(Tabulka!$AI61,Přehled_body!$A$3:$A$130,0),MATCH(Tabulka!U$2,Přehled_body!$E$1:$ED$1,0)),)))","v":0},{"$f":"IF(IFERROR(INDEX(Přehled_body!$E$3:$ED$130,MATCH(Tabulka!$AI61,Přehled_body!$A$3:$A$130,0),MATCH(Tabulka!V$2,Přehled_body!$E$1:$ED$1,0)),)=\"\",,IF(IFERROR(INDEX(Přehled_body!$E$3:$ED$130,MATCH(Tabulka!$AI61,Přehled_body!$A$3:$A$130,0),MATCH(Tabulka!V$2,Přehled_body!$E$1:$ED$1,0)),)=0,0.00000000001,IFERROR(INDEX(Přehled_body!$E$3:$ED$130,MATCH(Tabulka!$AI61,Přehled_body!$A$3:$A$130,0),MATCH(Tabulka!V$2,Přehled_body!$E$1:$ED$1,0)),)))","v":0},{"$f":"IF(IFERROR(INDEX(Přehled_body!$E$3:$ED$130,MATCH(Tabulka!$AI61,Přehled_body!$A$3:$A$130,0),MATCH(Tabulka!W$2,Přehled_body!$E$1:$ED$1,0)),)=\"\",,IF(IFERROR(INDEX(Přehled_body!$E$3:$ED$130,MATCH(Tabulka!$AI61,Přehled_body!$A$3:$A$130,0),MATCH(Tabulka!W$2,Přehled_body!$E$1:$ED$1,0)),)=0,0.00000000001,IFERROR(INDEX(Přehled_body!$E$3:$ED$130,MATCH(Tabulka!$AI61,Přehled_body!$A$3:$A$130,0),MATCH(Tabulka!W$2,Přehled_body!$E$1:$ED$1,0)),)))","v":0},{"$f":"IF(IFERROR(INDEX(Přehled_body!$E$3:$ED$130,MATCH(Tabulka!$AI61,Přehled_body!$A$3:$A$130,0),MATCH(Tabulka!X$2,Přehled_body!$E$1:$ED$1,0)),)=\"\",,IF(IFERROR(INDEX(Přehled_body!$E$3:$ED$130,MATCH(Tabulka!$AI61,Přehled_body!$A$3:$A$130,0),MATCH(Tabulka!X$2,Přehled_body!$E$1:$ED$1,0)),)=0,0.00000000001,IFERROR(INDEX(Přehled_body!$E$3:$ED$130,MATCH(Tabulka!$AI61,Přehled_body!$A$3:$A$130,0),MATCH(Tabulka!X$2,Přehled_body!$E$1:$ED$1,0)),)))","v":0},{"$f":"IF(IFERROR(INDEX(Přehled_body!$E$3:$ED$130,MATCH(Tabulka!$AI61,Přehled_body!$A$3:$A$130,0),MATCH(Tabulka!Y$2,Přehled_body!$E$1:$ED$1,0)),)=\"\",,IF(IFERROR(INDEX(Přehled_body!$E$3:$ED$130,MATCH(Tabulka!$AI61,Přehled_body!$A$3:$A$130,0),MATCH(Tabulka!Y$2,Přehled_body!$E$1:$ED$1,0)),)=0,0.00000000001,IFERROR(INDEX(Přehled_body!$E$3:$ED$130,MATCH(Tabulka!$AI61,Přehled_body!$A$3:$A$130,0),MATCH(Tabulka!Y$2,Přehled_body!$E$1:$ED$1,0)),)))","v":0},{"$f":"IF(IFERROR(INDEX(Přehled_body!$E$3:$ED$130,MATCH(Tabulka!$AI61,Přehled_body!$A$3:$A$130,0),MATCH(Tabulka!Z$2,Přehled_body!$E$1:$ED$1,0)),)=\"\",,IF(IFERROR(INDEX(Přehled_body!$E$3:$ED$130,MATCH(Tabulka!$AI61,Přehled_body!$A$3:$A$130,0),MATCH(Tabulka!Z$2,Přehled_body!$E$1:$ED$1,0)),)=0,0.00000000001,IFERROR(INDEX(Přehled_body!$E$3:$ED$130,MATCH(Tabulka!$AI61,Přehled_body!$A$3:$A$130,0),MATCH(Tabulka!Z$2,Přehled_body!$E$1:$ED$1,0)),)))","v":0},{"$f":"IF(IFERROR(INDEX(Přehled_body!$E$3:$ED$130,MATCH(Tabulka!$AI61,Přehled_body!$A$3:$A$130,0),MATCH(Tabulka!AA$2,Přehled_body!$E$1:$ED$1,0)),)=\"\",,IF(IFERROR(INDEX(Přehled_body!$E$3:$ED$130,MATCH(Tabulka!$AI61,Přehled_body!$A$3:$A$130,0),MATCH(Tabulka!AA$2,Přehled_body!$E$1:$ED$1,0)),)=0,0.00000000001,IFERROR(INDEX(Přehled_body!$E$3:$ED$130,MATCH(Tabulka!$AI61,Přehled_body!$A$3:$A$130,0),MATCH(Tabulka!AA$2,Přehled_body!$E$1:$ED$1,0)),)))","v":0},{"$f":"IF(IFERROR(INDEX(Přehled_body!$E$3:$ED$130,MATCH(Tabulka!$AI61,Přehled_body!$A$3:$A$130,0),MATCH(Tabulka!AB$2,Přehled_body!$E$1:$ED$1,0)),)=\"\",,IF(IFERROR(INDEX(Přehled_body!$E$3:$ED$130,MATCH(Tabulka!$AI61,Přehled_body!$A$3:$A$130,0),MATCH(Tabulka!AB$2,Přehled_body!$E$1:$ED$1,0)),)=0,0.00000000001,IFERROR(INDEX(Přehled_body!$E$3:$ED$130,MATCH(Tabulka!$AI61,Přehled_body!$A$3:$A$130,0),MATCH(Tabulka!AB$2,Přehled_body!$E$1:$ED$1,0)),)))","v":0},{"$f":"IF(IFERROR(INDEX(Přehled_body!$E$3:$ED$130,MATCH(Tabulka!$AI61,Přehled_body!$A$3:$A$130,0),MATCH(Tabulka!AC$2,Přehled_body!$E$1:$ED$1,0)),)=\"\",,IF(IFERROR(INDEX(Přehled_body!$E$3:$ED$130,MATCH(Tabulka!$AI61,Přehled_body!$A$3:$A$130,0),MATCH(Tabulka!AC$2,Přehled_body!$E$1:$ED$1,0)),)=0,0.00000000001,IFERROR(INDEX(Přehled_body!$E$3:$ED$130,MATCH(Tabulka!$AI61,Přehled_body!$A$3:$A$130,0),MATCH(Tabulka!AC$2,Přehled_body!$E$1:$ED$1,0)),)))","v":0},{"$f":"IF(IFERROR(INDEX(Přehled_body!$E$3:$ED$130,MATCH(Tabulka!$AI61,Přehled_body!$A$3:$A$130,0),MATCH(Tabulka!AD$2,Přehled_body!$E$1:$ED$1,0)),)=\"\",,IF(IFERROR(INDEX(Přehled_body!$E$3:$ED$130,MATCH(Tabulka!$AI61,Přehled_body!$A$3:$A$130,0),MATCH(Tabulka!AD$2,Přehled_body!$E$1:$ED$1,0)),)=0,0.00000000001,IFERROR(INDEX(Přehled_body!$E$3:$ED$130,MATCH(Tabulka!$AI61,Přehled_body!$A$3:$A$130,0),MATCH(Tabulka!AD$2,Přehled_body!$E$1:$ED$1,0)),)))","v":0},{"$f":"IF(SUM(AG59)<2,-90000+SUM(D61:AD61),SUM(D61:AD61))","v":7.00000000012},null,null,{"$f":"SUM(D61:AD61)+INDEX(List4!$D$2:$F$17,MATCH(Tabulka!A60,List4!$D$2:$D$17,0),3)","v":7.0000001111200003},{"$f":"CONCATENATE($B$60,\" \",$B$61,C61)","v":"Standa RothPlaceno panáků"},null,null,15,null,null,"Roth",{"$f":"CONCATENATE(AQ61,\" \",AQ62)","v":"Míra Chalupník"},"Míra"]
[null,null,"Přehozy",{"$f":"IF(IFERROR(INDEX(Přehled_body!$E$3:$ED$130,MATCH(Tabulka!$AI62,Přehled_body!$A$3:$A$130,0),MATCH(Tabulka!D$2,Přehled_body!$E$1:$ED$1,0)),)=\"\",,IF(IFERROR(INDEX(Přehled_body!$E$3:$ED$130,MATCH(Tabulka!$AI62,Přehled_body!$A$3:$A$130,0),MATCH(Tabulka!D$2,Přehled_body!$E$1:$ED$1,0)),)=0,0.00000000001,IFERROR(INDEX(Přehled_body!$E$3:$ED$130,MATCH(Tabulka!$AI62,Přehled_body!$A$3:$A$130,0),MATCH(Tabulka!D$2,Přehled_body!$E$1:$ED$1,0)),)))","v":9.9999999999999994E-12},{"$f":"IF(IFERROR(INDEX(Přehled_body!$E$3:$ED$130,MATCH(Tabulka!$AI62,Přehled_body!$A$3:$A$130,0),MATCH(Tabulka!E$2,Přehled_body!$E$1:$ED$1,0)),)=\"\",,IF(IFERROR(INDEX(Přehled_body!$E$3:$ED$130,MATCH(Tabulka!$AI62,Přehled_body!$A$3:$A$130,0),MATCH(Tabulka!E$2,Přehled_body!$E$1:$ED$1,0)),)=0,0.00000000001,IFERROR(INDEX(Přehled_body!$E$3:$ED$130,MATCH(Tabulka!$AI62,Přehled_body!$A$3:$A$130,0),MATCH(Tabulka!E$2,Přehled_body!$E$1:$ED$1,0)),)))","v":2},{"$f":"IF(IFERROR(INDEX(Přehled_body!$E$3:$ED$130,MATCH(Tabulka!$AI62,Přehled_body!$A$3:$A$130,0),MATCH(Tabulka!F$2,Přehled_body!$E$1:$ED$1,0)),)=\"\",,IF(IFERROR(INDEX(Přehled_body!$E$3:$ED$130,MATCH(Tabulka!$AI62,Přehled_body!$A$3:$A$130,0),MATCH(Tabulka!F$2,Přehled_body!$E$1:$ED$1,0)),)=0,0.00000000001,IFERROR(INDEX(Přehled_body!$E$3:$ED$130,MATCH(Tabulka!$AI62,Přehled_body!$A$3:$A$130,0),MATCH(Tabulka!F$2,Přehled_body!$E$1:$ED$1,0)),)))","v":0},{"$f":"IF(IFERROR(INDEX(Přehled_body!$E$3:$ED$130,MATCH(Tabulka!$AI62,Přehled_body!$A$3:$A$130,0),MATCH(Tabulka!G$2,Přehled_body!$E$1:$ED$1,0)),)=\"\",,IF(IFERROR(INDEX(Přehled_body!$E$3:$ED$130,MATCH(Tabulka!$AI62,Přehled_body!$A$3:$A$130,0),MATCH(Tabulka!G$2,Přehled_body!$E$1:$ED$1,0)),)=0,0.00000000001,IFERROR(INDEX(Přehled_body!$E$3:$ED$130,MATCH(Tabulka!$AI62,Přehled_body!$A$3:$A$130,0),MATCH(Tabulka!G$2,Přehled_body!$E$1:$ED$1,0)),)))","v":2},{"$f":"IF(IFERROR(INDEX(Přehled_body!$E$3:$ED$130,MATCH(Tabulka!$AI62,Přehled_body!$A$3:$A$130,0),MATCH(Tabulka!H$2,Přehled_body!$E$1:$ED$1,0)),)=\"\",,IF(IFERROR(INDEX(Přehled_body!$E$3:$ED$130,MATCH(Tabulka!$AI62,Přehled_body!$A$3:$A$130,0),MATCH(Tabulka!H$2,Přehled_body!$E$1:$ED$1,0)),)=0,0.00000000001,IFERROR(INDEX(Přehled_body!$E$3:$ED$130,MATCH(Tabulka!$AI62,Přehled_body!$A$3:$A$130,0),MATCH(Tabulka!H$2,Přehled_body!$E$1:$ED$1,0)),)))","v":9.9999999999999994E-12},{"$f":"IF(IFERROR(INDEX(Přehled_body!$E$3:$ED$130,MATCH(Tabulka!$AI62,Přehled_body!$A$3:$A$130,0),MATCH(Tabulka!I$2,Přehled_body!$E$1:$ED$1,0)),)=\"\",,IF(IFERROR(INDEX(Přehled_body!$E$3:$ED$130,MATCH(Tabulka!$AI62,Přehled_body!$A$3:$A$130,0),MATCH(Tabulka!I$2,Přehled_body!$E$1:$ED$1,0)),)=0,0.00000000001,IFERROR(INDEX(Přehled_body!$E$3:$ED$130,MATCH(Tabulka!$AI62,Přehled_body!$A$3:$A$130,0),MATCH(Tabulka!I$2,Přehled_body!$E$1:$ED$1,0)),)))","v":9.9999999999999994E-12},{"$f":"IF(IFERROR(INDEX(Přehled_body!$E$3:$ED$130,MATCH(Tabulka!$AI62,Přehled_body!$A$3:$A$130,0),MATCH(Tabulka!J$2,Přehled_body!$E$1:$ED$1,0)),)=\"\",,IF(IFERROR(INDEX(Přehled_body!$E$3:$ED$130,MATCH(Tabulka!$AI62,Přehled_body!$A$3:$A$130,0),MATCH(Tabulka!J$2,Přehled_body!$E$1:$ED$1,0)),)=0,0.00000000001,IFERROR(INDEX(Přehled_body!$E$3:$ED$130,MATCH(Tabulka!$AI62,Přehled_body!$A$3:$A$130,0),MATCH(Tabulka!J$2,Přehled_body!$E$1:$ED$1,0)),)))","v":9.9999999999999994E-12},{"$f":"IF(IFERROR(INDEX(Přehled_body!$E$3:$ED$130,MATCH(Tabulka!$AI62,Přehled_body!$A$3:$A$130,0),MATCH(Tabulka!K$2,Přehled_body!$E$1:$ED$1,0)),)=\"\",,IF(IFERROR(INDEX(Přehled_body!$E$3:$ED$130,MATCH(Tabulka!$AI62,Přehled_body!$A$3:$A$130,0),MATCH(Tabulka!K$2,Přehled_body!$E$1:$ED$1,0)),)=0,0.00000000001,IFERROR(INDEX(Přehled_body!$E$3:$ED$130,MATCH(Tabulka!$AI62,Přehled_body!$A$3:$A$130,0),MATCH(Tabulka!K$2,Přehled_body!$E$1:$ED$1,0)),)))","v":9.9999999999999994E-12},{"$f":"IF(IFERROR(INDEX(Přehled_body!$E$3:$ED$130,MATCH(Tabulka!$AI62,Přehled_body!$A$3:$A$130,0),MATCH(Tabulka!L$2,Přehled_body!$E$1:$ED$1,0)),)=\"\",,IF(IFERROR(INDEX(Přehled_body!$E$3:$ED$130,MATCH(Tabulka!$AI62,Přehled_body!$A$3:$A$130,0),MATCH(Tabulka!L$2,Přehled_body!$E$1:$ED$1,0)),)=0,0.00000000001,IFERROR(INDEX(Přehled_body!$E$3:$ED$130,MATCH(Tabulka!$AI62,Přehled_body!$A$3:$A$130,0),MATCH(Tabulka!L$2,Přehled_body!$E$1:$ED$1,0)),)))","v":9.9999999999999994E-12},{"$f":"IF(IFERROR(INDEX(Přehled_body!$E$3:$ED$130,MATCH(Tabulka!$AI62,Přehled_body!$A$3:$A$130,0),MATCH(Tabulka!M$2,Přehled_body!$E$1:$ED$1,0)),)=\"\",,IF(IFERROR(INDEX(Přehled_body!$E$3:$ED$130,MATCH(Tabulka!$AI62,Přehled_body!$A$3:$A$130,0),MATCH(Tabulka!M$2,Přehled_body!$E$1:$ED$1,0)),)=0,0.00000000001,IFERROR(INDEX(Přehled_body!$E$3:$ED$130,MATCH(Tabulka!$AI62,Přehled_body!$A$3:$A$130,0),MATCH(Tabulka!M$2,Přehled_body!$E$1:$ED$1,0)),)))","v":3},{"$f":"IF(IFERROR(INDEX(Přehled_body!$E$3:$ED$130,MATCH(Tabulka!$AI62,Přehled_body!$A$3:$A$130,0),MATCH(Tabulka!N$2,Přehled_body!$E$1:$ED$1,0)),)=\"\",,IF(IFERROR(INDEX(Přehled_body!$E$3:$ED$130,MATCH(Tabulka!$AI62,Přehled_body!$A$3:$A$130,0),MATCH(Tabulka!N$2,Přehled_body!$E$1:$ED$1,0)),)=0,0.00000000001,IFERROR(INDEX(Přehled_body!$E$3:$ED$130,MATCH(Tabulka!$AI62,Přehled_body!$A$3:$A$130,0),MATCH(Tabulka!N$2,Přehled_body!$E$1:$ED$1,0)),)))","v":0},{"$f":"IF(IFERROR(INDEX(Přehled_body!$E$3:$ED$130,MATCH(Tabulka!$AI62,Přehled_body!$A$3:$A$130,0),MATCH(Tabulka!O$2,Přehled_body!$E$1:$ED$1,0)),)=\"\",,IF(IFERROR(INDEX(Přehled_body!$E$3:$ED$130,MATCH(Tabulka!$AI62,Přehled_body!$A$3:$A$130,0),MATCH(Tabulka!O$2,Přehled_body!$E$1:$ED$1,0)),)=0,0.00000000001,IFERROR(INDEX(Přehled_body!$E$3:$ED$130,MATCH(Tabulka!$AI62,Přehled_body!$A$3:$A$130,0),MATCH(Tabulka!O$2,Přehled_body!$E$1:$ED$1,0)),)))","v":9.9999999999999994E-12},{"$f":"IF(IFERROR(INDEX(Přehled_body!$E$3:$ED$130,MATCH(Tabulka!$AI62,Přehled_body!$A$3:$A$130,0),MATCH(Tabulka!P$2,Přehled_body!$E$1:$ED$1,0)),)=\"\",,IF(IFERROR(INDEX(Přehled_body!$E$3:$ED$130,MATCH(Tabulka!$AI62,Přehled_body!$A$3:$A$130,0),MATCH(Tabulka!P$2,Přehled_body!$E$1:$ED$1,0)),)=0,0.00000000001,IFERROR(INDEX(Přehled_body!$E$3:$ED$130,MATCH(Tabulka!$AI62,Přehled_body!$A$3:$A$130,0),MATCH(Tabulka!P$2,Přehled_body!$E$1:$ED$1,0)),)))","v":9.9999999999999994E-12},{"$f":"IF(IFERROR(INDEX(Přehled_body!$E$3:$ED$130,MATCH(Tabulka!$AI62,Přehled_body!$A$3:$A$130,0),MATCH(Tabulka!Q$2,Přehled_body!$E$1:$ED$1,0)),)=\"\",,IF(IFERROR(INDEX(Přehled_body!$E$3:$ED$130,MATCH(Tabulka!$AI62,Přehled_body!$A$3:$A$130,0),MATCH(Tabulka!Q$2,Přehled_body!$E$1:$ED$1,0)),)=0,0.00000000001,IFERROR(INDEX(Přehled_body!$E$3:$ED$130,MATCH(Tabulka!$AI62,Přehled_body!$A$3:$A$130,0),MATCH(Tabulka!Q$2,Přehled_body!$E$1:$ED$1,0)),)))","v":1},{"$f":"IF(IFERROR(INDEX(Přehled_body!$E$3:$ED$130,MATCH(Tabulka!$AI62,Přehled_body!$A$3:$A$130,0),MATCH(Tabulka!R$2,Přehled_body!$E$1:$ED$1,0)),)=\"\",,IF(IFERROR(INDEX(Přehled_body!$E$3:$ED$130,MATCH(Tabulka!$AI62,Přehled_body!$A$3:$A$130,0),MATCH(Tabulka!R$2,Přehled_body!$E$1:$ED$1,0)),)=0,0.00000000001,IFERROR(INDEX(Přehled_body!$E$3:$ED$130,MATCH(Tabulka!$AI62,Přehled_body!$A$3:$A$130,0),MATCH(Tabulka!R$2,Přehled_body!$E$1:$ED$1,0)),)))","v":9.9999999999999994E-12},{"$f":"IF(IFERROR(INDEX(Přehled_body!$E$3:$ED$130,MATCH(Tabulka!$AI62,Přehled_body!$A$3:$A$130,0),MATCH(Tabulka!S$2,Přehled_body!$E$1:$ED$1,0)),)=\"\",,IF(IFERROR(INDEX(Přehled_body!$E$3:$ED$130,MATCH(Tabulka!$AI62,Přehled_body!$A$3:$A$130,0),MATCH(Tabulka!S$2,Přehled_body!$E$1:$ED$1,0)),)=0,0.00000000001,IFERROR(INDEX(Přehled_body!$E$3:$ED$130,MATCH(Tabulka!$AI62,Přehled_body!$A$3:$A$130,0),MATCH(Tabulka!S$2,Přehled_body!$E$1:$ED$1,0)),)))","v":1},{"$f":"IF(IFERROR(INDEX(Přehled_body!$E$3:$ED$130,MATCH(Tabulka!$AI62,Přehled_body!$A$3:$A$130,0),MATCH(Tabulka!T$2,Přehled_body!$E$1:$ED$1,0)),)=\"\",,IF(IFERROR(INDEX(Přehled_body!$E$3:$ED$130,MATCH(Tabulka!$AI62,Přehled_body!$A$3:$A$130,0),MATCH(Tabulka!T$2,Přehled_body!$E$1:$ED$1,0)),)=0,0.00000000001,IFERROR(INDEX(Přehled_body!$E$3:$ED$130,MATCH(Tabulka!$AI62,Přehled_body!$A$3:$A$130,0),MATCH(Tabulka!T$2,Přehled_body!$E$1:$ED$1,0)),)))","v":1},{"$f":"IF(IFERROR(INDEX(Přehled_body!$E$3:$ED$130,MATCH(Tabulka!$AI62,Přehled_body!$A$3:$A$130,0),MATCH(Tabulka!U$2,Přehled_body!$E$1:$ED$1,0)),)=\"\",,IF(IFERROR(INDEX(Přehled_body!$E$3:$ED$130,MATCH(Tabulka!$AI62,Přehled_body!$A$3:$A$130,0),MATCH(Tabulka!U$2,Přehled_body!$E$1:$ED$1,0)),)=0,0.00000000001,IFERROR(INDEX(Přehled_body!$E$3:$ED$130,MATCH(Tabulka!$AI62,Přehled_body!$A$3:$A$130,0),MATCH(Tabulka!U$2,Přehled_body!$E$1:$ED$1,0)),)))","v":0},{"$f":"IF(IFERROR(INDEX(Přehled_body!$E$3:$ED$130,MATCH(Tabulka!$AI62,Přehled_body!$A$3:$A$130,0),MATCH(Tabulka!V$2,Přehled_body!$E$1:$ED$1,0)),)=\"\",,IF(IFERROR(INDEX(Přehled_body!$E$3:$ED$130,MATCH(Tabulka!$AI62,Přehled_body!$A$3:$A$130,0),MATCH(Tabulka!V$2,Přehled_body!$E$1:$ED$1,0)),)=0,0.00000000001,IFERROR(INDEX(Přehled_body!$E$3:$ED$130,MATCH(Tabulka!$AI62,Přehled_body!$A$3:$A$130,0),MATCH(Tabulka!V$2,Přehled_body!$E$1:$ED$1,0)),)))","v":0},{"$f":"IF(IFERROR(INDEX(Přehled_body!$E$3:$ED$130,MATCH(Tabulka!$AI62,Přehled_body!$A$3:$A$130,0),MATCH(Tabulka!W$2,Přehled_body!$E$1:$ED$1,0)),)=\"\",,IF(IFERROR(INDEX(Přehled_body!$E$3:$ED$130,MATCH(Tabulka!$AI62,Přehled_body!$A$3:$A$130,0),MATCH(Tabulka!W$2,Přehled_body!$E$1:$ED$1,0)),)=0,0.00000000001,IFERROR(INDEX(Přehled_body!$E$3:$ED$130,MATCH(Tabulka!$AI62,Přehled_body!$A$3:$A$130,0),MATCH(Tabulka!W$2,Přehled_body!$E$1:$ED$1,0)),)))","v":0},{"$f":"IF(IFERROR(INDEX(Přehled_body!$E$3:$ED$130,MATCH(Tabulka!$AI62,Přehled_body!$A$3:$A$130,0),MATCH(Tabulka!X$2,Přehled_body!$E$1:$ED$1,0)),)=\"\",,IF(IFERROR(INDEX(Přehled_body!$E$3:$ED$130,MATCH(Tabulka!$AI62,Přehled_body!$A$3:$A$130,0),MATCH(Tabulka!X$2,Přehled_body!$E$1:$ED$1,0)),)=0,0.00000000001,IFERROR(INDEX(Přehled_body!$E$3:$ED$130,MATCH(Tabulka!$AI62,Přehled_body!$A$3:$A$130,0),MATCH(Tabulka!X$2,Přehled_body!$E$1:$ED$1,0)),)))","v":0},{"$f":"IF(IFERROR(INDEX(Přehled_body!$E$3:$ED$130,MATCH(Tabulka!$AI62,Přehled_body!$A$3:$A$130,0),MATCH(Tabulka!Y$2,Přehled_body!$E$1:$ED$1,0)),)=\"\",,IF(IFERROR(INDEX(Přehled_body!$E$3:$ED$130,MATCH(Tabulka!$AI62,Přehled_body!$A$3:$A$130,0),MATCH(Tabulka!Y$2,Přehled_body!$E$1:$ED$1,0)),)=0,0.00000000001,IFERROR(INDEX(Přehled_body!$E$3:$ED$130,MATCH(Tabulka!$AI62,Přehled_body!$A$3:$A$130,0),MATCH(Tabulka!Y$2,Přehled_body!$E$1:$ED$1,0)),)))","v":0},{"$f":"IF(IFERROR(INDEX(Přehled_body!$E$3:$ED$130,MATCH(Tabulka!$AI62,Přehled_body!$A$3:$A$130,0),MATCH(Tabulka!Z$2,Přehled_body!$E$1:$ED$1,0)),)=\"\",,IF(IFERROR(INDEX(Přehled_body!$E$3:$ED$130,MATCH(Tabulka!$AI62,Přehled_body!$A$3:$A$130,0),MATCH(Tabulka!Z$2,Přehled_body!$E$1:$ED$1,0)),)=0,0.00000000001,IFERROR(INDEX(Přehled_body!$E$3:$ED$130,MATCH(Tabulka!$AI62,Přehled_body!$A$3:$A$130,0),MATCH(Tabulka!Z$2,Přehled_body!$E$1:$ED$1,0)),)))","v":0},{"$f":"IF(IFERROR(INDEX(Přehled_body!$E$3:$ED$130,MATCH(Tabulka!$AI62,Přehled_body!$A$3:$A$130,0),MATCH(Tabulka!AA$2,Přehled_body!$E$1:$ED$1,0)),)=\"\",,IF(IFERROR(INDEX(Přehled_body!$E$3:$ED$130,MATCH(Tabulka!$AI62,Přehled_body!$A$3:$A$130,0),MATCH(Tabulka!AA$2,Přehled_body!$E$1:$ED$1,0)),)=0,0.00000000001,IFERROR(INDEX(Přehled_body!$E$3:$ED$130,MATCH(Tabulka!$AI62,Přehled_body!$A$3:$A$130,0),MATCH(Tabulka!AA$2,Přehled_body!$E$1:$ED$1,0)),)))","v":0},{"$f":"IF(IFERROR(INDEX(Přehled_body!$E$3:$ED$130,MATCH(Tabulka!$AI62,Přehled_body!$A$3:$A$130,0),MATCH(Tabulka!AB$2,Přehled_body!$E$1:$ED$1,0)),)=\"\",,IF(IFERROR(INDEX(Přehled_body!$E$3:$ED$130,MATCH(Tabulka!$AI62,Přehled_body!$A$3:$A$130,0),MATCH(Tabulka!AB$2,Přehled_body!$E$1:$ED$1,0)),)=0,0.00000000001,IFERROR(INDEX(Přehled_body!$E$3:$ED$130,MATCH(Tabulka!$AI62,Přehled_body!$A$3:$A$130,0),MATCH(Tabulka!AB$2,Přehled_body!$E$1:$ED$1,0)),)))","v":0},{"$f":"IF(IFERROR(INDEX(Přehled_body!$E$3:$ED$130,MATCH(Tabulka!$AI62,Přehled_body!$A$3:$A$130,0),MATCH(Tabulka!AC$2,Přehled_body!$E$1:$ED$1,0)),)=\"\",,IF(IFERROR(INDEX(Přehled_body!$E$3:$ED$130,MATCH(Tabulka!$AI62,Přehled_body!$A$3:$A$130,0),MATCH(Tabulka!AC$2,Přehled_body!$E$1:$ED$1,0)),)=0,0.00000000001,IFERROR(INDEX(Přehled_body!$E$3:$ED$130,MATCH(Tabulka!$AI62,Přehled_body!$A$3:$A$130,0),MATCH(Tabulka!AC$2,Přehled_body!$E$1:$ED$1,0)),)))","v":0},{"$f":"IF(IFERROR(INDEX(Přehled_body!$E$3:$ED$130,MATCH(Tabulka!$AI62,Přehled_body!$A$3:$A$130,0),MATCH(Tabulka!AD$2,Přehled_body!$E$1:$ED$1,0)),)=\"\",,IF(IFERROR(INDEX(Přehled_body!$E$3:$ED$130,MATCH(Tabulka!$AI62,Přehled_body!$A$3:$A$130,0),MATCH(Tabulka!AD$2,Přehled_body!$E$1:$ED$1,0)),)=0,0.00000000001,IFERROR(INDEX(Přehled_body!$E$3:$ED$130,MATCH(Tabulka!$AI62,Přehled_body!$A$3:$A$130,0),MATCH(Tabulka!AD$2,Přehled_body!$E$1:$ED$1,0)),)))","v":0},{"$f":"IF(SUM(AG59)<2,-90000+SUM(D62:AD62),SUM(D62:AD62))","v":10.000000000089999},null,null,10.000000000089999,{"$f":"CONCATENATE($B$60,\" \",$B$61,C62)","v":"Standa RothPřehozy"},null,null,15,null,null,null,{"$f":"CONCATENATE(AQ62,\" \",AQ61)","v":"Chalupník Míra"},"Chalupník"]
[null,null,"Poč. kol",{"$f":"IF(IFERROR(INDEX(Přehled_body!$E$3:$ED$130,MATCH(Tabulka!$AI63,Přehled_body!$A$3:$A$130,0),MATCH(Tabulka!D$2,Přehled_body!$E$1:$ED$1,0)),)=\"\",,IF(IFERROR(INDEX(Přehled_body!$E$3:$ED$130,MATCH(Tabulka!$AI63,Přehled_body!$A$3:$A$130,0),MATCH(Tabulka!D$2,Přehled_body!$E$1:$ED$1,0)),)=0,0.00000000001,IFERROR(INDEX(Přehled_body!$E$3:$ED$130,MATCH(Tabulka!$AI63,Přehled_body!$A$3:$A$130,0),MATCH(Tabulka!D$2,Přehled_body!$E$1:$ED$1,0)),)))","v":4},{"$f":"IF(IFERROR(INDEX(Přehled_body!$E$3:$ED$130,MATCH(Tabulka!$AI63,Přehled_body!$A$3:$A$130,0),MATCH(Tabulka!E$2,Přehled_body!$E$1:$ED$1,0)),)=\"\",,IF(IFERROR(INDEX(Přehled_body!$E$3:$ED$130,MATCH(Tabulka!$AI63,Přehled_body!$A$3:$A$130,0),MATCH(Tabulka!E$2,Přehled_body!$E$1:$ED$1,0)),)=0,0.00000000001,IFERROR(INDEX(Přehled_body!$E$3:$ED$130,MATCH(Tabulka!$AI63,Přehled_body!$A$3:$A$130,0),MATCH(Tabulka!E$2,Přehled_body!$E$1:$ED$1,0)),)))","v":4},{"$f":"IF(IFERROR(INDEX(Přehled_body!$E$3:$ED$130,MATCH(Tabulka!$AI63,Přehled_body!$A$3:$A$130,0),MATCH(Tabulka!F$2,Přehled_body!$E$1:$ED$1,0)),)=\"\",,IF(IFERROR(INDEX(Přehled_body!$E$3:$ED$130,MATCH(Tabulka!$AI63,Přehled_body!$A$3:$A$130,0),MATCH(Tabulka!F$2,Přehled_body!$E$1:$ED$1,0)),)=0,0.00000000001,IFERROR(INDEX(Přehled_body!$E$3:$ED$130,MATCH(Tabulka!$AI63,Přehled_body!$A$3:$A$130,0),MATCH(Tabulka!F$2,Přehled_body!$E$1:$ED$1,0)),)))","v":0},{"$f":"IF(IFERROR(INDEX(Přehled_body!$E$3:$ED$130,MATCH(Tabulka!$AI63,Přehled_body!$A$3:$A$130,0),MATCH(Tabulka!G$2,Přehled_body!$E$1:$ED$1,0)),)=\"\",,IF(IFERROR(INDEX(Přehled_body!$E$3:$ED$130,MATCH(Tabulka!$AI63,Přehled_body!$A$3:$A$130,0),MATCH(Tabulka!G$2,Přehled_body!$E$1:$ED$1,0)),)=0,0.00000000001,IFERROR(INDEX(Přehled_body!$E$3:$ED$130,MATCH(Tabulka!$AI63,Přehled_body!$A$3:$A$130,0),MATCH(Tabulka!G$2,Přehled_body!$E$1:$ED$1,0)),)))","v":4},{"$f":"IF(IFERROR(INDEX(Přehled_body!$E$3:$ED$130,MATCH(Tabulka!$AI63,Přehled_body!$A$3:$A$130,0),MATCH(Tabulka!H$2,Přehled_body!$E$1:$ED$1,0)),)=\"\",,IF(IFERROR(INDEX(Přehled_body!$E$3:$ED$130,MATCH(Tabulka!$AI63,Přehled_body!$A$3:$A$130,0),MATCH(Tabulka!H$2,Přehled_body!$E$1:$ED$1,0)),)=0,0.00000000001,IFERROR(INDEX(Přehled_body!$E$3:$ED$130,MATCH(Tabulka!$AI63,Přehled_body!$A$3:$A$130,0),MATCH(Tabulka!H$2,Přehled_body!$E$1:$ED$1,0)),)))","v":4},{"$f":"IF(IFERROR(INDEX(Přehled_body!$E$3:$ED$130,MATCH(Tabulka!$AI63,Přehled_body!$A$3:$A$130,0),MATCH(Tabulka!I$2,Přehled_body!$E$1:$ED$1,0)),)=\"\",,IF(IFERROR(INDEX(Přehled_body!$E$3:$ED$130,MATCH(Tabulka!$AI63,Přehled_body!$A$3:$A$130,0),MATCH(Tabulka!I$2,Přehled_body!$E$1:$ED$1,0)),)=0,0.00000000001,IFERROR(INDEX(Přehled_body!$E$3:$ED$130,MATCH(Tabulka!$AI63,Přehled_body!$A$3:$A$130,0),MATCH(Tabulka!I$2,Přehled_body!$E$1:$ED$1,0)),)))","v":4},{"$f":"IF(IFERROR(INDEX(Přehled_body!$E$3:$ED$130,MATCH(Tabulka!$AI63,Přehled_body!$A$3:$A$130,0),MATCH(Tabulka!J$2,Přehled_body!$E$1:$ED$1,0)),)=\"\",,IF(IFERROR(INDEX(Přehled_body!$E$3:$ED$130,MATCH(Tabulka!$AI63,Přehled_body!$A$3:$A$130,0),MATCH(Tabulka!J$2,Přehled_body!$E$1:$ED$1,0)),)=0,0.00000000001,IFERROR(INDEX(Přehled_body!$E$3:$ED$130,MATCH(Tabulka!$AI63,Přehled_body!$A$3:$A$130,0),MATCH(Tabulka!J$2,Přehled_body!$E$1:$ED$1,0)),)))","v":4},{"$f":"IF(IFERROR(INDEX(Přehled_body!$E$3:$ED$130,MATCH(Tabulka!$AI63,Přehled_body!$A$3:$A$130,0),MATCH(Tabulka!K$2,Přehled_body!$E$1:$ED$1,0)),)=\"\",,IF(IFERROR(INDEX(Přehled_body!$E$3:$ED$130,MATCH(Tabulka!$AI63,Přehled_body!$A$3:$A$130,0),MATCH(Tabulka!K$2,Přehled_body!$E$1:$ED$1,0)),)=0,0.00000000001,IFERROR(INDEX(Přehled_body!$E$3:$ED$130,MATCH(Tabulka!$AI63,Přehled_body!$A$3:$A$130,0),MATCH(Tabulka!K$2,Přehled_body!$E$1:$ED$1,0)),)))","v":4},{"$f":"IF(IFERROR(INDEX(Přehled_body!$E$3:$ED$130,MATCH(Tabulka!$AI63,Přehled_body!$A$3:$A$130,0),MATCH(Tabulka!L$2,Přehled_body!$E$1:$ED$1,0)),)=\"\",,IF(IFERROR(INDEX(Přehled_body!$E$3:$ED$130,MATCH(Tabulka!$AI63,Přehled_body!$A$3:$A$130,0),MATCH(Tabulka!L$2,Přehled_body!$E$1:$ED$1,0)),)=0,0.00000000001,IFERROR(INDEX(Přehled_body!$E$3:$ED$130,MATCH(Tabulka!$AI63,Přehled_body!$A$3:$A$130,0),MATCH(Tabulka!L$2,Přehled_body!$E$1:$ED$1,0)),)))","v":3},{"$f":"IF(IFERROR(INDEX(Přehled_body!$E$3:$ED$130,MATCH(Tabulka!$AI63,Přehled_body!$A$3:$A$130,0),MATCH(Tabulka!M$2,Přehled_body!$E$1:$ED$1,0)),)=\"\",,IF(IFERROR(INDEX(Přehled_body!$E$3:$ED$130,MATCH(Tabulka!$AI63,Přehled_body!$A$3:$A$130,0),MATCH(Tabulka!M$2,Přehled_body!$E$1:$ED$1,0)),)=0,0.00000000001,IFERROR(INDEX(Přehled_body!$E$3:$ED$130,MATCH(Tabulka!$AI63,Přehled_body!$A$3:$A$130,0),MATCH(Tabulka!M$2,Přehled_body!$E$1:$ED$1,0)),)))","v":4},{"$f":"IF(IFERROR(INDEX(Přehled_body!$E$3:$ED$130,MATCH(Tabulka!$AI63,Přehled_body!$A$3:$A$130,0),MATCH(Tabulka!N$2,Přehled_body!$E$1:$ED$1,0)),)=\"\",,IF(IFERROR(INDEX(Přehled_body!$E$3:$ED$130,MATCH(Tabulka!$AI63,Přehled_body!$A$3:$A$130,0),MATCH(Tabulka!N$2,Přehled_body!$E$1:$ED$1,0)),)=0,0.00000000001,IFERROR(INDEX(Přehled_body!$E$3:$ED$130,MATCH(Tabulka!$AI63,Přehled_body!$A$3:$A$130,0),MATCH(Tabulka!N$2,Přehled_body!$E$1:$ED$1,0)),)))","v":0},{"$f":"IF(IFERROR(INDEX(Přehled_body!$E$3:$ED$130,MATCH(Tabulka!$AI63,Přehled_body!$A$3:$A$130,0),MATCH(Tabulka!O$2,Přehled_body!$E$1:$ED$1,0)),)=\"\",,IF(IFERROR(INDEX(Přehled_body!$E$3:$ED$130,MATCH(Tabulka!$AI63,Přehled_body!$A$3:$A$130,0),MATCH(Tabulka!O$2,Přehled_body!$E$1:$ED$1,0)),)=0,0.00000000001,IFERROR(INDEX(Přehled_body!$E$3:$ED$130,MATCH(Tabulka!$AI63,Přehled_body!$A$3:$A$130,0),MATCH(Tabulka!O$2,Přehled_body!$E$1:$ED$1,0)),)))","v":4},{"$f":"IF(IFERROR(INDEX(Přehled_body!$E$3:$ED$130,MATCH(Tabulka!$AI63,Přehled_body!$A$3:$A$130,0),MATCH(Tabulka!P$2,Přehled_body!$E$1:$ED$1,0)),)=\"\",,IF(IFERROR(INDEX(Přehled_body!$E$3:$ED$130,MATCH(Tabulka!$AI63,Přehled_body!$A$3:$A$130,0),MATCH(Tabulka!P$2,Přehled_body!$E$1:$ED$1,0)),)=0,0.00000000001,IFERROR(INDEX(Přehled_body!$E$3:$ED$130,MATCH(Tabulka!$AI63,Přehled_body!$A$3:$A$130,0),MATCH(Tabulka!P$2,Přehled_body!$E$1:$ED$1,0)),)))","v":4},{"$f":"IF(IFERROR(INDEX(Přehled_body!$E$3:$ED$130,MATCH(Tabulka!$AI63,Přehled_body!$A$3:$A$130,0),MATCH(Tabulka!Q$2,Přehled_body!$E$1:$ED$1,0)),)=\"\",,IF(IFERROR(INDEX(Přehled_body!$E$3:$ED$130,MATCH(Tabulka!$AI63,Přehled_body!$A$3:$A$130,0),MATCH(Tabulka!Q$2,Přehled_body!$E$1:$ED$1,0)),)=0,0.00000000001,IFERROR(INDEX(Přehled_body!$E$3:$ED$130,MATCH(Tabulka!$AI63,Přehled_body!$A$3:$A$130,0),MATCH(Tabulka!Q$2,Přehled_body!$E$1:$ED$1,0)),)))","v":5},{"$f":"IF(IFERROR(INDEX(Přehled_body!$E$3:$ED$130,MATCH(Tabulka!$AI63,Přehled_body!$A$3:$A$130,0),MATCH(Tabulka!R$2,Přehled_body!$E$1:$ED$1,0)),)=\"\",,IF(IFERROR(INDEX(Přehled_body!$E$3:$ED$130,MATCH(Tabulka!$AI63,Přehled_body!$A$3:$A$130,0),MATCH(Tabulka!R$2,Přehled_body!$E$1:$ED$1,0)),)=0,0.00000000001,IFERROR(INDEX(Přehled_body!$E$3:$ED$130,MATCH(Tabulka!$AI63,Přehled_body!$A$3:$A$130,0),MATCH(Tabulka!R$2,Přehled_body!$E$1:$ED$1,0)),)))","v":4},{"$f":"IF(IFERROR(INDEX(Přehled_body!$E$3:$ED$130,MATCH(Tabulka!$AI63,Přehled_body!$A$3:$A$130,0),MATCH(Tabulka!S$2,Přehled_body!$E$1:$ED$1,0)),)=\"\",,IF(IFERROR(INDEX(Přehled_body!$E$3:$ED$130,MATCH(Tabulka!$AI63,Přehled_body!$A$3:$A$130,0),MATCH(Tabulka!S$2,Přehled_body!$E$1:$ED$1,0)),)=0,0.00000000001,IFERROR(INDEX(Přehled_body!$E$3:$ED$130,MATCH(Tabulka!$AI63,Přehled_body!$A$3:$A$130,0),MATCH(Tabulka!S$2,Přehled_body!$E$1:$ED$1,0)),)))","v":4},{"$f":"IF(IFERROR(INDEX(Přehled_body!$E$3:$ED$130,MATCH(Tabulka!$AI63,Přehled_body!$A$3:$A$130,0),MATCH(Tabulka!T$2,Přehled_body!$E$1:$ED$1,0)),)=\"\",,IF(IFERROR(INDEX(Přehled_body!$E$3:$ED$130,MATCH(Tabulka!$AI63,Přehled_body!$A$3:$A$130,0),MATCH(Tabulka!T$2,Přehled_body!$E$1:$ED$1,0)),)=0,0.00000000001,IFERROR(INDEX(Přehled_body!$E$3:$ED$130,MATCH(Tabulka!$AI63,Přehled_body!$A$3:$A$130,0),MATCH(Tabulka!T$2,Přehled_body!$E$1:$ED$1,0)),)))","v":4},{"$f":"IF(IFERROR(INDEX(Přehled_body!$E$3:$ED$130,MATCH(Tabulka!$AI63,Přehled_body!$A$3:$A$130,0),MATCH(Tabulka!U$2,Přehled_body!$E$1:$ED$1,0)),)=\"\",,IF(IFERROR(INDEX(Přehled_body!$E$3:$ED$130,MATCH(Tabulka!$AI63,Přehled_body!$A$3:$A$130,0),MATCH(Tabulka!U$2,Přehled_body!$E$1:$ED$1,0)),)=0,0.00000000001,IFERROR(INDEX(Přehled_body!$E$3:$ED$130,MATCH(Tabulka!$AI63,Přehled_body!$A$3:$A$130,0),MATCH(Tabulka!U$2,Přehled_body!$E$1:$ED$1,0)),)))","v":0},{"$f":"IF(IFERROR(INDEX(Přehled_body!$E$3:$ED$130,MATCH(Tabulka!$AI63,Přehled_body!$A$3:$A$130,0),MATCH(Tabulka!V$2,Přehled_body!$E$1:$ED$1,0)),)=\"\",,IF(IFERROR(INDEX(Přehled_body!$E$3:$ED$130,MATCH(Tabulka!$AI63,Přehled_body!$A$3:$A$130,0),MATCH(Tabulka!V$2,Přehled_body!$E$1:$ED$1,0)),)=0,0.00000000001,IFERROR(INDEX(Přehled_body!$E$3:$ED$130,MATCH(Tabulka!$AI63,Přehled_body!$A$3:$A$130,0),MATCH(Tabulka!V$2,Přehled_body!$E$1:$ED$1,0)),)))","v":0},{"$f":"IF(IFERROR(INDEX(Přehled_body!$E$3:$ED$130,MATCH(Tabulka!$AI63,Přehled_body!$A$3:$A$130,0),MATCH(Tabulka!W$2,Přehled_body!$E$1:$ED$1,0)),)=\"\",,IF(IFERROR(INDEX(Přehled_body!$E$3:$ED$130,MATCH(Tabulka!$AI63,Přehled_body!$A$3:$A$130,0),MATCH(Tabulka!W$2,Přehled_body!$E$1:$ED$1,0)),)=0,0.00000000001,IFERROR(INDEX(Přehled_body!$E$3:$ED$130,MATCH(Tabulka!$AI63,Přehled_body!$A$3:$A$130,0),MATCH(Tabulka!W$2,Přehled_body!$E$1:$ED$1,0)),)))","v":0},{"$f":"IF(IFERROR(INDEX(Přehled_body!$E$3:$ED$130,MATCH(Tabulka!$AI63,Přehled_body!$A$3:$A$130,0),MATCH(Tabulka!X$2,Přehled_body!$E$1:$ED$1,0)),)=\"\",,IF(IFERROR(INDEX(Přehled_body!$E$3:$ED$130,MATCH(Tabulka!$AI63,Přehled_body!$A$3:$A$130,0),MATCH(Tabulka!X$2,Přehled_body!$E$1:$ED$1,0)),)=0,0.00000000001,IFERROR(INDEX(Přehled_body!$E$3:$ED$130,MATCH(Tabulka!$AI63,Přehled_body!$A$3:$A$130,0),MATCH(Tabulka!X$2,Přehled_body!$E$1:$ED$1,0)),)))","v":0},{"$f":"IF(IFERROR(INDEX(Přehled_body!$E$3:$ED$130,MATCH(Tabulka!$AI63,Přehled_body!$A$3:$A$130,0),MATCH(Tabulka!Y$2,Přehled_body!$E$1:$ED$1,0)),)=\"\",,IF(IFERROR(INDEX(Přehled_body!$E$3:$ED$130,MATCH(Tabulka!$AI63,Přehled_body!$A$3:$A$130,0),MATCH(Tabulka!Y$2,Přehled_body!$E$1:$ED$1,0)),)=0,0.00000000001,IFERROR(INDEX(Přehled_body!$E$3:$ED$130,MATCH(Tabulka!$AI63,Přehled_body!$A$3:$A$130,0),MATCH(Tabulka!Y$2,Přehled_body!$E$1:$ED$1,0)),)))","v":0},{"$f":"IF(IFERROR(INDEX(Přehled_body!$E$3:$ED$130,MATCH(Tabulka!$AI63,Přehled_body!$A$3:$A$130,0),MATCH(Tabulka!Z$2,Přehled_body!$E$1:$ED$1,0)),)=\"\",,IF(IFERROR(INDEX(Přehled_body!$E$3:$ED$130,MATCH(Tabulka!$AI63,Přehled_body!$A$3:$A$130,0),MATCH(Tabulka!Z$2,Přehled_body!$E$1:$ED$1,0)),)=0,0.00000000001,IFERROR(INDEX(Přehled_body!$E$3:$ED$130,MATCH(Tabulka!$AI63,Přehled_body!$A$3:$A$130,0),MATCH(Tabulka!Z$2,Přehled_body!$E$1:$ED$1,0)),)))","v":0},{"$f":"IF(IFERROR(INDEX(Přehled_body!$E$3:$ED$130,MATCH(Tabulka!$AI63,Přehled_body!$A$3:$A$130,0),MATCH(Tabulka!AA$2,Přehled_body!$E$1:$ED$1,0)),)=\"\",,IF(IFERROR(INDEX(Přehled_body!$E$3:$ED$130,MATCH(Tabulka!$AI63,Přehled_body!$A$3:$A$130,0),MATCH(Tabulka!AA$2,Přehled_body!$E$1:$ED$1,0)),)=0,0.00000000001,IFERROR(INDEX(Přehled_body!$E$3:$ED$130,MATCH(Tabulka!$AI63,Přehled_body!$A$3:$A$130,0),MATCH(Tabulka!AA$2,Přehled_body!$E$1:$ED$1,0)),)))","v":0},{"$f":"IF(IFERROR(INDEX(Přehled_body!$E$3:$ED$130,MATCH(Tabulka!$AI63,Přehled_body!$A$3:$A$130,0),MATCH(Tabulka!AB$2,Přehled_body!$E$1:$ED$1,0)),)=\"\",,IF(IFERROR(INDEX(Přehled_body!$E$3:$ED$130,MATCH(Tabulka!$AI63,Přehled_body!$A$3:$A$130,0),MATCH(Tabulka!AB$2,Přehled_body!$E$1:$ED$1,0)),)=0,0.00000000001,IFERROR(INDEX(Přehled_body!$E$3:$ED$130,MATCH(Tabulka!$AI63,Přehled_body!$A$3:$A$130,0),MATCH(Tabulka!AB$2,Přehled_body!$E$1:$ED$1,0)),)))","v":0},{"$f":"IF(IFERROR(INDEX(Přehled_body!$E$3:$ED$130,MATCH(Tabulka!$AI63,Přehled_body!$A$3:$A$130,0),MATCH(Tabulka!AC$2,Přehled_body!$E$1:$ED$1,0)),)=\"\",,IF(IFERROR(INDEX(Přehled_body!$E$3:$ED$130,MATCH(Tabulka!$AI63,Přehled_body!$A$3:$A$130,0),MATCH(Tabulka!AC$2,Přehled_body!$E$1:$ED$1,0)),)=0,0.00000000001,IFERROR(INDEX(Přehled_body!$E$3:$ED$130,MATCH(Tabulka!$AI63,Přehled_body!$A$3:$A$130,0),MATCH(Tabulka!AC$2,Přehled_body!$E$1:$ED$1,0)),)))","v":0},{"$f":"IF(IFERROR(INDEX(Přehled_body!$E$3:$ED$130,MATCH(Tabulka!$AI63,Přehled_body!$A$3:$A$130,0),MATCH(Tabulka!AD$2,Přehled_body!$E$1:$ED$1,0)),)=\"\",,IF(IFERROR(INDEX(Přehled_body!$E$3:$ED$130,MATCH(Tabulka!$AI63,Přehled_body!$A$3:$A$130,0),MATCH(Tabulka!AD$2,Přehled_body!$E$1:$ED$1,0)),)=0,0.00000000001,IFERROR(INDEX(Přehled_body!$E$3:$ED$130,MATCH(Tabulka!$AI63,Přehled_body!$A$3:$A$130,0),MATCH(Tabulka!AD$2,Přehled_body!$E$1:$ED$1,0)),)))","v":0},{"$f":"IF(SUM(AG59)<2,-90000+SUM(D63:AD63),SUM(D63:AD63))","v":60},null,null,60,{"$f":"CONCATENATE($B$60,\" \",$B$61,C63)","v":"Standa RothPoč. kol"},null,null,15]
[13,null,"Výhry",{"$f":"IF(IFERROR(INDEX(Přehled_body!$E$3:$ED$130,MATCH(Tabulka!$AI64,Přehled_body!$A$3:$A$130,0),MATCH(Tabulka!D$2,Přehled_body!$E$1:$ED$1,0)),)=\"\",,IF(IFERROR(INDEX(Přehled_body!$E$3:$ED$130,MATCH(Tabulka!$AI64,Přehled_body!$A$3:$A$130,0),MATCH(Tabulka!D$2,Přehled_body!$E$1:$ED$1,0)),)=0,0.00000000001,IFERROR(INDEX(Přehled_body!$E$3:$ED$130,MATCH(Tabulka!$AI64,Přehled_body!$A$3:$A$130,0),MATCH(Tabulka!D$2,Přehled_body!$E$1:$ED$1,0)),)))","v":0},{"$f":"IF(IFERROR(INDEX(Přehled_body!$E$3:$ED$130,MATCH(Tabulka!$AI64,Přehled_body!$A$3:$A$130,0),MATCH(Tabulka!E$2,Přehled_body!$E$1:$ED$1,0)),)=\"\",,IF(IFERROR(INDEX(Přehled_body!$E$3:$ED$130,MATCH(Tabulka!$AI64,Přehled_body!$A$3:$A$130,0),MATCH(Tabulka!E$2,Přehled_body!$E$1:$ED$1,0)),)=0,0.00000000001,IFERROR(INDEX(Přehled_body!$E$3:$ED$130,MATCH(Tabulka!$AI64,Přehled_body!$A$3:$A$130,0),MATCH(Tabulka!E$2,Přehled_body!$E$1:$ED$1,0)),)))","v":0},{"$f":"IF(IFERROR(INDEX(Přehled_body!$E$3:$ED$130,MATCH(Tabulka!$AI64,Přehled_body!$A$3:$A$130,0),MATCH(Tabulka!F$2,Přehled_body!$E$1:$ED$1,0)),)=\"\",,IF(IFERROR(INDEX(Přehled_body!$E$3:$ED$130,MATCH(Tabulka!$AI64,Přehled_body!$A$3:$A$130,0),MATCH(Tabulka!F$2,Přehled_body!$E$1:$ED$1,0)),)=0,0.00000000001,IFERROR(INDEX(Přehled_body!$E$3:$ED$130,MATCH(Tabulka!$AI64,Přehled_body!$A$3:$A$130,0),MATCH(Tabulka!F$2,Přehled_body!$E$1:$ED$1,0)),)))","v":0},{"$f":"IF(IFERROR(INDEX(Přehled_body!$E$3:$ED$130,MATCH(Tabulka!$AI64,Přehled_body!$A$3:$A$130,0),MATCH(Tabulka!G$2,Přehled_body!$E$1:$ED$1,0)),)=\"\",,IF(IFERROR(INDEX(Přehled_body!$E$3:$ED$130,MATCH(Tabulka!$AI64,Přehled_body!$A$3:$A$130,0),MATCH(Tabulka!G$2,Přehled_body!$E$1:$ED$1,0)),)=0,0.00000000001,IFERROR(INDEX(Přehled_body!$E$3:$ED$130,MATCH(Tabulka!$AI64,Přehled_body!$A$3:$A$130,0),MATCH(Tabulka!G$2,Přehled_body!$E$1:$ED$1,0)),)))","v":0},{"$f":"IF(IFERROR(INDEX(Přehled_body!$E$3:$ED$130,MATCH(Tabulka!$AI64,Přehled_body!$A$3:$A$130,0),MATCH(Tabulka!H$2,Přehled_body!$E$1:$ED$1,0)),)=\"\",,IF(IFERROR(INDEX(Přehled_body!$E$3:$ED$130,MATCH(Tabulka!$AI64,Přehled_body!$A$3:$A$130,0),MATCH(Tabulka!H$2,Přehled_body!$E$1:$ED$1,0)),)=0,0.00000000001,IFERROR(INDEX(Přehled_body!$E$3:$ED$130,MATCH(Tabulka!$AI64,Přehled_body!$A$3:$A$130,0),MATCH(Tabulka!H$2,Přehled_body!$E$1:$ED$1,0)),)))","v":1},{"$f":"IF(IFERROR(INDEX(Přehled_body!$E$3:$ED$130,MATCH(Tabulka!$AI64,Přehled_body!$A$3:$A$130,0),MATCH(Tabulka!I$2,Přehled_body!$E$1:$ED$1,0)),)=\"\",,IF(IFERROR(INDEX(Přehled_body!$E$3:$ED$130,MATCH(Tabulka!$AI64,Přehled_body!$A$3:$A$130,0),MATCH(Tabulka!I$2,Přehled_body!$E$1:$ED$1,0)),)=0,0.00000000001,IFERROR(INDEX(Přehled_body!$E$3:$ED$130,MATCH(Tabulka!$AI64,Přehled_body!$A$3:$A$130,0),MATCH(Tabulka!I$2,Přehled_body!$E$1:$ED$1,0)),)))","v":0},{"$f":"IF(IFERROR(INDEX(Přehled_body!$E$3:$ED$130,MATCH(Tabulka!$AI64,Přehled_body!$A$3:$A$130,0),MATCH(Tabulka!J$2,Přehled_body!$E$1:$ED$1,0)),)=\"\",,IF(IFERROR(INDEX(Přehled_body!$E$3:$ED$130,MATCH(Tabulka!$AI64,Přehled_body!$A$3:$A$130,0),MATCH(Tabulka!J$2,Přehled_body!$E$1:$ED$1,0)),)=0,0.00000000001,IFERROR(INDEX(Přehled_body!$E$3:$ED$130,MATCH(Tabulka!$AI64,Přehled_body!$A$3:$A$130,0),MATCH(Tabulka!J$2,Přehled_body!$E$1:$ED$1,0)),)))","v":0},{"$f":"IF(IFERROR(INDEX(Přehled_body!$E$3:$ED$130,MATCH(Tabulka!$AI64,Přehled_body!$A$3:$A$130,0),MATCH(Tabulka!K$2,Přehled_body!$E$1:$ED$1,0)),)=\"\",,IF(IFERROR(INDEX(Přehled_body!$E$3:$ED$130,MATCH(Tabulka!$AI64,Přehled_body!$A$3:$A$130,0),MATCH(Tabulka!K$2,Přehled_body!$E$1:$ED$1,0)),)=0,0.00000000001,IFERROR(INDEX(Přehled_body!$E$3:$ED$130,MATCH(Tabulka!$AI64,Přehled_body!$A$3:$A$130,0),MATCH(Tabulka!K$2,Přehled_body!$E$1:$ED$1,0)),)))","v":0},{"$f":"IF(IFERROR(INDEX(Přehled_body!$E$3:$ED$130,MATCH(Tabulka!$AI64,Přehled_body!$A$3:$A$130,0),MATCH(Tabulka!L$2,Přehled_body!$E$1:$ED$1,0)),)=\"\",,IF(IFERROR(INDEX(Přehled_body!$E$3:$ED$130,MATCH(Tabulka!$AI64,Přehled_body!$A$3:$A$130,0),MATCH(Tabulka!L$2,Přehled_body!$E$1:$ED$1,0)),)=0,0.00000000001,IFERROR(INDEX(Přehled_body!$E$3:$ED$130,MATCH(Tabulka!$AI64,Přehled_body!$A$3:$A$130,0),MATCH(Tabulka!L$2,Přehled_body!$E$1:$ED$1,0)),)))","v":0},{"$f":"IF(IFERROR(INDEX(Přehled_body!$E$3:$ED$130,MATCH(Tabulka!$AI64,Přehled_body!$A$3:$A$130,0),MATCH(Tabulka!M$2,Přehled_body!$E$1:$ED$1,0)),)=\"\",,IF(IFERROR(INDEX(Přehled_body!$E$3:$ED$130,MATCH(Tabulka!$AI64,Přehled_body!$A$3:$A$130,0),MATCH(Tabulka!M$2,Přehled_body!$E$1:$ED$1,0)),)=0,0.00000000001,IFERROR(INDEX(Přehled_body!$E$3:$ED$130,MATCH(Tabulka!$AI64,Přehled_body!$A$3:$A$130,0),MATCH(Tabulka!M$2,Přehled_body!$E$1:$ED$1,0)),)))","v":0},{"$f":"IF(IFERROR(INDEX(Přehled_body!$E$3:$ED$130,MATCH(Tabulka!$AI64,Přehled_body!$A$3:$A$130,0),MATCH(Tabulka!N$2,Přehled_body!$E$1:$ED$1,0)),)=\"\",,IF(IFERROR(INDEX(Přehled_body!$E$3:$ED$130,MATCH(Tabulka!$AI64,Přehled_body!$A$3:$A$130,0),MATCH(Tabulka!N$2,Přehled_body!$E$1:$ED$1,0)),)=0,0.00000000001,IFERROR(INDEX(Přehled_body!$E$3:$ED$130,MATCH(Tabulka!$AI64,Přehled_body!$A$3:$A$130,0),MATCH(Tabulka!N$2,Přehled_body!$E$1:$ED$1,0)),)))","v":0},{"$f":"IF(IFERROR(INDEX(Přehled_body!$E$3:$ED$130,MATCH(Tabulka!$AI64,Přehled_body!$A$3:$A$130,0),MATCH(Tabulka!O$2,Přehled_body!$E$1:$ED$1,0)),)=\"\",,IF(IFERROR(INDEX(Přehled_body!$E$3:$ED$130,MATCH(Tabulka!$AI64,Přehled_body!$A$3:$A$130,0),MATCH(Tabulka!O$2,Přehled_body!$E$1:$ED$1,0)),)=0,0.00000000001,IFERROR(INDEX(Přehled_body!$E$3:$ED$130,MATCH(Tabulka!$AI64,Přehled_body!$A$3:$A$130,0),MATCH(Tabulka!O$2,Přehled_body!$E$1:$ED$1,0)),)))","v":0},{"$f":"IF(IFERROR(INDEX(Přehled_body!$E$3:$ED$130,MATCH(Tabulka!$AI64,Přehled_body!$A$3:$A$130,0),MATCH(Tabulka!P$2,Přehled_body!$E$1:$ED$1,0)),)=\"\",,IF(IFERROR(INDEX(Přehled_body!$E$3:$ED$130,MATCH(Tabulka!$AI64,Přehled_body!$A$3:$A$130,0),MATCH(Tabulka!P$2,Přehled_body!$E$1:$ED$1,0)),)=0,0.00000000001,IFERROR(INDEX(Přehled_body!$E$3:$ED$130,MATCH(Tabulka!$AI64,Přehled_body!$A$3:$A$130,0),MATCH(Tabulka!P$2,Přehled_body!$E$1:$ED$1,0)),)))","v":0},{"$f":"IF(IFERROR(INDEX(Přehled_body!$E$3:$ED$130,MATCH(Tabulka!$AI64,Přehled_body!$A$3:$A$130,0),MATCH(Tabulka!Q$2,Přehled_body!$E$1:$ED$1,0)),)=\"\",,IF(IFERROR(INDEX(Přehled_body!$E$3:$ED$130,MATCH(Tabulka!$AI64,Přehled_body!$A$3:$A$130,0),MATCH(Tabulka!Q$2,Přehled_body!$E$1:$ED$1,0)),)=0,0.00000000001,IFERROR(INDEX(Přehled_body!$E$3:$ED$130,MATCH(Tabulka!$AI64,Přehled_body!$A$3:$A$130,0),MATCH(Tabulka!Q$2,Přehled_body!$E$1:$ED$1,0)),)))","v":0},{"$f":"IF(IFERROR(INDEX(Přehled_body!$E$3:$ED$130,MATCH(Tabulka!$AI64,Přehled_body!$A$3:$A$130,0),MATCH(Tabulka!R$2,Přehled_body!$E$1:$ED$1,0)),)=\"\",,IF(IFERROR(INDEX(Přehled_body!$E$3:$ED$130,MATCH(Tabulka!$AI64,Přehled_body!$A$3:$A$130,0),MATCH(Tabulka!R$2,Přehled_body!$E$1:$ED$1,0)),)=0,0.00000000001,IFERROR(INDEX(Přehled_body!$E$3:$ED$130,MATCH(Tabulka!$AI64,Přehled_body!$A$3:$A$130,0),MATCH(Tabulka!R$2,Přehled_body!$E$1:$ED$1,0)),)))","v":0},{"$f":"IF(IFERROR(INDEX(Přehled_body!$E$3:$ED$130,MATCH(Tabulka!$AI64,Přehled_body!$A$3:$A$130,0),MATCH(Tabulka!S$2,Přehled_body!$E$1:$ED$1,0)),)=\"\",,IF(IFERROR(INDEX(Přehled_body!$E$3:$ED$130,MATCH(Tabulka!$AI64,Přehled_body!$A$3:$A$130,0),MATCH(Tabulka!S$2,Přehled_body!$E$1:$ED$1,0)),)=0,0.00000000001,IFERROR(INDEX(Přehled_body!$E$3:$ED$130,MATCH(Tabulka!$AI64,Přehled_body!$A$3:$A$130,0),MATCH(Tabulka!S$2,Přehled_body!$E$1:$ED$1,0)),)))","v":0},{"$f":"IF(IFERROR(INDEX(Přehled_body!$E$3:$ED$130,MATCH(Tabulka!$AI64,Přehled_body!$A$3:$A$130,0),MATCH(Tabulka!T$2,Přehled_body!$E$1:$ED$1,0)),)=\"\",,IF(IFERROR(INDEX(Přehled_body!$E$3:$ED$130,MATCH(Tabulka!$AI64,Přehled_body!$A$3:$A$130,0),MATCH(Tabulka!T$2,Přehled_body!$E$1:$ED$1,0)),)=0,0.00000000001,IFERROR(INDEX(Přehled_body!$E$3:$ED$130,MATCH(Tabulka!$AI64,Přehled_body!$A$3:$A$130,0),MATCH(Tabulka!T$2,Přehled_body!$E$1:$ED$1,0)),)))","v":0},{"$f":"IF(IFERROR(INDEX(Přehled_body!$E$3:$ED$130,MATCH(Tabulka!$AI64,Přehled_body!$A$3:$A$130,0),MATCH(Tabulka!U$2,Přehled_body!$E$1:$ED$1,0)),)=\"\",,IF(IFERROR(INDEX(Přehled_body!$E$3:$ED$130,MATCH(Tabulka!$AI64,Přehled_body!$A$3:$A$130,0),MATCH(Tabulka!U$2,Přehled_body!$E$1:$ED$1,0)),)=0,0.00000000001,IFERROR(INDEX(Přehled_body!$E$3:$ED$130,MATCH(Tabulka!$AI64,Přehled_body!$A$3:$A$130,0),MATCH(Tabulka!U$2,Přehled_body!$E$1:$ED$1,0)),)))","v":0},{"$f":"IF(IFERROR(INDEX(Přehled_body!$E$3:$ED$130,MATCH(Tabulka!$AI64,Přehled_body!$A$3:$A$130,0),MATCH(Tabulka!V$2,Přehled_body!$E$1:$ED$1,0)),)=\"\",,IF(IFERROR(INDEX(Přehled_body!$E$3:$ED$130,MATCH(Tabulka!$AI64,Přehled_body!$A$3:$A$130,0),MATCH(Tabulka!V$2,Přehled_body!$E$1:$ED$1,0)),)=0,0.00000000001,IFERROR(INDEX(Přehled_body!$E$3:$ED$130,MATCH(Tabulka!$AI64,Přehled_body!$A$3:$A$130,0),MATCH(Tabulka!V$2,Přehled_body!$E$1:$ED$1,0)),)))","v":0},{"$f":"IF(IFERROR(INDEX(Přehled_body!$E$3:$ED$130,MATCH(Tabulka!$AI64,Přehled_body!$A$3:$A$130,0),MATCH(Tabulka!W$2,Přehled_body!$E$1:$ED$1,0)),)=\"\",,IF(IFERROR(INDEX(Přehled_body!$E$3:$ED$130,MATCH(Tabulka!$AI64,Přehled_body!$A$3:$A$130,0),MATCH(Tabulka!W$2,Přehled_body!$E$1:$ED$1,0)),)=0,0.00000000001,IFERROR(INDEX(Přehled_body!$E$3:$ED$130,MATCH(Tabulka!$AI64,Přehled_body!$A$3:$A$130,0),MATCH(Tabulka!W$2,Přehled_body!$E$1:$ED$1,0)),)))","v":0},{"$f":"IF(IFERROR(INDEX(Přehled_body!$E$3:$ED$130,MATCH(Tabulka!$AI64,Přehled_body!$A$3:$A$130,0),MATCH(Tabulka!X$2,Přehled_body!$E$1:$ED$1,0)),)=\"\",,IF(IFERROR(INDEX(Přehled_body!$E$3:$ED$130,MATCH(Tabulka!$AI64,Přehled_body!$A$3:$A$130,0),MATCH(Tabulka!X$2,Přehled_body!$E$1:$ED$1,0)),)=0,0.00000000001,IFERROR(INDEX(Přehled_body!$E$3:$ED$130,MATCH(Tabulka!$AI64,Přehled_body!$A$3:$A$130,0),MATCH(Tabulka!X$2,Přehled_body!$E$1:$ED$1,0)),)))","v":0},{"$f":"IF(IFERROR(INDEX(Přehled_body!$E$3:$ED$130,MATCH(Tabulka!$AI64,Přehled_body!$A$3:$A$130,0),MATCH(Tabulka!Y$2,Přehled_body!$E$1:$ED$1,0)),)=\"\",,IF(IFERROR(INDEX(Přehled_body!$E$3:$ED$130,MATCH(Tabulka!$AI64,Přehled_body!$A$3:$A$130,0),MATCH(Tabulka!Y$2,Přehled_body!$E$1:$ED$1,0)),)=0,0.00000000001,IFERROR(INDEX(Přehled_body!$E$3:$ED$130,MATCH(Tabulka!$AI64,Přehled_body!$A$3:$A$130,0),MATCH(Tabulka!Y$2,Přehled_body!$E$1:$ED$1,0)),)))","v":0},{"$f":"IF(IFERROR(INDEX(Přehled_body!$E$3:$ED$130,MATCH(Tabulka!$AI64,Přehled_body!$A$3:$A$130,0),MATCH(Tabulka!Z$2,Přehled_body!$E$1:$ED$1,0)),)=\"\",,IF(IFERROR(INDEX(Přehled_body!$E$3:$ED$130,MATCH(Tabulka!$AI64,Přehled_body!$A$3:$A$130,0),MATCH(Tabulka!Z$2,Přehled_body!$E$1:$ED$1,0)),)=0,0.00000000001,IFERROR(INDEX(Přehled_body!$E$3:$ED$130,MATCH(Tabulka!$AI64,Přehled_body!$A$3:$A$130,0),MATCH(Tabulka!Z$2,Přehled_body!$E$1:$ED$1,0)),)))","v":0},{"$f":"IF(IFERROR(INDEX(Přehled_body!$E$3:$ED$130,MATCH(Tabulka!$AI64,Přehled_body!$A$3:$A$130,0),MATCH(Tabulka!AA$2,Přehled_body!$E$1:$ED$1,0)),)=\"\",,IF(IFERROR(INDEX(Přehled_body!$E$3:$ED$130,MATCH(Tabulka!$AI64,Přehled_body!$A$3:$A$130,0),MATCH(Tabulka!AA$2,Přehled_body!$E$1:$ED$1,0)),)=0,0.00000000001,IFERROR(INDEX(Přehled_body!$E$3:$ED$130,MATCH(Tabulka!$AI64,Přehled_body!$A$3:$A$130,0),MATCH(Tabulka!AA$2,Přehled_body!$E$1:$ED$1,0)),)))","v":0},{"$f":"IF(IFERROR(INDEX(Přehled_body!$E$3:$ED$130,MATCH(Tabulka!$AI64,Přehled_body!$A$3:$A$130,0),MATCH(Tabulka!AB$2,Přehled_body!$E$1:$ED$1,0)),)=\"\",,IF(IFERROR(INDEX(Přehled_body!$E$3:$ED$130,MATCH(Tabulka!$AI64,Přehled_body!$A$3:$A$130,0),MATCH(Tabulka!AB$2,Přehled_body!$E$1:$ED$1,0)),)=0,0.00000000001,IFERROR(INDEX(Přehled_body!$E$3:$ED$130,MATCH(Tabulka!$AI64,Přehled_body!$A$3:$A$130,0),MATCH(Tabulka!AB$2,Přehled_body!$E$1:$ED$1,0)),)))","v":0},{"$f":"IF(IFERROR(INDEX(Přehled_body!$E$3:$ED$130,MATCH(Tabulka!$AI64,Přehled_body!$A$3:$A$130,0),MATCH(Tabulka!AC$2,Přehled_body!$E$1:$ED$1,0)),)=\"\",,IF(IFERROR(INDEX(Přehled_body!$E$3:$ED$130,MATCH(Tabulka!$AI64,Přehled_body!$A$3:$A$130,0),MATCH(Tabulka!AC$2,Přehled_body!$E$1:$ED$1,0)),)=0,0.00000000001,IFERROR(INDEX(Přehled_body!$E$3:$ED$130,MATCH(Tabulka!$AI64,Přehled_body!$A$3:$A$130,0),MATCH(Tabulka!AC$2,Přehled_body!$E$1:$ED$1,0)),)))","v":0},{"$f":"IF(IFERROR(INDEX(Přehled_body!$E$3:$ED$130,MATCH(Tabulka!$AI64,Přehled_body!$A$3:$A$130,0),MATCH(Tabulka!AD$2,Přehled_body!$E$1:$ED$1,0)),)=\"\",,IF(IFERROR(INDEX(Přehled_body!$E$3:$ED$130,MATCH(Tabulka!$AI64,Přehled_body!$A$3:$A$130,0),MATCH(Tabulka!AD$2,Přehled_body!$E$1:$ED$1,0)),)=0,0.00000000001,IFERROR(INDEX(Přehled_body!$E$3:$ED$130,MATCH(Tabulka!$AI64,Přehled_body!$A$3:$A$130,0),MATCH(Tabulka!AD$2,Přehled_body!$E$1:$ED$1,0)),)))","v":0},{"$f":"IF(SUM(AG64)<2,-90000+SUM(D64:AD64),SUM(D64:AD64))","v":-89999},null,{"$f":"COUNTIF(D64:AD64,\">0\")","v":1},1,{"$f":"CONCATENATE($B$65,\" \",$B$66,C64)","v":"Karel KarlVýhry"},null,null,1]
[{"$f":"CONCATENATE(B65,\" \",B66)","v":"Karel Karl"},"Karel","Prohry",{"$f":"IF(IFERROR(INDEX(Přehled_body!$E$3:$ED$130,MATCH(Tabulka!$AI65,Přehled_body!$A$3:$A$130,0),MATCH(Tabulka!D$2,Přehled_body!$E$1:$ED$1,0)),)=\"\",,IF(IFERROR(INDEX(Přehled_body!$E$3:$ED$130,MATCH(Tabulka!$AI65,Přehled_body!$A$3:$A$130,0),MATCH(Tabulka!D$2,Přehled_body!$E$1:$ED$1,0)),)=0,0.00000000001,IFERROR(INDEX(Přehled_body!$E$3:$ED$130,MATCH(Tabulka!$AI65,Přehled_body!$A$3:$A$130,0),MATCH(Tabulka!D$2,Přehled_body!$E$1:$ED$1,0)),)))","v":0},{"$f":"IF(IFERROR(INDEX(Přehled_body!$E$3:$ED$130,MATCH(Tabulka!$AI65,Přehled_body!$A$3:$A$130,0),MATCH(Tabulka!E$2,Přehled_body!$E$1:$ED$1,0)),)=\"\",,IF(IFERROR(INDEX(Přehled_body!$E$3:$ED$130,MATCH(Tabulka!$AI65,Přehled_body!$A$3:$A$130,0),MATCH(Tabulka!E$2,Přehled_body!$E$1:$ED$1,0)),)=0,0.00000000001,IFERROR(INDEX(Přehled_body!$E$3:$ED$130,MATCH(Tabulka!$AI65,Přehled_body!$A$3:$A$130,0),MATCH(Tabulka!E$2,Přehled_body!$E$1:$ED$1,0)),)))","v":0},{"$f":"IF(IFERROR(INDEX(Přehled_body!$E$3:$ED$130,MATCH(Tabulka!$AI65,Přehled_body!$A$3:$A$130,0),MATCH(Tabulka!F$2,Přehled_body!$E$1:$ED$1,0)),)=\"\",,IF(IFERROR(INDEX(Přehled_body!$E$3:$ED$130,MATCH(Tabulka!$AI65,Přehled_body!$A$3:$A$130,0),MATCH(Tabulka!F$2,Přehled_body!$E$1:$ED$1,0)),)=0,0.00000000001,IFERROR(INDEX(Přehled_body!$E$3:$ED$130,MATCH(Tabulka!$AI65,Přehled_body!$A$3:$A$130,0),MATCH(Tabulka!F$2,Přehled_body!$E$1:$ED$1,0)),)))","v":0},{"$f":"IF(IFERROR(INDEX(Přehled_body!$E$3:$ED$130,MATCH(Tabulka!$AI65,Přehled_body!$A$3:$A$130,0),MATCH(Tabulka!G$2,Přehled_body!$E$1:$ED$1,0)),)=\"\",,IF(IFERROR(INDEX(Přehled_body!$E$3:$ED$130,MATCH(Tabulka!$AI65,Přehled_body!$A$3:$A$130,0),MATCH(Tabulka!G$2,Přehled_body!$E$1:$ED$1,0)),)=0,0.00000000001,IFERROR(INDEX(Přehled_body!$E$3:$ED$130,MATCH(Tabulka!$AI65,Přehled_body!$A$3:$A$130,0),MATCH(Tabulka!G$2,Přehled_body!$E$1:$ED$1,0)),)))","v":0},{"$f":"IF(IFERROR(INDEX(Přehled_body!$E$3:$ED$130,MATCH(Tabulka!$AI65,Přehled_body!$A$3:$A$130,0),MATCH(Tabulka!H$2,Přehled_body!$E$1:$ED$1,0)),)=\"\",,IF(IFERROR(INDEX(Přehled_body!$E$3:$ED$130,MATCH(Tabulka!$AI65,Přehled_body!$A$3:$A$130,0),MATCH(Tabulka!H$2,Přehled_body!$E$1:$ED$1,0)),)=0,0.00000000001,IFERROR(INDEX(Přehled_body!$E$3:$ED$130,MATCH(Tabulka!$AI65,Přehled_body!$A$3:$A$130,0),MATCH(Tabulka!H$2,Přehled_body!$E$1:$ED$1,0)),)))","v":2},{"$f":"IF(IFERROR(INDEX(Přehled_body!$E$3:$ED$130,MATCH(Tabulka!$AI65,Přehled_body!$A$3:$A$130,0),MATCH(Tabulka!I$2,Přehled_body!$E$1:$ED$1,0)),)=\"\",,IF(IFERROR(INDEX(Přehled_body!$E$3:$ED$130,MATCH(Tabulka!$AI65,Přehled_body!$A$3:$A$130,0),MATCH(Tabulka!I$2,Přehled_body!$E$1:$ED$1,0)),)=0,0.00000000001,IFERROR(INDEX(Přehled_body!$E$3:$ED$130,MATCH(Tabulka!$AI65,Přehled_body!$A$3:$A$130,0),MATCH(Tabulka!I$2,Přehled_body!$E$1:$ED$1,0)),)))","v":0},{"$f":"IF(IFERROR(INDEX(Přehled_body!$E$3:$ED$130,MATCH(Tabulka!$AI65,Přehled_body!$A$3:$A$130,0),MATCH(Tabulka!J$2,Přehled_body!$E$1:$ED$1,0)),)=\"\",,IF(IFERROR(INDEX(Přehled_body!$E$3:$ED$130,MATCH(Tabulka!$AI65,Přehled_body!$A$3:$A$130,0),MATCH(Tabulka!J$2,Přehled_body!$E$1:$ED$1,0)),)=0,0.00000000001,IFERROR(INDEX(Přehled_body!$E$3:$ED$130,MATCH(Tabulka!$AI65,Přehled_body!$A$3:$A$130,0),MATCH(Tabulka!J$2,Přehled_body!$E$1:$ED$1,0)),)))","v":0},{"$f":"IF(IFERROR(INDEX(Přehled_body!$E$3:$ED$130,MATCH(Tabulka!$AI65,Přehled_body!$A$3:$A$130,0),MATCH(Tabulka!K$2,Přehled_body!$E$1:$ED$1,0)),)=\"\",,IF(IFERROR(INDEX(Přehled_body!$E$3:$ED$130,MATCH(Tabulka!$AI65,Přehled_body!$A$3:$A$130,0),MATCH(Tabulka!K$2,Přehled_body!$E$1:$ED$1,0)),)=0,0.00000000001,IFERROR(INDEX(Přehled_body!$E$3:$ED$130,MATCH(Tabulka!$AI65,Přehled_body!$A$3:$A$130,0),MATCH(Tabulka!K$2,Přehled_body!$E$1:$ED$1,0)),)))","v":0},{"$f":"IF(IFERROR(INDEX(Přehled_body!$E$3:$ED$130,MATCH(Tabulka!$AI65,Přehled_body!$A$3:$A$130,0),MATCH(Tabulka!L$2,Přehled_body!$E$1:$ED$1,0)),)=\"\",,IF(IFERROR(INDEX(Přehled_body!$E$3:$ED$130,MATCH(Tabulka!$AI65,Přehled_body!$A$3:$A$130,0),MATCH(Tabulka!L$2,Přehled_body!$E$1:$ED$1,0)),)=0,0.00000000001,IFERROR(INDEX(Přehled_body!$E$3:$ED$130,MATCH(Tabulka!$AI65,Přehled_body!$A$3:$A$130,0),MATCH(Tabulka!L$2,Přehled_body!$E$1:$ED$1,0)),)))","v":0},{"$f":"IF(IFERROR(INDEX(Přehled_body!$E$3:$ED$130,MATCH(Tabulka!$AI65,Přehled_body!$A$3:$A$130,0),MATCH(Tabulka!M$2,Přehled_body!$E$1:$ED$1,0)),)=\"\",,IF(IFERROR(INDEX(Přehled_body!$E$3:$ED$130,MATCH(Tabulka!$AI65,Přehled_body!$A$3:$A$130,0),MATCH(Tabulka!M$2,Přehled_body!$E$1:$ED$1,0)),)=0,0.00000000001,IFERROR(INDEX(Přehled_body!$E$3:$ED$130,MATCH(Tabulka!$AI65,Přehled_body!$A$3:$A$130,0),MATCH(Tabulka!M$2,Přehled_body!$E$1:$ED$1,0)),)))","v":0},{"$f":"IF(IFERROR(INDEX(Přehled_body!$E$3:$ED$130,MATCH(Tabulka!$AI65,Přehled_body!$A$3:$A$130,0),MATCH(Tabulka!N$2,Přehled_body!$E$1:$ED$1,0)),)=\"\",,IF(IFERROR(INDEX(Přehled_body!$E$3:$ED$130,MATCH(Tabulka!$AI65,Přehled_body!$A$3:$A$130,0),MATCH(Tabulka!N$2,Přehled_body!$E$1:$ED$1,0)),)=0,0.00000000001,IFERROR(INDEX(Přehled_body!$E$3:$ED$130,MATCH(Tabulka!$AI65,Přehled_body!$A$3:$A$130,0),MATCH(Tabulka!N$2,Přehled_body!$E$1:$ED$1,0)),)))","v":0},{"$f":"IF(IFERROR(INDEX(Přehled_body!$E$3:$ED$130,MATCH(Tabulka!$AI65,Přehled_body!$A$3:$A$130,0),MATCH(Tabulka!O$2,Přehled_body!$E$1:$ED$1,0)),)=\"\",,IF(IFERROR(INDEX(Přehled_body!$E$3:$ED$130,MATCH(Tabulka!$AI65,Přehled_body!$A$3:$A$130,0),MATCH(Tabulka!O$2,Přehled_body!$E$1:$ED$1,0)),)=0,0.00000000001,IFERROR(INDEX(Přehled_body!$E$3:$ED$130,MATCH(Tabulka!$AI65,Přehled_body!$A$3:$A$130,0),MATCH(Tabulka!O$2,Přehled_body!$E$1:$ED$1,0)),)))","v":0},{"$f":"IF(IFERROR(INDEX(Přehled_body!$E$3:$ED$130,MATCH(Tabulka!$AI65,Přehled_body!$A$3:$A$130,0),MATCH(Tabulka!P$2,Přehled_body!$E$1:$ED$1,0)),)=\"\",,IF(IFERROR(INDEX(Přehled_body!$E$3:$ED$130,MATCH(Tabulka!$AI65,Přehled_body!$A$3:$A$130,0),MATCH(Tabulka!P$2,Přehled_body!$E$1:$ED$1,0)),)=0,0.00000000001,IFERROR(INDEX(Přehled_body!$E$3:$ED$130,MATCH(Tabulka!$AI65,Přehled_body!$A$3:$A$130,0),MATCH(Tabulka!P$2,Přehled_body!$E$1:$ED$1,0)),)))","v":0},{"$f":"IF(IFERROR(INDEX(Přehled_body!$E$3:$ED$130,MATCH(Tabulka!$AI65,Přehled_body!$A$3:$A$130,0),MATCH(Tabulka!Q$2,Přehled_body!$E$1:$ED$1,0)),)=\"\",,IF(IFERROR(INDEX(Přehled_body!$E$3:$ED$130,MATCH(Tabulka!$AI65,Přehled_body!$A$3:$A$130,0),MATCH(Tabulka!Q$2,Přehled_body!$E$1:$ED$1,0)),)=0,0.00000000001,IFERROR(INDEX(Přehled_body!$E$3:$ED$130,MATCH(Tabulka!$AI65,Přehled_body!$A$3:$A$130,0),MATCH(Tabulka!Q$2,Přehled_body!$E$1:$ED$1,0)),)))","v":0},{"$f":"IF(IFERROR(INDEX(Přehled_body!$E$3:$ED$130,MATCH(Tabulka!$AI65,Přehled_body!$A$3:$A$130,0),MATCH(Tabulka!R$2,Přehled_body!$E$1:$ED$1,0)),)=\"\",,IF(IFERROR(INDEX(Přehled_body!$E$3:$ED$130,MATCH(Tabulka!$AI65,Přehled_body!$A$3:$A$130,0),MATCH(Tabulka!R$2,Přehled_body!$E$1:$ED$1,0)),)=0,0.00000000001,IFERROR(INDEX(Přehled_body!$E$3:$ED$130,MATCH(Tabulka!$AI65,Přehled_body!$A$3:$A$130,0),MATCH(Tabulka!R$2,Přehled_body!$E$1:$ED$1,0)),)))","v":0},{"$f":"IF(IFERROR(INDEX(Přehled_body!$E$3:$ED$130,MATCH(Tabulka!$AI65,Přehled_body!$A$3:$A$130,0),MATCH(Tabulka!S$2,Přehled_body!$E$1:$ED$1,0)),)=\"\",,IF(IFERROR(INDEX(Přehled_body!$E$3:$ED$130,MATCH(Tabulka!$AI65,Přehled_body!$A$3:$A$130,0),MATCH(Tabulka!S$2,Přehled_body!$E$1:$ED$1,0)),)=0,0.00000000001,IFERROR(INDEX(Přehled_body!$E$3:$ED$130,MATCH(Tabulka!$AI65,Přehled_body!$A$3:$A$130,0),MATCH(Tabulka!S$2,Přehled_body!$E$1:$ED$1,0)),)))","v":0},{"$f":"IF(IFERROR(INDEX(Přehled_body!$E$3:$ED$130,MATCH(Tabulka!$AI65,Přehled_body!$A$3:$A$130,0),MATCH(Tabulka!T$2,Přehled_body!$E$1:$ED$1,0)),)=\"\",,IF(IFERROR(INDEX(Přehled_body!$E$3:$ED$130,MATCH(Tabulka!$AI65,Přehled_body!$A$3:$A$130,0),MATCH(Tabulka!T$2,Přehled_body!$E$1:$ED$1,0)),)=0,0.00000000001,IFERROR(INDEX(Přehled_body!$E$3:$ED$130,MATCH(Tabulka!$AI65,Přehled_body!$A$3:$A$130,0),MATCH(Tabulka!T$2,Přehled_body!$E$1:$ED$1,0)),)))","v":0},{"$f":"IF(IFERROR(INDEX(Přehled_body!$E$3:$ED$130,MATCH(Tabulka!$AI65,Přehled_body!$A$3:$A$130,0),MATCH(Tabulka!U$2,Přehled_body!$E$1:$ED$1,0)),)=\"\",,IF(IFERROR(INDEX(Přehled_body!$E$3:$ED$130,MATCH(Tabulka!$AI65,Přehled_body!$A$3:$A$130,0),MATCH(Tabulka!U$2,Přehled_body!$E$1:$ED$1,0)),)=0,0.00000000001,IFERROR(INDEX(Přehled_body!$E$3:$ED$130,MATCH(Tabulka!$AI65,Přehled_body!$A$3:$A$130,0),MATCH(Tabulka!U$2,Přehled_body!$E$1:$ED$1,0)),)))","v":0},{"$f":"IF(IFERROR(INDEX(Přehled_body!$E$3:$ED$130,MATCH(Tabulka!$AI65,Přehled_body!$A$3:$A$130,0),MATCH(Tabulka!V$2,Přehled_body!$E$1:$ED$1,0)),)=\"\",,IF(IFERROR(INDEX(Přehled_body!$E$3:$ED$130,MATCH(Tabulka!$AI65,Přehled_body!$A$3:$A$130,0),MATCH(Tabulka!V$2,Přehled_body!$E$1:$ED$1,0)),)=0,0.00000000001,IFERROR(INDEX(Přehled_body!$E$3:$ED$130,MATCH(Tabulka!$AI65,Přehled_body!$A$3:$A$130,0),MATCH(Tabulka!V$2,Přehled_body!$E$1:$ED$1,0)),)))","v":0},{"$f":"IF(IFERROR(INDEX(Přehled_body!$E$3:$ED$130,MATCH(Tabulka!$AI65,Přehled_body!$A$3:$A$130,0),MATCH(Tabulka!W$2,Přehled_body!$E$1:$ED$1,0)),)=\"\",,IF(IFERROR(INDEX(Přehled_body!$E$3:$ED$130,MATCH(Tabulka!$AI65,Přehled_body!$A$3:$A$130,0),MATCH(Tabulka!W$2,Přehled_body!$E$1:$ED$1,0)),)=0,0.00000000001,IFERROR(INDEX(Přehled_body!$E$3:$ED$130,MATCH(Tabulka!$AI65,Přehled_body!$A$3:$A$130,0),MATCH(Tabulka!W$2,Přehled_body!$E$1:$ED$1,0)),)))","v":0},{"$f":"IF(IFERROR(INDEX(Přehled_body!$E$3:$ED$130,MATCH(Tabulka!$AI65,Přehled_body!$A$3:$A$130,0),MATCH(Tabulka!X$2,Přehled_body!$E$1:$ED$1,0)),)=\"\",,IF(IFERROR(INDEX(Přehled_body!$E$3:$ED$130,MATCH(Tabulka!$AI65,Přehled_body!$A$3:$A$130,0),MATCH(Tabulka!X$2,Přehled_body!$E$1:$ED$1,0)),)=0,0.00000000001,IFERROR(INDEX(Přehled_body!$E$3:$ED$130,MATCH(Tabulka!$AI65,Přehled_body!$A$3:$A$130,0),MATCH(Tabulka!X$2,Přehled_body!$E$1:$ED$1,0)),)))","v":0},{"$f":"IF(IFERROR(INDEX(Přehled_body!$E$3:$ED$130,MATCH(Tabulka!$AI65,Přehled_body!$A$3:$A$130,0),MATCH(Tabulka!Y$2,Přehled_body!$E$1:$ED$1,0)),)=\"\",,IF(IFERROR(INDEX(Přehled_body!$E$3:$ED$130,MATCH(Tabulka!$AI65,Přehled_body!$A$3:$A$130,0),MATCH(Tabulka!Y$2,Přehled_body!$E$1:$ED$1,0)),)=0,0.00000000001,IFERROR(INDEX(Přehled_body!$E$3:$ED$130,MATCH(Tabulka!$AI65,Přehled_body!$A$3:$A$130,0),MATCH(Tabulka!Y$2,Přehled_body!$E$1:$ED$1,0)),)))","v":0},{"$f":"IF(IFERROR(INDEX(Přehled_body!$E$3:$ED$130,MATCH(Tabulka!$AI65,Přehled_body!$A$3:$A$130,0),MATCH(Tabulka!Z$2,Přehled_body!$E$1:$ED$1,0)),)=\"\",,IF(IFERROR(INDEX(Přehled_body!$E$3:$ED$130,MATCH(Tabulka!$AI65,Přehled_body!$A$3:$A$130,0),MATCH(Tabulka!Z$2,Přehled_body!$E$1:$ED$1,0)),)=0,0.00000000001,IFERROR(INDEX(Přehled_body!$E$3:$ED$130,MATCH(Tabulka!$AI65,Přehled_body!$A$3:$A$130,0),MATCH(Tabulka!Z$2,Přehled_body!$E$1:$ED$1,0)),)))","v":0},{"$f":"IF(IFERROR(INDEX(Přehled_body!$E$3:$ED$130,MATCH(Tabulka!$AI65,Přehled_body!$A$3:$A$130,0),MATCH(Tabulka!AA$2,Přehled_body!$E$1:$ED$1,0)),)=\"\",,IF(IFERROR(INDEX(Přehled_body!$E$3:$ED$130,MATCH(Tabulka!$AI65,Přehled_body!$A$3:$A$130,0),MATCH(Tabulka!AA$2,Přehled_body!$E$1:$ED$1,0)),)=0,0.00000000001,IFERROR(INDEX(Přehled_body!$E$3:$ED$130,MATCH(Tabulka!$AI65,Přehled_body!$A$3:$A$130,0),MATCH(Tabulka!AA$2,Přehled_body!$E$1:$ED$1,0)),)))","v":0},{"$f":"IF(IFERROR(INDEX(Přehled_body!$E$3:$ED$130,MATCH(Tabulka!$AI65,Přehled_body!$A$3:$A$130,0),MATCH(Tabulka!AB$2,Přehled_body!$E$1:$ED$1,0)),)=\"\",,IF(IFERROR(INDEX(Přehled_body!$E$3:$ED$130,MATCH(Tabulka!$AI65,Přehled_body!$A$3:$A$130,0),MATCH(Tabulka!AB$2,Přehled_body!$E$1:$ED$1,0)),)=0,0.00000000001,IFERROR(INDEX(Přehled_body!$E$3:$ED$130,MATCH(Tabulka!$AI65,Přehled_body!$A$3:$A$130,0),MATCH(Tabulka!AB$2,Přehled_body!$E$1:$ED$1,0)),)))","v":0},{"$f":"IF(IFERROR(INDEX(Přehled_body!$E$3:$ED$130,MATCH(Tabulka!$AI65,Přehled_body!$A$3:$A$130,0),MATCH(Tabulka!AC$2,Přehled_body!$E$1:$ED$1,0)),)=\"\",,IF(IFERROR(INDEX(Přehled_body!$E$3:$ED$130,MATCH(Tabulka!$AI65,Přehled_body!$A$3:$A$130,0),MATCH(Tabulka!AC$2,Přehled_body!$E$1:$ED$1,0)),)=0,0.00000000001,IFERROR(INDEX(Přehled_body!$E$3:$ED$130,MATCH(Tabulka!$AI65,Přehled_body!$A$3:$A$130,0),MATCH(Tabulka!AC$2,Přehled_body!$E$1:$ED$1,0)),)))","v":0},{"$f":"IF(IFERROR(INDEX(Přehled_body!$E$3:$ED$130,MATCH(Tabulka!$AI65,Přehled_body!$A$3:$A$130,0),MATCH(Tabulka!AD$2,Přehled_body!$E$1:$ED$1,0)),)=\"\",,IF(IFERROR(INDEX(Přehled_body!$E$3:$ED$130,MATCH(Tabulka!$AI65,Přehled_body!$A$3:$A$130,0),MATCH(Tabulka!AD$2,Přehled_body!$E$1:$ED$1,0)),)=0,0.00000000001,IFERROR(INDEX(Přehled_body!$E$3:$ED$130,MATCH(Tabulka!$AI65,Přehled_body!$A$3:$A$130,0),MATCH(Tabulka!AD$2,Přehled_body!$E$1:$ED$1,0)),)))","v":0},{"$f":"IF(SUM(AG64)<2,-90000+SUM(D65:AD65),SUM(D65:AD65))","v":-89998},{"$f":"SUM(AE64-AE65)","v":-1},null,2,{"$f":"CONCATENATE($B$65,\" \",$B$66,C65)","v":"Karel KarlProhry"},null,null,1,null,null,"Karel",13]
[{"$f":"CONCATENATE(B66,\" \",B65)","v":"Karl Karel"},"Karl","Placeno panáků",{"$f":"IF(IFERROR(INDEX(Přehled_body!$E$3:$ED$130,MATCH(Tabulka!$AI66,Přehled_body!$A$3:$A$130,0),MATCH(Tabulka!D$2,Přehled_body!$E$1:$ED$1,0)),)=\"\",,IF(IFERROR(INDEX(Přehled_body!$E$3:$ED$130,MATCH(Tabulka!$AI66,Přehled_body!$A$3:$A$130,0),MATCH(Tabulka!D$2,Přehled_body!$E$1:$ED$1,0)),)=0,0.00000000001,IFERROR(INDEX(Přehled_body!$E$3:$ED$130,MATCH(Tabulka!$AI66,Přehled_body!$A$3:$A$130,0),MATCH(Tabulka!D$2,Přehled_body!$E$1:$ED$1,0)),)))","v":0},{"$f":"IF(IFERROR(INDEX(Přehled_body!$E$3:$ED$130,MATCH(Tabulka!$AI66,Přehled_body!$A$3:$A$130,0),MATCH(Tabulka!E$2,Přehled_body!$E$1:$ED$1,0)),)=\"\",,IF(IFERROR(INDEX(Přehled_body!$E$3:$ED$130,MATCH(Tabulka!$AI66,Přehled_body!$A$3:$A$130,0),MATCH(Tabulka!E$2,Přehled_body!$E$1:$ED$1,0)),)=0,0.00000000001,IFERROR(INDEX(Přehled_body!$E$3:$ED$130,MATCH(Tabulka!$AI66,Přehled_body!$A$3:$A$130,0),MATCH(Tabulka!E$2,Přehled_body!$E$1:$ED$1,0)),)))","v":0},{"$f":"IF(IFERROR(INDEX(Přehled_body!$E$3:$ED$130,MATCH(Tabulka!$AI66,Přehled_body!$A$3:$A$130,0),MATCH(Tabulka!F$2,Přehled_body!$E$1:$ED$1,0)),)=\"\",,IF(IFERROR(INDEX(Přehled_body!$E$3:$ED$130,MATCH(Tabulka!$AI66,Přehled_body!$A$3:$A$130,0),MATCH(Tabulka!F$2,Přehled_body!$E$1:$ED$1,0)),)=0,0.00000000001,IFERROR(INDEX(Přehled_body!$E$3:$ED$130,MATCH(Tabulka!$AI66,Přehled_body!$A$3:$A$130,0),MATCH(Tabulka!F$2,Přehled_body!$E$1:$ED$1,0)),)))","v":0},{"$f":"IF(IFERROR(INDEX(Přehled_body!$E$3:$ED$130,MATCH(Tabulka!$AI66,Přehled_body!$A$3:$A$130,0),MATCH(Tabulka!G$2,Přehled_body!$E$1:$ED$1,0)),)=\"\",,IF(IFERROR(INDEX(Přehled_body!$E$3:$ED$130,MATCH(Tabulka!$AI66,Přehled_body!$A$3:$A$130,0),MATCH(Tabulka!G$2,Přehled_body!$E$1:$ED$1,0)),)=0,0.00000000001,IFERROR(INDEX(Přehled_body!$E$3:$ED$130,MATCH(Tabulka!$AI66,Přehled_body!$A$3:$A$130,0),MATCH(Tabulka!G$2,Přehled_body!$E$1:$ED$1,0)),)))","v":0},{"$f":"IF(IFERROR(INDEX(Přehled_body!$E$3:$ED$130,MATCH(Tabulka!$AI66,Přehled_body!$A$3:$A$130,0),MATCH(Tabulka!H$2,Přehled_body!$E$1:$ED$1,0)),)=\"\",,IF(IFERROR(INDEX(Přehled_body!$E$3:$ED$130,MATCH(Tabulka!$AI66,Přehled_body!$A$3:$A$130,0),MATCH(Tabulka!H$2,Přehled_body!$E$1:$ED$1,0)),)=0,0.00000000001,IFERROR(INDEX(Přehled_body!$E$3:$ED$130,MATCH(Tabulka!$AI66,Přehled_body!$A$3:$A$130,0),MATCH(Tabulka!H$2,Přehled_body!$E$1:$ED$1,0)),)))","v":2},{"$f":"IF(IFERROR(INDEX(Přehled_body!$E$3:$ED$130,MATCH(Tabulka!$AI66,Přehled_body!$A$3:$A$130,0),MATCH(Tabulka!I$2,Přehled_body!$E$1:$ED$1,0)),)=\"\",,IF(IFERROR(INDEX(Přehled_body!$E$3:$ED$130,MATCH(Tabulka!$AI66,Přehled_body!$A$3:$A$130,0),MATCH(Tabulka!I$2,Přehled_body!$E$1:$ED$1,0)),)=0,0.00000000001,IFERROR(INDEX(Přehled_body!$E$3:$ED$130,MATCH(Tabulka!$AI66,Přehled_body!$A$3:$A$130,0),MATCH(Tabulka!I$2,Přehled_body!$E$1:$ED$1,0)),)))","v":0},{"$f":"IF(IFERROR(INDEX(Přehled_body!$E$3:$ED$130,MATCH(Tabulka!$AI66,Přehled_body!$A$3:$A$130,0),MATCH(Tabulka!J$2,Přehled_body!$E$1:$ED$1,0)),)=\"\",,IF(IFERROR(INDEX(Přehled_body!$E$3:$ED$130,MATCH(Tabulka!$AI66,Přehled_body!$A$3:$A$130,0),MATCH(Tabulka!J$2,Přehled_body!$E$1:$ED$1,0)),)=0,0.00000000001,IFERROR(INDEX(Přehled_body!$E$3:$ED$130,MATCH(Tabulka!$AI66,Přehled_body!$A$3:$A$130,0),MATCH(Tabulka!J$2,Přehled_body!$E$1:$ED$1,0)),)))","v":0},{"$f":"IF(IFERROR(INDEX(Přehled_body!$E$3:$ED$130,MATCH(Tabulka!$AI66,Přehled_body!$A$3:$A$130,0),MATCH(Tabulka!K$2,Přehled_body!$E$1:$ED$1,0)),)=\"\",,IF(IFERROR(INDEX(Přehled_body!$E$3:$ED$130,MATCH(Tabulka!$AI66,Přehled_body!$A$3:$A$130,0),MATCH(Tabulka!K$2,Přehled_body!$E$1:$ED$1,0)),)=0,0.00000000001,IFERROR(INDEX(Přehled_body!$E$3:$ED$130,MATCH(Tabulka!$AI66,Přehled_body!$A$3:$A$130,0),MATCH(Tabulka!K$2,Přehled_body!$E$1:$ED$1,0)),)))","v":0},{"$f":"IF(IFERROR(INDEX(Přehled_body!$E$3:$ED$130,MATCH(Tabulka!$AI66,Přehled_body!$A$3:$A$130,0),MATCH(Tabulka!L$2,Přehled_body!$E$1:$ED$1,0)),)=\"\",,IF(IFERROR(INDEX(Přehled_body!$E$3:$ED$130,MATCH(Tabulka!$AI66,Přehled_body!$A$3:$A$130,0),MATCH(Tabulka!L$2,Přehled_body!$E$1:$ED$1,0)),)=0,0.00000000001,IFERROR(INDEX(Přehled_body!$E$3:$ED$130,MATCH(Tabulka!$AI66,Přehled_body!$A$3:$A$130,0),MATCH(Tabulka!L$2,Přehled_body!$E$1:$ED$1,0)),)))","v":0},{"$f":"IF(IFERROR(INDEX(Přehled_body!$E$3:$ED$130,MATCH(Tabulka!$AI66,Přehled_body!$A$3:$A$130,0),MATCH(Tabulka!M$2,Přehled_body!$E$1:$ED$1,0)),)=\"\",,IF(IFERROR(INDEX(Přehled_body!$E$3:$ED$130,MATCH(Tabulka!$AI66,Přehled_body!$A$3:$A$130,0),MATCH(Tabulka!M$2,Přehled_body!$E$1:$ED$1,0)),)=0,0.00000000001,IFERROR(INDEX(Přehled_body!$E$3:$ED$130,MATCH(Tabulka!$AI66,Přehled_body!$A$3:$A$130,0),MATCH(Tabulka!M$2,Přehled_body!$E$1:$ED$1,0)),)))","v":0},{"$f":"IF(IFERROR(INDEX(Přehled_body!$E$3:$ED$130,MATCH(Tabulka!$AI66,Přehled_body!$A$3:$A$130,0),MATCH(Tabulka!N$2,Přehled_body!$E$1:$ED$1,0)),)=\"\",,IF(IFERROR(INDEX(Přehled_body!$E$3:$ED$130,MATCH(Tabulka!$AI66,Přehled_body!$A$3:$A$130,0),MATCH(Tabulka!N$2,Přehled_body!$E$1:$ED$1,0)),)=0,0.00000000001,IFERROR(INDEX(Přehled_body!$E$3:$ED$130,MATCH(Tabulka!$AI66,Přehled_body!$A$3:$A$130,0),MATCH(Tabulka!N$2,Přehled_body!$E$1:$ED$1,0)),)))","v":0},{"$f":"IF(IFERROR(INDEX(Přehled_body!$E$3:$ED$130,MATCH(Tabulka!$AI66,Přehled_body!$A$3:$A$130,0),MATCH(Tabulka!O$2,Přehled_body!$E$1:$ED$1,0)),)=\"\",,IF(IFERROR(INDEX(Přehled_body!$E$3:$ED$130,MATCH(Tabulka!$AI66,Přehled_body!$A$3:$A$130,0),MATCH(Tabulka!O$2,Přehled_body!$E$1:$ED$1,0)),)=0,0.00000000001,IFERROR(INDEX(Přehled_body!$E$3:$ED$130,MATCH(Tabulka!$AI66,Přehled_body!$A$3:$A$130,0),MATCH(Tabulka!O$2,Přehled_body!$E$1:$ED$1,0)),)))","v":0},{"$f":"IF(IFERROR(INDEX(Přehled_body!$E$3:$ED$130,MATCH(Tabulka!$AI66,Přehled_body!$A$3:$A$130,0),MATCH(Tabulka!P$2,Přehled_body!$E$1:$ED$1,0)),)=\"\",,IF(IFERROR(INDEX(Přehled_body!$E$3:$ED$130,MATCH(Tabulka!$AI66,Přehled_body!$A$3:$A$130,0),MATCH(Tabulka!P$2,Přehled_body!$E$1:$ED$1,0)),)=0,0.00000000001,IFERROR(INDEX(Přehled_body!$E$3:$ED$130,MATCH(Tabulka!$AI66,Přehled_body!$A$3:$A$130,0),MATCH(Tabulka!P$2,Přehled_body!$E$1:$ED$1,0)),)))","v":0},{"$f":"IF(IFERROR(INDEX(Přehled_body!$E$3:$ED$130,MATCH(Tabulka!$AI66,Přehled_body!$A$3:$A$130,0),MATCH(Tabulka!Q$2,Přehled_body!$E$1:$ED$1,0)),)=\"\",,IF(IFERROR(INDEX(Přehled_body!$E$3:$ED$130,MATCH(Tabulka!$AI66,Přehled_body!$A$3:$A$130,0),MATCH(Tabulka!Q$2,Přehled_body!$E$1:$ED$1,0)),)=0,0.00000000001,IFERROR(INDEX(Přehled_body!$E$3:$ED$130,MATCH(Tabulka!$AI66,Přehled_body!$A$3:$A$130,0),MATCH(Tabulka!Q$2,Přehled_body!$E$1:$ED$1,0)),)))","v":0},{"$f":"IF(IFERROR(INDEX(Přehled_body!$E$3:$ED$130,MATCH(Tabulka!$AI66,Přehled_body!$A$3:$A$130,0),MATCH(Tabulka!R$2,Přehled_body!$E$1:$ED$1,0)),)=\"\",,IF(IFERROR(INDEX(Přehled_body!$E$3:$ED$130,MATCH(Tabulka!$AI66,Přehled_body!$A$3:$A$130,0),MATCH(Tabulka!R$2,Přehled_body!$E$1:$ED$1,0)),)=0,0.00000000001,IFERROR(INDEX(Přehled_body!$E$3:$ED$130,MATCH(Tabulka!$AI66,Přehled_body!$A$3:$A$130,0),MATCH(Tabulka!R$2,Přehled_body!$E$1:$ED$1,0)),)))","v":0},{"$f":"IF(IFERROR(INDEX(Přehled_body!$E$3:$ED$130,MATCH(Tabulka!$AI66,Přehled_body!$A$3:$A$130,0),MATCH(Tabulka!S$2,Přehled_body!$E$1:$ED$1,0)),)=\"\",,IF(IFERROR(INDEX(Přehled_body!$E$3:$ED$130,MATCH(Tabulka!$AI66,Přehled_body!$A$3:$A$130,0),MATCH(Tabulka!S$2,Přehled_body!$E$1:$ED$1,0)),)=0,0.00000000001,IFERROR(INDEX(Přehled_body!$E$3:$ED$130,MATCH(Tabulka!$AI66,Přehled_body!$A$3:$A$130,0),MATCH(Tabulka!S$2,Přehled_body!$E$1:$ED$1,0)),)))","v":0},{"$f":"IF(IFERROR(INDEX(Přehled_body!$E$3:$ED$130,MATCH(Tabulka!$AI66,Přehled_body!$A$3:$A$130,0),MATCH(Tabulka!T$2,Přehled_body!$E$1:$ED$1,0)),)=\"\",,IF(IFERROR(INDEX(Přehled_body!$E$3:$ED$130,MATCH(Tabulka!$AI66,Přehled_body!$A$3:$A$130,0),MATCH(Tabulka!T$2,Přehled_body!$E$1:$ED$1,0)),)=0,0.00000000001,IFERROR(INDEX(Přehled_body!$E$3:$ED$130,MATCH(Tabulka!$AI66,Přehled_body!$A$3:$A$130,0),MATCH(Tabulka!T$2,Přehled_body!$E$1:$ED$1,0)),)))","v":0},{"$f":"IF(IFERROR(INDEX(Přehled_body!$E$3:$ED$130,MATCH(Tabulka!$AI66,Přehled_body!$A$3:$A$130,0),MATCH(Tabulka!U$2,Přehled_body!$E$1:$ED$1,0)),)=\"\",,IF(IFERROR(INDEX(Přehled_body!$E$3:$ED$130,MATCH(Tabulka!$AI66,Přehled_body!$A$3:$A$130,0),MATCH(Tabulka!U$2,Přehled_body!$E$1:$ED$1,0)),)=0,0.00000000001,IFERROR(INDEX(Přehled_body!$E$3:$ED$130,MATCH(Tabulka!$AI66,Přehled_body!$A$3:$A$130,0),MATCH(Tabulka!U$2,Přehled_body!$E$1:$ED$1,0)),)))","v":0},{"$f":"IF(IFERROR(INDEX(Přehled_body!$E$3:$ED$130,MATCH(Tabulka!$AI66,Přehled_body!$A$3:$A$130,0),MATCH(Tabulka!V$2,Přehled_body!$E$1:$ED$1,0)),)=\"\",,IF(IFERROR(INDEX(Přehled_body!$E$3:$ED$130,MATCH(Tabulka!$AI66,Přehled_body!$A$3:$A$130,0),MATCH(Tabulka!V$2,Přehled_body!$E$1:$ED$1,0)),)=0,0.00000000001,IFERROR(INDEX(Přehled_body!$E$3:$ED$130,MATCH(Tabulka!$AI66,Přehled_body!$A$3:$A$130,0),MATCH(Tabulka!V$2,Přehled_body!$E$1:$ED$1,0)),)))","v":0},{"$f":"IF(IFERROR(INDEX(Přehled_body!$E$3:$ED$130,MATCH(Tabulka!$AI66,Přehled_body!$A$3:$A$130,0),MATCH(Tabulka!W$2,Přehled_body!$E$1:$ED$1,0)),)=\"\",,IF(IFERROR(INDEX(Přehled_body!$E$3:$ED$130,MATCH(Tabulka!$AI66,Přehled_body!$A$3:$A$130,0),MATCH(Tabulka!W$2,Přehled_body!$E$1:$ED$1,0)),)=0,0.00000000001,IFERROR(INDEX(Přehled_body!$E$3:$ED$130,MATCH(Tabulka!$AI66,Přehled_body!$A$3:$A$130,0),MATCH(Tabulka!W$2,Přehled_body!$E$1:$ED$1,0)),)))","v":0},{"$f":"IF(IFERROR(INDEX(Přehled_body!$E$3:$ED$130,MATCH(Tabulka!$AI66,Přehled_body!$A$3:$A$130,0),MATCH(Tabulka!X$2,Přehled_body!$E$1:$ED$1,0)),)=\"\",,IF(IFERROR(INDEX(Přehled_body!$E$3:$ED$130,MATCH(Tabulka!$AI66,Přehled_body!$A$3:$A$130,0),MATCH(Tabulka!X$2,Přehled_body!$E$1:$ED$1,0)),)=0,0.00000000001,IFERROR(INDEX(Přehled_body!$E$3:$ED$130,MATCH(Tabulka!$AI66,Přehled_body!$A$3:$A$130,0),MATCH(Tabulka!X$2,Přehled_body!$E$1:$ED$1,0)),)))","v":0},{"$f":"IF(IFERROR(INDEX(Přehled_body!$E$3:$ED$130,MATCH(Tabulka!$AI66,Přehled_body!$A$3:$A$130,0),MATCH(Tabulka!Y$2,Přehled_body!$E$1:$ED$1,0)),)=\"\",,IF(IFERROR(INDEX(Přehled_body!$E$3:$ED$130,MATCH(Tabulka!$AI66,Přehled_body!$A$3:$A$130,0),MATCH(Tabulka!Y$2,Přehled_body!$E$1:$ED$1,0)),)=0,0.00000000001,IFERROR(INDEX(Přehled_body!$E$3:$ED$130,MATCH(Tabulka!$AI66,Přehled_body!$A$3:$A$130,0),MATCH(Tabulka!Y$2,Přehled_body!$E$1:$ED$1,0)),)))","v":0},{"$f":"IF(IFERROR(INDEX(Přehled_body!$E$3:$ED$130,MATCH(Tabulka!$AI66,Přehled_body!$A$3:$A$130,0),MATCH(Tabulka!Z$2,Přehled_body!$E$1:$ED$1,0)),)=\"\",,IF(IFERROR(INDEX(Přehled_body!$E$3:$ED$130,MATCH(Tabulka!$AI66,Přehled_body!$A$3:$A$130,0),MATCH(Tabulka!Z$2,Přehled_body!$E$1:$ED$1,0)),)=0,0.00000000001,IFERROR(INDEX(Přehled_body!$E$3:$ED$130,MATCH(Tabulka!$AI66,Přehled_body!$A$3:$A$130,0),MATCH(Tabulka!Z$2,Přehled_body!$E$1:$ED$1,0)),)))","v":0},{"$f":"IF(IFERROR(INDEX(Přehled_body!$E$3:$ED$130,MATCH(Tabulka!$AI66,Přehled_body!$A$3:$A$130,0),MATCH(Tabulka!AA$2,Přehled_body!$E$1:$ED$1,0)),)=\"\",,IF(IFERROR(INDEX(Přehled_body!$E$3:$ED$130,MATCH(Tabulka!$AI66,Přehled_body!$A$3:$A$130,0),MATCH(Tabulka!AA$2,Přehled_body!$E$1:$ED$1,0)),)=0,0.00000000001,IFERROR(INDEX(Přehled_body!$E$3:$ED$130,MATCH(Tabulka!$AI66,Přehled_body!$A$3:$A$130,0),MATCH(Tabulka!AA$2,Přehled_body!$E$1:$ED$1,0)),)))","v":0},{"$f":"IF(IFERROR(INDEX(Přehled_body!$E$3:$ED$130,MATCH(Tabulka!$AI66,Přehled_body!$A$3:$A$130,0),MATCH(Tabulka!AB$2,Přehled_body!$E$1:$ED$1,0)),)=\"\",,IF(IFERROR(INDEX(Přehled_body!$E$3:$ED$130,MATCH(Tabulka!$AI66,Přehled_body!$A$3:$A$130,0),MATCH(Tabulka!AB$2,Přehled_body!$E$1:$ED$1,0)),)=0,0.00000000001,IFERROR(INDEX(Přehled_body!$E$3:$ED$130,MATCH(Tabulka!$AI66,Přehled_body!$A$3:$A$130,0),MATCH(Tabulka!AB$2,Přehled_body!$E$1:$ED$1,0)),)))","v":0},{"$f":"IF(IFERROR(INDEX(Přehled_body!$E$3:$ED$130,MATCH(Tabulka!$AI66,Přehled_body!$A$3:$A$130,0),MATCH(Tabulka!AC$2,Přehled_body!$E$1:$ED$1,0)),)=\"\",,IF(IFERROR(INDEX(Přehled_body!$E$3:$ED$130,MATCH(Tabulka!$AI66,Přehled_body!$A$3:$A$130,0),MATCH(Tabulka!AC$2,Přehled_body!$E$1:$ED$1,0)),)=0,0.00000000001,IFERROR(INDEX(Přehled_body!$E$3:$ED$130,MATCH(Tabulka!$AI66,Přehled_body!$A$3:$A$130,0),MATCH(Tabulka!AC$2,Přehled_body!$E$1:$ED$1,0)),)))","v":0},{"$f":"IF(IFERROR(INDEX(Přehled_body!$E$3:$ED$130,MATCH(Tabulka!$AI66,Přehled_body!$A$3:$A$130,0),MATCH(Tabulka!AD$2,Přehled_body!$E$1:$ED$1,0)),)=\"\",,IF(IFERROR(INDEX(Přehled_body!$E$3:$ED$130,MATCH(Tabulka!$AI66,Přehled_body!$A$3:$A$130,0),MATCH(Tabulka!AD$2,Přehled_body!$E$1:$ED$1,0)),)=0,0.00000000001,IFERROR(INDEX(Přehled_body!$E$3:$ED$130,MATCH(Tabulka!$AI66,Přehled_body!$A$3:$A$130,0),MATCH(Tabulka!AD$2,Přehled_body!$E$1:$ED$1,0)),)))","v":0},{"$f":"IF(SUM(AG64)<2,-90000+SUM(D66:AD66),SUM(D66:AD66))","v":-89998},null,null,{"$f":"SUM(D66:AD66)+INDEX(List4!$D$2:$F$17,MATCH(Tabulka!A65,List4!$D$2:$D$17,0),3)","v":2.0000000710000001},{"$f":"CONCATENATE($B$65,\" \",$B$66,C66)","v":"Karel KarlPlaceno panáků"},null,null,1,null,null,"Karl",{"$f":"CONCATENATE(AQ66,\" \",AQ67)","v":"Karel Karl"},"Karel"]
[null,null,"Přehozy",{"$f":"IF(IFERROR(INDEX(Přehled_body!$E$3:$ED$130,MATCH(Tabulka!$AI67,Přehled_body!$A$3:$A$130,0),MATCH(Tabulka!D$2,Přehled_body!$E$1:$ED$1,0)),)=\"\",,IF(IFERROR(INDEX(Přehled_body!$E$3:$ED$130,MATCH(Tabulka!$AI67,Přehled_body!$A$3:$A$130,0),MATCH(Tabulka!D$2,Přehled_body!$E$1:$ED$1,0)),)=0,0.00000000001,IFERROR(INDEX(Přehled_body!$E$3:$ED$130,MATCH(Tabulka!$AI67,Přehled_body!$A$3:$A$130,0),MATCH(Tabulka!D$2,Přehled_body!$E$1:$ED$1,0)),)))","v":0},{"$f":"IF(IFERROR(INDEX(Přehled_body!$E$3:$ED$130,MATCH(Tabulka!$AI67,Přehled_body!$A$3:$A$130,0),MATCH(Tabulka!E$2,Přehled_body!$E$1:$ED$1,0)),)=\"\",,IF(IFERROR(INDEX(Přehled_body!$E$3:$ED$130,MATCH(Tabulka!$AI67,Přehled_body!$A$3:$A$130,0),MATCH(Tabulka!E$2,Přehled_body!$E$1:$ED$1,0)),)=0,0.00000000001,IFERROR(INDEX(Přehled_body!$E$3:$ED$130,MATCH(Tabulka!$AI67,Přehled_body!$A$3:$A$130,0),MATCH(Tabulka!E$2,Přehled_body!$E$1:$ED$1,0)),)))","v":0},{"$f":"IF(IFERROR(INDEX(Přehled_body!$E$3:$ED$130,MATCH(Tabulka!$AI67,Přehled_body!$A$3:$A$130,0),MATCH(Tabulka!F$2,Přehled_body!$E$1:$ED$1,0)),)=\"\",,IF(IFERROR(INDEX(Přehled_body!$E$3:$ED$130,MATCH(Tabulka!$AI67,Přehled_body!$A$3:$A$130,0),MATCH(Tabulka!F$2,Přehled_body!$E$1:$ED$1,0)),)=0,0.00000000001,IFERROR(INDEX(Přehled_body!$E$3:$ED$130,MATCH(Tabulka!$AI67,Přehled_body!$A$3:$A$130,0),MATCH(Tabulka!F$2,Přehled_body!$E$1:$ED$1,0)),)))","v":0},{"$f":"IF(IFERROR(INDEX(Přehled_body!$E$3:$ED$130,MATCH(Tabulka!$AI67,Přehled_body!$A$3:$A$130,0),MATCH(Tabulka!G$2,Přehled_body!$E$1:$ED$1,0)),)=\"\",,IF(IFERROR(INDEX(Přehled_body!$E$3:$ED$130,MATCH(Tabulka!$AI67,Přehled_body!$A$3:$A$130,0),MATCH(Tabulka!G$2,Přehled_body!$E$1:$ED$1,0)),)=0,0.00000000001,IFERROR(INDEX(Přehled_body!$E$3:$ED$130,MATCH(Tabulka!$AI67,Přehled_body!$A$3:$A$130,0),MATCH(Tabulka!G$2,Přehled_body!$E$1:$ED$1,0)),)))","v":0},{"$f":"IF(IFERROR(INDEX(Přehled_body!$E$3:$ED$130,MATCH(Tabulka!$AI67,Přehled_body!$A$3:$A$130,0),MATCH(Tabulka!H$2,Přehled_body!$E$1:$ED$1,0)),)=\"\",,IF(IFERROR(INDEX(Přehled_body!$E$3:$ED$130,MATCH(Tabulka!$AI67,Přehled_body!$A$3:$A$130,0),MATCH(Tabulka!H$2,Přehled_body!$E$1:$ED$1,0)),)=0,0.00000000001,IFERROR(INDEX(Přehled_body!$E$3:$ED$130,MATCH(Tabulka!$AI67,Přehled_body!$A$3:$A$130,0),MATCH(Tabulka!H$2,Přehled_body!$E$1:$ED$1,0)),)))","v":9.9999999999999994E-12},{"$f":"IF(IFERROR(INDEX(Přehled_body!$E$3:$ED$130,MATCH(Tabulka!$AI67,Přehled_body!$A$3:$A$130,0),MATCH(Tabulka!I$2,Přehled_body!$E$1:$ED$1,0)),)=\"\",,IF(IFERROR(INDEX(Přehled_body!$E$3:$ED$130,MATCH(Tabulka!$AI67,Přehled_body!$A$3:$A$130,0),MATCH(Tabulka!I$2,Přehled_body!$E$1:$ED$1,0)),)=0,0.00000000001,IFERROR(INDEX(Přehled_body!$E$3:$ED$130,MATCH(Tabulka!$AI67,Přehled_body!$A$3:$A$130,0),MATCH(Tabulka!I$2,Přehled_body!$E$1:$ED$1,0)),)))","v":0},{"$f":"IF(IFERROR(INDEX(Přehled_body!$E$3:$ED$130,MATCH(Tabulka!$AI67,Přehled_body!$A$3:$A$130,0),MATCH(Tabulka!J$2,Přehled_body!$E$1:$ED$1,0)),)=\"\",,IF(IFERROR(INDEX(Přehled_body!$E$3:$ED$130,MATCH(Tabulka!$AI67,Přehled_body!$A$3:$A$130,0),MATCH(Tabulka!J$2,Přehled_body!$E$1:$ED$1,0)),)=0,0.00000000001,IFERROR(INDEX(Přehled_body!$E$3:$ED$130,MATCH(Tabulka!$AI67,Přehled_body!$A$3:$A$130,0),MATCH(Tabulka!J$2,Přehled_body!$E$1:$ED$1,0)),)))","v":0},{"$f":"IF(IFERROR(INDEX(Přehled_body!$E$3:$ED$130,MATCH(Tabulka!$AI67,Přehled_body!$A$3:$A$130,0),MATCH(Tabulka!K$2,Přehled_body!$E$1:$ED$1,0)),)=\"\",,IF(IFERROR(INDEX(Přehled_body!$E$3:$ED$130,MATCH(Tabulka!$AI67,Přehled_body!$A$3:$A$130,0),MATCH(Tabulka!K$2,Přehled_body!$E$1:$ED$1,0)),)=0,0.00000000001,IFERROR(INDEX(Přehled_body!$E$3:$ED$130,MATCH(Tabulka!$AI67,Přehled_body!$A$3:$A$130,0),MATCH(Tabulka!K$2,Přehled_body!$E$1:$ED$1,0)),)))","v":0},{"$f":"IF(IFERROR(INDEX(Přehled_body!$E$3:$ED$130,MATCH(Tabulka!$AI67,Přehled_body!$A$3:$A$130,0),MATCH(Tabulka!L$2,Přehled_body!$E$1:$ED$1,0)),)=\"\",,IF(IFERROR(INDEX(Přehled_body!$E$3:$ED$130,MATCH(Tabulka!$AI67,Přehled_body!$A$3:$A$130,0),MATCH(Tabulka!L$2,Přehled_body!$E$1:$ED$1,0)),)=0,0.00000000001,IFERROR(INDEX(Přehled_body!$E$3:$ED$130,MATCH(Tabulka!$AI67,Přehled_body!$A$3:$A$130,0),MATCH(Tabulka!L$2,Přehled_body!$E$1:$ED$1,0)),)))","v":0},{"$f":"IF(IFERROR(INDEX(Přehled_body!$E$3:$ED$130,MATCH(Tabulka!$AI67,Přehled_body!$A$3:$A$130,0),MATCH(Tabulka!M$2,Přehled_body!$E$1:$ED$1,0)),)=\"\",,IF(IFERROR(INDEX(Přehled_body!$E$3:$ED$130,MATCH(Tabulka!$AI67,Přehled_body!$A$3:$A$130,0),MATCH(Tabulka!M$2,Přehled_body!$E$1:$ED$1,0)),)=0,0.00000000001,IFERROR(INDEX(Přehled_body!$E$3:$ED$130,MATCH(Tabulka!$AI67,Přehled_body!$A$3:$A$130,0),MATCH(Tabulka!M$2,Přehled_body!$E$1:$ED$1,0)),)))","v":0},{"$f":"IF(IFERROR(INDEX(Přehled_body!$E$3:$ED$130,MATCH(Tabulka!$AI67,Přehled_body!$A$3:$A$130,0),MATCH(Tabulka!N$2,Přehled_body!$E$1:$ED$1,0)),)=\"\",,IF(IFERROR(INDEX(Přehled_body!$E$3:$ED$130,MATCH(Tabulka!$AI67,Přehled_body!$A$3:$A$130,0),MATCH(Tabulka!N$2,Přehled_body!$E$1:$ED$1,0)),)=0,0.00000000001,IFERROR(INDEX(Přehled_body!$E$3:$ED$130,MATCH(Tabulka!$AI67,Přehled_body!$A$3:$A$130,0),MATCH(Tabulka!N$2,Přehled_body!$E$1:$ED$1,0)),)))","v":0},{"$f":"IF(IFERROR(INDEX(Přehled_body!$E$3:$ED$130,MATCH(Tabulka!$AI67,Přehled_body!$A$3:$A$130,0),MATCH(Tabulka!O$2,Přehled_body!$E$1:$ED$1,0)),)=\"\",,IF(IFERROR(INDEX(Přehled_body!$E$3:$ED$130,MATCH(Tabulka!$AI67,Přehled_body!$A$3:$A$130,0),MATCH(Tabulka!O$2,Přehled_body!$E$1:$ED$1,0)),)=0,0.00000000001,IFERROR(INDEX(Přehled_body!$E$3:$ED$130,MATCH(Tabulka!$AI67,Přehled_body!$A$3:$A$130,0),MATCH(Tabulka!O$2,Přehled_body!$E$1:$ED$1,0)),)))","v":0},{"$f":"IF(IFERROR(INDEX(Přehled_body!$E$3:$ED$130,MATCH(Tabulka!$AI67,Přehled_body!$A$3:$A$130,0),MATCH(Tabulka!P$2,Přehled_body!$E$1:$ED$1,0)),)=\"\",,IF(IFERROR(INDEX(Přehled_body!$E$3:$ED$130,MATCH(Tabulka!$AI67,Přehled_body!$A$3:$A$130,0),MATCH(Tabulka!P$2,Přehled_body!$E$1:$ED$1,0)),)=0,0.00000000001,IFERROR(INDEX(Přehled_body!$E$3:$ED$130,MATCH(Tabulka!$AI67,Přehled_body!$A$3:$A$130,0),MATCH(Tabulka!P$2,Přehled_body!$E$1:$ED$1,0)),)))","v":0},{"$f":"IF(IFERROR(INDEX(Přehled_body!$E$3:$ED$130,MATCH(Tabulka!$AI67,Přehled_body!$A$3:$A$130,0),MATCH(Tabulka!Q$2,Přehled_body!$E$1:$ED$1,0)),)=\"\",,IF(IFERROR(INDEX(Přehled_body!$E$3:$ED$130,MATCH(Tabulka!$AI67,Přehled_body!$A$3:$A$130,0),MATCH(Tabulka!Q$2,Přehled_body!$E$1:$ED$1,0)),)=0,0.00000000001,IFERROR(INDEX(Přehled_body!$E$3:$ED$130,MATCH(Tabulka!$AI67,Přehled_body!$A$3:$A$130,0),MATCH(Tabulka!Q$2,Přehled_body!$E$1:$ED$1,0)),)))","v":0},{"$f":"IF(IFERROR(INDEX(Přehled_body!$E$3:$ED$130,MATCH(Tabulka!$AI67,Přehled_body!$A$3:$A$130,0),MATCH(Tabulka!R$2,Přehled_body!$E$1:$ED$1,0)),)=\"\",,IF(IFERROR(INDEX(Přehled_body!$E$3:$ED$130,MATCH(Tabulka!$AI67,Přehled_body!$A$3:$A$130,0),MATCH(Tabulka!R$2,Přehled_body!$E$1:$ED$1,0)),)=0,0.00000000001,IFERROR(INDEX(Přehled_body!$E$3:$ED$130,MATCH(Tabulka!$AI67,Přehled_body!$A$3:$A$130,0),MATCH(Tabulka!R$2,Přehled_body!$E$1:$ED$1,0)),)))","v":0},{"$f":"IF(IFERROR(INDEX(Přehled_body!$E$3:$ED$130,MATCH(Tabulka!$AI67,Přehled_body!$A$3:$A$130,0),MATCH(Tabulka!S$2,Přehled_body!$E$1:$ED$1,0)),)=\"\",,IF(IFERROR(INDEX(Přehled_body!$E$3:$ED$130,MATCH(Tabulka!$AI67,Přehled_body!$A$3:$A$130,0),MATCH(Tabulka!S$2,Přehled_body!$E$1:$ED$1,0)),)=0,0.00000000001,IFERROR(INDEX(Přehled_body!$E$3:$ED$130,MATCH(Tabulka!$AI67,Přehled_body!$A$3:$A$130,0),MATCH(Tabulka!S$2,Přehled_body!$E$1:$ED$1,0)),)))","v":0},{"$f":"IF(IFERROR(INDEX(Přehled_body!$E$3:$ED$130,MATCH(Tabulka!$AI67,Přehled_body!$A$3:$A$130,0),MATCH(Tabulka!T$2,Přehled_body!$E$1:$ED$1,0)),)=\"\",,IF(IFERROR(INDEX(Přehled_body!$E$3:$ED$130,MATCH(Tabulka!$AI67,Přehled_body!$A$3:$A$130,0),MATCH(Tabulka!T$2,Přehled_body!$E$1:$ED$1,0)),)=0,0.00000000001,IFERROR(INDEX(Přehled_body!$E$3:$ED$130,MATCH(Tabulka!$AI67,Přehled_body!$A$3:$A$130,0),MATCH(Tabulka!T$2,Přehled_body!$E$1:$ED$1,0)),)))","v":0},{"$f":"IF(IFERROR(INDEX(Přehled_body!$E$3:$ED$130,MATCH(Tabulka!$AI67,Přehled_body!$A$3:$A$130,0),MATCH(Tabulka!U$2,Přehled_body!$E$1:$ED$1,0)),)=\"\",,IF(IFERROR(INDEX(Přehled_body!$E$3:$ED$130,MATCH(Tabulka!$AI67,Přehled_body!$A$3:$A$130,0),MATCH(Tabulka!U$2,Přehled_body!$E$1:$ED$1,0)),)=0,0.00000000001,IFERROR(INDEX(Přehled_body!$E$3:$ED$130,MATCH(Tabulka!$AI67,Přehled_body!$A$3:$A$130,0),MATCH(Tabulka!U$2,Přehled_body!$E$1:$ED$1,0)),)))","v":0},{"$f":"IF(IFERROR(INDEX(Přehled_body!$E$3:$ED$130,MATCH(Tabulka!$AI67,Přehled_body!$A$3:$A$130,0),MATCH(Tabulka!V$2,Přehled_body!$E$1:$ED$1,0)),)=\"\",,IF(IFERROR(INDEX(Přehled_body!$E$3:$ED$130,MATCH(Tabulka!$AI67,Přehled_body!$A$3:$A$130,0),MATCH(Tabulka!V$2,Přehled_body!$E$1:$ED$1,0)),)=0,0.00000000001,IFERROR(INDEX(Přehled_body!$E$3:$ED$130,MATCH(Tabulka!$AI67,Přehled_body!$A$3:$A$130,0),MATCH(Tabulka!V$2,Přehled_body!$E$1:$ED$1,0)),)))","v":0},{"$f":"IF(IFERROR(INDEX(Přehled_body!$E$3:$ED$130,MATCH(Tabulka!$AI67,Přehled_body!$A$3:$A$130,0),MATCH(Tabulka!W$2,Přehled_body!$E$1:$ED$1,0)),)=\"\",,IF(IFERROR(INDEX(Přehled_body!$E$3:$ED$130,MATCH(Tabulka!$AI67,Přehled_body!$A$3:$A$130,0),MATCH(Tabulka!W$2,Přehled_body!$E$1:$ED$1,0)),)=0,0.00000000001,IFERROR(INDEX(Přehled_body!$E$3:$ED$130,MATCH(Tabulka!$AI67,Přehled_body!$A$3:$A$130,0),MATCH(Tabulka!W$2,Přehled_body!$E$1:$ED$1,0)),)))","v":0},{"$f":"IF(IFERROR(INDEX(Přehled_body!$E$3:$ED$130,MATCH(Tabulka!$AI67,Přehled_body!$A$3:$A$130,0),MATCH(Tabulka!X$2,Přehled_body!$E$1:$ED$1,0)),)=\"\",,IF(IFERROR(INDEX(Přehled_body!$E$3:$ED$130,MATCH(Tabulka!$AI67,Přehled_body!$A$3:$A$130,0),MATCH(Tabulka!X$2,Přehled_body!$E$1:$ED$1,0)),)=0,0.00000000001,IFERROR(INDEX(Přehled_body!$E$3:$ED$130,MATCH(Tabulka!$AI67,Přehled_body!$A$3:$A$130,0),MATCH(Tabulka!X$2,Přehled_body!$E$1:$ED$1,0)),)))","v":0},{"$f":"IF(IFERROR(INDEX(Přehled_body!$E$3:$ED$130,MATCH(Tabulka!$AI67,Přehled_body!$A$3:$A$130,0),MATCH(Tabulka!Y$2,Přehled_body!$E$1:$ED$1,0)),)=\"\",,IF(IFERROR(INDEX(Přehled_body!$E$3:$ED$130,MATCH(Tabulka!$AI67,Přehled_body!$A$3:$A$130,0),MATCH(Tabulka!Y$2,Přehled_body!$E$1:$ED$1,0)),)=0,0.00000000001,IFERROR(INDEX(Přehled_body!$E$3:$ED$130,MATCH(Tabulka!$AI67,Přehled_body!$A$3:$A$130,0),MATCH(Tabulka!Y$2,Přehled_body!$E$1:$ED$1,0)),)))","v":0},{"$f":"IF(IFERROR(INDEX(Přehled_body!$E$3:$ED$130,MATCH(Tabulka!$AI67,Přehled_body!$A$3:$A$130,0),MATCH(Tabulka!Z$2,Přehled_body!$E$1:$ED$1,0)),)=\"\",,IF(IFERROR(INDEX(Přehled_body!$E$3:$ED$130,MATCH(Tabulka!$AI67,Přehled_body!$A$3:$A$130,0),MATCH(Tabulka!Z$2,Přehled_body!$E$1:$ED$1,0)),)=0,0.00000000001,IFERROR(INDEX(Přehled_body!$E$3:$ED$130,MATCH(Tabulka!$AI67,Přehled_body!$A$3:$A$130,0),MATCH(Tabulka!Z$2,Přehled_body!$E$1:$ED$1,0)),)))","v":0},{"$f":"IF(IFERROR(INDEX(Přehled_body!$E$3:$ED$130,MATCH(Tabulka!$AI67,Přehled_body!$A$3:$A$130,0),MATCH(Tabulka!AA$2,Přehled_body!$E$1:$ED$1,0)),)=\"\",,IF(IFERROR(INDEX(Přehled_body!$E$3:$ED$130,MATCH(Tabulka!$AI67,Přehled_body!$A$3:$A$130,0),MATCH(Tabulka!AA$2,Přehled_body!$E$1:$ED$1,0)),)=0,0.00000000001,IFERROR(INDEX(Přehled_body!$E$3:$ED$130,MATCH(Tabulka!$AI67,Přehled_body!$A$3:$A$130,0),MATCH(Tabulka!AA$2,Přehled_body!$E$1:$ED$1,0)),)))","v":0},{"$f":"IF(IFERROR(INDEX(Přehled_body!$E$3:$ED$130,MATCH(Tabulka!$AI67,Přehled_body!$A$3:$A$130,0),MATCH(Tabulka!AB$2,Přehled_body!$E$1:$ED$1,0)),)=\"\",,IF(IFERROR(INDEX(Přehled_body!$E$3:$ED$130,MATCH(Tabulka!$AI67,Přehled_body!$A$3:$A$130,0),MATCH(Tabulka!AB$2,Přehled_body!$E$1:$ED$1,0)),)=0,0.00000000001,IFERROR(INDEX(Přehled_body!$E$3:$ED$130,MATCH(Tabulka!$AI67,Přehled_body!$A$3:$A$130,0),MATCH(Tabulka!AB$2,Přehled_body!$E$1:$ED$1,0)),)))","v":0},{"$f":"IF(IFERROR(INDEX(Přehled_body!$E$3:$ED$130,MATCH(Tabulka!$AI67,Přehled_body!$A$3:$A$130,0),MATCH(Tabulka!AC$2,Přehled_body!$E$1:$ED$1,0)),)=\"\",,IF(IFERROR(INDEX(Přehled_body!$E$3:$ED$130,MATCH(Tabulka!$AI67,Přehled_body!$A$3:$A$130,0),MATCH(Tabulka!AC$2,Přehled_body!$E$1:$ED$1,0)),)=0,0.00000000001,IFERROR(INDEX(Přehled_body!$E$3:$ED$130,MATCH(Tabulka!$AI67,Přehled_body!$A$3:$A$130,0),MATCH(Tabulka!AC$2,Přehled_body!$E$1:$ED$1,0)),)))","v":0},{"$f":"IF(IFERROR(INDEX(Přehled_body!$E$3:$ED$130,MATCH(Tabulka!$AI67,Přehled_body!$A$3:$A$130,0),MATCH(Tabulka!AD$2,Přehled_body!$E$1:$ED$1,0)),)=\"\",,IF(IFERROR(INDEX(Přehled_body!$E$3:$ED$130,MATCH(Tabulka!$AI67,Přehled_body!$A$3:$A$130,0),MATCH(Tabulka!AD$2,Přehled_body!$E$1:$ED$1,0)),)=0,0.00000000001,IFERROR(INDEX(Přehled_body!$E$3:$ED$130,MATCH(Tabulka!$AI67,Přehled_body!$A$3:$A$130,0),MATCH(Tabulka!AD$2,Přehled_body!$E$1:$ED$1,0)),)))","v":0},{"$f":"IF(SUM(AG64)<2,-90000+SUM(D67:AD67),SUM(D67:AD67))","v":-89999.999999999985},null,null,9.9999999999999994E-12,{"$f":"CONCATENATE($B$65,\" \",$B$66,C67)","v":"Karel KarlPřehozy"},null,null,1,null,null,null,{"$f":"CONCATENATE(AQ67,\" \",AQ66)","v":"Karl Karel"},"Karl"]
[null,null,"Poč. kol",{"$f":"IF(IFERROR(INDEX(Přehled_body!$E$3:$ED$130,MATCH(Tabulka!$AI68,Přehled_body!$A$3:$A$130,0),MATCH(Tabulka!D$2,Přehled_body!$E$1:$ED$1,0)),)=\"\",,IF(IFERROR(INDEX(Přehled_body!$E$3:$ED$130,MATCH(Tabulka!$AI68,Přehled_body!$A$3:$A$130,0),MATCH(Tabulka!D$2,Přehled_body!$E$1:$ED$1,0)),)=0,0.00000000001,IFERROR(INDEX(Přehled_body!$E$3:$ED$130,MATCH(Tabulka!$AI68,Přehled_body!$A$3:$A$130,0),MATCH(Tabulka!D$2,Přehled_body!$E$1:$ED$1,0)),)))","v":0},{"$f":"IF(IFERROR(INDEX(Přehled_body!$E$3:$ED$130,MATCH(Tabulka!$AI68,Přehled_body!$A$3:$A$130,0),MATCH(Tabulka!E$2,Přehled_body!$E$1:$ED$1,0)),)=\"\",,IF(IFERROR(INDEX(Přehled_body!$E$3:$ED$130,MATCH(Tabulka!$AI68,Přehled_body!$A$3:$A$130,0),MATCH(Tabulka!E$2,Přehled_body!$E$1:$ED$1,0)),)=0,0.00000000001,IFERROR(INDEX(Přehled_body!$E$3:$ED$130,MATCH(Tabulka!$AI68,Přehled_body!$A$3:$A$130,0),MATCH(Tabulka!E$2,Přehled_body!$E$1:$ED$1,0)),)))","v":0},{"$f":"IF(IFERROR(INDEX(Přehled_body!$E$3:$ED$130,MATCH(Tabulka!$AI68,Přehled_body!$A$3:$A$130,0),MATCH(Tabulka!F$2,Přehled_body!$E$1:$ED$1,0)),)=\"\",,IF(IFERROR(INDEX(Přehled_body!$E$3:$ED$130,MATCH(Tabulka!$AI68,Přehled_body!$A$3:$A$130,0),MATCH(Tabulka!F$2,Přehled_body!$E$1:$ED$1,0)),)=0,0.00000000001,IFERROR(INDEX(Přehled_body!$E$3:$ED$130,MATCH(Tabulka!$AI68,Přehled_body!$A$3:$A$130,0),MATCH(Tabulka!F$2,Přehled_body!$E$1:$ED$1,0)),)))","v":0},{"$f":"IF(IFERROR(INDEX(Přehled_body!$E$3:$ED$130,MATCH(Tabulka!$AI68,Přehled_body!$A$3:$A$130,0),MATCH(Tabulka!G$2,Přehled_body!$E$1:$ED$1,0)),)=\"\",,IF(IFERROR(INDEX(Přehled_body!$E$3:$ED$130,MATCH(Tabulka!$AI68,Přehled_body!$A$3:$A$130,0),MATCH(Tabulka!G$2,Přehled_body!$E$1:$ED$1,0)),)=0,0.00000000001,IFERROR(INDEX(Přehled_body!$E$3:$ED$130,MATCH(Tabulka!$AI68,Přehled_body!$A$3:$A$130,0),MATCH(Tabulka!G$2,Přehled_body!$E$1:$ED$1,0)),)))","v":0},{"$f":"IF(IFERROR(INDEX(Přehled_body!$E$3:$ED$130,MATCH(Tabulka!$AI68,Přehled_body!$A$3:$A$130,0),MATCH(Tabulka!H$2,Přehled_body!$E$1:$ED$1,0)),)=\"\",,IF(IFERROR(INDEX(Přehled_body!$E$3:$ED$130,MATCH(Tabulka!$AI68,Přehled_body!$A$3:$A$130,0),MATCH(Tabulka!H$2,Přehled_body!$E$1:$ED$1,0)),)=0,0.00000000001,IFERROR(INDEX(Přehled_body!$E$3:$ED$130,MATCH(Tabulka!$AI68,Přehled_body!$A$3:$A$130,0),MATCH(Tabulka!H$2,Přehled_body!$E$1:$ED$1,0)),)))","v":4},{"$f":"IF(IFERROR(INDEX(Přehled_body!$E$3:$ED$130,MATCH(Tabulka!$AI68,Přehled_body!$A$3:$A$130,0),MATCH(Tabulka!I$2,Přehled_body!$E$1:$ED$1,0)),)=\"\",,IF(IFERROR(INDEX(Přehled_body!$E$3:$ED$130,MATCH(Tabulka!$AI68,Přehled_body!$A$3:$A$130,0),MATCH(Tabulka!I$2,Přehled_body!$E$1:$ED$1,0)),)=0,0.00000000001,IFERROR(INDEX(Přehled_body!$E$3:$ED$130,MATCH(Tabulka!$AI68,Přehled_body!$A$3:$A$130,0),MATCH(Tabulka!I$2,Přehled_body!$E$1:$ED$1,0)),)))","v":0},{"$f":"IF(IFERROR(INDEX(Přehled_body!$E$3:$ED$130,MATCH(Tabulka!$AI68,Přehled_body!$A$3:$A$130,0),MATCH(Tabulka!J$2,Přehled_body!$E$1:$ED$1,0)),)=\"\",,IF(IFERROR(INDEX(Přehled_body!$E$3:$ED$130,MATCH(Tabulka!$AI68,Přehled_body!$A$3:$A$130,0),MATCH(Tabulka!J$2,Přehled_body!$E$1:$ED$1,0)),)=0,0.00000000001,IFERROR(INDEX(Přehled_body!$E$3:$ED$130,MATCH(Tabulka!$AI68,Přehled_body!$A$3:$A$130,0),MATCH(Tabulka!J$2,Přehled_body!$E$1:$ED$1,0)),)))","v":0},{"$f":"IF(IFERROR(INDEX(Přehled_body!$E$3:$ED$130,MATCH(Tabulka!$AI68,Přehled_body!$A$3:$A$130,0),MATCH(Tabulka!K$2,Přehled_body!$E$1:$ED$1,0)),)=\"\",,IF(IFERROR(INDEX(Přehled_body!$E$3:$ED$130,MATCH(Tabulka!$AI68,Přehled_body!$A$3:$A$130,0),MATCH(Tabulka!K$2,Přehled_body!$E$1:$ED$1,0)),)=0,0.00000000001,IFERROR(INDEX(Přehled_body!$E$3:$ED$130,MATCH(Tabulka!$AI68,Přehled_body!$A$3:$A$130,0),MATCH(Tabulka!K$2,Přehled_body!$E$1:$ED$1,0)),)))","v":0},{"$f":"IF(IFERROR(INDEX(Přehled_body!$E$3:$ED$130,MATCH(Tabulka!$AI68,Přehled_body!$A$3:$A$130,0),MATCH(Tabulka!L$2,Přehled_body!$E$1:$ED$1,0)),)=\"\",,IF(IFERROR(INDEX(Přehled_body!$E$3:$ED$130,MATCH(Tabulka!$AI68,Přehled_body!$A$3:$A$130,0),MATCH(Tabulka!L$2,Přehled_body!$E$1:$ED$1,0)),)=0,0.00000000001,IFERROR(INDEX(Přehled_body!$E$3:$ED$130,MATCH(Tabulka!$AI68,Přehled_body!$A$3:$A$130,0),MATCH(Tabulka!L$2,Přehled_body!$E$1:$ED$1,0)),)))","v":0},{"$f":"IF(IFERROR(INDEX(Přehled_body!$E$3:$ED$130,MATCH(Tabulka!$AI68,Přehled_body!$A$3:$A$130,0),MATCH(Tabulka!M$2,Přehled_body!$E$1:$ED$1,0)),)=\"\",,IF(IFERROR(INDEX(Přehled_body!$E$3:$ED$130,MATCH(Tabulka!$AI68,Přehled_body!$A$3:$A$130,0),MATCH(Tabulka!M$2,Přehled_body!$E$1:$ED$1,0)),)=0,0.00000000001,IFERROR(INDEX(Přehled_body!$E$3:$ED$130,MATCH(Tabulka!$AI68,Přehled_body!$A$3:$A$130,0),MATCH(Tabulka!M$2,Přehled_body!$E$1:$ED$1,0)),)))","v":0},{"$f":"IF(IFERROR(INDEX(Přehled_body!$E$3:$ED$130,MATCH(Tabulka!$AI68,Přehled_body!$A$3:$A$130,0),MATCH(Tabulka!N$2,Přehled_body!$E$1:$ED$1,0)),)=\"\",,IF(IFERROR(INDEX(Přehled_body!$E$3:$ED$130,MATCH(Tabulka!$AI68,Přehled_body!$A$3:$A$130,0),MATCH(Tabulka!N$2,Přehled_body!$E$1:$ED$1,0)),)=0,0.00000000001,IFERROR(INDEX(Přehled_body!$E$3:$ED$130,MATCH(Tabulka!$AI68,Přehled_body!$A$3:$A$130,0),MATCH(Tabulka!N$2,Přehled_body!$E$1:$ED$1,0)),)))","v":0},{"$f":"IF(IFERROR(INDEX(Přehled_body!$E$3:$ED$130,MATCH(Tabulka!$AI68,Přehled_body!$A$3:$A$130,0),MATCH(Tabulka!O$2,Přehled_body!$E$1:$ED$1,0)),)=\"\",,IF(IFERROR(INDEX(Přehled_body!$E$3:$ED$130,MATCH(Tabulka!$AI68,Přehled_body!$A$3:$A$130,0),MATCH(Tabulka!O$2,Přehled_body!$E$1:$ED$1,0)),)=0,0.00000000001,IFERROR(INDEX(Přehled_body!$E$3:$ED$130,MATCH(Tabulka!$AI68,Přehled_body!$A$3:$A$130,0),MATCH(Tabulka!O$2,Přehled_body!$E$1:$ED$1,0)),)))","v":0},{"$f":"IF(IFERROR(INDEX(Přehled_body!$E$3:$ED$130,MATCH(Tabulka!$AI68,Přehled_body!$A$3:$A$130,0),MATCH(Tabulka!P$2,Přehled_body!$E$1:$ED$1,0)),)=\"\",,IF(IFERROR(INDEX(Přehled_body!$E$3:$ED$130,MATCH(Tabulka!$AI68,Přehled_body!$A$3:$A$130,0),MATCH(Tabulka!P$2,Přehled_body!$E$1:$ED$1,0)),)=0,0.00000000001,IFERROR(INDEX(Přehled_body!$E$3:$ED$130,MATCH(Tabulka!$AI68,Přehled_body!$A$3:$A$130,0),MATCH(Tabulka!P$2,Přehled_body!$E$1:$ED$1,0)),)))","v":0},{"$f":"IF(IFERROR(INDEX(Přehled_body!$E$3:$ED$130,MATCH(Tabulka!$AI68,Přehled_body!$A$3:$A$130,0),MATCH(Tabulka!Q$2,Přehled_body!$E$1:$ED$1,0)),)=\"\",,IF(IFERROR(INDEX(Přehled_body!$E$3:$ED$130,MATCH(Tabulka!$AI68,Přehled_body!$A$3:$A$130,0),MATCH(Tabulka!Q$2,Přehled_body!$E$1:$ED$1,0)),)=0,0.00000000001,IFERROR(INDEX(Přehled_body!$E$3:$ED$130,MATCH(Tabulka!$AI68,Přehled_body!$A$3:$A$130,0),MATCH(Tabulka!Q$2,Přehled_body!$E$1:$ED$1,0)),)))","v":0},{"$f":"IF(IFERROR(INDEX(Přehled_body!$E$3:$ED$130,MATCH(Tabulka!$AI68,Přehled_body!$A$3:$A$130,0),MATCH(Tabulka!R$2,Přehled_body!$E$1:$ED$1,0)),)=\"\",,IF(IFERROR(INDEX(Přehled_body!$E$3:$ED$130,MATCH(Tabulka!$AI68,Přehled_body!$A$3:$A$130,0),MATCH(Tabulka!R$2,Přehled_body!$E$1:$ED$1,0)),)=0,0.00000000001,IFERROR(INDEX(Přehled_body!$E$3:$ED$130,MATCH(Tabulka!$AI68,Přehled_body!$A$3:$A$130,0),MATCH(Tabulka!R$2,Přehled_body!$E$1:$ED$1,0)),)))","v":0},{"$f":"IF(IFERROR(INDEX(Přehled_body!$E$3:$ED$130,MATCH(Tabulka!$AI68,Přehled_body!$A$3:$A$130,0),MATCH(Tabulka!S$2,Přehled_body!$E$1:$ED$1,0)),)=\"\",,IF(IFERROR(INDEX(Přehled_body!$E$3:$ED$130,MATCH(Tabulka!$AI68,Přehled_body!$A$3:$A$130,0),MATCH(Tabulka!S$2,Přehled_body!$E$1:$ED$1,0)),)=0,0.00000000001,IFERROR(INDEX(Přehled_body!$E$3:$ED$130,MATCH(Tabulka!$AI68,Přehled_body!$A$3:$A$130,0),MATCH(Tabulka!S$2,Přehled_body!$E$1:$ED$1,0)),)))","v":0},{"$f":"IF(IFERROR(INDEX(Přehled_body!$E$3:$ED$130,MATCH(Tabulka!$AI68,Přehled_body!$A$3:$A$130,0),MATCH(Tabulka!T$2,Přehled_body!$E$1:$ED$1,0)),)=\"\",,IF(IFERROR(INDEX(Přehled_body!$E$3:$ED$130,MATCH(Tabulka!$AI68,Přehled_body!$A$3:$A$130,0),MATCH(Tabulka!T$2,Přehled_body!$E$1:$ED$1,0)),)=0,0.00000000001,IFERROR(INDEX(Přehled_body!$E$3:$ED$130,MATCH(Tabulka!$AI68,Přehled_body!$A$3:$A$130,0),MATCH(Tabulka!T$2,Přehled_body!$E$1:$ED$1,0)),)))","v":0},{"$f":"IF(IFERROR(INDEX(Přehled_body!$E$3:$ED$130,MATCH(Tabulka!$AI68,Přehled_body!$A$3:$A$130,0),MATCH(Tabulka!U$2,Přehled_body!$E$1:$ED$1,0)),)=\"\",,IF(IFERROR(INDEX(Přehled_body!$E$3:$ED$130,MATCH(Tabulka!$AI68,Přehled_body!$A$3:$A$130,0),MATCH(Tabulka!U$2,Přehled_body!$E$1:$ED$1,0)),)=0,0.00000000001,IFERROR(INDEX(Přehled_body!$E$3:$ED$130,MATCH(Tabulka!$AI68,Přehled_body!$A$3:$A$130,0),MATCH(Tabulka!U$2,Přehled_body!$E$1:$ED$1,0)),)))","v":0},{"$f":"IF(IFERROR(INDEX(Přehled_body!$E$3:$ED$130,MATCH(Tabulka!$AI68,Přehled_body!$A$3:$A$130,0),MATCH(Tabulka!V$2,Přehled_body!$E$1:$ED$1,0)),)=\"\",,IF(IFERROR(INDEX(Přehled_body!$E$3:$ED$130,MATCH(Tabulka!$AI68,Přehled_body!$A$3:$A$130,0),MATCH(Tabulka!V$2,Přehled_body!$E$1:$ED$1,0)),)=0,0.00000000001,IFERROR(INDEX(Přehled_body!$E$3:$ED$130,MATCH(Tabulka!$AI68,Přehled_body!$A$3:$A$130,0),MATCH(Tabulka!V$2,Přehled_body!$E$1:$ED$1,0)),)))","v":0},{"$f":"IF(IFERROR(INDEX(Přehled_body!$E$3:$ED$130,MATCH(Tabulka!$AI68,Přehled_body!$A$3:$A$130,0),MATCH(Tabulka!W$2,Přehled_body!$E$1:$ED$1,0)),)=\"\",,IF(IFERROR(INDEX(Přehled_body!$E$3:$ED$130,MATCH(Tabulka!$AI68,Přehled_body!$A$3:$A$130,0),MATCH(Tabulka!W$2,Přehled_body!$E$1:$ED$1,0)),)=0,0.00000000001,IFERROR(INDEX(Přehled_body!$E$3:$ED$130,MATCH(Tabulka!$AI68,Přehled_body!$A$3:$A$130,0),MATCH(Tabulka!W$2,Přehled_body!$E$1:$ED$1,0)),)))","v":0},{"$f":"IF(IFERROR(INDEX(Přehled_body!$E$3:$ED$130,MATCH(Tabulka!$AI68,Přehled_body!$A$3:$A$130,0),MATCH(Tabulka!X$2,Přehled_body!$E$1:$ED$1,0)),)=\"\",,IF(IFERROR(INDEX(Přehled_body!$E$3:$ED$130,MATCH(Tabulka!$AI68,Přehled_body!$A$3:$A$130,0),MATCH(Tabulka!X$2,Přehled_body!$E$1:$ED$1,0)),)=0,0.00000000001,IFERROR(INDEX(Přehled_body!$E$3:$ED$130,MATCH(Tabulka!$AI68,Přehled_body!$A$3:$A$130,0),MATCH(Tabulka!X$2,Přehled_body!$E$1:$ED$1,0)),)))","v":0},{"$f":"IF(IFERROR(INDEX(Přehled_body!$E$3:$ED$130,MATCH(Tabulka!$AI68,Přehled_body!$A$3:$A$130,0),MATCH(Tabulka!Y$2,Přehled_body!$E$1:$ED$1,0)),)=\"\",,IF(IFERROR(INDEX(Přehled_body!$E$3:$ED$130,MATCH(Tabulka!$AI68,Přehled_body!$A$3:$A$130,0),MATCH(Tabulka!Y$2,Přehled_body!$E$1:$ED$1,0)),)=0,0.00000000001,IFERROR(INDEX(Přehled_body!$E$3:$ED$130,MATCH(Tabulka!$AI68,Přehled_body!$A$3:$A$130,0),MATCH(Tabulka!Y$2,Přehled_body!$E$1:$ED$1,0)),)))","v":0},{"$f":"IF(IFERROR(INDEX(Přehled_body!$E$3:$ED$130,MATCH(Tabulka!$AI68,Přehled_body!$A$3:$A$130,0),MATCH(Tabulka!Z$2,Přehled_body!$E$1:$ED$1,0)),)=\"\",,IF(IFERROR(INDEX(Přehled_body!$E$3:$ED$130,MATCH(Tabulka!$AI68,Přehled_body!$A$3:$A$130,0),MATCH(Tabulka!Z$2,Přehled_body!$E$1:$ED$1,0)),)=0,0.00000000001,IFERROR(INDEX(Přehled_body!$E$3:$ED$130,MATCH(Tabulka!$AI68,Přehled_body!$A$3:$A$130,0),MATCH(Tabulka!Z$2,Přehled_body!$E$1:$ED$1,0)),)))","v":0},{"$f":"IF(IFERROR(INDEX(Přehled_body!$E$3:$ED$130,MATCH(Tabulka!$AI68,Přehled_body!$A$3:$A$130,0),MATCH(Tabulka!AA$2,Přehled_body!$E$1:$ED$1,0)),)=\"\",,IF(IFERROR(INDEX(Přehled_body!$E$3:$ED$130,MATCH(Tabulka!$AI68,Přehled_body!$A$3:$A$130,0),MATCH(Tabulka!AA$2,Přehled_body!$E$1:$ED$1,0)),)=0,0.00000000001,IFERROR(INDEX(Přehled_body!$E$3:$ED$130,MATCH(Tabulka!$AI68,Přehled_body!$A$3:$A$130,0),MATCH(Tabulka!AA$2,Přehled_body!$E$1:$ED$1,0)),)))","v":0},{"$f":"IF(IFERROR(INDEX(Přehled_body!$E$3:$ED$130,MATCH(Tabulka!$AI68,Přehled_body!$A$3:$A$130,0),MATCH(Tabulka!AB$2,Přehled_body!$E$1:$ED$1,0)),)=\"\",,IF(IFERROR(INDEX(Přehled_body!$E$3:$ED$130,MATCH(Tabulka!$AI68,Přehled_body!$A$3:$A$130,0),MATCH(Tabulka!AB$2,Přehled_body!$E$1:$ED$1,0)),)=0,0.00000000001,IFERROR(INDEX(Přehled_body!$E$3:$ED$130,MATCH(Tabulka!$AI68,Přehled_body!$A$3:$A$130,0),MATCH(Tabulka!AB$2,Přehled_body!$E$1:$ED$1,0)),)))","v":0},{"$f":"IF(IFERROR(INDEX(Přehled_body!$E$3:$ED$130,MATCH(Tabulka!$AI68,Přehled_body!$A$3:$A$130,0),MATCH(Tabulka!AC$2,Přehled_body!$E$1:$ED$1,0)),)=\"\",,IF(IFERROR(INDEX(Přehled_body!$E$3:$ED$130,MATCH(Tabulka!$AI68,Přehled_body!$A$3:$A$130,0),MATCH(Tabulka!AC$2,Přehled_body!$E$1:$ED$1,0)),)=0,0.00000000001,IFERROR(INDEX(Přehled_body!$E$3:$ED$130,MATCH(Tabulka!$AI68,Přehled_body!$A$3:$A$130,0),MATCH(Tabulka!AC$2,Přehled_body!$E$1:$ED$1,0)),)))","v":0},{"$f":"IF(IFERROR(INDEX(Přehled_body!$E$3:$ED$130,MATCH(Tabulka!$AI68,Přehled_body!$A$3:$A$130,0),MATCH(Tabulka!AD$2,Přehled_body!$E$1:$ED$1,0)),)=\"\",,IF(IFERROR(INDEX(Přehled_body!$E$3:$ED$130,MATCH(Tabulka!$AI68,Přehled_body!$A$3:$A$130,0),MATCH(Tabulka!AD$2,Přehled_body!$E$1:$ED$1,0)),)=0,0.00000000001,IFERROR(INDEX(Přehled_body!$E$3:$ED$130,MATCH(Tabulka!$AI68,Přehled_body!$A$3:$A$130,0),MATCH(Tabulka!AD$2,Přehled_body!$E$1:$ED$1,0)),)))","v":0},{"$f":"IF(SUM(AG64)<2,-90000+SUM(D68:AD68),SUM(D68:AD68))","v":-89996},null,null,{"$f":"SUM(D68:AD68)","v":4},{"$f":"CONCATENATE($B$65,\" \",$B$66,C68)","v":"Karel KarlPoč. kol"},null,null,1]
[14,null,"Výhry",{"$f":"IF(IFERROR(INDEX(Přehled_body!$E$3:$ED$130,MATCH(Tabulka!$AI69,Přehled_body!$A$3:$A$130,0),MATCH(Tabulka!D$2,Přehled_body!$E$1:$ED$1,0)),)=\"\",,IF(IFERROR(INDEX(Přehled_body!$E$3:$ED$130,MATCH(Tabulka!$AI69,Přehled_body!$A$3:$A$130,0),MATCH(Tabulka!D$2,Přehled_body!$E$1:$ED$1,0)),)=0,0.00000000001,IFERROR(INDEX(Přehled_body!$E$3:$ED$130,MATCH(Tabulka!$AI69,Přehled_body!$A$3:$A$130,0),MATCH(Tabulka!D$2,Přehled_body!$E$1:$ED$1,0)),)))","v":0},{"$f":"IF(IFERROR(INDEX(Přehled_body!$E$3:$ED$130,MATCH(Tabulka!$AI69,Přehled_body!$A$3:$A$130,0),MATCH(Tabulka!E$2,Přehled_body!$E$1:$ED$1,0)),)=\"\",,IF(IFERROR(INDEX(Přehled_body!$E$3:$ED$130,MATCH(Tabulka!$AI69,Přehled_body!$A$3:$A$130,0),MATCH(Tabulka!E$2,Přehled_body!$E$1:$ED$1,0)),)=0,0.00000000001,IFERROR(INDEX(Přehled_body!$E$3:$ED$130,MATCH(Tabulka!$AI69,Přehled_body!$A$3:$A$130,0),MATCH(Tabulka!E$2,Přehled_body!$E$1:$ED$1,0)),)))","v":0},{"$f":"IF(IFERROR(INDEX(Přehled_body!$E$3:$ED$130,MATCH(Tabulka!$AI69,Přehled_body!$A$3:$A$130,0),MATCH(Tabulka!F$2,Přehled_body!$E$1:$ED$1,0)),)=\"\",,IF(IFERROR(INDEX(Přehled_body!$E$3:$ED$130,MATCH(Tabulka!$AI69,Přehled_body!$A$3:$A$130,0),MATCH(Tabulka!F$2,Přehled_body!$E$1:$ED$1,0)),)=0,0.00000000001,IFERROR(INDEX(Přehled_body!$E$3:$ED$130,MATCH(Tabulka!$AI69,Přehled_body!$A$3:$A$130,0),MATCH(Tabulka!F$2,Přehled_body!$E$1:$ED$1,0)),)))","v":0},{"$f":"IF(IFERROR(INDEX(Přehled_body!$E$3:$ED$130,MATCH(Tabulka!$AI69,Přehled_body!$A$3:$A$130,0),MATCH(Tabulka!G$2,Přehled_body!$E$1:$ED$1,0)),)=\"\",,IF(IFERROR(INDEX(Přehled_body!$E$3:$ED$130,MATCH(Tabulka!$AI69,Přehled_body!$A$3:$A$130,0),MATCH(Tabulka!G$2,Přehled_body!$E$1:$ED$1,0)),)=0,0.00000000001,IFERROR(INDEX(Přehled_body!$E$3:$ED$130,MATCH(Tabulka!$AI69,Přehled_body!$A$3:$A$130,0),MATCH(Tabulka!G$2,Přehled_body!$E$1:$ED$1,0)),)))","v":0},{"$f":"IF(IFERROR(INDEX(Přehled_body!$E$3:$ED$130,MATCH(Tabulka!$AI69,Přehled_body!$A$3:$A$130,0),MATCH(Tabulka!H$2,Přehled_body!$E$1:$ED$1,0)),)=\"\",,IF(IFERROR(INDEX(Přehled_body!$E$3:$ED$130,MATCH(Tabulka!$AI69,Přehled_body!$A$3:$A$130,0),MATCH(Tabulka!H$2,Přehled_body!$E$1:$ED$1,0)),)=0,0.00000000001,IFERROR(INDEX(Přehled_body!$E$3:$ED$130,MATCH(Tabulka!$AI69,Přehled_body!$A$3:$A$130,0),MATCH(Tabulka!H$2,Přehled_body!$E$1:$ED$1,0)),)))","v":0},{"$f":"IF(IFERROR(INDEX(Přehled_body!$E$3:$ED$130,MATCH(Tabulka!$AI69,Přehled_body!$A$3:$A$130,0),MATCH(Tabulka!I$2,Přehled_body!$E$1:$ED$1,0)),)=\"\",,IF(IFERROR(INDEX(Přehled_body!$E$3:$ED$130,MATCH(Tabulka!$AI69,Přehled_body!$A$3:$A$130,0),MATCH(Tabulka!I$2,Přehled_body!$E$1:$ED$1,0)),)=0,0.00000000001,IFERROR(INDEX(Přehled_body!$E$3:$ED$130,MATCH(Tabulka!$AI69,Přehled_body!$A$3:$A$130,0),MATCH(Tabulka!I$2,Přehled_body!$E$1:$ED$1,0)),)))","v":0},{"$f":"IF(IFERROR(INDEX(Přehled_body!$E$3:$ED$130,MATCH(Tabulka!$AI69,Přehled_body!$A$3:$A$130,0),MATCH(Tabulka!J$2,Přehled_body!$E$1:$ED$1,0)),)=\"\",,IF(IFERROR(INDEX(Přehled_body!$E$3:$ED$130,MATCH(Tabulka!$AI69,Přehled_body!$A$3:$A$130,0),MATCH(Tabulka!J$2,Přehled_body!$E$1:$ED$1,0)),)=0,0.00000000001,IFERROR(INDEX(Přehled_body!$E$3:$ED$130,MATCH(Tabulka!$AI69,Přehled_body!$A$3:$A$130,0),MATCH(Tabulka!J$2,Přehled_body!$E$1:$ED$1,0)),)))","v":0},{"$f":"IF(IFERROR(INDEX(Přehled_body!$E$3:$ED$130,MATCH(Tabulka!$AI69,Přehled_body!$A$3:$A$130,0),MATCH(Tabulka!K$2,Přehled_body!$E$1:$ED$1,0)),)=\"\",,IF(IFERROR(INDEX(Přehled_body!$E$3:$ED$130,MATCH(Tabulka!$AI69,Přehled_body!$A$3:$A$130,0),MATCH(Tabulka!K$2,Přehled_body!$E$1:$ED$1,0)),)=0,0.00000000001,IFERROR(INDEX(Přehled_body!$E$3:$ED$130,MATCH(Tabulka!$AI69,Přehled_body!$A$3:$A$130,0),MATCH(Tabulka!K$2,Přehled_body!$E$1:$ED$1,0)),)))","v":0},{"$f":"IF(IFERROR(INDEX(Přehled_body!$E$3:$ED$130,MATCH(Tabulka!$AI69,Přehled_body!$A$3:$A$130,0),MATCH(Tabulka!L$2,Přehled_body!$E$1:$ED$1,0)),)=\"\",,IF(IFERROR(INDEX(Přehled_body!$E$3:$ED$130,MATCH(Tabulka!$AI69,Přehled_body!$A$3:$A$130,0),MATCH(Tabulka!L$2,Přehled_body!$E$1:$ED$1,0)),)=0,0.00000000001,IFERROR(INDEX(Přehled_body!$E$3:$ED$130,MATCH(Tabulka!$AI69,Přehled_body!$A$3:$A$130,0),MATCH(Tabulka!L$2,Přehled_body!$E$1:$ED$1,0)),)))","v":0},{"$f":"IF(IFERROR(INDEX(Přehled_body!$E$3:$ED$130,MATCH(Tabulka!$AI69,Přehled_body!$A$3:$A$130,0),MATCH(Tabulka!M$2,Přehled_body!$E$1:$ED$1,0)),)=\"\",,IF(IFERROR(INDEX(Přehled_body!$E$3:$ED$130,MATCH(Tabulka!$AI69,Přehled_body!$A$3:$A$130,0),MATCH(Tabulka!M$2,Přehled_body!$E$1:$ED$1,0)),)=0,0.00000000001,IFERROR(INDEX(Přehled_body!$E$3:$ED$130,MATCH(Tabulka!$AI69,Přehled_body!$A$3:$A$130,0),MATCH(Tabulka!M$2,Přehled_body!$E$1:$ED$1,0)),)))","v":0},{"$f":"IF(IFERROR(INDEX(Přehled_body!$E$3:$ED$130,MATCH(Tabulka!$AI69,Přehled_body!$A$3:$A$130,0),MATCH(Tabulka!N$2,Přehled_body!$E$1:$ED$1,0)),)=\"\",,IF(IFERROR(INDEX(Přehled_body!$E$3:$ED$130,MATCH(Tabulka!$AI69,Přehled_body!$A$3:$A$130,0),MATCH(Tabulka!N$2,Přehled_body!$E$1:$ED$1,0)),)=0,0.00000000001,IFERROR(INDEX(Přehled_body!$E$3:$ED$130,MATCH(Tabulka!$AI69,Přehled_body!$A$3:$A$130,0),MATCH(Tabulka!N$2,Přehled_body!$E$1:$ED$1,0)),)))","v":0},{"$f":"IF(IFERROR(INDEX(Přehled_body!$E$3:$ED$130,MATCH(Tabulka!$AI69,Přehled_body!$A$3:$A$130,0),MATCH(Tabulka!O$2,Přehled_body!$E$1:$ED$1,0)),)=\"\",,IF(IFERROR(INDEX(Přehled_body!$E$3:$ED$130,MATCH(Tabulka!$AI69,Přehled_body!$A$3:$A$130,0),MATCH(Tabulka!O$2,Přehled_body!$E$1:$ED$1,0)),)=0,0.00000000001,IFERROR(INDEX(Přehled_body!$E$3:$ED$130,MATCH(Tabulka!$AI69,Přehled_body!$A$3:$A$130,0),MATCH(Tabulka!O$2,Přehled_body!$E$1:$ED$1,0)),)))","v":0},{"$f":"IF(IFERROR(INDEX(Přehled_body!$E$3:$ED$130,MATCH(Tabulka!$AI69,Přehled_body!$A$3:$A$130,0),MATCH(Tabulka!P$2,Přehled_body!$E$1:$ED$1,0)),)=\"\",,IF(IFERROR(INDEX(Přehled_body!$E$3:$ED$130,MATCH(Tabulka!$AI69,Přehled_body!$A$3:$A$130,0),MATCH(Tabulka!P$2,Přehled_body!$E$1:$ED$1,0)),)=0,0.00000000001,IFERROR(INDEX(Přehled_body!$E$3:$ED$130,MATCH(Tabulka!$AI69,Přehled_body!$A$3:$A$130,0),MATCH(Tabulka!P$2,Přehled_body!$E$1:$ED$1,0)),)))","v":0},{"$f":"IF(IFERROR(INDEX(Přehled_body!$E$3:$ED$130,MATCH(Tabulka!$AI69,Přehled_body!$A$3:$A$130,0),MATCH(Tabulka!Q$2,Přehled_body!$E$1:$ED$1,0)),)=\"\",,IF(IFERROR(INDEX(Přehled_body!$E$3:$ED$130,MATCH(Tabulka!$AI69,Přehled_body!$A$3:$A$130,0),MATCH(Tabulka!Q$2,Přehled_body!$E$1:$ED$1,0)),)=0,0.00000000001,IFERROR(INDEX(Přehled_body!$E$3:$ED$130,MATCH(Tabulka!$AI69,Přehled_body!$A$3:$A$130,0),MATCH(Tabulka!Q$2,Přehled_body!$E$1:$ED$1,0)),)))","v":0},{"$f":"IF(IFERROR(INDEX(Přehled_body!$E$3:$ED$130,MATCH(Tabulka!$AI69,Přehled_body!$A$3:$A$130,0),MATCH(Tabulka!R$2,Přehled_body!$E$1:$ED$1,0)),)=\"\",,IF(IFERROR(INDEX(Přehled_body!$E$3:$ED$130,MATCH(Tabulka!$AI69,Přehled_body!$A$3:$A$130,0),MATCH(Tabulka!R$2,Přehled_body!$E$1:$ED$1,0)),)=0,0.00000000001,IFERROR(INDEX(Přehled_body!$E$3:$ED$130,MATCH(Tabulka!$AI69,Přehled_body!$A$3:$A$130,0),MATCH(Tabulka!R$2,Přehled_body!$E$1:$ED$1,0)),)))","v":0},{"$f":"IF(IFERROR(INDEX(Přehled_body!$E$3:$ED$130,MATCH(Tabulka!$AI69,Přehled_body!$A$3:$A$130,0),MATCH(Tabulka!S$2,Přehled_body!$E$1:$ED$1,0)),)=\"\",,IF(IFERROR(INDEX(Přehled_body!$E$3:$ED$130,MATCH(Tabulka!$AI69,Přehled_body!$A$3:$A$130,0),MATCH(Tabulka!S$2,Přehled_body!$E$1:$ED$1,0)),)=0,0.00000000001,IFERROR(INDEX(Přehled_body!$E$3:$ED$130,MATCH(Tabulka!$AI69,Přehled_body!$A$3:$A$130,0),MATCH(Tabulka!S$2,Přehled_body!$E$1:$ED$1,0)),)))","v":0},{"$f":"IF(IFERROR(INDEX(Přehled_body!$E$3:$ED$130,MATCH(Tabulka!$AI69,Přehled_body!$A$3:$A$130,0),MATCH(Tabulka!T$2,Přehled_body!$E$1:$ED$1,0)),)=\"\",,IF(IFERROR(INDEX(Přehled_body!$E$3:$ED$130,MATCH(Tabulka!$AI69,Přehled_body!$A$3:$A$130,0),MATCH(Tabulka!T$2,Přehled_body!$E$1:$ED$1,0)),)=0,0.00000000001,IFERROR(INDEX(Přehled_body!$E$3:$ED$130,MATCH(Tabulka!$AI69,Přehled_body!$A$3:$A$130,0),MATCH(Tabulka!T$2,Přehled_body!$E$1:$ED$1,0)),)))","v":0},{"$f":"IF(IFERROR(INDEX(Přehled_body!$E$3:$ED$130,MATCH(Tabulka!$AI69,Přehled_body!$A$3:$A$130,0),MATCH(Tabulka!U$2,Přehled_body!$E$1:$ED$1,0)),)=\"\",,IF(IFERROR(INDEX(Přehled_body!$E$3:$ED$130,MATCH(Tabulka!$AI69,Přehled_body!$A$3:$A$130,0),MATCH(Tabulka!U$2,Přehled_body!$E$1:$ED$1,0)),)=0,0.00000000001,IFERROR(INDEX(Přehled_body!$E$3:$ED$130,MATCH(Tabulka!$AI69,Přehled_body!$A$3:$A$130,0),MATCH(Tabulka!U$2,Přehled_body!$E$1:$ED$1,0)),)))","v":0},{"$f":"IF(IFERROR(INDEX(Přehled_body!$E$3:$ED$130,MATCH(Tabulka!$AI69,Přehled_body!$A$3:$A$130,0),MATCH(Tabulka!V$2,Přehled_body!$E$1:$ED$1,0)),)=\"\",,IF(IFERROR(INDEX(Přehled_body!$E$3:$ED$130,MATCH(Tabulka!$AI69,Přehled_body!$A$3:$A$130,0),MATCH(Tabulka!V$2,Přehled_body!$E$1:$ED$1,0)),)=0,0.00000000001,IFERROR(INDEX(Přehled_body!$E$3:$ED$130,MATCH(Tabulka!$AI69,Přehled_body!$A$3:$A$130,0),MATCH(Tabulka!V$2,Přehled_body!$E$1:$ED$1,0)),)))","v":0},{"$f":"IF(IFERROR(INDEX(Přehled_body!$E$3:$ED$130,MATCH(Tabulka!$AI69,Přehled_body!$A$3:$A$130,0),MATCH(Tabulka!W$2,Přehled_body!$E$1:$ED$1,0)),)=\"\",,IF(IFERROR(INDEX(Přehled_body!$E$3:$ED$130,MATCH(Tabulka!$AI69,Přehled_body!$A$3:$A$130,0),MATCH(Tabulka!W$2,Přehled_body!$E$1:$ED$1,0)),)=0,0.00000000001,IFERROR(INDEX(Přehled_body!$E$3:$ED$130,MATCH(Tabulka!$AI69,Přehled_body!$A$3:$A$130,0),MATCH(Tabulka!W$2,Přehled_body!$E$1:$ED$1,0)),)))","v":0},{"$f":"IF(IFERROR(INDEX(Přehled_body!$E$3:$ED$130,MATCH(Tabulka!$AI69,Přehled_body!$A$3:$A$130,0),MATCH(Tabulka!X$2,Přehled_body!$E$1:$ED$1,0)),)=\"\",,IF(IFERROR(INDEX(Přehled_body!$E$3:$ED$130,MATCH(Tabulka!$AI69,Přehled_body!$A$3:$A$130,0),MATCH(Tabulka!X$2,Přehled_body!$E$1:$ED$1,0)),)=0,0.00000000001,IFERROR(INDEX(Přehled_body!$E$3:$ED$130,MATCH(Tabulka!$AI69,Přehled_body!$A$3:$A$130,0),MATCH(Tabulka!X$2,Přehled_body!$E$1:$ED$1,0)),)))","v":0},{"$f":"IF(IFERROR(INDEX(Přehled_body!$E$3:$ED$130,MATCH(Tabulka!$AI69,Přehled_body!$A$3:$A$130,0),MATCH(Tabulka!Y$2,Přehled_body!$E$1:$ED$1,0)),)=\"\",,IF(IFERROR(INDEX(Přehled_body!$E$3:$ED$130,MATCH(Tabulka!$AI69,Přehled_body!$A$3:$A$130,0),MATCH(Tabulka!Y$2,Přehled_body!$E$1:$ED$1,0)),)=0,0.00000000001,IFERROR(INDEX(Přehled_body!$E$3:$ED$130,MATCH(Tabulka!$AI69,Přehled_body!$A$3:$A$130,0),MATCH(Tabulka!Y$2,Přehled_body!$E$1:$ED$1,0)),)))","v":0},{"$f":"IF(IFERROR(INDEX(Přehled_body!$E$3:$ED$130,MATCH(Tabulka!$AI69,Přehled_body!$A$3:$A$130,0),MATCH(Tabulka!Z$2,Přehled_body!$E$1:$ED$1,0)),)=\"\",,IF(IFERROR(INDEX(Přehled_body!$E$3:$ED$130,MATCH(Tabulka!$AI69,Přehled_body!$A$3:$A$130,0),MATCH(Tabulka!Z$2,Přehled_body!$E$1:$ED$1,0)),)=0,0.00000000001,IFERROR(INDEX(Přehled_body!$E$3:$ED$130,MATCH(Tabulka!$AI69,Přehled_body!$A$3:$A$130,0),MATCH(Tabulka!Z$2,Přehled_body!$E$1:$ED$1,0)),)))","v":0},{"$f":"IF(IFERROR(INDEX(Přehled_body!$E$3:$ED$130,MATCH(Tabulka!$AI69,Přehled_body!$A$3:$A$130,0),MATCH(Tabulka!AA$2,Přehled_body!$E$1:$ED$1,0)),)=\"\",,IF(IFERROR(INDEX(Přehled_body!$E$3:$ED$130,MATCH(Tabulka!$AI69,Přehled_body!$A$3:$A$130,0),MATCH(Tabulka!AA$2,Přehled_body!$E$1:$ED$1,0)),)=0,0.00000000001,IFERROR(INDEX(Přehled_body!$E$3:$ED$130,MATCH(Tabulka!$AI69,Přehled_body!$A$3:$A$130,0),MATCH(Tabulka!AA$2,Přehled_body!$E$1:$ED$1,0)),)))","v":0},{"$f":"IF(IFERROR(INDEX(Přehled_body!$E$3:$ED$130,MATCH(Tabulka!$AI69,Přehled_body!$A$3:$A$130,0),MATCH(Tabulka!AB$2,Přehled_body!$E$1:$ED$1,0)),)=\"\",,IF(IFERROR(INDEX(Přehled_body!$E$3:$ED$130,MATCH(Tabulka!$AI69,Přehled_body!$A$3:$A$130,0),MATCH(Tabulka!AB$2,Přehled_body!$E$1:$ED$1,0)),)=0,0.00000000001,IFERROR(INDEX(Přehled_body!$E$3:$ED$130,MATCH(Tabulka!$AI69,Přehled_body!$A$3:$A$130,0),MATCH(Tabulka!AB$2,Přehled_body!$E$1:$ED$1,0)),)))","v":0},{"$f":"IF(IFERROR(INDEX(Přehled_body!$E$3:$ED$130,MATCH(Tabulka!$AI69,Přehled_body!$A$3:$A$130,0),MATCH(Tabulka!AC$2,Přehled_body!$E$1:$ED$1,0)),)=\"\",,IF(IFERROR(INDEX(Přehled_body!$E$3:$ED$130,MATCH(Tabulka!$AI69,Přehled_body!$A$3:$A$130,0),MATCH(Tabulka!AC$2,Přehled_body!$E$1:$ED$1,0)),)=0,0.00000000001,IFERROR(INDEX(Přehled_body!$E$3:$ED$130,MATCH(Tabulka!$AI69,Přehled_body!$A$3:$A$130,0),MATCH(Tabulka!AC$2,Přehled_body!$E$1:$ED$1,0)),)))","v":0},{"$f":"IF(IFERROR(INDEX(Přehled_body!$E$3:$ED$130,MATCH(Tabulka!$AI69,Přehled_body!$A$3:$A$130,0),MATCH(Tabulka!AD$2,Přehled_body!$E$1:$ED$1,0)),)=\"\",,IF(IFERROR(INDEX(Přehled_body!$E$3:$ED$130,MATCH(Tabulka!$AI69,Přehled_body!$A$3:$A$130,0),MATCH(Tabulka!AD$2,Přehled_body!$E$1:$ED$1,0)),)=0,0.00000000001,IFERROR(INDEX(Přehled_body!$E$3:$ED$130,MATCH(Tabulka!$AI69,Přehled_body!$A$3:$A$130,0),MATCH(Tabulka!AD$2,Přehled_body!$E$1:$ED$1,0)),)))","v":0},{"$f":"IF(SUM(AG69)<2,-90000+SUM(D69:AD69),SUM(D69:AD69))","v":-90000},null,{"$f":"COUNTIF(D69:AD69,\">0\")","v":0},0,{"$f":"CONCATENATE($B$70,\" \",$B$71,C69)","v":"Míra KulhanVýhry"},null,null,0]
[{"$f":"CONCATENATE(B70,\" \",B71)","v":"Míra Kulhan"},"Míra","Prohry",{"$f":"IF(IFERROR(INDEX(Přehled_body!$E$3:$ED$130,MATCH(Tabulka!$AI70,Přehled_body!$A$3:$A$130,0),MATCH(Tabulka!D$2,Přehled_body!$E$1:$ED$1,0)),)=\"\",,IF(IFERROR(INDEX(Přehled_body!$E$3:$ED$130,MATCH(Tabulka!$AI70,Přehled_body!$A$3:$A$130,0),MATCH(Tabulka!D$2,Přehled_body!$E$1:$ED$1,0)),)=0,0.00000000001,IFERROR(INDEX(Přehled_body!$E$3:$ED$130,MATCH(Tabulka!$AI70,Přehled_body!$A$3:$A$130,0),MATCH(Tabulka!D$2,Přehled_body!$E$1:$ED$1,0)),)))","v":0},{"$f":"IF(IFERROR(INDEX(Přehled_body!$E$3:$ED$130,MATCH(Tabulka!$AI70,Přehled_body!$A$3:$A$130,0),MATCH(Tabulka!E$2,Přehled_body!$E$1:$ED$1,0)),)=\"\",,IF(IFERROR(INDEX(Přehled_body!$E$3:$ED$130,MATCH(Tabulka!$AI70,Přehled_body!$A$3:$A$130,0),MATCH(Tabulka!E$2,Přehled_body!$E$1:$ED$1,0)),)=0,0.00000000001,IFERROR(INDEX(Přehled_body!$E$3:$ED$130,MATCH(Tabulka!$AI70,Přehled_body!$A$3:$A$130,0),MATCH(Tabulka!E$2,Přehled_body!$E$1:$ED$1,0)),)))","v":0},{"$f":"IF(IFERROR(INDEX(Přehled_body!$E$3:$ED$130,MATCH(Tabulka!$AI70,Přehled_body!$A$3:$A$130,0),MATCH(Tabulka!F$2,Přehled_body!$E$1:$ED$1,0)),)=\"\",,IF(IFERROR(INDEX(Přehled_body!$E$3:$ED$130,MATCH(Tabulka!$AI70,Přehled_body!$A$3:$A$130,0),MATCH(Tabulka!F$2,Přehled_body!$E$1:$ED$1,0)),)=0,0.00000000001,IFERROR(INDEX(Přehled_body!$E$3:$ED$130,MATCH(Tabulka!$AI70,Přehled_body!$A$3:$A$130,0),MATCH(Tabulka!F$2,Přehled_body!$E$1:$ED$1,0)),)))","v":0},{"$f":"IF(IFERROR(INDEX(Přehled_body!$E$3:$ED$130,MATCH(Tabulka!$AI70,Přehled_body!$A$3:$A$130,0),MATCH(Tabulka!G$2,Přehled_body!$E$1:$ED$1,0)),)=\"\",,IF(IFERROR(INDEX(Přehled_body!$E$3:$ED$130,MATCH(Tabulka!$AI70,Přehled_body!$A$3:$A$130,0),MATCH(Tabulka!G$2,Přehled_body!$E$1:$ED$1,0)),)=0,0.00000000001,IFERROR(INDEX(Přehled_body!$E$3:$ED$130,MATCH(Tabulka!$AI70,Přehled_body!$A$3:$A$130,0),MATCH(Tabulka!G$2,Přehled_body!$E$1:$ED$1,0)),)))","v":0},{"$f":"IF(IFERROR(INDEX(Přehled_body!$E$3:$ED$130,MATCH(Tabulka!$AI70,Přehled_body!$A$3:$A$130,0),MATCH(Tabulka!H$2,Přehled_body!$E$1:$ED$1,0)),)=\"\",,IF(IFERROR(INDEX(Přehled_body!$E$3:$ED$130,MATCH(Tabulka!$AI70,Přehled_body!$A$3:$A$130,0),MATCH(Tabulka!H$2,Přehled_body!$E$1:$ED$1,0)),)=0,0.00000000001,IFERROR(INDEX(Přehled_body!$E$3:$ED$130,MATCH(Tabulka!$AI70,Přehled_body!$A$3:$A$130,0),MATCH(Tabulka!H$2,Přehled_body!$E$1:$ED$1,0)),)))","v":0},{"$f":"IF(IFERROR(INDEX(Přehled_body!$E$3:$ED$130,MATCH(Tabulka!$AI70,Přehled_body!$A$3:$A$130,0),MATCH(Tabulka!I$2,Přehled_body!$E$1:$ED$1,0)),)=\"\",,IF(IFERROR(INDEX(Přehled_body!$E$3:$ED$130,MATCH(Tabulka!$AI70,Přehled_body!$A$3:$A$130,0),MATCH(Tabulka!I$2,Přehled_body!$E$1:$ED$1,0)),)=0,0.00000000001,IFERROR(INDEX(Přehled_body!$E$3:$ED$130,MATCH(Tabulka!$AI70,Přehled_body!$A$3:$A$130,0),MATCH(Tabulka!I$2,Přehled_body!$E$1:$ED$1,0)),)))","v":0},{"$f":"IF(IFERROR(INDEX(Přehled_body!$E$3:$ED$130,MATCH(Tabulka!$AI70,Přehled_body!$A$3:$A$130,0),MATCH(Tabulka!J$2,Přehled_body!$E$1:$ED$1,0)),)=\"\",,IF(IFERROR(INDEX(Přehled_body!$E$3:$ED$130,MATCH(Tabulka!$AI70,Přehled_body!$A$3:$A$130,0),MATCH(Tabulka!J$2,Přehled_body!$E$1:$ED$1,0)),)=0,0.00000000001,IFERROR(INDEX(Přehled_body!$E$3:$ED$130,MATCH(Tabulka!$AI70,Přehled_body!$A$3:$A$130,0),MATCH(Tabulka!J$2,Přehled_body!$E$1:$ED$1,0)),)))","v":0},{"$f":"IF(IFERROR(INDEX(Přehled_body!$E$3:$ED$130,MATCH(Tabulka!$AI70,Přehled_body!$A$3:$A$130,0),MATCH(Tabulka!K$2,Přehled_body!$E$1:$ED$1,0)),)=\"\",,IF(IFERROR(INDEX(Přehled_body!$E$3:$ED$130,MATCH(Tabulka!$AI70,Přehled_body!$A$3:$A$130,0),MATCH(Tabulka!K$2,Přehled_body!$E$1:$ED$1,0)),)=0,0.00000000001,IFERROR(INDEX(Přehled_body!$E$3:$ED$130,MATCH(Tabulka!$AI70,Přehled_body!$A$3:$A$130,0),MATCH(Tabulka!K$2,Přehled_body!$E$1:$ED$1,0)),)))","v":0},{"$f":"IF(IFERROR(INDEX(Přehled_body!$E$3:$ED$130,MATCH(Tabulka!$AI70,Přehled_body!$A$3:$A$130,0),MATCH(Tabulka!L$2,Přehled_body!$E$1:$ED$1,0)),)=\"\",,IF(IFERROR(INDEX(Přehled_body!$E$3:$ED$130,MATCH(Tabulka!$AI70,Přehled_body!$A$3:$A$130,0),MATCH(Tabulka!L$2,Přehled_body!$E$1:$ED$1,0)),)=0,0.00000000001,IFERROR(INDEX(Přehled_body!$E$3:$ED$130,MATCH(Tabulka!$AI70,Přehled_body!$A$3:$A$130,0),MATCH(Tabulka!L$2,Přehled_body!$E$1:$ED$1,0)),)))","v":0},{"$f":"IF(IFERROR(INDEX(Přehled_body!$E$3:$ED$130,MATCH(Tabulka!$AI70,Přehled_body!$A$3:$A$130,0),MATCH(Tabulka!M$2,Přehled_body!$E$1:$ED$1,0)),)=\"\",,IF(IFERROR(INDEX(Přehled_body!$E$3:$ED$130,MATCH(Tabulka!$AI70,Přehled_body!$A$3:$A$130,0),MATCH(Tabulka!M$2,Přehled_body!$E$1:$ED$1,0)),)=0,0.00000000001,IFERROR(INDEX(Přehled_body!$E$3:$ED$130,MATCH(Tabulka!$AI70,Přehled_body!$A$3:$A$130,0),MATCH(Tabulka!M$2,Přehled_body!$E$1:$ED$1,0)),)))","v":0},{"$f":"IF(IFERROR(INDEX(Přehled_body!$E$3:$ED$130,MATCH(Tabulka!$AI70,Přehled_body!$A$3:$A$130,0),MATCH(Tabulka!N$2,Přehled_body!$E$1:$ED$1,0)),)=\"\",,IF(IFERROR(INDEX(Přehled_body!$E$3:$ED$130,MATCH(Tabulka!$AI70,Přehled_body!$A$3:$A$130,0),MATCH(Tabulka!N$2,Přehled_body!$E$1:$ED$1,0)),)=0,0.00000000001,IFERROR(INDEX(Přehled_body!$E$3:$ED$130,MATCH(Tabulka!$AI70,Přehled_body!$A$3:$A$130,0),MATCH(Tabulka!N$2,Přehled_body!$E$1:$ED$1,0)),)))","v":0},{"$f":"IF(IFERROR(INDEX(Přehled_body!$E$3:$ED$130,MATCH(Tabulka!$AI70,Přehled_body!$A$3:$A$130,0),MATCH(Tabulka!O$2,Přehled_body!$E$1:$ED$1,0)),)=\"\",,IF(IFERROR(INDEX(Přehled_body!$E$3:$ED$130,MATCH(Tabulka!$AI70,Přehled_body!$A$3:$A$130,0),MATCH(Tabulka!O$2,Přehled_body!$E$1:$ED$1,0)),)=0,0.00000000001,IFERROR(INDEX(Přehled_body!$E$3:$ED$130,MATCH(Tabulka!$AI70,Přehled_body!$A$3:$A$130,0),MATCH(Tabulka!O$2,Přehled_body!$E$1:$ED$1,0)),)))","v":0},{"$f":"IF(IFERROR(INDEX(Přehled_body!$E$3:$ED$130,MATCH(Tabulka!$AI70,Přehled_body!$A$3:$A$130,0),MATCH(Tabulka!P$2,Přehled_body!$E$1:$ED$1,0)),)=\"\",,IF(IFERROR(INDEX(Přehled_body!$E$3:$ED$130,MATCH(Tabulka!$AI70,Přehled_body!$A$3:$A$130,0),MATCH(Tabulka!P$2,Přehled_body!$E$1:$ED$1,0)),)=0,0.00000000001,IFERROR(INDEX(Přehled_body!$E$3:$ED$130,MATCH(Tabulka!$AI70,Přehled_body!$A$3:$A$130,0),MATCH(Tabulka!P$2,Přehled_body!$E$1:$ED$1,0)),)))","v":0},{"$f":"IF(IFERROR(INDEX(Přehled_body!$E$3:$ED$130,MATCH(Tabulka!$AI70,Přehled_body!$A$3:$A$130,0),MATCH(Tabulka!Q$2,Přehled_body!$E$1:$ED$1,0)),)=\"\",,IF(IFERROR(INDEX(Přehled_body!$E$3:$ED$130,MATCH(Tabulka!$AI70,Přehled_body!$A$3:$A$130,0),MATCH(Tabulka!Q$2,Přehled_body!$E$1:$ED$1,0)),)=0,0.00000000001,IFERROR(INDEX(Přehled_body!$E$3:$ED$130,MATCH(Tabulka!$AI70,Přehled_body!$A$3:$A$130,0),MATCH(Tabulka!Q$2,Přehled_body!$E$1:$ED$1,0)),)))","v":0},{"$f":"IF(IFERROR(INDEX(Přehled_body!$E$3:$ED$130,MATCH(Tabulka!$AI70,Přehled_body!$A$3:$A$130,0),MATCH(Tabulka!R$2,Přehled_body!$E$1:$ED$1,0)),)=\"\",,IF(IFERROR(INDEX(Přehled_body!$E$3:$ED$130,MATCH(Tabulka!$AI70,Přehled_body!$A$3:$A$130,0),MATCH(Tabulka!R$2,Přehled_body!$E$1:$ED$1,0)),)=0,0.00000000001,IFERROR(INDEX(Přehled_body!$E$3:$ED$130,MATCH(Tabulka!$AI70,Přehled_body!$A$3:$A$130,0),MATCH(Tabulka!R$2,Přehled_body!$E$1:$ED$1,0)),)))","v":0},{"$f":"IF(IFERROR(INDEX(Přehled_body!$E$3:$ED$130,MATCH(Tabulka!$AI70,Přehled_body!$A$3:$A$130,0),MATCH(Tabulka!S$2,Přehled_body!$E$1:$ED$1,0)),)=\"\",,IF(IFERROR(INDEX(Přehled_body!$E$3:$ED$130,MATCH(Tabulka!$AI70,Přehled_body!$A$3:$A$130,0),MATCH(Tabulka!S$2,Přehled_body!$E$1:$ED$1,0)),)=0,0.00000000001,IFERROR(INDEX(Přehled_body!$E$3:$ED$130,MATCH(Tabulka!$AI70,Přehled_body!$A$3:$A$130,0),MATCH(Tabulka!S$2,Přehled_body!$E$1:$ED$1,0)),)))","v":0},{"$f":"IF(IFERROR(INDEX(Přehled_body!$E$3:$ED$130,MATCH(Tabulka!$AI70,Přehled_body!$A$3:$A$130,0),MATCH(Tabulka!T$2,Přehled_body!$E$1:$ED$1,0)),)=\"\",,IF(IFERROR(INDEX(Přehled_body!$E$3:$ED$130,MATCH(Tabulka!$AI70,Přehled_body!$A$3:$A$130,0),MATCH(Tabulka!T$2,Přehled_body!$E$1:$ED$1,0)),)=0,0.00000000001,IFERROR(INDEX(Přehled_body!$E$3:$ED$130,MATCH(Tabulka!$AI70,Přehled_body!$A$3:$A$130,0),MATCH(Tabulka!T$2,Přehled_body!$E$1:$ED$1,0)),)))","v":0},{"$f":"IF(IFERROR(INDEX(Přehled_body!$E$3:$ED$130,MATCH(Tabulka!$AI70,Přehled_body!$A$3:$A$130,0),MATCH(Tabulka!U$2,Přehled_body!$E$1:$ED$1,0)),)=\"\",,IF(IFERROR(INDEX(Přehled_body!$E$3:$ED$130,MATCH(Tabulka!$AI70,Přehled_body!$A$3:$A$130,0),MATCH(Tabulka!U$2,Přehled_body!$E$1:$ED$1,0)),)=0,0.00000000001,IFERROR(INDEX(Přehled_body!$E$3:$ED$130,MATCH(Tabulka!$AI70,Přehled_body!$A$3:$A$130,0),MATCH(Tabulka!U$2,Přehled_body!$E$1:$ED$1,0)),)))","v":0},{"$f":"IF(IFERROR(INDEX(Přehled_body!$E$3:$ED$130,MATCH(Tabulka!$AI70,Přehled_body!$A$3:$A$130,0),MATCH(Tabulka!V$2,Přehled_body!$E$1:$ED$1,0)),)=\"\",,IF(IFERROR(INDEX(Přehled_body!$E$3:$ED$130,MATCH(Tabulka!$AI70,Přehled_body!$A$3:$A$130,0),MATCH(Tabulka!V$2,Přehled_body!$E$1:$ED$1,0)),)=0,0.00000000001,IFERROR(INDEX(Přehled_body!$E$3:$ED$130,MATCH(Tabulka!$AI70,Přehled_body!$A$3:$A$130,0),MATCH(Tabulka!V$2,Přehled_body!$E$1:$ED$1,0)),)))","v":0},{"$f":"IF(IFERROR(INDEX(Přehled_body!$E$3:$ED$130,MATCH(Tabulka!$AI70,Přehled_body!$A$3:$A$130,0),MATCH(Tabulka!W$2,Přehled_body!$E$1:$ED$1,0)),)=\"\",,IF(IFERROR(INDEX(Přehled_body!$E$3:$ED$130,MATCH(Tabulka!$AI70,Přehled_body!$A$3:$A$130,0),MATCH(Tabulka!W$2,Přehled_body!$E$1:$ED$1,0)),)=0,0.00000000001,IFERROR(INDEX(Přehled_body!$E$3:$ED$130,MATCH(Tabulka!$AI70,Přehled_body!$A$3:$A$130,0),MATCH(Tabulka!W$2,Přehled_body!$E$1:$ED$1,0)),)))","v":0},{"$f":"IF(IFERROR(INDEX(Přehled_body!$E$3:$ED$130,MATCH(Tabulka!$AI70,Přehled_body!$A$3:$A$130,0),MATCH(Tabulka!X$2,Přehled_body!$E$1:$ED$1,0)),)=\"\",,IF(IFERROR(INDEX(Přehled_body!$E$3:$ED$130,MATCH(Tabulka!$AI70,Přehled_body!$A$3:$A$130,0),MATCH(Tabulka!X$2,Přehled_body!$E$1:$ED$1,0)),)=0,0.00000000001,IFERROR(INDEX(Přehled_body!$E$3:$ED$130,MATCH(Tabulka!$AI70,Přehled_body!$A$3:$A$130,0),MATCH(Tabulka!X$2,Přehled_body!$E$1:$ED$1,0)),)))","v":0},{"$f":"IF(IFERROR(INDEX(Přehled_body!$E$3:$ED$130,MATCH(Tabulka!$AI70,Přehled_body!$A$3:$A$130,0),MATCH(Tabulka!Y$2,Přehled_body!$E$1:$ED$1,0)),)=\"\",,IF(IFERROR(INDEX(Přehled_body!$E$3:$ED$130,MATCH(Tabulka!$AI70,Přehled_body!$A$3:$A$130,0),MATCH(Tabulka!Y$2,Přehled_body!$E$1:$ED$1,0)),)=0,0.00000000001,IFERROR(INDEX(Přehled_body!$E$3:$ED$130,MATCH(Tabulka!$AI70,Přehled_body!$A$3:$A$130,0),MATCH(Tabulka!Y$2,Přehled_body!$E$1:$ED$1,0)),)))","v":0},{"$f":"IF(IFERROR(INDEX(Přehled_body!$E$3:$ED$130,MATCH(Tabulka!$AI70,Přehled_body!$A$3:$A$130,0),MATCH(Tabulka!Z$2,Přehled_body!$E$1:$ED$1,0)),)=\"\",,IF(IFERROR(INDEX(Přehled_body!$E$3:$ED$130,MATCH(Tabulka!$AI70,Přehled_body!$A$3:$A$130,0),MATCH(Tabulka!Z$2,Přehled_body!$E$1:$ED$1,0)),)=0,0.00000000001,IFERROR(INDEX(Přehled_body!$E$3:$ED$130,MATCH(Tabulka!$AI70,Přehled_body!$A$3:$A$130,0),MATCH(Tabulka!Z$2,Přehled_body!$E$1:$ED$1,0)),)))","v":0},{"$f":"IF(IFERROR(INDEX(Přehled_body!$E$3:$ED$130,MATCH(Tabulka!$AI70,Přehled_body!$A$3:$A$130,0),MATCH(Tabulka!AA$2,Přehled_body!$E$1:$ED$1,0)),)=\"\",,IF(IFERROR(INDEX(Přehled_body!$E$3:$ED$130,MATCH(Tabulka!$AI70,Přehled_body!$A$3:$A$130,0),MATCH(Tabulka!AA$2,Přehled_body!$E$1:$ED$1,0)),)=0,0.00000000001,IFERROR(INDEX(Přehled_body!$E$3:$ED$130,MATCH(Tabulka!$AI70,Přehled_body!$A$3:$A$130,0),MATCH(Tabulka!AA$2,Přehled_body!$E$1:$ED$1,0)),)))","v":0},{"$f":"IF(IFERROR(INDEX(Přehled_body!$E$3:$ED$130,MATCH(Tabulka!$AI70,Přehled_body!$A$3:$A$130,0),MATCH(Tabulka!AB$2,Přehled_body!$E$1:$ED$1,0)),)=\"\",,IF(IFERROR(INDEX(Přehled_body!$E$3:$ED$130,MATCH(Tabulka!$AI70,Přehled_body!$A$3:$A$130,0),MATCH(Tabulka!AB$2,Přehled_body!$E$1:$ED$1,0)),)=0,0.00000000001,IFERROR(INDEX(Přehled_body!$E$3:$ED$130,MATCH(Tabulka!$AI70,Přehled_body!$A$3:$A$130,0),MATCH(Tabulka!AB$2,Přehled_body!$E$1:$ED$1,0)),)))","v":0},{"$f":"IF(IFERROR(INDEX(Přehled_body!$E$3:$ED$130,MATCH(Tabulka!$AI70,Přehled_body!$A$3:$A$130,0),MATCH(Tabulka!AC$2,Přehled_body!$E$1:$ED$1,0)),)=\"\",,IF(IFERROR(INDEX(Přehled_body!$E$3:$ED$130,MATCH(Tabulka!$AI70,Přehled_body!$A$3:$A$130,0),MATCH(Tabulka!AC$2,Přehled_body!$E$1:$ED$1,0)),)=0,0.00000000001,IFERROR(INDEX(Přehled_body!$E$3:$ED$130,MATCH(Tabulka!$AI70,Přehled_body!$A$3:$A$130,0),MATCH(Tabulka!AC$2,Přehled_body!$E$1:$ED$1,0)),)))","v":0},{"$f":"IF(IFERROR(INDEX(Přehled_body!$E$3:$ED$130,MATCH(Tabulka!$AI70,Přehled_body!$A$3:$A$130,0),MATCH(Tabulka!AD$2,Přehled_body!$E$1:$ED$1,0)),)=\"\",,IF(IFERROR(INDEX(Přehled_body!$E$3:$ED$130,MATCH(Tabulka!$AI70,Přehled_body!$A$3:$A$130,0),MATCH(Tabulka!AD$2,Přehled_body!$E$1:$ED$1,0)),)=0,0.00000000001,IFERROR(INDEX(Přehled_body!$E$3:$ED$130,MATCH(Tabulka!$AI70,Přehled_body!$A$3:$A$130,0),MATCH(Tabulka!AD$2,Přehled_body!$E$1:$ED$1,0)),)))","v":0},{"$f":"IF(SUM(AG69)<2,-90000+SUM(D70:AD70),SUM(D70:AD70))","v":-90000},{"$f":"SUM(AE69-AE70)","v":0},null,0,{"$f":"CONCATENATE($B$70,\" \",$B$71,C70)","v":"Míra KulhanProhry"},null,null,0,null,null,"Míra",14]
[{"$f":"CONCATENATE(B71,\" \",B70)","v":"Kulhan Míra"},"Kulhan","Placeno panáků",{"$f":"IF(IFERROR(INDEX(Přehled_body!$E$3:$ED$130,MATCH(Tabulka!$AI71,Přehled_body!$A$3:$A$130,0),MATCH(Tabulka!D$2,Přehled_body!$E$1:$ED$1,0)),)=\"\",,IF(IFERROR(INDEX(Přehled_body!$E$3:$ED$130,MATCH(Tabulka!$AI71,Přehled_body!$A$3:$A$130,0),MATCH(Tabulka!D$2,Přehled_body!$E$1:$ED$1,0)),)=0,0.00000000001,IFERROR(INDEX(Přehled_body!$E$3:$ED$130,MATCH(Tabulka!$AI71,Přehled_body!$A$3:$A$130,0),MATCH(Tabulka!D$2,Přehled_body!$E$1:$ED$1,0)),)))","v":0},{"$f":"IF(IFERROR(INDEX(Přehled_body!$E$3:$ED$130,MATCH(Tabulka!$AI71,Přehled_body!$A$3:$A$130,0),MATCH(Tabulka!E$2,Přehled_body!$E$1:$ED$1,0)),)=\"\",,IF(IFERROR(INDEX(Přehled_body!$E$3:$ED$130,MATCH(Tabulka!$AI71,Přehled_body!$A$3:$A$130,0),MATCH(Tabulka!E$2,Přehled_body!$E$1:$ED$1,0)),)=0,0.00000000001,IFERROR(INDEX(Přehled_body!$E$3:$ED$130,MATCH(Tabulka!$AI71,Přehled_body!$A$3:$A$130,0),MATCH(Tabulka!E$2,Přehled_body!$E$1:$ED$1,0)),)))","v":0},{"$f":"IF(IFERROR(INDEX(Přehled_body!$E$3:$ED$130,MATCH(Tabulka!$AI71,Přehled_body!$A$3:$A$130,0),MATCH(Tabulka!F$2,Přehled_body!$E$1:$ED$1,0)),)=\"\",,IF(IFERROR(INDEX(Přehled_body!$E$3:$ED$130,MATCH(Tabulka!$AI71,Přehled_body!$A$3:$A$130,0),MATCH(Tabulka!F$2,Přehled_body!$E$1:$ED$1,0)),)=0,0.00000000001,IFERROR(INDEX(Přehled_body!$E$3:$ED$130,MATCH(Tabulka!$AI71,Přehled_body!$A$3:$A$130,0),MATCH(Tabulka!F$2,Přehled_body!$E$1:$ED$1,0)),)))","v":0},{"$f":"IF(IFERROR(INDEX(Přehled_body!$E$3:$ED$130,MATCH(Tabulka!$AI71,Přehled_body!$A$3:$A$130,0),MATCH(Tabulka!G$2,Přehled_body!$E$1:$ED$1,0)),)=\"\",,IF(IFERROR(INDEX(Přehled_body!$E$3:$ED$130,MATCH(Tabulka!$AI71,Přehled_body!$A$3:$A$130,0),MATCH(Tabulka!G$2,Přehled_body!$E$1:$ED$1,0)),)=0,0.00000000001,IFERROR(INDEX(Přehled_body!$E$3:$ED$130,MATCH(Tabulka!$AI71,Přehled_body!$A$3:$A$130,0),MATCH(Tabulka!G$2,Přehled_body!$E$1:$ED$1,0)),)))","v":0},{"$f":"IF(IFERROR(INDEX(Přehled_body!$E$3:$ED$130,MATCH(Tabulka!$AI71,Přehled_body!$A$3:$A$130,0),MATCH(Tabulka!H$2,Přehled_body!$E$1:$ED$1,0)),)=\"\",,IF(IFERROR(INDEX(Přehled_body!$E$3:$ED$130,MATCH(Tabulka!$AI71,Přehled_body!$A$3:$A$130,0),MATCH(Tabulka!H$2,Přehled_body!$E$1:$ED$1,0)),)=0,0.00000000001,IFERROR(INDEX(Přehled_body!$E$3:$ED$130,MATCH(Tabulka!$AI71,Přehled_body!$A$3:$A$130,0),MATCH(Tabulka!H$2,Přehled_body!$E$1:$ED$1,0)),)))","v":0},{"$f":"IF(IFERROR(INDEX(Přehled_body!$E$3:$ED$130,MATCH(Tabulka!$AI71,Přehled_body!$A$3:$A$130,0),MATCH(Tabulka!I$2,Přehled_body!$E$1:$ED$1,0)),)=\"\",,IF(IFERROR(INDEX(Přehled_body!$E$3:$ED$130,MATCH(Tabulka!$AI71,Přehled_body!$A$3:$A$130,0),MATCH(Tabulka!I$2,Přehled_body!$E$1:$ED$1,0)),)=0,0.00000000001,IFERROR(INDEX(Přehled_body!$E$3:$ED$130,MATCH(Tabulka!$AI71,Přehled_body!$A$3:$A$130,0),MATCH(Tabulka!I$2,Přehled_body!$E$1:$ED$1,0)),)))","v":0},{"$f":"IF(IFERROR(INDEX(Přehled_body!$E$3:$ED$130,MATCH(Tabulka!$AI71,Přehled_body!$A$3:$A$130,0),MATCH(Tabulka!J$2,Přehled_body!$E$1:$ED$1,0)),)=\"\",,IF(IFERROR(INDEX(Přehled_body!$E$3:$ED$130,MATCH(Tabulka!$AI71,Přehled_body!$A$3:$A$130,0),MATCH(Tabulka!J$2,Přehled_body!$E$1:$ED$1,0)),)=0,0.00000000001,IFERROR(INDEX(Přehled_body!$E$3:$ED$130,MATCH(Tabulka!$AI71,Přehled_body!$A$3:$A$130,0),MATCH(Tabulka!J$2,Přehled_body!$E$1:$ED$1,0)),)))","v":0},{"$f":"IF(IFERROR(INDEX(Přehled_body!$E$3:$ED$130,MATCH(Tabulka!$AI71,Přehled_body!$A$3:$A$130,0),MATCH(Tabulka!K$2,Přehled_body!$E$1:$ED$1,0)),)=\"\",,IF(IFERROR(INDEX(Přehled_body!$E$3:$ED$130,MATCH(Tabulka!$AI71,Přehled_body!$A$3:$A$130,0),MATCH(Tabulka!K$2,Přehled_body!$E$1:$ED$1,0)),)=0,0.00000000001,IFERROR(INDEX(Přehled_body!$E$3:$ED$130,MATCH(Tabulka!$AI71,Přehled_body!$A$3:$A$130,0),MATCH(Tabulka!K$2,Přehled_body!$E$1:$ED$1,0)),)))","v":0},{"$f":"IF(IFERROR(INDEX(Přehled_body!$E$3:$ED$130,MATCH(Tabulka!$AI71,Přehled_body!$A$3:$A$130,0),MATCH(Tabulka!L$2,Přehled_body!$E$1:$ED$1,0)),)=\"\",,IF(IFERROR(INDEX(Přehled_body!$E$3:$ED$130,MATCH(Tabulka!$AI71,Přehled_body!$A$3:$A$130,0),MATCH(Tabulka!L$2,Přehled_body!$E$1:$ED$1,0)),)=0,0.00000000001,IFERROR(INDEX(Přehled_body!$E$3:$ED$130,MATCH(Tabulka!$AI71,Přehled_body!$A$3:$A$130,0),MATCH(Tabulka!L$2,Přehled_body!$E$1:$ED$1,0)),)))","v":0},{"$f":"IF(IFERROR(INDEX(Přehled_body!$E$3:$ED$130,MATCH(Tabulka!$AI71,Přehled_body!$A$3:$A$130,0),MATCH(Tabulka!M$2,Přehled_body!$E$1:$ED$1,0)),)=\"\",,IF(IFERROR(INDEX(Přehled_body!$E$3:$ED$130,MATCH(Tabulka!$AI71,Přehled_body!$A$3:$A$130,0),MATCH(Tabulka!M$2,Přehled_body!$E$1:$ED$1,0)),)=0,0.00000000001,IFERROR(INDEX(Přehled_body!$E$3:$ED$130,MATCH(Tabulka!$AI71,Přehled_body!$A$3:$A$130,0),MATCH(Tabulka!M$2,Přehled_body!$E$1:$ED$1,0)),)))","v":0},{"$f":"IF(IFERROR(INDEX(Přehled_body!$E$3:$ED$130,MATCH(Tabulka!$AI71,Přehled_body!$A$3:$A$130,0),MATCH(Tabulka!N$2,Přehled_body!$E$1:$ED$1,0)),)=\"\",,IF(IFERROR(INDEX(Přehled_body!$E$3:$ED$130,MATCH(Tabulka!$AI71,Přehled_body!$A$3:$A$130,0),MATCH(Tabulka!N$2,Přehled_body!$E$1:$ED$1,0)),)=0,0.00000000001,IFERROR(INDEX(Přehled_body!$E$3:$ED$130,MATCH(Tabulka!$AI71,Přehled_body!$A$3:$A$130,0),MATCH(Tabulka!N$2,Přehled_body!$E$1:$ED$1,0)),)))","v":0},{"$f":"IF(IFERROR(INDEX(Přehled_body!$E$3:$ED$130,MATCH(Tabulka!$AI71,Přehled_body!$A$3:$A$130,0),MATCH(Tabulka!O$2,Přehled_body!$E$1:$ED$1,0)),)=\"\",,IF(IFERROR(INDEX(Přehled_body!$E$3:$ED$130,MATCH(Tabulka!$AI71,Přehled_body!$A$3:$A$130,0),MATCH(Tabulka!O$2,Přehled_body!$E$1:$ED$1,0)),)=0,0.00000000001,IFERROR(INDEX(Přehled_body!$E$3:$ED$130,MATCH(Tabulka!$AI71,Přehled_body!$A$3:$A$130,0),MATCH(Tabulka!O$2,Přehled_body!$E$1:$ED$1,0)),)))","v":0},{"$f":"IF(IFERROR(INDEX(Přehled_body!$E$3:$ED$130,MATCH(Tabulka!$AI71,Přehled_body!$A$3:$A$130,0),MATCH(Tabulka!P$2,Přehled_body!$E$1:$ED$1,0)),)=\"\",,IF(IFERROR(INDEX(Přehled_body!$E$3:$ED$130,MATCH(Tabulka!$AI71,Přehled_body!$A$3:$A$130,0),MATCH(Tabulka!P$2,Přehled_body!$E$1:$ED$1,0)),)=0,0.00000000001,IFERROR(INDEX(Přehled_body!$E$3:$ED$130,MATCH(Tabulka!$AI71,Přehled_body!$A$3:$A$130,0),MATCH(Tabulka!P$2,Přehled_body!$E$1:$ED$1,0)),)))","v":0},{"$f":"IF(IFERROR(INDEX(Přehled_body!$E$3:$ED$130,MATCH(Tabulka!$AI71,Přehled_body!$A$3:$A$130,0),MATCH(Tabulka!Q$2,Přehled_body!$E$1:$ED$1,0)),)=\"\",,IF(IFERROR(INDEX(Přehled_body!$E$3:$ED$130,MATCH(Tabulka!$AI71,Přehled_body!$A$3:$A$130,0),MATCH(Tabulka!Q$2,Přehled_body!$E$1:$ED$1,0)),)=0,0.00000000001,IFERROR(INDEX(Přehled_body!$E$3:$ED$130,MATCH(Tabulka!$AI71,Přehled_body!$A$3:$A$130,0),MATCH(Tabulka!Q$2,Přehled_body!$E$1:$ED$1,0)),)))","v":0},{"$f":"IF(IFERROR(INDEX(Přehled_body!$E$3:$ED$130,MATCH(Tabulka!$AI71,Přehled_body!$A$3:$A$130,0),MATCH(Tabulka!R$2,Přehled_body!$E$1:$ED$1,0)),)=\"\",,IF(IFERROR(INDEX(Přehled_body!$E$3:$ED$130,MATCH(Tabulka!$AI71,Přehled_body!$A$3:$A$130,0),MATCH(Tabulka!R$2,Přehled_body!$E$1:$ED$1,0)),)=0,0.00000000001,IFERROR(INDEX(Přehled_body!$E$3:$ED$130,MATCH(Tabulka!$AI71,Přehled_body!$A$3:$A$130,0),MATCH(Tabulka!R$2,Přehled_body!$E$1:$ED$1,0)),)))","v":0},{"$f":"IF(IFERROR(INDEX(Přehled_body!$E$3:$ED$130,MATCH(Tabulka!$AI71,Přehled_body!$A$3:$A$130,0),MATCH(Tabulka!S$2,Přehled_body!$E$1:$ED$1,0)),)=\"\",,IF(IFERROR(INDEX(Přehled_body!$E$3:$ED$130,MATCH(Tabulka!$AI71,Přehled_body!$A$3:$A$130,0),MATCH(Tabulka!S$2,Přehled_body!$E$1:$ED$1,0)),)=0,0.00000000001,IFERROR(INDEX(Přehled_body!$E$3:$ED$130,MATCH(Tabulka!$AI71,Přehled_body!$A$3:$A$130,0),MATCH(Tabulka!S$2,Přehled_body!$E$1:$ED$1,0)),)))","v":0},{"$f":"IF(IFERROR(INDEX(Přehled_body!$E$3:$ED$130,MATCH(Tabulka!$AI71,Přehled_body!$A$3:$A$130,0),MATCH(Tabulka!T$2,Přehled_body!$E$1:$ED$1,0)),)=\"\",,IF(IFERROR(INDEX(Přehled_body!$E$3:$ED$130,MATCH(Tabulka!$AI71,Přehled_body!$A$3:$A$130,0),MATCH(Tabulka!T$2,Přehled_body!$E$1:$ED$1,0)),)=0,0.00000000001,IFERROR(INDEX(Přehled_body!$E$3:$ED$130,MATCH(Tabulka!$AI71,Přehled_body!$A$3:$A$130,0),MATCH(Tabulka!T$2,Přehled_body!$E$1:$ED$1,0)),)))","v":0},{"$f":"IF(IFERROR(INDEX(Přehled_body!$E$3:$ED$130,MATCH(Tabulka!$AI71,Přehled_body!$A$3:$A$130,0),MATCH(Tabulka!U$2,Přehled_body!$E$1:$ED$1,0)),)=\"\",,IF(IFERROR(INDEX(Přehled_body!$E$3:$ED$130,MATCH(Tabulka!$AI71,Přehled_body!$A$3:$A$130,0),MATCH(Tabulka!U$2,Přehled_body!$E$1:$ED$1,0)),)=0,0.00000000001,IFERROR(INDEX(Přehled_body!$E$3:$ED$130,MATCH(Tabulka!$AI71,Přehled_body!$A$3:$A$130,0),MATCH(Tabulka!U$2,Přehled_body!$E$1:$ED$1,0)),)))","v":0},{"$f":"IF(IFERROR(INDEX(Přehled_body!$E$3:$ED$130,MATCH(Tabulka!$AI71,Přehled_body!$A$3:$A$130,0),MATCH(Tabulka!V$2,Přehled_body!$E$1:$ED$1,0)),)=\"\",,IF(IFERROR(INDEX(Přehled_body!$E$3:$ED$130,MATCH(Tabulka!$AI71,Přehled_body!$A$3:$A$130,0),MATCH(Tabulka!V$2,Přehled_body!$E$1:$ED$1,0)),)=0,0.00000000001,IFERROR(INDEX(Přehled_body!$E$3:$ED$130,MATCH(Tabulka!$AI71,Přehled_body!$A$3:$A$130,0),MATCH(Tabulka!V$2,Přehled_body!$E$1:$ED$1,0)),)))","v":0},{"$f":"IF(IFERROR(INDEX(Přehled_body!$E$3:$ED$130,MATCH(Tabulka!$AI71,Přehled_body!$A$3:$A$130,0),MATCH(Tabulka!W$2,Přehled_body!$E$1:$ED$1,0)),)=\"\",,IF(IFERROR(INDEX(Přehled_body!$E$3:$ED$130,MATCH(Tabulka!$AI71,Přehled_body!$A$3:$A$130,0),MATCH(Tabulka!W$2,Přehled_body!$E$1:$ED$1,0)),)=0,0.00000000001,IFERROR(INDEX(Přehled_body!$E$3:$ED$130,MATCH(Tabulka!$AI71,Přehled_body!$A$3:$A$130,0),MATCH(Tabulka!W$2,Přehled_body!$E$1:$ED$1,0)),)))","v":0},{"$f":"IF(IFERROR(INDEX(Přehled_body!$E$3:$ED$130,MATCH(Tabulka!$AI71,Přehled_body!$A$3:$A$130,0),MATCH(Tabulka!X$2,Přehled_body!$E$1:$ED$1,0)),)=\"\",,IF(IFERROR(INDEX(Přehled_body!$E$3:$ED$130,MATCH(Tabulka!$AI71,Přehled_body!$A$3:$A$130,0),MATCH(Tabulka!X$2,Přehled_body!$E$1:$ED$1,0)),)=0,0.00000000001,IFERROR(INDEX(Přehled_body!$E$3:$ED$130,MATCH(Tabulka!$AI71,Přehled_body!$A$3:$A$130,0),MATCH(Tabulka!X$2,Přehled_body!$E$1:$ED$1,0)),)))","v":0},{"$f":"IF(IFERROR(INDEX(Přehled_body!$E$3:$ED$130,MATCH(Tabulka!$AI71,Přehled_body!$A$3:$A$130,0),MATCH(Tabulka!Y$2,Přehled_body!$E$1:$ED$1,0)),)=\"\",,IF(IFERROR(INDEX(Přehled_body!$E$3:$ED$130,MATCH(Tabulka!$AI71,Přehled_body!$A$3:$A$130,0),MATCH(Tabulka!Y$2,Přehled_body!$E$1:$ED$1,0)),)=0,0.00000000001,IFERROR(INDEX(Přehled_body!$E$3:$ED$130,MATCH(Tabulka!$AI71,Přehled_body!$A$3:$A$130,0),MATCH(Tabulka!Y$2,Přehled_body!$E$1:$ED$1,0)),)))","v":0},{"$f":"IF(IFERROR(INDEX(Přehled_body!$E$3:$ED$130,MATCH(Tabulka!$AI71,Přehled_body!$A$3:$A$130,0),MATCH(Tabulka!Z$2,Přehled_body!$E$1:$ED$1,0)),)=\"\",,IF(IFERROR(INDEX(Přehled_body!$E$3:$ED$130,MATCH(Tabulka!$AI71,Přehled_body!$A$3:$A$130,0),MATCH(Tabulka!Z$2,Přehled_body!$E$1:$ED$1,0)),)=0,0.00000000001,IFERROR(INDEX(Přehled_body!$E$3:$ED$130,MATCH(Tabulka!$AI71,Přehled_body!$A$3:$A$130,0),MATCH(Tabulka!Z$2,Přehled_body!$E$1:$ED$1,0)),)))","v":0},{"$f":"IF(IFERROR(INDEX(Přehled_body!$E$3:$ED$130,MATCH(Tabulka!$AI71,Přehled_body!$A$3:$A$130,0),MATCH(Tabulka!AA$2,Přehled_body!$E$1:$ED$1,0)),)=\"\",,IF(IFERROR(INDEX(Přehled_body!$E$3:$ED$130,MATCH(Tabulka!$AI71,Přehled_body!$A$3:$A$130,0),MATCH(Tabulka!AA$2,Přehled_body!$E$1:$ED$1,0)),)=0,0.00000000001,IFERROR(INDEX(Přehled_body!$E$3:$ED$130,MATCH(Tabulka!$AI71,Přehled_body!$A$3:$A$130,0),MATCH(Tabulka!AA$2,Přehled_body!$E$1:$ED$1,0)),)))","v":0},{"$f":"IF(IFERROR(INDEX(Přehled_body!$E$3:$ED$130,MATCH(Tabulka!$AI71,Přehled_body!$A$3:$A$130,0),MATCH(Tabulka!AB$2,Přehled_body!$E$1:$ED$1,0)),)=\"\",,IF(IFERROR(INDEX(Přehled_body!$E$3:$ED$130,MATCH(Tabulka!$AI71,Přehled_body!$A$3:$A$130,0),MATCH(Tabulka!AB$2,Přehled_body!$E$1:$ED$1,0)),)=0,0.00000000001,IFERROR(INDEX(Přehled_body!$E$3:$ED$130,MATCH(Tabulka!$AI71,Přehled_body!$A$3:$A$130,0),MATCH(Tabulka!AB$2,Přehled_body!$E$1:$ED$1,0)),)))","v":0},{"$f":"IF(IFERROR(INDEX(Přehled_body!$E$3:$ED$130,MATCH(Tabulka!$AI71,Přehled_body!$A$3:$A$130,0),MATCH(Tabulka!AC$2,Přehled_body!$E$1:$ED$1,0)),)=\"\",,IF(IFERROR(INDEX(Přehled_body!$E$3:$ED$130,MATCH(Tabulka!$AI71,Přehled_body!$A$3:$A$130,0),MATCH(Tabulka!AC$2,Přehled_body!$E$1:$ED$1,0)),)=0,0.00000000001,IFERROR(INDEX(Přehled_body!$E$3:$ED$130,MATCH(Tabulka!$AI71,Přehled_body!$A$3:$A$130,0),MATCH(Tabulka!AC$2,Přehled_body!$E$1:$ED$1,0)),)))","v":0},{"$f":"IF(IFERROR(INDEX(Přehled_body!$E$3:$ED$130,MATCH(Tabulka!$AI71,Přehled_body!$A$3:$A$130,0),MATCH(Tabulka!AD$2,Přehled_body!$E$1:$ED$1,0)),)=\"\",,IF(IFERROR(INDEX(Přehled_body!$E$3:$ED$130,MATCH(Tabulka!$AI71,Přehled_body!$A$3:$A$130,0),MATCH(Tabulka!AD$2,Přehled_body!$E$1:$ED$1,0)),)=0,0.00000000001,IFERROR(INDEX(Přehled_body!$E$3:$ED$130,MATCH(Tabulka!$AI71,Přehled_body!$A$3:$A$130,0),MATCH(Tabulka!AD$2,Přehled_body!$E$1:$ED$1,0)),)))","v":0},{"$f":"IF(SUM(AG69)<2,-90000+SUM(D71:AD71),SUM(D71:AD71))","v":-90000},null,null,{"$f":"SUM(D71:AD71)+INDEX(List4!$D$2:$F$17,MATCH(Tabulka!A70,List4!$D$2:$D$17,0),3)","v":9.0999999999999981E-8},{"$f":"CONCATENATE($B$70,\" \",$B$71,C71)","v":"Míra KulhanPlaceno panáků"},null,null,0,null,null,"Kulhan",{"$f":"CONCATENATE(AQ71,\" \",AQ72)","v":"Míra Kulhan"},"Míra"]
[null,null,"Přehozy",{"$f":"IF(IFERROR(INDEX(Přehled_body!$E$3:$ED$130,MATCH(Tabulka!$AI72,Přehled_body!$A$3:$A$130,0),MATCH(Tabulka!D$2,Přehled_body!$E$1:$ED$1,0)),)=\"\",,IF(IFERROR(INDEX(Přehled_body!$E$3:$ED$130,MATCH(Tabulka!$AI72,Přehled_body!$A$3:$A$130,0),MATCH(Tabulka!D$2,Přehled_body!$E$1:$ED$1,0)),)=0,0.00000000001,IFERROR(INDEX(Přehled_body!$E$3:$ED$130,MATCH(Tabulka!$AI72,Přehled_body!$A$3:$A$130,0),MATCH(Tabulka!D$2,Přehled_body!$E$1:$ED$1,0)),)))","v":0},{"$f":"IF(IFERROR(INDEX(Přehled_body!$E$3:$ED$130,MATCH(Tabulka!$AI72,Přehled_body!$A$3:$A$130,0),MATCH(Tabulka!E$2,Přehled_body!$E$1:$ED$1,0)),)=\"\",,IF(IFERROR(INDEX(Přehled_body!$E$3:$ED$130,MATCH(Tabulka!$AI72,Přehled_body!$A$3:$A$130,0),MATCH(Tabulka!E$2,Přehled_body!$E$1:$ED$1,0)),)=0,0.00000000001,IFERROR(INDEX(Přehled_body!$E$3:$ED$130,MATCH(Tabulka!$AI72,Přehled_body!$A$3:$A$130,0),MATCH(Tabulka!E$2,Přehled_body!$E$1:$ED$1,0)),)))","v":0},{"$f":"IF(IFERROR(INDEX(Přehled_body!$E$3:$ED$130,MATCH(Tabulka!$AI72,Přehled_body!$A$3:$A$130,0),MATCH(Tabulka!F$2,Přehled_body!$E$1:$ED$1,0)),)=\"\",,IF(IFERROR(INDEX(Přehled_body!$E$3:$ED$130,MATCH(Tabulka!$AI72,Přehled_body!$A$3:$A$130,0),MATCH(Tabulka!F$2,Přehled_body!$E$1:$ED$1,0)),)=0,0.00000000001,IFERROR(INDEX(Přehled_body!$E$3:$ED$130,MATCH(Tabulka!$AI72,Přehled_body!$A$3:$A$130,0),MATCH(Tabulka!F$2,Přehled_body!$E$1:$ED$1,0)),)))","v":0},{"$f":"IF(IFERROR(INDEX(Přehled_body!$E$3:$ED$130,MATCH(Tabulka!$AI72,Přehled_body!$A$3:$A$130,0),MATCH(Tabulka!G$2,Přehled_body!$E$1:$ED$1,0)),)=\"\",,IF(IFERROR(INDEX(Přehled_body!$E$3:$ED$130,MATCH(Tabulka!$AI72,Přehled_body!$A$3:$A$130,0),MATCH(Tabulka!G$2,Přehled_body!$E$1:$ED$1,0)),)=0,0.00000000001,IFERROR(INDEX(Přehled_body!$E$3:$ED$130,MATCH(Tabulka!$AI72,Přehled_body!$A$3:$A$130,0),MATCH(Tabulka!G$2,Přehled_body!$E$1:$ED$1,0)),)))","v":0},{"$f":"IF(IFERROR(INDEX(Přehled_body!$E$3:$ED$130,MATCH(Tabulka!$AI72,Přehled_body!$A$3:$A$130,0),MATCH(Tabulka!H$2,Přehled_body!$E$1:$ED$1,0)),)=\"\",,IF(IFERROR(INDEX(Přehled_body!$E$3:$ED$130,MATCH(Tabulka!$AI72,Přehled_body!$A$3:$A$130,0),MATCH(Tabulka!H$2,Přehled_body!$E$1:$ED$1,0)),)=0,0.00000000001,IFERROR(INDEX(Přehled_body!$E$3:$ED$130,MATCH(Tabulka!$AI72,Přehled_body!$A$3:$A$130,0),MATCH(Tabulka!H$2,Přehled_body!$E$1:$ED$1,0)),)))","v":0},{"$f":"IF(IFERROR(INDEX(Přehled_body!$E$3:$ED$130,MATCH(Tabulka!$AI72,Přehled_body!$A$3:$A$130,0),MATCH(Tabulka!I$2,Přehled_body!$E$1:$ED$1,0)),)=\"\",,IF(IFERROR(INDEX(Přehled_body!$E$3:$ED$130,MATCH(Tabulka!$AI72,Přehled_body!$A$3:$A$130,0),MATCH(Tabulka!I$2,Přehled_body!$E$1:$ED$1,0)),)=0,0.00000000001,IFERROR(INDEX(Přehled_body!$E$3:$ED$130,MATCH(Tabulka!$AI72,Přehled_body!$A$3:$A$130,0),MATCH(Tabulka!I$2,Přehled_body!$E$1:$ED$1,0)),)))","v":0},{"$f":"IF(IFERROR(INDEX(Přehled_body!$E$3:$ED$130,MATCH(Tabulka!$AI72,Přehled_body!$A$3:$A$130,0),MATCH(Tabulka!J$2,Přehled_body!$E$1:$ED$1,0)),)=\"\",,IF(IFERROR(INDEX(Přehled_body!$E$3:$ED$130,MATCH(Tabulka!$AI72,Přehled_body!$A$3:$A$130,0),MATCH(Tabulka!J$2,Přehled_body!$E$1:$ED$1,0)),)=0,0.00000000001,IFERROR(INDEX(Přehled_body!$E$3:$ED$130,MATCH(Tabulka!$AI72,Přehled_body!$A$3:$A$130,0),MATCH(Tabulka!J$2,Přehled_body!$E$1:$ED$1,0)),)))","v":0},{"$f":"IF(IFERROR(INDEX(Přehled_body!$E$3:$ED$130,MATCH(Tabulka!$AI72,Přehled_body!$A$3:$A$130,0),MATCH(Tabulka!K$2,Přehled_body!$E$1:$ED$1,0)),)=\"\",,IF(IFERROR(INDEX(Přehled_body!$E$3:$ED$130,MATCH(Tabulka!$AI72,Přehled_body!$A$3:$A$130,0),MATCH(Tabulka!K$2,Přehled_body!$E$1:$ED$1,0)),)=0,0.00000000001,IFERROR(INDEX(Přehled_body!$E$3:$ED$130,MATCH(Tabulka!$AI72,Přehled_body!$A$3:$A$130,0),MATCH(Tabulka!K$2,Přehled_body!$E$1:$ED$1,0)),)))","v":0},{"$f":"IF(IFERROR(INDEX(Přehled_body!$E$3:$ED$130,MATCH(Tabulka!$AI72,Přehled_body!$A$3:$A$130,0),MATCH(Tabulka!L$2,Přehled_body!$E$1:$ED$1,0)),)=\"\",,IF(IFERROR(INDEX(Přehled_body!$E$3:$ED$130,MATCH(Tabulka!$AI72,Přehled_body!$A$3:$A$130,0),MATCH(Tabulka!L$2,Přehled_body!$E$1:$ED$1,0)),)=0,0.00000000001,IFERROR(INDEX(Přehled_body!$E$3:$ED$130,MATCH(Tabulka!$AI72,Přehled_body!$A$3:$A$130,0),MATCH(Tabulka!L$2,Přehled_body!$E$1:$ED$1,0)),)))","v":0},{"$f":"IF(IFERROR(INDEX(Přehled_body!$E$3:$ED$130,MATCH(Tabulka!$AI72,Přehled_body!$A$3:$A$130,0),MATCH(Tabulka!M$2,Přehled_body!$E$1:$ED$1,0)),)=\"\",,IF(IFERROR(INDEX(Přehled_body!$E$3:$ED$130,MATCH(Tabulka!$AI72,Přehled_body!$A$3:$A$130,0),MATCH(Tabulka!M$2,Přehled_body!$E$1:$ED$1,0)),)=0,0.00000000001,IFERROR(INDEX(Přehled_body!$E$3:$ED$130,MATCH(Tabulka!$AI72,Přehled_body!$A$3:$A$130,0),MATCH(Tabulka!M$2,Přehled_body!$E$1:$ED$1,0)),)))","v":0},{"$f":"IF(IFERROR(INDEX(Přehled_body!$E$3:$ED$130,MATCH(Tabulka!$AI72,Přehled_body!$A$3:$A$130,0),MATCH(Tabulka!N$2,Přehled_body!$E$1:$ED$1,0)),)=\"\",,IF(IFERROR(INDEX(Přehled_body!$E$3:$ED$130,MATCH(Tabulka!$AI72,Přehled_body!$A$3:$A$130,0),MATCH(Tabulka!N$2,Přehled_body!$E$1:$ED$1,0)),)=0,0.00000000001,IFERROR(INDEX(Přehled_body!$E$3:$ED$130,MATCH(Tabulka!$AI72,Přehled_body!$A$3:$A$130,0),MATCH(Tabulka!N$2,Přehled_body!$E$1:$ED$1,0)),)))","v":0},{"$f":"IF(IFERROR(INDEX(Přehled_body!$E$3:$ED$130,MATCH(Tabulka!$AI72,Přehled_body!$A$3:$A$130,0),MATCH(Tabulka!O$2,Přehled_body!$E$1:$ED$1,0)),)=\"\",,IF(IFERROR(INDEX(Přehled_body!$E$3:$ED$130,MATCH(Tabulka!$AI72,Přehled_body!$A$3:$A$130,0),MATCH(Tabulka!O$2,Přehled_body!$E$1:$ED$1,0)),)=0,0.00000000001,IFERROR(INDEX(Přehled_body!$E$3:$ED$130,MATCH(Tabulka!$AI72,Přehled_body!$A$3:$A$130,0),MATCH(Tabulka!O$2,Přehled_body!$E$1:$ED$1,0)),)))","v":0},{"$f":"IF(IFERROR(INDEX(Přehled_body!$E$3:$ED$130,MATCH(Tabulka!$AI72,Přehled_body!$A$3:$A$130,0),MATCH(Tabulka!P$2,Přehled_body!$E$1:$ED$1,0)),)=\"\",,IF(IFERROR(INDEX(Přehled_body!$E$3:$ED$130,MATCH(Tabulka!$AI72,Přehled_body!$A$3:$A$130,0),MATCH(Tabulka!P$2,Přehled_body!$E$1:$ED$1,0)),)=0,0.00000000001,IFERROR(INDEX(Přehled_body!$E$3:$ED$130,MATCH(Tabulka!$AI72,Přehled_body!$A$3:$A$130,0),MATCH(Tabulka!P$2,Přehled_body!$E$1:$ED$1,0)),)))","v":0},{"$f":"IF(IFERROR(INDEX(Přehled_body!$E$3:$ED$130,MATCH(Tabulka!$AI72,Přehled_body!$A$3:$A$130,0),MATCH(Tabulka!Q$2,Přehled_body!$E$1:$ED$1,0)),)=\"\",,IF(IFERROR(INDEX(Přehled_body!$E$3:$ED$130,MATCH(Tabulka!$AI72,Přehled_body!$A$3:$A$130,0),MATCH(Tabulka!Q$2,Přehled_body!$E$1:$ED$1,0)),)=0,0.00000000001,IFERROR(INDEX(Přehled_body!$E$3:$ED$130,MATCH(Tabulka!$AI72,Přehled_body!$A$3:$A$130,0),MATCH(Tabulka!Q$2,Přehled_body!$E$1:$ED$1,0)),)))","v":0},{"$f":"IF(IFERROR(INDEX(Přehled_body!$E$3:$ED$130,MATCH(Tabulka!$AI72,Přehled_body!$A$3:$A$130,0),MATCH(Tabulka!R$2,Přehled_body!$E$1:$ED$1,0)),)=\"\",,IF(IFERROR(INDEX(Přehled_body!$E$3:$ED$130,MATCH(Tabulka!$AI72,Přehled_body!$A$3:$A$130,0),MATCH(Tabulka!R$2,Přehled_body!$E$1:$ED$1,0)),)=0,0.00000000001,IFERROR(INDEX(Přehled_body!$E$3:$ED$130,MATCH(Tabulka!$AI72,Přehled_body!$A$3:$A$130,0),MATCH(Tabulka!R$2,Přehled_body!$E$1:$ED$1,0)),)))","v":0},{"$f":"IF(IFERROR(INDEX(Přehled_body!$E$3:$ED$130,MATCH(Tabulka!$AI72,Přehled_body!$A$3:$A$130,0),MATCH(Tabulka!S$2,Přehled_body!$E$1:$ED$1,0)),)=\"\",,IF(IFERROR(INDEX(Přehled_body!$E$3:$ED$130,MATCH(Tabulka!$AI72,Přehled_body!$A$3:$A$130,0),MATCH(Tabulka!S$2,Přehled_body!$E$1:$ED$1,0)),)=0,0.00000000001,IFERROR(INDEX(Přehled_body!$E$3:$ED$130,MATCH(Tabulka!$AI72,Přehled_body!$A$3:$A$130,0),MATCH(Tabulka!S$2,Přehled_body!$E$1:$ED$1,0)),)))","v":0},{"$f":"IF(IFERROR(INDEX(Přehled_body!$E$3:$ED$130,MATCH(Tabulka!$AI72,Přehled_body!$A$3:$A$130,0),MATCH(Tabulka!T$2,Přehled_body!$E$1:$ED$1,0)),)=\"\",,IF(IFERROR(INDEX(Přehled_body!$E$3:$ED$130,MATCH(Tabulka!$AI72,Přehled_body!$A$3:$A$130,0),MATCH(Tabulka!T$2,Přehled_body!$E$1:$ED$1,0)),)=0,0.00000000001,IFERROR(INDEX(Přehled_body!$E$3:$ED$130,MATCH(Tabulka!$AI72,Přehled_body!$A$3:$A$130,0),MATCH(Tabulka!T$2,Přehled_body!$E$1:$ED$1,0)),)))","v":0},{"$f":"IF(IFERROR(INDEX(Přehled_body!$E$3:$ED$130,MATCH(Tabulka!$AI72,Přehled_body!$A$3:$A$130,0),MATCH(Tabulka!U$2,Přehled_body!$E$1:$ED$1,0)),)=\"\",,IF(IFERROR(INDEX(Přehled_body!$E$3:$ED$130,MATCH(Tabulka!$AI72,Přehled_body!$A$3:$A$130,0),MATCH(Tabulka!U$2,Přehled_body!$E$1:$ED$1,0)),)=0,0.00000000001,IFERROR(INDEX(Přehled_body!$E$3:$ED$130,MATCH(Tabulka!$AI72,Přehled_body!$A$3:$A$130,0),MATCH(Tabulka!U$2,Přehled_body!$E$1:$ED$1,0)),)))","v":0},{"$f":"IF(IFERROR(INDEX(Přehled_body!$E$3:$ED$130,MATCH(Tabulka!$AI72,Přehled_body!$A$3:$A$130,0),MATCH(Tabulka!V$2,Přehled_body!$E$1:$ED$1,0)),)=\"\",,IF(IFERROR(INDEX(Přehled_body!$E$3:$ED$130,MATCH(Tabulka!$AI72,Přehled_body!$A$3:$A$130,0),MATCH(Tabulka!V$2,Přehled_body!$E$1:$ED$1,0)),)=0,0.00000000001,IFERROR(INDEX(Přehled_body!$E$3:$ED$130,MATCH(Tabulka!$AI72,Přehled_body!$A$3:$A$130,0),MATCH(Tabulka!V$2,Přehled_body!$E$1:$ED$1,0)),)))","v":0},{"$f":"IF(IFERROR(INDEX(Přehled_body!$E$3:$ED$130,MATCH(Tabulka!$AI72,Přehled_body!$A$3:$A$130,0),MATCH(Tabulka!W$2,Přehled_body!$E$1:$ED$1,0)),)=\"\",,IF(IFERROR(INDEX(Přehled_body!$E$3:$ED$130,MATCH(Tabulka!$AI72,Přehled_body!$A$3:$A$130,0),MATCH(Tabulka!W$2,Přehled_body!$E$1:$ED$1,0)),)=0,0.00000000001,IFERROR(INDEX(Přehled_body!$E$3:$ED$130,MATCH(Tabulka!$AI72,Přehled_body!$A$3:$A$130,0),MATCH(Tabulka!W$2,Přehled_body!$E$1:$ED$1,0)),)))","v":0},{"$f":"IF(IFERROR(INDEX(Přehled_body!$E$3:$ED$130,MATCH(Tabulka!$AI72,Přehled_body!$A$3:$A$130,0),MATCH(Tabulka!X$2,Přehled_body!$E$1:$ED$1,0)),)=\"\",,IF(IFERROR(INDEX(Přehled_body!$E$3:$ED$130,MATCH(Tabulka!$AI72,Přehled_body!$A$3:$A$130,0),MATCH(Tabulka!X$2,Přehled_body!$E$1:$ED$1,0)),)=0,0.00000000001,IFERROR(INDEX(Přehled_body!$E$3:$ED$130,MATCH(Tabulka!$AI72,Přehled_body!$A$3:$A$130,0),MATCH(Tabulka!X$2,Přehled_body!$E$1:$ED$1,0)),)))","v":0},{"$f":"IF(IFERROR(INDEX(Přehled_body!$E$3:$ED$130,MATCH(Tabulka!$AI72,Přehled_body!$A$3:$A$130,0),MATCH(Tabulka!Y$2,Přehled_body!$E$1:$ED$1,0)),)=\"\",,IF(IFERROR(INDEX(Přehled_body!$E$3:$ED$130,MATCH(Tabulka!$AI72,Přehled_body!$A$3:$A$130,0),MATCH(Tabulka!Y$2,Přehled_body!$E$1:$ED$1,0)),)=0,0.00000000001,IFERROR(INDEX(Přehled_body!$E$3:$ED$130,MATCH(Tabulka!$AI72,Přehled_body!$A$3:$A$130,0),MATCH(Tabulka!Y$2,Přehled_body!$E$1:$ED$1,0)),)))","v":0},{"$f":"IF(IFERROR(INDEX(Přehled_body!$E$3:$ED$130,MATCH(Tabulka!$AI72,Přehled_body!$A$3:$A$130,0),MATCH(Tabulka!Z$2,Přehled_body!$E$1:$ED$1,0)),)=\"\",,IF(IFERROR(INDEX(Přehled_body!$E$3:$ED$130,MATCH(Tabulka!$AI72,Přehled_body!$A$3:$A$130,0),MATCH(Tabulka!Z$2,Přehled_body!$E$1:$ED$1,0)),)=0,0.00000000001,IFERROR(INDEX(Přehled_body!$E$3:$ED$130,MATCH(Tabulka!$AI72,Přehled_body!$A$3:$A$130,0),MATCH(Tabulka!Z$2,Přehled_body!$E$1:$ED$1,0)),)))","v":0},{"$f":"IF(IFERROR(INDEX(Přehled_body!$E$3:$ED$130,MATCH(Tabulka!$AI72,Přehled_body!$A$3:$A$130,0),MATCH(Tabulka!AA$2,Přehled_body!$E$1:$ED$1,0)),)=\"\",,IF(IFERROR(INDEX(Přehled_body!$E$3:$ED$130,MATCH(Tabulka!$AI72,Přehled_body!$A$3:$A$130,0),MATCH(Tabulka!AA$2,Přehled_body!$E$1:$ED$1,0)),)=0,0.00000000001,IFERROR(INDEX(Přehled_body!$E$3:$ED$130,MATCH(Tabulka!$AI72,Přehled_body!$A$3:$A$130,0),MATCH(Tabulka!AA$2,Přehled_body!$E$1:$ED$1,0)),)))","v":0},{"$f":"IF(IFERROR(INDEX(Přehled_body!$E$3:$ED$130,MATCH(Tabulka!$AI72,Přehled_body!$A$3:$A$130,0),MATCH(Tabulka!AB$2,Přehled_body!$E$1:$ED$1,0)),)=\"\",,IF(IFERROR(INDEX(Přehled_body!$E$3:$ED$130,MATCH(Tabulka!$AI72,Přehled_body!$A$3:$A$130,0),MATCH(Tabulka!AB$2,Přehled_body!$E$1:$ED$1,0)),)=0,0.00000000001,IFERROR(INDEX(Přehled_body!$E$3:$ED$130,MATCH(Tabulka!$AI72,Přehled_body!$A$3:$A$130,0),MATCH(Tabulka!AB$2,Přehled_body!$E$1:$ED$1,0)),)))","v":0},{"$f":"IF(IFERROR(INDEX(Přehled_body!$E$3:$ED$130,MATCH(Tabulka!$AI72,Přehled_body!$A$3:$A$130,0),MATCH(Tabulka!AC$2,Přehled_body!$E$1:$ED$1,0)),)=\"\",,IF(IFERROR(INDEX(Přehled_body!$E$3:$ED$130,MATCH(Tabulka!$AI72,Přehled_body!$A$3:$A$130,0),MATCH(Tabulka!AC$2,Přehled_body!$E$1:$ED$1,0)),)=0,0.00000000001,IFERROR(INDEX(Přehled_body!$E$3:$ED$130,MATCH(Tabulka!$AI72,Přehled_body!$A$3:$A$130,0),MATCH(Tabulka!AC$2,Přehled_body!$E$1:$ED$1,0)),)))","v":0},{"$f":"IF(IFERROR(INDEX(Přehled_body!$E$3:$ED$130,MATCH(Tabulka!$AI72,Přehled_body!$A$3:$A$130,0),MATCH(Tabulka!AD$2,Přehled_body!$E$1:$ED$1,0)),)=\"\",,IF(IFERROR(INDEX(Přehled_body!$E$3:$ED$130,MATCH(Tabulka!$AI72,Přehled_body!$A$3:$A$130,0),MATCH(Tabulka!AD$2,Přehled_body!$E$1:$ED$1,0)),)=0,0.00000000001,IFERROR(INDEX(Přehled_body!$E$3:$ED$130,MATCH(Tabulka!$AI72,Přehled_body!$A$3:$A$130,0),MATCH(Tabulka!AD$2,Přehled_body!$E$1:$ED$1,0)),)))","v":0},{"$f":"IF(SUM(AG69)<2,-90000+SUM(D72:AD72),SUM(D72:AD72))","v":-90000},null,null,0,{"$f":"CONCATENATE($B$70,\" \",$B$71,C72)","v":"Míra KulhanPřehozy"},null,null,0,null,null,null,{"$f":"CONCATENATE(AQ72,\" \",AQ71)","v":"Kulhan Míra"},"Kulhan"]
[null,null,"Poč. kol",{"$f":"IF(IFERROR(INDEX(Přehled_body!$E$3:$ED$130,MATCH(Tabulka!$AI73,Přehled_body!$A$3:$A$130,0),MATCH(Tabulka!D$2,Přehled_body!$E$1:$ED$1,0)),)=\"\",,IF(IFERROR(INDEX(Přehled_body!$E$3:$ED$130,MATCH(Tabulka!$AI73,Přehled_body!$A$3:$A$130,0),MATCH(Tabulka!D$2,Přehled_body!$E$1:$ED$1,0)),)=0,0.00000000001,IFERROR(INDEX(Přehled_body!$E$3:$ED$130,MATCH(Tabulka!$AI73,Přehled_body!$A$3:$A$130,0),MATCH(Tabulka!D$2,Přehled_body!$E$1:$ED$1,0)),)))","v":0},{"$f":"IF(IFERROR(INDEX(Přehled_body!$E$3:$ED$130,MATCH(Tabulka!$AI73,Přehled_body!$A$3:$A$130,0),MATCH(Tabulka!E$2,Přehled_body!$E$1:$ED$1,0)),)=\"\",,IF(IFERROR(INDEX(Přehled_body!$E$3:$ED$130,MATCH(Tabulka!$AI73,Přehled_body!$A$3:$A$130,0),MATCH(Tabulka!E$2,Přehled_body!$E$1:$ED$1,0)),)=0,0.00000000001,IFERROR(INDEX(Přehled_body!$E$3:$ED$130,MATCH(Tabulka!$AI73,Přehled_body!$A$3:$A$130,0),MATCH(Tabulka!E$2,Přehled_body!$E$1:$ED$1,0)),)))","v":0},{"$f":"IF(IFERROR(INDEX(Přehled_body!$E$3:$ED$130,MATCH(Tabulka!$AI73,Přehled_body!$A$3:$A$130,0),MATCH(Tabulka!F$2,Přehled_body!$E$1:$ED$1,0)),)=\"\",,IF(IFERROR(INDEX(Přehled_body!$E$3:$ED$130,MATCH(Tabulka!$AI73,Přehled_body!$A$3:$A$130,0),MATCH(Tabulka!F$2,Přehled_body!$E$1:$ED$1,0)),)=0,0.00000000001,IFERROR(INDEX(Přehled_body!$E$3:$ED$130,MATCH(Tabulka!$AI73,Přehled_body!$A$3:$A$130,0),MATCH(Tabulka!F$2,Přehled_body!$E$1:$ED$1,0)),)))","v":0},{"$f":"IF(IFERROR(INDEX(Přehled_body!$E$3:$ED$130,MATCH(Tabulka!$AI73,Přehled_body!$A$3:$A$130,0),MATCH(Tabulka!G$2,Přehled_body!$E$1:$ED$1,0)),)=\"\",,IF(IFERROR(INDEX(Přehled_body!$E$3:$ED$130,MATCH(Tabulka!$AI73,Přehled_body!$A$3:$A$130,0),MATCH(Tabulka!G$2,Přehled_body!$E$1:$ED$1,0)),)=0,0.00000000001,IFERROR(INDEX(Přehled_body!$E$3:$ED$130,MATCH(Tabulka!$AI73,Přehled_body!$A$3:$A$130,0),MATCH(Tabulka!G$2,Přehled_body!$E$1:$ED$1,0)),)))","v":0},{"$f":"IF(IFERROR(INDEX(Přehled_body!$E$3:$ED$130,MATCH(Tabulka!$AI73,Přehled_body!$A$3:$A$130,0),MATCH(Tabulka!H$2,Přehled_body!$E$1:$ED$1,0)),)=\"\",,IF(IFERROR(INDEX(Přehled_body!$E$3:$ED$130,MATCH(Tabulka!$AI73,Přehled_body!$A$3:$A$130,0),MATCH(Tabulka!H$2,Přehled_body!$E$1:$ED$1,0)),)=0,0.00000000001,IFERROR(INDEX(Přehled_body!$E$3:$ED$130,MATCH(Tabulka!$AI73,Přehled_body!$A$3:$A$130,0),MATCH(Tabulka!H$2,Přehled_body!$E$1:$ED$1,0)),)))","v":0},{"$f":"IF(IFERROR(INDEX(Přehled_body!$E$3:$ED$130,MATCH(Tabulka!$AI73,Přehled_body!$A$3:$A$130,0),MATCH(Tabulka!I$2,Přehled_body!$E$1:$ED$1,0)),)=\"\",,IF(IFERROR(INDEX(Přehled_body!$E$3:$ED$130,MATCH(Tabulka!$AI73,Přehled_body!$A$3:$A$130,0),MATCH(Tabulka!I$2,Přehled_body!$E$1:$ED$1,0)),)=0,0.00000000001,IFERROR(INDEX(Přehled_body!$E$3:$ED$130,MATCH(Tabulka!$AI73,Přehled_body!$A$3:$A$130,0),MATCH(Tabulka!I$2,Přehled_body!$E$1:$ED$1,0)),)))","v":0},{"$f":"IF(IFERROR(INDEX(Přehled_body!$E$3:$ED$130,MATCH(Tabulka!$AI73,Přehled_body!$A$3:$A$130,0),MATCH(Tabulka!J$2,Přehled_body!$E$1:$ED$1,0)),)=\"\",,IF(IFERROR(INDEX(Přehled_body!$E$3:$ED$130,MATCH(Tabulka!$AI73,Přehled_body!$A$3:$A$130,0),MATCH(Tabulka!J$2,Přehled_body!$E$1:$ED$1,0)),)=0,0.00000000001,IFERROR(INDEX(Přehled_body!$E$3:$ED$130,MATCH(Tabulka!$AI73,Přehled_body!$A$3:$A$130,0),MATCH(Tabulka!J$2,Přehled_body!$E$1:$ED$1,0)),)))","v":0},{"$f":"IF(IFERROR(INDEX(Přehled_body!$E$3:$ED$130,MATCH(Tabulka!$AI73,Přehled_body!$A$3:$A$130,0),MATCH(Tabulka!K$2,Přehled_body!$E$1:$ED$1,0)),)=\"\",,IF(IFERROR(INDEX(Přehled_body!$E$3:$ED$130,MATCH(Tabulka!$AI73,Přehled_body!$A$3:$A$130,0),MATCH(Tabulka!K$2,Přehled_body!$E$1:$ED$1,0)),)=0,0.00000000001,IFERROR(INDEX(Přehled_body!$E$3:$ED$130,MATCH(Tabulka!$AI73,Přehled_body!$A$3:$A$130,0),MATCH(Tabulka!K$2,Přehled_body!$E$1:$ED$1,0)),)))","v":0},{"$f":"IF(IFERROR(INDEX(Přehled_body!$E$3:$ED$130,MATCH(Tabulka!$AI73,Přehled_body!$A$3:$A$130,0),MATCH(Tabulka!L$2,Přehled_body!$E$1:$ED$1,0)),)=\"\",,IF(IFERROR(INDEX(Přehled_body!$E$3:$ED$130,MATCH(Tabulka!$AI73,Přehled_body!$A$3:$A$130,0),MATCH(Tabulka!L$2,Přehled_body!$E$1:$ED$1,0)),)=0,0.00000000001,IFERROR(INDEX(Přehled_body!$E$3:$ED$130,MATCH(Tabulka!$AI73,Přehled_body!$A$3:$A$130,0),MATCH(Tabulka!L$2,Přehled_body!$E$1:$ED$1,0)),)))","v":0},{"$f":"IF(IFERROR(INDEX(Přehled_body!$E$3:$ED$130,MATCH(Tabulka!$AI73,Přehled_body!$A$3:$A$130,0),MATCH(Tabulka!M$2,Přehled_body!$E$1:$ED$1,0)),)=\"\",,IF(IFERROR(INDEX(Přehled_body!$E$3:$ED$130,MATCH(Tabulka!$AI73,Přehled_body!$A$3:$A$130,0),MATCH(Tabulka!M$2,Přehled_body!$E$1:$ED$1,0)),)=0,0.00000000001,IFERROR(INDEX(Přehled_body!$E$3:$ED$130,MATCH(Tabulka!$AI73,Přehled_body!$A$3:$A$130,0),MATCH(Tabulka!M$2,Přehled_body!$E$1:$ED$1,0)),)))","v":0},{"$f":"IF(IFERROR(INDEX(Přehled_body!$E$3:$ED$130,MATCH(Tabulka!$AI73,Přehled_body!$A$3:$A$130,0),MATCH(Tabulka!N$2,Přehled_body!$E$1:$ED$1,0)),)=\"\",,IF(IFERROR(INDEX(Přehled_body!$E$3:$ED$130,MATCH(Tabulka!$AI73,Přehled_body!$A$3:$A$130,0),MATCH(Tabulka!N$2,Přehled_body!$E$1:$ED$1,0)),)=0,0.00000000001,IFERROR(INDEX(Přehled_body!$E$3:$ED$130,MATCH(Tabulka!$AI73,Přehled_body!$A$3:$A$130,0),MATCH(Tabulka!N$2,Přehled_body!$E$1:$ED$1,0)),)))","v":0},{"$f":"IF(IFERROR(INDEX(Přehled_body!$E$3:$ED$130,MATCH(Tabulka!$AI73,Přehled_body!$A$3:$A$130,0),MATCH(Tabulka!O$2,Přehled_body!$E$1:$ED$1,0)),)=\"\",,IF(IFERROR(INDEX(Přehled_body!$E$3:$ED$130,MATCH(Tabulka!$AI73,Přehled_body!$A$3:$A$130,0),MATCH(Tabulka!O$2,Přehled_body!$E$1:$ED$1,0)),)=0,0.00000000001,IFERROR(INDEX(Přehled_body!$E$3:$ED$130,MATCH(Tabulka!$AI73,Přehled_body!$A$3:$A$130,0),MATCH(Tabulka!O$2,Přehled_body!$E$1:$ED$1,0)),)))","v":0},{"$f":"IF(IFERROR(INDEX(Přehled_body!$E$3:$ED$130,MATCH(Tabulka!$AI73,Přehled_body!$A$3:$A$130,0),MATCH(Tabulka!P$2,Přehled_body!$E$1:$ED$1,0)),)=\"\",,IF(IFERROR(INDEX(Přehled_body!$E$3:$ED$130,MATCH(Tabulka!$AI73,Přehled_body!$A$3:$A$130,0),MATCH(Tabulka!P$2,Přehled_body!$E$1:$ED$1,0)),)=0,0.00000000001,IFERROR(INDEX(Přehled_body!$E$3:$ED$130,MATCH(Tabulka!$AI73,Přehled_body!$A$3:$A$130,0),MATCH(Tabulka!P$2,Přehled_body!$E$1:$ED$1,0)),)))","v":0},{"$f":"IF(IFERROR(INDEX(Přehled_body!$E$3:$ED$130,MATCH(Tabulka!$AI73,Přehled_body!$A$3:$A$130,0),MATCH(Tabulka!Q$2,Přehled_body!$E$1:$ED$1,0)),)=\"\",,IF(IFERROR(INDEX(Přehled_body!$E$3:$ED$130,MATCH(Tabulka!$AI73,Přehled_body!$A$3:$A$130,0),MATCH(Tabulka!Q$2,Přehled_body!$E$1:$ED$1,0)),)=0,0.00000000001,IFERROR(INDEX(Přehled_body!$E$3:$ED$130,MATCH(Tabulka!$AI73,Přehled_body!$A$3:$A$130,0),MATCH(Tabulka!Q$2,Přehled_body!$E$1:$ED$1,0)),)))","v":0},{"$f":"IF(IFERROR(INDEX(Přehled_body!$E$3:$ED$130,MATCH(Tabulka!$AI73,Přehled_body!$A$3:$A$130,0),MATCH(Tabulka!R$2,Přehled_body!$E$1:$ED$1,0)),)=\"\",,IF(IFERROR(INDEX(Přehled_body!$E$3:$ED$130,MATCH(Tabulka!$AI73,Přehled_body!$A$3:$A$130,0),MATCH(Tabulka!R$2,Přehled_body!$E$1:$ED$1,0)),)=0,0.00000000001,IFERROR(INDEX(Přehled_body!$E$3:$ED$130,MATCH(Tabulka!$AI73,Přehled_body!$A$3:$A$130,0),MATCH(Tabulka!R$2,Přehled_body!$E$1:$ED$1,0)),)))","v":0},{"$f":"IF(IFERROR(INDEX(Přehled_body!$E$3:$ED$130,MATCH(Tabulka!$AI73,Přehled_body!$A$3:$A$130,0),MATCH(Tabulka!S$2,Přehled_body!$E$1:$ED$1,0)),)=\"\",,IF(IFERROR(INDEX(Přehled_body!$E$3:$ED$130,MATCH(Tabulka!$AI73,Přehled_body!$A$3:$A$130,0),MATCH(Tabulka!S$2,Přehled_body!$E$1:$ED$1,0)),)=0,0.00000000001,IFERROR(INDEX(Přehled_body!$E$3:$ED$130,MATCH(Tabulka!$AI73,Přehled_body!$A$3:$A$130,0),MATCH(Tabulka!S$2,Přehled_body!$E$1:$ED$1,0)),)))","v":0},{"$f":"IF(IFERROR(INDEX(Přehled_body!$E$3:$ED$130,MATCH(Tabulka!$AI73,Přehled_body!$A$3:$A$130,0),MATCH(Tabulka!T$2,Přehled_body!$E$1:$ED$1,0)),)=\"\",,IF(IFERROR(INDEX(Přehled_body!$E$3:$ED$130,MATCH(Tabulka!$AI73,Přehled_body!$A$3:$A$130,0),MATCH(Tabulka!T$2,Přehled_body!$E$1:$ED$1,0)),)=0,0.00000000001,IFERROR(INDEX(Přehled_body!$E$3:$ED$130,MATCH(Tabulka!$AI73,Přehled_body!$A$3:$A$130,0),MATCH(Tabulka!T$2,Přehled_body!$E$1:$ED$1,0)),)))","v":0},{"$f":"IF(IFERROR(INDEX(Přehled_body!$E$3:$ED$130,MATCH(Tabulka!$AI73,Přehled_body!$A$3:$A$130,0),MATCH(Tabulka!U$2,Přehled_body!$E$1:$ED$1,0)),)=\"\",,IF(IFERROR(INDEX(Přehled_body!$E$3:$ED$130,MATCH(Tabulka!$AI73,Přehled_body!$A$3:$A$130,0),MATCH(Tabulka!U$2,Přehled_body!$E$1:$ED$1,0)),)=0,0.00000000001,IFERROR(INDEX(Přehled_body!$E$3:$ED$130,MATCH(Tabulka!$AI73,Přehled_body!$A$3:$A$130,0),MATCH(Tabulka!U$2,Přehled_body!$E$1:$ED$1,0)),)))","v":0},{"$f":"IF(IFERROR(INDEX(Přehled_body!$E$3:$ED$130,MATCH(Tabulka!$AI73,Přehled_body!$A$3:$A$130,0),MATCH(Tabulka!V$2,Přehled_body!$E$1:$ED$1,0)),)=\"\",,IF(IFERROR(INDEX(Přehled_body!$E$3:$ED$130,MATCH(Tabulka!$AI73,Přehled_body!$A$3:$A$130,0),MATCH(Tabulka!V$2,Přehled_body!$E$1:$ED$1,0)),)=0,0.00000000001,IFERROR(INDEX(Přehled_body!$E$3:$ED$130,MATCH(Tabulka!$AI73,Přehled_body!$A$3:$A$130,0),MATCH(Tabulka!V$2,Přehled_body!$E$1:$ED$1,0)),)))","v":0},{"$f":"IF(IFERROR(INDEX(Přehled_body!$E$3:$ED$130,MATCH(Tabulka!$AI73,Přehled_body!$A$3:$A$130,0),MATCH(Tabulka!W$2,Přehled_body!$E$1:$ED$1,0)),)=\"\",,IF(IFERROR(INDEX(Přehled_body!$E$3:$ED$130,MATCH(Tabulka!$AI73,Přehled_body!$A$3:$A$130,0),MATCH(Tabulka!W$2,Přehled_body!$E$1:$ED$1,0)),)=0,0.00000000001,IFERROR(INDEX(Přehled_body!$E$3:$ED$130,MATCH(Tabulka!$AI73,Přehled_body!$A$3:$A$130,0),MATCH(Tabulka!W$2,Přehled_body!$E$1:$ED$1,0)),)))","v":0},{"$f":"IF(IFERROR(INDEX(Přehled_body!$E$3:$ED$130,MATCH(Tabulka!$AI73,Přehled_body!$A$3:$A$130,0),MATCH(Tabulka!X$2,Přehled_body!$E$1:$ED$1,0)),)=\"\",,IF(IFERROR(INDEX(Přehled_body!$E$3:$ED$130,MATCH(Tabulka!$AI73,Přehled_body!$A$3:$A$130,0),MATCH(Tabulka!X$2,Přehled_body!$E$1:$ED$1,0)),)=0,0.00000000001,IFERROR(INDEX(Přehled_body!$E$3:$ED$130,MATCH(Tabulka!$AI73,Přehled_body!$A$3:$A$130,0),MATCH(Tabulka!X$2,Přehled_body!$E$1:$ED$1,0)),)))","v":0},{"$f":"IF(IFERROR(INDEX(Přehled_body!$E$3:$ED$130,MATCH(Tabulka!$AI73,Přehled_body!$A$3:$A$130,0),MATCH(Tabulka!Y$2,Přehled_body!$E$1:$ED$1,0)),)=\"\",,IF(IFERROR(INDEX(Přehled_body!$E$3:$ED$130,MATCH(Tabulka!$AI73,Přehled_body!$A$3:$A$130,0),MATCH(Tabulka!Y$2,Přehled_body!$E$1:$ED$1,0)),)=0,0.00000000001,IFERROR(INDEX(Přehled_body!$E$3:$ED$130,MATCH(Tabulka!$AI73,Přehled_body!$A$3:$A$130,0),MATCH(Tabulka!Y$2,Přehled_body!$E$1:$ED$1,0)),)))","v":0},{"$f":"IF(IFERROR(INDEX(Přehled_body!$E$3:$ED$130,MATCH(Tabulka!$AI73,Přehled_body!$A$3:$A$130,0),MATCH(Tabulka!Z$2,Přehled_body!$E$1:$ED$1,0)),)=\"\",,IF(IFERROR(INDEX(Přehled_body!$E$3:$ED$130,MATCH(Tabulka!$AI73,Přehled_body!$A$3:$A$130,0),MATCH(Tabulka!Z$2,Přehled_body!$E$1:$ED$1,0)),)=0,0.00000000001,IFERROR(INDEX(Přehled_body!$E$3:$ED$130,MATCH(Tabulka!$AI73,Přehled_body!$A$3:$A$130,0),MATCH(Tabulka!Z$2,Přehled_body!$E$1:$ED$1,0)),)))","v":0},{"$f":"IF(IFERROR(INDEX(Přehled_body!$E$3:$ED$130,MATCH(Tabulka!$AI73,Přehled_body!$A$3:$A$130,0),MATCH(Tabulka!AA$2,Přehled_body!$E$1:$ED$1,0)),)=\"\",,IF(IFERROR(INDEX(Přehled_body!$E$3:$ED$130,MATCH(Tabulka!$AI73,Přehled_body!$A$3:$A$130,0),MATCH(Tabulka!AA$2,Přehled_body!$E$1:$ED$1,0)),)=0,0.00000000001,IFERROR(INDEX(Přehled_body!$E$3:$ED$130,MATCH(Tabulka!$AI73,Přehled_body!$A$3:$A$130,0),MATCH(Tabulka!AA$2,Přehled_body!$E$1:$ED$1,0)),)))","v":0},{"$f":"IF(IFERROR(INDEX(Přehled_body!$E$3:$ED$130,MATCH(Tabulka!$AI73,Přehled_body!$A$3:$A$130,0),MATCH(Tabulka!AB$2,Přehled_body!$E$1:$ED$1,0)),)=\"\",,IF(IFERROR(INDEX(Přehled_body!$E$3:$ED$130,MATCH(Tabulka!$AI73,Přehled_body!$A$3:$A$130,0),MATCH(Tabulka!AB$2,Přehled_body!$E$1:$ED$1,0)),)=0,0.00000000001,IFERROR(INDEX(Přehled_body!$E$3:$ED$130,MATCH(Tabulka!$AI73,Přehled_body!$A$3:$A$130,0),MATCH(Tabulka!AB$2,Přehled_body!$E$1:$ED$1,0)),)))","v":0},{"$f":"IF(IFERROR(INDEX(Přehled_body!$E$3:$ED$130,MATCH(Tabulka!$AI73,Přehled_body!$A$3:$A$130,0),MATCH(Tabulka!AC$2,Přehled_body!$E$1:$ED$1,0)),)=\"\",,IF(IFERROR(INDEX(Přehled_body!$E$3:$ED$130,MATCH(Tabulka!$AI73,Přehled_body!$A$3:$A$130,0),MATCH(Tabulka!AC$2,Přehled_body!$E$1:$ED$1,0)),)=0,0.00000000001,IFERROR(INDEX(Přehled_body!$E$3:$ED$130,MATCH(Tabulka!$AI73,Přehled_body!$A$3:$A$130,0),MATCH(Tabulka!AC$2,Přehled_body!$E$1:$ED$1,0)),)))","v":0},{"$f":"IF(IFERROR(INDEX(Přehled_body!$E$3:$ED$130,MATCH(Tabulka!$AI73,Přehled_body!$A$3:$A$130,0),MATCH(Tabulka!AD$2,Přehled_body!$E$1:$ED$1,0)),)=\"\",,IF(IFERROR(INDEX(Přehled_body!$E$3:$ED$130,MATCH(Tabulka!$AI73,Přehled_body!$A$3:$A$130,0),MATCH(Tabulka!AD$2,Přehled_body!$E$1:$ED$1,0)),)=0,0.00000000001,IFERROR(INDEX(Přehled_body!$E$3:$ED$130,MATCH(Tabulka!$AI73,Přehled_body!$A$3:$A$130,0),MATCH(Tabulka!AD$2,Přehled_body!$E$1:$ED$1,0)),)))","v":0},{"$f":"IF(SUM(AG69)<2,-90000+SUM(D73:AD73),SUM(D73:AD73))","v":-90000},null,null,0,{"$f":"CONCATENATE($B$70,\" \",$B$71,C73)","v":"Míra KulhanPoč. kol"},null,null,0]
[15,null,"Výhry",{"$f":"IF(IFERROR(INDEX(Přehled_body!$E$3:$ED$130,MATCH(Tabulka!$AI74,Přehled_body!$A$3:$A$130,0),MATCH(Tabulka!D$2,Přehled_body!$E$1:$ED$1,0)),)=\"\",,IF(IFERROR(INDEX(Přehled_body!$E$3:$ED$130,MATCH(Tabulka!$AI74,Přehled_body!$A$3:$A$130,0),MATCH(Tabulka!D$2,Přehled_body!$E$1:$ED$1,0)),)=0,0.00000000001,IFERROR(INDEX(Přehled_body!$E$3:$ED$130,MATCH(Tabulka!$AI74,Přehled_body!$A$3:$A$130,0),MATCH(Tabulka!D$2,Přehled_body!$E$1:$ED$1,0)),)))","v":0},{"$f":"IF(IFERROR(INDEX(Přehled_body!$E$3:$ED$130,MATCH(Tabulka!$AI74,Přehled_body!$A$3:$A$130,0),MATCH(Tabulka!E$2,Přehled_body!$E$1:$ED$1,0)),)=\"\",,IF(IFERROR(INDEX(Přehled_body!$E$3:$ED$130,MATCH(Tabulka!$AI74,Přehled_body!$A$3:$A$130,0),MATCH(Tabulka!E$2,Přehled_body!$E$1:$ED$1,0)),)=0,0.00000000001,IFERROR(INDEX(Přehled_body!$E$3:$ED$130,MATCH(Tabulka!$AI74,Přehled_body!$A$3:$A$130,0),MATCH(Tabulka!E$2,Přehled_body!$E$1:$ED$1,0)),)))","v":0},{"$f":"IF(IFERROR(INDEX(Přehled_body!$E$3:$ED$130,MATCH(Tabulka!$AI74,Přehled_body!$A$3:$A$130,0),MATCH(Tabulka!F$2,Přehled_body!$E$1:$ED$1,0)),)=\"\",,IF(IFERROR(INDEX(Přehled_body!$E$3:$ED$130,MATCH(Tabulka!$AI74,Přehled_body!$A$3:$A$130,0),MATCH(Tabulka!F$2,Přehled_body!$E$1:$ED$1,0)),)=0,0.00000000001,IFERROR(INDEX(Přehled_body!$E$3:$ED$130,MATCH(Tabulka!$AI74,Přehled_body!$A$3:$A$130,0),MATCH(Tabulka!F$2,Přehled_body!$E$1:$ED$1,0)),)))","v":0},{"$f":"IF(IFERROR(INDEX(Přehled_body!$E$3:$ED$130,MATCH(Tabulka!$AI74,Přehled_body!$A$3:$A$130,0),MATCH(Tabulka!G$2,Přehled_body!$E$1:$ED$1,0)),)=\"\",,IF(IFERROR(INDEX(Přehled_body!$E$3:$ED$130,MATCH(Tabulka!$AI74,Přehled_body!$A$3:$A$130,0),MATCH(Tabulka!G$2,Přehled_body!$E$1:$ED$1,0)),)=0,0.00000000001,IFERROR(INDEX(Přehled_body!$E$3:$ED$130,MATCH(Tabulka!$AI74,Přehled_body!$A$3:$A$130,0),MATCH(Tabulka!G$2,Přehled_body!$E$1:$ED$1,0)),)))","v":0},{"$f":"IF(IFERROR(INDEX(Přehled_body!$E$3:$ED$130,MATCH(Tabulka!$AI74,Přehled_body!$A$3:$A$130,0),MATCH(Tabulka!H$2,Přehled_body!$E$1:$ED$1,0)),)=\"\",,IF(IFERROR(INDEX(Přehled_body!$E$3:$ED$130,MATCH(Tabulka!$AI74,Přehled_body!$A$3:$A$130,0),MATCH(Tabulka!H$2,Přehled_body!$E$1:$ED$1,0)),)=0,0.00000000001,IFERROR(INDEX(Přehled_body!$E$3:$ED$130,MATCH(Tabulka!$AI74,Přehled_body!$A$3:$A$130,0),MATCH(Tabulka!H$2,Přehled_body!$E$1:$ED$1,0)),)))","v":0},{"$f":"IF(IFERROR(INDEX(Přehled_body!$E$3:$ED$130,MATCH(Tabulka!$AI74,Přehled_body!$A$3:$A$130,0),MATCH(Tabulka!I$2,Přehled_body!$E$1:$ED$1,0)),)=\"\",,IF(IFERROR(INDEX(Přehled_body!$E$3:$ED$130,MATCH(Tabulka!$AI74,Přehled_body!$A$3:$A$130,0),MATCH(Tabulka!I$2,Přehled_body!$E$1:$ED$1,0)),)=0,0.00000000001,IFERROR(INDEX(Přehled_body!$E$3:$ED$130,MATCH(Tabulka!$AI74,Přehled_body!$A$3:$A$130,0),MATCH(Tabulka!I$2,Přehled_body!$E$1:$ED$1,0)),)))","v":0},{"$f":"IF(IFERROR(INDEX(Přehled_body!$E$3:$ED$130,MATCH(Tabulka!$AI74,Přehled_body!$A$3:$A$130,0),MATCH(Tabulka!J$2,Přehled_body!$E$1:$ED$1,0)),)=\"\",,IF(IFERROR(INDEX(Přehled_body!$E$3:$ED$130,MATCH(Tabulka!$AI74,Přehled_body!$A$3:$A$130,0),MATCH(Tabulka!J$2,Přehled_body!$E$1:$ED$1,0)),)=0,0.00000000001,IFERROR(INDEX(Přehled_body!$E$3:$ED$130,MATCH(Tabulka!$AI74,Přehled_body!$A$3:$A$130,0),MATCH(Tabulka!J$2,Přehled_body!$E$1:$ED$1,0)),)))","v":0},{"$f":"IF(IFERROR(INDEX(Přehled_body!$E$3:$ED$130,MATCH(Tabulka!$AI74,Přehled_body!$A$3:$A$130,0),MATCH(Tabulka!K$2,Přehled_body!$E$1:$ED$1,0)),)=\"\",,IF(IFERROR(INDEX(Přehled_body!$E$3:$ED$130,MATCH(Tabulka!$AI74,Přehled_body!$A$3:$A$130,0),MATCH(Tabulka!K$2,Přehled_body!$E$1:$ED$1,0)),)=0,0.00000000001,IFERROR(INDEX(Přehled_body!$E$3:$ED$130,MATCH(Tabulka!$AI74,Přehled_body!$A$3:$A$130,0),MATCH(Tabulka!K$2,Přehled_body!$E$1:$ED$1,0)),)))","v":0},{"$f":"IF(IFERROR(INDEX(Přehled_body!$E$3:$ED$130,MATCH(Tabulka!$AI74,Přehled_body!$A$3:$A$130,0),MATCH(Tabulka!L$2,Přehled_body!$E$1:$ED$1,0)),)=\"\",,IF(IFERROR(INDEX(Přehled_body!$E$3:$ED$130,MATCH(Tabulka!$AI74,Přehled_body!$A$3:$A$130,0),MATCH(Tabulka!L$2,Přehled_body!$E$1:$ED$1,0)),)=0,0.00000000001,IFERROR(INDEX(Přehled_body!$E$3:$ED$130,MATCH(Tabulka!$AI74,Přehled_body!$A$3:$A$130,0),MATCH(Tabulka!L$2,Přehled_body!$E$1:$ED$1,0)),)))","v":0},{"$f":"IF(IFERROR(INDEX(Přehled_body!$E$3:$ED$130,MATCH(Tabulka!$AI74,Přehled_body!$A$3:$A$130,0),MATCH(Tabulka!M$2,Přehled_body!$E$1:$ED$1,0)),)=\"\",,IF(IFERROR(INDEX(Přehled_body!$E$3:$ED$130,MATCH(Tabulka!$AI74,Přehled_body!$A$3:$A$130,0),MATCH(Tabulka!M$2,Přehled_body!$E$1:$ED$1,0)),)=0,0.00000000001,IFERROR(INDEX(Přehled_body!$E$3:$ED$130,MATCH(Tabulka!$AI74,Přehled_body!$A$3:$A$130,0),MATCH(Tabulka!M$2,Přehled_body!$E$1:$ED$1,0)),)))","v":0},{"$f":"IF(IFERROR(INDEX(Přehled_body!$E$3:$ED$130,MATCH(Tabulka!$AI74,Přehled_body!$A$3:$A$130,0),MATCH(Tabulka!N$2,Přehled_body!$E$1:$ED$1,0)),)=\"\",,IF(IFERROR(INDEX(Přehled_body!$E$3:$ED$130,MATCH(Tabulka!$AI74,Přehled_body!$A$3:$A$130,0),MATCH(Tabulka!N$2,Přehled_body!$E$1:$ED$1,0)),)=0,0.00000000001,IFERROR(INDEX(Přehled_body!$E$3:$ED$130,MATCH(Tabulka!$AI74,Přehled_body!$A$3:$A$130,0),MATCH(Tabulka!N$2,Přehled_body!$E$1:$ED$1,0)),)))","v":0},{"$f":"IF(IFERROR(INDEX(Přehled_body!$E$3:$ED$130,MATCH(Tabulka!$AI74,Přehled_body!$A$3:$A$130,0),MATCH(Tabulka!O$2,Přehled_body!$E$1:$ED$1,0)),)=\"\",,IF(IFERROR(INDEX(Přehled_body!$E$3:$ED$130,MATCH(Tabulka!$AI74,Přehled_body!$A$3:$A$130,0),MATCH(Tabulka!O$2,Přehled_body!$E$1:$ED$1,0)),)=0,0.00000000001,IFERROR(INDEX(Přehled_body!$E$3:$ED$130,MATCH(Tabulka!$AI74,Přehled_body!$A$3:$A$130,0),MATCH(Tabulka!O$2,Přehled_body!$E$1:$ED$1,0)),)))","v":0},{"$f":"IF(IFERROR(INDEX(Přehled_body!$E$3:$ED$130,MATCH(Tabulka!$AI74,Přehled_body!$A$3:$A$130,0),MATCH(Tabulka!P$2,Přehled_body!$E$1:$ED$1,0)),)=\"\",,IF(IFERROR(INDEX(Přehled_body!$E$3:$ED$130,MATCH(Tabulka!$AI74,Přehled_body!$A$3:$A$130,0),MATCH(Tabulka!P$2,Přehled_body!$E$1:$ED$1,0)),)=0,0.00000000001,IFERROR(INDEX(Přehled_body!$E$3:$ED$130,MATCH(Tabulka!$AI74,Přehled_body!$A$3:$A$130,0),MATCH(Tabulka!P$2,Přehled_body!$E$1:$ED$1,0)),)))","v":0},{"$f":"IF(IFERROR(INDEX(Přehled_body!$E$3:$ED$130,MATCH(Tabulka!$AI74,Přehled_body!$A$3:$A$130,0),MATCH(Tabulka!Q$2,Přehled_body!$E$1:$ED$1,0)),)=\"\",,IF(IFERROR(INDEX(Přehled_body!$E$3:$ED$130,MATCH(Tabulka!$AI74,Přehled_body!$A$3:$A$130,0),MATCH(Tabulka!Q$2,Přehled_body!$E$1:$ED$1,0)),)=0,0.00000000001,IFERROR(INDEX(Přehled_body!$E$3:$ED$130,MATCH(Tabulka!$AI74,Přehled_body!$A$3:$A$130,0),MATCH(Tabulka!Q$2,Přehled_body!$E$1:$ED$1,0)),)))","v":1},{"$f":"IF(IFERROR(INDEX(Přehled_body!$E$3:$ED$130,MATCH(Tabulka!$AI74,Přehled_body!$A$3:$A$130,0),MATCH(Tabulka!R$2,Přehled_body!$E$1:$ED$1,0)),)=\"\",,IF(IFERROR(INDEX(Přehled_body!$E$3:$ED$130,MATCH(Tabulka!$AI74,Přehled_body!$A$3:$A$130,0),MATCH(Tabulka!R$2,Přehled_body!$E$1:$ED$1,0)),)=0,0.00000000001,IFERROR(INDEX(Přehled_body!$E$3:$ED$130,MATCH(Tabulka!$AI74,Přehled_body!$A$3:$A$130,0),MATCH(Tabulka!R$2,Přehled_body!$E$1:$ED$1,0)),)))","v":0},{"$f":"IF(IFERROR(INDEX(Přehled_body!$E$3:$ED$130,MATCH(Tabulka!$AI74,Přehled_body!$A$3:$A$130,0),MATCH(Tabulka!S$2,Přehled_body!$E$1:$ED$1,0)),)=\"\",,IF(IFERROR(INDEX(Přehled_body!$E$3:$ED$130,MATCH(Tabulka!$AI74,Přehled_body!$A$3:$A$130,0),MATCH(Tabulka!S$2,Přehled_body!$E$1:$ED$1,0)),)=0,0.00000000001,IFERROR(INDEX(Přehled_body!$E$3:$ED$130,MATCH(Tabulka!$AI74,Přehled_body!$A$3:$A$130,0),MATCH(Tabulka!S$2,Přehled_body!$E$1:$ED$1,0)),)))","v":0},{"$f":"IF(IFERROR(INDEX(Přehled_body!$E$3:$ED$130,MATCH(Tabulka!$AI74,Přehled_body!$A$3:$A$130,0),MATCH(Tabulka!T$2,Přehled_body!$E$1:$ED$1,0)),)=\"\",,IF(IFERROR(INDEX(Přehled_body!$E$3:$ED$130,MATCH(Tabulka!$AI74,Přehled_body!$A$3:$A$130,0),MATCH(Tabulka!T$2,Přehled_body!$E$1:$ED$1,0)),)=0,0.00000000001,IFERROR(INDEX(Přehled_body!$E$3:$ED$130,MATCH(Tabulka!$AI74,Přehled_body!$A$3:$A$130,0),MATCH(Tabulka!T$2,Přehled_body!$E$1:$ED$1,0)),)))","v":0},{"$f":"IF(IFERROR(INDEX(Přehled_body!$E$3:$ED$130,MATCH(Tabulka!$AI74,Přehled_body!$A$3:$A$130,0),MATCH(Tabulka!U$2,Přehled_body!$E$1:$ED$1,0)),)=\"\",,IF(IFERROR(INDEX(Přehled_body!$E$3:$ED$130,MATCH(Tabulka!$AI74,Přehled_body!$A$3:$A$130,0),MATCH(Tabulka!U$2,Přehled_body!$E$1:$ED$1,0)),)=0,0.00000000001,IFERROR(INDEX(Přehled_body!$E$3:$ED$130,MATCH(Tabulka!$AI74,Přehled_body!$A$3:$A$130,0),MATCH(Tabulka!U$2,Přehled_body!$E$1:$ED$1,0)),)))","v":0},{"$f":"IF(IFERROR(INDEX(Přehled_body!$E$3:$ED$130,MATCH(Tabulka!$AI74,Přehled_body!$A$3:$A$130,0),MATCH(Tabulka!V$2,Přehled_body!$E$1:$ED$1,0)),)=\"\",,IF(IFERROR(INDEX(Přehled_body!$E$3:$ED$130,MATCH(Tabulka!$AI74,Přehled_body!$A$3:$A$130,0),MATCH(Tabulka!V$2,Přehled_body!$E$1:$ED$1,0)),)=0,0.00000000001,IFERROR(INDEX(Přehled_body!$E$3:$ED$130,MATCH(Tabulka!$AI74,Přehled_body!$A$3:$A$130,0),MATCH(Tabulka!V$2,Přehled_body!$E$1:$ED$1,0)),)))","v":0},{"$f":"IF(IFERROR(INDEX(Přehled_body!$E$3:$ED$130,MATCH(Tabulka!$AI74,Přehled_body!$A$3:$A$130,0),MATCH(Tabulka!W$2,Přehled_body!$E$1:$ED$1,0)),)=\"\",,IF(IFERROR(INDEX(Přehled_body!$E$3:$ED$130,MATCH(Tabulka!$AI74,Přehled_body!$A$3:$A$130,0),MATCH(Tabulka!W$2,Přehled_body!$E$1:$ED$1,0)),)=0,0.00000000001,IFERROR(INDEX(Přehled_body!$E$3:$ED$130,MATCH(Tabulka!$AI74,Přehled_body!$A$3:$A$130,0),MATCH(Tabulka!W$2,Přehled_body!$E$1:$ED$1,0)),)))","v":0},{"$f":"IF(IFERROR(INDEX(Přehled_body!$E$3:$ED$130,MATCH(Tabulka!$AI74,Přehled_body!$A$3:$A$130,0),MATCH(Tabulka!X$2,Přehled_body!$E$1:$ED$1,0)),)=\"\",,IF(IFERROR(INDEX(Přehled_body!$E$3:$ED$130,MATCH(Tabulka!$AI74,Přehled_body!$A$3:$A$130,0),MATCH(Tabulka!X$2,Přehled_body!$E$1:$ED$1,0)),)=0,0.00000000001,IFERROR(INDEX(Přehled_body!$E$3:$ED$130,MATCH(Tabulka!$AI74,Přehled_body!$A$3:$A$130,0),MATCH(Tabulka!X$2,Přehled_body!$E$1:$ED$1,0)),)))","v":0},{"$f":"IF(IFERROR(INDEX(Přehled_body!$E$3:$ED$130,MATCH(Tabulka!$AI74,Přehled_body!$A$3:$A$130,0),MATCH(Tabulka!Y$2,Přehled_body!$E$1:$ED$1,0)),)=\"\",,IF(IFERROR(INDEX(Přehled_body!$E$3:$ED$130,MATCH(Tabulka!$AI74,Přehled_body!$A$3:$A$130,0),MATCH(Tabulka!Y$2,Přehled_body!$E$1:$ED$1,0)),)=0,0.00000000001,IFERROR(INDEX(Přehled_body!$E$3:$ED$130,MATCH(Tabulka!$AI74,Přehled_body!$A$3:$A$130,0),MATCH(Tabulka!Y$2,Přehled_body!$E$1:$ED$1,0)),)))","v":0},{"$f":"IF(IFERROR(INDEX(Přehled_body!$E$3:$ED$130,MATCH(Tabulka!$AI74,Přehled_body!$A$3:$A$130,0),MATCH(Tabulka!Z$2,Přehled_body!$E$1:$ED$1,0)),)=\"\",,IF(IFERROR(INDEX(Přehled_body!$E$3:$ED$130,MATCH(Tabulka!$AI74,Přehled_body!$A$3:$A$130,0),MATCH(Tabulka!Z$2,Přehled_body!$E$1:$ED$1,0)),)=0,0.00000000001,IFERROR(INDEX(Přehled_body!$E$3:$ED$130,MATCH(Tabulka!$AI74,Přehled_body!$A$3:$A$130,0),MATCH(Tabulka!Z$2,Přehled_body!$E$1:$ED$1,0)),)))","v":0},{"$f":"IF(IFERROR(INDEX(Přehled_body!$E$3:$ED$130,MATCH(Tabulka!$AI74,Přehled_body!$A$3:$A$130,0),MATCH(Tabulka!AA$2,Přehled_body!$E$1:$ED$1,0)),)=\"\",,IF(IFERROR(INDEX(Přehled_body!$E$3:$ED$130,MATCH(Tabulka!$AI74,Přehled_body!$A$3:$A$130,0),MATCH(Tabulka!AA$2,Přehled_body!$E$1:$ED$1,0)),)=0,0.00000000001,IFERROR(INDEX(Přehled_body!$E$3:$ED$130,MATCH(Tabulka!$AI74,Přehled_body!$A$3:$A$130,0),MATCH(Tabulka!AA$2,Přehled_body!$E$1:$ED$1,0)),)))","v":0},{"$f":"IF(IFERROR(INDEX(Přehled_body!$E$3:$ED$130,MATCH(Tabulka!$AI74,Přehled_body!$A$3:$A$130,0),MATCH(Tabulka!AB$2,Přehled_body!$E$1:$ED$1,0)),)=\"\",,IF(IFERROR(INDEX(Přehled_body!$E$3:$ED$130,MATCH(Tabulka!$AI74,Přehled_body!$A$3:$A$130,0),MATCH(Tabulka!AB$2,Přehled_body!$E$1:$ED$1,0)),)=0,0.00000000001,IFERROR(INDEX(Přehled_body!$E$3:$ED$130,MATCH(Tabulka!$AI74,Přehled_body!$A$3:$A$130,0),MATCH(Tabulka!AB$2,Přehled_body!$E$1:$ED$1,0)),)))","v":0},{"$f":"IF(IFERROR(INDEX(Přehled_body!$E$3:$ED$130,MATCH(Tabulka!$AI74,Přehled_body!$A$3:$A$130,0),MATCH(Tabulka!AC$2,Přehled_body!$E$1:$ED$1,0)),)=\"\",,IF(IFERROR(INDEX(Přehled_body!$E$3:$ED$130,MATCH(Tabulka!$AI74,Přehled_body!$A$3:$A$130,0),MATCH(Tabulka!AC$2,Přehled_body!$E$1:$ED$1,0)),)=0,0.00000000001,IFERROR(INDEX(Přehled_body!$E$3:$ED$130,MATCH(Tabulka!$AI74,Přehled_body!$A$3:$A$130,0),MATCH(Tabulka!AC$2,Přehled_body!$E$1:$ED$1,0)),)))","v":0},{"$f":"IF(IFERROR(INDEX(Přehled_body!$E$3:$ED$130,MATCH(Tabulka!$AI74,Přehled_body!$A$3:$A$130,0),MATCH(Tabulka!AD$2,Přehled_body!$E$1:$ED$1,0)),)=\"\",,IF(IFERROR(INDEX(Přehled_body!$E$3:$ED$130,MATCH(Tabulka!$AI74,Přehled_body!$A$3:$A$130,0),MATCH(Tabulka!AD$2,Přehled_body!$E$1:$ED$1,0)),)=0,0.00000000001,IFERROR(INDEX(Přehled_body!$E$3:$ED$130,MATCH(Tabulka!$AI74,Přehled_body!$A$3:$A$130,0),MATCH(Tabulka!AD$2,Přehled_body!$E$1:$ED$1,0)),)))","v":0},{"$f":"IF(SUM(AG74)<2,-90000+SUM(D74:AD74),SUM(D74:AD74))","v":-89999},null,{"$f":"COUNTIF(D74:AD74,\">0\")","v":1},1,{"$f":"CONCATENATE($B$75,\" \",$B$76,C74)","v":"Zdenek KanaďanVýhry"},null,null,1]
[{"$f":"CONCATENATE(B75,\" \",B76)","v":"Zdenek Kanaďan"},"Zdenek","Prohry",{"$f":"IF(IFERROR(INDEX(Přehled_body!$E$3:$ED$130,MATCH(Tabulka!$AI75,Přehled_body!$A$3:$A$130,0),MATCH(Tabulka!D$2,Přehled_body!$E$1:$ED$1,0)),)=\"\",,IF(IFERROR(INDEX(Přehled_body!$E$3:$ED$130,MATCH(Tabulka!$AI75,Přehled_body!$A$3:$A$130,0),MATCH(Tabulka!D$2,Přehled_body!$E$1:$ED$1,0)),)=0,0.00000000001,IFERROR(INDEX(Přehled_body!$E$3:$ED$130,MATCH(Tabulka!$AI75,Přehled_body!$A$3:$A$130,0),MATCH(Tabulka!D$2,Přehled_body!$E$1:$ED$1,0)),)))","v":0},{"$f":"IF(IFERROR(INDEX(Přehled_body!$E$3:$ED$130,MATCH(Tabulka!$AI75,Přehled_body!$A$3:$A$130,0),MATCH(Tabulka!E$2,Přehled_body!$E$1:$ED$1,0)),)=\"\",,IF(IFERROR(INDEX(Přehled_body!$E$3:$ED$130,MATCH(Tabulka!$AI75,Přehled_body!$A$3:$A$130,0),MATCH(Tabulka!E$2,Přehled_body!$E$1:$ED$1,0)),)=0,0.00000000001,IFERROR(INDEX(Přehled_body!$E$3:$ED$130,MATCH(Tabulka!$AI75,Přehled_body!$A$3:$A$130,0),MATCH(Tabulka!E$2,Přehled_body!$E$1:$ED$1,0)),)))","v":0},{"$f":"IF(IFERROR(INDEX(Přehled_body!$E$3:$ED$130,MATCH(Tabulka!$AI75,Přehled_body!$A$3:$A$130,0),MATCH(Tabulka!F$2,Přehled_body!$E$1:$ED$1,0)),)=\"\",,IF(IFERROR(INDEX(Přehled_body!$E$3:$ED$130,MATCH(Tabulka!$AI75,Přehled_body!$A$3:$A$130,0),MATCH(Tabulka!F$2,Přehled_body!$E$1:$ED$1,0)),)=0,0.00000000001,IFERROR(INDEX(Přehled_body!$E$3:$ED$130,MATCH(Tabulka!$AI75,Přehled_body!$A$3:$A$130,0),MATCH(Tabulka!F$2,Přehled_body!$E$1:$ED$1,0)),)))","v":0},{"$f":"IF(IFERROR(INDEX(Přehled_body!$E$3:$ED$130,MATCH(Tabulka!$AI75,Přehled_body!$A$3:$A$130,0),MATCH(Tabulka!G$2,Přehled_body!$E$1:$ED$1,0)),)=\"\",,IF(IFERROR(INDEX(Přehled_body!$E$3:$ED$130,MATCH(Tabulka!$AI75,Přehled_body!$A$3:$A$130,0),MATCH(Tabulka!G$2,Přehled_body!$E$1:$ED$1,0)),)=0,0.00000000001,IFERROR(INDEX(Přehled_body!$E$3:$ED$130,MATCH(Tabulka!$AI75,Přehled_body!$A$3:$A$130,0),MATCH(Tabulka!G$2,Přehled_body!$E$1:$ED$1,0)),)))","v":0},{"$f":"IF(IFERROR(INDEX(Přehled_body!$E$3:$ED$130,MATCH(Tabulka!$AI75,Přehled_body!$A$3:$A$130,0),MATCH(Tabulka!H$2,Přehled_body!$E$1:$ED$1,0)),)=\"\",,IF(IFERROR(INDEX(Přehled_body!$E$3:$ED$130,MATCH(Tabulka!$AI75,Přehled_body!$A$3:$A$130,0),MATCH(Tabulka!H$2,Přehled_body!$E$1:$ED$1,0)),)=0,0.00000000001,IFERROR(INDEX(Přehled_body!$E$3:$ED$130,MATCH(Tabulka!$AI75,Přehled_body!$A$3:$A$130,0),MATCH(Tabulka!H$2,Přehled_body!$E$1:$ED$1,0)),)))","v":0},{"$f":"IF(IFERROR(INDEX(Přehled_body!$E$3:$ED$130,MATCH(Tabulka!$AI75,Přehled_body!$A$3:$A$130,0),MATCH(Tabulka!I$2,Přehled_body!$E$1:$ED$1,0)),)=\"\",,IF(IFERROR(INDEX(Přehled_body!$E$3:$ED$130,MATCH(Tabulka!$AI75,Přehled_body!$A$3:$A$130,0),MATCH(Tabulka!I$2,Přehled_body!$E$1:$ED$1,0)),)=0,0.00000000001,IFERROR(INDEX(Přehled_body!$E$3:$ED$130,MATCH(Tabulka!$AI75,Přehled_body!$A$3:$A$130,0),MATCH(Tabulka!I$2,Přehled_body!$E$1:$ED$1,0)),)))","v":0},{"$f":"IF(IFERROR(INDEX(Přehled_body!$E$3:$ED$130,MATCH(Tabulka!$AI75,Přehled_body!$A$3:$A$130,0),MATCH(Tabulka!J$2,Přehled_body!$E$1:$ED$1,0)),)=\"\",,IF(IFERROR(INDEX(Přehled_body!$E$3:$ED$130,MATCH(Tabulka!$AI75,Přehled_body!$A$3:$A$130,0),MATCH(Tabulka!J$2,Přehled_body!$E$1:$ED$1,0)),)=0,0.00000000001,IFERROR(INDEX(Přehled_body!$E$3:$ED$130,MATCH(Tabulka!$AI75,Přehled_body!$A$3:$A$130,0),MATCH(Tabulka!J$2,Přehled_body!$E$1:$ED$1,0)),)))","v":0},{"$f":"IF(IFERROR(INDEX(Přehled_body!$E$3:$ED$130,MATCH(Tabulka!$AI75,Přehled_body!$A$3:$A$130,0),MATCH(Tabulka!K$2,Přehled_body!$E$1:$ED$1,0)),)=\"\",,IF(IFERROR(INDEX(Přehled_body!$E$3:$ED$130,MATCH(Tabulka!$AI75,Přehled_body!$A$3:$A$130,0),MATCH(Tabulka!K$2,Přehled_body!$E$1:$ED$1,0)),)=0,0.00000000001,IFERROR(INDEX(Přehled_body!$E$3:$ED$130,MATCH(Tabulka!$AI75,Přehled_body!$A$3:$A$130,0),MATCH(Tabulka!K$2,Přehled_body!$E$1:$ED$1,0)),)))","v":0},{"$f":"IF(IFERROR(INDEX(Přehled_body!$E$3:$ED$130,MATCH(Tabulka!$AI75,Přehled_body!$A$3:$A$130,0),MATCH(Tabulka!L$2,Přehled_body!$E$1:$ED$1,0)),)=\"\",,IF(IFERROR(INDEX(Přehled_body!$E$3:$ED$130,MATCH(Tabulka!$AI75,Přehled_body!$A$3:$A$130,0),MATCH(Tabulka!L$2,Přehled_body!$E$1:$ED$1,0)),)=0,0.00000000001,IFERROR(INDEX(Přehled_body!$E$3:$ED$130,MATCH(Tabulka!$AI75,Přehled_body!$A$3:$A$130,0),MATCH(Tabulka!L$2,Přehled_body!$E$1:$ED$1,0)),)))","v":0},{"$f":"IF(IFERROR(INDEX(Přehled_body!$E$3:$ED$130,MATCH(Tabulka!$AI75,Přehled_body!$A$3:$A$130,0),MATCH(Tabulka!M$2,Přehled_body!$E$1:$ED$1,0)),)=\"\",,IF(IFERROR(INDEX(Přehled_body!$E$3:$ED$130,MATCH(Tabulka!$AI75,Přehled_body!$A$3:$A$130,0),MATCH(Tabulka!M$2,Přehled_body!$E$1:$ED$1,0)),)=0,0.00000000001,IFERROR(INDEX(Přehled_body!$E$3:$ED$130,MATCH(Tabulka!$AI75,Přehled_body!$A$3:$A$130,0),MATCH(Tabulka!M$2,Přehled_body!$E$1:$ED$1,0)),)))","v":0},{"$f":"IF(IFERROR(INDEX(Přehled_body!$E$3:$ED$130,MATCH(Tabulka!$AI75,Přehled_body!$A$3:$A$130,0),MATCH(Tabulka!N$2,Přehled_body!$E$1:$ED$1,0)),)=\"\",,IF(IFERROR(INDEX(Přehled_body!$E$3:$ED$130,MATCH(Tabulka!$AI75,Přehled_body!$A$3:$A$130,0),MATCH(Tabulka!N$2,Přehled_body!$E$1:$ED$1,0)),)=0,0.00000000001,IFERROR(INDEX(Přehled_body!$E$3:$ED$130,MATCH(Tabulka!$AI75,Přehled_body!$A$3:$A$130,0),MATCH(Tabulka!N$2,Přehled_body!$E$1:$ED$1,0)),)))","v":0},{"$f":"IF(IFERROR(INDEX(Přehled_body!$E$3:$ED$130,MATCH(Tabulka!$AI75,Přehled_body!$A$3:$A$130,0),MATCH(Tabulka!O$2,Přehled_body!$E$1:$ED$1,0)),)=\"\",,IF(IFERROR(INDEX(Přehled_body!$E$3:$ED$130,MATCH(Tabulka!$AI75,Přehled_body!$A$3:$A$130,0),MATCH(Tabulka!O$2,Přehled_body!$E$1:$ED$1,0)),)=0,0.00000000001,IFERROR(INDEX(Přehled_body!$E$3:$ED$130,MATCH(Tabulka!$AI75,Přehled_body!$A$3:$A$130,0),MATCH(Tabulka!O$2,Přehled_body!$E$1:$ED$1,0)),)))","v":0},{"$f":"IF(IFERROR(INDEX(Přehled_body!$E$3:$ED$130,MATCH(Tabulka!$AI75,Přehled_body!$A$3:$A$130,0),MATCH(Tabulka!P$2,Přehled_body!$E$1:$ED$1,0)),)=\"\",,IF(IFERROR(INDEX(Přehled_body!$E$3:$ED$130,MATCH(Tabulka!$AI75,Přehled_body!$A$3:$A$130,0),MATCH(Tabulka!P$2,Přehled_body!$E$1:$ED$1,0)),)=0,0.00000000001,IFERROR(INDEX(Přehled_body!$E$3:$ED$130,MATCH(Tabulka!$AI75,Přehled_body!$A$3:$A$130,0),MATCH(Tabulka!P$2,Přehled_body!$E$1:$ED$1,0)),)))","v":0},{"$f":"IF(IFERROR(INDEX(Přehled_body!$E$3:$ED$130,MATCH(Tabulka!$AI75,Přehled_body!$A$3:$A$130,0),MATCH(Tabulka!Q$2,Přehled_body!$E$1:$ED$1,0)),)=\"\",,IF(IFERROR(INDEX(Přehled_body!$E$3:$ED$130,MATCH(Tabulka!$AI75,Přehled_body!$A$3:$A$130,0),MATCH(Tabulka!Q$2,Přehled_body!$E$1:$ED$1,0)),)=0,0.00000000001,IFERROR(INDEX(Přehled_body!$E$3:$ED$130,MATCH(Tabulka!$AI75,Přehled_body!$A$3:$A$130,0),MATCH(Tabulka!Q$2,Přehled_body!$E$1:$ED$1,0)),)))","v":1},{"$f":"IF(IFERROR(INDEX(Přehled_body!$E$3:$ED$130,MATCH(Tabulka!$AI75,Přehled_body!$A$3:$A$130,0),MATCH(Tabulka!R$2,Přehled_body!$E$1:$ED$1,0)),)=\"\",,IF(IFERROR(INDEX(Přehled_body!$E$3:$ED$130,MATCH(Tabulka!$AI75,Přehled_body!$A$3:$A$130,0),MATCH(Tabulka!R$2,Přehled_body!$E$1:$ED$1,0)),)=0,0.00000000001,IFERROR(INDEX(Přehled_body!$E$3:$ED$130,MATCH(Tabulka!$AI75,Přehled_body!$A$3:$A$130,0),MATCH(Tabulka!R$2,Přehled_body!$E$1:$ED$1,0)),)))","v":0},{"$f":"IF(IFERROR(INDEX(Přehled_body!$E$3:$ED$130,MATCH(Tabulka!$AI75,Přehled_body!$A$3:$A$130,0),MATCH(Tabulka!S$2,Přehled_body!$E$1:$ED$1,0)),)=\"\",,IF(IFERROR(INDEX(Přehled_body!$E$3:$ED$130,MATCH(Tabulka!$AI75,Přehled_body!$A$3:$A$130,0),MATCH(Tabulka!S$2,Přehled_body!$E$1:$ED$1,0)),)=0,0.00000000001,IFERROR(INDEX(Přehled_body!$E$3:$ED$130,MATCH(Tabulka!$AI75,Přehled_body!$A$3:$A$130,0),MATCH(Tabulka!S$2,Přehled_body!$E$1:$ED$1,0)),)))","v":0},{"$f":"IF(IFERROR(INDEX(Přehled_body!$E$3:$ED$130,MATCH(Tabulka!$AI75,Přehled_body!$A$3:$A$130,0),MATCH(Tabulka!T$2,Přehled_body!$E$1:$ED$1,0)),)=\"\",,IF(IFERROR(INDEX(Přehled_body!$E$3:$ED$130,MATCH(Tabulka!$AI75,Přehled_body!$A$3:$A$130,0),MATCH(Tabulka!T$2,Přehled_body!$E$1:$ED$1,0)),)=0,0.00000000001,IFERROR(INDEX(Přehled_body!$E$3:$ED$130,MATCH(Tabulka!$AI75,Přehled_body!$A$3:$A$130,0),MATCH(Tabulka!T$2,Přehled_body!$E$1:$ED$1,0)),)))","v":0},{"$f":"IF(IFERROR(INDEX(Přehled_body!$E$3:$ED$130,MATCH(Tabulka!$AI75,Přehled_body!$A$3:$A$130,0),MATCH(Tabulka!U$2,Přehled_body!$E$1:$ED$1,0)),)=\"\",,IF(IFERROR(INDEX(Přehled_body!$E$3:$ED$130,MATCH(Tabulka!$AI75,Přehled_body!$A$3:$A$130,0),MATCH(Tabulka!U$2,Přehled_body!$E$1:$ED$1,0)),)=0,0.00000000001,IFERROR(INDEX(Přehled_body!$E$3:$ED$130,MATCH(Tabulka!$AI75,Přehled_body!$A$3:$A$130,0),MATCH(Tabulka!U$2,Přehled_body!$E$1:$ED$1,0)),)))","v":0},{"$f":"IF(IFERROR(INDEX(Přehled_body!$E$3:$ED$130,MATCH(Tabulka!$AI75,Přehled_body!$A$3:$A$130,0),MATCH(Tabulka!V$2,Přehled_body!$E$1:$ED$1,0)),)=\"\",,IF(IFERROR(INDEX(Přehled_body!$E$3:$ED$130,MATCH(Tabulka!$AI75,Přehled_body!$A$3:$A$130,0),MATCH(Tabulka!V$2,Přehled_body!$E$1:$ED$1,0)),)=0,0.00000000001,IFERROR(INDEX(Přehled_body!$E$3:$ED$130,MATCH(Tabulka!$AI75,Přehled_body!$A$3:$A$130,0),MATCH(Tabulka!V$2,Přehled_body!$E$1:$ED$1,0)),)))","v":0},{"$f":"IF(IFERROR(INDEX(Přehled_body!$E$3:$ED$130,MATCH(Tabulka!$AI75,Přehled_body!$A$3:$A$130,0),MATCH(Tabulka!W$2,Přehled_body!$E$1:$ED$1,0)),)=\"\",,IF(IFERROR(INDEX(Přehled_body!$E$3:$ED$130,MATCH(Tabulka!$AI75,Přehled_body!$A$3:$A$130,0),MATCH(Tabulka!W$2,Přehled_body!$E$1:$ED$1,0)),)=0,0.00000000001,IFERROR(INDEX(Přehled_body!$E$3:$ED$130,MATCH(Tabulka!$AI75,Přehled_body!$A$3:$A$130,0),MATCH(Tabulka!W$2,Přehled_body!$E$1:$ED$1,0)),)))","v":0},{"$f":"IF(IFERROR(INDEX(Přehled_body!$E$3:$ED$130,MATCH(Tabulka!$AI75,Přehled_body!$A$3:$A$130,0),MATCH(Tabulka!X$2,Přehled_body!$E$1:$ED$1,0)),)=\"\",,IF(IFERROR(INDEX(Přehled_body!$E$3:$ED$130,MATCH(Tabulka!$AI75,Přehled_body!$A$3:$A$130,0),MATCH(Tabulka!X$2,Přehled_body!$E$1:$ED$1,0)),)=0,0.00000000001,IFERROR(INDEX(Přehled_body!$E$3:$ED$130,MATCH(Tabulka!$AI75,Přehled_body!$A$3:$A$130,0),MATCH(Tabulka!X$2,Přehled_body!$E$1:$ED$1,0)),)))","v":0},{"$f":"IF(IFERROR(INDEX(Přehled_body!$E$3:$ED$130,MATCH(Tabulka!$AI75,Přehled_body!$A$3:$A$130,0),MATCH(Tabulka!Y$2,Přehled_body!$E$1:$ED$1,0)),)=\"\",,IF(IFERROR(INDEX(Přehled_body!$E$3:$ED$130,MATCH(Tabulka!$AI75,Přehled_body!$A$3:$A$130,0),MATCH(Tabulka!Y$2,Přehled_body!$E$1:$ED$1,0)),)=0,0.00000000001,IFERROR(INDEX(Přehled_body!$E$3:$ED$130,MATCH(Tabulka!$AI75,Přehled_body!$A$3:$A$130,0),MATCH(Tabulka!Y$2,Přehled_body!$E$1:$ED$1,0)),)))","v":0},{"$f":"IF(IFERROR(INDEX(Přehled_body!$E$3:$ED$130,MATCH(Tabulka!$AI75,Přehled_body!$A$3:$A$130,0),MATCH(Tabulka!Z$2,Přehled_body!$E$1:$ED$1,0)),)=\"\",,IF(IFERROR(INDEX(Přehled_body!$E$3:$ED$130,MATCH(Tabulka!$AI75,Přehled_body!$A$3:$A$130,0),MATCH(Tabulka!Z$2,Přehled_body!$E$1:$ED$1,0)),)=0,0.00000000001,IFERROR(INDEX(Přehled_body!$E$3:$ED$130,MATCH(Tabulka!$AI75,Přehled_body!$A$3:$A$130,0),MATCH(Tabulka!Z$2,Přehled_body!$E$1:$ED$1,0)),)))","v":0},{"$f":"IF(IFERROR(INDEX(Přehled_body!$E$3:$ED$130,MATCH(Tabulka!$AI75,Přehled_body!$A$3:$A$130,0),MATCH(Tabulka!AA$2,Přehled_body!$E$1:$ED$1,0)),)=\"\",,IF(IFERROR(INDEX(Přehled_body!$E$3:$ED$130,MATCH(Tabulka!$AI75,Přehled_body!$A$3:$A$130,0),MATCH(Tabulka!AA$2,Přehled_body!$E$1:$ED$1,0)),)=0,0.00000000001,IFERROR(INDEX(Přehled_body!$E$3:$ED$130,MATCH(Tabulka!$AI75,Přehled_body!$A$3:$A$130,0),MATCH(Tabulka!AA$2,Přehled_body!$E$1:$ED$1,0)),)))","v":0},{"$f":"IF(IFERROR(INDEX(Přehled_body!$E$3:$ED$130,MATCH(Tabulka!$AI75,Přehled_body!$A$3:$A$130,0),MATCH(Tabulka!AB$2,Přehled_body!$E$1:$ED$1,0)),)=\"\",,IF(IFERROR(INDEX(Přehled_body!$E$3:$ED$130,MATCH(Tabulka!$AI75,Přehled_body!$A$3:$A$130,0),MATCH(Tabulka!AB$2,Přehled_body!$E$1:$ED$1,0)),)=0,0.00000000001,IFERROR(INDEX(Přehled_body!$E$3:$ED$130,MATCH(Tabulka!$AI75,Přehled_body!$A$3:$A$130,0),MATCH(Tabulka!AB$2,Přehled_body!$E$1:$ED$1,0)),)))","v":0},{"$f":"IF(IFERROR(INDEX(Přehled_body!$E$3:$ED$130,MATCH(Tabulka!$AI75,Přehled_body!$A$3:$A$130,0),MATCH(Tabulka!AC$2,Přehled_body!$E$1:$ED$1,0)),)=\"\",,IF(IFERROR(INDEX(Přehled_body!$E$3:$ED$130,MATCH(Tabulka!$AI75,Přehled_body!$A$3:$A$130,0),MATCH(Tabulka!AC$2,Přehled_body!$E$1:$ED$1,0)),)=0,0.00000000001,IFERROR(INDEX(Přehled_body!$E$3:$ED$130,MATCH(Tabulka!$AI75,Přehled_body!$A$3:$A$130,0),MATCH(Tabulka!AC$2,Přehled_body!$E$1:$ED$1,0)),)))","v":0},{"$f":"IF(IFERROR(INDEX(Přehled_body!$E$3:$ED$130,MATCH(Tabulka!$AI75,Přehled_body!$A$3:$A$130,0),MATCH(Tabulka!AD$2,Přehled_body!$E$1:$ED$1,0)),)=\"\",,IF(IFERROR(INDEX(Přehled_body!$E$3:$ED$130,MATCH(Tabulka!$AI75,Přehled_body!$A$3:$A$130,0),MATCH(Tabulka!AD$2,Přehled_body!$E$1:$ED$1,0)),)=0,0.00000000001,IFERROR(INDEX(Přehled_body!$E$3:$ED$130,MATCH(Tabulka!$AI75,Přehled_body!$A$3:$A$130,0),MATCH(Tabulka!AD$2,Přehled_body!$E$1:$ED$1,0)),)))","v":0},{"$f":"IF(SUM(AG74)<2,-90000+SUM(D75:AD75),SUM(D75:AD75))","v":-89999},{"$f":"SUM(AE74-AE75)","v":0},null,1,{"$f":"CONCATENATE($B$75,\" \",$B$76,C75)","v":"Zdenek KanaďanProhry"},null,null,1,null,null,"Zdenek",15]
[{"$f":"CONCATENATE(B76,\" \",B75)","v":"Kanaďan Zdenek"},"Kanaďan","Placeno panáků",{"$f":"IF(IFERROR(INDEX(Přehled_body!$E$3:$ED$130,MATCH(Tabulka!$AI76,Přehled_body!$A$3:$A$130,0),MATCH(Tabulka!D$2,Přehled_body!$E$1:$ED$1,0)),)=\"\",,IF(IFERROR(INDEX(Přehled_body!$E$3:$ED$130,MATCH(Tabulka!$AI76,Přehled_body!$A$3:$A$130,0),MATCH(Tabulka!D$2,Přehled_body!$E$1:$ED$1,0)),)=0,0.00000000001,IFERROR(INDEX(Přehled_body!$E$3:$ED$130,MATCH(Tabulka!$AI76,Přehled_body!$A$3:$A$130,0),MATCH(Tabulka!D$2,Přehled_body!$E$1:$ED$1,0)),)))","v":0},{"$f":"IF(IFERROR(INDEX(Přehled_body!$E$3:$ED$130,MATCH(Tabulka!$AI76,Přehled_body!$A$3:$A$130,0),MATCH(Tabulka!E$2,Přehled_body!$E$1:$ED$1,0)),)=\"\",,IF(IFERROR(INDEX(Přehled_body!$E$3:$ED$130,MATCH(Tabulka!$AI76,Přehled_body!$A$3:$A$130,0),MATCH(Tabulka!E$2,Přehled_body!$E$1:$ED$1,0)),)=0,0.00000000001,IFERROR(INDEX(Přehled_body!$E$3:$ED$130,MATCH(Tabulka!$AI76,Přehled_body!$A$3:$A$130,0),MATCH(Tabulka!E$2,Přehled_body!$E$1:$ED$1,0)),)))","v":0},{"$f":"IF(IFERROR(INDEX(Přehled_body!$E$3:$ED$130,MATCH(Tabulka!$AI76,Přehled_body!$A$3:$A$130,0),MATCH(Tabulka!F$2,Přehled_body!$E$1:$ED$1,0)),)=\"\",,IF(IFERROR(INDEX(Přehled_body!$E$3:$ED$130,MATCH(Tabulka!$AI76,Přehled_body!$A$3:$A$130,0),MATCH(Tabulka!F$2,Přehled_body!$E$1:$ED$1,0)),)=0,0.00000000001,IFERROR(INDEX(Přehled_body!$E$3:$ED$130,MATCH(Tabulka!$AI76,Přehled_body!$A$3:$A$130,0),MATCH(Tabulka!F$2,Přehled_body!$E$1:$ED$1,0)),)))","v":0},{"$f":"IF(IFERROR(INDEX(Přehled_body!$E$3:$ED$130,MATCH(Tabulka!$AI76,Přehled_body!$A$3:$A$130,0),MATCH(Tabulka!G$2,Přehled_body!$E$1:$ED$1,0)),)=\"\",,IF(IFERROR(INDEX(Přehled_body!$E$3:$ED$130,MATCH(Tabulka!$AI76,Přehled_body!$A$3:$A$130,0),MATCH(Tabulka!G$2,Přehled_body!$E$1:$ED$1,0)),)=0,0.00000000001,IFERROR(INDEX(Přehled_body!$E$3:$ED$130,MATCH(Tabulka!$AI76,Přehled_body!$A$3:$A$130,0),MATCH(Tabulka!G$2,Přehled_body!$E$1:$ED$1,0)),)))","v":0},{"$f":"IF(IFERROR(INDEX(Přehled_body!$E$3:$ED$130,MATCH(Tabulka!$AI76,Přehled_body!$A$3:$A$130,0),MATCH(Tabulka!H$2,Přehled_body!$E$1:$ED$1,0)),)=\"\",,IF(IFERROR(INDEX(Přehled_body!$E$3:$ED$130,MATCH(Tabulka!$AI76,Přehled_body!$A$3:$A$130,0),MATCH(Tabulka!H$2,Přehled_body!$E$1:$ED$1,0)),)=0,0.00000000001,IFERROR(INDEX(Přehled_body!$E$3:$ED$130,MATCH(Tabulka!$AI76,Přehled_body!$A$3:$A$130,0),MATCH(Tabulka!H$2,Přehled_body!$E$1:$ED$1,0)),)))","v":0},{"$f":"IF(IFERROR(INDEX(Přehled_body!$E$3:$ED$130,MATCH(Tabulka!$AI76,Přehled_body!$A$3:$A$130,0),MATCH(Tabulka!I$2,Přehled_body!$E$1:$ED$1,0)),)=\"\",,IF(IFERROR(INDEX(Přehled_body!$E$3:$ED$130,MATCH(Tabulka!$AI76,Přehled_body!$A$3:$A$130,0),MATCH(Tabulka!I$2,Přehled_body!$E$1:$ED$1,0)),)=0,0.00000000001,IFERROR(INDEX(Přehled_body!$E$3:$ED$130,MATCH(Tabulka!$AI76,Přehled_body!$A$3:$A$130,0),MATCH(Tabulka!I$2,Přehled_body!$E$1:$ED$1,0)),)))","v":0},{"$f":"IF(IFERROR(INDEX(Přehled_body!$E$3:$ED$130,MATCH(Tabulka!$AI76,Přehled_body!$A$3:$A$130,0),MATCH(Tabulka!J$2,Přehled_body!$E$1:$ED$1,0)),)=\"\",,IF(IFERROR(INDEX(Přehled_body!$E$3:$ED$130,MATCH(Tabulka!$AI76,Přehled_body!$A$3:$A$130,0),MATCH(Tabulka!J$2,Přehled_body!$E$1:$ED$1,0)),)=0,0.00000000001,IFERROR(INDEX(Přehled_body!$E$3:$ED$130,MATCH(Tabulka!$AI76,Přehled_body!$A$3:$A$130,0),MATCH(Tabulka!J$2,Přehled_body!$E$1:$ED$1,0)),)))","v":0},{"$f":"IF(IFERROR(INDEX(Přehled_body!$E$3:$ED$130,MATCH(Tabulka!$AI76,Přehled_body!$A$3:$A$130,0),MATCH(Tabulka!K$2,Přehled_body!$E$1:$ED$1,0)),)=\"\",,IF(IFERROR(INDEX(Přehled_body!$E$3:$ED$130,MATCH(Tabulka!$AI76,Přehled_body!$A$3:$A$130,0),MATCH(Tabulka!K$2,Přehled_body!$E$1:$ED$1,0)),)=0,0.00000000001,IFERROR(INDEX(Přehled_body!$E$3:$ED$130,MATCH(Tabulka!$AI76,Přehled_body!$A$3:$A$130,0),MATCH(Tabulka!K$2,Přehled_body!$E$1:$ED$1,0)),)))","v":0},{"$f":"IF(IFERROR(INDEX(Přehled_body!$E$3:$ED$130,MATCH(Tabulka!$AI76,Přehled_body!$A$3:$A$130,0),MATCH(Tabulka!L$2,Přehled_body!$E$1:$ED$1,0)),)=\"\",,IF(IFERROR(INDEX(Přehled_body!$E$3:$ED$130,MATCH(Tabulka!$AI76,Přehled_body!$A$3:$A$130,0),MATCH(Tabulka!L$2,Přehled_body!$E$1:$ED$1,0)),)=0,0.00000000001,IFERROR(INDEX(Přehled_body!$E$3:$ED$130,MATCH(Tabulka!$AI76,Přehled_body!$A$3:$A$130,0),MATCH(Tabulka!L$2,Přehled_body!$E$1:$ED$1,0)),)))","v":0},{"$f":"IF(IFERROR(INDEX(Přehled_body!$E$3:$ED$130,MATCH(Tabulka!$AI76,Přehled_body!$A$3:$A$130,0),MATCH(Tabulka!M$2,Přehled_body!$E$1:$ED$1,0)),)=\"\",,IF(IFERROR(INDEX(Přehled_body!$E$3:$ED$130,MATCH(Tabulka!$AI76,Přehled_body!$A$3:$A$130,0),MATCH(Tabulka!M$2,Přehled_body!$E$1:$ED$1,0)),)=0,0.00000000001,IFERROR(INDEX(Přehled_body!$E$3:$ED$130,MATCH(Tabulka!$AI76,Přehled_body!$A$3:$A$130,0),MATCH(Tabulka!M$2,Přehled_body!$E$1:$ED$1,0)),)))","v":0},{"$f":"IF(IFERROR(INDEX(Přehled_body!$E$3:$ED$130,MATCH(Tabulka!$AI76,Přehled_body!$A$3:$A$130,0),MATCH(Tabulka!N$2,Přehled_body!$E$1:$ED$1,0)),)=\"\",,IF(IFERROR(INDEX(Přehled_body!$E$3:$ED$130,MATCH(Tabulka!$AI76,Přehled_body!$A$3:$A$130,0),MATCH(Tabulka!N$2,Přehled_body!$E$1:$ED$1,0)),)=0,0.00000000001,IFERROR(INDEX(Přehled_body!$E$3:$ED$130,MATCH(Tabulka!$AI76,Přehled_body!$A$3:$A$130,0),MATCH(Tabulka!N$2,Přehled_body!$E$1:$ED$1,0)),)))","v":0},{"$f":"IF(IFERROR(INDEX(Přehled_body!$E$3:$ED$130,MATCH(Tabulka!$AI76,Přehled_body!$A$3:$A$130,0),MATCH(Tabulka!O$2,Přehled_body!$E$1:$ED$1,0)),)=\"\",,IF(IFERROR(INDEX(Přehled_body!$E$3:$ED$130,MATCH(Tabulka!$AI76,Přehled_body!$A$3:$A$130,0),MATCH(Tabulka!O$2,Přehled_body!$E$1:$ED$1,0)),)=0,0.00000000001,IFERROR(INDEX(Přehled_body!$E$3:$ED$130,MATCH(Tabulka!$AI76,Přehled_body!$A$3:$A$130,0),MATCH(Tabulka!O$2,Přehled_body!$E$1:$ED$1,0)),)))","v":0},{"$f":"IF(IFERROR(INDEX(Přehled_body!$E$3:$ED$130,MATCH(Tabulka!$AI76,Přehled_body!$A$3:$A$130,0),MATCH(Tabulka!P$2,Přehled_body!$E$1:$ED$1,0)),)=\"\",,IF(IFERROR(INDEX(Přehled_body!$E$3:$ED$130,MATCH(Tabulka!$AI76,Přehled_body!$A$3:$A$130,0),MATCH(Tabulka!P$2,Přehled_body!$E$1:$ED$1,0)),)=0,0.00000000001,IFERROR(INDEX(Přehled_body!$E$3:$ED$130,MATCH(Tabulka!$AI76,Přehled_body!$A$3:$A$130,0),MATCH(Tabulka!P$2,Přehled_body!$E$1:$ED$1,0)),)))","v":0},{"$f":"IF(IFERROR(INDEX(Přehled_body!$E$3:$ED$130,MATCH(Tabulka!$AI76,Přehled_body!$A$3:$A$130,0),MATCH(Tabulka!Q$2,Přehled_body!$E$1:$ED$1,0)),)=\"\",,IF(IFERROR(INDEX(Přehled_body!$E$3:$ED$130,MATCH(Tabulka!$AI76,Přehled_body!$A$3:$A$130,0),MATCH(Tabulka!Q$2,Přehled_body!$E$1:$ED$1,0)),)=0,0.00000000001,IFERROR(INDEX(Přehled_body!$E$3:$ED$130,MATCH(Tabulka!$AI76,Přehled_body!$A$3:$A$130,0),MATCH(Tabulka!Q$2,Přehled_body!$E$1:$ED$1,0)),)))","v":1},{"$f":"IF(IFERROR(INDEX(Přehled_body!$E$3:$ED$130,MATCH(Tabulka!$AI76,Přehled_body!$A$3:$A$130,0),MATCH(Tabulka!R$2,Přehled_body!$E$1:$ED$1,0)),)=\"\",,IF(IFERROR(INDEX(Přehled_body!$E$3:$ED$130,MATCH(Tabulka!$AI76,Přehled_body!$A$3:$A$130,0),MATCH(Tabulka!R$2,Přehled_body!$E$1:$ED$1,0)),)=0,0.00000000001,IFERROR(INDEX(Přehled_body!$E$3:$ED$130,MATCH(Tabulka!$AI76,Přehled_body!$A$3:$A$130,0),MATCH(Tabulka!R$2,Přehled_body!$E$1:$ED$1,0)),)))","v":0},{"$f":"IF(IFERROR(INDEX(Přehled_body!$E$3:$ED$130,MATCH(Tabulka!$AI76,Přehled_body!$A$3:$A$130,0),MATCH(Tabulka!S$2,Přehled_body!$E$1:$ED$1,0)),)=\"\",,IF(IFERROR(INDEX(Přehled_body!$E$3:$ED$130,MATCH(Tabulka!$AI76,Přehled_body!$A$3:$A$130,0),MATCH(Tabulka!S$2,Přehled_body!$E$1:$ED$1,0)),)=0,0.00000000001,IFERROR(INDEX(Přehled_body!$E$3:$ED$130,MATCH(Tabulka!$AI76,Přehled_body!$A$3:$A$130,0),MATCH(Tabulka!S$2,Přehled_body!$E$1:$ED$1,0)),)))","v":0},{"$f":"IF(IFERROR(INDEX(Přehled_body!$E$3:$ED$130,MATCH(Tabulka!$AI76,Přehled_body!$A$3:$A$130,0),MATCH(Tabulka!T$2,Přehled_body!$E$1:$ED$1,0)),)=\"\",,IF(IFERROR(INDEX(Přehled_body!$E$3:$ED$130,MATCH(Tabulka!$AI76,Přehled_body!$A$3:$A$130,0),MATCH(Tabulka!T$2,Přehled_body!$E$1:$ED$1,0)),)=0,0.00000000001,IFERROR(INDEX(Přehled_body!$E$3:$ED$130,MATCH(Tabulka!$AI76,Přehled_body!$A$3:$A$130,0),MATCH(Tabulka!T$2,Přehled_body!$E$1:$ED$1,0)),)))","v":0},{"$f":"IF(IFERROR(INDEX(Přehled_body!$E$3:$ED$130,MATCH(Tabulka!$AI76,Přehled_body!$A$3:$A$130,0),MATCH(Tabulka!U$2,Přehled_body!$E$1:$ED$1,0)),)=\"\",,IF(IFERROR(INDEX(Přehled_body!$E$3:$ED$130,MATCH(Tabulka!$AI76,Přehled_body!$A$3:$A$130,0),MATCH(Tabulka!U$2,Přehled_body!$E$1:$ED$1,0)),)=0,0.00000000001,IFERROR(INDEX(Přehled_body!$E$3:$ED$130,MATCH(Tabulka!$AI76,Přehled_body!$A$3:$A$130,0),MATCH(Tabulka!U$2,Přehled_body!$E$1:$ED$1,0)),)))","v":0},{"$f":"IF(IFERROR(INDEX(Přehled_body!$E$3:$ED$130,MATCH(Tabulka!$AI76,Přehled_body!$A$3:$A$130,0),MATCH(Tabulka!V$2,Přehled_body!$E$1:$ED$1,0)),)=\"\",,IF(IFERROR(INDEX(Přehled_body!$E$3:$ED$130,MATCH(Tabulka!$AI76,Přehled_body!$A$3:$A$130,0),MATCH(Tabulka!V$2,Přehled_body!$E$1:$ED$1,0)),)=0,0.00000000001,IFERROR(INDEX(Přehled_body!$E$3:$ED$130,MATCH(Tabulka!$AI76,Přehled_body!$A$3:$A$130,0),MATCH(Tabulka!V$2,Přehled_body!$E$1:$ED$1,0)),)))","v":0},{"$f":"IF(IFERROR(INDEX(Přehled_body!$E$3:$ED$130,MATCH(Tabulka!$AI76,Přehled_body!$A$3:$A$130,0),MATCH(Tabulka!W$2,Přehled_body!$E$1:$ED$1,0)),)=\"\",,IF(IFERROR(INDEX(Přehled_body!$E$3:$ED$130,MATCH(Tabulka!$AI76,Přehled_body!$A$3:$A$130,0),MATCH(Tabulka!W$2,Přehled_body!$E$1:$ED$1,0)),)=0,0.00000000001,IFERROR(INDEX(Přehled_body!$E$3:$ED$130,MATCH(Tabulka!$AI76,Přehled_body!$A$3:$A$130,0),MATCH(Tabulka!W$2,Přehled_body!$E$1:$ED$1,0)),)))","v":0},{"$f":"IF(IFERROR(INDEX(Přehled_body!$E$3:$ED$130,MATCH(Tabulka!$AI76,Přehled_body!$A$3:$A$130,0),MATCH(Tabulka!X$2,Přehled_body!$E$1:$ED$1,0)),)=\"\",,IF(IFERROR(INDEX(Přehled_body!$E$3:$ED$130,MATCH(Tabulka!$AI76,Přehled_body!$A$3:$A$130,0),MATCH(Tabulka!X$2,Přehled_body!$E$1:$ED$1,0)),)=0,0.00000000001,IFERROR(INDEX(Přehled_body!$E$3:$ED$130,MATCH(Tabulka!$AI76,Přehled_body!$A$3:$A$130,0),MATCH(Tabulka!X$2,Přehled_body!$E$1:$ED$1,0)),)))","v":0},{"$f":"IF(IFERROR(INDEX(Přehled_body!$E$3:$ED$130,MATCH(Tabulka!$AI76,Přehled_body!$A$3:$A$130,0),MATCH(Tabulka!Y$2,Přehled_body!$E$1:$ED$1,0)),)=\"\",,IF(IFERROR(INDEX(Přehled_body!$E$3:$ED$130,MATCH(Tabulka!$AI76,Přehled_body!$A$3:$A$130,0),MATCH(Tabulka!Y$2,Přehled_body!$E$1:$ED$1,0)),)=0,0.00000000001,IFERROR(INDEX(Přehled_body!$E$3:$ED$130,MATCH(Tabulka!$AI76,Přehled_body!$A$3:$A$130,0),MATCH(Tabulka!Y$2,Přehled_body!$E$1:$ED$1,0)),)))","v":0},{"$f":"IF(IFERROR(INDEX(Přehled_body!$E$3:$ED$130,MATCH(Tabulka!$AI76,Přehled_body!$A$3:$A$130,0),MATCH(Tabulka!Z$2,Přehled_body!$E$1:$ED$1,0)),)=\"\",,IF(IFERROR(INDEX(Přehled_body!$E$3:$ED$130,MATCH(Tabulka!$AI76,Přehled_body!$A$3:$A$130,0),MATCH(Tabulka!Z$2,Přehled_body!$E$1:$ED$1,0)),)=0,0.00000000001,IFERROR(INDEX(Přehled_body!$E$3:$ED$130,MATCH(Tabulka!$AI76,Přehled_body!$A$3:$A$130,0),MATCH(Tabulka!Z$2,Přehled_body!$E$1:$ED$1,0)),)))","v":0},{"$f":"IF(IFERROR(INDEX(Přehled_body!$E$3:$ED$130,MATCH(Tabulka!$AI76,Přehled_body!$A$3:$A$130,0),MATCH(Tabulka!AA$2,Přehled_body!$E$1:$ED$1,0)),)=\"\",,IF(IFERROR(INDEX(Přehled_body!$E$3:$ED$130,MATCH(Tabulka!$AI76,Přehled_body!$A$3:$A$130,0),MATCH(Tabulka!AA$2,Přehled_body!$E$1:$ED$1,0)),)=0,0.00000000001,IFERROR(INDEX(Přehled_body!$E$3:$ED$130,MATCH(Tabulka!$AI76,Přehled_body!$A$3:$A$130,0),MATCH(Tabulka!AA$2,Přehled_body!$E$1:$ED$1,0)),)))","v":0},{"$f":"IF(IFERROR(INDEX(Přehled_body!$E$3:$ED$130,MATCH(Tabulka!$AI76,Přehled_body!$A$3:$A$130,0),MATCH(Tabulka!AB$2,Přehled_body!$E$1:$ED$1,0)),)=\"\",,IF(IFERROR(INDEX(Přehled_body!$E$3:$ED$130,MATCH(Tabulka!$AI76,Přehled_body!$A$3:$A$130,0),MATCH(Tabulka!AB$2,Přehled_body!$E$1:$ED$1,0)),)=0,0.00000000001,IFERROR(INDEX(Přehled_body!$E$3:$ED$130,MATCH(Tabulka!$AI76,Přehled_body!$A$3:$A$130,0),MATCH(Tabulka!AB$2,Přehled_body!$E$1:$ED$1,0)),)))","v":0},{"$f":"IF(IFERROR(INDEX(Přehled_body!$E$3:$ED$130,MATCH(Tabulka!$AI76,Přehled_body!$A$3:$A$130,0),MATCH(Tabulka!AC$2,Přehled_body!$E$1:$ED$1,0)),)=\"\",,IF(IFERROR(INDEX(Přehled_body!$E$3:$ED$130,MATCH(Tabulka!$AI76,Přehled_body!$A$3:$A$130,0),MATCH(Tabulka!AC$2,Přehled_body!$E$1:$ED$1,0)),)=0,0.00000000001,IFERROR(INDEX(Přehled_body!$E$3:$ED$130,MATCH(Tabulka!$AI76,Přehled_body!$A$3:$A$130,0),MATCH(Tabulka!AC$2,Přehled_body!$E$1:$ED$1,0)),)))","v":0},{"$f":"IF(IFERROR(INDEX(Přehled_body!$E$3:$ED$130,MATCH(Tabulka!$AI76,Přehled_body!$A$3:$A$130,0),MATCH(Tabulka!AD$2,Přehled_body!$E$1:$ED$1,0)),)=\"\",,IF(IFERROR(INDEX(Přehled_body!$E$3:$ED$130,MATCH(Tabulka!$AI76,Přehled_body!$A$3:$A$130,0),MATCH(Tabulka!AD$2,Přehled_body!$E$1:$ED$1,0)),)=0,0.00000000001,IFERROR(INDEX(Přehled_body!$E$3:$ED$130,MATCH(Tabulka!$AI76,Přehled_body!$A$3:$A$130,0),MATCH(Tabulka!AD$2,Přehled_body!$E$1:$ED$1,0)),)))","v":0},{"$f":"IF(SUM(AG74)<2,-90000+SUM(D76:AD76),SUM(D76:AD76))","v":-89999},null,null,{"$f":"SUM(D76:AD76)+INDEX(List4!$D$2:$F$17,MATCH(Tabulka!A75,List4!$D$2:$D$17,0),3)","v":1.0000000609999999},{"$f":"CONCATENATE($B$75,\" \",$B$76,C76)","v":"Zdenek KanaďanPlaceno panáků"},null,null,1,null,null,"Kanaďan",{"$f":"CONCATENATE(AQ76,\" \",AQ77)","v":"Zdenek Kanaďan"},"Zdenek"]
[null,null,"Přehozy",{"$f":"IF(IFERROR(INDEX(Přehled_body!$E$3:$ED$130,MATCH(Tabulka!$AI77,Přehled_body!$A$3:$A$130,0),MATCH(Tabulka!D$2,Přehled_body!$E$1:$ED$1,0)),)=\"\",,IF(IFERROR(INDEX(Přehled_body!$E$3:$ED$130,MATCH(Tabulka!$AI77,Přehled_body!$A$3:$A$130,0),MATCH(Tabulka!D$2,Přehled_body!$E$1:$ED$1,0)),)=0,0.00000000001,IFERROR(INDEX(Přehled_body!$E$3:$ED$130,MATCH(Tabulka!$AI77,Přehled_body!$A$3:$A$130,0),MATCH(Tabulka!D$2,Přehled_body!$E$1:$ED$1,0)),)))","v":0},{"$f":"IF(IFERROR(INDEX(Přehled_body!$E$3:$ED$130,MATCH(Tabulka!$AI77,Přehled_body!$A$3:$A$130,0),MATCH(Tabulka!E$2,Přehled_body!$E$1:$ED$1,0)),)=\"\",,IF(IFERROR(INDEX(Přehled_body!$E$3:$ED$130,MATCH(Tabulka!$AI77,Přehled_body!$A$3:$A$130,0),MATCH(Tabulka!E$2,Přehled_body!$E$1:$ED$1,0)),)=0,0.00000000001,IFERROR(INDEX(Přehled_body!$E$3:$ED$130,MATCH(Tabulka!$AI77,Přehled_body!$A$3:$A$130,0),MATCH(Tabulka!E$2,Přehled_body!$E$1:$ED$1,0)),)))","v":0},{"$f":"IF(IFERROR(INDEX(Přehled_body!$E$3:$ED$130,MATCH(Tabulka!$AI77,Přehled_body!$A$3:$A$130,0),MATCH(Tabulka!F$2,Přehled_body!$E$1:$ED$1,0)),)=\"\",,IF(IFERROR(INDEX(Přehled_body!$E$3:$ED$130,MATCH(Tabulka!$AI77,Přehled_body!$A$3:$A$130,0),MATCH(Tabulka!F$2,Přehled_body!$E$1:$ED$1,0)),)=0,0.00000000001,IFERROR(INDEX(Přehled_body!$E$3:$ED$130,MATCH(Tabulka!$AI77,Přehled_body!$A$3:$A$130,0),MATCH(Tabulka!F$2,Přehled_body!$E$1:$ED$1,0)),)))","v":0},{"$f":"IF(IFERROR(INDEX(Přehled_body!$E$3:$ED$130,MATCH(Tabulka!$AI77,Přehled_body!$A$3:$A$130,0),MATCH(Tabulka!G$2,Přehled_body!$E$1:$ED$1,0)),)=\"\",,IF(IFERROR(INDEX(Přehled_body!$E$3:$ED$130,MATCH(Tabulka!$AI77,Přehled_body!$A$3:$A$130,0),MATCH(Tabulka!G$2,Přehled_body!$E$1:$ED$1,0)),)=0,0.00000000001,IFERROR(INDEX(Přehled_body!$E$3:$ED$130,MATCH(Tabulka!$AI77,Přehled_body!$A$3:$A$130,0),MATCH(Tabulka!G$2,Přehled_body!$E$1:$ED$1,0)),)))","v":0},{"$f":"IF(IFERROR(INDEX(Přehled_body!$E$3:$ED$130,MATCH(Tabulka!$AI77,Přehled_body!$A$3:$A$130,0),MATCH(Tabulka!H$2,Přehled_body!$E$1:$ED$1,0)),)=\"\",,IF(IFERROR(INDEX(Přehled_body!$E$3:$ED$130,MATCH(Tabulka!$AI77,Přehled_body!$A$3:$A$130,0),MATCH(Tabulka!H$2,Přehled_body!$E$1:$ED$1,0)),)=0,0.00000000001,IFERROR(INDEX(Přehled_body!$E$3:$ED$130,MATCH(Tabulka!$AI77,Přehled_body!$A$3:$A$130,0),MATCH(Tabulka!H$2,Přehled_body!$E$1:$ED$1,0)),)))","v":0},{"$f":"IF(IFERROR(INDEX(Přehled_body!$E$3:$ED$130,MATCH(Tabulka!$AI77,Přehled_body!$A$3:$A$130,0),MATCH(Tabulka!I$2,Přehled_body!$E$1:$ED$1,0)),)=\"\",,IF(IFERROR(INDEX(Přehled_body!$E$3:$ED$130,MATCH(Tabulka!$AI77,Přehled_body!$A$3:$A$130,0),MATCH(Tabulka!I$2,Přehled_body!$E$1:$ED$1,0)),)=0,0.00000000001,IFERROR(INDEX(Přehled_body!$E$3:$ED$130,MATCH(Tabulka!$AI77,Přehled_body!$A$3:$A$130,0),MATCH(Tabulka!I$2,Přehled_body!$E$1:$ED$1,0)),)))","v":0},{"$f":"IF(IFERROR(INDEX(Přehled_body!$E$3:$ED$130,MATCH(Tabulka!$AI77,Přehled_body!$A$3:$A$130,0),MATCH(Tabulka!J$2,Přehled_body!$E$1:$ED$1,0)),)=\"\",,IF(IFERROR(INDEX(Přehled_body!$E$3:$ED$130,MATCH(Tabulka!$AI77,Přehled_body!$A$3:$A$130,0),MATCH(Tabulka!J$2,Přehled_body!$E$1:$ED$1,0)),)=0,0.00000000001,IFERROR(INDEX(Přehled_body!$E$3:$ED$130,MATCH(Tabulka!$AI77,Přehled_body!$A$3:$A$130,0),MATCH(Tabulka!J$2,Přehled_body!$E$1:$ED$1,0)),)))","v":0},{"$f":"IF(IFERROR(INDEX(Přehled_body!$E$3:$ED$130,MATCH(Tabulka!$AI77,Přehled_body!$A$3:$A$130,0),MATCH(Tabulka!K$2,Přehled_body!$E$1:$ED$1,0)),)=\"\",,IF(IFERROR(INDEX(Přehled_body!$E$3:$ED$130,MATCH(Tabulka!$AI77,Přehled_body!$A$3:$A$130,0),MATCH(Tabulka!K$2,Přehled_body!$E$1:$ED$1,0)),)=0,0.00000000001,IFERROR(INDEX(Přehled_body!$E$3:$ED$130,MATCH(Tabulka!$AI77,Přehled_body!$A$3:$A$130,0),MATCH(Tabulka!K$2,Přehled_body!$E$1:$ED$1,0)),)))","v":0},{"$f":"IF(IFERROR(INDEX(Přehled_body!$E$3:$ED$130,MATCH(Tabulka!$AI77,Přehled_body!$A$3:$A$130,0),MATCH(Tabulka!L$2,Přehled_body!$E$1:$ED$1,0)),)=\"\",,IF(IFERROR(INDEX(Přehled_body!$E$3:$ED$130,MATCH(Tabulka!$AI77,Přehled_body!$A$3:$A$130,0),MATCH(Tabulka!L$2,Přehled_body!$E$1:$ED$1,0)),)=0,0.00000000001,IFERROR(INDEX(Přehled_body!$E$3:$ED$130,MATCH(Tabulka!$AI77,Přehled_body!$A$3:$A$130,0),MATCH(Tabulka!L$2,Přehled_body!$E$1:$ED$1,0)),)))","v":0},{"$f":"IF(IFERROR(INDEX(Přehled_body!$E$3:$ED$130,MATCH(Tabulka!$AI77,Přehled_body!$A$3:$A$130,0),MATCH(Tabulka!M$2,Přehled_body!$E$1:$ED$1,0)),)=\"\",,IF(IFERROR(INDEX(Přehled_body!$E$3:$ED$130,MATCH(Tabulka!$AI77,Přehled_body!$A$3:$A$130,0),MATCH(Tabulka!M$2,Přehled_body!$E$1:$ED$1,0)),)=0,0.00000000001,IFERROR(INDEX(Přehled_body!$E$3:$ED$130,MATCH(Tabulka!$AI77,Přehled_body!$A$3:$A$130,0),MATCH(Tabulka!M$2,Přehled_body!$E$1:$ED$1,0)),)))","v":0},{"$f":"IF(IFERROR(INDEX(Přehled_body!$E$3:$ED$130,MATCH(Tabulka!$AI77,Přehled_body!$A$3:$A$130,0),MATCH(Tabulka!N$2,Přehled_body!$E$1:$ED$1,0)),)=\"\",,IF(IFERROR(INDEX(Přehled_body!$E$3:$ED$130,MATCH(Tabulka!$AI77,Přehled_body!$A$3:$A$130,0),MATCH(Tabulka!N$2,Přehled_body!$E$1:$ED$1,0)),)=0,0.00000000001,IFERROR(INDEX(Přehled_body!$E$3:$ED$130,MATCH(Tabulka!$AI77,Přehled_body!$A$3:$A$130,0),MATCH(Tabulka!N$2,Přehled_body!$E$1:$ED$1,0)),)))","v":0},{"$f":"IF(IFERROR(INDEX(Přehled_body!$E$3:$ED$130,MATCH(Tabulka!$AI77,Přehled_body!$A$3:$A$130,0),MATCH(Tabulka!O$2,Přehled_body!$E$1:$ED$1,0)),)=\"\",,IF(IFERROR(INDEX(Přehled_body!$E$3:$ED$130,MATCH(Tabulka!$AI77,Přehled_body!$A$3:$A$130,0),MATCH(Tabulka!O$2,Přehled_body!$E$1:$ED$1,0)),)=0,0.00000000001,IFERROR(INDEX(Přehled_body!$E$3:$ED$130,MATCH(Tabulka!$AI77,Přehled_body!$A$3:$A$130,0),MATCH(Tabulka!O$2,Přehled_body!$E$1:$ED$1,0)),)))","v":0},{"$f":"IF(IFERROR(INDEX(Přehled_body!$E$3:$ED$130,MATCH(Tabulka!$AI77,Přehled_body!$A$3:$A$130,0),MATCH(Tabulka!P$2,Přehled_body!$E$1:$ED$1,0)),)=\"\",,IF(IFERROR(INDEX(Přehled_body!$E$3:$ED$130,MATCH(Tabulka!$AI77,Přehled_body!$A$3:$A$130,0),MATCH(Tabulka!P$2,Přehled_body!$E$1:$ED$1,0)),)=0,0.00000000001,IFERROR(INDEX(Přehled_body!$E$3:$ED$130,MATCH(Tabulka!$AI77,Přehled_body!$A$3:$A$130,0),MATCH(Tabulka!P$2,Přehled_body!$E$1:$ED$1,0)),)))","v":0},{"$f":"IF(IFERROR(INDEX(Přehled_body!$E$3:$ED$130,MATCH(Tabulka!$AI77,Přehled_body!$A$3:$A$130,0),MATCH(Tabulka!Q$2,Přehled_body!$E$1:$ED$1,0)),)=\"\",,IF(IFERROR(INDEX(Přehled_body!$E$3:$ED$130,MATCH(Tabulka!$AI77,Přehled_body!$A$3:$A$130,0),MATCH(Tabulka!Q$2,Přehled_body!$E$1:$ED$1,0)),)=0,0.00000000001,IFERROR(INDEX(Přehled_body!$E$3:$ED$130,MATCH(Tabulka!$AI77,Přehled_body!$A$3:$A$130,0),MATCH(Tabulka!Q$2,Přehled_body!$E$1:$ED$1,0)),)))","v":9.9999999999999994E-12},{"$f":"IF(IFERROR(INDEX(Přehled_body!$E$3:$ED$130,MATCH(Tabulka!$AI77,Přehled_body!$A$3:$A$130,0),MATCH(Tabulka!R$2,Přehled_body!$E$1:$ED$1,0)),)=\"\",,IF(IFERROR(INDEX(Přehled_body!$E$3:$ED$130,MATCH(Tabulka!$AI77,Přehled_body!$A$3:$A$130,0),MATCH(Tabulka!R$2,Přehled_body!$E$1:$ED$1,0)),)=0,0.00000000001,IFERROR(INDEX(Přehled_body!$E$3:$ED$130,MATCH(Tabulka!$AI77,Přehled_body!$A$3:$A$130,0),MATCH(Tabulka!R$2,Přehled_body!$E$1:$ED$1,0)),)))","v":0},{"$f":"IF(IFERROR(INDEX(Přehled_body!$E$3:$ED$130,MATCH(Tabulka!$AI77,Přehled_body!$A$3:$A$130,0),MATCH(Tabulka!S$2,Přehled_body!$E$1:$ED$1,0)),)=\"\",,IF(IFERROR(INDEX(Přehled_body!$E$3:$ED$130,MATCH(Tabulka!$AI77,Přehled_body!$A$3:$A$130,0),MATCH(Tabulka!S$2,Přehled_body!$E$1:$ED$1,0)),)=0,0.00000000001,IFERROR(INDEX(Přehled_body!$E$3:$ED$130,MATCH(Tabulka!$AI77,Přehled_body!$A$3:$A$130,0),MATCH(Tabulka!S$2,Přehled_body!$E$1:$ED$1,0)),)))","v":0},{"$f":"IF(IFERROR(INDEX(Přehled_body!$E$3:$ED$130,MATCH(Tabulka!$AI77,Přehled_body!$A$3:$A$130,0),MATCH(Tabulka!T$2,Přehled_body!$E$1:$ED$1,0)),)=\"\",,IF(IFERROR(INDEX(Přehled_body!$E$3:$ED$130,MATCH(Tabulka!$AI77,Přehled_body!$A$3:$A$130,0),MATCH(Tabulka!T$2,Přehled_body!$E$1:$ED$1,0)),)=0,0.00000000001,IFERROR(INDEX(Přehled_body!$E$3:$ED$130,MATCH(Tabulka!$AI77,Přehled_body!$A$3:$A$130,0),MATCH(Tabulka!T$2,Přehled_body!$E$1:$ED$1,0)),)))","v":0},{"$f":"IF(IFERROR(INDEX(Přehled_body!$E$3:$ED$130,MATCH(Tabulka!$AI77,Přehled_body!$A$3:$A$130,0),MATCH(Tabulka!U$2,Přehled_body!$E$1:$ED$1,0)),)=\"\",,IF(IFERROR(INDEX(Přehled_body!$E$3:$ED$130,MATCH(Tabulka!$AI77,Přehled_body!$A$3:$A$130,0),MATCH(Tabulka!U$2,Přehled_body!$E$1:$ED$1,0)),)=0,0.00000000001,IFERROR(INDEX(Přehled_body!$E$3:$ED$130,MATCH(Tabulka!$AI77,Přehled_body!$A$3:$A$130,0),MATCH(Tabulka!U$2,Přehled_body!$E$1:$ED$1,0)),)))","v":0},{"$f":"IF(IFERROR(INDEX(Přehled_body!$E$3:$ED$130,MATCH(Tabulka!$AI77,Přehled_body!$A$3:$A$130,0),MATCH(Tabulka!V$2,Přehled_body!$E$1:$ED$1,0)),)=\"\",,IF(IFERROR(INDEX(Přehled_body!$E$3:$ED$130,MATCH(Tabulka!$AI77,Přehled_body!$A$3:$A$130,0),MATCH(Tabulka!V$2,Přehled_body!$E$1:$ED$1,0)),)=0,0.00000000001,IFERROR(INDEX(Přehled_body!$E$3:$ED$130,MATCH(Tabulka!$AI77,Přehled_body!$A$3:$A$130,0),MATCH(Tabulka!V$2,Přehled_body!$E$1:$ED$1,0)),)))","v":0},{"$f":"IF(IFERROR(INDEX(Přehled_body!$E$3:$ED$130,MATCH(Tabulka!$AI77,Přehled_body!$A$3:$A$130,0),MATCH(Tabulka!W$2,Přehled_body!$E$1:$ED$1,0)),)=\"\",,IF(IFERROR(INDEX(Přehled_body!$E$3:$ED$130,MATCH(Tabulka!$AI77,Přehled_body!$A$3:$A$130,0),MATCH(Tabulka!W$2,Přehled_body!$E$1:$ED$1,0)),)=0,0.00000000001,IFERROR(INDEX(Přehled_body!$E$3:$ED$130,MATCH(Tabulka!$AI77,Přehled_body!$A$3:$A$130,0),MATCH(Tabulka!W$2,Přehled_body!$E$1:$ED$1,0)),)))","v":0},{"$f":"IF(IFERROR(INDEX(Přehled_body!$E$3:$ED$130,MATCH(Tabulka!$AI77,Přehled_body!$A$3:$A$130,0),MATCH(Tabulka!X$2,Přehled_body!$E$1:$ED$1,0)),)=\"\",,IF(IFERROR(INDEX(Přehled_body!$E$3:$ED$130,MATCH(Tabulka!$AI77,Přehled_body!$A$3:$A$130,0),MATCH(Tabulka!X$2,Přehled_body!$E$1:$ED$1,0)),)=0,0.00000000001,IFERROR(INDEX(Přehled_body!$E$3:$ED$130,MATCH(Tabulka!$AI77,Přehled_body!$A$3:$A$130,0),MATCH(Tabulka!X$2,Přehled_body!$E$1:$ED$1,0)),)))","v":0},{"$f":"IF(IFERROR(INDEX(Přehled_body!$E$3:$ED$130,MATCH(Tabulka!$AI77,Přehled_body!$A$3:$A$130,0),MATCH(Tabulka!Y$2,Přehled_body!$E$1:$ED$1,0)),)=\"\",,IF(IFERROR(INDEX(Přehled_body!$E$3:$ED$130,MATCH(Tabulka!$AI77,Přehled_body!$A$3:$A$130,0),MATCH(Tabulka!Y$2,Přehled_body!$E$1:$ED$1,0)),)=0,0.00000000001,IFERROR(INDEX(Přehled_body!$E$3:$ED$130,MATCH(Tabulka!$AI77,Přehled_body!$A$3:$A$130,0),MATCH(Tabulka!Y$2,Přehled_body!$E$1:$ED$1,0)),)))","v":0},{"$f":"IF(IFERROR(INDEX(Přehled_body!$E$3:$ED$130,MATCH(Tabulka!$AI77,Přehled_body!$A$3:$A$130,0),MATCH(Tabulka!Z$2,Přehled_body!$E$1:$ED$1,0)),)=\"\",,IF(IFERROR(INDEX(Přehled_body!$E$3:$ED$130,MATCH(Tabulka!$AI77,Přehled_body!$A$3:$A$130,0),MATCH(Tabulka!Z$2,Přehled_body!$E$1:$ED$1,0)),)=0,0.00000000001,IFERROR(INDEX(Přehled_body!$E$3:$ED$130,MATCH(Tabulka!$AI77,Přehled_body!$A$3:$A$130,0),MATCH(Tabulka!Z$2,Přehled_body!$E$1:$ED$1,0)),)))","v":0},{"$f":"IF(IFERROR(INDEX(Přehled_body!$E$3:$ED$130,MATCH(Tabulka!$AI77,Přehled_body!$A$3:$A$130,0),MATCH(Tabulka!AA$2,Přehled_body!$E$1:$ED$1,0)),)=\"\",,IF(IFERROR(INDEX(Přehled_body!$E$3:$ED$130,MATCH(Tabulka!$AI77,Přehled_body!$A$3:$A$130,0),MATCH(Tabulka!AA$2,Přehled_body!$E$1:$ED$1,0)),)=0,0.00000000001,IFERROR(INDEX(Přehled_body!$E$3:$ED$130,MATCH(Tabulka!$AI77,Přehled_body!$A$3:$A$130,0),MATCH(Tabulka!AA$2,Přehled_body!$E$1:$ED$1,0)),)))","v":0},{"$f":"IF(IFERROR(INDEX(Přehled_body!$E$3:$ED$130,MATCH(Tabulka!$AI77,Přehled_body!$A$3:$A$130,0),MATCH(Tabulka!AB$2,Přehled_body!$E$1:$ED$1,0)),)=\"\",,IF(IFERROR(INDEX(Přehled_body!$E$3:$ED$130,MATCH(Tabulka!$AI77,Přehled_body!$A$3:$A$130,0),MATCH(Tabulka!AB$2,Přehled_body!$E$1:$ED$1,0)),)=0,0.00000000001,IFERROR(INDEX(Přehled_body!$E$3:$ED$130,MATCH(Tabulka!$AI77,Přehled_body!$A$3:$A$130,0),MATCH(Tabulka!AB$2,Přehled_body!$E$1:$ED$1,0)),)))","v":0},{"$f":"IF(IFERROR(INDEX(Přehled_body!$E$3:$ED$130,MATCH(Tabulka!$AI77,Přehled_body!$A$3:$A$130,0),MATCH(Tabulka!AC$2,Přehled_body!$E$1:$ED$1,0)),)=\"\",,IF(IFERROR(INDEX(Přehled_body!$E$3:$ED$130,MATCH(Tabulka!$AI77,Přehled_body!$A$3:$A$130,0),MATCH(Tabulka!AC$2,Přehled_body!$E$1:$ED$1,0)),)=0,0.00000000001,IFERROR(INDEX(Přehled_body!$E$3:$ED$130,MATCH(Tabulka!$AI77,Přehled_body!$A$3:$A$130,0),MATCH(Tabulka!AC$2,Přehled_body!$E$1:$ED$1,0)),)))","v":0},{"$f":"IF(IFERROR(INDEX(Přehled_body!$E$3:$ED$130,MATCH(Tabulka!$AI77,Přehled_body!$A$3:$A$130,0),MATCH(Tabulka!AD$2,Přehled_body!$E$1:$ED$1,0)),)=\"\",,IF(IFERROR(INDEX(Přehled_body!$E$3:$ED$130,MATCH(Tabulka!$AI77,Přehled_body!$A$3:$A$130,0),MATCH(Tabulka!AD$2,Přehled_body!$E$1:$ED$1,0)),)=0,0.00000000001,IFERROR(INDEX(Přehled_body!$E$3:$ED$130,MATCH(Tabulka!$AI77,Přehled_body!$A$3:$A$130,0),MATCH(Tabulka!AD$2,Přehled_body!$E$1:$ED$1,0)),)))","v":0},{"$f":"IF(SUM(AG74)<2,-90000+SUM(D77:AD77),SUM(D77:AD77))","v":-89999.999999999985},null,null,9.9999999999999994E-12,{"$f":"CONCATENATE($B$75,\" \",$B$76,C77)","v":"Zdenek KanaďanPřehozy"},null,null,1,null,null,null,{"$f":"CONCATENATE(AQ77,\" \",AQ76)","v":"Kanaďan Zdenek"},"Kanaďan"]
[null,null,"Poč. kol",{"$f":"IF(IFERROR(INDEX(Přehled_body!$E$3:$ED$130,MATCH(Tabulka!$AI78,Přehled_body!$A$3:$A$130,0),MATCH(Tabulka!D$2,Přehled_body!$E$1:$ED$1,0)),)=\"\",,IF(IFERROR(INDEX(Přehled_body!$E$3:$ED$130,MATCH(Tabulka!$AI78,Přehled_body!$A$3:$A$130,0),MATCH(Tabulka!D$2,Přehled_body!$E$1:$ED$1,0)),)=0,0.00000000001,IFERROR(INDEX(Přehled_body!$E$3:$ED$130,MATCH(Tabulka!$AI78,Přehled_body!$A$3:$A$130,0),MATCH(Tabulka!D$2,Přehled_body!$E$1:$ED$1,0)),)))","v":0},{"$f":"IF(IFERROR(INDEX(Přehled_body!$E$3:$ED$130,MATCH(Tabulka!$AI78,Přehled_body!$A$3:$A$130,0),MATCH(Tabulka!E$2,Přehled_body!$E$1:$ED$1,0)),)=\"\",,IF(IFERROR(INDEX(Přehled_body!$E$3:$ED$130,MATCH(Tabulka!$AI78,Přehled_body!$A$3:$A$130,0),MATCH(Tabulka!E$2,Přehled_body!$E$1:$ED$1,0)),)=0,0.00000000001,IFERROR(INDEX(Přehled_body!$E$3:$ED$130,MATCH(Tabulka!$AI78,Přehled_body!$A$3:$A$130,0),MATCH(Tabulka!E$2,Přehled_body!$E$1:$ED$1,0)),)))","v":0},{"$f":"IF(IFERROR(INDEX(Přehled_body!$E$3:$ED$130,MATCH(Tabulka!$AI78,Přehled_body!$A$3:$A$130,0),MATCH(Tabulka!F$2,Přehled_body!$E$1:$ED$1,0)),)=\"\",,IF(IFERROR(INDEX(Přehled_body!$E$3:$ED$130,MATCH(Tabulka!$AI78,Přehled_body!$A$3:$A$130,0),MATCH(Tabulka!F$2,Přehled_body!$E$1:$ED$1,0)),)=0,0.00000000001,IFERROR(INDEX(Přehled_body!$E$3:$ED$130,MATCH(Tabulka!$AI78,Přehled_body!$A$3:$A$130,0),MATCH(Tabulka!F$2,Přehled_body!$E$1:$ED$1,0)),)))","v":0},{"$f":"IF(IFERROR(INDEX(Přehled_body!$E$3:$ED$130,MATCH(Tabulka!$AI78,Přehled_body!$A$3:$A$130,0),MATCH(Tabulka!G$2,Přehled_body!$E$1:$ED$1,0)),)=\"\",,IF(IFERROR(INDEX(Přehled_body!$E$3:$ED$130,MATCH(Tabulka!$AI78,Přehled_body!$A$3:$A$130,0),MATCH(Tabulka!G$2,Přehled_body!$E$1:$ED$1,0)),)=0,0.00000000001,IFERROR(INDEX(Přehled_body!$E$3:$ED$130,MATCH(Tabulka!$AI78,Přehled_body!$A$3:$A$130,0),MATCH(Tabulka!G$2,Přehled_body!$E$1:$ED$1,0)),)))","v":0},{"$f":"IF(IFERROR(INDEX(Přehled_body!$E$3:$ED$130,MATCH(Tabulka!$AI78,Přehled_body!$A$3:$A$130,0),MATCH(Tabulka!H$2,Přehled_body!$E$1:$ED$1,0)),)=\"\",,IF(IFERROR(INDEX(Přehled_body!$E$3:$ED$130,MATCH(Tabulka!$AI78,Přehled_body!$A$3:$A$130,0),MATCH(Tabulka!H$2,Přehled_body!$E$1:$ED$1,0)),)=0,0.00000000001,IFERROR(INDEX(Přehled_body!$E$3:$ED$130,MATCH(Tabulka!$AI78,Přehled_body!$A$3:$A$130,0),MATCH(Tabulka!H$2,Přehled_body!$E$1:$ED$1,0)),)))","v":0},{"$f":"IF(IFERROR(INDEX(Přehled_body!$E$3:$ED$130,MATCH(Tabulka!$AI78,Přehled_body!$A$3:$A$130,0),MATCH(Tabulka!I$2,Přehled_body!$E$1:$ED$1,0)),)=\"\",,IF(IFERROR(INDEX(Přehled_body!$E$3:$ED$130,MATCH(Tabulka!$AI78,Přehled_body!$A$3:$A$130,0),MATCH(Tabulka!I$2,Přehled_body!$E$1:$ED$1,0)),)=0,0.00000000001,IFERROR(INDEX(Přehled_body!$E$3:$ED$130,MATCH(Tabulka!$AI78,Přehled_body!$A$3:$A$130,0),MATCH(Tabulka!I$2,Přehled_body!$E$1:$ED$1,0)),)))","v":0},{"$f":"IF(IFERROR(INDEX(Přehled_body!$E$3:$ED$130,MATCH(Tabulka!$AI78,Přehled_body!$A$3:$A$130,0),MATCH(Tabulka!J$2,Přehled_body!$E$1:$ED$1,0)),)=\"\",,IF(IFERROR(INDEX(Přehled_body!$E$3:$ED$130,MATCH(Tabulka!$AI78,Přehled_body!$A$3:$A$130,0),MATCH(Tabulka!J$2,Přehled_body!$E$1:$ED$1,0)),)=0,0.00000000001,IFERROR(INDEX(Přehled_body!$E$3:$ED$130,MATCH(Tabulka!$AI78,Přehled_body!$A$3:$A$130,0),MATCH(Tabulka!J$2,Přehled_body!$E$1:$ED$1,0)),)))","v":0},{"$f":"IF(IFERROR(INDEX(Přehled_body!$E$3:$ED$130,MATCH(Tabulka!$AI78,Přehled_body!$A$3:$A$130,0),MATCH(Tabulka!K$2,Přehled_body!$E$1:$ED$1,0)),)=\"\",,IF(IFERROR(INDEX(Přehled_body!$E$3:$ED$130,MATCH(Tabulka!$AI78,Přehled_body!$A$3:$A$130,0),MATCH(Tabulka!K$2,Přehled_body!$E$1:$ED$1,0)),)=0,0.00000000001,IFERROR(INDEX(Přehled_body!$E$3:$ED$130,MATCH(Tabulka!$AI78,Přehled_body!$A$3:$A$130,0),MATCH(Tabulka!K$2,Přehled_body!$E$1:$ED$1,0)),)))","v":0},{"$f":"IF(IFERROR(INDEX(Přehled_body!$E$3:$ED$130,MATCH(Tabulka!$AI78,Přehled_body!$A$3:$A$130,0),MATCH(Tabulka!L$2,Přehled_body!$E$1:$ED$1,0)),)=\"\",,IF(IFERROR(INDEX(Přehled_body!$E$3:$ED$130,MATCH(Tabulka!$AI78,Přehled_body!$A$3:$A$130,0),MATCH(Tabulka!L$2,Přehled_body!$E$1:$ED$1,0)),)=0,0.00000000001,IFERROR(INDEX(Přehled_body!$E$3:$ED$130,MATCH(Tabulka!$AI78,Přehled_body!$A$3:$A$130,0),MATCH(Tabulka!L$2,Přehled_body!$E$1:$ED$1,0)),)))","v":0},{"$f":"IF(IFERROR(INDEX(Přehled_body!$E$3:$ED$130,MATCH(Tabulka!$AI78,Přehled_body!$A$3:$A$130,0),MATCH(Tabulka!M$2,Přehled_body!$E$1:$ED$1,0)),)=\"\",,IF(IFERROR(INDEX(Přehled_body!$E$3:$ED$130,MATCH(Tabulka!$AI78,Přehled_body!$A$3:$A$130,0),MATCH(Tabulka!M$2,Přehled_body!$E$1:$ED$1,0)),)=0,0.00000000001,IFERROR(INDEX(Přehled_body!$E$3:$ED$130,MATCH(Tabulka!$AI78,Přehled_body!$A$3:$A$130,0),MATCH(Tabulka!M$2,Přehled_body!$E$1:$ED$1,0)),)))","v":0},{"$f":"IF(IFERROR(INDEX(Přehled_body!$E$3:$ED$130,MATCH(Tabulka!$AI78,Přehled_body!$A$3:$A$130,0),MATCH(Tabulka!N$2,Přehled_body!$E$1:$ED$1,0)),)=\"\",,IF(IFERROR(INDEX(Přehled_body!$E$3:$ED$130,MATCH(Tabulka!$AI78,Přehled_body!$A$3:$A$130,0),MATCH(Tabulka!N$2,Přehled_body!$E$1:$ED$1,0)),)=0,0.00000000001,IFERROR(INDEX(Přehled_body!$E$3:$ED$130,MATCH(Tabulka!$AI78,Přehled_body!$A$3:$A$130,0),MATCH(Tabulka!N$2,Přehled_body!$E$1:$ED$1,0)),)))","v":0},{"$f":"IF(IFERROR(INDEX(Přehled_body!$E$3:$ED$130,MATCH(Tabulka!$AI78,Přehled_body!$A$3:$A$130,0),MATCH(Tabulka!O$2,Přehled_body!$E$1:$ED$1,0)),)=\"\",,IF(IFERROR(INDEX(Přehled_body!$E$3:$ED$130,MATCH(Tabulka!$AI78,Přehled_body!$A$3:$A$130,0),MATCH(Tabulka!O$2,Přehled_body!$E$1:$ED$1,0)),)=0,0.00000000001,IFERROR(INDEX(Přehled_body!$E$3:$ED$130,MATCH(Tabulka!$AI78,Přehled_body!$A$3:$A$130,0),MATCH(Tabulka!O$2,Přehled_body!$E$1:$ED$1,0)),)))","v":0},{"$f":"IF(IFERROR(INDEX(Přehled_body!$E$3:$ED$130,MATCH(Tabulka!$AI78,Přehled_body!$A$3:$A$130,0),MATCH(Tabulka!P$2,Přehled_body!$E$1:$ED$1,0)),)=\"\",,IF(IFERROR(INDEX(Přehled_body!$E$3:$ED$130,MATCH(Tabulka!$AI78,Přehled_body!$A$3:$A$130,0),MATCH(Tabulka!P$2,Přehled_body!$E$1:$ED$1,0)),)=0,0.00000000001,IFERROR(INDEX(Přehled_body!$E$3:$ED$130,MATCH(Tabulka!$AI78,Přehled_body!$A$3:$A$130,0),MATCH(Tabulka!P$2,Přehled_body!$E$1:$ED$1,0)),)))","v":0},{"$f":"IF(IFERROR(INDEX(Přehled_body!$E$3:$ED$130,MATCH(Tabulka!$AI78,Přehled_body!$A$3:$A$130,0),MATCH(Tabulka!Q$2,Přehled_body!$E$1:$ED$1,0)),)=\"\",,IF(IFERROR(INDEX(Přehled_body!$E$3:$ED$130,MATCH(Tabulka!$AI78,Přehled_body!$A$3:$A$130,0),MATCH(Tabulka!Q$2,Přehled_body!$E$1:$ED$1,0)),)=0,0.00000000001,IFERROR(INDEX(Přehled_body!$E$3:$ED$130,MATCH(Tabulka!$AI78,Přehled_body!$A$3:$A$130,0),MATCH(Tabulka!Q$2,Přehled_body!$E$1:$ED$1,0)),)))","v":5},{"$f":"IF(IFERROR(INDEX(Přehled_body!$E$3:$ED$130,MATCH(Tabulka!$AI78,Přehled_body!$A$3:$A$130,0),MATCH(Tabulka!R$2,Přehled_body!$E$1:$ED$1,0)),)=\"\",,IF(IFERROR(INDEX(Přehled_body!$E$3:$ED$130,MATCH(Tabulka!$AI78,Přehled_body!$A$3:$A$130,0),MATCH(Tabulka!R$2,Přehled_body!$E$1:$ED$1,0)),)=0,0.00000000001,IFERROR(INDEX(Přehled_body!$E$3:$ED$130,MATCH(Tabulka!$AI78,Přehled_body!$A$3:$A$130,0),MATCH(Tabulka!R$2,Přehled_body!$E$1:$ED$1,0)),)))","v":0},{"$f":"IF(IFERROR(INDEX(Přehled_body!$E$3:$ED$130,MATCH(Tabulka!$AI78,Přehled_body!$A$3:$A$130,0),MATCH(Tabulka!S$2,Přehled_body!$E$1:$ED$1,0)),)=\"\",,IF(IFERROR(INDEX(Přehled_body!$E$3:$ED$130,MATCH(Tabulka!$AI78,Přehled_body!$A$3:$A$130,0),MATCH(Tabulka!S$2,Přehled_body!$E$1:$ED$1,0)),)=0,0.00000000001,IFERROR(INDEX(Přehled_body!$E$3:$ED$130,MATCH(Tabulka!$AI78,Přehled_body!$A$3:$A$130,0),MATCH(Tabulka!S$2,Přehled_body!$E$1:$ED$1,0)),)))","v":0},{"$f":"IF(IFERROR(INDEX(Přehled_body!$E$3:$ED$130,MATCH(Tabulka!$AI78,Přehled_body!$A$3:$A$130,0),MATCH(Tabulka!T$2,Přehled_body!$E$1:$ED$1,0)),)=\"\",,IF(IFERROR(INDEX(Přehled_body!$E$3:$ED$130,MATCH(Tabulka!$AI78,Přehled_body!$A$3:$A$130,0),MATCH(Tabulka!T$2,Přehled_body!$E$1:$ED$1,0)),)=0,0.00000000001,IFERROR(INDEX(Přehled_body!$E$3:$ED$130,MATCH(Tabulka!$AI78,Přehled_body!$A$3:$A$130,0),MATCH(Tabulka!T$2,Přehled_body!$E$1:$ED$1,0)),)))","v":0},{"$f":"IF(IFERROR(INDEX(Přehled_body!$E$3:$ED$130,MATCH(Tabulka!$AI78,Přehled_body!$A$3:$A$130,0),MATCH(Tabulka!U$2,Přehled_body!$E$1:$ED$1,0)),)=\"\",,IF(IFERROR(INDEX(Přehled_body!$E$3:$ED$130,MATCH(Tabulka!$AI78,Přehled_body!$A$3:$A$130,0),MATCH(Tabulka!U$2,Přehled_body!$E$1:$ED$1,0)),)=0,0.00000000001,IFERROR(INDEX(Přehled_body!$E$3:$ED$130,MATCH(Tabulka!$AI78,Přehled_body!$A$3:$A$130,0),MATCH(Tabulka!U$2,Přehled_body!$E$1:$ED$1,0)),)))","v":0},{"$f":"IF(IFERROR(INDEX(Přehled_body!$E$3:$ED$130,MATCH(Tabulka!$AI78,Přehled_body!$A$3:$A$130,0),MATCH(Tabulka!V$2,Přehled_body!$E$1:$ED$1,0)),)=\"\",,IF(IFERROR(INDEX(Přehled_body!$E$3:$ED$130,MATCH(Tabulka!$AI78,Přehled_body!$A$3:$A$130,0),MATCH(Tabulka!V$2,Přehled_body!$E$1:$ED$1,0)),)=0,0.00000000001,IFERROR(INDEX(Přehled_body!$E$3:$ED$130,MATCH(Tabulka!$AI78,Přehled_body!$A$3:$A$130,0),MATCH(Tabulka!V$2,Přehled_body!$E$1:$ED$1,0)),)))","v":0},{"$f":"IF(IFERROR(INDEX(Přehled_body!$E$3:$ED$130,MATCH(Tabulka!$AI78,Přehled_body!$A$3:$A$130,0),MATCH(Tabulka!W$2,Přehled_body!$E$1:$ED$1,0)),)=\"\",,IF(IFERROR(INDEX(Přehled_body!$E$3:$ED$130,MATCH(Tabulka!$AI78,Přehled_body!$A$3:$A$130,0),MATCH(Tabulka!W$2,Přehled_body!$E$1:$ED$1,0)),)=0,0.00000000001,IFERROR(INDEX(Přehled_body!$E$3:$ED$130,MATCH(Tabulka!$AI78,Přehled_body!$A$3:$A$130,0),MATCH(Tabulka!W$2,Přehled_body!$E$1:$ED$1,0)),)))","v":0},{"$f":"IF(IFERROR(INDEX(Přehled_body!$E$3:$ED$130,MATCH(Tabulka!$AI78,Přehled_body!$A$3:$A$130,0),MATCH(Tabulka!X$2,Přehled_body!$E$1:$ED$1,0)),)=\"\",,IF(IFERROR(INDEX(Přehled_body!$E$3:$ED$130,MATCH(Tabulka!$AI78,Přehled_body!$A$3:$A$130,0),MATCH(Tabulka!X$2,Přehled_body!$E$1:$ED$1,0)),)=0,0.00000000001,IFERROR(INDEX(Přehled_body!$E$3:$ED$130,MATCH(Tabulka!$AI78,Přehled_body!$A$3:$A$130,0),MATCH(Tabulka!X$2,Přehled_body!$E$1:$ED$1,0)),)))","v":0},{"$f":"IF(IFERROR(INDEX(Přehled_body!$E$3:$ED$130,MATCH(Tabulka!$AI78,Přehled_body!$A$3:$A$130,0),MATCH(Tabulka!Y$2,Přehled_body!$E$1:$ED$1,0)),)=\"\",,IF(IFERROR(INDEX(Přehled_body!$E$3:$ED$130,MATCH(Tabulka!$AI78,Přehled_body!$A$3:$A$130,0),MATCH(Tabulka!Y$2,Přehled_body!$E$1:$ED$1,0)),)=0,0.00000000001,IFERROR(INDEX(Přehled_body!$E$3:$ED$130,MATCH(Tabulka!$AI78,Přehled_body!$A$3:$A$130,0),MATCH(Tabulka!Y$2,Přehled_body!$E$1:$ED$1,0)),)))","v":0},{"$f":"IF(IFERROR(INDEX(Přehled_body!$E$3:$ED$130,MATCH(Tabulka!$AI78,Přehled_body!$A$3:$A$130,0),MATCH(Tabulka!Z$2,Přehled_body!$E$1:$ED$1,0)),)=\"\",,IF(IFERROR(INDEX(Přehled_body!$E$3:$ED$130,MATCH(Tabulka!$AI78,Přehled_body!$A$3:$A$130,0),MATCH(Tabulka!Z$2,Přehled_body!$E$1:$ED$1,0)),)=0,0.00000000001,IFERROR(INDEX(Přehled_body!$E$3:$ED$130,MATCH(Tabulka!$AI78,Přehled_body!$A$3:$A$130,0),MATCH(Tabulka!Z$2,Přehled_body!$E$1:$ED$1,0)),)))","v":0},{"$f":"IF(IFERROR(INDEX(Přehled_body!$E$3:$ED$130,MATCH(Tabulka!$AI78,Přehled_body!$A$3:$A$130,0),MATCH(Tabulka!AA$2,Přehled_body!$E$1:$ED$1,0)),)=\"\",,IF(IFERROR(INDEX(Přehled_body!$E$3:$ED$130,MATCH(Tabulka!$AI78,Přehled_body!$A$3:$A$130,0),MATCH(Tabulka!AA$2,Přehled_body!$E$1:$ED$1,0)),)=0,0.00000000001,IFERROR(INDEX(Přehled_body!$E$3:$ED$130,MATCH(Tabulka!$AI78,Přehled_body!$A$3:$A$130,0),MATCH(Tabulka!AA$2,Přehled_body!$E$1:$ED$1,0)),)))","v":0},{"$f":"IF(IFERROR(INDEX(Přehled_body!$E$3:$ED$130,MATCH(Tabulka!$AI78,Přehled_body!$A$3:$A$130,0),MATCH(Tabulka!AB$2,Přehled_body!$E$1:$ED$1,0)),)=\"\",,IF(IFERROR(INDEX(Přehled_body!$E$3:$ED$130,MATCH(Tabulka!$AI78,Přehled_body!$A$3:$A$130,0),MATCH(Tabulka!AB$2,Přehled_body!$E$1:$ED$1,0)),)=0,0.00000000001,IFERROR(INDEX(Přehled_body!$E$3:$ED$130,MATCH(Tabulka!$AI78,Přehled_body!$A$3:$A$130,0),MATCH(Tabulka!AB$2,Přehled_body!$E$1:$ED$1,0)),)))","v":0},{"$f":"IF(IFERROR(INDEX(Přehled_body!$E$3:$ED$130,MATCH(Tabulka!$AI78,Přehled_body!$A$3:$A$130,0),MATCH(Tabulka!AC$2,Přehled_body!$E$1:$ED$1,0)),)=\"\",,IF(IFERROR(INDEX(Přehled_body!$E$3:$ED$130,MATCH(Tabulka!$AI78,Přehled_body!$A$3:$A$130,0),MATCH(Tabulka!AC$2,Přehled_body!$E$1:$ED$1,0)),)=0,0.00000000001,IFERROR(INDEX(Přehled_body!$E$3:$ED$130,MATCH(Tabulka!$AI78,Přehled_body!$A$3:$A$130,0),MATCH(Tabulka!AC$2,Přehled_body!$E$1:$ED$1,0)),)))","v":0},{"$f":"IF(IFERROR(INDEX(Přehled_body!$E$3:$ED$130,MATCH(Tabulka!$AI78,Přehled_body!$A$3:$A$130,0),MATCH(Tabulka!AD$2,Přehled_body!$E$1:$ED$1,0)),)=\"\",,IF(IFERROR(INDEX(Přehled_body!$E$3:$ED$130,MATCH(Tabulka!$AI78,Přehled_body!$A$3:$A$130,0),MATCH(Tabulka!AD$2,Přehled_body!$E$1:$ED$1,0)),)=0,0.00000000001,IFERROR(INDEX(Přehled_body!$E$3:$ED$130,MATCH(Tabulka!$AI78,Přehled_body!$A$3:$A$130,0),MATCH(Tabulka!AD$2,Přehled_body!$E$1:$ED$1,0)),)))","v":0},{"$f":"IF(SUM(AG74)<2,-90000+SUM(D78:AD78),SUM(D78:AD78))","v":-89995},null,null,5,{"$f":"CONCATENATE($B$75,\" \",$B$76,C78)","v":"Zdenek KanaďanPoč. kol"},null,null,1]
[16,null,"Výhry",{"$f":"IF(IFERROR(INDEX(Přehled_body!$E$3:$ED$130,MATCH(Tabulka!$AI79,Přehled_body!$A$3:$A$130,0),MATCH(Tabulka!D$2,Přehled_body!$E$1:$ED$1,0)),)=\"\",,IF(IFERROR(INDEX(Přehled_body!$E$3:$ED$130,MATCH(Tabulka!$AI79,Přehled_body!$A$3:$A$130,0),MATCH(Tabulka!D$2,Přehled_body!$E$1:$ED$1,0)),)=0,0.00000000001,IFERROR(INDEX(Přehled_body!$E$3:$ED$130,MATCH(Tabulka!$AI79,Přehled_body!$A$3:$A$130,0),MATCH(Tabulka!D$2,Přehled_body!$E$1:$ED$1,0)),)))","v":0},{"$f":"IF(IFERROR(INDEX(Přehled_body!$E$3:$ED$130,MATCH(Tabulka!$AI79,Přehled_body!$A$3:$A$130,0),MATCH(Tabulka!E$2,Přehled_body!$E$1:$ED$1,0)),)=\"\",,IF(IFERROR(INDEX(Přehled_body!$E$3:$ED$130,MATCH(Tabulka!$AI79,Přehled_body!$A$3:$A$130,0),MATCH(Tabulka!E$2,Přehled_body!$E$1:$ED$1,0)),)=0,0.00000000001,IFERROR(INDEX(Přehled_body!$E$3:$ED$130,MATCH(Tabulka!$AI79,Přehled_body!$A$3:$A$130,0),MATCH(Tabulka!E$2,Přehled_body!$E$1:$ED$1,0)),)))","v":0},{"$f":"IF(IFERROR(INDEX(Přehled_body!$E$3:$ED$130,MATCH(Tabulka!$AI79,Přehled_body!$A$3:$A$130,0),MATCH(Tabulka!F$2,Přehled_body!$E$1:$ED$1,0)),)=\"\",,IF(IFERROR(INDEX(Přehled_body!$E$3:$ED$130,MATCH(Tabulka!$AI79,Přehled_body!$A$3:$A$130,0),MATCH(Tabulka!F$2,Přehled_body!$E$1:$ED$1,0)),)=0,0.00000000001,IFERROR(INDEX(Přehled_body!$E$3:$ED$130,MATCH(Tabulka!$AI79,Přehled_body!$A$3:$A$130,0),MATCH(Tabulka!F$2,Přehled_body!$E$1:$ED$1,0)),)))","v":0},{"$f":"IF(IFERROR(INDEX(Přehled_body!$E$3:$ED$130,MATCH(Tabulka!$AI79,Přehled_body!$A$3:$A$130,0),MATCH(Tabulka!G$2,Přehled_body!$E$1:$ED$1,0)),)=\"\",,IF(IFERROR(INDEX(Přehled_body!$E$3:$ED$130,MATCH(Tabulka!$AI79,Přehled_body!$A$3:$A$130,0),MATCH(Tabulka!G$2,Přehled_body!$E$1:$ED$1,0)),)=0,0.00000000001,IFERROR(INDEX(Přehled_body!$E$3:$ED$130,MATCH(Tabulka!$AI79,Přehled_body!$A$3:$A$130,0),MATCH(Tabulka!G$2,Přehled_body!$E$1:$ED$1,0)),)))","v":0},{"$f":"IF(IFERROR(INDEX(Přehled_body!$E$3:$ED$130,MATCH(Tabulka!$AI79,Přehled_body!$A$3:$A$130,0),MATCH(Tabulka!H$2,Přehled_body!$E$1:$ED$1,0)),)=\"\",,IF(IFERROR(INDEX(Přehled_body!$E$3:$ED$130,MATCH(Tabulka!$AI79,Přehled_body!$A$3:$A$130,0),MATCH(Tabulka!H$2,Přehled_body!$E$1:$ED$1,0)),)=0,0.00000000001,IFERROR(INDEX(Přehled_body!$E$3:$ED$130,MATCH(Tabulka!$AI79,Přehled_body!$A$3:$A$130,0),MATCH(Tabulka!H$2,Přehled_body!$E$1:$ED$1,0)),)))","v":0},{"$f":"IF(IFERROR(INDEX(Přehled_body!$E$3:$ED$130,MATCH(Tabulka!$AI79,Přehled_body!$A$3:$A$130,0),MATCH(Tabulka!I$2,Přehled_body!$E$1:$ED$1,0)),)=\"\",,IF(IFERROR(INDEX(Přehled_body!$E$3:$ED$130,MATCH(Tabulka!$AI79,Přehled_body!$A$3:$A$130,0),MATCH(Tabulka!I$2,Přehled_body!$E$1:$ED$1,0)),)=0,0.00000000001,IFERROR(INDEX(Přehled_body!$E$3:$ED$130,MATCH(Tabulka!$AI79,Přehled_body!$A$3:$A$130,0),MATCH(Tabulka!I$2,Přehled_body!$E$1:$ED$1,0)),)))","v":0},{"$f":"IF(IFERROR(INDEX(Přehled_body!$E$3:$ED$130,MATCH(Tabulka!$AI79,Přehled_body!$A$3:$A$130,0),MATCH(Tabulka!J$2,Přehled_body!$E$1:$ED$1,0)),)=\"\",,IF(IFERROR(INDEX(Přehled_body!$E$3:$ED$130,MATCH(Tabulka!$AI79,Přehled_body!$A$3:$A$130,0),MATCH(Tabulka!J$2,Přehled_body!$E$1:$ED$1,0)),)=0,0.00000000001,IFERROR(INDEX(Přehled_body!$E$3:$ED$130,MATCH(Tabulka!$AI79,Přehled_body!$A$3:$A$130,0),MATCH(Tabulka!J$2,Přehled_body!$E$1:$ED$1,0)),)))","v":0},{"$f":"IF(IFERROR(INDEX(Přehled_body!$E$3:$ED$130,MATCH(Tabulka!$AI79,Přehled_body!$A$3:$A$130,0),MATCH(Tabulka!K$2,Přehled_body!$E$1:$ED$1,0)),)=\"\",,IF(IFERROR(INDEX(Přehled_body!$E$3:$ED$130,MATCH(Tabulka!$AI79,Přehled_body!$A$3:$A$130,0),MATCH(Tabulka!K$2,Přehled_body!$E$1:$ED$1,0)),)=0,0.00000000001,IFERROR(INDEX(Přehled_body!$E$3:$ED$130,MATCH(Tabulka!$AI79,Přehled_body!$A$3:$A$130,0),MATCH(Tabulka!K$2,Přehled_body!$E$1:$ED$1,0)),)))","v":0},{"$f":"IF(IFERROR(INDEX(Přehled_body!$E$3:$ED$130,MATCH(Tabulka!$AI79,Přehled_body!$A$3:$A$130,0),MATCH(Tabulka!L$2,Přehled_body!$E$1:$ED$1,0)),)=\"\",,IF(IFERROR(INDEX(Přehled_body!$E$3:$ED$130,MATCH(Tabulka!$AI79,Přehled_body!$A$3:$A$130,0),MATCH(Tabulka!L$2,Přehled_body!$E$1:$ED$1,0)),)=0,0.00000000001,IFERROR(INDEX(Přehled_body!$E$3:$ED$130,MATCH(Tabulka!$AI79,Přehled_body!$A$3:$A$130,0),MATCH(Tabulka!L$2,Přehled_body!$E$1:$ED$1,0)),)))","v":0},{"$f":"IF(IFERROR(INDEX(Přehled_body!$E$3:$ED$130,MATCH(Tabulka!$AI79,Přehled_body!$A$3:$A$130,0),MATCH(Tabulka!M$2,Přehled_body!$E$1:$ED$1,0)),)=\"\",,IF(IFERROR(INDEX(Přehled_body!$E$3:$ED$130,MATCH(Tabulka!$AI79,Přehled_body!$A$3:$A$130,0),MATCH(Tabulka!M$2,Přehled_body!$E$1:$ED$1,0)),)=0,0.00000000001,IFERROR(INDEX(Přehled_body!$E$3:$ED$130,MATCH(Tabulka!$AI79,Přehled_body!$A$3:$A$130,0),MATCH(Tabulka!M$2,Přehled_body!$E$1:$ED$1,0)),)))","v":0},{"$f":"IF(IFERROR(INDEX(Přehled_body!$E$3:$ED$130,MATCH(Tabulka!$AI79,Přehled_body!$A$3:$A$130,0),MATCH(Tabulka!N$2,Přehled_body!$E$1:$ED$1,0)),)=\"\",,IF(IFERROR(INDEX(Přehled_body!$E$3:$ED$130,MATCH(Tabulka!$AI79,Přehled_body!$A$3:$A$130,0),MATCH(Tabulka!N$2,Přehled_body!$E$1:$ED$1,0)),)=0,0.00000000001,IFERROR(INDEX(Přehled_body!$E$3:$ED$130,MATCH(Tabulka!$AI79,Přehled_body!$A$3:$A$130,0),MATCH(Tabulka!N$2,Přehled_body!$E$1:$ED$1,0)),)))","v":0},{"$f":"IF(IFERROR(INDEX(Přehled_body!$E$3:$ED$130,MATCH(Tabulka!$AI79,Přehled_body!$A$3:$A$130,0),MATCH(Tabulka!O$2,Přehled_body!$E$1:$ED$1,0)),)=\"\",,IF(IFERROR(INDEX(Přehled_body!$E$3:$ED$130,MATCH(Tabulka!$AI79,Přehled_body!$A$3:$A$130,0),MATCH(Tabulka!O$2,Přehled_body!$E$1:$ED$1,0)),)=0,0.00000000001,IFERROR(INDEX(Přehled_body!$E$3:$ED$130,MATCH(Tabulka!$AI79,Přehled_body!$A$3:$A$130,0),MATCH(Tabulka!O$2,Přehled_body!$E$1:$ED$1,0)),)))","v":0},{"$f":"IF(IFERROR(INDEX(Přehled_body!$E$3:$ED$130,MATCH(Tabulka!$AI79,Přehled_body!$A$3:$A$130,0),MATCH(Tabulka!P$2,Přehled_body!$E$1:$ED$1,0)),)=\"\",,IF(IFERROR(INDEX(Přehled_body!$E$3:$ED$130,MATCH(Tabulka!$AI79,Přehled_body!$A$3:$A$130,0),MATCH(Tabulka!P$2,Přehled_body!$E$1:$ED$1,0)),)=0,0.00000000001,IFERROR(INDEX(Přehled_body!$E$3:$ED$130,MATCH(Tabulka!$AI79,Přehled_body!$A$3:$A$130,0),MATCH(Tabulka!P$2,Přehled_body!$E$1:$ED$1,0)),)))","v":0},{"$f":"IF(IFERROR(INDEX(Přehled_body!$E$3:$ED$130,MATCH(Tabulka!$AI79,Přehled_body!$A$3:$A$130,0),MATCH(Tabulka!Q$2,Přehled_body!$E$1:$ED$1,0)),)=\"\",,IF(IFERROR(INDEX(Přehled_body!$E$3:$ED$130,MATCH(Tabulka!$AI79,Přehled_body!$A$3:$A$130,0),MATCH(Tabulka!Q$2,Přehled_body!$E$1:$ED$1,0)),)=0,0.00000000001,IFERROR(INDEX(Přehled_body!$E$3:$ED$130,MATCH(Tabulka!$AI79,Přehled_body!$A$3:$A$130,0),MATCH(Tabulka!Q$2,Přehled_body!$E$1:$ED$1,0)),)))","v":0},{"$f":"IF(IFERROR(INDEX(Přehled_body!$E$3:$ED$130,MATCH(Tabulka!$AI79,Přehled_body!$A$3:$A$130,0),MATCH(Tabulka!R$2,Přehled_body!$E$1:$ED$1,0)),)=\"\",,IF(IFERROR(INDEX(Přehled_body!$E$3:$ED$130,MATCH(Tabulka!$AI79,Přehled_body!$A$3:$A$130,0),MATCH(Tabulka!R$2,Přehled_body!$E$1:$ED$1,0)),)=0,0.00000000001,IFERROR(INDEX(Přehled_body!$E$3:$ED$130,MATCH(Tabulka!$AI79,Přehled_body!$A$3:$A$130,0),MATCH(Tabulka!R$2,Přehled_body!$E$1:$ED$1,0)),)))","v":0},{"$f":"IF(IFERROR(INDEX(Přehled_body!$E$3:$ED$130,MATCH(Tabulka!$AI79,Přehled_body!$A$3:$A$130,0),MATCH(Tabulka!S$2,Přehled_body!$E$1:$ED$1,0)),)=\"\",,IF(IFERROR(INDEX(Přehled_body!$E$3:$ED$130,MATCH(Tabulka!$AI79,Přehled_body!$A$3:$A$130,0),MATCH(Tabulka!S$2,Přehled_body!$E$1:$ED$1,0)),)=0,0.00000000001,IFERROR(INDEX(Přehled_body!$E$3:$ED$130,MATCH(Tabulka!$AI79,Přehled_body!$A$3:$A$130,0),MATCH(Tabulka!S$2,Přehled_body!$E$1:$ED$1,0)),)))","v":0},{"$f":"IF(IFERROR(INDEX(Přehled_body!$E$3:$ED$130,MATCH(Tabulka!$AI79,Přehled_body!$A$3:$A$130,0),MATCH(Tabulka!T$2,Přehled_body!$E$1:$ED$1,0)),)=\"\",,IF(IFERROR(INDEX(Přehled_body!$E$3:$ED$130,MATCH(Tabulka!$AI79,Přehled_body!$A$3:$A$130,0),MATCH(Tabulka!T$2,Přehled_body!$E$1:$ED$1,0)),)=0,0.00000000001,IFERROR(INDEX(Přehled_body!$E$3:$ED$130,MATCH(Tabulka!$AI79,Přehled_body!$A$3:$A$130,0),MATCH(Tabulka!T$2,Přehled_body!$E$1:$ED$1,0)),)))","v":0},{"$f":"IF(IFERROR(INDEX(Přehled_body!$E$3:$ED$130,MATCH(Tabulka!$AI79,Přehled_body!$A$3:$A$130,0),MATCH(Tabulka!U$2,Přehled_body!$E$1:$ED$1,0)),)=\"\",,IF(IFERROR(INDEX(Přehled_body!$E$3:$ED$130,MATCH(Tabulka!$AI79,Přehled_body!$A$3:$A$130,0),MATCH(Tabulka!U$2,Přehled_body!$E$1:$ED$1,0)),)=0,0.00000000001,IFERROR(INDEX(Přehled_body!$E$3:$ED$130,MATCH(Tabulka!$AI79,Přehled_body!$A$3:$A$130,0),MATCH(Tabulka!U$2,Přehled_body!$E$1:$ED$1,0)),)))","v":0},{"$f":"IF(IFERROR(INDEX(Přehled_body!$E$3:$ED$130,MATCH(Tabulka!$AI79,Přehled_body!$A$3:$A$130,0),MATCH(Tabulka!V$2,Přehled_body!$E$1:$ED$1,0)),)=\"\",,IF(IFERROR(INDEX(Přehled_body!$E$3:$ED$130,MATCH(Tabulka!$AI79,Přehled_body!$A$3:$A$130,0),MATCH(Tabulka!V$2,Přehled_body!$E$1:$ED$1,0)),)=0,0.00000000001,IFERROR(INDEX(Přehled_body!$E$3:$ED$130,MATCH(Tabulka!$AI79,Přehled_body!$A$3:$A$130,0),MATCH(Tabulka!V$2,Přehled_body!$E$1:$ED$1,0)),)))","v":0},{"$f":"IF(IFERROR(INDEX(Přehled_body!$E$3:$ED$130,MATCH(Tabulka!$AI79,Přehled_body!$A$3:$A$130,0),MATCH(Tabulka!W$2,Přehled_body!$E$1:$ED$1,0)),)=\"\",,IF(IFERROR(INDEX(Přehled_body!$E$3:$ED$130,MATCH(Tabulka!$AI79,Přehled_body!$A$3:$A$130,0),MATCH(Tabulka!W$2,Přehled_body!$E$1:$ED$1,0)),)=0,0.00000000001,IFERROR(INDEX(Přehled_body!$E$3:$ED$130,MATCH(Tabulka!$AI79,Přehled_body!$A$3:$A$130,0),MATCH(Tabulka!W$2,Přehled_body!$E$1:$ED$1,0)),)))","v":0},{"$f":"IF(IFERROR(INDEX(Přehled_body!$E$3:$ED$130,MATCH(Tabulka!$AI79,Přehled_body!$A$3:$A$130,0),MATCH(Tabulka!X$2,Přehled_body!$E$1:$ED$1,0)),)=\"\",,IF(IFERROR(INDEX(Přehled_body!$E$3:$ED$130,MATCH(Tabulka!$AI79,Přehled_body!$A$3:$A$130,0),MATCH(Tabulka!X$2,Přehled_body!$E$1:$ED$1,0)),)=0,0.00000000001,IFERROR(INDEX(Přehled_body!$E$3:$ED$130,MATCH(Tabulka!$AI79,Přehled_body!$A$3:$A$130,0),MATCH(Tabulka!X$2,Přehled_body!$E$1:$ED$1,0)),)))","v":0},{"$f":"IF(IFERROR(INDEX(Přehled_body!$E$3:$ED$130,MATCH(Tabulka!$AI79,Přehled_body!$A$3:$A$130,0),MATCH(Tabulka!Y$2,Přehled_body!$E$1:$ED$1,0)),)=\"\",,IF(IFERROR(INDEX(Přehled_body!$E$3:$ED$130,MATCH(Tabulka!$AI79,Přehled_body!$A$3:$A$130,0),MATCH(Tabulka!Y$2,Přehled_body!$E$1:$ED$1,0)),)=0,0.00000000001,IFERROR(INDEX(Přehled_body!$E$3:$ED$130,MATCH(Tabulka!$AI79,Přehled_body!$A$3:$A$130,0),MATCH(Tabulka!Y$2,Přehled_body!$E$1:$ED$1,0)),)))","v":0},{"$f":"IF(IFERROR(INDEX(Přehled_body!$E$3:$ED$130,MATCH(Tabulka!$AI79,Přehled_body!$A$3:$A$130,0),MATCH(Tabulka!Z$2,Přehled_body!$E$1:$ED$1,0)),)=\"\",,IF(IFERROR(INDEX(Přehled_body!$E$3:$ED$130,MATCH(Tabulka!$AI79,Přehled_body!$A$3:$A$130,0),MATCH(Tabulka!Z$2,Přehled_body!$E$1:$ED$1,0)),)=0,0.00000000001,IFERROR(INDEX(Přehled_body!$E$3:$ED$130,MATCH(Tabulka!$AI79,Přehled_body!$A$3:$A$130,0),MATCH(Tabulka!Z$2,Přehled_body!$E$1:$ED$1,0)),)))","v":0},{"$f":"IF(IFERROR(INDEX(Přehled_body!$E$3:$ED$130,MATCH(Tabulka!$AI79,Přehled_body!$A$3:$A$130,0),MATCH(Tabulka!AA$2,Přehled_body!$E$1:$ED$1,0)),)=\"\",,IF(IFERROR(INDEX(Přehled_body!$E$3:$ED$130,MATCH(Tabulka!$AI79,Přehled_body!$A$3:$A$130,0),MATCH(Tabulka!AA$2,Přehled_body!$E$1:$ED$1,0)),)=0,0.00000000001,IFERROR(INDEX(Přehled_body!$E$3:$ED$130,MATCH(Tabulka!$AI79,Přehled_body!$A$3:$A$130,0),MATCH(Tabulka!AA$2,Přehled_body!$E$1:$ED$1,0)),)))","v":0},{"$f":"IF(IFERROR(INDEX(Přehled_body!$E$3:$ED$130,MATCH(Tabulka!$AI79,Přehled_body!$A$3:$A$130,0),MATCH(Tabulka!AB$2,Přehled_body!$E$1:$ED$1,0)),)=\"\",,IF(IFERROR(INDEX(Přehled_body!$E$3:$ED$130,MATCH(Tabulka!$AI79,Přehled_body!$A$3:$A$130,0),MATCH(Tabulka!AB$2,Přehled_body!$E$1:$ED$1,0)),)=0,0.00000000001,IFERROR(INDEX(Přehled_body!$E$3:$ED$130,MATCH(Tabulka!$AI79,Přehled_body!$A$3:$A$130,0),MATCH(Tabulka!AB$2,Přehled_body!$E$1:$ED$1,0)),)))","v":0},{"$f":"IF(IFERROR(INDEX(Přehled_body!$E$3:$ED$130,MATCH(Tabulka!$AI79,Přehled_body!$A$3:$A$130,0),MATCH(Tabulka!AC$2,Přehled_body!$E$1:$ED$1,0)),)=\"\",,IF(IFERROR(INDEX(Přehled_body!$E$3:$ED$130,MATCH(Tabulka!$AI79,Přehled_body!$A$3:$A$130,0),MATCH(Tabulka!AC$2,Přehled_body!$E$1:$ED$1,0)),)=0,0.00000000001,IFERROR(INDEX(Přehled_body!$E$3:$ED$130,MATCH(Tabulka!$AI79,Přehled_body!$A$3:$A$130,0),MATCH(Tabulka!AC$2,Přehled_body!$E$1:$ED$1,0)),)))","v":0},{"$f":"IF(IFERROR(INDEX(Přehled_body!$E$3:$ED$130,MATCH(Tabulka!$AI79,Přehled_body!$A$3:$A$130,0),MATCH(Tabulka!AD$2,Přehled_body!$E$1:$ED$1,0)),)=\"\",,IF(IFERROR(INDEX(Přehled_body!$E$3:$ED$130,MATCH(Tabulka!$AI79,Přehled_body!$A$3:$A$130,0),MATCH(Tabulka!AD$2,Přehled_body!$E$1:$ED$1,0)),)=0,0.00000000001,IFERROR(INDEX(Přehled_body!$E$3:$ED$130,MATCH(Tabulka!$AI79,Přehled_body!$A$3:$A$130,0),MATCH(Tabulka!AD$2,Přehled_body!$E$1:$ED$1,0)),)))","v":0},{"$f":"IF(SUM(AG79)<2,-90000+SUM(D79:AD79),SUM(D79:AD79))","v":-90000},null,{"$f":"COUNTIF(D79:AD79,\">0\")","v":0},0,{"$f":"CONCATENATE($B$80,\" \",$B$81,C79)","v":"Iva IvankaVýhry"},null,null,0]
[{"$f":"CONCATENATE(B80,\" \",B81)","v":"Iva Ivanka"},"Iva","Prohry",{"$f":"IF(IFERROR(INDEX(Přehled_body!$E$3:$ED$130,MATCH(Tabulka!$AI80,Přehled_body!$A$3:$A$130,0),MATCH(Tabulka!D$2,Přehled_body!$E$1:$ED$1,0)),)=\"\",,IF(IFERROR(INDEX(Přehled_body!$E$3:$ED$130,MATCH(Tabulka!$AI80,Přehled_body!$A$3:$A$130,0),MATCH(Tabulka!D$2,Přehled_body!$E$1:$ED$1,0)),)=0,0.00000000001,IFERROR(INDEX(Přehled_body!$E$3:$ED$130,MATCH(Tabulka!$AI80,Přehled_body!$A$3:$A$130,0),MATCH(Tabulka!D$2,Přehled_body!$E$1:$ED$1,0)),)))","v":0},{"$f":"IF(IFERROR(INDEX(Přehled_body!$E$3:$ED$130,MATCH(Tabulka!$AI80,Přehled_body!$A$3:$A$130,0),MATCH(Tabulka!E$2,Přehled_body!$E$1:$ED$1,0)),)=\"\",,IF(IFERROR(INDEX(Přehled_body!$E$3:$ED$130,MATCH(Tabulka!$AI80,Přehled_body!$A$3:$A$130,0),MATCH(Tabulka!E$2,Přehled_body!$E$1:$ED$1,0)),)=0,0.00000000001,IFERROR(INDEX(Přehled_body!$E$3:$ED$130,MATCH(Tabulka!$AI80,Přehled_body!$A$3:$A$130,0),MATCH(Tabulka!E$2,Přehled_body!$E$1:$ED$1,0)),)))","v":0},{"$f":"IF(IFERROR(INDEX(Přehled_body!$E$3:$ED$130,MATCH(Tabulka!$AI80,Přehled_body!$A$3:$A$130,0),MATCH(Tabulka!F$2,Přehled_body!$E$1:$ED$1,0)),)=\"\",,IF(IFERROR(INDEX(Přehled_body!$E$3:$ED$130,MATCH(Tabulka!$AI80,Přehled_body!$A$3:$A$130,0),MATCH(Tabulka!F$2,Přehled_body!$E$1:$ED$1,0)),)=0,0.00000000001,IFERROR(INDEX(Přehled_body!$E$3:$ED$130,MATCH(Tabulka!$AI80,Přehled_body!$A$3:$A$130,0),MATCH(Tabulka!F$2,Přehled_body!$E$1:$ED$1,0)),)))","v":0},{"$f":"IF(IFERROR(INDEX(Přehled_body!$E$3:$ED$130,MATCH(Tabulka!$AI80,Přehled_body!$A$3:$A$130,0),MATCH(Tabulka!G$2,Přehled_body!$E$1:$ED$1,0)),)=\"\",,IF(IFERROR(INDEX(Přehled_body!$E$3:$ED$130,MATCH(Tabulka!$AI80,Přehled_body!$A$3:$A$130,0),MATCH(Tabulka!G$2,Přehled_body!$E$1:$ED$1,0)),)=0,0.00000000001,IFERROR(INDEX(Přehled_body!$E$3:$ED$130,MATCH(Tabulka!$AI80,Přehled_body!$A$3:$A$130,0),MATCH(Tabulka!G$2,Přehled_body!$E$1:$ED$1,0)),)))","v":0},{"$f":"IF(IFERROR(INDEX(Přehled_body!$E$3:$ED$130,MATCH(Tabulka!$AI80,Přehled_body!$A$3:$A$130,0),MATCH(Tabulka!H$2,Přehled_body!$E$1:$ED$1,0)),)=\"\",,IF(IFERROR(INDEX(Přehled_body!$E$3:$ED$130,MATCH(Tabulka!$AI80,Přehled_body!$A$3:$A$130,0),MATCH(Tabulka!H$2,Přehled_body!$E$1:$ED$1,0)),)=0,0.00000000001,IFERROR(INDEX(Přehled_body!$E$3:$ED$130,MATCH(Tabulka!$AI80,Přehled_body!$A$3:$A$130,0),MATCH(Tabulka!H$2,Přehled_body!$E$1:$ED$1,0)),)))","v":0},{"$f":"IF(IFERROR(INDEX(Přehled_body!$E$3:$ED$130,MATCH(Tabulka!$AI80,Přehled_body!$A$3:$A$130,0),MATCH(Tabulka!I$2,Přehled_body!$E$1:$ED$1,0)),)=\"\",,IF(IFERROR(INDEX(Přehled_body!$E$3:$ED$130,MATCH(Tabulka!$AI80,Přehled_body!$A$3:$A$130,0),MATCH(Tabulka!I$2,Přehled_body!$E$1:$ED$1,0)),)=0,0.00000000001,IFERROR(INDEX(Přehled_body!$E$3:$ED$130,MATCH(Tabulka!$AI80,Přehled_body!$A$3:$A$130,0),MATCH(Tabulka!I$2,Přehled_body!$E$1:$ED$1,0)),)))","v":0},{"$f":"IF(IFERROR(INDEX(Přehled_body!$E$3:$ED$130,MATCH(Tabulka!$AI80,Přehled_body!$A$3:$A$130,0),MATCH(Tabulka!J$2,Přehled_body!$E$1:$ED$1,0)),)=\"\",,IF(IFERROR(INDEX(Přehled_body!$E$3:$ED$130,MATCH(Tabulka!$AI80,Přehled_body!$A$3:$A$130,0),MATCH(Tabulka!J$2,Přehled_body!$E$1:$ED$1,0)),)=0,0.00000000001,IFERROR(INDEX(Přehled_body!$E$3:$ED$130,MATCH(Tabulka!$AI80,Přehled_body!$A$3:$A$130,0),MATCH(Tabulka!J$2,Přehled_body!$E$1:$ED$1,0)),)))","v":0},{"$f":"IF(IFERROR(INDEX(Přehled_body!$E$3:$ED$130,MATCH(Tabulka!$AI80,Přehled_body!$A$3:$A$130,0),MATCH(Tabulka!K$2,Přehled_body!$E$1:$ED$1,0)),)=\"\",,IF(IFERROR(INDEX(Přehled_body!$E$3:$ED$130,MATCH(Tabulka!$AI80,Přehled_body!$A$3:$A$130,0),MATCH(Tabulka!K$2,Přehled_body!$E$1:$ED$1,0)),)=0,0.00000000001,IFERROR(INDEX(Přehled_body!$E$3:$ED$130,MATCH(Tabulka!$AI80,Přehled_body!$A$3:$A$130,0),MATCH(Tabulka!K$2,Přehled_body!$E$1:$ED$1,0)),)))","v":0},{"$f":"IF(IFERROR(INDEX(Přehled_body!$E$3:$ED$130,MATCH(Tabulka!$AI80,Přehled_body!$A$3:$A$130,0),MATCH(Tabulka!L$2,Přehled_body!$E$1:$ED$1,0)),)=\"\",,IF(IFERROR(INDEX(Přehled_body!$E$3:$ED$130,MATCH(Tabulka!$AI80,Přehled_body!$A$3:$A$130,0),MATCH(Tabulka!L$2,Přehled_body!$E$1:$ED$1,0)),)=0,0.00000000001,IFERROR(INDEX(Přehled_body!$E$3:$ED$130,MATCH(Tabulka!$AI80,Přehled_body!$A$3:$A$130,0),MATCH(Tabulka!L$2,Přehled_body!$E$1:$ED$1,0)),)))","v":0},{"$f":"IF(IFERROR(INDEX(Přehled_body!$E$3:$ED$130,MATCH(Tabulka!$AI80,Přehled_body!$A$3:$A$130,0),MATCH(Tabulka!M$2,Přehled_body!$E$1:$ED$1,0)),)=\"\",,IF(IFERROR(INDEX(Přehled_body!$E$3:$ED$130,MATCH(Tabulka!$AI80,Přehled_body!$A$3:$A$130,0),MATCH(Tabulka!M$2,Přehled_body!$E$1:$ED$1,0)),)=0,0.00000000001,IFERROR(INDEX(Přehled_body!$E$3:$ED$130,MATCH(Tabulka!$AI80,Přehled_body!$A$3:$A$130,0),MATCH(Tabulka!M$2,Přehled_body!$E$1:$ED$1,0)),)))","v":0},{"$f":"IF(IFERROR(INDEX(Přehled_body!$E$3:$ED$130,MATCH(Tabulka!$AI80,Přehled_body!$A$3:$A$130,0),MATCH(Tabulka!N$2,Přehled_body!$E$1:$ED$1,0)),)=\"\",,IF(IFERROR(INDEX(Přehled_body!$E$3:$ED$130,MATCH(Tabulka!$AI80,Přehled_body!$A$3:$A$130,0),MATCH(Tabulka!N$2,Přehled_body!$E$1:$ED$1,0)),)=0,0.00000000001,IFERROR(INDEX(Přehled_body!$E$3:$ED$130,MATCH(Tabulka!$AI80,Přehled_body!$A$3:$A$130,0),MATCH(Tabulka!N$2,Přehled_body!$E$1:$ED$1,0)),)))","v":0},{"$f":"IF(IFERROR(INDEX(Přehled_body!$E$3:$ED$130,MATCH(Tabulka!$AI80,Přehled_body!$A$3:$A$130,0),MATCH(Tabulka!O$2,Přehled_body!$E$1:$ED$1,0)),)=\"\",,IF(IFERROR(INDEX(Přehled_body!$E$3:$ED$130,MATCH(Tabulka!$AI80,Přehled_body!$A$3:$A$130,0),MATCH(Tabulka!O$2,Přehled_body!$E$1:$ED$1,0)),)=0,0.00000000001,IFERROR(INDEX(Přehled_body!$E$3:$ED$130,MATCH(Tabulka!$AI80,Přehled_body!$A$3:$A$130,0),MATCH(Tabulka!O$2,Přehled_body!$E$1:$ED$1,0)),)))","v":0},{"$f":"IF(IFERROR(INDEX(Přehled_body!$E$3:$ED$130,MATCH(Tabulka!$AI80,Přehled_body!$A$3:$A$130,0),MATCH(Tabulka!P$2,Přehled_body!$E$1:$ED$1,0)),)=\"\",,IF(IFERROR(INDEX(Přehled_body!$E$3:$ED$130,MATCH(Tabulka!$AI80,Přehled_body!$A$3:$A$130,0),MATCH(Tabulka!P$2,Přehled_body!$E$1:$ED$1,0)),)=0,0.00000000001,IFERROR(INDEX(Přehled_body!$E$3:$ED$130,MATCH(Tabulka!$AI80,Přehled_body!$A$3:$A$130,0),MATCH(Tabulka!P$2,Přehled_body!$E$1:$ED$1,0)),)))","v":0},{"$f":"IF(IFERROR(INDEX(Přehled_body!$E$3:$ED$130,MATCH(Tabulka!$AI80,Přehled_body!$A$3:$A$130,0),MATCH(Tabulka!Q$2,Přehled_body!$E$1:$ED$1,0)),)=\"\",,IF(IFERROR(INDEX(Přehled_body!$E$3:$ED$130,MATCH(Tabulka!$AI80,Přehled_body!$A$3:$A$130,0),MATCH(Tabulka!Q$2,Přehled_body!$E$1:$ED$1,0)),)=0,0.00000000001,IFERROR(INDEX(Přehled_body!$E$3:$ED$130,MATCH(Tabulka!$AI80,Přehled_body!$A$3:$A$130,0),MATCH(Tabulka!Q$2,Přehled_body!$E$1:$ED$1,0)),)))","v":0},{"$f":"IF(IFERROR(INDEX(Přehled_body!$E$3:$ED$130,MATCH(Tabulka!$AI80,Přehled_body!$A$3:$A$130,0),MATCH(Tabulka!R$2,Přehled_body!$E$1:$ED$1,0)),)=\"\",,IF(IFERROR(INDEX(Přehled_body!$E$3:$ED$130,MATCH(Tabulka!$AI80,Přehled_body!$A$3:$A$130,0),MATCH(Tabulka!R$2,Přehled_body!$E$1:$ED$1,0)),)=0,0.00000000001,IFERROR(INDEX(Přehled_body!$E$3:$ED$130,MATCH(Tabulka!$AI80,Přehled_body!$A$3:$A$130,0),MATCH(Tabulka!R$2,Přehled_body!$E$1:$ED$1,0)),)))","v":0},{"$f":"IF(IFERROR(INDEX(Přehled_body!$E$3:$ED$130,MATCH(Tabulka!$AI80,Přehled_body!$A$3:$A$130,0),MATCH(Tabulka!S$2,Přehled_body!$E$1:$ED$1,0)),)=\"\",,IF(IFERROR(INDEX(Přehled_body!$E$3:$ED$130,MATCH(Tabulka!$AI80,Přehled_body!$A$3:$A$130,0),MATCH(Tabulka!S$2,Přehled_body!$E$1:$ED$1,0)),)=0,0.00000000001,IFERROR(INDEX(Přehled_body!$E$3:$ED$130,MATCH(Tabulka!$AI80,Přehled_body!$A$3:$A$130,0),MATCH(Tabulka!S$2,Přehled_body!$E$1:$ED$1,0)),)))","v":0},{"$f":"IF(IFERROR(INDEX(Přehled_body!$E$3:$ED$130,MATCH(Tabulka!$AI80,Přehled_body!$A$3:$A$130,0),MATCH(Tabulka!T$2,Přehled_body!$E$1:$ED$1,0)),)=\"\",,IF(IFERROR(INDEX(Přehled_body!$E$3:$ED$130,MATCH(Tabulka!$AI80,Přehled_body!$A$3:$A$130,0),MATCH(Tabulka!T$2,Přehled_body!$E$1:$ED$1,0)),)=0,0.00000000001,IFERROR(INDEX(Přehled_body!$E$3:$ED$130,MATCH(Tabulka!$AI80,Přehled_body!$A$3:$A$130,0),MATCH(Tabulka!T$2,Přehled_body!$E$1:$ED$1,0)),)))","v":0},{"$f":"IF(IFERROR(INDEX(Přehled_body!$E$3:$ED$130,MATCH(Tabulka!$AI80,Přehled_body!$A$3:$A$130,0),MATCH(Tabulka!U$2,Přehled_body!$E$1:$ED$1,0)),)=\"\",,IF(IFERROR(INDEX(Přehled_body!$E$3:$ED$130,MATCH(Tabulka!$AI80,Přehled_body!$A$3:$A$130,0),MATCH(Tabulka!U$2,Přehled_body!$E$1:$ED$1,0)),)=0,0.00000000001,IFERROR(INDEX(Přehled_body!$E$3:$ED$130,MATCH(Tabulka!$AI80,Přehled_body!$A$3:$A$130,0),MATCH(Tabulka!U$2,Přehled_body!$E$1:$ED$1,0)),)))","v":0},{"$f":"IF(IFERROR(INDEX(Přehled_body!$E$3:$ED$130,MATCH(Tabulka!$AI80,Přehled_body!$A$3:$A$130,0),MATCH(Tabulka!V$2,Přehled_body!$E$1:$ED$1,0)),)=\"\",,IF(IFERROR(INDEX(Přehled_body!$E$3:$ED$130,MATCH(Tabulka!$AI80,Přehled_body!$A$3:$A$130,0),MATCH(Tabulka!V$2,Přehled_body!$E$1:$ED$1,0)),)=0,0.00000000001,IFERROR(INDEX(Přehled_body!$E$3:$ED$130,MATCH(Tabulka!$AI80,Přehled_body!$A$3:$A$130,0),MATCH(Tabulka!V$2,Přehled_body!$E$1:$ED$1,0)),)))","v":0},{"$f":"IF(IFERROR(INDEX(Přehled_body!$E$3:$ED$130,MATCH(Tabulka!$AI80,Přehled_body!$A$3:$A$130,0),MATCH(Tabulka!W$2,Přehled_body!$E$1:$ED$1,0)),)=\"\",,IF(IFERROR(INDEX(Přehled_body!$E$3:$ED$130,MATCH(Tabulka!$AI80,Přehled_body!$A$3:$A$130,0),MATCH(Tabulka!W$2,Přehled_body!$E$1:$ED$1,0)),)=0,0.00000000001,IFERROR(INDEX(Přehled_body!$E$3:$ED$130,MATCH(Tabulka!$AI80,Přehled_body!$A$3:$A$130,0),MATCH(Tabulka!W$2,Přehled_body!$E$1:$ED$1,0)),)))","v":0},{"$f":"IF(IFERROR(INDEX(Přehled_body!$E$3:$ED$130,MATCH(Tabulka!$AI80,Přehled_body!$A$3:$A$130,0),MATCH(Tabulka!X$2,Přehled_body!$E$1:$ED$1,0)),)=\"\",,IF(IFERROR(INDEX(Přehled_body!$E$3:$ED$130,MATCH(Tabulka!$AI80,Přehled_body!$A$3:$A$130,0),MATCH(Tabulka!X$2,Přehled_body!$E$1:$ED$1,0)),)=0,0.00000000001,IFERROR(INDEX(Přehled_body!$E$3:$ED$130,MATCH(Tabulka!$AI80,Přehled_body!$A$3:$A$130,0),MATCH(Tabulka!X$2,Přehled_body!$E$1:$ED$1,0)),)))","v":0},{"$f":"IF(IFERROR(INDEX(Přehled_body!$E$3:$ED$130,MATCH(Tabulka!$AI80,Přehled_body!$A$3:$A$130,0),MATCH(Tabulka!Y$2,Přehled_body!$E$1:$ED$1,0)),)=\"\",,IF(IFERROR(INDEX(Přehled_body!$E$3:$ED$130,MATCH(Tabulka!$AI80,Přehled_body!$A$3:$A$130,0),MATCH(Tabulka!Y$2,Přehled_body!$E$1:$ED$1,0)),)=0,0.00000000001,IFERROR(INDEX(Přehled_body!$E$3:$ED$130,MATCH(Tabulka!$AI80,Přehled_body!$A$3:$A$130,0),MATCH(Tabulka!Y$2,Přehled_body!$E$1:$ED$1,0)),)))","v":0},{"$f":"IF(IFERROR(INDEX(Přehled_body!$E$3:$ED$130,MATCH(Tabulka!$AI80,Přehled_body!$A$3:$A$130,0),MATCH(Tabulka!Z$2,Přehled_body!$E$1:$ED$1,0)),)=\"\",,IF(IFERROR(INDEX(Přehled_body!$E$3:$ED$130,MATCH(Tabulka!$AI80,Přehled_body!$A$3:$A$130,0),MATCH(Tabulka!Z$2,Přehled_body!$E$1:$ED$1,0)),)=0,0.00000000001,IFERROR(INDEX(Přehled_body!$E$3:$ED$130,MATCH(Tabulka!$AI80,Přehled_body!$A$3:$A$130,0),MATCH(Tabulka!Z$2,Přehled_body!$E$1:$ED$1,0)),)))","v":0},{"$f":"IF(IFERROR(INDEX(Přehled_body!$E$3:$ED$130,MATCH(Tabulka!$AI80,Přehled_body!$A$3:$A$130,0),MATCH(Tabulka!AA$2,Přehled_body!$E$1:$ED$1,0)),)=\"\",,IF(IFERROR(INDEX(Přehled_body!$E$3:$ED$130,MATCH(Tabulka!$AI80,Přehled_body!$A$3:$A$130,0),MATCH(Tabulka!AA$2,Přehled_body!$E$1:$ED$1,0)),)=0,0.00000000001,IFERROR(INDEX(Přehled_body!$E$3:$ED$130,MATCH(Tabulka!$AI80,Přehled_body!$A$3:$A$130,0),MATCH(Tabulka!AA$2,Přehled_body!$E$1:$ED$1,0)),)))","v":0},{"$f":"IF(IFERROR(INDEX(Přehled_body!$E$3:$ED$130,MATCH(Tabulka!$AI80,Přehled_body!$A$3:$A$130,0),MATCH(Tabulka!AB$2,Přehled_body!$E$1:$ED$1,0)),)=\"\",,IF(IFERROR(INDEX(Přehled_body!$E$3:$ED$130,MATCH(Tabulka!$AI80,Přehled_body!$A$3:$A$130,0),MATCH(Tabulka!AB$2,Přehled_body!$E$1:$ED$1,0)),)=0,0.00000000001,IFERROR(INDEX(Přehled_body!$E$3:$ED$130,MATCH(Tabulka!$AI80,Přehled_body!$A$3:$A$130,0),MATCH(Tabulka!AB$2,Přehled_body!$E$1:$ED$1,0)),)))","v":0},{"$f":"IF(IFERROR(INDEX(Přehled_body!$E$3:$ED$130,MATCH(Tabulka!$AI80,Přehled_body!$A$3:$A$130,0),MATCH(Tabulka!AC$2,Přehled_body!$E$1:$ED$1,0)),)=\"\",,IF(IFERROR(INDEX(Přehled_body!$E$3:$ED$130,MATCH(Tabulka!$AI80,Přehled_body!$A$3:$A$130,0),MATCH(Tabulka!AC$2,Přehled_body!$E$1:$ED$1,0)),)=0,0.00000000001,IFERROR(INDEX(Přehled_body!$E$3:$ED$130,MATCH(Tabulka!$AI80,Přehled_body!$A$3:$A$130,0),MATCH(Tabulka!AC$2,Přehled_body!$E$1:$ED$1,0)),)))","v":0},{"$f":"IF(IFERROR(INDEX(Přehled_body!$E$3:$ED$130,MATCH(Tabulka!$AI80,Přehled_body!$A$3:$A$130,0),MATCH(Tabulka!AD$2,Přehled_body!$E$1:$ED$1,0)),)=\"\",,IF(IFERROR(INDEX(Přehled_body!$E$3:$ED$130,MATCH(Tabulka!$AI80,Přehled_body!$A$3:$A$130,0),MATCH(Tabulka!AD$2,Přehled_body!$E$1:$ED$1,0)),)=0,0.00000000001,IFERROR(INDEX(Přehled_body!$E$3:$ED$130,MATCH(Tabulka!$AI80,Přehled_body!$A$3:$A$130,0),MATCH(Tabulka!AD$2,Přehled_body!$E$1:$ED$1,0)),)))","v":0},{"$f":"IF(SUM(AG79)<2,-90000+SUM(D80:AD80),SUM(D80:AD80))","v":-90000},{"$f":"SUM(AE79-AE80)","v":0},null,0,{"$f":"CONCATENATE($B$80,\" \",$B$81,C80)","v":"Iva IvankaProhry"},null,null,0,null,null,"Iva",16]
[{"$f":"CONCATENATE(B81,\" \",B80)","v":"Ivanka Iva"},"Ivanka","Placeno panáků",{"$f":"IF(IFERROR(INDEX(Přehled_body!$E$3:$ED$130,MATCH(Tabulka!$AI81,Přehled_body!$A$3:$A$130,0),MATCH(Tabulka!D$2,Přehled_body!$E$1:$ED$1,0)),)=\"\",,IF(IFERROR(INDEX(Přehled_body!$E$3:$ED$130,MATCH(Tabulka!$AI81,Přehled_body!$A$3:$A$130,0),MATCH(Tabulka!D$2,Přehled_body!$E$1:$ED$1,0)),)=0,0.00000000001,IFERROR(INDEX(Přehled_body!$E$3:$ED$130,MATCH(Tabulka!$AI81,Přehled_body!$A$3:$A$130,0),MATCH(Tabulka!D$2,Přehled_body!$E$1:$ED$1,0)),)))","v":0},{"$f":"IF(IFERROR(INDEX(Přehled_body!$E$3:$ED$130,MATCH(Tabulka!$AI81,Přehled_body!$A$3:$A$130,0),MATCH(Tabulka!E$2,Přehled_body!$E$1:$ED$1,0)),)=\"\",,IF(IFERROR(INDEX(Přehled_body!$E$3:$ED$130,MATCH(Tabulka!$AI81,Přehled_body!$A$3:$A$130,0),MATCH(Tabulka!E$2,Přehled_body!$E$1:$ED$1,0)),)=0,0.00000000001,IFERROR(INDEX(Přehled_body!$E$3:$ED$130,MATCH(Tabulka!$AI81,Přehled_body!$A$3:$A$130,0),MATCH(Tabulka!E$2,Přehled_body!$E$1:$ED$1,0)),)))","v":0},{"$f":"IF(IFERROR(INDEX(Přehled_body!$E$3:$ED$130,MATCH(Tabulka!$AI81,Přehled_body!$A$3:$A$130,0),MATCH(Tabulka!F$2,Přehled_body!$E$1:$ED$1,0)),)=\"\",,IF(IFERROR(INDEX(Přehled_body!$E$3:$ED$130,MATCH(Tabulka!$AI81,Přehled_body!$A$3:$A$130,0),MATCH(Tabulka!F$2,Přehled_body!$E$1:$ED$1,0)),)=0,0.00000000001,IFERROR(INDEX(Přehled_body!$E$3:$ED$130,MATCH(Tabulka!$AI81,Přehled_body!$A$3:$A$130,0),MATCH(Tabulka!F$2,Přehled_body!$E$1:$ED$1,0)),)))","v":0},{"$f":"IF(IFERROR(INDEX(Přehled_body!$E$3:$ED$130,MATCH(Tabulka!$AI81,Přehled_body!$A$3:$A$130,0),MATCH(Tabulka!G$2,Přehled_body!$E$1:$ED$1,0)),)=\"\",,IF(IFERROR(INDEX(Přehled_body!$E$3:$ED$130,MATCH(Tabulka!$AI81,Přehled_body!$A$3:$A$130,0),MATCH(Tabulka!G$2,Přehled_body!$E$1:$ED$1,0)),)=0,0.00000000001,IFERROR(INDEX(Přehled_body!$E$3:$ED$130,MATCH(Tabulka!$AI81,Přehled_body!$A$3:$A$130,0),MATCH(Tabulka!G$2,Přehled_body!$E$1:$ED$1,0)),)))","v":0},{"$f":"IF(IFERROR(INDEX(Přehled_body!$E$3:$ED$130,MATCH(Tabulka!$AI81,Přehled_body!$A$3:$A$130,0),MATCH(Tabulka!H$2,Přehled_body!$E$1:$ED$1,0)),)=\"\",,IF(IFERROR(INDEX(Přehled_body!$E$3:$ED$130,MATCH(Tabulka!$AI81,Přehled_body!$A$3:$A$130,0),MATCH(Tabulka!H$2,Přehled_body!$E$1:$ED$1,0)),)=0,0.00000000001,IFERROR(INDEX(Přehled_body!$E$3:$ED$130,MATCH(Tabulka!$AI81,Přehled_body!$A$3:$A$130,0),MATCH(Tabulka!H$2,Přehled_body!$E$1:$ED$1,0)),)))","v":0},{"$f":"IF(IFERROR(INDEX(Přehled_body!$E$3:$ED$130,MATCH(Tabulka!$AI81,Přehled_body!$A$3:$A$130,0),MATCH(Tabulka!I$2,Přehled_body!$E$1:$ED$1,0)),)=\"\",,IF(IFERROR(INDEX(Přehled_body!$E$3:$ED$130,MATCH(Tabulka!$AI81,Přehled_body!$A$3:$A$130,0),MATCH(Tabulka!I$2,Přehled_body!$E$1:$ED$1,0)),)=0,0.00000000001,IFERROR(INDEX(Přehled_body!$E$3:$ED$130,MATCH(Tabulka!$AI81,Přehled_body!$A$3:$A$130,0),MATCH(Tabulka!I$2,Přehled_body!$E$1:$ED$1,0)),)))","v":0},{"$f":"IF(IFERROR(INDEX(Přehled_body!$E$3:$ED$130,MATCH(Tabulka!$AI81,Přehled_body!$A$3:$A$130,0),MATCH(Tabulka!J$2,Přehled_body!$E$1:$ED$1,0)),)=\"\",,IF(IFERROR(INDEX(Přehled_body!$E$3:$ED$130,MATCH(Tabulka!$AI81,Přehled_body!$A$3:$A$130,0),MATCH(Tabulka!J$2,Přehled_body!$E$1:$ED$1,0)),)=0,0.00000000001,IFERROR(INDEX(Přehled_body!$E$3:$ED$130,MATCH(Tabulka!$AI81,Přehled_body!$A$3:$A$130,0),MATCH(Tabulka!J$2,Přehled_body!$E$1:$ED$1,0)),)))","v":0},{"$f":"IF(IFERROR(INDEX(Přehled_body!$E$3:$ED$130,MATCH(Tabulka!$AI81,Přehled_body!$A$3:$A$130,0),MATCH(Tabulka!K$2,Přehled_body!$E$1:$ED$1,0)),)=\"\",,IF(IFERROR(INDEX(Přehled_body!$E$3:$ED$130,MATCH(Tabulka!$AI81,Přehled_body!$A$3:$A$130,0),MATCH(Tabulka!K$2,Přehled_body!$E$1:$ED$1,0)),)=0,0.00000000001,IFERROR(INDEX(Přehled_body!$E$3:$ED$130,MATCH(Tabulka!$AI81,Přehled_body!$A$3:$A$130,0),MATCH(Tabulka!K$2,Přehled_body!$E$1:$ED$1,0)),)))","v":0},{"$f":"IF(IFERROR(INDEX(Přehled_body!$E$3:$ED$130,MATCH(Tabulka!$AI81,Přehled_body!$A$3:$A$130,0),MATCH(Tabulka!L$2,Přehled_body!$E$1:$ED$1,0)),)=\"\",,IF(IFERROR(INDEX(Přehled_body!$E$3:$ED$130,MATCH(Tabulka!$AI81,Přehled_body!$A$3:$A$130,0),MATCH(Tabulka!L$2,Přehled_body!$E$1:$ED$1,0)),)=0,0.00000000001,IFERROR(INDEX(Přehled_body!$E$3:$ED$130,MATCH(Tabulka!$AI81,Přehled_body!$A$3:$A$130,0),MATCH(Tabulka!L$2,Přehled_body!$E$1:$ED$1,0)),)))","v":0},{"$f":"IF(IFERROR(INDEX(Přehled_body!$E$3:$ED$130,MATCH(Tabulka!$AI81,Přehled_body!$A$3:$A$130,0),MATCH(Tabulka!M$2,Přehled_body!$E$1:$ED$1,0)),)=\"\",,IF(IFERROR(INDEX(Přehled_body!$E$3:$ED$130,MATCH(Tabulka!$AI81,Přehled_body!$A$3:$A$130,0),MATCH(Tabulka!M$2,Přehled_body!$E$1:$ED$1,0)),)=0,0.00000000001,IFERROR(INDEX(Přehled_body!$E$3:$ED$130,MATCH(Tabulka!$AI81,Přehled_body!$A$3:$A$130,0),MATCH(Tabulka!M$2,Přehled_body!$E$1:$ED$1,0)),)))","v":0},{"$f":"IF(IFERROR(INDEX(Přehled_body!$E$3:$ED$130,MATCH(Tabulka!$AI81,Přehled_body!$A$3:$A$130,0),MATCH(Tabulka!N$2,Přehled_body!$E$1:$ED$1,0)),)=\"\",,IF(IFERROR(INDEX(Přehled_body!$E$3:$ED$130,MATCH(Tabulka!$AI81,Přehled_body!$A$3:$A$130,0),MATCH(Tabulka!N$2,Přehled_body!$E$1:$ED$1,0)),)=0,0.00000000001,IFERROR(INDEX(Přehled_body!$E$3:$ED$130,MATCH(Tabulka!$AI81,Přehled_body!$A$3:$A$130,0),MATCH(Tabulka!N$2,Přehled_body!$E$1:$ED$1,0)),)))","v":0},{"$f":"IF(IFERROR(INDEX(Přehled_body!$E$3:$ED$130,MATCH(Tabulka!$AI81,Přehled_body!$A$3:$A$130,0),MATCH(Tabulka!O$2,Přehled_body!$E$1:$ED$1,0)),)=\"\",,IF(IFERROR(INDEX(Přehled_body!$E$3:$ED$130,MATCH(Tabulka!$AI81,Přehled_body!$A$3:$A$130,0),MATCH(Tabulka!O$2,Přehled_body!$E$1:$ED$1,0)),)=0,0.00000000001,IFERROR(INDEX(Přehled_body!$E$3:$ED$130,MATCH(Tabulka!$AI81,Přehled_body!$A$3:$A$130,0),MATCH(Tabulka!O$2,Přehled_body!$E$1:$ED$1,0)),)))","v":0},{"$f":"IF(IFERROR(INDEX(Přehled_body!$E$3:$ED$130,MATCH(Tabulka!$AI81,Přehled_body!$A$3:$A$130,0),MATCH(Tabulka!P$2,Přehled_body!$E$1:$ED$1,0)),)=\"\",,IF(IFERROR(INDEX(Přehled_body!$E$3:$ED$130,MATCH(Tabulka!$AI81,Přehled_body!$A$3:$A$130,0),MATCH(Tabulka!P$2,Přehled_body!$E$1:$ED$1,0)),)=0,0.00000000001,IFERROR(INDEX(Přehled_body!$E$3:$ED$130,MATCH(Tabulka!$AI81,Přehled_body!$A$3:$A$130,0),MATCH(Tabulka!P$2,Přehled_body!$E$1:$ED$1,0)),)))","v":0},{"$f":"IF(IFERROR(INDEX(Přehled_body!$E$3:$ED$130,MATCH(Tabulka!$AI81,Přehled_body!$A$3:$A$130,0),MATCH(Tabulka!Q$2,Přehled_body!$E$1:$ED$1,0)),)=\"\",,IF(IFERROR(INDEX(Přehled_body!$E$3:$ED$130,MATCH(Tabulka!$AI81,Přehled_body!$A$3:$A$130,0),MATCH(Tabulka!Q$2,Přehled_body!$E$1:$ED$1,0)),)=0,0.00000000001,IFERROR(INDEX(Přehled_body!$E$3:$ED$130,MATCH(Tabulka!$AI81,Přehled_body!$A$3:$A$130,0),MATCH(Tabulka!Q$2,Přehled_body!$E$1:$ED$1,0)),)))","v":0},{"$f":"IF(IFERROR(INDEX(Přehled_body!$E$3:$ED$130,MATCH(Tabulka!$AI81,Přehled_body!$A$3:$A$130,0),MATCH(Tabulka!R$2,Přehled_body!$E$1:$ED$1,0)),)=\"\",,IF(IFERROR(INDEX(Přehled_body!$E$3:$ED$130,MATCH(Tabulka!$AI81,Přehled_body!$A$3:$A$130,0),MATCH(Tabulka!R$2,Přehled_body!$E$1:$ED$1,0)),)=0,0.00000000001,IFERROR(INDEX(Přehled_body!$E$3:$ED$130,MATCH(Tabulka!$AI81,Přehled_body!$A$3:$A$130,0),MATCH(Tabulka!R$2,Přehled_body!$E$1:$ED$1,0)),)))","v":0},{"$f":"IF(IFERROR(INDEX(Přehled_body!$E$3:$ED$130,MATCH(Tabulka!$AI81,Přehled_body!$A$3:$A$130,0),MATCH(Tabulka!S$2,Přehled_body!$E$1:$ED$1,0)),)=\"\",,IF(IFERROR(INDEX(Přehled_body!$E$3:$ED$130,MATCH(Tabulka!$AI81,Přehled_body!$A$3:$A$130,0),MATCH(Tabulka!S$2,Přehled_body!$E$1:$ED$1,0)),)=0,0.00000000001,IFERROR(INDEX(Přehled_body!$E$3:$ED$130,MATCH(Tabulka!$AI81,Přehled_body!$A$3:$A$130,0),MATCH(Tabulka!S$2,Přehled_body!$E$1:$ED$1,0)),)))","v":0},{"$f":"IF(IFERROR(INDEX(Přehled_body!$E$3:$ED$130,MATCH(Tabulka!$AI81,Přehled_body!$A$3:$A$130,0),MATCH(Tabulka!T$2,Přehled_body!$E$1:$ED$1,0)),)=\"\",,IF(IFERROR(INDEX(Přehled_body!$E$3:$ED$130,MATCH(Tabulka!$AI81,Přehled_body!$A$3:$A$130,0),MATCH(Tabulka!T$2,Přehled_body!$E$1:$ED$1,0)),)=0,0.00000000001,IFERROR(INDEX(Přehled_body!$E$3:$ED$130,MATCH(Tabulka!$AI81,Přehled_body!$A$3:$A$130,0),MATCH(Tabulka!T$2,Přehled_body!$E$1:$ED$1,0)),)))","v":0},{"$f":"IF(IFERROR(INDEX(Přehled_body!$E$3:$ED$130,MATCH(Tabulka!$AI81,Přehled_body!$A$3:$A$130,0),MATCH(Tabulka!U$2,Přehled_body!$E$1:$ED$1,0)),)=\"\",,IF(IFERROR(INDEX(Přehled_body!$E$3:$ED$130,MATCH(Tabulka!$AI81,Přehled_body!$A$3:$A$130,0),MATCH(Tabulka!U$2,Přehled_body!$E$1:$ED$1,0)),)=0,0.00000000001,IFERROR(INDEX(Přehled_body!$E$3:$ED$130,MATCH(Tabulka!$AI81,Přehled_body!$A$3:$A$130,0),MATCH(Tabulka!U$2,Přehled_body!$E$1:$ED$1,0)),)))","v":0},{"$f":"IF(IFERROR(INDEX(Přehled_body!$E$3:$ED$130,MATCH(Tabulka!$AI81,Přehled_body!$A$3:$A$130,0),MATCH(Tabulka!V$2,Přehled_body!$E$1:$ED$1,0)),)=\"\",,IF(IFERROR(INDEX(Přehled_body!$E$3:$ED$130,MATCH(Tabulka!$AI81,Přehled_body!$A$3:$A$130,0),MATCH(Tabulka!V$2,Přehled_body!$E$1:$ED$1,0)),)=0,0.00000000001,IFERROR(INDEX(Přehled_body!$E$3:$ED$130,MATCH(Tabulka!$AI81,Přehled_body!$A$3:$A$130,0),MATCH(Tabulka!V$2,Přehled_body!$E$1:$ED$1,0)),)))","v":0},{"$f":"IF(IFERROR(INDEX(Přehled_body!$E$3:$ED$130,MATCH(Tabulka!$AI81,Přehled_body!$A$3:$A$130,0),MATCH(Tabulka!W$2,Přehled_body!$E$1:$ED$1,0)),)=\"\",,IF(IFERROR(INDEX(Přehled_body!$E$3:$ED$130,MATCH(Tabulka!$AI81,Přehled_body!$A$3:$A$130,0),MATCH(Tabulka!W$2,Přehled_body!$E$1:$ED$1,0)),)=0,0.00000000001,IFERROR(INDEX(Přehled_body!$E$3:$ED$130,MATCH(Tabulka!$AI81,Přehled_body!$A$3:$A$130,0),MATCH(Tabulka!W$2,Přehled_body!$E$1:$ED$1,0)),)))","v":0},{"$f":"IF(IFERROR(INDEX(Přehled_body!$E$3:$ED$130,MATCH(Tabulka!$AI81,Přehled_body!$A$3:$A$130,0),MATCH(Tabulka!X$2,Přehled_body!$E$1:$ED$1,0)),)=\"\",,IF(IFERROR(INDEX(Přehled_body!$E$3:$ED$130,MATCH(Tabulka!$AI81,Přehled_body!$A$3:$A$130,0),MATCH(Tabulka!X$2,Přehled_body!$E$1:$ED$1,0)),)=0,0.00000000001,IFERROR(INDEX(Přehled_body!$E$3:$ED$130,MATCH(Tabulka!$AI81,Přehled_body!$A$3:$A$130,0),MATCH(Tabulka!X$2,Přehled_body!$E$1:$ED$1,0)),)))","v":0},{"$f":"IF(IFERROR(INDEX(Přehled_body!$E$3:$ED$130,MATCH(Tabulka!$AI81,Přehled_body!$A$3:$A$130,0),MATCH(Tabulka!Y$2,Přehled_body!$E$1:$ED$1,0)),)=\"\",,IF(IFERROR(INDEX(Přehled_body!$E$3:$ED$130,MATCH(Tabulka!$AI81,Přehled_body!$A$3:$A$130,0),MATCH(Tabulka!Y$2,Přehled_body!$E$1:$ED$1,0)),)=0,0.00000000001,IFERROR(INDEX(Přehled_body!$E$3:$ED$130,MATCH(Tabulka!$AI81,Přehled_body!$A$3:$A$130,0),MATCH(Tabulka!Y$2,Přehled_body!$E$1:$ED$1,0)),)))","v":0},{"$f":"IF(IFERROR(INDEX(Přehled_body!$E$3:$ED$130,MATCH(Tabulka!$AI81,Přehled_body!$A$3:$A$130,0),MATCH(Tabulka!Z$2,Přehled_body!$E$1:$ED$1,0)),)=\"\",,IF(IFERROR(INDEX(Přehled_body!$E$3:$ED$130,MATCH(Tabulka!$AI81,Přehled_body!$A$3:$A$130,0),MATCH(Tabulka!Z$2,Přehled_body!$E$1:$ED$1,0)),)=0,0.00000000001,IFERROR(INDEX(Přehled_body!$E$3:$ED$130,MATCH(Tabulka!$AI81,Přehled_body!$A$3:$A$130,0),MATCH(Tabulka!Z$2,Přehled_body!$E$1:$ED$1,0)),)))","v":0},{"$f":"IF(IFERROR(INDEX(Přehled_body!$E$3:$ED$130,MATCH(Tabulka!$AI81,Přehled_body!$A$3:$A$130,0),MATCH(Tabulka!AA$2,Přehled_body!$E$1:$ED$1,0)),)=\"\",,IF(IFERROR(INDEX(Přehled_body!$E$3:$ED$130,MATCH(Tabulka!$AI81,Přehled_body!$A$3:$A$130,0),MATCH(Tabulka!AA$2,Přehled_body!$E$1:$ED$1,0)),)=0,0.00000000001,IFERROR(INDEX(Přehled_body!$E$3:$ED$130,MATCH(Tabulka!$AI81,Přehled_body!$A$3:$A$130,0),MATCH(Tabulka!AA$2,Přehled_body!$E$1:$ED$1,0)),)))","v":0},{"$f":"IF(IFERROR(INDEX(Přehled_body!$E$3:$ED$130,MATCH(Tabulka!$AI81,Přehled_body!$A$3:$A$130,0),MATCH(Tabulka!AB$2,Přehled_body!$E$1:$ED$1,0)),)=\"\",,IF(IFERROR(INDEX(Přehled_body!$E$3:$ED$130,MATCH(Tabulka!$AI81,Přehled_body!$A$3:$A$130,0),MATCH(Tabulka!AB$2,Přehled_body!$E$1:$ED$1,0)),)=0,0.00000000001,IFERROR(INDEX(Přehled_body!$E$3:$ED$130,MATCH(Tabulka!$AI81,Přehled_body!$A$3:$A$130,0),MATCH(Tabulka!AB$2,Přehled_body!$E$1:$ED$1,0)),)))","v":0},{"$f":"IF(IFERROR(INDEX(Přehled_body!$E$3:$ED$130,MATCH(Tabulka!$AI81,Přehled_body!$A$3:$A$130,0),MATCH(Tabulka!AC$2,Přehled_body!$E$1:$ED$1,0)),)=\"\",,IF(IFERROR(INDEX(Přehled_body!$E$3:$ED$130,MATCH(Tabulka!$AI81,Přehled_body!$A$3:$A$130,0),MATCH(Tabulka!AC$2,Přehled_body!$E$1:$ED$1,0)),)=0,0.00000000001,IFERROR(INDEX(Přehled_body!$E$3:$ED$130,MATCH(Tabulka!$AI81,Přehled_body!$A$3:$A$130,0),MATCH(Tabulka!AC$2,Přehled_body!$E$1:$ED$1,0)),)))","v":0},{"$f":"IF(IFERROR(INDEX(Přehled_body!$E$3:$ED$130,MATCH(Tabulka!$AI81,Přehled_body!$A$3:$A$130,0),MATCH(Tabulka!AD$2,Přehled_body!$E$1:$ED$1,0)),)=\"\",,IF(IFERROR(INDEX(Přehled_body!$E$3:$ED$130,MATCH(Tabulka!$AI81,Přehled_body!$A$3:$A$130,0),MATCH(Tabulka!AD$2,Přehled_body!$E$1:$ED$1,0)),)=0,0.00000000001,IFERROR(INDEX(Přehled_body!$E$3:$ED$130,MATCH(Tabulka!$AI81,Přehled_body!$A$3:$A$130,0),MATCH(Tabulka!AD$2,Přehled_body!$E$1:$ED$1,0)),)))","v":0},{"$f":"IF(SUM(AG79)<2,-90000+SUM(D81:AD81),SUM(D81:AD81))","v":-90000},null,null,{"$f":"SUM(D81:AD81)+INDEX(List4!$D$2:$F$17,MATCH(Tabulka!A80,List4!$D$2:$D$17,0),3)","v":5.0999999999999993E-8},{"$f":"CONCATENATE($B$80,\" \",$B$81,C81)","v":"Iva IvankaPlaceno panáků"},null,null,0,null,null,"Ivanka",{"$f":"CONCATENATE(AQ81,\" \",AQ82)","v":"Iva Ivanka"},"Iva"]
[null,null,"Přehozy",{"$f":"IF(IFERROR(INDEX(Přehled_body!$E$3:$ED$130,MATCH(Tabulka!$AI82,Přehled_body!$A$3:$A$130,0),MATCH(Tabulka!D$2,Přehled_body!$E$1:$ED$1,0)),)=\"\",,IF(IFERROR(INDEX(Přehled_body!$E$3:$ED$130,MATCH(Tabulka!$AI82,Přehled_body!$A$3:$A$130,0),MATCH(Tabulka!D$2,Přehled_body!$E$1:$ED$1,0)),)=0,0.00000000001,IFERROR(INDEX(Přehled_body!$E$3:$ED$130,MATCH(Tabulka!$AI82,Přehled_body!$A$3:$A$130,0),MATCH(Tabulka!D$2,Přehled_body!$E$1:$ED$1,0)),)))","v":0},{"$f":"IF(IFERROR(INDEX(Přehled_body!$E$3:$ED$130,MATCH(Tabulka!$AI82,Přehled_body!$A$3:$A$130,0),MATCH(Tabulka!E$2,Přehled_body!$E$1:$ED$1,0)),)=\"\",,IF(IFERROR(INDEX(Přehled_body!$E$3:$ED$130,MATCH(Tabulka!$AI82,Přehled_body!$A$3:$A$130,0),MATCH(Tabulka!E$2,Přehled_body!$E$1:$ED$1,0)),)=0,0.00000000001,IFERROR(INDEX(Přehled_body!$E$3:$ED$130,MATCH(Tabulka!$AI82,Přehled_body!$A$3:$A$130,0),MATCH(Tabulka!E$2,Přehled_body!$E$1:$ED$1,0)),)))","v":0},{"$f":"IF(IFERROR(INDEX(Přehled_body!$E$3:$ED$130,MATCH(Tabulka!$AI82,Přehled_body!$A$3:$A$130,0),MATCH(Tabulka!F$2,Přehled_body!$E$1:$ED$1,0)),)=\"\",,IF(IFERROR(INDEX(Přehled_body!$E$3:$ED$130,MATCH(Tabulka!$AI82,Přehled_body!$A$3:$A$130,0),MATCH(Tabulka!F$2,Přehled_body!$E$1:$ED$1,0)),)=0,0.00000000001,IFERROR(INDEX(Přehled_body!$E$3:$ED$130,MATCH(Tabulka!$AI82,Přehled_body!$A$3:$A$130,0),MATCH(Tabulka!F$2,Přehled_body!$E$1:$ED$1,0)),)))","v":0},{"$f":"IF(IFERROR(INDEX(Přehled_body!$E$3:$ED$130,MATCH(Tabulka!$AI82,Přehled_body!$A$3:$A$130,0),MATCH(Tabulka!G$2,Přehled_body!$E$1:$ED$1,0)),)=\"\",,IF(IFERROR(INDEX(Přehled_body!$E$3:$ED$130,MATCH(Tabulka!$AI82,Přehled_body!$A$3:$A$130,0),MATCH(Tabulka!G$2,Přehled_body!$E$1:$ED$1,0)),)=0,0.00000000001,IFERROR(INDEX(Přehled_body!$E$3:$ED$130,MATCH(Tabulka!$AI82,Přehled_body!$A$3:$A$130,0),MATCH(Tabulka!G$2,Přehled_body!$E$1:$ED$1,0)),)))","v":0},{"$f":"IF(IFERROR(INDEX(Přehled_body!$E$3:$ED$130,MATCH(Tabulka!$AI82,Přehled_body!$A$3:$A$130,0),MATCH(Tabulka!H$2,Přehled_body!$E$1:$ED$1,0)),)=\"\",,IF(IFERROR(INDEX(Přehled_body!$E$3:$ED$130,MATCH(Tabulka!$AI82,Přehled_body!$A$3:$A$130,0),MATCH(Tabulka!H$2,Přehled_body!$E$1:$ED$1,0)),)=0,0.00000000001,IFERROR(INDEX(Přehled_body!$E$3:$ED$130,MATCH(Tabulka!$AI82,Přehled_body!$A$3:$A$130,0),MATCH(Tabulka!H$2,Přehled_body!$E$1:$ED$1,0)),)))","v":0},{"$f":"IF(IFERROR(INDEX(Přehled_body!$E$3:$ED$130,MATCH(Tabulka!$AI82,Přehled_body!$A$3:$A$130,0),MATCH(Tabulka!I$2,Přehled_body!$E$1:$ED$1,0)),)=\"\",,IF(IFERROR(INDEX(Přehled_body!$E$3:$ED$130,MATCH(Tabulka!$AI82,Přehled_body!$A$3:$A$130,0),MATCH(Tabulka!I$2,Přehled_body!$E$1:$ED$1,0)),)=0,0.00000000001,IFERROR(INDEX(Přehled_body!$E$3:$ED$130,MATCH(Tabulka!$AI82,Přehled_body!$A$3:$A$130,0),MATCH(Tabulka!I$2,Přehled_body!$E$1:$ED$1,0)),)))","v":0},{"$f":"IF(IFERROR(INDEX(Přehled_body!$E$3:$ED$130,MATCH(Tabulka!$AI82,Přehled_body!$A$3:$A$130,0),MATCH(Tabulka!J$2,Přehled_body!$E$1:$ED$1,0)),)=\"\",,IF(IFERROR(INDEX(Přehled_body!$E$3:$ED$130,MATCH(Tabulka!$AI82,Přehled_body!$A$3:$A$130,0),MATCH(Tabulka!J$2,Přehled_body!$E$1:$ED$1,0)),)=0,0.00000000001,IFERROR(INDEX(Přehled_body!$E$3:$ED$130,MATCH(Tabulka!$AI82,Přehled_body!$A$3:$A$130,0),MATCH(Tabulka!J$2,Přehled_body!$E$1:$ED$1,0)),)))","v":0},{"$f":"IF(IFERROR(INDEX(Přehled_body!$E$3:$ED$130,MATCH(Tabulka!$AI82,Přehled_body!$A$3:$A$130,0),MATCH(Tabulka!K$2,Přehled_body!$E$1:$ED$1,0)),)=\"\",,IF(IFERROR(INDEX(Přehled_body!$E$3:$ED$130,MATCH(Tabulka!$AI82,Přehled_body!$A$3:$A$130,0),MATCH(Tabulka!K$2,Přehled_body!$E$1:$ED$1,0)),)=0,0.00000000001,IFERROR(INDEX(Přehled_body!$E$3:$ED$130,MATCH(Tabulka!$AI82,Přehled_body!$A$3:$A$130,0),MATCH(Tabulka!K$2,Přehled_body!$E$1:$ED$1,0)),)))","v":0},{"$f":"IF(IFERROR(INDEX(Přehled_body!$E$3:$ED$130,MATCH(Tabulka!$AI82,Přehled_body!$A$3:$A$130,0),MATCH(Tabulka!L$2,Přehled_body!$E$1:$ED$1,0)),)=\"\",,IF(IFERROR(INDEX(Přehled_body!$E$3:$ED$130,MATCH(Tabulka!$AI82,Přehled_body!$A$3:$A$130,0),MATCH(Tabulka!L$2,Přehled_body!$E$1:$ED$1,0)),)=0,0.00000000001,IFERROR(INDEX(Přehled_body!$E$3:$ED$130,MATCH(Tabulka!$AI82,Přehled_body!$A$3:$A$130,0),MATCH(Tabulka!L$2,Přehled_body!$E$1:$ED$1,0)),)))","v":0},{"$f":"IF(IFERROR(INDEX(Přehled_body!$E$3:$ED$130,MATCH(Tabulka!$AI82,Přehled_body!$A$3:$A$130,0),MATCH(Tabulka!M$2,Přehled_body!$E$1:$ED$1,0)),)=\"\",,IF(IFERROR(INDEX(Přehled_body!$E$3:$ED$130,MATCH(Tabulka!$AI82,Přehled_body!$A$3:$A$130,0),MATCH(Tabulka!M$2,Přehled_body!$E$1:$ED$1,0)),)=0,0.00000000001,IFERROR(INDEX(Přehled_body!$E$3:$ED$130,MATCH(Tabulka!$AI82,Přehled_body!$A$3:$A$130,0),MATCH(Tabulka!M$2,Přehled_body!$E$1:$ED$1,0)),)))","v":0},{"$f":"IF(IFERROR(INDEX(Přehled_body!$E$3:$ED$130,MATCH(Tabulka!$AI82,Přehled_body!$A$3:$A$130,0),MATCH(Tabulka!N$2,Přehled_body!$E$1:$ED$1,0)),)=\"\",,IF(IFERROR(INDEX(Přehled_body!$E$3:$ED$130,MATCH(Tabulka!$AI82,Přehled_body!$A$3:$A$130,0),MATCH(Tabulka!N$2,Přehled_body!$E$1:$ED$1,0)),)=0,0.00000000001,IFERROR(INDEX(Přehled_body!$E$3:$ED$130,MATCH(Tabulka!$AI82,Přehled_body!$A$3:$A$130,0),MATCH(Tabulka!N$2,Přehled_body!$E$1:$ED$1,0)),)))","v":0},{"$f":"IF(IFERROR(INDEX(Přehled_body!$E$3:$ED$130,MATCH(Tabulka!$AI82,Přehled_body!$A$3:$A$130,0),MATCH(Tabulka!O$2,Přehled_body!$E$1:$ED$1,0)),)=\"\",,IF(IFERROR(INDEX(Přehled_body!$E$3:$ED$130,MATCH(Tabulka!$AI82,Přehled_body!$A$3:$A$130,0),MATCH(Tabulka!O$2,Přehled_body!$E$1:$ED$1,0)),)=0,0.00000000001,IFERROR(INDEX(Přehled_body!$E$3:$ED$130,MATCH(Tabulka!$AI82,Přehled_body!$A$3:$A$130,0),MATCH(Tabulka!O$2,Přehled_body!$E$1:$ED$1,0)),)))","v":0},{"$f":"IF(IFERROR(INDEX(Přehled_body!$E$3:$ED$130,MATCH(Tabulka!$AI82,Přehled_body!$A$3:$A$130,0),MATCH(Tabulka!P$2,Přehled_body!$E$1:$ED$1,0)),)=\"\",,IF(IFERROR(INDEX(Přehled_body!$E$3:$ED$130,MATCH(Tabulka!$AI82,Přehled_body!$A$3:$A$130,0),MATCH(Tabulka!P$2,Přehled_body!$E$1:$ED$1,0)),)=0,0.00000000001,IFERROR(INDEX(Přehled_body!$E$3:$ED$130,MATCH(Tabulka!$AI82,Přehled_body!$A$3:$A$130,0),MATCH(Tabulka!P$2,Přehled_body!$E$1:$ED$1,0)),)))","v":0},{"$f":"IF(IFERROR(INDEX(Přehled_body!$E$3:$ED$130,MATCH(Tabulka!$AI82,Přehled_body!$A$3:$A$130,0),MATCH(Tabulka!Q$2,Přehled_body!$E$1:$ED$1,0)),)=\"\",,IF(IFERROR(INDEX(Přehled_body!$E$3:$ED$130,MATCH(Tabulka!$AI82,Přehled_body!$A$3:$A$130,0),MATCH(Tabulka!Q$2,Přehled_body!$E$1:$ED$1,0)),)=0,0.00000000001,IFERROR(INDEX(Přehled_body!$E$3:$ED$130,MATCH(Tabulka!$AI82,Přehled_body!$A$3:$A$130,0),MATCH(Tabulka!Q$2,Přehled_body!$E$1:$ED$1,0)),)))","v":0},{"$f":"IF(IFERROR(INDEX(Přehled_body!$E$3:$ED$130,MATCH(Tabulka!$AI82,Přehled_body!$A$3:$A$130,0),MATCH(Tabulka!R$2,Přehled_body!$E$1:$ED$1,0)),)=\"\",,IF(IFERROR(INDEX(Přehled_body!$E$3:$ED$130,MATCH(Tabulka!$AI82,Přehled_body!$A$3:$A$130,0),MATCH(Tabulka!R$2,Přehled_body!$E$1:$ED$1,0)),)=0,0.00000000001,IFERROR(INDEX(Přehled_body!$E$3:$ED$130,MATCH(Tabulka!$AI82,Přehled_body!$A$3:$A$130,0),MATCH(Tabulka!R$2,Přehled_body!$E$1:$ED$1,0)),)))","v":0},{"$f":"IF(IFERROR(INDEX(Přehled_body!$E$3:$ED$130,MATCH(Tabulka!$AI82,Přehled_body!$A$3:$A$130,0),MATCH(Tabulka!S$2,Přehled_body!$E$1:$ED$1,0)),)=\"\",,IF(IFERROR(INDEX(Přehled_body!$E$3:$ED$130,MATCH(Tabulka!$AI82,Přehled_body!$A$3:$A$130,0),MATCH(Tabulka!S$2,Přehled_body!$E$1:$ED$1,0)),)=0,0.00000000001,IFERROR(INDEX(Přehled_body!$E$3:$ED$130,MATCH(Tabulka!$AI82,Přehled_body!$A$3:$A$130,0),MATCH(Tabulka!S$2,Přehled_body!$E$1:$ED$1,0)),)))","v":0},{"$f":"IF(IFERROR(INDEX(Přehled_body!$E$3:$ED$130,MATCH(Tabulka!$AI82,Přehled_body!$A$3:$A$130,0),MATCH(Tabulka!T$2,Přehled_body!$E$1:$ED$1,0)),)=\"\",,IF(IFERROR(INDEX(Přehled_body!$E$3:$ED$130,MATCH(Tabulka!$AI82,Přehled_body!$A$3:$A$130,0),MATCH(Tabulka!T$2,Přehled_body!$E$1:$ED$1,0)),)=0,0.00000000001,IFERROR(INDEX(Přehled_body!$E$3:$ED$130,MATCH(Tabulka!$AI82,Přehled_body!$A$3:$A$130,0),MATCH(Tabulka!T$2,Přehled_body!$E$1:$ED$1,0)),)))","v":0},{"$f":"IF(IFERROR(INDEX(Přehled_body!$E$3:$ED$130,MATCH(Tabulka!$AI82,Přehled_body!$A$3:$A$130,0),MATCH(Tabulka!U$2,Přehled_body!$E$1:$ED$1,0)),)=\"\",,IF(IFERROR(INDEX(Přehled_body!$E$3:$ED$130,MATCH(Tabulka!$AI82,Přehled_body!$A$3:$A$130,0),MATCH(Tabulka!U$2,Přehled_body!$E$1:$ED$1,0)),)=0,0.00000000001,IFERROR(INDEX(Přehled_body!$E$3:$ED$130,MATCH(Tabulka!$AI82,Přehled_body!$A$3:$A$130,0),MATCH(Tabulka!U$2,Přehled_body!$E$1:$ED$1,0)),)))","v":0},{"$f":"IF(IFERROR(INDEX(Přehled_body!$E$3:$ED$130,MATCH(Tabulka!$AI82,Přehled_body!$A$3:$A$130,0),MATCH(Tabulka!V$2,Přehled_body!$E$1:$ED$1,0)),)=\"\",,IF(IFERROR(INDEX(Přehled_body!$E$3:$ED$130,MATCH(Tabulka!$AI82,Přehled_body!$A$3:$A$130,0),MATCH(Tabulka!V$2,Přehled_body!$E$1:$ED$1,0)),)=0,0.00000000001,IFERROR(INDEX(Přehled_body!$E$3:$ED$130,MATCH(Tabulka!$AI82,Přehled_body!$A$3:$A$130,0),MATCH(Tabulka!V$2,Přehled_body!$E$1:$ED$1,0)),)))","v":0},{"$f":"IF(IFERROR(INDEX(Přehled_body!$E$3:$ED$130,MATCH(Tabulka!$AI82,Přehled_body!$A$3:$A$130,0),MATCH(Tabulka!W$2,Přehled_body!$E$1:$ED$1,0)),)=\"\",,IF(IFERROR(INDEX(Přehled_body!$E$3:$ED$130,MATCH(Tabulka!$AI82,Přehled_body!$A$3:$A$130,0),MATCH(Tabulka!W$2,Přehled_body!$E$1:$ED$1,0)),)=0,0.00000000001,IFERROR(INDEX(Přehled_body!$E$3:$ED$130,MATCH(Tabulka!$AI82,Přehled_body!$A$3:$A$130,0),MATCH(Tabulka!W$2,Přehled_body!$E$1:$ED$1,0)),)))","v":0},{"$f":"IF(IFERROR(INDEX(Přehled_body!$E$3:$ED$130,MATCH(Tabulka!$AI82,Přehled_body!$A$3:$A$130,0),MATCH(Tabulka!X$2,Přehled_body!$E$1:$ED$1,0)),)=\"\",,IF(IFERROR(INDEX(Přehled_body!$E$3:$ED$130,MATCH(Tabulka!$AI82,Přehled_body!$A$3:$A$130,0),MATCH(Tabulka!X$2,Přehled_body!$E$1:$ED$1,0)),)=0,0.00000000001,IFERROR(INDEX(Přehled_body!$E$3:$ED$130,MATCH(Tabulka!$AI82,Přehled_body!$A$3:$A$130,0),MATCH(Tabulka!X$2,Přehled_body!$E$1:$ED$1,0)),)))","v":0},{"$f":"IF(IFERROR(INDEX(Přehled_body!$E$3:$ED$130,MATCH(Tabulka!$AI82,Přehled_body!$A$3:$A$130,0),MATCH(Tabulka!Y$2,Přehled_body!$E$1:$ED$1,0)),)=\"\",,IF(IFERROR(INDEX(Přehled_body!$E$3:$ED$130,MATCH(Tabulka!$AI82,Přehled_body!$A$3:$A$130,0),MATCH(Tabulka!Y$2,Přehled_body!$E$1:$ED$1,0)),)=0,0.00000000001,IFERROR(INDEX(Přehled_body!$E$3:$ED$130,MATCH(Tabulka!$AI82,Přehled_body!$A$3:$A$130,0),MATCH(Tabulka!Y$2,Přehled_body!$E$1:$ED$1,0)),)))","v":0},{"$f":"IF(IFERROR(INDEX(Přehled_body!$E$3:$ED$130,MATCH(Tabulka!$AI82,Přehled_body!$A$3:$A$130,0),MATCH(Tabulka!Z$2,Přehled_body!$E$1:$ED$1,0)),)=\"\",,IF(IFERROR(INDEX(Přehled_body!$E$3:$ED$130,MATCH(Tabulka!$AI82,Přehled_body!$A$3:$A$130,0),MATCH(Tabulka!Z$2,Přehled_body!$E$1:$ED$1,0)),)=0,0.00000000001,IFERROR(INDEX(Přehled_body!$E$3:$ED$130,MATCH(Tabulka!$AI82,Přehled_body!$A$3:$A$130,0),MATCH(Tabulka!Z$2,Přehled_body!$E$1:$ED$1,0)),)))","v":0},{"$f":"IF(IFERROR(INDEX(Přehled_body!$E$3:$ED$130,MATCH(Tabulka!$AI82,Přehled_body!$A$3:$A$130,0),MATCH(Tabulka!AA$2,Přehled_body!$E$1:$ED$1,0)),)=\"\",,IF(IFERROR(INDEX(Přehled_body!$E$3:$ED$130,MATCH(Tabulka!$AI82,Přehled_body!$A$3:$A$130,0),MATCH(Tabulka!AA$2,Přehled_body!$E$1:$ED$1,0)),)=0,0.00000000001,IFERROR(INDEX(Přehled_body!$E$3:$ED$130,MATCH(Tabulka!$AI82,Přehled_body!$A$3:$A$130,0),MATCH(Tabulka!AA$2,Přehled_body!$E$1:$ED$1,0)),)))","v":0},{"$f":"IF(IFERROR(INDEX(Přehled_body!$E$3:$ED$130,MATCH(Tabulka!$AI82,Přehled_body!$A$3:$A$130,0),MATCH(Tabulka!AB$2,Přehled_body!$E$1:$ED$1,0)),)=\"\",,IF(IFERROR(INDEX(Přehled_body!$E$3:$ED$130,MATCH(Tabulka!$AI82,Přehled_body!$A$3:$A$130,0),MATCH(Tabulka!AB$2,Přehled_body!$E$1:$ED$1,0)),)=0,0.00000000001,IFERROR(INDEX(Přehled_body!$E$3:$ED$130,MATCH(Tabulka!$AI82,Přehled_body!$A$3:$A$130,0),MATCH(Tabulka!AB$2,Přehled_body!$E$1:$ED$1,0)),)))","v":0},{"$f":"IF(IFERROR(INDEX(Přehled_body!$E$3:$ED$130,MATCH(Tabulka!$AI82,Přehled_body!$A$3:$A$130,0),MATCH(Tabulka!AC$2,Přehled_body!$E$1:$ED$1,0)),)=\"\",,IF(IFERROR(INDEX(Přehled_body!$E$3:$ED$130,MATCH(Tabulka!$AI82,Přehled_body!$A$3:$A$130,0),MATCH(Tabulka!AC$2,Přehled_body!$E$1:$ED$1,0)),)=0,0.00000000001,IFERROR(INDEX(Přehled_body!$E$3:$ED$130,MATCH(Tabulka!$AI82,Přehled_body!$A$3:$A$130,0),MATCH(Tabulka!AC$2,Přehled_body!$E$1:$ED$1,0)),)))","v":0},{"$f":"IF(IFERROR(INDEX(Přehled_body!$E$3:$ED$130,MATCH(Tabulka!$AI82,Přehled_body!$A$3:$A$130,0),MATCH(Tabulka!AD$2,Přehled_body!$E$1:$ED$1,0)),)=\"\",,IF(IFERROR(INDEX(Přehled_body!$E$3:$ED$130,MATCH(Tabulka!$AI82,Přehled_body!$A$3:$A$130,0),MATCH(Tabulka!AD$2,Přehled_body!$E$1:$ED$1,0)),)=0,0.00000000001,IFERROR(INDEX(Přehled_body!$E$3:$ED$130,MATCH(Tabulka!$AI82,Přehled_body!$A$3:$A$130,0),MATCH(Tabulka!AD$2,Přehled_body!$E$1:$ED$1,0)),)))","v":0},{"$f":"IF(SUM(AG79)<2,-90000+SUM(D82:AD82),SUM(D82:AD82))","v":-90000},null,null,0,{"$f":"CONCATENATE($B$80,\" \",$B$81,C82)","v":"Iva IvankaPřehozy"},null,null,0,null,null,null,{"$f":"CONCATENATE(AQ82,\" \",AQ81)","v":"Ivanka Iva"},"Ivanka"]
[null,null,"Poč. kol",{"$f":"IF(IFERROR(INDEX(Přehled_body!$E$3:$ED$130,MATCH(Tabulka!$AI83,Přehled_body!$A$3:$A$130,0),MATCH(Tabulka!D$2,Přehled_body!$E$1:$ED$1,0)),)=\"\",,IF(IFERROR(INDEX(Přehled_body!$E$3:$ED$130,MATCH(Tabulka!$AI83,Přehled_body!$A$3:$A$130,0),MATCH(Tabulka!D$2,Přehled_body!$E$1:$ED$1,0)),)=0,0.00000000001,IFERROR(INDEX(Přehled_body!$E$3:$ED$130,MATCH(Tabulka!$AI83,Přehled_body!$A$3:$A$130,0),MATCH(Tabulka!D$2,Přehled_body!$E$1:$ED$1,0)),)))","v":0},{"$f":"IF(IFERROR(INDEX(Přehled_body!$E$3:$ED$130,MATCH(Tabulka!$AI83,Přehled_body!$A$3:$A$130,0),MATCH(Tabulka!E$2,Přehled_body!$E$1:$ED$1,0)),)=\"\",,IF(IFERROR(INDEX(Přehled_body!$E$3:$ED$130,MATCH(Tabulka!$AI83,Přehled_body!$A$3:$A$130,0),MATCH(Tabulka!E$2,Přehled_body!$E$1:$ED$1,0)),)=0,0.00000000001,IFERROR(INDEX(Přehled_body!$E$3:$ED$130,MATCH(Tabulka!$AI83,Přehled_body!$A$3:$A$130,0),MATCH(Tabulka!E$2,Přehled_body!$E$1:$ED$1,0)),)))","v":0},{"$f":"IF(IFERROR(INDEX(Přehled_body!$E$3:$ED$130,MATCH(Tabulka!$AI83,Přehled_body!$A$3:$A$130,0),MATCH(Tabulka!F$2,Přehled_body!$E$1:$ED$1,0)),)=\"\",,IF(IFERROR(INDEX(Přehled_body!$E$3:$ED$130,MATCH(Tabulka!$AI83,Přehled_body!$A$3:$A$130,0),MATCH(Tabulka!F$2,Přehled_body!$E$1:$ED$1,0)),)=0,0.00000000001,IFERROR(INDEX(Přehled_body!$E$3:$ED$130,MATCH(Tabulka!$AI83,Přehled_body!$A$3:$A$130,0),MATCH(Tabulka!F$2,Přehled_body!$E$1:$ED$1,0)),)))","v":0},{"$f":"IF(IFERROR(INDEX(Přehled_body!$E$3:$ED$130,MATCH(Tabulka!$AI83,Přehled_body!$A$3:$A$130,0),MATCH(Tabulka!G$2,Přehled_body!$E$1:$ED$1,0)),)=\"\",,IF(IFERROR(INDEX(Přehled_body!$E$3:$ED$130,MATCH(Tabulka!$AI83,Přehled_body!$A$3:$A$130,0),MATCH(Tabulka!G$2,Přehled_body!$E$1:$ED$1,0)),)=0,0.00000000001,IFERROR(INDEX(Přehled_body!$E$3:$ED$130,MATCH(Tabulka!$AI83,Přehled_body!$A$3:$A$130,0),MATCH(Tabulka!G$2,Přehled_body!$E$1:$ED$1,0)),)))","v":0},{"$f":"IF(IFERROR(INDEX(Přehled_body!$E$3:$ED$130,MATCH(Tabulka!$AI83,Přehled_body!$A$3:$A$130,0),MATCH(Tabulka!H$2,Přehled_body!$E$1:$ED$1,0)),)=\"\",,IF(IFERROR(INDEX(Přehled_body!$E$3:$ED$130,MATCH(Tabulka!$AI83,Přehled_body!$A$3:$A$130,0),MATCH(Tabulka!H$2,Přehled_body!$E$1:$ED$1,0)),)=0,0.00000000001,IFERROR(INDEX(Přehled_body!$E$3:$ED$130,MATCH(Tabulka!$AI83,Přehled_body!$A$3:$A$130,0),MATCH(Tabulka!H$2,Přehled_body!$E$1:$ED$1,0)),)))","v":0},{"$f":"IF(IFERROR(INDEX(Přehled_body!$E$3:$ED$130,MATCH(Tabulka!$AI83,Přehled_body!$A$3:$A$130,0),MATCH(Tabulka!I$2,Přehled_body!$E$1:$ED$1,0)),)=\"\",,IF(IFERROR(INDEX(Přehled_body!$E$3:$ED$130,MATCH(Tabulka!$AI83,Přehled_body!$A$3:$A$130,0),MATCH(Tabulka!I$2,Přehled_body!$E$1:$ED$1,0)),)=0,0.00000000001,IFERROR(INDEX(Přehled_body!$E$3:$ED$130,MATCH(Tabulka!$AI83,Přehled_body!$A$3:$A$130,0),MATCH(Tabulka!I$2,Přehled_body!$E$1:$ED$1,0)),)))","v":0},{"$f":"IF(IFERROR(INDEX(Přehled_body!$E$3:$ED$130,MATCH(Tabulka!$AI83,Přehled_body!$A$3:$A$130,0),MATCH(Tabulka!J$2,Přehled_body!$E$1:$ED$1,0)),)=\"\",,IF(IFERROR(INDEX(Přehled_body!$E$3:$ED$130,MATCH(Tabulka!$AI83,Přehled_body!$A$3:$A$130,0),MATCH(Tabulka!J$2,Přehled_body!$E$1:$ED$1,0)),)=0,0.00000000001,IFERROR(INDEX(Přehled_body!$E$3:$ED$130,MATCH(Tabulka!$AI83,Přehled_body!$A$3:$A$130,0),MATCH(Tabulka!J$2,Přehled_body!$E$1:$ED$1,0)),)))","v":0},{"$f":"IF(IFERROR(INDEX(Přehled_body!$E$3:$ED$130,MATCH(Tabulka!$AI83,Přehled_body!$A$3:$A$130,0),MATCH(Tabulka!K$2,Přehled_body!$E$1:$ED$1,0)),)=\"\",,IF(IFERROR(INDEX(Přehled_body!$E$3:$ED$130,MATCH(Tabulka!$AI83,Přehled_body!$A$3:$A$130,0),MATCH(Tabulka!K$2,Přehled_body!$E$1:$ED$1,0)),)=0,0.00000000001,IFERROR(INDEX(Přehled_body!$E$3:$ED$130,MATCH(Tabulka!$AI83,Přehled_body!$A$3:$A$130,0),MATCH(Tabulka!K$2,Přehled_body!$E$1:$ED$1,0)),)))","v":0},{"$f":"IF(IFERROR(INDEX(Přehled_body!$E$3:$ED$130,MATCH(Tabulka!$AI83,Přehled_body!$A$3:$A$130,0),MATCH(Tabulka!L$2,Přehled_body!$E$1:$ED$1,0)),)=\"\",,IF(IFERROR(INDEX(Přehled_body!$E$3:$ED$130,MATCH(Tabulka!$AI83,Přehled_body!$A$3:$A$130,0),MATCH(Tabulka!L$2,Přehled_body!$E$1:$ED$1,0)),)=0,0.00000000001,IFERROR(INDEX(Přehled_body!$E$3:$ED$130,MATCH(Tabulka!$AI83,Přehled_body!$A$3:$A$130,0),MATCH(Tabulka!L$2,Přehled_body!$E$1:$ED$1,0)),)))","v":0},{"$f":"IF(IFERROR(INDEX(Přehled_body!$E$3:$ED$130,MATCH(Tabulka!$AI83,Přehled_body!$A$3:$A$130,0),MATCH(Tabulka!M$2,Přehled_body!$E$1:$ED$1,0)),)=\"\",,IF(IFERROR(INDEX(Přehled_body!$E$3:$ED$130,MATCH(Tabulka!$AI83,Přehled_body!$A$3:$A$130,0),MATCH(Tabulka!M$2,Přehled_body!$E$1:$ED$1,0)),)=0,0.00000000001,IFERROR(INDEX(Přehled_body!$E$3:$ED$130,MATCH(Tabulka!$AI83,Přehled_body!$A$3:$A$130,0),MATCH(Tabulka!M$2,Přehled_body!$E$1:$ED$1,0)),)))","v":0},{"$f":"IF(IFERROR(INDEX(Přehled_body!$E$3:$ED$130,MATCH(Tabulka!$AI83,Přehled_body!$A$3:$A$130,0),MATCH(Tabulka!N$2,Přehled_body!$E$1:$ED$1,0)),)=\"\",,IF(IFERROR(INDEX(Přehled_body!$E$3:$ED$130,MATCH(Tabulka!$AI83,Přehled_body!$A$3:$A$130,0),MATCH(Tabulka!N$2,Přehled_body!$E$1:$ED$1,0)),)=0,0.00000000001,IFERROR(INDEX(Přehled_body!$E$3:$ED$130,MATCH(Tabulka!$AI83,Přehled_body!$A$3:$A$130,0),MATCH(Tabulka!N$2,Přehled_body!$E$1:$ED$1,0)),)))","v":0},{"$f":"IF(IFERROR(INDEX(Přehled_body!$E$3:$ED$130,MATCH(Tabulka!$AI83,Přehled_body!$A$3:$A$130,0),MATCH(Tabulka!O$2,Přehled_body!$E$1:$ED$1,0)),)=\"\",,IF(IFERROR(INDEX(Přehled_body!$E$3:$ED$130,MATCH(Tabulka!$AI83,Přehled_body!$A$3:$A$130,0),MATCH(Tabulka!O$2,Přehled_body!$E$1:$ED$1,0)),)=0,0.00000000001,IFERROR(INDEX(Přehled_body!$E$3:$ED$130,MATCH(Tabulka!$AI83,Přehled_body!$A$3:$A$130,0),MATCH(Tabulka!O$2,Přehled_body!$E$1:$ED$1,0)),)))","v":0},{"$f":"IF(IFERROR(INDEX(Přehled_body!$E$3:$ED$130,MATCH(Tabulka!$AI83,Přehled_body!$A$3:$A$130,0),MATCH(Tabulka!P$2,Přehled_body!$E$1:$ED$1,0)),)=\"\",,IF(IFERROR(INDEX(Přehled_body!$E$3:$ED$130,MATCH(Tabulka!$AI83,Přehled_body!$A$3:$A$130,0),MATCH(Tabulka!P$2,Přehled_body!$E$1:$ED$1,0)),)=0,0.00000000001,IFERROR(INDEX(Přehled_body!$E$3:$ED$130,MATCH(Tabulka!$AI83,Přehled_body!$A$3:$A$130,0),MATCH(Tabulka!P$2,Přehled_body!$E$1:$ED$1,0)),)))","v":0},{"$f":"IF(IFERROR(INDEX(Přehled_body!$E$3:$ED$130,MATCH(Tabulka!$AI83,Přehled_body!$A$3:$A$130,0),MATCH(Tabulka!Q$2,Přehled_body!$E$1:$ED$1,0)),)=\"\",,IF(IFERROR(INDEX(Přehled_body!$E$3:$ED$130,MATCH(Tabulka!$AI83,Přehled_body!$A$3:$A$130,0),MATCH(Tabulka!Q$2,Přehled_body!$E$1:$ED$1,0)),)=0,0.00000000001,IFERROR(INDEX(Přehled_body!$E$3:$ED$130,MATCH(Tabulka!$AI83,Přehled_body!$A$3:$A$130,0),MATCH(Tabulka!Q$2,Přehled_body!$E$1:$ED$1,0)),)))","v":0},{"$f":"IF(IFERROR(INDEX(Přehled_body!$E$3:$ED$130,MATCH(Tabulka!$AI83,Přehled_body!$A$3:$A$130,0),MATCH(Tabulka!R$2,Přehled_body!$E$1:$ED$1,0)),)=\"\",,IF(IFERROR(INDEX(Přehled_body!$E$3:$ED$130,MATCH(Tabulka!$AI83,Přehled_body!$A$3:$A$130,0),MATCH(Tabulka!R$2,Přehled_body!$E$1:$ED$1,0)),)=0,0.00000000001,IFERROR(INDEX(Přehled_body!$E$3:$ED$130,MATCH(Tabulka!$AI83,Přehled_body!$A$3:$A$130,0),MATCH(Tabulka!R$2,Přehled_body!$E$1:$ED$1,0)),)))","v":0},{"$f":"IF(IFERROR(INDEX(Přehled_body!$E$3:$ED$130,MATCH(Tabulka!$AI83,Přehled_body!$A$3:$A$130,0),MATCH(Tabulka!S$2,Přehled_body!$E$1:$ED$1,0)),)=\"\",,IF(IFERROR(INDEX(Přehled_body!$E$3:$ED$130,MATCH(Tabulka!$AI83,Přehled_body!$A$3:$A$130,0),MATCH(Tabulka!S$2,Přehled_body!$E$1:$ED$1,0)),)=0,0.00000000001,IFERROR(INDEX(Přehled_body!$E$3:$ED$130,MATCH(Tabulka!$AI83,Přehled_body!$A$3:$A$130,0),MATCH(Tabulka!S$2,Přehled_body!$E$1:$ED$1,0)),)))","v":0},{"$f":"IF(IFERROR(INDEX(Přehled_body!$E$3:$ED$130,MATCH(Tabulka!$AI83,Přehled_body!$A$3:$A$130,0),MATCH(Tabulka!T$2,Přehled_body!$E$1:$ED$1,0)),)=\"\",,IF(IFERROR(INDEX(Přehled_body!$E$3:$ED$130,MATCH(Tabulka!$AI83,Přehled_body!$A$3:$A$130,0),MATCH(Tabulka!T$2,Přehled_body!$E$1:$ED$1,0)),)=0,0.00000000001,IFERROR(INDEX(Přehled_body!$E$3:$ED$130,MATCH(Tabulka!$AI83,Přehled_body!$A$3:$A$130,0),MATCH(Tabulka!T$2,Přehled_body!$E$1:$ED$1,0)),)))","v":0},{"$f":"IF(IFERROR(INDEX(Přehled_body!$E$3:$ED$130,MATCH(Tabulka!$AI83,Přehled_body!$A$3:$A$130,0),MATCH(Tabulka!U$2,Přehled_body!$E$1:$ED$1,0)),)=\"\",,IF(IFERROR(INDEX(Přehled_body!$E$3:$ED$130,MATCH(Tabulka!$AI83,Přehled_body!$A$3:$A$130,0),MATCH(Tabulka!U$2,Přehled_body!$E$1:$ED$1,0)),)=0,0.00000000001,IFERROR(INDEX(Přehled_body!$E$3:$ED$130,MATCH(Tabulka!$AI83,Přehled_body!$A$3:$A$130,0),MATCH(Tabulka!U$2,Přehled_body!$E$1:$ED$1,0)),)))","v":0},{"$f":"IF(IFERROR(INDEX(Přehled_body!$E$3:$ED$130,MATCH(Tabulka!$AI83,Přehled_body!$A$3:$A$130,0),MATCH(Tabulka!V$2,Přehled_body!$E$1:$ED$1,0)),)=\"\",,IF(IFERROR(INDEX(Přehled_body!$E$3:$ED$130,MATCH(Tabulka!$AI83,Přehled_body!$A$3:$A$130,0),MATCH(Tabulka!V$2,Přehled_body!$E$1:$ED$1,0)),)=0,0.00000000001,IFERROR(INDEX(Přehled_body!$E$3:$ED$130,MATCH(Tabulka!$AI83,Přehled_body!$A$3:$A$130,0),MATCH(Tabulka!V$2,Přehled_body!$E$1:$ED$1,0)),)))","v":0},{"$f":"IF(IFERROR(INDEX(Přehled_body!$E$3:$ED$130,MATCH(Tabulka!$AI83,Přehled_body!$A$3:$A$130,0),MATCH(Tabulka!W$2,Přehled_body!$E$1:$ED$1,0)),)=\"\",,IF(IFERROR(INDEX(Přehled_body!$E$3:$ED$130,MATCH(Tabulka!$AI83,Přehled_body!$A$3:$A$130,0),MATCH(Tabulka!W$2,Přehled_body!$E$1:$ED$1,0)),)=0,0.00000000001,IFERROR(INDEX(Přehled_body!$E$3:$ED$130,MATCH(Tabulka!$AI83,Přehled_body!$A$3:$A$130,0),MATCH(Tabulka!W$2,Přehled_body!$E$1:$ED$1,0)),)))","v":0},{"$f":"IF(IFERROR(INDEX(Přehled_body!$E$3:$ED$130,MATCH(Tabulka!$AI83,Přehled_body!$A$3:$A$130,0),MATCH(Tabulka!X$2,Přehled_body!$E$1:$ED$1,0)),)=\"\",,IF(IFERROR(INDEX(Přehled_body!$E$3:$ED$130,MATCH(Tabulka!$AI83,Přehled_body!$A$3:$A$130,0),MATCH(Tabulka!X$2,Přehled_body!$E$1:$ED$1,0)),)=0,0.00000000001,IFERROR(INDEX(Přehled_body!$E$3:$ED$130,MATCH(Tabulka!$AI83,Přehled_body!$A$3:$A$130,0),MATCH(Tabulka!X$2,Přehled_body!$E$1:$ED$1,0)),)))","v":0},{"$f":"IF(IFERROR(INDEX(Přehled_body!$E$3:$ED$130,MATCH(Tabulka!$AI83,Přehled_body!$A$3:$A$130,0),MATCH(Tabulka!Y$2,Přehled_body!$E$1:$ED$1,0)),)=\"\",,IF(IFERROR(INDEX(Přehled_body!$E$3:$ED$130,MATCH(Tabulka!$AI83,Přehled_body!$A$3:$A$130,0),MATCH(Tabulka!Y$2,Přehled_body!$E$1:$ED$1,0)),)=0,0.00000000001,IFERROR(INDEX(Přehled_body!$E$3:$ED$130,MATCH(Tabulka!$AI83,Přehled_body!$A$3:$A$130,0),MATCH(Tabulka!Y$2,Přehled_body!$E$1:$ED$1,0)),)))","v":0},{"$f":"IF(IFERROR(INDEX(Přehled_body!$E$3:$ED$130,MATCH(Tabulka!$AI83,Přehled_body!$A$3:$A$130,0),MATCH(Tabulka!Z$2,Přehled_body!$E$1:$ED$1,0)),)=\"\",,IF(IFERROR(INDEX(Přehled_body!$E$3:$ED$130,MATCH(Tabulka!$AI83,Přehled_body!$A$3:$A$130,0),MATCH(Tabulka!Z$2,Přehled_body!$E$1:$ED$1,0)),)=0,0.00000000001,IFERROR(INDEX(Přehled_body!$E$3:$ED$130,MATCH(Tabulka!$AI83,Přehled_body!$A$3:$A$130,0),MATCH(Tabulka!Z$2,Přehled_body!$E$1:$ED$1,0)),)))","v":0},{"$f":"IF(IFERROR(INDEX(Přehled_body!$E$3:$ED$130,MATCH(Tabulka!$AI83,Přehled_body!$A$3:$A$130,0),MATCH(Tabulka!AA$2,Přehled_body!$E$1:$ED$1,0)),)=\"\",,IF(IFERROR(INDEX(Přehled_body!$E$3:$ED$130,MATCH(Tabulka!$AI83,Přehled_body!$A$3:$A$130,0),MATCH(Tabulka!AA$2,Přehled_body!$E$1:$ED$1,0)),)=0,0.00000000001,IFERROR(INDEX(Přehled_body!$E$3:$ED$130,MATCH(Tabulka!$AI83,Přehled_body!$A$3:$A$130,0),MATCH(Tabulka!AA$2,Přehled_body!$E$1:$ED$1,0)),)))","v":0},{"$f":"IF(IFERROR(INDEX(Přehled_body!$E$3:$ED$130,MATCH(Tabulka!$AI83,Přehled_body!$A$3:$A$130,0),MATCH(Tabulka!AB$2,Přehled_body!$E$1:$ED$1,0)),)=\"\",,IF(IFERROR(INDEX(Přehled_body!$E$3:$ED$130,MATCH(Tabulka!$AI83,Přehled_body!$A$3:$A$130,0),MATCH(Tabulka!AB$2,Přehled_body!$E$1:$ED$1,0)),)=0,0.00000000001,IFERROR(INDEX(Přehled_body!$E$3:$ED$130,MATCH(Tabulka!$AI83,Přehled_body!$A$3:$A$130,0),MATCH(Tabulka!AB$2,Přehled_body!$E$1:$ED$1,0)),)))","v":0},{"$f":"IF(IFERROR(INDEX(Přehled_body!$E$3:$ED$130,MATCH(Tabulka!$AI83,Přehled_body!$A$3:$A$130,0),MATCH(Tabulka!AC$2,Přehled_body!$E$1:$ED$1,0)),)=\"\",,IF(IFERROR(INDEX(Přehled_body!$E$3:$ED$130,MATCH(Tabulka!$AI83,Přehled_body!$A$3:$A$130,0),MATCH(Tabulka!AC$2,Přehled_body!$E$1:$ED$1,0)),)=0,0.00000000001,IFERROR(INDEX(Přehled_body!$E$3:$ED$130,MATCH(Tabulka!$AI83,Přehled_body!$A$3:$A$130,0),MATCH(Tabulka!AC$2,Přehled_body!$E$1:$ED$1,0)),)))","v":0},{"$f":"IF(IFERROR(INDEX(Přehled_body!$E$3:$ED$130,MATCH(Tabulka!$AI83,Přehled_body!$A$3:$A$130,0),MATCH(Tabulka!AD$2,Přehled_body!$E$1:$ED$1,0)),)=\"\",,IF(IFERROR(INDEX(Přehled_body!$E$3:$ED$130,MATCH(Tabulka!$AI83,Přehled_body!$A$3:$A$130,0),MATCH(Tabulka!AD$2,Přehled_body!$E$1:$ED$1,0)),)=0,0.00000000001,IFERROR(INDEX(Přehled_body!$E$3:$ED$130,MATCH(Tabulka!$AI83,Přehled_body!$A$3:$A$130,0),MATCH(Tabulka!AD$2,Přehled_body!$E$1:$ED$1,0)),)))","v":0},{"$f":"IF(SUM(AG79)<2,-90000+SUM(D83:AD83),SUM(D83:AD83))","v":-90000},null,null,0,{"$f":"CONCATENATE($B$80,\" \",$B$81,C83)","v":"Iva IvankaPoč. kol"},null,null,0]

{"sheet":"Pořadí","index":2,"n_rows":54,"n_cols":14,"rows_kept":54,"cut":false,"hidden":false,"merged":[[0,0,0,9],[51,3,51,4],[51,6,51,7],[50,3,50,4],[50,6,50,7],[50,9,50,10],[47,3,47,4],[47,6,47,7],[47,9,47,10],[48,3,48,4],[48,6,48,7],[48,9,48,10],[51,9,51,10],[42,6,42,7],[42,9,42,10],[22,9,22,10],[23,3,23,4],[23,6,23,7],[23,9,23,10],[49,3,49,4],[49,6,49,7],[49,9,49,10],[45,3,45,4],[45,6,45,7],[34,3,34,4],[34,6,34,7],[34,9,34,10],[44,3,44,4],[44,6,44,7],[41,9,41,10],[42,3,42,4],[40,3,40,4],[40,6,40,7],[40,9,40,10],[44,9,44,10],[41,3,41,4],[41,6,41,7],[39,9,39,10],[32,3,32,4],[31,3,31,4],[31,6,31,7],[31,9,31,10],[32,6,32,7],[32,9,32,10],[33,3,33,4],[33,6,33,7],[33,9,33,10],[20,9,20,11],[21,3,21,4],[21,6,21,7],[21,9,21,10],[22,3,22,4],[22,6,22,7],[29,6,29,7],[29,9,29,10],[30,3,30,4],[30,6,30,7],[30,9,30,10],[37,1,37,2],[37,3,37,5],[37,6,37,8],[37,9,37,11],[28,3,28,4],[28,6,28,7],[28,9,28,10],[29,3,29,4],[18,0,18,11],[26,3,26,4],[26,6,26,7],[26,9,26,10],[27,3,27,4],[27,6,27,7],[27,9,27,10],[24,3,24,4],[24,6,24,7],[24,9,24,10],[25,3,25,4],[25,6,25,7],[25,9,25,10],[20,1,20,2],[20,3,20,5],[20,6,20,8],[52,9,52,10],[53,9,53,10],[52,3,52,4],[52,6,52,7],[53,3,53,4],[53,6,53,7],[35,3,35,4],[35,6,35,7],[35,9,35,10],[36,3,36,4],[36,6,36,7],[36,9,36,10],[38,3,38,4],[38,6,38,7],[38,9,38,10],[39,3,39,4],[39,6,39,7],[45,9,45,10],[46,3,46,4],[46,6,46,7],[46,9,46,10],[43,3,43,4],[43,6,43,7],[43,9,43,10]]}
[{"$f":"\"Pořadí v šípech k \"&TEXT(MAX(Tabulka!D2:AE2),\"ddd d. M. rrrr\")&\"      na www.sipy.zlatyruce.cz\"","v":"Pořadí v šípech k út 7. 12. 2021      na www.sipy.zlatyruce.cz"}]
["Pořadí","Jméno","Body","Výhry","Prohry","Přehozy","Počet her","Plac. panáků","Účast dny","Průměr\nzůst.\nbodů"]
[1,{"$f":"List4!T2","v":"Milan Veselý"},{"$f":"IF(List4!K2<-88888,-90000,INDEX(List4!$J$2:$V$17,MATCH(B3,List4!$J$2:$J$17,0),3))","v":15.999999838950002},{"$f":"INDEX(Tabulka!$A$4:$AH$84,MATCH(B3,Tabulka!$A$4:$A$84,0)-1,34)","v":27.000000000020002},{"$f":"INDEX(Tabulka!$B$4:$AH$84,MATCH(B3,Tabulka!$A$4:$A$84,0),33)","v":11.000000000069999},{"$f":"INDEX(Tabulka!$B$4:$AH$84,MATCH(B3,Tabulka!$A$4:$A$84,0)+2,33)","v":16.000000000079996},{"$f":"INDEX(Tabulka!$B$4:$AH$84,MATCH(B3,Tabulka!$A$4:$A$84,0)+3,33)","v":69},{"$f":"INDEX(Tabulka!$B$4:$AH$84,MATCH(B3,Tabulka!$A$4:$A$84,0)+1,33)","v":13.00000016107},{"$f":"INDEX(Tabulka!$AG$4:$AG$84,MATCH($B3,Tabulka!$A$4:$A$84,0)-1,1)","v":17},{"$f":"INDEX(Přehled_body!$EG$3:$EG$130,MATCH(Pořadí!B3,Přehled_body!$EH$3:$EH$130,0),1)","v":39.782608695652172},null,null,null,"Výhry"]
[2,{"$f":"List4!T3","v":"Standa Roth"},{"$f":"IF(List4!K3<-88888,-90000,INDEX(List4!$J$2:$V$17,MATCH(B4,List4!$J$2:$J$17,0),3))","v":9.9999998889199997},{"$f":"INDEX(Tabulka!$A$4:$AH$84,MATCH(B4,Tabulka!$A$4:$A$84,0)-1,34)","v":14.00000000004},{"$f":"INDEX(Tabulka!$B$4:$AH$84,MATCH(B4,Tabulka!$A$4:$A$84,0),33)","v":4.00000000012},{"$f":"INDEX(Tabulka!$B$4:$AH$84,MATCH(B4,Tabulka!$A$4:$A$84,0)+2,33)","v":10.000000000089999},{"$f":"INDEX(Tabulka!$B$4:$AH$84,MATCH(B4,Tabulka!$A$4:$A$84,0)+3,33)","v":60},{"$f":"INDEX(Tabulka!$B$4:$AH$84,MATCH(B4,Tabulka!$A$4:$A$84,0)+1,33)","v":7.0000001111200003},{"$f":"INDEX(Tabulka!$AG$4:$AG$84,MATCH($B4,Tabulka!$A$4:$A$84,0)-1,1)","v":15},{"$f":"INDEX(Přehled_body!$EG$3:$EG$130,MATCH(Pořadí!B4,Přehled_body!$EH$3:$EH$130,0),1)","v":49.033333333333331},null,null,null,"Prohry"]
[3,{"$f":"List4!T4","v":"Jarda Klein"},{"$f":"IF(List4!K4<-88888,-90000,INDEX(List4!$J$2:$V$17,MATCH(B5,List4!$J$2:$J$17,0),3))","v":7.9999999189600004},{"$f":"INDEX(Tabulka!$A$4:$AH$84,MATCH(B5,Tabulka!$A$4:$A$84,0)-1,34)","v":16.000000000049997},{"$f":"INDEX(Tabulka!$B$4:$AH$84,MATCH(B5,Tabulka!$A$4:$A$84,0),33)","v":8.0000000000899973},{"$f":"INDEX(Tabulka!$B$4:$AH$84,MATCH(B5,Tabulka!$A$4:$A$84,0)+2,33)","v":21.000000000030003},{"$f":"INDEX(Tabulka!$B$4:$AH$84,MATCH(B5,Tabulka!$A$4:$A$84,0)+3,33)","v":61},{"$f":"INDEX(Tabulka!$B$4:$AH$84,MATCH(B5,Tabulka!$A$4:$A$84,0)+1,33)","v":10.000000081089997},{"$f":"INDEX(Tabulka!$AG$4:$AG$84,MATCH($B5,Tabulka!$A$4:$A$84,0)-1,1)","v":15},{"$f":"INDEX(Přehled_body!$EG$3:$EG$130,MATCH(Pořadí!B5,Přehled_body!$EH$3:$EH$130,0),1)","v":50.114754098360656},null,null,null,"Placeno panáků"]
[4,{"$f":"List4!T5","v":"Libor Hruška"},{"$f":"IF(List4!K5<-88888,-90000,INDEX(List4!$J$2:$V$17,MATCH(B6,List4!$J$2:$J$17,0),3))","v":5.9999999689499948},{"$f":"INDEX(Tabulka!$A$4:$AH$84,MATCH(B6,Tabulka!$A$4:$A$84,0)-1,34)","v":12.000000000079995},{"$f":"INDEX(Tabulka!$B$4:$AH$84,MATCH(B6,Tabulka!$A$4:$A$84,0),33)","v":6.00000000013},{"$f":"INDEX(Tabulka!$B$4:$AH$84,MATCH(B6,Tabulka!$A$4:$A$84,0)+2,33)","v":15.000000000069996},{"$f":"INDEX(Tabulka!$B$4:$AH$84,MATCH(B6,Tabulka!$A$4:$A$84,0)+3,33)","v":69},{"$f":"INDEX(Tabulka!$B$4:$AH$84,MATCH(B6,Tabulka!$A$4:$A$84,0)+1,33)","v":10.000000031129998},{"$f":"INDEX(Tabulka!$AG$4:$AG$84,MATCH($B6,Tabulka!$A$4:$A$84,0)-1,1)","v":17},{"$f":"INDEX(Přehled_body!$EG$3:$EG$130,MATCH(Pořadí!B6,Přehled_body!$EH$3:$EH$130,0),1)","v":49.260869565217391},null,null,null,"Přehozy"]
[5,{"$f":"List4!T6","v":"Kuba Šedivý"},{"$f":"IF(List4!K6<-88888,-90000,INDEX(List4!$J$2:$V$17,MATCH(B7,List4!$J$2:$J$17,0),3))","v":3.8999998789800001},{"$f":"INDEX(Tabulka!$A$4:$AH$84,MATCH(B7,Tabulka!$A$4:$A$84,0)-1,34)","v":4},{"$f":"INDEX(Tabulka!$B$4:$AH$84,MATCH(B7,Tabulka!$A$4:$A$84,0),33)","v":0.10000000002000001},{"$f":"INDEX(Tabulka!$B$4:$AH$84,MATCH(B7,Tabulka!$A$4:$A$84,0)+2,33)","v":8},{"$f":"INDEX(Tabulka!$B$4:$AH$84,MATCH(B7,Tabulka!$A$4:$A$84,0)+3,33)","v":11},{"$f":"INDEX(Tabulka!$B$4:$AH$84,MATCH(B7,Tabulka!$A$4:$A$84,0)+1,33)","v":1.2102999999999999E-7},{"$f":"INDEX(Tabulka!$AG$4:$AG$84,MATCH($B7,Tabulka!$A$4:$A$84,0)-1,1)","v":3},{"$f":"INDEX(Přehled_body!$EG$3:$EG$130,MATCH(Pořadí!B7,Přehled_body!$EH$3:$EH$130,0),1)","v":25.272727272727273},null,null,null,"Poč. kol"]
[6,{"$f":"List4!T7","v":"Míra Šedivý"},{"$f":"IF(List4!K7<-88888,-90000,INDEX(List4!$J$2:$V$17,MATCH(B8,List4!$J$2:$J$17,0),3))","v":-1.00000013097},{"$f":"INDEX(Tabulka!$A$4:$AH$84,MATCH(B8,Tabulka!$A$4:$A$84,0)-1,34)","v":5.00000000005},{"$f":"INDEX(Tabulka!$B$4:$AH$84,MATCH(B8,Tabulka!$A$4:$A$84,0),33)","v":6.00000000002},{"$f":"INDEX(Tabulka!$B$4:$AH$84,MATCH(B8,Tabulka!$A$4:$A$84,0)+2,33)","v":2.00000000005},{"$f":"INDEX(Tabulka!$B$4:$AH$84,MATCH(B8,Tabulka!$A$4:$A$84,0)+3,33)","v":30},{"$f":"INDEX(Tabulka!$B$4:$AH$84,MATCH(B8,Tabulka!$A$4:$A$84,0)+1,33)","v":6.0000001310200002},{"$f":"INDEX(Tabulka!$AG$4:$AG$84,MATCH($B8,Tabulka!$A$4:$A$84,0)-1,1)","v":7},{"$f":"INDEX(Přehled_body!$EG$3:$EG$130,MATCH(Pořadí!B8,Přehled_body!$EH$3:$EH$130,0),1)","v":66.466666666666669},null,null,null,"Počet konečných bodů"]
[7,{"$f":"List4!T8","v":"Adam Šmíd"},{"$f":"IF(List4!K8<-88888,-90000,INDEX(List4!$J$2:$V$17,MATCH(B9,List4!$J$2:$J$17,0),3))","v":-7.0000001409500001},{"$f":"INDEX(Tabulka!$A$4:$AH$84,MATCH(B9,Tabulka!$A$4:$A$84,0)-1,34)","v":1.0000000000000002E-10},{"$f":"INDEX(Tabulka!$B$4:$AH$84,MATCH(B9,Tabulka!$A$4:$A$84,0),33)","v":7.00000000005},{"$f":"INDEX(Tabulka!$B$4:$AH$84,MATCH(B9,Tabulka!$A$4:$A$84,0)+2,33)","v":2.00000000009},{"$f":"INDEX(Tabulka!$B$4:$AH$84,MATCH(B9,Tabulka!$A$4:$A$84,0)+3,33)","v":19},{"$f":"INDEX(Tabulka!$B$4:$AH$84,MATCH(B9,Tabulka!$A$4:$A$84,0)+1,33)","v":14.000000141039997},{"$f":"INDEX(Tabulka!$AG$4:$AG$84,MATCH($B9,Tabulka!$A$4:$A$84,0)-1,1)","v":10},{"$f":"INDEX(Přehled_body!$EG$3:$EG$130,MATCH(Pořadí!B9,Přehled_body!$EH$3:$EH$130,0),1)","v":96.21052631578948},null,null,null,"Průměr konečných bodů na kolo"]
[8,{"$f":"List4!T9","v":"Jiří Blín"},{"$f":"IF(List4!K9<-88888,-90000,INDEX(List4!$J$2:$V$17,MATCH(B10,List4!$J$2:$J$17,0),3))","v":-9.0000000109399974},{"$f":"INDEX(Tabulka!$A$4:$AH$84,MATCH(B10,Tabulka!$A$4:$A$84,0)-1,34)","v":9.0000000001099991},{"$f":"INDEX(Tabulka!$B$4:$AH$84,MATCH(B10,Tabulka!$A$4:$A$84,0),33)","v":18.000000000049997},{"$f":"INDEX(Tabulka!$B$4:$AH$84,MATCH(B10,Tabulka!$A$4:$A$84,0)+2,33)","v":11.0000000001},{"$f":"INDEX(Tabulka!$B$4:$AH$84,MATCH(B10,Tabulka!$A$4:$A$84,0)+3,33)","v":69},{"$f":"INDEX(Tabulka!$B$4:$AH$84,MATCH(B10,Tabulka!$A$4:$A$84,0)+1,33)","v":24.000000011050002},{"$f":"INDEX(Tabulka!$AG$4:$AG$84,MATCH($B10,Tabulka!$A$4:$A$84,0)-1,1)","v":17},{"$f":"INDEX(Přehled_body!$EG$3:$EG$130,MATCH(Pořadí!B10,Přehled_body!$EH$3:$EH$130,0),1)","v":71.782608695652172}]
[9,{"$f":"List4!T10","v":"Zdenek Kanaďan"},{"$f":"IF(List4!K10<-88888,-90000,INDEX(List4!$J$2:$V$17,MATCH(B11,List4!$J$2:$J$17,0),3))","v":-6.099999999999999E-8},{"$f":"INDEX(Tabulka!$A$4:$AH$84,MATCH(B11,Tabulka!$A$4:$A$84,0)-1,34)","v":1},{"$f":"INDEX(Tabulka!$B$4:$AH$84,MATCH(B11,Tabulka!$A$4:$A$84,0),33)","v":1},{"$f":"INDEX(Tabulka!$B$4:$AH$84,MATCH(B11,Tabulka!$A$4:$A$84,0)+2,33)","v":9.9999999999999994E-12},{"$f":"INDEX(Tabulka!$B$4:$AH$84,MATCH(B11,Tabulka!$A$4:$A$84,0)+3,33)","v":5},{"$f":"INDEX(Tabulka!$B$4:$AH$84,MATCH(B11,Tabulka!$A$4:$A$84,0)+1,33)","v":1.0000000609999999},{"$f":"INDEX(Tabulka!$AG$4:$AG$84,MATCH($B11,Tabulka!$A$4:$A$84,0)-1,1)","v":1},{"$f":"INDEX(Přehled_body!$EG$3:$EG$130,MATCH(Pořadí!B11,Přehled_body!$EH$3:$EH$130,0),1)","v":66.400000000000006}]
[10,{"$f":"List4!T11","v":"Karel Karl"},{"$f":"IF(List4!K11<-88888,-90000,INDEX(List4!$J$2:$V$17,MATCH(B12,List4!$J$2:$J$17,0),3))","v":-1.0000000710000001},{"$f":"INDEX(Tabulka!$A$4:$AH$84,MATCH(B12,Tabulka!$A$4:$A$84,0)-1,34)","v":1},{"$f":"INDEX(Tabulka!$B$4:$AH$84,MATCH(B12,Tabulka!$A$4:$A$84,0),33)","v":2},{"$f":"INDEX(Tabulka!$B$4:$AH$84,MATCH(B12,Tabulka!$A$4:$A$84,0)+2,33)","v":9.9999999999999994E-12},{"$f":"INDEX(Tabulka!$B$4:$AH$84,MATCH(B12,Tabulka!$A$4:$A$84,0)+3,33)","v":4},{"$f":"INDEX(Tabulka!$B$4:$AH$84,MATCH(B12,Tabulka!$A$4:$A$84,0)+1,33)","v":2.0000000710000001},{"$f":"INDEX(Tabulka!$AG$4:$AG$84,MATCH($B12,Tabulka!$A$4:$A$84,0)-1,1)","v":1},{"$f":"INDEX(Přehled_body!$EG$3:$EG$130,MATCH(Pořadí!B12,Přehled_body!$EH$3:$EH$130,0),1)","v":141.5}]
[11,{"$f":"List4!T12","v":"Míra Chalupník"},{"$f":"IF(List4!K12<-88888,-90000,INDEX(List4!$J$2:$V$17,MATCH(B13,List4!$J$2:$J$17,0),3))","v":-2.0000000409854479},{"$f":"INDEX(Tabulka!$A$4:$AH$84,MATCH(B13,Tabulka!$A$4:$A$84,0)-1,34)","v":9.9999999999999994E-12},{"$f":"INDEX(Tabulka!$B$4:$AH$84,MATCH(B13,Tabulka!$A$4:$A$84,0),33)","v":2},{"$f":"INDEX(Tabulka!$B$4:$AH$84,MATCH(B13,Tabulka!$A$4:$A$84,0)+2,33)","v":1},{"$f":"INDEX(Tabulka!$B$4:$AH$84,MATCH(B13,Tabulka!$A$4:$A$84,0)+3,33)","v":4},{"$f":"INDEX(Tabulka!$B$4:$AH$84,MATCH(B13,Tabulka!$A$4:$A$84,0)+1,33)","v":2.0000000409999998},{"$f":"INDEX(Tabulka!$AG$4:$AG$84,MATCH($B13,Tabulka!$A$4:$A$84,0)-1,1)","v":1},{"$f":"INDEX(Přehled_body!$EG$3:$EG$130,MATCH(Pořadí!B13,Přehled_body!$EH$3:$EH$130,0),1)","v":81.25}]
[12,{"$f":"List4!T13","v":"Petr Šum"},{"$f":"IF(List4!K13<-88888,-90000,INDEX(List4!$J$2:$V$17,MATCH(B14,List4!$J$2:$J$17,0),3))","v":-4.0000001509854481},{"$f":"INDEX(Tabulka!$A$4:$AH$84,MATCH(B14,Tabulka!$A$4:$A$84,0)-1,34)","v":9.9999999999999994E-12},{"$f":"INDEX(Tabulka!$B$4:$AH$84,MATCH(B14,Tabulka!$A$4:$A$84,0),33)","v":4},{"$f":"INDEX(Tabulka!$B$4:$AH$84,MATCH(B14,Tabulka!$A$4:$A$84,0)+2,33)","v":9.9999999999999994E-12},{"$f":"INDEX(Tabulka!$B$4:$AH$84,MATCH(B14,Tabulka!$A$4:$A$84,0)+3,33)","v":4},{"$f":"INDEX(Tabulka!$B$4:$AH$84,MATCH(B14,Tabulka!$A$4:$A$84,0)+1,33)","v":4.0000001510000001},{"$f":"INDEX(Tabulka!$AG$4:$AG$84,MATCH($B14,Tabulka!$A$4:$A$84,0)-1,1)","v":1},{"$f":"INDEX(Přehled_body!$EG$3:$EG$130,MATCH(Pořadí!B14,Přehled_body!$EH$3:$EH$130,0),1)","v":156.75}]
[13,{"$f":"List4!T14","v":"Jiří Fiala"},{"$f":"IF(List4!K14<-88888,-90000,INDEX(List4!$J$2:$V$17,MATCH(B15,List4!$J$2:$J$17,0),3))","v":-90000},{"$f":"INDEX(Tabulka!$A$4:$AH$84,MATCH(B15,Tabulka!$A$4:$A$84,0)-1,34)","v":0},{"$f":"INDEX(Tabulka!$B$4:$AH$84,MATCH(B15,Tabulka!$A$4:$A$84,0),33)","v":0},{"$f":"INDEX(Tabulka!$B$4:$AH$84,MATCH(B15,Tabulka!$A$4:$A$84,0)+2,33)","v":0},{"$f":"INDEX(Tabulka!$B$4:$AH$84,MATCH(B15,Tabulka!$A$4:$A$84,0)+3,33)","v":0},{"$f":"INDEX(Tabulka!$B$4:$AH$84,MATCH(B15,Tabulka!$A$4:$A$84,0)+1,33)","v":2.0999999999999999E-8},{"$f":"INDEX(Tabulka!$AG$4:$AG$84,MATCH($B15,Tabulka!$A$4:$A$84,0)-1,1)","v":0},{"$f":"INDEX(Přehled_body!$EG$3:$EG$130,MATCH(Pořadí!B15,Přehled_body!$EH$3:$EH$130,0),1)","v":0}]
[14,{"$f":"List4!T15","v":"Iva Ivanka"},{"$f":"IF(List4!K15<-88888,-90000,INDEX(List4!$J$2:$V$17,MATCH(B16,List4!$J$2:$J$17,0),3))","v":-90000},{"$f":"INDEX(Tabulka!$A$4:$AH$84,MATCH(B16,Tabulka!$A$4:$A$84,0)-1,34)","v":0},{"$f":"INDEX(Tabulka!$B$4:$AH$84,MATCH(B16,Tabulka!$A$4:$A$84,0),33)","v":0},{"$f":"INDEX(Tabulka!$B$4:$AH$84,MATCH(B16,Tabulka!$A$4:$A$84,0)+2,33)","v":0},{"$f":"INDEX(Tabulka!$B$4:$AH$84,MATCH(B16,Tabulka!$A$4:$A$84,0)+3,33)","v":0},{"$f":"INDEX(Tabulka!$B$4:$AH$84,MATCH(B16,Tabulka!$A$4:$A$84,0)+1,33)","v":5.0999999999999993E-8},{"$f":"INDEX(Tabulka!$AG$4:$AG$84,MATCH($B16,Tabulka!$A$4:$A$84,0)-1,1)","v":0},{"$f":"INDEX(Přehled_body!$EG$3:$EG$130,MATCH(Pořadí!B16,Přehled_body!$EH$3:$EH$130,0),1)","v":0}]
[15,{"$f":"List4!T16","v":"Míra Kulhan"},{"$f":"IF(List4!K16<-88888,-90000,INDEX(List4!$J$2:$V$17,MATCH(B17,List4!$J$2:$J$17,0),3))","v":-90000},{"$f":"INDEX(Tabulka!$A$4:$AH$84,MATCH(B17,Tabulka!$A$4:$A$84,0)-1,34)","v":0},{"$f":"INDEX(Tabulka!$B$4:$AH$84,MATCH(B17,Tabulka!$A$4:$A$84,0),33)","v":0},{"$f":"INDEX(Tabulka!$B$4:$AH$84,MATCH(B17,Tabulka!$A$4:$A$84,0)+2,33)","v":0},{"$f":"INDEX(Tabulka!$B$4:$AH$84,MATCH(B17,Tabulka!$A$4:$A$84,0)+3,33)","v":0},{"$f":"INDEX(Tabulka!$B$4:$AH$84,MATCH(B17,Tabulka!$A$4:$A$84,0)+1,33)","v":9.0999999999999981E-8},{"$f":"INDEX(Tabulka!$AG$4:$AG$84,MATCH($B17,Tabulka!$A$4:$A$84,0)-1,1)","v":0},{"$f":"INDEX(Přehled_body!$EG$3:$EG$130,MATCH(Pořadí!B17,Přehled_body!$EH$3:$EH$130,0),1)","v":0}]
[16,{"$f":"List4!T17","v":"Pavel Pernekr"},{"$f":"IF(List4!K17<-88888,-90000,INDEX(List4!$J$2:$V$17,MATCH(B18,List4!$J$2:$J$17,0),3))","v":-90000},{"$f":"INDEX(Tabulka!$A$4:$AH$84,MATCH(B18,Tabulka!$A$4:$A$84,0)-1,34)","v":0},{"$f":"INDEX(Tabulka!$B$4:$AH$84,MATCH(B18,Tabulka!$A$4:$A$84,0),33)","v":0},{"$f":"INDEX(Tabulka!$B$4:$AH$84,MATCH(B18,Tabulka!$A$4:$A$84,0)+2,33)","v":0},{"$f":"INDEX(Tabulka!$B$4:$AH$84,MATCH(B18,Tabulka!$A$4:$A$84,0)+3,33)","v":0},{"$f":"INDEX(Tabulka!$B$4:$AH$84,MATCH(B18,Tabulka!$A$4:$A$84,0)+1,33)","v":1.0099999999999998E-7},{"$f":"INDEX(Tabulka!$AG$4:$AG$84,MATCH($B18,Tabulka!$A$4:$A$84,0)-1,1)","v":0},{"$f":"INDEX(Přehled_body!$EG$3:$EG$130,MATCH(Pořadí!B18,Přehled_body!$EH$3:$EH$130,0),1)","v":0}]
["V případě shody bodů rozhoduje následovně - pořet výher, počet her, průměrný zůstatek bodů, počet přehozů."]
[]
["Pořadí",{"$f":"List4!AJ21","v":"Výhry"},null,{"$f":"List4!AM21","v":"Prohry"},null,null,{"$f":"List4!AP21","v":"Placeno panáků"},null,null,{"$f":"List4!AS21","v":"Přehozy"}]
[1,{"$f":"List4!AJ22","v":"Milan Veselý"},{"$f":"List4!AK22","v":"27 "},{"$f":"List4!AM22","v":"Kuba Šedivý"},null,{"$f":"List4!AN22","v":"0 "},{"$f":"List4!AP22","v":"Kuba Šedivý"},null,{"$f":"List4!AQ22","v":"0 "},{"$f":"List4!AS22","v":"Míra Šedivý"},null,{"$f":"List4!AT22","v":"2 "}]
[2,{"$f":"List4!AJ23","v":"Jarda Klein"},{"$f":"List4!AK23","v":"16 "},{"$f":"List4!AM23","v":"Standa Roth"},null,{"$f":"List4!AN23","v":"4 "},{"$f":"List4!AP23","v":"Míra Šedivý"},null,{"$f":"List4!AQ23","v":"6 "},{"$f":"List4!AS23","v":"Adam Šmíd"},null,{"$f":"List4!AT23","v":"2 "}]
[3,{"$f":"List4!AJ24","v":"Standa Roth"},{"$f":"List4!AK24","v":"14 "},{"$f":"List4!AM24","v":"Míra Šedivý"},null,{"$f":"List4!AN24","v":"6 "},{"$f":"List4!AP24","v":"Standa Roth"},null,{"$f":"List4!AQ24","v":"7 "},{"$f":"List4!AS24","v":"Kuba Šedivý"},null,{"$f":"List4!AT24","v":"8 "}]
[4,{"$f":"List4!AJ25","v":"Libor Hruška"},{"$f":"List4!AK25","v":"12 "},{"$f":"List4!AM25","v":"Libor Hruška"},null,{"$f":"List4!AN25","v":"6 "},{"$f":"List4!AP25","v":"Libor Hruška"},null,{"$f":"List4!AQ25","v":"10 "},{"$f":"List4!AS25","v":"Standa Roth"},null,{"$f":"List4!AT25","v":"10 "}]
[5,{"$f":"List4!AJ26","v":"Jiří Blín"},{"$f":"List4!AK26","v":"9 "},{"$f":"List4!AM26","v":"Adam Šmíd"},null,{"$f":"List4!AN26","v":"7 "},{"$f":"List4!AP26","v":"Jarda Klein"},null,{"$f":"List4!AQ26","v":"10 "},{"$f":"List4!AS26","v":"Jiří Blín"},null,{"$f":"List4!AT26","v":"11 "}]
[6,{"$f":"List4!AJ27","v":"Míra Šedivý"},{"$f":"List4!AK27","v":"5 "},{"$f":"List4!AM27","v":"Jarda Klein"},null,{"$f":"List4!AN27","v":"8 "},{"$f":"List4!AP27","v":"Milan Veselý"},null,{"$f":"List4!AQ27","v":"13 "},{"$f":"List4!AS27","v":"Libor Hruška"},null,{"$f":"List4!AT27","v":"15 "}]
[7,{"$f":"List4!AJ28","v":"Kuba Šedivý"},{"$f":"List4!AK28","v":"4 "},{"$f":"List4!AM28","v":"Milan Veselý"},null,{"$f":"List4!AN28","v":"11 "},{"$f":"List4!AP28","v":"Adam Šmíd"},null,{"$f":"List4!AQ28","v":"14 "},{"$f":"List4!AS28","v":"Milan Veselý"},null,{"$f":"List4!AT28","v":"16 "}]
[8,{"$f":"List4!AJ29","v":"Adam Šmíd"},{"$f":"List4!AK29","v":"0 "},{"$f":"List4!AM29","v":"Jiří Blín"},null,{"$f":"List4!AN29","v":"18 "},{"$f":"List4!AP29","v":"Jiří Blín"},null,{"$f":"List4!AQ29","v":"24 "},{"$f":"List4!AS29","v":"Jarda Klein"},null,{"$f":"List4!AT29","v":"21 "}]
[9,{"$f":"List4!AJ30","v":"Zdenek Kanaďan"},{"$f":"List4!AK30","v":"1  (Nekl)"},{"$f":"List4!AM30","v":"Zdenek Kanaďan"},null,{"$f":"List4!AN30","v":"1  (Nekl)"},{"$f":"List4!AP30","v":"Zdenek Kanaďan"},null,{"$f":"List4!AQ30","v":"1  (Nekl)"},{"$f":"List4!AS30","v":"Zdenek Kanaďan"},null,{"$f":"List4!AT30","v":"0  (Nekl)"}]
[10,{"$f":"List4!AJ31","v":"Karel Karl"},{"$f":"List4!AK31","v":"1  (Nekl)"},{"$f":"List4!AM31","v":"Karel Karl"},null,{"$f":"List4!AN31","v":"2  (Nekl)"},{"$f":"List4!AP31","v":"Karel Karl"},null,{"$f":"List4!AQ31","v":"2  (Nekl)"},{"$f":"List4!AS31","v":"Karel Karl"},null,{"$f":"List4!AT31","v":"0  (Nekl)"}]
[11,{"$f":"List4!AJ32","v":"Míra Chalupník"},{"$f":"List4!AK32","v":"0  (Nekl)"},{"$f":"List4!AM32","v":"Míra Chalupník"},null,{"$f":"List4!AN32","v":"2  (Nekl)"},{"$f":"List4!AP32","v":"Míra Chalupník"},null,{"$f":"List4!AQ32","v":"2  (Nekl)"},{"$f":"List4!AS32","v":"Míra Chalupník"},null,{"$f":"List4!AT32","v":"1  (Nekl)"}]
[12,{"$f":"List4!AJ33","v":"Petr Šum"},{"$f":"List4!AK33","v":"0  (Nekl)"},{"$f":"List4!AM33","v":"Petr Šum"},null,{"$f":"List4!AN33","v":"4  (Nekl)"},{"$f":"List4!AP33","v":"Petr Šum"},null,{"$f":"List4!AQ33","v":"4  (Nekl)"},{"$f":"List4!AS33","v":"Petr Šum"},null,{"$f":"List4!AT33","v":"0  (Nekl)"}]
[13,{"$f":"List4!AJ34","v":"Jiří Fiala"},{"$f":"List4!AK34","v":"Neklas"},{"$f":"List4!AM34","v":"Jiří Fiala"},null,{"$f":"List4!AN34","v":"Neklas"},{"$f":"List4!AP34","v":"Jiří Fiala"},null,{"$f":"List4!AQ34","v":"Neklas"},{"$f":"List4!AS34","v":"Jiří Fiala"},null,{"$f":"List4!AT34","v":"Neklas"}]
[14,{"$f":"List4!AJ35","v":"Iva Ivanka"},{"$f":"List4!AK35","v":"Neklas"},{"$f":"List4!AM35","v":"Iva Ivanka"},null,{"$f":"List4!AN35","v":"Neklas"},{"$f":"List4!AP35","v":"Iva Ivanka"},null,{"$f":"List4!AQ35","v":"Neklas"},{"$f":"List4!AS35","v":"Iva Ivanka"},null,{"$f":"List4!AT35","v":"Neklas"}]
[15,{"$f":"List4!AJ36","v":"Míra Kulhan"},{"$f":"List4!AK36","v":"Neklas"},{"$f":"List4!AM36","v":"Míra Kulhan"},null,{"$f":"List4!AN36","v":"Neklas"},{"$f":"List4!AP36","v":"Míra Kulhan"},null,{"$f":"List4!AQ36","v":"Neklas"},{"$f":"List4!AS36","v":"Míra Kulhan"},null,{"$f":"List4!AT36","v":"Neklas"}]
[16,{"$f":"List4!AJ37","v":"Pavel Pernekr"},{"$f":"List4!AK37","v":"Neklas"},{"$f":"List4!AM37","v":"Pavel Pernekr"},null,{"$f":"List4!AN37","v":"Neklas"},{"$f":"List4!AP37","v":"Pavel Pernekr"},null,{"$f":"List4!AQ37","v":"Neklas"},{"$f":"List4!AS37","v":"Jiří Fiala"},null,{"$f":"List4!AT37","v":"Neklas"}]
["Pořadí",{"$f":"List4!AJ38","v":"Poč. kol"},null,"Celkem zůstatek bodů",null,null,"Průměr zůstatek bodů",null,null,"Účast dny"]
[1,{"$f":"List4!AJ39","v":"Milan Veselý"},{"$f":"List4!AK39","v":"69 "},{"$f":"List4!AM39","v":"Kuba Šedivý"},null,{"$f":"List4!AN39","v":"278 "},{"$f":"List4!AP39","v":"Kuba Šedivý"},null,{"$f":"List4!AQ39","v":"25 "},{"$f":"List4!AS39","v":"Jiří Blín"},null,{"$f":"IF(List4!AT39<-89000,\"Neklas\",List4!AT39)","v":"17 "}]
[2,{"$f":"List4!AJ40","v":"Libor Hruška"},{"$f":"List4!AK40","v":"69 "},{"$f":"List4!AM40","v":"Adam Šmíd"},null,{"$f":"List4!AN40","v":"1828 "},{"$f":"List4!AP40","v":"Milan Veselý"},null,{"$f":"List4!AQ40","v":"40 "},{"$f":"List4!AS40","v":"Libor Hruška"},null,{"$f":"IF(List4!AT40<-89000,\"Neklas\",List4!AT40)","v":"17 "}]
[3,{"$f":"List4!AJ41","v":"Jiří Blín"},{"$f":"List4!AK41","v":"69 "},{"$f":"List4!AM41","v":"Míra Šedivý"},null,{"$f":"List4!AN41","v":"1994 "},{"$f":"List4!AP41","v":"Standa Roth"},null,{"$f":"List4!AQ41","v":"49 "},{"$f":"List4!AS41","v":"Milan Veselý"},null,{"$f":"IF(List4!AT41<-89000,\"Neklas\",List4!AT41)","v":"17 "}]
[4,{"$f":"List4!AJ42","v":"Jarda Klein"},{"$f":"List4!AK42","v":"61 "},{"$f":"List4!AM42","v":"Milan Veselý"},null,{"$f":"List4!AN42","v":"2745 "},{"$f":"List4!AP42","v":"Libor Hruška"},null,{"$f":"List4!AQ42","v":"49 "},{"$f":"List4!AS42","v":"Jarda Klein"},null,{"$f":"IF(List4!AT42<-89000,\"Neklas\",List4!AT42)","v":"15 "}]
[5,{"$f":"List4!AJ43","v":"Standa Roth"},{"$f":"List4!AK43","v":"60 "},{"$f":"List4!AM43","v":"Standa Roth"},null,{"$f":"List4!AN43","v":"2942 "},{"$f":"List4!AP43","v":"Jarda Klein"},null,{"$f":"List4!AQ43","v":"50 "},{"$f":"List4!AS43","v":"Standa Roth"},null,{"$f":"IF(List4!AT43<-89000,\"Neklas\",List4!AT43)","v":"15 "}]
[6,{"$f":"List4!AJ44","v":"Míra Šedivý"},{"$f":"List4!AK44","v":"30 "},{"$f":"List4!AM44","v":"Jarda Klein"},null,{"$f":"List4!AN44","v":"3057 "},{"$f":"List4!AP44","v":"Míra Šedivý"},null,{"$f":"List4!AQ44","v":"66 "},{"$f":"List4!AS44","v":"Adam Šmíd"},null,{"$f":"IF(List4!AT44<-89000,\"Neklas\",List4!AT44)","v":"10 "}]
[7,{"$f":"List4!AJ45","v":"Adam Šmíd"},{"$f":"List4!AK45","v":"19 "},{"$f":"List4!AM45","v":"Libor Hruška"},null,{"$f":"List4!AN45","v":"3399 "},{"$f":"List4!AP45","v":"Jiří Blín"},null,{"$f":"List4!AQ45","v":"72 "},{"$f":"List4!AS45","v":"Míra Šedivý"},null,{"$f":"IF(List4!AT45<-89000,\"Neklas\",List4!AT45)","v":"7 "}]
[8,{"$f":"List4!AJ46","v":"Kuba Šedivý"},{"$f":"List4!AK46","v":"11 "},{"$f":"List4!AM46","v":"Jiří Blín"},null,{"$f":"List4!AN46","v":"4953 "},{"$f":"List4!AP46","v":"Adam Šmíd"},null,{"$f":"List4!AQ46","v":"96 "},{"$f":"List4!AS46","v":"Kuba Šedivý"},null,{"$f":"IF(List4!AT46<-89000,\"Neklas\",List4!AT46)","v":"3 "}]
[9,{"$f":"List4!AJ47","v":"Zdenek Kanaďan"},{"$f":"List4!AK47","v":"5  (Nekl)"},{"$f":"List4!AM47","v":"Míra Chalupník"},null,{"$f":"List4!AN47","v":"325  (Nekl)"},{"$f":"List4!AP47","v":"Petr Šum"},null,{"$f":"List4!AQ47","v":"157  (Nekl)"},{"$f":"List4!AS47","v":"Míra Chalupník"},null,{"$f":"IF(List4!AT47<-89000,\"Neklas\",List4!AT47)","v":"1  (Nekl)"}]
[10,{"$f":"List4!AJ48","v":"Karel Karl"},{"$f":"List4!AK48","v":"4  (Nekl)"},{"$f":"List4!AM48","v":"Zdenek Kanaďan"},null,{"$f":"List4!AN48","v":"332  (Nekl)"},{"$f":"List4!AP48","v":"Zdenek Kanaďan"},null,{"$f":"List4!AQ48","v":"66  (Nekl)"},{"$f":"List4!AS48","v":"Zdenek Kanaďan"},null,{"$f":"IF(List4!AT48<-89000,\"Neklas\",List4!AT48)","v":"1  (Nekl)"}]
[11,{"$f":"List4!AJ49","v":"Míra Chalupník"},{"$f":"List4!AK49","v":"4  (Nekl)"},{"$f":"List4!AM49","v":"Karel Karl"},null,{"$f":"List4!AN49","v":"566  (Nekl)"},{"$f":"List4!AP49","v":"Míra Chalupník"},null,{"$f":"List4!AQ49","v":"81  (Nekl)"},{"$f":"List4!AS49","v":"Karel Karl"},null,{"$f":"IF(List4!AT49<-89000,\"Neklas\",List4!AT49)","v":"1  (Nekl)"}]
[12,{"$f":"List4!AJ50","v":"Petr Šum"},{"$f":"List4!AK50","v":"4  (Nekl)"},{"$f":"List4!AM50","v":"Petr Šum"},null,{"$f":"List4!AN50","v":"627  (Nekl)"},{"$f":"List4!AP50","v":"Karel Karl"},null,{"$f":"List4!AQ50","v":"142  (Nekl)"},{"$f":"List4!AS50","v":"Petr Šum"},null,{"$f":"IF(List4!AT50<-89000,\"Neklas\",List4!AT50)","v":"1  (Nekl)"}]
[13,{"$f":"List4!AJ51","v":"Jiří Fiala"},{"$f":"List4!AK51","v":"Neklas"},{"$f":"List4!AM51","v":"Jiří Fiala"},null,{"$f":"List4!AN51","v":"Neklas"},{"$f":"List4!AP51","v":"Jiří Fiala"},null,{"$f":"List4!AQ51","v":"Neklas"},{"$f":"List4!AS51","v":"Jiří Fiala"},null,{"$f":"IF(List4!AT51<-89000,\"Neklas\",List4!AT51)","v":"Neklas"}]
[14,{"$f":"List4!AJ52","v":"Iva Ivanka"},{"$f":"List4!AK52","v":"Neklas"},{"$f":"List4!AM52","v":"Iva Ivanka"},null,{"$f":"List4!AN52","v":"Neklas"},{"$f":"List4!AP52","v":"Iva Ivanka"},null,{"$f":"List4!AQ52","v":"Neklas"},{"$f":"List4!AS52","v":"Iva Ivanka"},null,{"$f":"IF(List4!AT52<-89000,\"Neklas\",List4!AT52)","v":"Neklas"}]
[15,{"$f":"List4!AJ53","v":"Míra Kulhan"},{"$f":"List4!AK53","v":"Neklas"},{"$f":"List4!AM53","v":"Míra Kulhan"},null,{"$f":"List4!AN53","v":"Neklas"},{"$f":"List4!AP53","v":"Míra Kulhan"},null,{"$f":"List4!AQ53","v":"Neklas"},{"$f":"List4!AS53","v":"Míra Kulhan"},null,{"$f":"IF(List4!AT53<-89000,\"Neklas\",List4!AT53)","v":"Neklas"}]
[16,{"$f":"List4!AJ54","v":"Pavel Pernekr"},{"$f":"List4!AK54","v":"Neklas"},{"$f":"List4!AM54","v":"Pavel Pernekr"},null,{"$f":"List4!AN54","v":"Neklas"},{"$f":"List4!AP54","v":"Pavel Pernekr"},null,{"$f":"List4!AQ54","v":"Neklas"},{"$f":"List4!AS54","v":"Pavel Pernekr"},null,{"$f":"IF(List4!AT54<-89000,\"Neklas\",List4!AT54)","v":"Neklas"}]

{"sheet":"List4","index":3,"n_rows":145,"n_cols":50,"rows_kept":145,"cut":false,"hidden":false,"merged":[[65,19,65,23],[83,10,83,14],[65,13,65,14],[65,10,65,12],[65,15,65,18],[83,15,83,19],[83,20,83,24],[20,35,20,36],[20,38,20,39],[20,41,20,42],[20,44,20,45],[37,35,37,36],[37,38,37,39],[37,41,37,42],[37,44,37,45]]}
["Jm.tabulka","Prijmeni_jmeno","Body","Jmeno_prijmeni","index_plus","Index_minus","Sloupec4","Pozice _v_ tabulce","průměr\nzůst\nbodů","Lidi od nejvíc","Body_od nejvic","Body podle tabulky","Výhry","Počet_her","Prohry","Přehozy","Placeno panáků","Sloupec12","Počet šipek","Sloupec1","Sloupec2",null,null,{"$f":"AB1","v":"Výhry"},null,null,null,"Výhry","Výhry","Průměr konečných bodů na kolo","Počet konečných bodů",null,null,null,null,"Prům. kon. bodů - jména","Průměr konečných bodů na kolo","Prům. koneč. bod","Počet koneč. bodů - jména","Počet konečných bodů","Počet koneč. bod","Účast dny","ucast_hledani",null,"Ucast_jmeno_serazeno","Ucast_dny"]
[{"$f":"INDEX(Tabulka!$A$2:$A$125,MATCH(B2,Tabulka!$A$2:$A$125,0)-1,1)","v":"Jiří Blín"},{"$f":"Tabulka!$A$36","v":"Blín Jiří"},{"$f":"IF(INDEX(Tabulka!$A$2:$AN$180,MATCH(D2,Tabulka!$A$2:$A$180,0)-1,33)<1,-90000,IF(INDEX(Tabulka!$A$2:$AN$180,MATCH(D2,Tabulka!$A$2:$A$180,0)-1,33)=1,-50000+INDEX(Tabulka!$A$2:$AN$180,MATCH(D2,Tabulka!$A$2:$A$180,0),32),INDEX(Tabulka!$A$2:$AN$180,MATCH(D2,Tabulka!$A$2:$A$180,0),32)))+E2","v":-9.0000000109399974},{"$f":"A2","v":"Jiří Blín"},{"$f":"-0.000000011","v":-1.0999999999999999E-8},{"$f":"0.000000011","v":1.0999999999999999E-8},{"$f":"CONCATENATE(D2,TEXT(E2,\"0,000000000\"))","v":"Jiří Blín-0,000000011"},{"$f":"IF(ISERROR(MATCH(D2,Tabulka!$A$4:$A$84,0)),,MATCH(D2,Tabulka!$A$4:$A$84,0))","v":32},{"$f":"INDEX(Přehled_body!$EG$3:$EH$130,MATCH(List4!J13,Přehled_body!$EH$3:$EH$130,0),1)","v":156.75},{"$f":"INDEX($C$2:$D$17,MATCH(K2,$C$2:$C$17,0),2)","v":"Milan Veselý"},{"$f":"LARGE($C$2:$C$17,ROW(I2)-1)","v":15.999999838950002},{"$f":"INDEX(Tabulka!$A$4:$AH$84,MATCH(J2,Tabulka!$A$4:$A$84,0),32)+INDEX($D$2:$E$17,MATCH(J2,$D$2:$D$17,0),2)","v":15.999999838950002},{"$f":"K2+O2+INDEX($D$2:$F$17,MATCH(J2,$D$2:$D$17,0),2)","v":26.999999667020003},{"$f":"IF(INDEX(Tabulka!$A$2:$AN$180,MATCH(J2,Tabulka!$A$2:$A$180,0)+3,34)<1,-90000,IF(AND(INDEX(Tabulka!$A$2:$AN$180,MATCH(J2,Tabulka!$A$2:$A$180,0)+3,34)>=0,INDEX(Tabulka!$A$2:$AN$180,MATCH(J2,Tabulka!$A$2:$A$180,0)+3,34)<=4),-50000+INDEX(Tabulka!$A$2:$AN$180,MATCH(J2,Tabulka!$A$2:$A$180,0)+3,34),INDEX(Tabulka!$A$2:$AN$180,MATCH(J2,Tabulka!$A$2:$A$180,0)+3,34)))+E2","v":68.999999989000003},{"$f":"IF(INDEX(Tabulka!$A$2:$AN$180,MATCH(J2,Tabulka!$A$2:$A$180,0),38)<1,-90000,IF(AND(INDEX(Tabulka!$A$2:$AN$180,MATCH(J2,Tabulka!$A$2:$A$180,0),38)>=0,INDEX(Tabulka!$A$2:$AN$180,MATCH(J2,Tabulka!$A$2:$A$180,0),38)<2),-50000-INDEX(Tabulka!$A$2:$AN$180,MATCH(J2,Tabulka!$A$2:$A$180,0),34),INDEX(Tabulka!$A$2:$AN$180,MATCH(J2,Tabulka!$A$2:$A$180,0),34)))+E2","v":10.99999998907},{"$f":"IF(INDEX(Tabulka!$A$2:$AN$180,MATCH(J2,Tabulka!$A$2:$A$180,0)+3,34)<1,-90000,IF(AND(INDEX(Tabulka!$A$2:$AN$180,MATCH(J2,Tabulka!$A$2:$A$180,0)+3,34)>=0,INDEX(Tabulka!$A$2:$AN$180,MATCH(J2,Tabulka!$A$2:$A$180,0)+3,34)<=6),-50000+INDEX(Tabulka!$A$2:$AN$180,MATCH(J2,Tabulka!$A$2:$A$180,0)+2,30),INDEX(Tabulka!$A$2:$AN$180,MATCH(J2,Tabulka!$A$2:$A$180,0)+2,34)))+F2","v":16.000000011079997},{"$f":"IF(INDEX(Tabulka!$A$2:$AN$180,MATCH(J2,Tabulka!$A$2:$A$180,0)+3,34)<1,-90000,IF(AND(INDEX(Tabulka!$A$2:$AN$180,MATCH(J2,Tabulka!$A$2:$A$180,0)+3,34)>=0,INDEX(Tabulka!$A$2:$AN$180,MATCH(J2,Tabulka!$A$2:$A$180,0)+3,34)<=6),-50000+INDEX(Tabulka!$A$2:$AN$180,MATCH(J2,Tabulka!$A$2:$A$180,0)+1,30),INDEX(Tabulka!$A$2:$AN$180,MATCH(J2,Tabulka!$A$2:$A$180,0)+1,34)))+E2","v":13.000000150070001},{"$f":"IF(K2<-888,K2*100000,K2*138000+IF(K2<0,IF(AVERAGE($N$2:$N$17)-20<N2,N2*100,N2*150),IF(AVERAGE($N$2:$N$17)-20<N2,N2*-100,N2*-150)+Q2*-100+P2*-40+M2*4000)-I2)","v":2307003.2264288301},{"$f":"IFERROR(INDEX(Přehled_body!$A$4:$EF$130,MATCH(CONCATENATE(T2,$S$1),Přehled_body!$A$4:$A$130,0),31),\"Neklas\")+E2","v":-1.0999999999999999E-8},{"$f":"INDEX($J$2:$J$17,MATCH(U2,$R$2:$R$17,0))","v":"Milan Veselý"},{"$f":"LARGE($R$2:$R$17,ROW(T2)-1)","v":2307003.2264288301},{"$f":"INDEX($K$2:$K$17,MATCH($T2,$J$2:$J$17,0))","v":15.999999838950002},{"$f":"INDEX($K$2:$K$17,MATCH($T2,$J$2:$J$17,0))*-1","v":-15.999999838950002},{"$f":"IF(AND(INDEX(Přehled_body!$A$1:$EF$130,MATCH(CONCATENATE(T2,$AB$1),Přehled_body!$A$1:$A$130,0),COLUMN(Přehled_body!EE3))+E2<-29888,$X$1<>\"Výhry\",$X$1<>\"Poč. kol\"),(INDEX(Přehled_body!$A$1:$EF$130,MATCH(CONCATENATE(T2,$AB$1),Přehled_body!$A$1:$A$130,0),COLUMN(Přehled_body!EE3)))*-1+F2,INDEX(Přehled_body!$A$1:$EF$130,MATCH(CONCATENATE(T2,$AB$1),Přehled_body!$A$1:$A$130,0),COLUMN(Přehled_body!EE3))+E2)","v":26.999999988999999},1,{"$f":"IF(OR($AB$1=\"Výhry\",$AB$1=\"Poč. kol\")=TRUE,LARGE($X$2:$X$17,Y2),SMALL($X$2:$X$17,Y2))","v":26.999999988999999},null,{"$f":"INDEX(Tabulka!$A$4:$AH$84,MATCH($P67,Tabulka!$A$4:$A$84,0),34)+INDEX($D$2:$F$17,MATCH($P67,$D$2:$D$17,0),3)","v":0.10000012102000001},{"$f":"P67","v":"Kuba Šedivý"},{"$f":"IFERROR(IF(AND(INDEX(Přehled_body!$A$1:$EF$130,MATCH(CONCATENATE(T2,$AD$1),Přehled_body!$A$1:$A$130,0),COLUMN(Přehled_body!$EE3))+$F2<-29888,$AD$1<>\"Výhry\",$AD$1<>\"Poč. kol\"),(INDEX(Přehled_body!$A$1:$EF$130,MATCH(CONCATENATE(T2,$AD$1),Přehled_body!$A$1:$A$130,0),COLUMN(Přehled_body!$EE3)))*-1+$F2,INDEX(Přehled_body!$A$1:$EF$130,MATCH(CONCATENATE(T2,$AD$1),Přehled_body!$A$1:$A$130,0),COLUMN(Přehled_body!$EE3))+$F2),INDEX($F$2:$F$17,MATCH($AC2,$D$2:$D$17,0),1))","v":39.782608706652169},{"$f":"IF(AND(INDEX(Přehled_body!$A$1:$EF$130,MATCH(CONCATENATE(T2,$AE$1),Přehled_body!$A$1:$A$130,0),COLUMN(Přehled_body!EE3))+F2<-40000,$AE$1<>\"Výhry\",$AE$1<>\"Poč. kol\"),(INDEX(Přehled_body!$A$1:$EF$130,MATCH(CONCATENATE(T2,$AE$1),Přehled_body!$A$1:$A$130,0),COLUMN(Přehled_body!EE3)))*-1+F2,INDEX(Přehled_body!$A$1:$EF$130,MATCH(CONCATENATE(T2,$AE$1),Přehled_body!$A$1:$A$130,0),COLUMN(Přehled_body!EE3))+F2)","v":2745.0000000109999},null,null,"Výhry",null,{"$f":"INDEX($T$2:$T$17,MATCH(AL2,$AD$2:$AD$17,0),1)","v":"Kuba Šedivý"},{"$f":"IF(ROUND(ABS(AD2),0)=ABS(90000),\"Neklas\",IF(OR($AK$1=\"Výhry\",$AK$1=\"Poč. kol\")=TRUE,LARGE($AD$2:$AD$17,Y2),SMALL($AD$2:$AD$17,Y2)))","v":25.272727323727274},{"$f":"SMALL($AD$2:$AD$17,Y2)","v":25.272727323727274},{"$f":"INDEX($T$2:$T$17,MATCH(AO2,$AE$2:$AE$17,0),1)","v":"Kuba Šedivý"},{"$f":"IF(OR(ROUND(ABS(AE2),-4)=ABS(50000),ROUND(ABS(AE2),0)=ABS(90000)),\"Neklas\",IF(OR($AM$1=\"Výhry\",$AM$1=\"Poč. kol\")=TRUE,LARGE($AE$2:$AE$17,Y2),SMALL($AE$2:$AE$17,Y2)))","v":278.00000005099997},{"$f":"SMALL($AE$2:$AE$17,Y2)","v":278.00000005099997},{"$f":"A2","v":"Jiří Blín"},{"$f":"IF(INDEX(Tabulka!$AG$4:$AG$83,MATCH(List4!D2,Tabulka!$A$4:$A$83,0)-1,1)<1,-90000+E2,INDEX(Tabulka!$AG$4:$AG$83,MATCH(List4!D2,Tabulka!$A$4:$A$83,0)-1,1)+E2)","v":16.999999988999999},null,{"$f":"INDEX($AP$2:$AP$17,MATCH(AT2,$AQ$2:$AQ$17,0),1)","v":"Jiří Blín"},{"$f":"LARGE($AQ$2:$AQ$17,Y2)","v":16.999999988999999},{"$f":"IF(ROUND(ABS(AE2),0)=ABS(90000),\"Neklas\",IF(OR($AM$1=\"Výhry\",$AM$1=\"Poč. kol\")=TRUE,IF(LARGE($AE$2:$AE$17,Y2)>30000,50000-LARGE($AE$2:$AE$17,Y2),LARGE($AE$2:$AE$17,Y2)),IF(SMALL($AE$2:$AE$17,Y2)>30000,SMALL($AE$2:$AE$17,Y2)-50000,SMALL($AE$2:$AE$17,Y2))))","v":278.00000005099997},{"$f":"AE2>30000","v":false},{"$f":"IF(LARGE($AE$2:$AE$17,Y2)>30000,50000-LARGE($AE$2:$AE$17,Y2),LARGE($AE$2:$AE$17,Y2))","v":-40000.000000161002}]
[{"$f":"INDEX(Tabulka!$A$2:$A$125,MATCH(B3,Tabulka!$A$2:$A$125,0)-1,1)","v":"Jiří Fiala"},{"$f":"Tabulka!$A$6","v":"Fiala Jiří"},{"$f":"IF(INDEX(Tabulka!$A$2:$AN$180,MATCH(D3,Tabulka!$A$2:$A$180,0)-1,33)<1,-90000,IF(INDEX(Tabulka!$A$2:$AN$180,MATCH(D3,Tabulka!$A$2:$A$180,0)-1,33)=1,-50000+INDEX(Tabulka!$A$2:$AN$180,MATCH(D3,Tabulka!$A$2:$A$180,0),32),INDEX(Tabulka!$A$2:$AN$180,MATCH(D3,Tabulka!$A$2:$A$180,0),32)))+E3","v":-90000.000000020998},"Jiří Fiala",{"$f":"E2-0.00000001","v":-2.0999999999999999E-8},{"$f":"F2+0.00000001","v":2.0999999999999999E-8},"Jiří Fiala-0,000000021",{"$f":"IF(ISERROR(MATCH(D3,Tabulka!$A$4:$A$84,0)),,MATCH(D3,Tabulka!$A$4:$A$84,0))","v":2},{"$f":"INDEX(Přehled_body!$EG$3:$EH$130,MATCH(List4!J4,Přehled_body!$EH$3:$EH$130,0),1)","v":50.114754098360656},"Standa Roth",9.9999998889199997,{"$f":"INDEX(Tabulka!$A$4:$AH$84,MATCH(J3,Tabulka!$A$4:$A$84,0),32)+INDEX($D$2:$E$17,MATCH(J3,$D$2:$D$17,0),2)","v":9.9999998889199997},13.999999757039999,{"$f":"IF(INDEX(Tabulka!$A$2:$AN$180,MATCH(J3,Tabulka!$A$2:$A$180,0)+3,34)<1,-90000,IF(AND(INDEX(Tabulka!$A$2:$AN$180,MATCH(J3,Tabulka!$A$2:$A$180,0)+3,34)>=0,INDEX(Tabulka!$A$2:$AN$180,MATCH(J3,Tabulka!$A$2:$A$180,0)+3,34)<=4),-50000+INDEX(Tabulka!$A$2:$AN$180,MATCH(J3,Tabulka!$A$2:$A$180,0)+3,34),INDEX(Tabulka!$A$2:$AN$180,MATCH(J3,Tabulka!$A$2:$A$180,0)+3,34)))+E3","v":59.999999979000002},{"$f":"IF(INDEX(Tabulka!$A$2:$AN$180,MATCH(J3,Tabulka!$A$2:$A$180,0),38)<1,-90000,IF(AND(INDEX(Tabulka!$A$2:$AN$180,MATCH(J3,Tabulka!$A$2:$A$180,0),38)>=0,INDEX(Tabulka!$A$2:$AN$180,MATCH(J3,Tabulka!$A$2:$A$180,0),38)<2),-50000-INDEX(Tabulka!$A$2:$AN$180,MATCH(J3,Tabulka!$A$2:$A$180,0),34),INDEX(Tabulka!$A$2:$AN$180,MATCH(J3,Tabulka!$A$2:$A$180,0),34)))+E3","v":3.99999997912},{"$f":"IF(INDEX(Tabulka!$A$2:$AN$180,MATCH(J3,Tabulka!$A$2:$A$180,0)+3,34)<1,-90000,IF(AND(INDEX(Tabulka!$A$2:$AN$180,MATCH(J3,Tabulka!$A$2:$A$180,0)+3,34)>=0,INDEX(Tabulka!$A$2:$AN$180,MATCH(J3,Tabulka!$A$2:$A$180,0)+3,34)<=6),-50000+INDEX(Tabulka!$A$2:$AN$180,MATCH(J3,Tabulka!$A$2:$A$180,0)+2,30),INDEX(Tabulka!$A$2:$AN$180,MATCH(J3,Tabulka!$A$2:$A$180,0)+2,34)))+F3","v":10.000000021089999},{"$f":"IF(INDEX(Tabulka!$A$2:$AN$180,MATCH(J3,Tabulka!$A$2:$A$180,0)+3,34)<1,-90000,IF(AND(INDEX(Tabulka!$A$2:$AN$180,MATCH(J3,Tabulka!$A$2:$A$180,0)+3,34)>=0,INDEX(Tabulka!$A$2:$AN$180,MATCH(J3,Tabulka!$A$2:$A$180,0)+3,34)<=6),-50000+INDEX(Tabulka!$A$2:$AN$180,MATCH(J3,Tabulka!$A$2:$A$180,0)+1,30),INDEX(Tabulka!$A$2:$AN$180,MATCH(J3,Tabulka!$A$2:$A$180,0)+1,34)))+E3","v":7.0000000901200004},1428849.8689372658,{"$f":"IFERROR(INDEX(Přehled_body!$A$4:$EF$130,MATCH(CONCATENATE(T3,$S$1),Přehled_body!$A$4:$A$130,0),31),\"Neklas\")+E3","v":-2.0999999999999999E-8},"Standa Roth",1428849.8689372658,{"$f":"INDEX($K$2:$K$17,MATCH($T3,$J$2:$J$17,0))","v":9.9999998889199997},{"$f":"INDEX($K$2:$K$17,MATCH($T3,$J$2:$J$17,0))*-1","v":-9.9999998889199997},{"$f":"IF(AND(INDEX(Přehled_body!$A$1:$EF$130,MATCH(CONCATENATE(T3,$AB$1),Přehled_body!$A$1:$A$130,0),COLUMN(Přehled_body!EE4))+E3<-29888,$X$1<>\"Výhry\",$X$1<>\"Poč. kol\"),(INDEX(Přehled_body!$A$1:$EF$130,MATCH(CONCATENATE(T3,$AB$1),Přehled_body!$A$1:$A$130,0),COLUMN(Přehled_body!EE4)))*-1+F3,INDEX(Přehled_body!$A$1:$EF$130,MATCH(CONCATENATE(T3,$AB$1),Přehled_body!$A$1:$A$130,0),COLUMN(Přehled_body!EE4))+E3)","v":13.999999979},2,{"$f":"IF(OR($AB$1=\"Výhry\",$AB$1=\"Poč. kol\")=TRUE,LARGE($X$2:$X$17,Y3),SMALL($X$2:$X$17,Y3))","v":15.999999968999999},null,{"$f":"INDEX(Tabulka!$A$4:$AH$84,MATCH($P68,Tabulka!$A$4:$A$84,0),34)+INDEX($D$2:$F$17,MATCH($P68,$D$2:$D$17,0),3)","v":4.0000001111200003},{"$f":"P68","v":"Standa Roth"},{"$f":"IFERROR(IF(AND(INDEX(Přehled_body!$A$1:$EF$130,MATCH(CONCATENATE(T3,$AD$1),Přehled_body!$A$1:$A$130,0),COLUMN(Přehled_body!$EE4))+$F3<-29888,$AD$1<>\"Výhry\",$AD$1<>\"Poč. kol\"),(INDEX(Přehled_body!$A$1:$EF$130,MATCH(CONCATENATE(T3,$AD$1),Přehled_body!$A$1:$A$130,0),COLUMN(Přehled_body!$EE4)))*-1+$F3,INDEX(Přehled_body!$A$1:$EF$130,MATCH(CONCATENATE(T3,$AD$1),Přehled_body!$A$1:$A$130,0),COLUMN(Přehled_body!$EE4))+$F3),INDEX($F$2:$F$17,MATCH($AC3,$D$2:$D$17,0),1))","v":49.03333335433333},{"$f":"IF(AND(INDEX(Přehled_body!$A$1:$EF$130,MATCH(CONCATENATE(T3,$AE$1),Přehled_body!$A$1:$A$130,0),COLUMN(Přehled_body!EE4))+F3<-40000,$AE$1<>\"Výhry\",$AE$1<>\"Poč. kol\"),(INDEX(Přehled_body!$A$1:$EF$130,MATCH(CONCATENATE(T3,$AE$1),Přehled_body!$A$1:$A$130,0),COLUMN(Přehled_body!EE4)))*-1+F3,INDEX(Přehled_body!$A$1:$EF$130,MATCH(CONCATENATE(T3,$AE$1),Přehled_body!$A$1:$A$130,0),COLUMN(Přehled_body!EE4))+F3)","v":2942.0000000209998},null,null,"Prohry",null,{"$f":"INDEX($T$2:$T$17,MATCH(AL3,$AD$2:$AD$17,0),1)","v":"Milan Veselý"},{"$f":"IF(ROUND(ABS(AD3),0)=ABS(90000),\"Neklas\",IF(OR($AK$1=\"Výhry\",$AK$1=\"Poč. kol\")=TRUE,LARGE($AD$2:$AD$17,Y3),SMALL($AD$2:$AD$17,Y3)))","v":39.782608706652169},{"$f":"SMALL($AD$2:$AD$17,Y3)","v":39.782608706652169},{"$f":"INDEX($T$2:$T$17,MATCH(AO3,$AE$2:$AE$17,0),1)","v":"Adam Šmíd"},{"$f":"IF(ROUND(ABS(AE3),0)=ABS(90000),\"Neklas\",IF(OR($AM$1=\"Výhry\",$AM$1=\"Poč. kol\")=TRUE,LARGE($AE$2:$AE$17,Y3),SMALL($AE$2:$AE$17,Y3)))","v":1828.0000000709999},{"$f":"SMALL($AE$2:$AE$17,Y3)","v":1828.0000000709999},"Jiří Fiala",{"$f":"IF(INDEX(Tabulka!$AG$4:$AG$83,MATCH(List4!D3,Tabulka!$A$4:$A$83,0)-1,1)<1,-90000+E3,INDEX(Tabulka!$AG$4:$AG$83,MATCH(List4!D3,Tabulka!$A$4:$A$83,0)-1,1)+E3)","v":-90000.000000020998},null,{"$f":"INDEX($AP$2:$AP$17,MATCH(AT3,$AQ$2:$AQ$17,0),1)","v":"Libor Hruška"},{"$f":"LARGE($AQ$2:$AQ$17,Y3)","v":16.999999969000001},{"$f":"IF(ROUND(ABS(AE3),0)=ABS(90000),\"Neklas\",IF(OR($AM$1=\"Výhry\",$AM$1=\"Poč. kol\")=TRUE,IF(LARGE($AE$2:$AE$17,Y3)>30000,50000-LARGE($AE$2:$AE$17,Y3),LARGE($AE$2:$AE$17,Y3)),IF(SMALL($AE$2:$AE$17,Y3)>30000,SMALL($AE$2:$AE$17,Y3)-50000,SMALL($AE$2:$AE$17,Y3))))","v":1828.0000000709999},false,{"$f":"IF(LARGE($AE$2:$AE$17,Y3)>30000,50000-LARGE($AE$2:$AE$17,Y3),LARGE($AE$2:$AE$17,Y3))","v":-40000.000000151005}]
[{"$f":"INDEX(Tabulka!$A$2:$A$125,MATCH(B4,Tabulka!$A$2:$A$125,0)-1,1)","v":"Libor Hruška"},{"$f":"Tabulka!$A$11","v":"Hruška Libor"},{"$f":"IF(INDEX(Tabulka!$A$2:$AN$180,MATCH(D4,Tabulka!$A$2:$A$180,0)-1,33)<1,-90000,IF(INDEX(Tabulka!$A$2:$AN$180,MATCH(D4,Tabulka!$A$2:$A$180,0)-1,33)=1,-50000+INDEX(Tabulka!$A$2:$AN$180,MATCH(D4,Tabulka!$A$2:$A$180,0),32),INDEX(Tabulka!$A$2:$AN$180,MATCH(D4,Tabulka!$A$2:$A$180,0),32)))+E4","v":5.9999999689499948},"Libor Hruška",{"$f":"E3-0.00000001","v":-3.1E-8},{"$f":"F3+0.00000001","v":3.1E-8},"Libor Hruška-0,000000031",{"$f":"IF(ISERROR(MATCH(D4,Tabulka!$A$4:$A$84,0)),,MATCH(D4,Tabulka!$A$4:$A$84,0))","v":7},{"$f":"INDEX(Přehled_body!$EG$3:$EH$130,MATCH(List4!J16,Přehled_body!$EH$3:$EH$130,0),1)","v":0},"Jarda Klein",7.9999999189600004,{"$f":"INDEX(Tabulka!$A$4:$AH$84,MATCH(J4,Tabulka!$A$4:$A$84,0),32)+INDEX($D$2:$E$17,MATCH(J4,$D$2:$D$17,0),2)","v":7.9999999189600004},15.999999807049999,{"$f":"IF(INDEX(Tabulka!$A$2:$AN$180,MATCH(J4,Tabulka!$A$2:$A$180,0)+3,34)<1,-90000,IF(AND(INDEX(Tabulka!$A$2:$AN$180,MATCH(J4,Tabulka!$A$2:$A$180,0)+3,34)>=0,INDEX(Tabulka!$A$2:$AN$180,MATCH(J4,Tabulka!$A$2:$A$180,0)+3,34)<=4),-50000+INDEX(Tabulka!$A$2:$AN$180,MATCH(J4,Tabulka!$A$2:$A$180,0)+3,34),INDEX(Tabulka!$A$2:$AN$180,MATCH(J4,Tabulka!$A$2:$A$180,0)+3,34)))+E4","v":60.999999969000001},{"$f":"IF(INDEX(Tabulka!$A$2:$AN$180,MATCH(J4,Tabulka!$A$2:$A$180,0),38)<1,-90000,IF(AND(INDEX(Tabulka!$A$2:$AN$180,MATCH(J4,Tabulka!$A$2:$A$180,0),38)>=0,INDEX(Tabulka!$A$2:$AN$180,MATCH(J4,Tabulka!$A$2:$A$180,0),38)<2),-50000-INDEX(Tabulka!$A$2:$AN$180,MATCH(J4,Tabulka!$A$2:$A$180,0),34),INDEX(Tabulka!$A$2:$AN$180,MATCH(J4,Tabulka!$A$2:$A$180,0),34)))+E4","v":7.9999999690899974},{"$f":"IF(INDEX(Tabulka!$A$2:$AN$180,MATCH(J4,Tabulka!$A$2:$A$180,0)+3,34)<1,-90000,IF(AND(INDEX(Tabulka!$A$2:$AN$180,MATCH(J4,Tabulka!$A$2:$A$180,0)+3,34)>=0,INDEX(Tabulka!$A$2:$AN$180,MATCH(J4,Tabulka!$A$2:$A$180,0)+3,34)<=6),-50000+INDEX(Tabulka!$A$2:$AN$180,MATCH(J4,Tabulka!$A$2:$A$180,0)+2,30),INDEX(Tabulka!$A$2:$AN$180,MATCH(J4,Tabulka!$A$2:$A$180,0)+2,34)))+F4","v":21.000000031030002},{"$f":"IF(INDEX(Tabulka!$A$2:$AN$180,MATCH(J4,Tabulka!$A$2:$A$180,0)+3,34)<1,-90000,IF(AND(INDEX(Tabulka!$A$2:$AN$180,MATCH(J4,Tabulka!$A$2:$A$180,0)+3,34)>=0,INDEX(Tabulka!$A$2:$AN$180,MATCH(J4,Tabulka!$A$2:$A$180,0)+3,34)<=6),-50000+INDEX(Tabulka!$A$2:$AN$180,MATCH(J4,Tabulka!$A$2:$A$180,0)+1,30),INDEX(Tabulka!$A$2:$AN$180,MATCH(J4,Tabulka!$A$2:$A$180,0)+1,34)))+E4","v":10.000000050089996},1160059.9880415299,{"$f":"IFERROR(INDEX(Přehled_body!$A$4:$EF$130,MATCH(CONCATENATE(T4,$S$1),Přehled_body!$A$4:$A$130,0),31),\"Neklas\")+E4","v":-3.1E-8},"Jarda Klein",1160059.9880415299,7.9999999189600004,-7.9999999189600004,{"$f":"IF(AND(INDEX(Přehled_body!$A$1:$EF$130,MATCH(CONCATENATE(T4,$AB$1),Přehled_body!$A$1:$A$130,0),COLUMN(Přehled_body!EE5))+E4<-29888,$X$1<>\"Výhry\",$X$1<>\"Poč. kol\"),(INDEX(Přehled_body!$A$1:$EF$130,MATCH(CONCATENATE(T4,$AB$1),Přehled_body!$A$1:$A$130,0),COLUMN(Přehled_body!EE5)))*-1+F4,INDEX(Přehled_body!$A$1:$EF$130,MATCH(CONCATENATE(T4,$AB$1),Přehled_body!$A$1:$A$130,0),COLUMN(Přehled_body!EE5))+E4)","v":15.999999968999999},3,13.999999979,null,{"$f":"INDEX(Tabulka!$A$4:$AH$84,MATCH($P69,Tabulka!$A$4:$A$84,0),34)+INDEX($D$2:$F$17,MATCH($P69,$D$2:$D$17,0),3)","v":6.0000001310200002},"Míra Šedivý",{"$f":"IFERROR(IF(AND(INDEX(Přehled_body!$A$1:$EF$130,MATCH(CONCATENATE(T4,$AD$1),Přehled_body!$A$1:$A$130,0),COLUMN(Přehled_body!$EE5))+$F4<-29888,$AD$1<>\"Výhry\",$AD$1<>\"Poč. kol\"),(INDEX(Přehled_body!$A$1:$EF$130,MATCH(CONCATENATE(T4,$AD$1),Přehled_body!$A$1:$A$130,0),COLUMN(Přehled_body!$EE5)))*-1+$F4,INDEX(Přehled_body!$A$1:$EF$130,MATCH(CONCATENATE(T4,$AD$1),Přehled_body!$A$1:$A$130,0),COLUMN(Přehled_body!$EE5))+$F4),INDEX($F$2:$F$17,MATCH($AC4,$D$2:$D$17,0),1))","v":50.114754129360655},{"$f":"IF(AND(INDEX(Přehled_body!$A$1:$EF$130,MATCH(CONCATENATE(T4,$AE$1),Přehled_body!$A$1:$A$130,0),COLUMN(Přehled_body!EE5))+F4<-40000,$AE$1<>\"Výhry\",$AE$1<>\"Poč. kol\"),(INDEX(Přehled_body!$A$1:$EF$130,MATCH(CONCATENATE(T4,$AE$1),Přehled_body!$A$1:$A$130,0),COLUMN(Přehled_body!EE5)))*-1+F4,INDEX(Přehled_body!$A$1:$EF$130,MATCH(CONCATENATE(T4,$AE$1),Přehled_body!$A$1:$A$130,0),COLUMN(Přehled_body!EE5))+F4)","v":3057.0000000310001},null,null,"Placeno panáků",null,"Standa Roth",49.03333335433333,49.03333335433333,"Míra Šedivý",1994.000000061,1994.000000061,"Libor Hruška",{"$f":"IF(INDEX(Tabulka!$AG$4:$AG$83,MATCH(List4!D4,Tabulka!$A$4:$A$83,0)-1,1)<1,-90000+E4,INDEX(Tabulka!$AG$4:$AG$83,MATCH(List4!D4,Tabulka!$A$4:$A$83,0)-1,1)+E4)","v":16.999999969000001},null,"Milan Veselý",16.999999839000001,1994.000000061,false,-40000.000000140994]
[{"$f":"INDEX(Tabulka!$A$2:$A$125,MATCH(B5,Tabulka!$A$2:$A$125,0)-1,1)","v":"Míra Chalupník"},{"$f":"Tabulka!$A$46","v":"Chalupník Míra"},{"$f":"IF(INDEX(Tabulka!$A$2:$AN$180,MATCH(D5,Tabulka!$A$2:$A$180,0)-1,33)<1,-90000,IF(INDEX(Tabulka!$A$2:$AN$180,MATCH(D5,Tabulka!$A$2:$A$180,0)-1,33)=1,-50000+INDEX(Tabulka!$A$2:$AN$180,MATCH(D5,Tabulka!$A$2:$A$180,0),32),INDEX(Tabulka!$A$2:$AN$180,MATCH(D5,Tabulka!$A$2:$A$180,0),32)))+E5","v":-50002.000000040985},"Míra Chalupník",-4.0999999999999997E-8,4.0999999999999997E-8,"Míra Chalupník-0,000000041",{"$f":"IF(ISERROR(MATCH(D5,Tabulka!$A$4:$A$84,0)),,MATCH(D5,Tabulka!$A$4:$A$84,0))","v":42},{"$f":"INDEX(Přehled_body!$EG$3:$EH$130,MATCH(List4!J3,Přehled_body!$EH$3:$EH$130,0),1)","v":49.033333333333331},"Libor Hruška",5.9999999689499948,{"$f":"INDEX(Tabulka!$A$4:$AH$84,MATCH(J5,Tabulka!$A$4:$A$84,0),32)+INDEX($D$2:$E$17,MATCH(J5,$D$2:$D$17,0),2)","v":5.9999999689499948},11.999999897079993,{"$f":"IF(INDEX(Tabulka!$A$2:$AN$180,MATCH(J5,Tabulka!$A$2:$A$180,0)+3,34)<1,-90000,IF(AND(INDEX(Tabulka!$A$2:$AN$180,MATCH(J5,Tabulka!$A$2:$A$180,0)+3,34)>=0,INDEX(Tabulka!$A$2:$AN$180,MATCH(J5,Tabulka!$A$2:$A$180,0)+3,34)<=4),-50000+INDEX(Tabulka!$A$2:$AN$180,MATCH(J5,Tabulka!$A$2:$A$180,0)+3,34),INDEX(Tabulka!$A$2:$AN$180,MATCH(J5,Tabulka!$A$2:$A$180,0)+3,34)))+E5","v":68.999999958999993},{"$f":"IF(INDEX(Tabulka!$A$2:$AN$180,MATCH(J5,Tabulka!$A$2:$A$180,0),38)<1,-90000,IF(AND(INDEX(Tabulka!$A$2:$AN$180,MATCH(J5,Tabulka!$A$2:$A$180,0),38)>=0,INDEX(Tabulka!$A$2:$AN$180,MATCH(J5,Tabulka!$A$2:$A$180,0),38)<2),-50000-INDEX(Tabulka!$A$2:$AN$180,MATCH(J5,Tabulka!$A$2:$A$180,0),34),INDEX(Tabulka!$A$2:$AN$180,MATCH(J5,Tabulka!$A$2:$A$180,0),34)))+E5","v":5.9999999591300002},{"$f":"IF(INDEX(Tabulka!$A$2:$AN$180,MATCH(J5,Tabulka!$A$2:$A$180,0)+3,34)<1,-90000,IF(AND(INDEX(Tabulka!$A$2:$AN$180,MATCH(J5,Tabulka!$A$2:$A$180,0)+3,34)>=0,INDEX(Tabulka!$A$2:$AN$180,MATCH(J5,Tabulka!$A$2:$A$180,0)+3,34)<=6),-50000+INDEX(Tabulka!$A$2:$AN$180,MATCH(J5,Tabulka!$A$2:$A$180,0)+2,30),INDEX(Tabulka!$A$2:$AN$180,MATCH(J5,Tabulka!$A$2:$A$180,0)+2,34)))+F5","v":15.000000041069995},{"$f":"IF(INDEX(Tabulka!$A$2:$AN$180,MATCH(J5,Tabulka!$A$2:$A$180,0)+3,34)<1,-90000,IF(AND(INDEX(Tabulka!$A$2:$AN$180,MATCH(J5,Tabulka!$A$2:$A$180,0)+3,34)>=0,INDEX(Tabulka!$A$2:$AN$180,MATCH(J5,Tabulka!$A$2:$A$180,0)+3,34)<=6),-50000+INDEX(Tabulka!$A$2:$AN$180,MATCH(J5,Tabulka!$A$2:$A$180,0)+1,30),INDEX(Tabulka!$A$2:$AN$180,MATCH(J5,Tabulka!$A$2:$A$180,0)+1,34)))+E5","v":9.9999999901299983},867450.96197353012,{"$f":"IFERROR(INDEX(Přehled_body!$A$4:$EF$130,MATCH(CONCATENATE(T5,$S$1),Přehled_body!$A$4:$A$130,0),31),\"Neklas\")+E5","v":-4.0999999999999997E-8},"Libor Hruška",867450.96197353012,5.9999999689499948,-5.9999999689499948,{"$f":"IF(AND(INDEX(Přehled_body!$A$1:$EF$130,MATCH(CONCATENATE(T5,$AB$1),Přehled_body!$A$1:$A$130,0),COLUMN(Přehled_body!EE6))+E5<-29888,$X$1<>\"Výhry\",$X$1<>\"Poč. kol\"),(INDEX(Přehled_body!$A$1:$EF$130,MATCH(CONCATENATE(T5,$AB$1),Přehled_body!$A$1:$A$130,0),COLUMN(Přehled_body!EE6)))*-1+F5,INDEX(Přehled_body!$A$1:$EF$130,MATCH(CONCATENATE(T5,$AB$1),Přehled_body!$A$1:$A$130,0),COLUMN(Přehled_body!EE6))+E5)","v":11.999999959},4,11.999999959,null,{"$f":"INDEX(Tabulka!$A$4:$AH$84,MATCH($P70,Tabulka!$A$4:$A$84,0),34)+INDEX($D$2:$F$17,MATCH($P70,$D$2:$D$17,0),3)","v":6.0000000311299999},"Libor Hruška",{"$f":"IFERROR(IF(AND(INDEX(Přehled_body!$A$1:$EF$130,MATCH(CONCATENATE(T5,$AD$1),Přehled_body!$A$1:$A$130,0),COLUMN(Přehled_body!$EE6))+$F5<-29888,$AD$1<>\"Výhry\",$AD$1<>\"Poč. kol\"),(INDEX(Přehled_body!$A$1:$EF$130,MATCH(CONCATENATE(T5,$AD$1),Přehled_body!$A$1:$A$130,0),COLUMN(Přehled_body!$EE6)))*-1+$F5,INDEX(Přehled_body!$A$1:$EF$130,MATCH(CONCATENATE(T5,$AD$1),Přehled_body!$A$1:$A$130,0),COLUMN(Přehled_body!$EE6))+$F5),INDEX($F$2:$F$17,MATCH($AC5,$D$2:$D$17,0),1))","v":49.260869606217391},{"$f":"IF(AND(INDEX(Přehled_body!$A$1:$EF$130,MATCH(CONCATENATE(T5,$AE$1),Přehled_body!$A$1:$A$130,0),COLUMN(Přehled_body!EE6))+F5<-40000,$AE$1<>\"Výhry\",$AE$1<>\"Poč. kol\"),(INDEX(Přehled_body!$A$1:$EF$130,MATCH(CONCATENATE(T5,$AE$1),Přehled_body!$A$1:$A$130,0),COLUMN(Přehled_body!EE6)))*-1+F5,INDEX(Přehled_body!$A$1:$EF$130,MATCH(CONCATENATE(T5,$AE$1),Přehled_body!$A$1:$A$130,0),COLUMN(Přehled_body!EE6))+F5)","v":3399.000000041},null,null,"Přehozy",null,"Libor Hruška",49.260869606217391,49.260869606217391,"Milan Veselý",2745.0000000109999,2745.0000000109999,"Míra Chalupník",{"$f":"IF(INDEX(Tabulka!$AG$4:$AG$83,MATCH(List4!D5,Tabulka!$A$4:$A$83,0)-1,1)<1,-90000+E5,INDEX(Tabulka!$AG$4:$AG$83,MATCH(List4!D5,Tabulka!$A$4:$A$83,0)-1,1)+E5)","v":0.99999995900000005},null,"Jarda Klein",14.999999919,2745.0000000109999,false,-40000.000000130996]
[{"$f":"INDEX(Tabulka!$A$2:$A$125,MATCH(B6,Tabulka!$A$2:$A$125,0)-1,1)","v":"Iva Ivanka"},{"$f":"Tabulka!$A$81","v":"Ivanka Iva"},{"$f":"IF(INDEX(Tabulka!$A$2:$AN$180,MATCH(D6,Tabulka!$A$2:$A$180,0)-1,33)<1,-90000,IF(INDEX(Tabulka!$A$2:$AN$180,MATCH(D6,Tabulka!$A$2:$A$180,0)-1,33)=1,-50000+INDEX(Tabulka!$A$2:$AN$180,MATCH(D6,Tabulka!$A$2:$A$180,0),32),INDEX(Tabulka!$A$2:$AN$180,MATCH(D6,Tabulka!$A$2:$A$180,0),32)))+E6","v":-90000.000000051004},"Iva Ivanka",-5.0999999999999993E-8,5.0999999999999993E-8,"Iva Ivanka-0,000000051",{"$f":"IF(ISERROR(MATCH(D6,Tabulka!$A$4:$A$84,0)),,MATCH(D6,Tabulka!$A$4:$A$84,0))","v":77},{"$f":"INDEX(Přehled_body!$EG$3:$EH$130,MATCH(List4!J6,Přehled_body!$EH$3:$EH$130,0),1)","v":25.272727272727273},"Kuba Šedivý",3.8999998789800001,{"$f":"INDEX(Tabulka!$A$4:$AH$84,MATCH(J6,Tabulka!$A$4:$A$84,0),32)+INDEX($D$2:$E$17,MATCH(J6,$D$2:$D$17,0),2)","v":3.8999998789800001},3.9999997070000002,{"$f":"IF(INDEX(Tabulka!$A$2:$AN$180,MATCH(J6,Tabulka!$A$2:$A$180,0)+3,34)<1,-90000,IF(AND(INDEX(Tabulka!$A$2:$AN$180,MATCH(J6,Tabulka!$A$2:$A$180,0)+3,34)>=0,INDEX(Tabulka!$A$2:$AN$180,MATCH(J6,Tabulka!$A$2:$A$180,0)+3,34)<=4),-50000+INDEX(Tabulka!$A$2:$AN$180,MATCH(J6,Tabulka!$A$2:$A$180,0)+3,34),INDEX(Tabulka!$A$2:$AN$180,MATCH(J6,Tabulka!$A$2:$A$180,0)+3,34)))+E6","v":10.999999948999999},{"$f":"IF(INDEX(Tabulka!$A$2:$AN$180,MATCH(J6,Tabulka!$A$2:$A$180,0),38)<1,-90000,IF(AND(INDEX(Tabulka!$A$2:$AN$180,MATCH(J6,Tabulka!$A$2:$A$180,0),38)>=0,INDEX(Tabulka!$A$2:$AN$180,MATCH(J6,Tabulka!$A$2:$A$180,0),38)<2),-50000-INDEX(Tabulka!$A$2:$AN$180,MATCH(J6,Tabulka!$A$2:$A$180,0),34),INDEX(Tabulka!$A$2:$AN$180,MATCH(J6,Tabulka!$A$2:$A$180,0),34)))+E6","v":9.9999949020000006E-2},{"$f":"IF(INDEX(Tabulka!$A$2:$AN$180,MATCH(J6,Tabulka!$A$2:$A$180,0)+3,34)<1,-90000,IF(AND(INDEX(Tabulka!$A$2:$AN$180,MATCH(J6,Tabulka!$A$2:$A$180,0)+3,34)>=0,INDEX(Tabulka!$A$2:$AN$180,MATCH(J6,Tabulka!$A$2:$A$180,0)+3,34)<=6),-50000+INDEX(Tabulka!$A$2:$AN$180,MATCH(J6,Tabulka!$A$2:$A$180,0)+2,30),INDEX(Tabulka!$A$2:$AN$180,MATCH(J6,Tabulka!$A$2:$A$180,0)+2,34)))+F6","v":8.0000000510000007},{"$f":"IF(INDEX(Tabulka!$A$2:$AN$180,MATCH(J6,Tabulka!$A$2:$A$180,0)+3,34)<1,-90000,IF(AND(INDEX(Tabulka!$A$2:$AN$180,MATCH(J6,Tabulka!$A$2:$A$180,0)+3,34)>=0,INDEX(Tabulka!$A$2:$AN$180,MATCH(J6,Tabulka!$A$2:$A$180,0)+3,34)<=6),-50000+INDEX(Tabulka!$A$2:$AN$180,MATCH(J6,Tabulka!$A$2:$A$180,0)+1,30),INDEX(Tabulka!$A$2:$AN$180,MATCH(J6,Tabulka!$A$2:$A$180,0)+1,34)))+E6","v":7.0029999999999999E-8},552754.70939602435,{"$f":"IFERROR(INDEX(Přehled_body!$A$4:$EF$130,MATCH(CONCATENATE(T6,$S$1),Přehled_body!$A$4:$A$130,0),31),\"Neklas\")+E6","v":-5.0999999999999993E-8},"Kuba Šedivý",552754.70939602435,3.8999998789800001,-3.8999998789800001,{"$f":"IF(AND(INDEX(Přehled_body!$A$1:$EF$130,MATCH(CONCATENATE(T6,$AB$1),Přehled_body!$A$1:$A$130,0),COLUMN(Přehled_body!EE7))+E6<-29888,$X$1<>\"Výhry\",$X$1<>\"Poč. kol\"),(INDEX(Přehled_body!$A$1:$EF$130,MATCH(CONCATENATE(T6,$AB$1),Přehled_body!$A$1:$A$130,0),COLUMN(Přehled_body!EE7)))*-1+F6,INDEX(Přehled_body!$A$1:$EF$130,MATCH(CONCATENATE(T6,$AB$1),Přehled_body!$A$1:$A$130,0),COLUMN(Přehled_body!EE7))+E6)","v":3.9999999490000002},5,8.9999999190000004,null,{"$f":"INDEX(Tabulka!$A$4:$AH$84,MATCH($P71,Tabulka!$A$4:$A$84,0),34)+INDEX($D$2:$F$17,MATCH($P71,$D$2:$D$17,0),3)","v":7.0000001410500001},"Adam Šmíd",{"$f":"IFERROR(IF(AND(INDEX(Přehled_body!$A$1:$EF$130,MATCH(CONCATENATE(T6,$AD$1),Přehled_body!$A$1:$A$130,0),COLUMN(Přehled_body!$EE7))+$F6<-29888,$AD$1<>\"Výhry\",$AD$1<>\"Poč. kol\"),(INDEX(Přehled_body!$A$1:$EF$130,MATCH(CONCATENATE(T6,$AD$1),Přehled_body!$A$1:$A$130,0),COLUMN(Přehled_body!$EE7)))*-1+$F6,INDEX(Přehled_body!$A$1:$EF$130,MATCH(CONCATENATE(T6,$AD$1),Přehled_body!$A$1:$A$130,0),COLUMN(Přehled_body!$EE7))+$F6),INDEX($F$2:$F$17,MATCH($AC6,$D$2:$D$17,0),1))","v":25.272727323727274},{"$f":"IF(AND(INDEX(Přehled_body!$A$1:$EF$130,MATCH(CONCATENATE(T6,$AE$1),Přehled_body!$A$1:$A$130,0),COLUMN(Přehled_body!EE7))+F6<-40000,$AE$1<>\"Výhry\",$AE$1<>\"Poč. kol\"),(INDEX(Přehled_body!$A$1:$EF$130,MATCH(CONCATENATE(T6,$AE$1),Přehled_body!$A$1:$A$130,0),COLUMN(Přehled_body!EE7)))*-1+F6,INDEX(Přehled_body!$A$1:$EF$130,MATCH(CONCATENATE(T6,$AE$1),Přehled_body!$A$1:$A$130,0),COLUMN(Přehled_body!EE7))+F6)","v":278.00000005099997},null,null,"Poč. kol",null,"Jarda Klein",50.114754129360655,50.114754129360655,"Standa Roth",2942.0000000209998,2942.0000000209998,"Iva Ivanka",{"$f":"IF(INDEX(Tabulka!$AG$4:$AG$83,MATCH(List4!D6,Tabulka!$A$4:$A$83,0)-1,1)<1,-90000+E6,INDEX(Tabulka!$AG$4:$AG$83,MATCH(List4!D6,Tabulka!$A$4:$A$83,0)-1,1)+E6)","v":-90000.000000051004},null,"Standa Roth",14.999999889,2942.0000000209998,false,-627.00000012099918]
[{"$f":"INDEX(Tabulka!$A$2:$A$125,MATCH(B7,Tabulka!$A$2:$A$125,0)-1,1)","v":"Zdenek Kanaďan"},{"$f":"Tabulka!$A$76","v":"Kanaďan Zdenek"},{"$f":"IF(INDEX(Tabulka!$A$2:$AN$180,MATCH(D7,Tabulka!$A$2:$A$180,0)-1,33)<1,-90000,IF(INDEX(Tabulka!$A$2:$AN$180,MATCH(D7,Tabulka!$A$2:$A$180,0)-1,33)=1,-50000+INDEX(Tabulka!$A$2:$AN$180,MATCH(D7,Tabulka!$A$2:$A$180,0),32),INDEX(Tabulka!$A$2:$AN$180,MATCH(D7,Tabulka!$A$2:$A$180,0),32)))+E7","v":-50000.000000061002},"Zdenek Kanaďan",-6.099999999999999E-8,6.099999999999999E-8,"Zdenek Kanaďan-0,000000061",{"$f":"IF(ISERROR(MATCH(D7,Tabulka!$A$4:$A$84,0)),,MATCH(D7,Tabulka!$A$4:$A$84,0))","v":72},{"$f":"INDEX(Přehled_body!$EG$3:$EH$130,MATCH(List4!J7,Přehled_body!$EH$3:$EH$130,0),1)","v":66.466666666666669},"Míra Šedivý",-1.00000013097,{"$f":"INDEX(Tabulka!$A$4:$AH$84,MATCH(J7,Tabulka!$A$4:$A$84,0),32)+INDEX($D$2:$E$17,MATCH(J7,$D$2:$D$17,0),2)","v":-1.00000013097},4.9999996770499999,{"$f":"IF(INDEX(Tabulka!$A$2:$AN$180,MATCH(J7,Tabulka!$A$2:$A$180,0)+3,34)<1,-90000,IF(AND(INDEX(Tabulka!$A$2:$AN$180,MATCH(J7,Tabulka!$A$2:$A$180,0)+3,34)>=0,INDEX(Tabulka!$A$2:$AN$180,MATCH(J7,Tabulka!$A$2:$A$180,0)+3,34)<=4),-50000+INDEX(Tabulka!$A$2:$AN$180,MATCH(J7,Tabulka!$A$2:$A$180,0)+3,34),INDEX(Tabulka!$A$2:$AN$180,MATCH(J7,Tabulka!$A$2:$A$180,0)+3,34)))+E7","v":29.999999938999999},{"$f":"IF(INDEX(Tabulka!$A$2:$AN$180,MATCH(J7,Tabulka!$A$2:$A$180,0),38)<1,-90000,IF(AND(INDEX(Tabulka!$A$2:$AN$180,MATCH(J7,Tabulka!$A$2:$A$180,0),38)>=0,INDEX(Tabulka!$A$2:$AN$180,MATCH(J7,Tabulka!$A$2:$A$180,0),38)<2),-50000-INDEX(Tabulka!$A$2:$AN$180,MATCH(J7,Tabulka!$A$2:$A$180,0),34),INDEX(Tabulka!$A$2:$AN$180,MATCH(J7,Tabulka!$A$2:$A$180,0),34)))+E7","v":5.9999999390200003},{"$f":"IF(INDEX(Tabulka!$A$2:$AN$180,MATCH(J7,Tabulka!$A$2:$A$180,0)+3,34)<1,-90000,IF(AND(INDEX(Tabulka!$A$2:$AN$180,MATCH(J7,Tabulka!$A$2:$A$180,0)+3,34)>=0,INDEX(Tabulka!$A$2:$AN$180,MATCH(J7,Tabulka!$A$2:$A$180,0)+3,34)<=6),-50000+INDEX(Tabulka!$A$2:$AN$180,MATCH(J7,Tabulka!$A$2:$A$180,0)+2,30),INDEX(Tabulka!$A$2:$AN$180,MATCH(J7,Tabulka!$A$2:$A$180,0)+2,34)))+F7","v":2.0000000610500002},{"$f":"IF(INDEX(Tabulka!$A$2:$AN$180,MATCH(J7,Tabulka!$A$2:$A$180,0)+3,34)<1,-90000,IF(AND(INDEX(Tabulka!$A$2:$AN$180,MATCH(J7,Tabulka!$A$2:$A$180,0)+3,34)>=0,INDEX(Tabulka!$A$2:$AN$180,MATCH(J7,Tabulka!$A$2:$A$180,0)+3,34)<=6),-50000+INDEX(Tabulka!$A$2:$AN$180,MATCH(J7,Tabulka!$A$2:$A$180,0)+1,30),INDEX(Tabulka!$A$2:$AN$180,MATCH(J7,Tabulka!$A$2:$A$180,0)+1,34)))+E7","v":6.0000000700200005},-135066.48474662667,{"$f":"IFERROR(INDEX(Přehled_body!$A$4:$EF$130,MATCH(CONCATENATE(T7,$S$1),Přehled_body!$A$4:$A$130,0),31),\"Neklas\")+E7","v":-6.099999999999999E-8},"Míra Šedivý",-135066.48474662667,-1.00000013097,1.00000013097,{"$f":"IF(AND(INDEX(Přehled_body!$A$1:$EF$130,MATCH(CONCATENATE(T7,$AB$1),Přehled_body!$A$1:$A$130,0),COLUMN(Přehled_body!EE8))+E7<-29888,$X$1<>\"Výhry\",$X$1<>\"Poč. kol\"),(INDEX(Přehled_body!$A$1:$EF$130,MATCH(CONCATENATE(T7,$AB$1),Přehled_body!$A$1:$A$130,0),COLUMN(Přehled_body!EE8)))*-1+F7,INDEX(Přehled_body!$A$1:$EF$130,MATCH(CONCATENATE(T7,$AB$1),Přehled_body!$A$1:$A$130,0),COLUMN(Přehled_body!EE8))+E7)","v":4.9999999390000003},6,4.9999999390000003,null,{"$f":"INDEX(Tabulka!$A$4:$AH$84,MATCH($P72,Tabulka!$A$4:$A$84,0),34)+INDEX($D$2:$F$17,MATCH($P72,$D$2:$D$17,0),3)","v":8.0000000810899969},"Jarda Klein",{"$f":"IFERROR(IF(AND(INDEX(Přehled_body!$A$1:$EF$130,MATCH(CONCATENATE(T7,$AD$1),Přehled_body!$A$1:$A$130,0),COLUMN(Přehled_body!$EE8))+$F7<-29888,$AD$1<>\"Výhry\",$AD$1<>\"Poč. kol\"),(INDEX(Přehled_body!$A$1:$EF$130,MATCH(CONCATENATE(T7,$AD$1),Přehled_body!$A$1:$A$130,0),COLUMN(Přehled_body!$EE8)))*-1+$F7,INDEX(Přehled_body!$A$1:$EF$130,MATCH(CONCATENATE(T7,$AD$1),Přehled_body!$A$1:$A$130,0),COLUMN(Přehled_body!$EE8))+$F7),INDEX($F$2:$F$17,MATCH($AC7,$D$2:$D$17,0),1))","v":66.466666727666663},{"$f":"IF(AND(INDEX(Přehled_body!$A$1:$EF$130,MATCH(CONCATENATE(T7,$AE$1),Přehled_body!$A$1:$A$130,0),COLUMN(Přehled_body!EE8))+F7<-40000,$AE$1<>\"Výhry\",$AE$1<>\"Poč. kol\"),(INDEX(Přehled_body!$A$1:$EF$130,MATCH(CONCATENATE(T7,$AE$1),Přehled_body!$A$1:$A$130,0),COLUMN(Přehled_body!EE8)))*-1+F7,INDEX(Přehled_body!$A$1:$EF$130,MATCH(CONCATENATE(T7,$AE$1),Přehled_body!$A$1:$A$130,0),COLUMN(Přehled_body!EE8))+F7)","v":1994.000000061},null,null,"Počet konečných bodů",null,"Míra Šedivý",66.466666727666663,66.466666727666663,"Jarda Klein",3057.0000000310001,3057.0000000310001,"Zdenek Kanaďan",{"$f":"IF(INDEX(Tabulka!$AG$4:$AG$83,MATCH(List4!D7,Tabulka!$A$4:$A$83,0)-1,1)<1,-90000+E7,INDEX(Tabulka!$AG$4:$AG$83,MATCH(List4!D7,Tabulka!$A$4:$A$83,0)-1,1)+E7)","v":0.99999993899999995},null,"Adam Šmíd",9.9999998590000008,3057.0000000310001,false,-566.00000010099757]
[{"$f":"INDEX(Tabulka!$A$2:$A$125,MATCH(B8,Tabulka!$A$2:$A$125,0)-1,1)","v":"Karel Karl"},{"$f":"Tabulka!$A$66","v":"Karl Karel"},{"$f":"IF(INDEX(Tabulka!$A$2:$AN$180,MATCH(D8,Tabulka!$A$2:$A$180,0)-1,33)<1,-90000,IF(INDEX(Tabulka!$A$2:$AN$180,MATCH(D8,Tabulka!$A$2:$A$180,0)-1,33)=1,-50000+INDEX(Tabulka!$A$2:$AN$180,MATCH(D8,Tabulka!$A$2:$A$180,0),32),INDEX(Tabulka!$A$2:$AN$180,MATCH(D8,Tabulka!$A$2:$A$180,0),32)))+E8","v":-50001.000000070999},"Karel Karl",-7.0999999999999987E-8,7.0999999999999987E-8,"Karel Karl-0,000000071",{"$f":"IF(ISERROR(MATCH(D8,Tabulka!$A$4:$A$84,0)),,MATCH(D8,Tabulka!$A$4:$A$84,0))","v":62},{"$f":"INDEX(Přehled_body!$EG$3:$EH$130,MATCH(List4!J8,Přehled_body!$EH$3:$EH$130,0),1)","v":96.21052631578948},"Adam Šmíd",-7.0000001409500001,{"$f":"INDEX(Tabulka!$A$4:$AH$84,MATCH(J8,Tabulka!$A$4:$A$84,0),32)+INDEX($D$2:$E$17,MATCH(J8,$D$2:$D$17,0),2)","v":-7.0000001409500001},-3.5289999976911623E-7,{"$f":"IF(INDEX(Tabulka!$A$2:$AN$180,MATCH(J8,Tabulka!$A$2:$A$180,0)+3,34)<1,-90000,IF(AND(INDEX(Tabulka!$A$2:$AN$180,MATCH(J8,Tabulka!$A$2:$A$180,0)+3,34)>=0,INDEX(Tabulka!$A$2:$AN$180,MATCH(J8,Tabulka!$A$2:$A$180,0)+3,34)<=4),-50000+INDEX(Tabulka!$A$2:$AN$180,MATCH(J8,Tabulka!$A$2:$A$180,0)+3,34),INDEX(Tabulka!$A$2:$AN$180,MATCH(J8,Tabulka!$A$2:$A$180,0)+3,34)))+E8","v":18.999999929000001},{"$f":"IF(INDEX(Tabulka!$A$2:$AN$180,MATCH(J8,Tabulka!$A$2:$A$180,0),38)<1,-90000,IF(AND(INDEX(Tabulka!$A$2:$AN$180,MATCH(J8,Tabulka!$A$2:$A$180,0),38)>=0,INDEX(Tabulka!$A$2:$AN$180,MATCH(J8,Tabulka!$A$2:$A$180,0),38)<2),-50000-INDEX(Tabulka!$A$2:$AN$180,MATCH(J8,Tabulka!$A$2:$A$180,0),34),INDEX(Tabulka!$A$2:$AN$180,MATCH(J8,Tabulka!$A$2:$A$180,0),34)))+E8","v":6.9999999290500003},{"$f":"IF(INDEX(Tabulka!$A$2:$AN$180,MATCH(J8,Tabulka!$A$2:$A$180,0)+3,34)<1,-90000,IF(AND(INDEX(Tabulka!$A$2:$AN$180,MATCH(J8,Tabulka!$A$2:$A$180,0)+3,34)>=0,INDEX(Tabulka!$A$2:$AN$180,MATCH(J8,Tabulka!$A$2:$A$180,0)+3,34)<=6),-50000+INDEX(Tabulka!$A$2:$AN$180,MATCH(J8,Tabulka!$A$2:$A$180,0)+2,30),INDEX(Tabulka!$A$2:$AN$180,MATCH(J8,Tabulka!$A$2:$A$180,0)+2,34)))+F8","v":2.0000000710900001},{"$f":"IF(INDEX(Tabulka!$A$2:$AN$180,MATCH(J8,Tabulka!$A$2:$A$180,0)+3,34)<1,-90000,IF(AND(INDEX(Tabulka!$A$2:$AN$180,MATCH(J8,Tabulka!$A$2:$A$180,0)+3,34)>=0,INDEX(Tabulka!$A$2:$AN$180,MATCH(J8,Tabulka!$A$2:$A$180,0)+3,34)<=6),-50000+INDEX(Tabulka!$A$2:$AN$180,MATCH(J8,Tabulka!$A$2:$A$180,0)+1,30),INDEX(Tabulka!$A$2:$AN$180,MATCH(J8,Tabulka!$A$2:$A$180,0)+1,34)))+E8","v":14.000000070039997},-964196.22998451593,{"$f":"IFERROR(INDEX(Přehled_body!$A$4:$EF$130,MATCH(CONCATENATE(T8,$S$1),Přehled_body!$A$4:$A$130,0),31),\"Neklas\")+E8","v":-7.0999999999999987E-8},"Adam Šmíd",-964196.22998451593,-7.0000001409500001,7.0000001409500001,{"$f":"IF(AND(INDEX(Přehled_body!$A$1:$EF$130,MATCH(CONCATENATE(T8,$AB$1),Přehled_body!$A$1:$A$130,0),COLUMN(Přehled_body!EE9))+E8<-29888,$X$1<>\"Výhry\",$X$1<>\"Poč. kol\"),(INDEX(Přehled_body!$A$1:$EF$130,MATCH(CONCATENATE(T8,$AB$1),Přehled_body!$A$1:$A$130,0),COLUMN(Přehled_body!EE9)))*-1+F8,INDEX(Přehled_body!$A$1:$EF$130,MATCH(CONCATENATE(T8,$AB$1),Přehled_body!$A$1:$A$130,0),COLUMN(Přehled_body!EE9))+E8)","v":-7.0999999999999987E-8},7,3.9999999490000002,null,{"$f":"INDEX(Tabulka!$A$4:$AH$84,MATCH($P73,Tabulka!$A$4:$A$84,0),34)+INDEX($D$2:$F$17,MATCH($P73,$D$2:$D$17,0),3)","v":11.00000016107},"Milan Veselý",{"$f":"IFERROR(IF(AND(INDEX(Přehled_body!$A$1:$EF$130,MATCH(CONCATENATE(T8,$AD$1),Přehled_body!$A$1:$A$130,0),COLUMN(Přehled_body!$EE9))+$F8<-29888,$AD$1<>\"Výhry\",$AD$1<>\"Poč. kol\"),(INDEX(Přehled_body!$A$1:$EF$130,MATCH(CONCATENATE(T8,$AD$1),Přehled_body!$A$1:$A$130,0),COLUMN(Přehled_body!$EE9)))*-1+$F8,INDEX(Přehled_body!$A$1:$EF$130,MATCH(CONCATENATE(T8,$AD$1),Přehled_body!$A$1:$A$130,0),COLUMN(Přehled_body!$EE9))+$F8),INDEX($F$2:$F$17,MATCH($AC8,$D$2:$D$17,0),1))","v":96.210526386789482},{"$f":"IF(AND(INDEX(Přehled_body!$A$1:$EF$130,MATCH(CONCATENATE(T8,$AE$1),Přehled_body!$A$1:$A$130,0),COLUMN(Přehled_body!EE9))+F8<-40000,$AE$1<>\"Výhry\",$AE$1<>\"Poč. kol\"),(INDEX(Přehled_body!$A$1:$EF$130,MATCH(CONCATENATE(T8,$AE$1),Přehled_body!$A$1:$A$130,0),COLUMN(Přehled_body!EE9)))*-1+F8,INDEX(Přehled_body!$A$1:$EF$130,MATCH(CONCATENATE(T8,$AE$1),Přehled_body!$A$1:$A$130,0),COLUMN(Přehled_body!EE9))+F8)","v":1828.0000000709999},null,null,"Průměr konečných bodů na kolo",null,"Jiří Blín",71.782608776652168,71.782608776652168,"Libor Hruška",3399.000000041,3399.000000041,"Karel Karl",{"$f":"IF(INDEX(Tabulka!$AG$4:$AG$83,MATCH(List4!D8,Tabulka!$A$4:$A$83,0)-1,1)<1,-90000+E8,INDEX(Tabulka!$AG$4:$AG$83,MATCH(List4!D8,Tabulka!$A$4:$A$83,0)-1,1)+E8)","v":0.99999992900000001},null,"Míra Šedivý",6.9999998689999998,3399.000000041,false,-332.0000000910004]
[{"$f":"INDEX(Tabulka!$A$2:$A$125,MATCH(B9,Tabulka!$A$2:$A$125,0)-1,1)","v":"Jarda Klein"},{"$f":"Tabulka!$A$51","v":"Klein Jarda"},{"$f":"IF(INDEX(Tabulka!$A$2:$AN$180,MATCH(D9,Tabulka!$A$2:$A$180,0)-1,33)<1,-90000,IF(INDEX(Tabulka!$A$2:$AN$180,MATCH(D9,Tabulka!$A$2:$A$180,0)-1,33)=1,-50000+INDEX(Tabulka!$A$2:$AN$180,MATCH(D9,Tabulka!$A$2:$A$180,0),32),INDEX(Tabulka!$A$2:$AN$180,MATCH(D9,Tabulka!$A$2:$A$180,0),32)))+E9","v":7.9999999189600004},"Jarda Klein",-8.0999999999999984E-8,8.0999999999999984E-8,"Jarda Klein-0,000000081",{"$f":"IF(ISERROR(MATCH(D9,Tabulka!$A$4:$A$84,0)),,MATCH(D9,Tabulka!$A$4:$A$84,0))","v":47},{"$f":"INDEX(Přehled_body!$EG$3:$EH$130,MATCH(List4!J17,Přehled_body!$EH$3:$EH$130,0),1)","v":0},"Jiří Blín",-9.0000000109399974,{"$f":"INDEX(Tabulka!$A$4:$AH$84,MATCH(J9,Tabulka!$A$4:$A$84,0),32)+INDEX($D$2:$E$17,MATCH(J9,$D$2:$D$17,0),2)","v":-9.0000000109399974},8.9999998971100013,{"$f":"IF(INDEX(Tabulka!$A$2:$AN$180,MATCH(J9,Tabulka!$A$2:$A$180,0)+3,34)<1,-90000,IF(AND(INDEX(Tabulka!$A$2:$AN$180,MATCH(J9,Tabulka!$A$2:$A$180,0)+3,34)>=0,INDEX(Tabulka!$A$2:$AN$180,MATCH(J9,Tabulka!$A$2:$A$180,0)+3,34)<=4),-50000+INDEX(Tabulka!$A$2:$AN$180,MATCH(J9,Tabulka!$A$2:$A$180,0)+3,34),INDEX(Tabulka!$A$2:$AN$180,MATCH(J9,Tabulka!$A$2:$A$180,0)+3,34)))+E9","v":68.999999919000004},{"$f":"IF(INDEX(Tabulka!$A$2:$AN$180,MATCH(J9,Tabulka!$A$2:$A$180,0),38)<1,-90000,IF(AND(INDEX(Tabulka!$A$2:$AN$180,MATCH(J9,Tabulka!$A$2:$A$180,0),38)>=0,INDEX(Tabulka!$A$2:$AN$180,MATCH(J9,Tabulka!$A$2:$A$180,0),38)<2),-50000-INDEX(Tabulka!$A$2:$AN$180,MATCH(J9,Tabulka!$A$2:$A$180,0),34),INDEX(Tabulka!$A$2:$AN$180,MATCH(J9,Tabulka!$A$2:$A$180,0),34)))+E9","v":17.999999919049998},{"$f":"IF(INDEX(Tabulka!$A$2:$AN$180,MATCH(J9,Tabulka!$A$2:$A$180,0)+3,34)<1,-90000,IF(AND(INDEX(Tabulka!$A$2:$AN$180,MATCH(J9,Tabulka!$A$2:$A$180,0)+3,34)>=0,INDEX(Tabulka!$A$2:$AN$180,MATCH(J9,Tabulka!$A$2:$A$180,0)+3,34)<=6),-50000+INDEX(Tabulka!$A$2:$AN$180,MATCH(J9,Tabulka!$A$2:$A$180,0)+2,30),INDEX(Tabulka!$A$2:$AN$180,MATCH(J9,Tabulka!$A$2:$A$180,0)+2,34)))+F9","v":11.0000000811},{"$f":"IF(INDEX(Tabulka!$A$2:$AN$180,MATCH(J9,Tabulka!$A$2:$A$180,0)+3,34)<1,-90000,IF(AND(INDEX(Tabulka!$A$2:$AN$180,MATCH(J9,Tabulka!$A$2:$A$180,0)+3,34)>=0,INDEX(Tabulka!$A$2:$AN$180,MATCH(J9,Tabulka!$A$2:$A$180,0)+3,34)<=6),-50000+INDEX(Tabulka!$A$2:$AN$180,MATCH(J9,Tabulka!$A$2:$A$180,0)+1,30),INDEX(Tabulka!$A$2:$AN$180,MATCH(J9,Tabulka!$A$2:$A$180,0)+1,34)))+E9","v":23.999999930050002},-1235100.0015178195,{"$f":"IFERROR(INDEX(Přehled_body!$A$4:$EF$130,MATCH(CONCATENATE(T9,$S$1),Přehled_body!$A$4:$A$130,0),31),\"Neklas\")+E9","v":-8.0999999999999984E-8},"Jiří Blín",-1235100.0015178195,-9.0000000109399974,9.0000000109399974,{"$f":"IF(AND(INDEX(Přehled_body!$A$1:$EF$130,MATCH(CONCATENATE(T9,$AB$1),Přehled_body!$A$1:$A$130,0),COLUMN(Přehled_body!EE10))+E9<-29888,$X$1<>\"Výhry\",$X$1<>\"Poč. kol\"),(INDEX(Přehled_body!$A$1:$EF$130,MATCH(CONCATENATE(T9,$AB$1),Přehled_body!$A$1:$A$130,0),COLUMN(Přehled_body!EE10)))*-1+F9,INDEX(Přehled_body!$A$1:$EF$130,MATCH(CONCATENATE(T9,$AB$1),Přehled_body!$A$1:$A$130,0),COLUMN(Přehled_body!EE10))+E9)","v":8.9999999190000004},8,-7.0999999999999987E-8,null,{"$f":"INDEX(Tabulka!$A$4:$AH$84,MATCH($P74,Tabulka!$A$4:$A$84,0),34)+INDEX($D$2:$F$17,MATCH($P74,$D$2:$D$17,0),3)","v":18.000000011049998},"Jiří Blín",{"$f":"IFERROR(IF(AND(INDEX(Přehled_body!$A$1:$EF$130,MATCH(CONCATENATE(T9,$AD$1),Přehled_body!$A$1:$A$130,0),COLUMN(Přehled_body!$EE10))+$F9<-29888,$AD$1<>\"Výhry\",$AD$1<>\"Poč. kol\"),(INDEX(Přehled_body!$A$1:$EF$130,MATCH(CONCATENATE(T9,$AD$1),Přehled_body!$A$1:$A$130,0),COLUMN(Přehled_body!$EE10)))*-1+$F9,INDEX(Přehled_body!$A$1:$EF$130,MATCH(CONCATENATE(T9,$AD$1),Přehled_body!$A$1:$A$130,0),COLUMN(Přehled_body!$EE10))+$F9),INDEX($F$2:$F$17,MATCH($AC9,$D$2:$D$17,0),1))","v":71.782608776652168},{"$f":"IF(AND(INDEX(Přehled_body!$A$1:$EF$130,MATCH(CONCATENATE(T9,$AE$1),Přehled_body!$A$1:$A$130,0),COLUMN(Přehled_body!EE10))+F9<-40000,$AE$1<>\"Výhry\",$AE$1<>\"Poč. kol\"),(INDEX(Přehled_body!$A$1:$EF$130,MATCH(CONCATENATE(T9,$AE$1),Přehled_body!$A$1:$A$130,0),COLUMN(Přehled_body!EE10)))*-1+F9,INDEX(Přehled_body!$A$1:$EF$130,MATCH(CONCATENATE(T9,$AE$1),Přehled_body!$A$1:$A$130,0),COLUMN(Přehled_body!EE10))+F9)","v":4953.0000000809996},null,null,null,null,"Adam Šmíd",96.210526386789482,96.210526386789482,"Jiří Blín",4953.0000000809996,4953.0000000809996,"Jarda Klein",{"$f":"IF(INDEX(Tabulka!$AG$4:$AG$83,MATCH(List4!D9,Tabulka!$A$4:$A$83,0)-1,1)<1,-90000+E9,INDEX(Tabulka!$AG$4:$AG$83,MATCH(List4!D9,Tabulka!$A$4:$A$83,0)-1,1)+E9)","v":14.999999919},null,"Kuba Šedivý",2.9999998790000002,4953.0000000809996,false,-325.00000011100201]
[{"$f":"INDEX(Tabulka!$A$2:$A$125,MATCH(B10,Tabulka!$A$2:$A$125,0)-1,1)","v":"Míra Kulhan"},{"$f":"Tabulka!A71","v":"Kulhan Míra"},{"$f":"IF(INDEX(Tabulka!$A$2:$AN$180,MATCH(D10,Tabulka!$A$2:$A$180,0)-1,33)<1,-90000,IF(INDEX(Tabulka!$A$2:$AN$180,MATCH(D10,Tabulka!$A$2:$A$180,0)-1,33)=1,-50000+INDEX(Tabulka!$A$2:$AN$180,MATCH(D10,Tabulka!$A$2:$A$180,0),32),INDEX(Tabulka!$A$2:$AN$180,MATCH(D10,Tabulka!$A$2:$A$180,0),32)))+E10","v":-90000.000000090993},"Míra Kulhan",-9.0999999999999981E-8,9.0999999999999981E-8,"Míra Kulhan-0,000000091",{"$f":"IF(ISERROR(MATCH(D10,Tabulka!$A$4:$A$84,0)),,MATCH(D10,Tabulka!$A$4:$A$84,0))","v":67},{"$f":"INDEX(Přehled_body!$EG$3:$EH$130,MATCH(List4!J10,Přehled_body!$EH$3:$EH$130,0),1)","v":66.400000000000006},"Zdenek Kanaďan",-50000.000000061002,{"$f":"INDEX(Tabulka!$A$4:$AH$84,MATCH(J10,Tabulka!$A$4:$A$84,0),32)+INDEX($D$2:$E$17,MATCH(J10,$D$2:$D$17,0),2)","v":-6.099999999999999E-8},-100001.00000021301,{"$f":"IF(INDEX(Tabulka!$A$2:$AN$180,MATCH(J10,Tabulka!$A$2:$A$180,0)+3,34)<1,-90000,IF(AND(INDEX(Tabulka!$A$2:$AN$180,MATCH(J10,Tabulka!$A$2:$A$180,0)+3,34)>=0,INDEX(Tabulka!$A$2:$AN$180,MATCH(J10,Tabulka!$A$2:$A$180,0)+3,34)<=4),-50000+INDEX(Tabulka!$A$2:$AN$180,MATCH(J10,Tabulka!$A$2:$A$180,0)+3,34),INDEX(Tabulka!$A$2:$AN$180,MATCH(J10,Tabulka!$A$2:$A$180,0)+3,34)))+E10","v":4.9999999089999996},{"$f":"IF(INDEX(Tabulka!$A$2:$AN$180,MATCH(J10,Tabulka!$A$2:$A$180,0),38)<1,-90000,IF(AND(INDEX(Tabulka!$A$2:$AN$180,MATCH(J10,Tabulka!$A$2:$A$180,0),38)>=0,INDEX(Tabulka!$A$2:$AN$180,MATCH(J10,Tabulka!$A$2:$A$180,0),38)<2),-50000-INDEX(Tabulka!$A$2:$AN$180,MATCH(J10,Tabulka!$A$2:$A$180,0),34),INDEX(Tabulka!$A$2:$AN$180,MATCH(J10,Tabulka!$A$2:$A$180,0),34)))+E10","v":-50001.000000091},{"$f":"IF(INDEX(Tabulka!$A$2:$AN$180,MATCH(J10,Tabulka!$A$2:$A$180,0)+3,34)<1,-90000,IF(AND(INDEX(Tabulka!$A$2:$AN$180,MATCH(J10,Tabulka!$A$2:$A$180,0)+3,34)>=0,INDEX(Tabulka!$A$2:$AN$180,MATCH(J10,Tabulka!$A$2:$A$180,0)+3,34)<=6),-50000+INDEX(Tabulka!$A$2:$AN$180,MATCH(J10,Tabulka!$A$2:$A$180,0)+2,30),INDEX(Tabulka!$A$2:$AN$180,MATCH(J10,Tabulka!$A$2:$A$180,0)+2,34)))+F10","v":-49999.999999909},{"$f":"IF(INDEX(Tabulka!$A$2:$AN$180,MATCH(J10,Tabulka!$A$2:$A$180,0)+3,34)<1,-90000,IF(AND(INDEX(Tabulka!$A$2:$AN$180,MATCH(J10,Tabulka!$A$2:$A$180,0)+3,34)>=0,INDEX(Tabulka!$A$2:$AN$180,MATCH(J10,Tabulka!$A$2:$A$180,0)+3,34)<=6),-50000+INDEX(Tabulka!$A$2:$AN$180,MATCH(J10,Tabulka!$A$2:$A$180,0)+1,30),INDEX(Tabulka!$A$2:$AN$180,MATCH(J10,Tabulka!$A$2:$A$180,0)+1,34)))+E10","v":-50000.000000091},-5000000000.0060997,{"$f":"IFERROR(INDEX(Přehled_body!$A$4:$EF$130,MATCH(CONCATENATE(T10,$S$1),Přehled_body!$A$4:$A$130,0),31),\"Neklas\")+E10","v":-9.0999999999999981E-8},"Zdenek Kanaďan",-5000000000.0060997,-50000.000000061002,50000.000000061002,{"$f":"IF(AND(INDEX(Přehled_body!$A$1:$EF$130,MATCH(CONCATENATE(T10,$AB$1),Přehled_body!$A$1:$A$130,0),COLUMN(Přehled_body!EE11))+E10<-29888,$X$1<>\"Výhry\",$X$1<>\"Poč. kol\"),(INDEX(Přehled_body!$A$1:$EF$130,MATCH(CONCATENATE(T10,$AB$1),Přehled_body!$A$1:$A$130,0),COLUMN(Přehled_body!EE11)))*-1+F10,INDEX(Přehled_body!$A$1:$EF$130,MATCH(CONCATENATE(T10,$AB$1),Přehled_body!$A$1:$A$130,0),COLUMN(Přehled_body!EE11))+E10)","v":-49999.000000091},9,-49999.000000091,null,{"$f":"INDEX(Tabulka!$A$4:$AH$84,MATCH($P75,Tabulka!$A$4:$A$84,0),34)+INDEX($D$2:$F$17,MATCH($P75,$D$2:$D$17,0),3)","v":1.0000000609999999},"Zdenek Kanaďan",{"$f":"IFERROR(IF(AND(INDEX(Přehled_body!$A$1:$EF$130,MATCH(CONCATENATE(T10,$AD$1),Přehled_body!$A$1:$A$130,0),COLUMN(Přehled_body!$EE11))+$F10<-29888,$AD$1<>\"Výhry\",$AD$1<>\"Poč. kol\"),(INDEX(Přehled_body!$A$1:$EF$130,MATCH(CONCATENATE(T10,$AD$1),Přehled_body!$A$1:$A$130,0),COLUMN(Přehled_body!$EE11)))*-1+$F10,INDEX(Přehled_body!$A$1:$EF$130,MATCH(CONCATENATE(T10,$AD$1),Přehled_body!$A$1:$A$130,0),COLUMN(Přehled_body!$EE11))+$F10),INDEX($F$2:$F$17,MATCH($AC10,$D$2:$D$17,0),1))","v":49933.600000090999},{"$f":"IF(AND(INDEX(Přehled_body!$A$1:$EF$130,MATCH(CONCATENATE(T10,$AE$1),Přehled_body!$A$1:$A$130,0),COLUMN(Přehled_body!EE11))+F10<-40000,$AE$1<>\"Výhry\",$AE$1<>\"Poč. kol\"),(INDEX(Přehled_body!$A$1:$EF$130,MATCH(CONCATENATE(T10,$AE$1),Přehled_body!$A$1:$A$130,0),COLUMN(Přehled_body!EE11)))*-1+F10,INDEX(Přehled_body!$A$1:$EF$130,MATCH(CONCATENATE(T10,$AE$1),Přehled_body!$A$1:$A$130,0),COLUMN(Přehled_body!EE11))+F10)","v":50332.000000091},null,null,null,null,"Petr Šum",49843.250000120999,49843.250000120999,"Míra Chalupník",{"$f":"IF(ROUND(ABS(AE10),0)=ABS(90000),\"Neklas\",IF(OR($AM$1=\"Výhry\",$AM$1=\"Poč. kol\")=TRUE,LARGE($AE$2:$AE$17,Y10),SMALL($AE$2:$AE$17,Y10)))","v":50325.000000111002},50325.000000111002,"Míra Kulhan",{"$f":"IF(INDEX(Tabulka!$AG$4:$AG$83,MATCH(List4!D10,Tabulka!$A$4:$A$83,0)-1,1)<1,-90000+E10,INDEX(Tabulka!$AG$4:$AG$83,MATCH(List4!D10,Tabulka!$A$4:$A$83,0)-1,1)+E10)","v":-90000.000000090993},null,"Míra Chalupník",0.99999995900000005,{"$f":"IF(ROUND(ABS(AE10),0)=ABS(90000),\"Neklas\",IF(OR($AM$1=\"Výhry\",$AM$1=\"Poč. kol\")=TRUE,IF(LARGE($AE$2:$AE$17,Y10)>30000,50000-LARGE($AE$2:$AE$17,Y10),LARGE($AE$2:$AE$17,Y10)),IF(SMALL($AE$2:$AE$17,Y10)>30000,SMALL($AE$2:$AE$17,Y10)-50000,SMALL($AE$2:$AE$17,Y10))))","v":325.00000011100201},{"$f":"AE10>30000","v":true},{"$f":"IF(LARGE($AE$2:$AE$17,Y10)>30000,50000-LARGE($AE$2:$AE$17,Y10),LARGE($AE$2:$AE$17,Y10))","v":4953.0000000809996},{"$f":"IF(SMALL($AE$2:$AE$17,Y10)>30000,50000-SMALL($AE$2:$AE$17,Y10),SMALL($AE$2:$AE$17,Y10))","v":-325.00000011100201}]
[{"$f":"INDEX(Tabulka!$A$2:$A$125,MATCH(B11,Tabulka!$A$2:$A$125,0)-1,1)","v":"Pavel Pernekr"},{"$f":"Tabulka!$A$21","v":"Pernekr Pavel"},{"$f":"IF(INDEX(Tabulka!$A$2:$AN$180,MATCH(D11,Tabulka!$A$2:$A$180,0)-1,33)<1,-90000,IF(INDEX(Tabulka!$A$2:$AN$180,MATCH(D11,Tabulka!$A$2:$A$180,0)-1,33)=1,-50000+INDEX(Tabulka!$A$2:$AN$180,MATCH(D11,Tabulka!$A$2:$A$180,0),32),INDEX(Tabulka!$A$2:$AN$180,MATCH(D11,Tabulka!$A$2:$A$180,0),32)))+E11","v":-90000.000000101005},"Pavel Pernekr",-1.0099999999999998E-7,1.0099999999999998E-7,"Pavel Pernekr-0,000000101",{"$f":"IF(ISERROR(MATCH(D11,Tabulka!$A$4:$A$84,0)),,MATCH(D11,Tabulka!$A$4:$A$84,0))","v":17},{"$f":"INDEX(Přehled_body!$EG$3:$EH$130,MATCH(List4!J2,Přehled_body!$EH$3:$EH$130,0),1)","v":39.782608695652172},"Karel Karl",-50001.000000070999,{"$f":"INDEX(Tabulka!$A$4:$AH$84,MATCH(J11,Tabulka!$A$4:$A$84,0),32)+INDEX($D$2:$E$17,MATCH(J11,$D$2:$D$17,0),2)","v":-1.0000000710000001},-100003.000000243,{"$f":"IF(INDEX(Tabulka!$A$2:$AN$180,MATCH(J11,Tabulka!$A$2:$A$180,0)+3,34)<1,-90000,IF(AND(INDEX(Tabulka!$A$2:$AN$180,MATCH(J11,Tabulka!$A$2:$A$180,0)+3,34)>=0,INDEX(Tabulka!$A$2:$AN$180,MATCH(J11,Tabulka!$A$2:$A$180,0)+3,34)<=4),-50000+INDEX(Tabulka!$A$2:$AN$180,MATCH(J11,Tabulka!$A$2:$A$180,0)+3,34),INDEX(Tabulka!$A$2:$AN$180,MATCH(J11,Tabulka!$A$2:$A$180,0)+3,34)))+E11","v":-49996.000000100998},{"$f":"IF(INDEX(Tabulka!$A$2:$AN$180,MATCH(J11,Tabulka!$A$2:$A$180,0),38)<1,-90000,IF(AND(INDEX(Tabulka!$A$2:$AN$180,MATCH(J11,Tabulka!$A$2:$A$180,0),38)>=0,INDEX(Tabulka!$A$2:$AN$180,MATCH(J11,Tabulka!$A$2:$A$180,0),38)<2),-50000-INDEX(Tabulka!$A$2:$AN$180,MATCH(J11,Tabulka!$A$2:$A$180,0),34),INDEX(Tabulka!$A$2:$AN$180,MATCH(J11,Tabulka!$A$2:$A$180,0),34)))+E11","v":-50002.000000100998},{"$f":"IF(INDEX(Tabulka!$A$2:$AN$180,MATCH(J11,Tabulka!$A$2:$A$180,0)+3,34)<1,-90000,IF(AND(INDEX(Tabulka!$A$2:$AN$180,MATCH(J11,Tabulka!$A$2:$A$180,0)+3,34)>=0,INDEX(Tabulka!$A$2:$AN$180,MATCH(J11,Tabulka!$A$2:$A$180,0)+3,34)<=6),-50000+INDEX(Tabulka!$A$2:$AN$180,MATCH(J11,Tabulka!$A$2:$A$180,0)+2,30),INDEX(Tabulka!$A$2:$AN$180,MATCH(J11,Tabulka!$A$2:$A$180,0)+2,34)))+F11","v":-49999.999999899002},{"$f":"IF(INDEX(Tabulka!$A$2:$AN$180,MATCH(J11,Tabulka!$A$2:$A$180,0)+3,34)<1,-90000,IF(AND(INDEX(Tabulka!$A$2:$AN$180,MATCH(J11,Tabulka!$A$2:$A$180,0)+3,34)>=0,INDEX(Tabulka!$A$2:$AN$180,MATCH(J11,Tabulka!$A$2:$A$180,0)+3,34)<=6),-50000+INDEX(Tabulka!$A$2:$AN$180,MATCH(J11,Tabulka!$A$2:$A$180,0)+1,30),INDEX(Tabulka!$A$2:$AN$180,MATCH(J11,Tabulka!$A$2:$A$180,0)+1,34)))+E11","v":-50000.000000100998},-5000100000.0071001,{"$f":"IFERROR(INDEX(Přehled_body!$A$4:$EF$130,MATCH(CONCATENATE(T11,$S$1),Přehled_body!$A$4:$A$130,0),31),\"Neklas\")+E11","v":-1.0099999999999998E-7},"Karel Karl",-5000100000.0071001,-50001.000000070999,50001.000000070999,{"$f":"IF(AND(INDEX(Přehled_body!$A$1:$EF$130,MATCH(CONCATENATE(T11,$AB$1),Přehled_body!$A$1:$A$130,0),COLUMN(Přehled_body!EE12))+E11<-29888,$X$1<>\"Výhry\",$X$1<>\"Poč. kol\"),(INDEX(Přehled_body!$A$1:$EF$130,MATCH(CONCATENATE(T11,$AB$1),Přehled_body!$A$1:$A$130,0),COLUMN(Přehled_body!EE12)))*-1+F11,INDEX(Přehled_body!$A$1:$EF$130,MATCH(CONCATENATE(T11,$AB$1),Přehled_body!$A$1:$A$130,0),COLUMN(Přehled_body!EE12))+E11)","v":-49999.000000100998},10,-49999.000000100998,null,{"$f":"INDEX(Tabulka!$A$4:$AH$84,MATCH($P76,Tabulka!$A$4:$A$84,0),34)+INDEX($D$2:$F$17,MATCH($P76,$D$2:$D$17,0),3)","v":2.0000000710000001},"Karel Karl",{"$f":"IFERROR(IF(AND(INDEX(Přehled_body!$A$1:$EF$130,MATCH(CONCATENATE(T11,$AD$1),Přehled_body!$A$1:$A$130,0),COLUMN(Přehled_body!$EE12))+$F11<-29888,$AD$1<>\"Výhry\",$AD$1<>\"Poč. kol\"),(INDEX(Přehled_body!$A$1:$EF$130,MATCH(CONCATENATE(T11,$AD$1),Přehled_body!$A$1:$A$130,0),COLUMN(Přehled_body!$EE12)))*-1+$F11,INDEX(Přehled_body!$A$1:$EF$130,MATCH(CONCATENATE(T11,$AD$1),Přehled_body!$A$1:$A$130,0),COLUMN(Přehled_body!$EE12))+$F11),INDEX($F$2:$F$17,MATCH($AC11,$D$2:$D$17,0),1))","v":50141.500000100998},{"$f":"IF(AND(INDEX(Přehled_body!$A$1:$EF$130,MATCH(CONCATENATE(T11,$AE$1),Přehled_body!$A$1:$A$130,0),COLUMN(Přehled_body!EE12))+F11<-40000,$AE$1<>\"Výhry\",$AE$1<>\"Poč. kol\"),(INDEX(Přehled_body!$A$1:$EF$130,MATCH(CONCATENATE(T11,$AE$1),Přehled_body!$A$1:$A$130,0),COLUMN(Přehled_body!EE12)))*-1+F11,INDEX(Přehled_body!$A$1:$EF$130,MATCH(CONCATENATE(T11,$AE$1),Přehled_body!$A$1:$A$130,0),COLUMN(Přehled_body!EE12))+F11)","v":50566.000000100998},null,null,null,null,"Zdenek Kanaďan",49933.600000090999,49933.600000090999,"Zdenek Kanaďan",50332.000000091,50332.000000091,"Pavel Pernekr",{"$f":"IF(INDEX(Tabulka!$AG$4:$AG$83,MATCH(List4!D11,Tabulka!$A$4:$A$83,0)-1,1)<1,-90000+E11,INDEX(Tabulka!$AG$4:$AG$83,MATCH(List4!D11,Tabulka!$A$4:$A$83,0)-1,1)+E11)","v":-90000.000000101005},null,"Zdenek Kanaďan",0.99999993899999995,{"$f":"IF(ROUND(ABS(AE11),0)=ABS(90000),\"Neklas\",IF(OR($AM$1=\"Výhry\",$AM$1=\"Poč. kol\")=TRUE,IF(LARGE($AE$2:$AE$17,Y11)>30000,50000-LARGE($AE$2:$AE$17,Y11),LARGE($AE$2:$AE$17,Y11)),IF(SMALL($AE$2:$AE$17,Y11)>30000,SMALL($AE$2:$AE$17,Y11)-50000,SMALL($AE$2:$AE$17,Y11))))","v":332.0000000910004},true,{"$f":"IF(LARGE($AE$2:$AE$17,Y11)>30000,50000-LARGE($AE$2:$AE$17,Y11),LARGE($AE$2:$AE$17,Y11))","v":3399.000000041}]
[{"$f":"INDEX(Tabulka!$A$2:$A$125,MATCH(B12,Tabulka!$A$2:$A$125,0)-1,1)","v":"Standa Roth"},{"$f":"Tabulka!$A$61","v":"Roth Standa"},{"$f":"IF(INDEX(Tabulka!$A$2:$AN$180,MATCH(D12,Tabulka!$A$2:$A$180,0)-1,33)<1,-90000,IF(INDEX(Tabulka!$A$2:$AN$180,MATCH(D12,Tabulka!$A$2:$A$180,0)-1,33)=1,-50000+INDEX(Tabulka!$A$2:$AN$180,MATCH(D12,Tabulka!$A$2:$A$180,0),32),INDEX(Tabulka!$A$2:$AN$180,MATCH(D12,Tabulka!$A$2:$A$180,0),32)))+E12","v":9.9999998889199997},"Standa Roth",-1.1099999999999997E-7,1.1099999999999997E-7,"Standa Roth-0,000000111",{"$f":"IF(ISERROR(MATCH(D12,Tabulka!$A$4:$A$84,0)),,MATCH(D12,Tabulka!$A$4:$A$84,0))","v":57},{"$f":"INDEX(Přehled_body!$EG$3:$EH$130,MATCH(List4!J5,Přehled_body!$EH$3:$EH$130,0),1)","v":49.260869565217391},"Míra Chalupník",-50002.000000040985,{"$f":"INDEX(Tabulka!$A$4:$AH$84,MATCH(J12,Tabulka!$A$4:$A$84,0),32)+INDEX($D$2:$E$17,MATCH(J12,$D$2:$D$17,0),2)","v":-2.0000000409854479},-100004.00000019297,{"$f":"IF(INDEX(Tabulka!$A$2:$AN$180,MATCH(J12,Tabulka!$A$2:$A$180,0)+3,34)<1,-90000,IF(AND(INDEX(Tabulka!$A$2:$AN$180,MATCH(J12,Tabulka!$A$2:$A$180,0)+3,34)>=0,INDEX(Tabulka!$A$2:$AN$180,MATCH(J12,Tabulka!$A$2:$A$180,0)+3,34)<=4),-50000+INDEX(Tabulka!$A$2:$AN$180,MATCH(J12,Tabulka!$A$2:$A$180,0)+3,34),INDEX(Tabulka!$A$2:$AN$180,MATCH(J12,Tabulka!$A$2:$A$180,0)+3,34)))+E12","v":-49996.000000111002},{"$f":"IF(INDEX(Tabulka!$A$2:$AN$180,MATCH(J12,Tabulka!$A$2:$A$180,0),38)<1,-90000,IF(AND(INDEX(Tabulka!$A$2:$AN$180,MATCH(J12,Tabulka!$A$2:$A$180,0),38)>=0,INDEX(Tabulka!$A$2:$AN$180,MATCH(J12,Tabulka!$A$2:$A$180,0),38)<2),-50000-INDEX(Tabulka!$A$2:$AN$180,MATCH(J12,Tabulka!$A$2:$A$180,0),34),INDEX(Tabulka!$A$2:$AN$180,MATCH(J12,Tabulka!$A$2:$A$180,0),34)))+E12","v":-50002.000000111002},{"$f":"IF(INDEX(Tabulka!$A$2:$AN$180,MATCH(J12,Tabulka!$A$2:$A$180,0)+3,34)<1,-90000,IF(AND(INDEX(Tabulka!$A$2:$AN$180,MATCH(J12,Tabulka!$A$2:$A$180,0)+3,34)>=0,INDEX(Tabulka!$A$2:$AN$180,MATCH(J12,Tabulka!$A$2:$A$180,0)+3,34)<=6),-50000+INDEX(Tabulka!$A$2:$AN$180,MATCH(J12,Tabulka!$A$2:$A$180,0)+2,30),INDEX(Tabulka!$A$2:$AN$180,MATCH(J12,Tabulka!$A$2:$A$180,0)+2,34)))+F12","v":-49999.999999888998},{"$f":"IF(INDEX(Tabulka!$A$2:$AN$180,MATCH(J12,Tabulka!$A$2:$A$180,0)+3,34)<1,-90000,IF(AND(INDEX(Tabulka!$A$2:$AN$180,MATCH(J12,Tabulka!$A$2:$A$180,0)+3,34)>=0,INDEX(Tabulka!$A$2:$AN$180,MATCH(J12,Tabulka!$A$2:$A$180,0)+3,34)<=6),-50000+INDEX(Tabulka!$A$2:$AN$180,MATCH(J12,Tabulka!$A$2:$A$180,0)+1,30),INDEX(Tabulka!$A$2:$AN$180,MATCH(J12,Tabulka!$A$2:$A$180,0)+1,34)))+E12","v":-50000.000000111002},-5000200000.0040989,{"$f":"IFERROR(INDEX(Přehled_body!$A$4:$EF$130,MATCH(CONCATENATE(T12,$S$1),Přehled_body!$A$4:$A$130,0),31),\"Neklas\")+E12","v":-1.1099999999999997E-7},"Míra Chalupník",-5000200000.0040989,-50002.000000040985,50002.000000040985,{"$f":"IF(AND(INDEX(Přehled_body!$A$1:$EF$130,MATCH(CONCATENATE(T12,$AB$1),Přehled_body!$A$1:$A$130,0),COLUMN(Přehled_body!EE13))+E12<-29888,$X$1<>\"Výhry\",$X$1<>\"Poč. kol\"),(INDEX(Přehled_body!$A$1:$EF$130,MATCH(CONCATENATE(T12,$AB$1),Přehled_body!$A$1:$A$130,0),COLUMN(Přehled_body!EE13)))*-1+F12,INDEX(Přehled_body!$A$1:$EF$130,MATCH(CONCATENATE(T12,$AB$1),Přehled_body!$A$1:$A$130,0),COLUMN(Přehled_body!EE13))+E12)","v":-50000.000000111002},11,-50000.000000111002,null,{"$f":"INDEX(Tabulka!$A$4:$AH$84,MATCH($P77,Tabulka!$A$4:$A$84,0),34)+INDEX($D$2:$F$17,MATCH($P77,$D$2:$D$17,0),3)","v":2.0000000409999998},"Míra Chalupník",{"$f":"IFERROR(IF(AND(INDEX(Přehled_body!$A$1:$EF$130,MATCH(CONCATENATE(T12,$AD$1),Přehled_body!$A$1:$A$130,0),COLUMN(Přehled_body!$EE13))+$F12<-29888,$AD$1<>\"Výhry\",$AD$1<>\"Poč. kol\"),(INDEX(Přehled_body!$A$1:$EF$130,MATCH(CONCATENATE(T12,$AD$1),Přehled_body!$A$1:$A$130,0),COLUMN(Přehled_body!$EE13)))*-1+$F12,INDEX(Přehled_body!$A$1:$EF$130,MATCH(CONCATENATE(T12,$AD$1),Přehled_body!$A$1:$A$130,0),COLUMN(Přehled_body!$EE13))+$F12),INDEX($F$2:$F$17,MATCH($AC12,$D$2:$D$17,0),1))","v":50081.250000111002},{"$f":"IF(AND(INDEX(Přehled_body!$A$1:$EF$130,MATCH(CONCATENATE(T12,$AE$1),Přehled_body!$A$1:$A$130,0),COLUMN(Přehled_body!EE13))+F12<-40000,$AE$1<>\"Výhry\",$AE$1<>\"Poč. kol\"),(INDEX(Přehled_body!$A$1:$EF$130,MATCH(CONCATENATE(T12,$AE$1),Přehled_body!$A$1:$A$130,0),COLUMN(Přehled_body!EE13)))*-1+F12,INDEX(Přehled_body!$A$1:$EF$130,MATCH(CONCATENATE(T12,$AE$1),Přehled_body!$A$1:$A$130,0),COLUMN(Přehled_body!EE13))+F12)","v":50325.000000111002},null,null,null,null,"Míra Chalupník",50081.250000111002,50081.250000111002,"Karel Karl",50566.000000100998,50566.000000100998,"Standa Roth",{"$f":"IF(INDEX(Tabulka!$AG$4:$AG$83,MATCH(List4!D12,Tabulka!$A$4:$A$83,0)-1,1)<1,-90000+E12,INDEX(Tabulka!$AG$4:$AG$83,MATCH(List4!D12,Tabulka!$A$4:$A$83,0)-1,1)+E12)","v":14.999999889},null,"Karel Karl",0.99999992900000001,566.00000010099757,true,3057.0000000310001]
[{"$f":"INDEX(Tabulka!$A$2:$A$125,MATCH(B13,Tabulka!$A$2:$A$125,0)-1,1)","v":"Kuba Šedivý"},{"$f":"Tabulka!$A$56","v":"Šedivý Kuba"},{"$f":"IF(INDEX(Tabulka!$A$2:$AN$180,MATCH(D13,Tabulka!$A$2:$A$180,0)-1,33)<1,-90000,IF(INDEX(Tabulka!$A$2:$AN$180,MATCH(D13,Tabulka!$A$2:$A$180,0)-1,33)=1,-50000+INDEX(Tabulka!$A$2:$AN$180,MATCH(D13,Tabulka!$A$2:$A$180,0),32),INDEX(Tabulka!$A$2:$AN$180,MATCH(D13,Tabulka!$A$2:$A$180,0),32)))+E13","v":3.8999998789800001},"Kuba Šedivý",-1.2099999999999998E-7,1.2099999999999998E-7,"Kuba Šedivý-0,000000121",{"$f":"IF(ISERROR(MATCH(D13,Tabulka!$A$4:$A$84,0)),,MATCH(D13,Tabulka!$A$4:$A$84,0))","v":52},{"$f":"INDEX(Přehled_body!$EG$3:$EH$130,MATCH(List4!J11,Přehled_body!$EH$3:$EH$130,0),1)","v":141.5},"Petr Šum",-50004.000000150983,{"$f":"INDEX(Tabulka!$A$4:$AH$84,MATCH(J13,Tabulka!$A$4:$A$84,0),32)+INDEX($D$2:$E$17,MATCH(J13,$D$2:$D$17,0),2)","v":-4.0000001509854481},-100008.00000042298,{"$f":"IF(INDEX(Tabulka!$A$2:$AN$180,MATCH(J13,Tabulka!$A$2:$A$180,0)+3,34)<1,-90000,IF(AND(INDEX(Tabulka!$A$2:$AN$180,MATCH(J13,Tabulka!$A$2:$A$180,0)+3,34)>=0,INDEX(Tabulka!$A$2:$AN$180,MATCH(J13,Tabulka!$A$2:$A$180,0)+3,34)<=4),-50000+INDEX(Tabulka!$A$2:$AN$180,MATCH(J13,Tabulka!$A$2:$A$180,0)+3,34),INDEX(Tabulka!$A$2:$AN$180,MATCH(J13,Tabulka!$A$2:$A$180,0)+3,34)))+E13","v":-49996.000000120999},{"$f":"IF(INDEX(Tabulka!$A$2:$AN$180,MATCH(J13,Tabulka!$A$2:$A$180,0),38)<1,-90000,IF(AND(INDEX(Tabulka!$A$2:$AN$180,MATCH(J13,Tabulka!$A$2:$A$180,0),38)>=0,INDEX(Tabulka!$A$2:$AN$180,MATCH(J13,Tabulka!$A$2:$A$180,0),38)<2),-50000-INDEX(Tabulka!$A$2:$AN$180,MATCH(J13,Tabulka!$A$2:$A$180,0),34),INDEX(Tabulka!$A$2:$AN$180,MATCH(J13,Tabulka!$A$2:$A$180,0),34)))+E13","v":-50004.000000120999},{"$f":"IF(INDEX(Tabulka!$A$2:$AN$180,MATCH(J13,Tabulka!$A$2:$A$180,0)+3,34)<1,-90000,IF(AND(INDEX(Tabulka!$A$2:$AN$180,MATCH(J13,Tabulka!$A$2:$A$180,0)+3,34)>=0,INDEX(Tabulka!$A$2:$AN$180,MATCH(J13,Tabulka!$A$2:$A$180,0)+3,34)<=6),-50000+INDEX(Tabulka!$A$2:$AN$180,MATCH(J13,Tabulka!$A$2:$A$180,0)+2,30),INDEX(Tabulka!$A$2:$AN$180,MATCH(J13,Tabulka!$A$2:$A$180,0)+2,34)))+F13","v":-49999.999999879001},{"$f":"IF(INDEX(Tabulka!$A$2:$AN$180,MATCH(J13,Tabulka!$A$2:$A$180,0)+3,34)<1,-90000,IF(AND(INDEX(Tabulka!$A$2:$AN$180,MATCH(J13,Tabulka!$A$2:$A$180,0)+3,34)>=0,INDEX(Tabulka!$A$2:$AN$180,MATCH(J13,Tabulka!$A$2:$A$180,0)+3,34)<=6),-50000+INDEX(Tabulka!$A$2:$AN$180,MATCH(J13,Tabulka!$A$2:$A$180,0)+1,30),INDEX(Tabulka!$A$2:$AN$180,MATCH(J13,Tabulka!$A$2:$A$180,0)+1,34)))+E13","v":-50000.000000120999},-5000400000.0150986,{"$f":"IFERROR(INDEX(Přehled_body!$A$4:$EF$130,MATCH(CONCATENATE(T13,$S$1),Přehled_body!$A$4:$A$130,0),31),\"Neklas\")+E13","v":-1.2099999999999998E-7},"Petr Šum",-5000400000.0150986,-50004.000000150983,50004.000000150983,{"$f":"IF(AND(INDEX(Přehled_body!$A$1:$EF$130,MATCH(CONCATENATE(T13,$AB$1),Přehled_body!$A$1:$A$130,0),COLUMN(Přehled_body!EE14))+E13<-29888,$X$1<>\"Výhry\",$X$1<>\"Poč. kol\"),(INDEX(Přehled_body!$A$1:$EF$130,MATCH(CONCATENATE(T13,$AB$1),Přehled_body!$A$1:$A$130,0),COLUMN(Přehled_body!EE14)))*-1+F13,INDEX(Přehled_body!$A$1:$EF$130,MATCH(CONCATENATE(T13,$AB$1),Přehled_body!$A$1:$A$130,0),COLUMN(Přehled_body!EE14))+E13)","v":-50000.000000120999},12,-50000.000000120999,null,{"$f":"INDEX(Tabulka!$A$4:$AH$84,MATCH($P78,Tabulka!$A$4:$A$84,0),34)+INDEX($D$2:$F$17,MATCH($P78,$D$2:$D$17,0),3)","v":4.0000001510000001},"Petr Šum",{"$f":"IFERROR(IF(AND(INDEX(Přehled_body!$A$1:$EF$130,MATCH(CONCATENATE(T13,$AD$1),Přehled_body!$A$1:$A$130,0),COLUMN(Přehled_body!$EE14))+$F13<-29888,$AD$1<>\"Výhry\",$AD$1<>\"Poč. kol\"),(INDEX(Přehled_body!$A$1:$EF$130,MATCH(CONCATENATE(T13,$AD$1),Přehled_body!$A$1:$A$130,0),COLUMN(Přehled_body!$EE14)))*-1+$F13,INDEX(Přehled_body!$A$1:$EF$130,MATCH(CONCATENATE(T13,$AD$1),Přehled_body!$A$1:$A$130,0),COLUMN(Přehled_body!$EE14))+$F13),INDEX($F$2:$F$17,MATCH($AC13,$D$2:$D$17,0),1))","v":49843.250000120999},{"$f":"IF(AND(INDEX(Přehled_body!$A$1:$EF$130,MATCH(CONCATENATE(T13,$AE$1),Přehled_body!$A$1:$A$130,0),COLUMN(Přehled_body!EE14))+F13<-40000,$AE$1<>\"Výhry\",$AE$1<>\"Poč. kol\"),(INDEX(Přehled_body!$A$1:$EF$130,MATCH(CONCATENATE(T13,$AE$1),Přehled_body!$A$1:$A$130,0),COLUMN(Přehled_body!EE14)))*-1+F13,INDEX(Přehled_body!$A$1:$EF$130,MATCH(CONCATENATE(T13,$AE$1),Přehled_body!$A$1:$A$130,0),COLUMN(Přehled_body!EE14))+F13)","v":50627.000000120999},null,null,null,null,"Karel Karl",50141.500000100998,50141.500000100998,"Petr Šum",50627.000000120999,50627.000000120999,"Kuba Šedivý",{"$f":"IF(INDEX(Tabulka!$AG$4:$AG$83,MATCH(List4!D13,Tabulka!$A$4:$A$83,0)-1,1)<1,-90000+E13,INDEX(Tabulka!$AG$4:$AG$83,MATCH(List4!D13,Tabulka!$A$4:$A$83,0)-1,1)+E13)","v":2.9999998790000002},null,"Petr Šum",0.99999984900000005,627.00000012099918,true,2942.0000000209998]
[{"$f":"INDEX(Tabulka!$A$2:$A$125,MATCH(B14,Tabulka!$A$2:$A$125,0)-1,1)","v":"Míra Šedivý"},{"$f":"Tabulka!$A$31","v":"Šedivý Míra"},{"$f":"IF(INDEX(Tabulka!$A$2:$AN$180,MATCH(D14,Tabulka!$A$2:$A$180,0)-1,33)<1,-90000,IF(INDEX(Tabulka!$A$2:$AN$180,MATCH(D14,Tabulka!$A$2:$A$180,0)-1,33)=1,-50000+INDEX(Tabulka!$A$2:$AN$180,MATCH(D14,Tabulka!$A$2:$A$180,0),32),INDEX(Tabulka!$A$2:$AN$180,MATCH(D14,Tabulka!$A$2:$A$180,0),32)))+E14","v":-1.00000013097},"Míra Šedivý",-1.31E-7,1.31E-7,"Míra Šedivý-0,000000131",{"$f":"IF(ISERROR(MATCH(D14,Tabulka!$A$4:$A$84,0)),,MATCH(D14,Tabulka!$A$4:$A$84,0))","v":27},{"$f":"INDEX(Přehled_body!$EG$3:$EH$130,MATCH(List4!J9,Přehled_body!$EH$3:$EH$130,0),1)","v":71.782608695652172},"Jiří Fiala",-90000.000000020998,{"$f":"INDEX(Tabulka!$A$4:$AH$84,MATCH(J14,Tabulka!$A$4:$A$84,0),32)+INDEX($D$2:$E$17,MATCH(J14,$D$2:$D$17,0),2)","v":-2.0999999999999999E-8},-180000.00000017299,{"$f":"IF(INDEX(Tabulka!$A$2:$AN$180,MATCH(J14,Tabulka!$A$2:$A$180,0)+3,34)<1,-90000,IF(AND(INDEX(Tabulka!$A$2:$AN$180,MATCH(J14,Tabulka!$A$2:$A$180,0)+3,34)>=0,INDEX(Tabulka!$A$2:$AN$180,MATCH(J14,Tabulka!$A$2:$A$180,0)+3,34)<=4),-50000+INDEX(Tabulka!$A$2:$AN$180,MATCH(J14,Tabulka!$A$2:$A$180,0)+3,34),INDEX(Tabulka!$A$2:$AN$180,MATCH(J14,Tabulka!$A$2:$A$180,0)+3,34)))+E14","v":-90000.000000130996},{"$f":"IF(INDEX(Tabulka!$A$2:$AN$180,MATCH(J14,Tabulka!$A$2:$A$180,0),38)<1,-90000,IF(AND(INDEX(Tabulka!$A$2:$AN$180,MATCH(J14,Tabulka!$A$2:$A$180,0),38)>=0,INDEX(Tabulka!$A$2:$AN$180,MATCH(J14,Tabulka!$A$2:$A$180,0),38)<2),-50000-INDEX(Tabulka!$A$2:$AN$180,MATCH(J14,Tabulka!$A$2:$A$180,0),34),INDEX(Tabulka!$A$2:$AN$180,MATCH(J14,Tabulka!$A$2:$A$180,0),34)))+E14","v":-90000.000000130996},{"$f":"IF(INDEX(Tabulka!$A$2:$AN$180,MATCH(J14,Tabulka!$A$2:$A$180,0)+3,34)<1,-90000,IF(AND(INDEX(Tabulka!$A$2:$AN$180,MATCH(J14,Tabulka!$A$2:$A$180,0)+3,34)>=0,INDEX(Tabulka!$A$2:$AN$180,MATCH(J14,Tabulka!$A$2:$A$180,0)+3,34)<=6),-50000+INDEX(Tabulka!$A$2:$AN$180,MATCH(J14,Tabulka!$A$2:$A$180,0)+2,30),INDEX(Tabulka!$A$2:$AN$180,MATCH(J14,Tabulka!$A$2:$A$180,0)+2,34)))+F14","v":-89999.999999869004},{"$f":"IF(INDEX(Tabulka!$A$2:$AN$180,MATCH(J14,Tabulka!$A$2:$A$180,0)+3,34)<1,-90000,IF(AND(INDEX(Tabulka!$A$2:$AN$180,MATCH(J14,Tabulka!$A$2:$A$180,0)+3,34)>=0,INDEX(Tabulka!$A$2:$AN$180,MATCH(J14,Tabulka!$A$2:$A$180,0)+3,34)<=6),-50000+INDEX(Tabulka!$A$2:$AN$180,MATCH(J14,Tabulka!$A$2:$A$180,0)+1,30),INDEX(Tabulka!$A$2:$AN$180,MATCH(J14,Tabulka!$A$2:$A$180,0)+1,34)))+E14","v":-90000.000000130996},-9000000000.0021,{"$f":"IFERROR(INDEX(Přehled_body!$A$4:$EF$130,MATCH(CONCATENATE(T14,$S$1),Přehled_body!$A$4:$A$130,0),31),\"Neklas\")+E14","v":-1.31E-7},"Jiří Fiala",-9000000000.0021,-90000.000000020998,90000.000000020998,{"$f":"IF(AND(INDEX(Přehled_body!$A$1:$EF$130,MATCH(CONCATENATE(T14,$AB$1),Přehled_body!$A$1:$A$130,0),COLUMN(Přehled_body!EE15))+E14<-29888,$X$1<>\"Výhry\",$X$1<>\"Poč. kol\"),(INDEX(Přehled_body!$A$1:$EF$130,MATCH(CONCATENATE(T14,$AB$1),Přehled_body!$A$1:$A$130,0),COLUMN(Přehled_body!EE15)))*-1+F14,INDEX(Přehled_body!$A$1:$EF$130,MATCH(CONCATENATE(T14,$AB$1),Přehled_body!$A$1:$A$130,0),COLUMN(Přehled_body!EE15))+E14)","v":-90000.000000130996},13,-90000.000000130996,null,{"$f":"INDEX(Tabulka!$A$4:$AH$84,MATCH($P79,Tabulka!$A$4:$A$84,0),34)+INDEX($D$2:$F$17,MATCH($P79,$D$2:$D$17,0),3)","v":2.0999999999999999E-8},"Jiří Fiala",{"$f":"IFERROR(IF(AND(INDEX(Přehled_body!$A$1:$EF$130,MATCH(CONCATENATE(T14,$AD$1),Přehled_body!$A$1:$A$130,0),COLUMN(Přehled_body!$EE15))+$F14<-29888,$AD$1<>\"Výhry\",$AD$1<>\"Poč. kol\"),(INDEX(Přehled_body!$A$1:$EF$130,MATCH(CONCATENATE(T14,$AD$1),Přehled_body!$A$1:$A$130,0),COLUMN(Přehled_body!$EE15)))*-1+$F14,INDEX(Přehled_body!$A$1:$EF$130,MATCH(CONCATENATE(T14,$AD$1),Přehled_body!$A$1:$A$130,0),COLUMN(Přehled_body!$EE15))+$F14),INDEX($F$2:$F$17,MATCH($AC14,$D$2:$D$17,0),1))","v":90000.000000130996},{"$f":"IF(AND(INDEX(Přehled_body!$A$1:$EF$130,MATCH(CONCATENATE(T14,$AE$1),Přehled_body!$A$1:$A$130,0),COLUMN(Přehled_body!EE15))+F14<-40000,$AE$1<>\"Výhry\",$AE$1<>\"Poč. kol\"),(INDEX(Přehled_body!$A$1:$EF$130,MATCH(CONCATENATE(T14,$AE$1),Přehled_body!$A$1:$A$130,0),COLUMN(Přehled_body!EE15)))*-1+F14,INDEX(Přehled_body!$A$1:$EF$130,MATCH(CONCATENATE(T14,$AE$1),Přehled_body!$A$1:$A$130,0),COLUMN(Přehled_body!EE15))+F14)","v":90000.000000130996},null,null,null,null,"Jiří Fiala","Neklas",90000.000000130996,"Jiří Fiala","Neklas",90000.000000130996,"Míra Šedivý",{"$f":"IF(INDEX(Tabulka!$AG$4:$AG$83,MATCH(List4!D14,Tabulka!$A$4:$A$83,0)-1,1)<1,-90000+E14,INDEX(Tabulka!$AG$4:$AG$83,MATCH(List4!D14,Tabulka!$A$4:$A$83,0)-1,1)+E14)","v":6.9999998689999998},null,"Jiří Fiala",-90000.000000020998,"Neklas",true,2745.0000000109999]
[{"$f":"INDEX(Tabulka!$A$2:$A$125,MATCH(B15,Tabulka!$A$2:$A$125,0)-1,1)","v":"Adam Šmíd"},{"$f":"Tabulka!$A$41","v":"Šmíd Adam"},{"$f":"IF(INDEX(Tabulka!$A$2:$AN$180,MATCH(D15,Tabulka!$A$2:$A$180,0)-1,33)<1,-90000,IF(INDEX(Tabulka!$A$2:$AN$180,MATCH(D15,Tabulka!$A$2:$A$180,0)-1,33)=1,-50000+INDEX(Tabulka!$A$2:$AN$180,MATCH(D15,Tabulka!$A$2:$A$180,0),32),INDEX(Tabulka!$A$2:$AN$180,MATCH(D15,Tabulka!$A$2:$A$180,0),32)))+E15","v":-7.0000001409500001},"Adam Šmíd",-1.4100000000000001E-7,1.4100000000000001E-7,"Adam Šmíd-0,000000141",{"$f":"IF(ISERROR(MATCH(D15,Tabulka!$A$4:$A$84,0)),,MATCH(D15,Tabulka!$A$4:$A$84,0))","v":37},{"$f":"INDEX(Přehled_body!$EG$3:$EH$130,MATCH(List4!J12,Přehled_body!$EH$3:$EH$130,0),1)","v":81.25},"Iva Ivanka",-90000.000000051004,{"$f":"INDEX(Tabulka!$A$4:$AH$84,MATCH(J15,Tabulka!$A$4:$A$84,0),32)+INDEX($D$2:$E$17,MATCH(J15,$D$2:$D$17,0),2)","v":-5.0999999999999993E-8},-180000.00000024299,{"$f":"IF(INDEX(Tabulka!$A$2:$AN$180,MATCH(J15,Tabulka!$A$2:$A$180,0)+3,34)<1,-90000,IF(AND(INDEX(Tabulka!$A$2:$AN$180,MATCH(J15,Tabulka!$A$2:$A$180,0)+3,34)>=0,INDEX(Tabulka!$A$2:$AN$180,MATCH(J15,Tabulka!$A$2:$A$180,0)+3,34)<=4),-50000+INDEX(Tabulka!$A$2:$AN$180,MATCH(J15,Tabulka!$A$2:$A$180,0)+3,34),INDEX(Tabulka!$A$2:$AN$180,MATCH(J15,Tabulka!$A$2:$A$180,0)+3,34)))+E15","v":-90000.000000140994},{"$f":"IF(INDEX(Tabulka!$A$2:$AN$180,MATCH(J15,Tabulka!$A$2:$A$180,0),38)<1,-90000,IF(AND(INDEX(Tabulka!$A$2:$AN$180,MATCH(J15,Tabulka!$A$2:$A$180,0),38)>=0,INDEX(Tabulka!$A$2:$AN$180,MATCH(J15,Tabulka!$A$2:$A$180,0),38)<2),-50000-INDEX(Tabulka!$A$2:$AN$180,MATCH(J15,Tabulka!$A$2:$A$180,0),34),INDEX(Tabulka!$A$2:$AN$180,MATCH(J15,Tabulka!$A$2:$A$180,0),34)))+E15","v":-90000.000000140994},{"$f":"IF(INDEX(Tabulka!$A$2:$AN$180,MATCH(J15,Tabulka!$A$2:$A$180,0)+3,34)<1,-90000,IF(AND(INDEX(Tabulka!$A$2:$AN$180,MATCH(J15,Tabulka!$A$2:$A$180,0)+3,34)>=0,INDEX(Tabulka!$A$2:$AN$180,MATCH(J15,Tabulka!$A$2:$A$180,0)+3,34)<=6),-50000+INDEX(Tabulka!$A$2:$AN$180,MATCH(J15,Tabulka!$A$2:$A$180,0)+2,30),INDEX(Tabulka!$A$2:$AN$180,MATCH(J15,Tabulka!$A$2:$A$180,0)+2,34)))+F15","v":-89999.999999859006},{"$f":"IF(INDEX(Tabulka!$A$2:$AN$180,MATCH(J15,Tabulka!$A$2:$A$180,0)+3,34)<1,-90000,IF(AND(INDEX(Tabulka!$A$2:$AN$180,MATCH(J15,Tabulka!$A$2:$A$180,0)+3,34)>=0,INDEX(Tabulka!$A$2:$AN$180,MATCH(J15,Tabulka!$A$2:$A$180,0)+3,34)<=6),-50000+INDEX(Tabulka!$A$2:$AN$180,MATCH(J15,Tabulka!$A$2:$A$180,0)+1,30),INDEX(Tabulka!$A$2:$AN$180,MATCH(J15,Tabulka!$A$2:$A$180,0)+1,34)))+E15","v":-90000.000000140994},-9000000000.0051003,{"$f":"IFERROR(INDEX(Přehled_body!$A$4:$EF$130,MATCH(CONCATENATE(T15,$S$1),Přehled_body!$A$4:$A$130,0),31),\"Neklas\")+E15","v":-1.4100000000000001E-7},"Iva Ivanka",-9000000000.0051003,-90000.000000051004,90000.000000051004,{"$f":"IF(AND(INDEX(Přehled_body!$A$1:$EF$130,MATCH(CONCATENATE(T15,$AB$1),Přehled_body!$A$1:$A$130,0),COLUMN(Přehled_body!EE16))+E15<-29888,$X$1<>\"Výhry\",$X$1<>\"Poč. kol\"),(INDEX(Přehled_body!$A$1:$EF$130,MATCH(CONCATENATE(T15,$AB$1),Přehled_body!$A$1:$A$130,0),COLUMN(Přehled_body!EE16)))*-1+F15,INDEX(Přehled_body!$A$1:$EF$130,MATCH(CONCATENATE(T15,$AB$1),Přehled_body!$A$1:$A$130,0),COLUMN(Přehled_body!EE16))+E15)","v":-90000.000000140994},14,-90000.000000140994,null,{"$f":"INDEX(Tabulka!$A$4:$AH$84,MATCH($P80,Tabulka!$A$4:$A$84,0),34)+INDEX($D$2:$F$17,MATCH($P80,$D$2:$D$17,0),3)","v":5.0999999999999993E-8},"Iva Ivanka",{"$f":"IFERROR(IF(AND(INDEX(Přehled_body!$A$1:$EF$130,MATCH(CONCATENATE(T15,$AD$1),Přehled_body!$A$1:$A$130,0),COLUMN(Přehled_body!$EE16))+$F15<-29888,$AD$1<>\"Výhry\",$AD$1<>\"Poč. kol\"),(INDEX(Přehled_body!$A$1:$EF$130,MATCH(CONCATENATE(T15,$AD$1),Přehled_body!$A$1:$A$130,0),COLUMN(Přehled_body!$EE16)))*-1+$F15,INDEX(Přehled_body!$A$1:$EF$130,MATCH(CONCATENATE(T15,$AD$1),Přehled_body!$A$1:$A$130,0),COLUMN(Přehled_body!$EE16))+$F15),INDEX($F$2:$F$17,MATCH($AC15,$D$2:$D$17,0),1))","v":90000.000000140994},{"$f":"IF(AND(INDEX(Přehled_body!$A$1:$EF$130,MATCH(CONCATENATE(T15,$AE$1),Přehled_body!$A$1:$A$130,0),COLUMN(Přehled_body!EE16))+F15<-40000,$AE$1<>\"Výhry\",$AE$1<>\"Poč. kol\"),(INDEX(Přehled_body!$A$1:$EF$130,MATCH(CONCATENATE(T15,$AE$1),Přehled_body!$A$1:$A$130,0),COLUMN(Přehled_body!EE16)))*-1+F15,INDEX(Přehled_body!$A$1:$EF$130,MATCH(CONCATENATE(T15,$AE$1),Přehled_body!$A$1:$A$130,0),COLUMN(Přehled_body!EE16))+F15)","v":90000.000000140994},null,null,null,null,"Iva Ivanka","Neklas",90000.000000140994,"Iva Ivanka",{"$f":"IF(ROUND(ABS(AE15),0)=ABS(90000),\"Neklas\",IF(OR($AM$1=\"Výhry\",$AM$1=\"Poč. kol\")=TRUE,LARGE($AE$2:$AE$17,Y15),SMALL($AE$2:$AE$17,Y15)))","v":"Neklas"},90000.000000140994,"Adam Šmíd",{"$f":"IF(INDEX(Tabulka!$AG$4:$AG$83,MATCH(List4!D15,Tabulka!$A$4:$A$83,0)-1,1)<1,-90000+E15,INDEX(Tabulka!$AG$4:$AG$83,MATCH(List4!D15,Tabulka!$A$4:$A$83,0)-1,1)+E15)","v":9.9999998590000008},null,"Iva Ivanka",-90000.000000051004,"Neklas",true,1994.000000061]
[{"$f":"INDEX(Tabulka!$A$2:$A$125,MATCH(B16,Tabulka!$A$2:$A$125,0)-1,1)","v":"Petr Šum"},{"$f":"Tabulka!$A$16","v":"Šum Petr"},{"$f":"IF(INDEX(Tabulka!$A$2:$AN$180,MATCH(D16,Tabulka!$A$2:$A$180,0)-1,33)<1,-90000,IF(INDEX(Tabulka!$A$2:$AN$180,MATCH(D16,Tabulka!$A$2:$A$180,0)-1,33)=1,-50000+INDEX(Tabulka!$A$2:$AN$180,MATCH(D16,Tabulka!$A$2:$A$180,0),32),INDEX(Tabulka!$A$2:$AN$180,MATCH(D16,Tabulka!$A$2:$A$180,0),32)))+E16","v":-50004.000000150983},"Petr Šum",-1.5100000000000002E-7,1.5100000000000002E-7,"Petr Šum-0,000000151",{"$f":"IF(ISERROR(MATCH(D16,Tabulka!$A$4:$A$84,0)),,MATCH(D16,Tabulka!$A$4:$A$84,0))","v":12},{"$f":"INDEX(Přehled_body!$EG$3:$EH$130,MATCH(List4!J14,Přehled_body!$EH$3:$EH$130,0),1)","v":0},"Míra Kulhan",-90000.000000090993,{"$f":"INDEX(Tabulka!$A$4:$AH$84,MATCH(J16,Tabulka!$A$4:$A$84,0),32)+INDEX($D$2:$E$17,MATCH(J16,$D$2:$D$17,0),2)","v":-9.0999999999999981E-8},-180000.00000033301,{"$f":"IF(INDEX(Tabulka!$A$2:$AN$180,MATCH(J16,Tabulka!$A$2:$A$180,0)+3,34)<1,-90000,IF(AND(INDEX(Tabulka!$A$2:$AN$180,MATCH(J16,Tabulka!$A$2:$A$180,0)+3,34)>=0,INDEX(Tabulka!$A$2:$AN$180,MATCH(J16,Tabulka!$A$2:$A$180,0)+3,34)<=4),-50000+INDEX(Tabulka!$A$2:$AN$180,MATCH(J16,Tabulka!$A$2:$A$180,0)+3,34),INDEX(Tabulka!$A$2:$AN$180,MATCH(J16,Tabulka!$A$2:$A$180,0)+3,34)))+E16","v":-90000.000000151005},{"$f":"IF(INDEX(Tabulka!$A$2:$AN$180,MATCH(J16,Tabulka!$A$2:$A$180,0),38)<1,-90000,IF(AND(INDEX(Tabulka!$A$2:$AN$180,MATCH(J16,Tabulka!$A$2:$A$180,0),38)>=0,INDEX(Tabulka!$A$2:$AN$180,MATCH(J16,Tabulka!$A$2:$A$180,0),38)<2),-50000-INDEX(Tabulka!$A$2:$AN$180,MATCH(J16,Tabulka!$A$2:$A$180,0),34),INDEX(Tabulka!$A$2:$AN$180,MATCH(J16,Tabulka!$A$2:$A$180,0),34)))+E16","v":-90000.000000151005},{"$f":"IF(INDEX(Tabulka!$A$2:$AN$180,MATCH(J16,Tabulka!$A$2:$A$180,0)+3,34)<1,-90000,IF(AND(INDEX(Tabulka!$A$2:$AN$180,MATCH(J16,Tabulka!$A$2:$A$180,0)+3,34)>=0,INDEX(Tabulka!$A$2:$AN$180,MATCH(J16,Tabulka!$A$2:$A$180,0)+3,34)<=6),-50000+INDEX(Tabulka!$A$2:$AN$180,MATCH(J16,Tabulka!$A$2:$A$180,0)+2,30),INDEX(Tabulka!$A$2:$AN$180,MATCH(J16,Tabulka!$A$2:$A$180,0)+2,34)))+F16","v":-89999.999999848995},{"$f":"IF(INDEX(Tabulka!$A$2:$AN$180,MATCH(J16,Tabulka!$A$2:$A$180,0)+3,34)<1,-90000,IF(AND(INDEX(Tabulka!$A$2:$AN$180,MATCH(J16,Tabulka!$A$2:$A$180,0)+3,34)>=0,INDEX(Tabulka!$A$2:$AN$180,MATCH(J16,Tabulka!$A$2:$A$180,0)+3,34)<=6),-50000+INDEX(Tabulka!$A$2:$AN$180,MATCH(J16,Tabulka!$A$2:$A$180,0)+1,30),INDEX(Tabulka!$A$2:$AN$180,MATCH(J16,Tabulka!$A$2:$A$180,0)+1,34)))+E16","v":-90000.000000151005},-9000000000.0091,{"$f":"IFERROR(INDEX(Přehled_body!$A$4:$EF$130,MATCH(CONCATENATE(T16,$S$1),Přehled_body!$A$4:$A$130,0),31),\"Neklas\")+E16","v":-1.5100000000000002E-7},"Míra Kulhan",-9000000000.0091,-90000.000000090993,90000.000000090993,{"$f":"IF(AND(INDEX(Přehled_body!$A$1:$EF$130,MATCH(CONCATENATE(T16,$AB$1),Přehled_body!$A$1:$A$130,0),COLUMN(Přehled_body!EE17))+E16<-29888,$X$1<>\"Výhry\",$X$1<>\"Poč. kol\"),(INDEX(Přehled_body!$A$1:$EF$130,MATCH(CONCATENATE(T16,$AB$1),Přehled_body!$A$1:$A$130,0),COLUMN(Přehled_body!EE17)))*-1+F16,INDEX(Přehled_body!$A$1:$EF$130,MATCH(CONCATENATE(T16,$AB$1),Přehled_body!$A$1:$A$130,0),COLUMN(Přehled_body!EE17))+E16)","v":-90000.000000151005},15,-90000.000000151005,null,{"$f":"INDEX(Tabulka!$A$4:$AH$84,MATCH($P81,Tabulka!$A$4:$A$84,0),34)+INDEX($D$2:$F$17,MATCH($P81,$D$2:$D$17,0),3)","v":9.0999999999999981E-8},"Míra Kulhan",{"$f":"IFERROR(IF(AND(INDEX(Přehled_body!$A$1:$EF$130,MATCH(CONCATENATE(T16,$AD$1),Přehled_body!$A$1:$A$130,0),COLUMN(Přehled_body!$EE17))+$F16<-29888,$AD$1<>\"Výhry\",$AD$1<>\"Poč. kol\"),(INDEX(Přehled_body!$A$1:$EF$130,MATCH(CONCATENATE(T16,$AD$1),Přehled_body!$A$1:$A$130,0),COLUMN(Přehled_body!$EE17)))*-1+$F16,INDEX(Přehled_body!$A$1:$EF$130,MATCH(CONCATENATE(T16,$AD$1),Přehled_body!$A$1:$A$130,0),COLUMN(Přehled_body!$EE17))+$F16),INDEX($F$2:$F$17,MATCH($AC16,$D$2:$D$17,0),1))","v":90000.000000151005},{"$f":"IF(AND(INDEX(Přehled_body!$A$1:$EF$130,MATCH(CONCATENATE(T16,$AE$1),Přehled_body!$A$1:$A$130,0),COLUMN(Přehled_body!EE17))+F16<-40000,$AE$1<>\"Výhry\",$AE$1<>\"Poč. kol\"),(INDEX(Přehled_body!$A$1:$EF$130,MATCH(CONCATENATE(T16,$AE$1),Přehled_body!$A$1:$A$130,0),COLUMN(Přehled_body!EE17)))*-1+F16,INDEX(Přehled_body!$A$1:$EF$130,MATCH(CONCATENATE(T16,$AE$1),Přehled_body!$A$1:$A$130,0),COLUMN(Přehled_body!EE17))+F16)","v":90000.000000151005},null,null,null,null,"Míra Kulhan","Neklas",90000.000000151005,"Míra Kulhan","Neklas",90000.000000151005,"Petr Šum",{"$f":"IF(INDEX(Tabulka!$AG$4:$AG$83,MATCH(List4!D16,Tabulka!$A$4:$A$83,0)-1,1)<1,-90000+E16,INDEX(Tabulka!$AG$4:$AG$83,MATCH(List4!D16,Tabulka!$A$4:$A$83,0)-1,1)+E16)","v":0.99999984900000005},null,"Míra Kulhan",-90000.000000090993,"Neklas",true,1828.0000000709999]
[{"$f":"INDEX(Tabulka!$A$2:$A$125,MATCH(B17,Tabulka!$A$2:$A$125,0)-1,1)","v":"Milan Veselý"},{"$f":"Tabulka!$A$26","v":"Veselý Milan"},{"$f":"IF(INDEX(Tabulka!$A$2:$AN$180,MATCH(D17,Tabulka!$A$2:$A$180,0)-1,33)<1,-90000,IF(INDEX(Tabulka!$A$2:$AN$180,MATCH(D17,Tabulka!$A$2:$A$180,0)-1,33)=1,-50000+INDEX(Tabulka!$A$2:$AN$180,MATCH(D17,Tabulka!$A$2:$A$180,0),32),INDEX(Tabulka!$A$2:$AN$180,MATCH(D17,Tabulka!$A$2:$A$180,0),32)))+E17","v":15.999999838950002},"Milan Veselý",-1.6100000000000003E-7,1.6100000000000003E-7,"Milan Veselý-0,000000161",{"$f":"IF(ISERROR(MATCH(D17,Tabulka!$A$4:$A$84,0)),,MATCH(D17,Tabulka!$A$4:$A$84,0))","v":22},{"$f":"INDEX(Přehled_body!$EG$3:$EH$130,MATCH(List4!J15,Přehled_body!$EH$3:$EH$130,0),1)","v":0},"Pavel Pernekr",-90000.000000101005,{"$f":"INDEX(Tabulka!$A$4:$AH$84,MATCH(J17,Tabulka!$A$4:$A$84,0),32)+INDEX($D$2:$E$17,MATCH(J17,$D$2:$D$17,0),2)","v":-1.0099999999999998E-7},-180000.00000036298,{"$f":"IF(INDEX(Tabulka!$A$2:$AN$180,MATCH(J17,Tabulka!$A$2:$A$180,0)+3,34)<1,-90000,IF(AND(INDEX(Tabulka!$A$2:$AN$180,MATCH(J17,Tabulka!$A$2:$A$180,0)+3,34)>=0,INDEX(Tabulka!$A$2:$AN$180,MATCH(J17,Tabulka!$A$2:$A$180,0)+3,34)<=4),-50000+INDEX(Tabulka!$A$2:$AN$180,MATCH(J17,Tabulka!$A$2:$A$180,0)+3,34),INDEX(Tabulka!$A$2:$AN$180,MATCH(J17,Tabulka!$A$2:$A$180,0)+3,34)))+E17","v":-90000.000000161002},{"$f":"IF(INDEX(Tabulka!$A$2:$AN$180,MATCH(J17,Tabulka!$A$2:$A$180,0),38)<1,-90000,IF(AND(INDEX(Tabulka!$A$2:$AN$180,MATCH(J17,Tabulka!$A$2:$A$180,0),38)>=0,INDEX(Tabulka!$A$2:$AN$180,MATCH(J17,Tabulka!$A$2:$A$180,0),38)<2),-50000-INDEX(Tabulka!$A$2:$AN$180,MATCH(J17,Tabulka!$A$2:$A$180,0),34),INDEX(Tabulka!$A$2:$AN$180,MATCH(J17,Tabulka!$A$2:$A$180,0),34)))+E17","v":-90000.000000161002},{"$f":"IF(INDEX(Tabulka!$A$2:$AN$180,MATCH(J17,Tabulka!$A$2:$A$180,0)+3,34)<1,-90000,IF(AND(INDEX(Tabulka!$A$2:$AN$180,MATCH(J17,Tabulka!$A$2:$A$180,0)+3,34)>=0,INDEX(Tabulka!$A$2:$AN$180,MATCH(J17,Tabulka!$A$2:$A$180,0)+3,34)<=6),-50000+INDEX(Tabulka!$A$2:$AN$180,MATCH(J17,Tabulka!$A$2:$A$180,0)+2,30),INDEX(Tabulka!$A$2:$AN$180,MATCH(J17,Tabulka!$A$2:$A$180,0)+2,34)))+F17","v":-89999.999999838998},{"$f":"IF(INDEX(Tabulka!$A$2:$AN$180,MATCH(J17,Tabulka!$A$2:$A$180,0)+3,34)<1,-90000,IF(AND(INDEX(Tabulka!$A$2:$AN$180,MATCH(J17,Tabulka!$A$2:$A$180,0)+3,34)>=0,INDEX(Tabulka!$A$2:$AN$180,MATCH(J17,Tabulka!$A$2:$A$180,0)+3,34)<=6),-50000+INDEX(Tabulka!$A$2:$AN$180,MATCH(J17,Tabulka!$A$2:$A$180,0)+1,30),INDEX(Tabulka!$A$2:$AN$180,MATCH(J17,Tabulka!$A$2:$A$180,0)+1,34)))+E17","v":-90000.000000161002},-9000000000.0101013,{"$f":"IFERROR(INDEX(Přehled_body!$A$4:$EF$130,MATCH(CONCATENATE(T17,$S$1),Přehled_body!$A$4:$A$130,0),31),\"Neklas\")+E17","v":-1.6100000000000003E-7},"Pavel Pernekr",-9000000000.0101013,-90000.000000101005,90000.000000101005,{"$f":"IF(AND(INDEX(Přehled_body!$A$1:$EF$130,MATCH(CONCATENATE(T17,$AB$1),Přehled_body!$A$1:$A$130,0),COLUMN(Přehled_body!EE18))+E17<-29888,$X$1<>\"Výhry\",$X$1<>\"Poč. kol\"),(INDEX(Přehled_body!$A$1:$EF$130,MATCH(CONCATENATE(T17,$AB$1),Přehled_body!$A$1:$A$130,0),COLUMN(Přehled_body!EE18)))*-1+F17,INDEX(Přehled_body!$A$1:$EF$130,MATCH(CONCATENATE(T17,$AB$1),Přehled_body!$A$1:$A$130,0),COLUMN(Přehled_body!EE18))+E17)","v":-90000.000000161002},16,-90000.000000161002,null,{"$f":"INDEX(Tabulka!$A$4:$AH$84,MATCH($P82,Tabulka!$A$4:$A$84,0),34)+INDEX($D$2:$F$17,MATCH($P82,$D$2:$D$17,0),3)","v":1.0099999999999998E-7},"Pavel Pernekr",{"$f":"IFERROR(IF(AND(INDEX(Přehled_body!$A$1:$EF$130,MATCH(CONCATENATE(T17,$AD$1),Přehled_body!$A$1:$A$130,0),COLUMN(Přehled_body!$EE18))+$F17<-29888,$AD$1<>\"Výhry\",$AD$1<>\"Poč. kol\"),(INDEX(Přehled_body!$A$1:$EF$130,MATCH(CONCATENATE(T17,$AD$1),Přehled_body!$A$1:$A$130,0),COLUMN(Přehled_body!$EE18)))*-1+$F17,INDEX(Přehled_body!$A$1:$EF$130,MATCH(CONCATENATE(T17,$AD$1),Přehled_body!$A$1:$A$130,0),COLUMN(Přehled_body!$EE18))+$F17),INDEX($F$2:$F$17,MATCH($AC17,$D$2:$D$17,0),1))","v":90000.000000161002},{"$f":"IF(AND(INDEX(Přehled_body!$A$1:$EF$130,MATCH(CONCATENATE(T17,$AE$1),Přehled_body!$A$1:$A$130,0),COLUMN(Přehled_body!EE18))+F17<-40000,$AE$1<>\"Výhry\",$AE$1<>\"Poč. kol\"),(INDEX(Přehled_body!$A$1:$EF$130,MATCH(CONCATENATE(T17,$AE$1),Přehled_body!$A$1:$A$130,0),COLUMN(Přehled_body!EE18)))*-1+F17,INDEX(Přehled_body!$A$1:$EF$130,MATCH(CONCATENATE(T17,$AE$1),Přehled_body!$A$1:$A$130,0),COLUMN(Přehled_body!EE18))+F17)","v":90000.000000161002},null,null,null,null,"Pavel Pernekr","Neklas",90000.000000161002,"Pavel Pernekr","Neklas",90000.000000161002,"Milan Veselý",{"$f":"IF(INDEX(Tabulka!$AG$4:$AG$83,MATCH(List4!D17,Tabulka!$A$4:$A$83,0)-1,1)<1,-90000+E17,INDEX(Tabulka!$AG$4:$AG$83,MATCH(List4!D17,Tabulka!$A$4:$A$83,0)-1,1)+E17)","v":16.999999839000001},null,"Pavel Pernekr",-90000.000000101005,"Neklas",true,278.00000005099997]
[]
[null,null,{"$f":"(INDEX(Tabulka!$A$2:$AJ$180,MATCH(D2,Tabulka!$A$2:$A$180,0)-1,33))","v":17},{"$f":"Tabulka!AG34","v":17},null,null,null,null,null,{"$f":"Tabulka!AG54","v":3},null,null,null,{"$f":"INDEX(Tabulka!$A$2:$AL$180,MATCH(J6,Tabulka!$A$2:$A$180,0),38)","v":3},{"$f":"ABS(O2)","v":10.99999998907},16.000000011079997,13.000000150070001]
[null,null,null,{"$f":"Tabulka!AG35","v":0},null,null,null,null,null,{"$f":"(INDEX(Tabulka!$A$2:$AN$180,MATCH(J2,Tabulka!$A$2:$A$180,0),31))","v":11.000000000069999},null,null,null,{"$f":"INDEX(Tabulka!$A$2:$AN$180,MATCH(J6,Tabulka!$A$2:$A$180,0),32)","v":3.8999999999799999},3.99999997912,10.000000021089999,7.0000000901200004]
[null,null,null,{"$f":"Tabulka!AG36","v":0},null,null,null,null,null,null,null,null,null,null,7.9999999690899974,21.000000031030002,10.000000050089996,null,null,null,null,null,null,null,null,null,null,null,null,null,null,null,null,null,null,{"$f":"AH2","v":"Výhry"},null,null,{"$f":"AH3","v":"Prohry"},null,null,{"$f":"AH4","v":"Placeno panáků"},null,null,{"$f":"AH5","v":"Přehozy"}]
[null,null,null,{"$f":"Tabulka!AG37","v":0},null,null,null,null,null,null,null,null,null,null,5.9999999591300002,15.000000041069995,9.9999999901299983,null,null,null,null,null,null,null,null,null,null,null,null,null,null,null,null,null,null,{"$f":"K67","v":"Milan Veselý"},{"$f":"IF(L67<-155000,\"Neklas\",TEXT(M67,0)&\" \"&$AU22)","v":"27 "},null,{"$f":"P67","v":"Kuba Šedivý"},{"$f":"IF(R67>55000,\"Neklas\",TEXT(Q67,0)&\" \"&$AU22)","v":"0 "},null,{"$f":"T67","v":"Kuba Šedivý"},{"$f":"IF(V67>55000,\"Neklas\",TEXT(U67,0)&\" \"&$AU22)","v":"0 "},null,{"$f":"K86","v":"Míra Šedivý"},{"$f":"IF(M86>55000,\"Neklas\",TEXT(L86,0)&\" \"&$AU22)","v":"2 "},{"$f":"IF(INDEX($AM$2:$AN$17,MATCH(AJ22,$AM$2:$AM$17,0),2)>25000,\" (Nekl)\",\"\")","v":""}]
[null,null,null,{"$f":"Tabulka!AG38","v":0},null,null,null,null,null,null,null,null,null,null,9.9999949020000006E-2,8.0000000510000007,7.0029999999999999E-8,null,null,null,null,null,null,null,null,null,null,null,null,null,null,null,null,null,null,"Jarda Klein","16 ",null,"Standa Roth","4 ",null,"Míra Šedivý","6 ",null,"Adam Šmíd","2 ",""]
[null,null,null,{"$f":"Tabulka!AG39","v":10},null,null,null,null,null,null,null,null,null,null,5.9999999390200003,2.0000000610500002,6.0000000700200005,null,null,null,null,null,null,null,null,null,null,null,null,null,null,null,null,null,null,"Standa Roth","14 ",null,"Míra Šedivý","6 ",null,"Standa Roth","7 ",null,"Kuba Šedivý",{"$f":"IF(M88>55000,\"Neklas\",TEXT(L88,0)&\" \"&$AU24)","v":"8 "},""]
[null,null,null,null,null,null,null,null,null,null,null,null,null,null,6.9999999290500003,2.0000000710900001,14.000000070039997,null,null,null,null,null,null,null,null,null,null,null,null,null,null,null,null,null,null,"Libor Hruška","12 ",null,"Libor Hruška","6 ",null,"Libor Hruška","10 ",null,"Standa Roth","10 ",""]
[null,null,null,null,null,null,null,null,null,null,null,null,null,null,17.999999919049998,11.0000000811,23.999999930050002,null,null,null,null,null,null,null,null,null,null,null,null,null,null,null,null,null,null,"Jiří Blín","9 ",null,"Adam Šmíd","7 ",null,"Jarda Klein","10 ",null,"Jiří Blín","11 ",""]
[null,null,null,null,null,null,null,null,null,null,null,null,null,null,50001.000000091,49999.999999909,50000.000000091,null,null,null,null,null,null,null,null,null,null,null,null,null,null,null,null,null,null,"Míra Šedivý","5 ",null,"Jarda Klein","8 ",null,"Milan Veselý","13 ",null,"Libor Hruška","15 ",""]
[null,null,null,null,null,null,null,null,null,null,null,null,null,null,50002.000000100998,49999.999999899002,50000.000000100998,null,null,null,null,null,null,null,null,null,null,null,null,null,null,null,null,null,null,"Kuba Šedivý","4 ",null,"Milan Veselý","11 ",null,"Adam Šmíd","14 ",null,"Milan Veselý","16 ",""]
[null,null,null,null,null,null,null,null,null,null,null,null,null,null,50002.000000111002,49999.999999888998,50000.000000111002,null,null,null,null,null,null,null,null,null,null,null,null,null,null,null,null,null,null,"Adam Šmíd","0 ",null,"Jiří Blín","18 ",null,"Jiří Blín","24 ",null,"Jarda Klein","21 ",""]
[null,null,null,null,null,null,null,null,null,null,null,null,null,null,50004.000000120999,49999.999999879001,50000.000000120999,null,null,null,null,null,null,null,null,null,null,null,null,null,null,null,null,null,null,"Zdenek Kanaďan","1  (Nekl)",null,"Zdenek Kanaďan","1  (Nekl)",null,"Zdenek Kanaďan","1  (Nekl)",null,"Zdenek Kanaďan","0  (Nekl)"," (Nekl)"]
[null,null,null,null,null,null,null,null,null,null,null,null,null,null,90000.000000130996,89999.999999869004,90000.000000130996,null,null,null,null,null,null,null,null,null,null,null,null,null,null,null,null,null,null,"Karel Karl","1  (Nekl)",null,"Karel Karl","2  (Nekl)",null,"Karel Karl","2  (Nekl)",null,"Karel Karl","0  (Nekl)"," (Nekl)"]
[null,null,null,null,null,null,null,null,null,null,null,null,null,null,90000.000000140994,89999.999999859006,90000.000000140994,null,null,null,null,null,null,null,null,null,null,null,null,null,null,null,null,null,null,"Míra Chalupník","0  (Nekl)",null,"Míra Chalupník","2  (Nekl)",null,"Míra Chalupník","2  (Nekl)",null,"Míra Chalupník","1  (Nekl)"," (Nekl)"]
[null,null,null,null,null,null,null,null,null,null,null,null,null,null,{"$f":"ABS(O16)","v":90000.000000151005},89999.999999848995,90000.000000151005,null,null,null,null,null,null,null,null,null,null,null,null,null,null,null,null,null,null,"Petr Šum","0  (Nekl)",null,"Petr Šum","4  (Nekl)",null,"Petr Šum","4  (Nekl)",null,"Petr Šum","0  (Nekl)"," (Nekl)"]
[null,null,null,null,null,null,null,null,null,null,null,null,null,null,{"$f":"ABS(O17)","v":90000.000000161002},89999.999999838998,90000.000000161002,null,null,null,null,null,null,null,null,null,null,null,null,null,null,null,null,null,null,"Jiří Fiala","Neklas",null,"Jiří Fiala","Neklas",null,"Jiří Fiala","Neklas",null,"Jiří Fiala","Neklas"," (Nekl)"]
[null,null,null,null,null,null,null,null,null,null,null,null,null,null,null,null,null,null,null,null,null,null,null,null,null,null,null,null,null,null,null,null,null,null,null,"Iva Ivanka","Neklas",null,"Iva Ivanka","Neklas",null,"Iva Ivanka","Neklas",null,"Iva Ivanka","Neklas"," (Nekl)"]
[null,null,null,null,null,null,null,null,null,null,null,null,null,null,null,null,null,null,null,null,null,null,null,null,null,null,null,null,null,null,null,null,null,null,null,"Míra Kulhan","Neklas",null,"Míra Kulhan","Neklas",null,"Míra Kulhan","Neklas",null,"Míra Kulhan","Neklas"," (Nekl)"]
[null,null,null,null,null,null,null,null,null,null,null,null,null,null,null,null,null,null,null,null,null,null,null,null,null,null,null,null,null,null,null,null,null,null,null,"Pavel Pernekr","Neklas",null,"Pavel Pernekr","Neklas",null,"Pavel Pernekr","Neklas",null,{"$f":"INDEX($J$2:$J$17,MATCH(P65,$P$2:$P$17,0),1)","v":"Jiří Fiala"},"Neklas"," (Nekl)"]
[null,null,null,null,null,null,null,null,null,null,null,null,null,null,null,null,null,null,null,null,null,null,null,null,null,null,null,null,null,null,null,null,null,null,null,{"$f":"AH6","v":"Poč. kol"},null,null,{"$f":"AH7","v":"Počet konečných bodů"},null,null,{"$f":"AH8","v":"Průměr konečných bodů na kolo"},null,null,{"$f":"AP1","v":"Účast dny"}]
[null,null,null,null,null,null,null,null,null,null,null,null,null,null,null,null,null,null,null,null,null,null,null,null,null,null,null,null,null,null,null,null,null,null,null,{"$f":"N67","v":"Milan Veselý"},{"$f":"IF(O67<1,\"Neklas\",TEXT(O67,0)&\" \"&$AU39)","v":"69 "},null,{"$f":"U86","v":"Kuba Šedivý"},{"$f":"IF(W86>59000,\"Neklas\",TEXT(V86,0)&\" \"&$AU39)","v":"278 "},null,{"$f":"P86","v":"Kuba Šedivý"},{"$f":"IF(Q86>50000,\"Neklas\",TEXT(Q86,0)&\" \"&$AU39)","v":"25 "},null,{"$f":"AS2","v":"Jiří Blín"},{"$f":"IF(AT2<0.5,\"Neklas\",TEXT(LARGE($AT$2:$AT$17,Y2),0)&\" \"&$AU39)","v":"17 "},{"$f":"IF(INDEX($AM$2:$AN$17,MATCH(N67,$AM$2:$AM$17,0),2)>25000,\" (Nekl)\",\"\")","v":""}]
[null,null,null,null,null,null,null,null,null,null,null,null,null,null,null,null,null,null,null,null,null,null,null,null,null,null,null,null,null,null,null,null,null,null,null,"Libor Hruška","69 ",null,"Adam Šmíd","1828 ",null,"Milan Veselý","40 ",null,"Libor Hruška","17 ",""]
[null,null,null,null,null,null,null,null,null,null,null,null,null,null,null,null,null,null,null,null,null,null,null,null,null,null,null,null,null,null,null,null,null,null,null,"Jiří Blín","69 ",null,"Míra Šedivý","1994 ",null,"Standa Roth","49 ",null,"Milan Veselý","17 ",""]
[null,null,null,null,null,null,null,null,null,null,null,null,null,null,null,null,null,null,null,null,null,null,null,null,null,null,null,null,null,null,null,null,null,null,null,"Jarda Klein","61 ",null,"Milan Veselý","2745 ",null,"Libor Hruška","49 ",null,"Jarda Klein","15 ",""]
[null,null,null,null,null,null,null,null,null,null,null,null,null,null,null,null,null,null,null,null,null,null,null,null,null,null,null,null,null,null,null,null,null,null,null,"Standa Roth","60 ",null,"Standa Roth","2942 ",null,"Jarda Klein","50 ",null,"Standa Roth","15 ",""]
[null,null,null,null,null,null,null,null,null,null,null,null,null,null,null,null,null,null,null,null,null,null,null,null,null,null,null,null,null,null,null,null,null,null,null,"Míra Šedivý","30 ",null,"Jarda Klein","3057 ",null,"Míra Šedivý","66 ",null,"Adam Šmíd","10 ",""]
[null,null,null,null,null,null,null,null,null,null,null,null,null,null,null,null,null,null,null,null,null,null,null,null,null,null,null,null,null,null,null,null,null,null,null,"Adam Šmíd","19 ",null,"Libor Hruška","3399 ",null,"Jiří Blín","72 ",null,"Míra Šedivý","7 ",""]
[null,null,null,null,null,null,null,null,null,null,null,null,null,null,null,null,null,null,null,null,null,null,null,null,null,null,null,null,null,null,null,null,null,null,null,"Kuba Šedivý","11 ",null,"Jiří Blín","4953 ",null,"Adam Šmíd","96 ",null,"Kuba Šedivý","3 ",""]
[null,null,null,null,null,null,null,null,null,null,null,null,null,null,null,null,null,null,null,null,null,null,null,null,null,null,null,null,null,null,null,null,null,null,null,"Zdenek Kanaďan","5  (Nekl)",null,"Míra Chalupník","325  (Nekl)",null,"Petr Šum","157  (Nekl)",null,"Míra Chalupník","1  (Nekl)"," (Nekl)"]
[null,null,null,null,null,null,null,null,null,null,null,null,null,null,null,null,null,null,null,null,null,null,null,null,null,null,null,null,null,null,null,null,null,null,null,"Karel Karl","4  (Nekl)",null,"Zdenek Kanaďan","332  (Nekl)",null,"Zdenek Kanaďan","66  (Nekl)",null,"Zdenek Kanaďan","1  (Nekl)"," (Nekl)"]
[null,null,null,null,null,null,null,null,null,null,null,null,null,null,null,null,null,null,null,null,null,null,null,null,null,null,null,null,null,null,null,null,null,null,null,"Míra Chalupník","4  (Nekl)",null,"Karel Karl","566  (Nekl)",null,"Míra Chalupník","81  (Nekl)",null,"Karel Karl","1  (Nekl)"," (Nekl)"]
[1,null,null,null,null,null,null,null,null,null,{"$f":"LARGE(K$2:K$17,$A50)","v":15.999999838950002},null,{"$f":"LARGE(M$2:M$17,$A50)","v":26.999999667020003},68.999999989000003,{"$f":"IF(SMALL(O$19:O$34,$A50)>89000,SMALL(O$19:O$34,$A50)*-1,SMALL(O$19:O$34,$A50))","v":9.9999949020000006E-2},2.0000000610500002,7.0029999999999999E-8,null,null,null,null,null,null,null,null,null,null,null,null,null,null,null,null,null,null,"Petr Šum","4  (Nekl)",null,"Petr Šum","627  (Nekl)",null,"Karel Karl","142  (Nekl)",null,"Petr Šum","1  (Nekl)"," (Nekl)"]
[2,null,null,null,null,null,null,null,null,null,9.9999998889199997,null,15.999999807049999,68.999999958999993,3.99999997912,2.0000000710900001,6.0000000700200005,null,null,null,null,null,null,null,null,null,null,null,null,null,null,null,null,null,null,"Jiří Fiala","Neklas",null,"Jiří Fiala","Neklas",null,"Jiří Fiala","Neklas",null,"Jiří Fiala","Neklas"," (Nekl)"]
[3,null,null,null,null,null,null,null,null,null,7.9999999189600004,null,13.999999757039999,68.999999919000004,5.9999999390200003,8.0000000510000007,7.0000000901200004,null,null,null,null,null,null,null,null,null,null,null,null,null,null,null,null,null,null,"Iva Ivanka","Neklas",null,"Iva Ivanka","Neklas",null,"Iva Ivanka","Neklas",null,"Iva Ivanka","Neklas"," (Nekl)"]
[4,null,null,null,null,null,null,null,null,null,5.9999999689499948,null,11.999999897079993,60.999999969000001,5.9999999591300002,10.000000021089999,9.9999999901299983,null,null,null,null,null,null,null,null,null,null,null,null,null,null,null,null,null,null,"Míra Kulhan","Neklas",null,"Míra Kulhan","Neklas",null,"Míra Kulhan","Neklas",null,"Míra Kulhan","Neklas"," (Nekl)"]
[5,null,null,null,null,null,null,null,null,null,3.8999998789800001,null,8.9999998971100013,59.999999979000002,6.9999999290500003,11.0000000811,10.000000050089996,null,null,null,null,null,null,null,null,null,null,null,null,null,null,null,null,null,null,"Pavel Pernekr","Neklas",null,"Pavel Pernekr","Neklas",null,"Pavel Pernekr","Neklas",null,"Pavel Pernekr","Neklas"," (Nekl)"]
[6,null,null,null,null,null,null,null,null,null,-1.00000013097,null,4.9999996770499999,29.999999938999999,7.9999999690899974,15.000000041069995,13.000000150070001]
[7,null,null,null,null,null,null,null,null,null,-7.0000001409500001,null,3.9999997070000002,18.999999929000001,10.99999998907,16.000000011079997,14.000000070039997]
[8,null,null,null,null,null,null,null,null,null,-9.0000000109399974,null,-3.5289999976911623E-7,10.999999948999999,17.999999919049998,21.000000031030002,23.999999930050002]
[9,null,null,null,null,null,null,null,null,null,-50000.000000061002,null,-100001.00000021301,4.9999999089999996,50001.000000091,49999.999999879001,50000.000000091]
[10,null,null,null,null,null,null,null,null,null,-50001.000000070999,null,-100003.000000243,-49996.000000100998,50002.000000100998,49999.999999888998,50000.000000100998]
[11,null,null,null,null,null,null,null,null,null,-50002.000000040985,null,-100004.00000019297,-49996.000000111002,50002.000000111002,49999.999999899002,50000.000000111002]
[12,null,null,null,null,null,null,null,null,null,-50004.000000150983,null,-100008.00000042298,-49996.000000120999,50004.000000120999,49999.999999909,50000.000000120999]
[13,null,null,null,null,null,null,null,null,null,-90000.000000020998,null,-180000.00000017299,-90000.000000130996,-90000.000000130996,-89999.999999838998,-90000.000000130996]
[14,null,null,null,null,null,null,null,null,null,-90000.000000051004,null,-180000.00000024299,-90000.000000140994,-90000.000000140994,-89999.999999848995,-90000.000000140994]
[15,null,null,null,null,null,null,null,null,null,-90000.000000090993,null,-180000.00000033301,-90000.000000151005,-90000.000000151005,-89999.999999859006,-90000.000000151005]
[16,null,null,null,null,null,null,null,null,null,-90000.000000101005,null,-180000.00000036298,-90000.000000161002,-90000.000000161002,-89999.999999869004,-90000.000000161002]
[null,null,null,null,null,null,null,null,null,null,"výhry",null,null,"počet kol",null,"Prohry",null,null,null,"Placeno panáků"]
[null,null,null,null,null,null,null,null,null,null,{"$f":"INDEX($J$2:$J$17,MATCH(L67,$M$2:$M$17,0),1)","v":"Milan Veselý"},{"$f":"LARGE(M$1:M$17,Y2)","v":26.999999667020003},{"$f":"IF(L67<-150000,\"Neklas\",INDEX(Tabulka!$A$4:$AH$84,MATCH(K67,Tabulka!$A$4:$A$84,0)-1,34)+INDEX($D$2:$E$17,MATCH(K67,$D$2:$D$17,0),2))","v":26.999999839020003},{"$f":"INDEX($J$2:$J$17,MATCH(N50,$N$2:$N$17,0),1)","v":"Milan Veselý"},{"$f":"INDEX(Tabulka!$A$4:$AH$84,MATCH($N67,Tabulka!$A$4:$A$84,0)+3,34)+INDEX($D$2:$E$17,MATCH($N67,$D$2:$D$17,0),2)","v":68.999999838999997},{"$f":"INDEX($J$2:$J$17,MATCH(IF(R67>10000,R67*-1+ROW(M2),R67),$O$2:$O$17,0),1)","v":"Kuba Šedivý"},{"$f":"IF(R67>55000,\"Neklas\",INDEX(Tabulka!$A$4:$AH$84,MATCH($P67,Tabulka!$A$4:$A$84,0),34)+INDEX($D$2:$F$17,MATCH($P67,$D$2:$D$17,0),3))","v":0.10000012102000001},{"$f":"SMALL($S$67:$S$82,Y2)","v":9.9999949020000006E-2},{"$f":"IF(O2<0,O2*-1+ROW(M2),O2)","v":10.99999998907},{"$f":"INDEX($J$2:$J$17,MATCH(X67,$Q$2:$Q$17,0),1)","v":"Kuba Šedivý"},{"$f":"IF(X67<-55000,\"Neklas\",INDEX(Tabulka!$A$4:$AH$84,MATCH($T67,Tabulka!$A$4:$A$84,0)+1,34)+INDEX($D$2:$F$17,MATCH($T67,$D$2:$D$17,0),3))","v":2.4202999999999995E-7},{"$f":"SMALL($W$67:$W$82,Y2)","v":7.0029999999999999E-8},{"$f":"IF(Q2<0,Q2*-1+ROW(O2),Q2)","v":13.000000150070001},{"$f":"IF(V67>10000,V67*-1+ROW(O2),V67)","v":7.0029999999999999E-8}]
[null,null,null,null,null,null,null,null,null,null,"Jarda Klein",15.999999807049999,{"$f":"IF(L68<-150000,\"Neklas\",INDEX(Tabulka!$A$4:$AH$84,MATCH(K68,Tabulka!$A$4:$A$84,0)-1,34)+INDEX($D$2:$E$17,MATCH(K68,$D$2:$D$17,0),2))","v":15.999999919049998},"Libor Hruška",{"$f":"INDEX(Tabulka!$A$4:$AH$84,MATCH($N68,Tabulka!$A$4:$A$84,0)+3,34)+INDEX($D$2:$E$17,MATCH($N68,$D$2:$D$17,0),2)","v":68.999999969000001},"Standa Roth",{"$f":"IF(R68>55000,\"Neklas\",INDEX(Tabulka!$A$4:$AH$84,MATCH($P68,Tabulka!$A$4:$A$84,0),34)+INDEX($D$2:$F$17,MATCH($P68,$D$2:$D$17,0),3))","v":4.0000001111200003},3.99999997912,3.99999997912,"Míra Šedivý",{"$f":"IF(X68<-55000,\"Neklas\",INDEX(Tabulka!$A$4:$AH$84,MATCH($T68,Tabulka!$A$4:$A$84,0)+1,34)+INDEX($D$2:$F$17,MATCH($T68,$D$2:$D$17,0),3))","v":6.0000002620200004},6.0000000700200005,{"$f":"IF(Q3<0,Q3*-1+ROW(O3),Q3)","v":7.0000000901200004},6.0000000700200005]
[null,null,null,null,null,null,null,null,null,null,"Standa Roth",13.999999757039999,{"$f":"IF(L69<-150000,\"Neklas\",INDEX(Tabulka!$A$4:$AH$84,MATCH(K69,Tabulka!$A$4:$A$84,0)-1,34)+INDEX($D$2:$E$17,MATCH(K69,$D$2:$D$17,0),2))","v":13.99999988904},"Jiří Blín",{"$f":"INDEX(Tabulka!$A$4:$AH$84,MATCH($N69,Tabulka!$A$4:$A$84,0)+3,34)+INDEX($D$2:$E$17,MATCH($N69,$D$2:$D$17,0),2)","v":68.999999989000003},"Míra Šedivý",{"$f":"IF(R69>55000,\"Neklas\",INDEX(Tabulka!$A$4:$AH$84,MATCH($P69,Tabulka!$A$4:$A$84,0),34)+INDEX($D$2:$F$17,MATCH($P69,$D$2:$D$17,0),3))","v":6.0000001310200002},5.9999999390200003,7.9999999690899974,"Standa Roth",{"$f":"IF(X69<-55000,\"Neklas\",INDEX(Tabulka!$A$4:$AH$84,MATCH($T69,Tabulka!$A$4:$A$84,0)+1,34)+INDEX($D$2:$F$17,MATCH($T69,$D$2:$D$17,0),3))","v":7.0000002221200006},7.0000000901200004,10.000000050089996,7.0000000901200004]
[null,null,null,null,null,null,null,null,null,null,"Libor Hruška",11.999999897079993,{"$f":"IF(L70<-150000,\"Neklas\",INDEX(Tabulka!$A$4:$AH$84,MATCH(K70,Tabulka!$A$4:$A$84,0)-1,34)+INDEX($D$2:$E$17,MATCH(K70,$D$2:$D$17,0),2))","v":11.999999969079994},"Jarda Klein",{"$f":"INDEX(Tabulka!$A$4:$AH$84,MATCH($N70,Tabulka!$A$4:$A$84,0)+3,34)+INDEX($D$2:$E$17,MATCH($N70,$D$2:$D$17,0),2)","v":60.999999918999997},"Libor Hruška",{"$f":"IF(R70>55000,\"Neklas\",INDEX(Tabulka!$A$4:$AH$84,MATCH($P70,Tabulka!$A$4:$A$84,0),34)+INDEX($D$2:$F$17,MATCH($P70,$D$2:$D$17,0),3))","v":6.0000000311299999},5.9999999591300002,5.9999999591300002,"Libor Hruška",{"$f":"IF(X70<-55000,\"Neklas\",INDEX(Tabulka!$A$4:$AH$84,MATCH($T70,Tabulka!$A$4:$A$84,0)+1,34)+INDEX($D$2:$F$17,MATCH($T70,$D$2:$D$17,0),3))","v":10.000000062129999},9.9999999901299983,9.9999999901299983,9.9999999901299983]
[null,null,null,null,null,null,null,null,null,null,"Jiří Blín",8.9999998971100013,{"$f":"IF(L71<-150000,\"Neklas\",INDEX(Tabulka!$A$4:$AH$84,MATCH(K71,Tabulka!$A$4:$A$84,0)-1,34)+INDEX($D$2:$E$17,MATCH(K71,$D$2:$D$17,0),2))","v":8.99999998911},"Standa Roth",{"$f":"INDEX(Tabulka!$A$4:$AH$84,MATCH($N71,Tabulka!$A$4:$A$84,0)+3,34)+INDEX($D$2:$E$17,MATCH($N71,$D$2:$D$17,0),2)","v":59.999999889000001},"Adam Šmíd",{"$f":"IF(R71>55000,\"Neklas\",INDEX(Tabulka!$A$4:$AH$84,MATCH($P71,Tabulka!$A$4:$A$84,0),34)+INDEX($D$2:$F$17,MATCH($P71,$D$2:$D$17,0),3))","v":7.0000001410500001},6.9999999290500003,9.9999949020000006E-2,"Jarda Klein",{"$f":"IF(X71<-55000,\"Neklas\",INDEX(Tabulka!$A$4:$AH$84,MATCH($T71,Tabulka!$A$4:$A$84,0)+1,34)+INDEX($D$2:$F$17,MATCH($T71,$D$2:$D$17,0),3))","v":10.000000162089997},10.000000050089996,7.0029999999999999E-8,10.000000050089996]
[null,null,null,null,null,null,null,null,null,null,"Míra Šedivý",4.9999996770499999,{"$f":"IF(L72<-150000,\"Neklas\",INDEX(Tabulka!$A$4:$AH$84,MATCH(K72,Tabulka!$A$4:$A$84,0)-1,34)+INDEX($D$2:$E$17,MATCH(K72,$D$2:$D$17,0),2))","v":4.9999998690499998},"Míra Šedivý",{"$f":"INDEX(Tabulka!$A$4:$AH$84,MATCH($N72,Tabulka!$A$4:$A$84,0)+3,34)+INDEX($D$2:$E$17,MATCH($N72,$D$2:$D$17,0),2)","v":29.999999869},"Jarda Klein",{"$f":"IF(R72>55000,\"Neklas\",INDEX(Tabulka!$A$4:$AH$84,MATCH($P72,Tabulka!$A$4:$A$84,0),34)+INDEX($D$2:$F$17,MATCH($P72,$D$2:$D$17,0),3))","v":8.0000000810899969},7.9999999690899974,5.9999999390200003,"Milan Veselý",{"$f":"IF(X72<-55000,\"Neklas\",INDEX(Tabulka!$A$4:$AH$84,MATCH($T72,Tabulka!$A$4:$A$84,0)+1,34)+INDEX($D$2:$F$17,MATCH($T72,$D$2:$D$17,0),3))","v":13.000000322070001},13.000000150070001,6.0000000700200005,13.000000150070001]
[null,null,null,null,null,null,null,null,null,null,"Kuba Šedivý",3.9999997070000002,{"$f":"IF(L73<-150000,\"Neklas\",INDEX(Tabulka!$A$4:$AH$84,MATCH(K73,Tabulka!$A$4:$A$84,0)-1,34)+INDEX($D$2:$E$17,MATCH(K73,$D$2:$D$17,0),2))","v":3.9999998790000002},"Adam Šmíd",{"$f":"INDEX(Tabulka!$A$4:$AH$84,MATCH($N73,Tabulka!$A$4:$A$84,0)+3,34)+INDEX($D$2:$E$17,MATCH($N73,$D$2:$D$17,0),2)","v":18.999999858999999},"Milan Veselý",{"$f":"IF(R73>55000,\"Neklas\",INDEX(Tabulka!$A$4:$AH$84,MATCH($P73,Tabulka!$A$4:$A$84,0),34)+INDEX($D$2:$F$17,MATCH($P73,$D$2:$D$17,0),3))","v":11.00000016107},10.99999998907,6.9999999290500003,"Adam Šmíd",{"$f":"IF(X73<-55000,\"Neklas\",INDEX(Tabulka!$A$4:$AH$84,MATCH($T73,Tabulka!$A$4:$A$84,0)+1,34)+INDEX($D$2:$F$17,MATCH($T73,$D$2:$D$17,0),3))","v":14.000000282039997},14.000000070039997,14.000000070039997,14.000000070039997]
[null,null,null,null,null,null,null,null,null,null,"Adam Šmíd",-3.5289999976911623E-7,{"$f":"IF(L74<-150000,\"Neklas\",INDEX(Tabulka!$A$4:$AH$84,MATCH(K74,Tabulka!$A$4:$A$84,0)-1,34)+INDEX($D$2:$E$17,MATCH(K74,$D$2:$D$17,0),2))","v":-1.409E-7},"Kuba Šedivý",{"$f":"INDEX(Tabulka!$A$4:$AH$84,MATCH($N74,Tabulka!$A$4:$A$84,0)+3,34)+INDEX($D$2:$E$17,MATCH($N74,$D$2:$D$17,0),2)","v":10.999999879000001},{"$f":"INDEX($J$2:$J$17,MATCH(IF(R74>10000,R74*-1+ROW(M9),R74),$O$2:$O$17,0),1)","v":"Jiří Blín"},{"$f":"IF(R74>55000,\"Neklas\",INDEX(Tabulka!$A$4:$AH$84,MATCH($P74,Tabulka!$A$4:$A$84,0),34)+INDEX($D$2:$F$17,MATCH($P74,$D$2:$D$17,0),3))","v":18.000000011049998},17.999999919049998,17.999999919049998,"Jiří Blín",{"$f":"IF(X74<-55000,\"Neklas\",INDEX(Tabulka!$A$4:$AH$84,MATCH($T74,Tabulka!$A$4:$A$84,0)+1,34)+INDEX($D$2:$F$17,MATCH($T74,$D$2:$D$17,0),3))","v":24.000000022050003},23.999999930050002,23.999999930050002,23.999999930050002]
[null,null,null,null,null,null,null,null,null,null,"Zdenek Kanaďan",-100001.00000021301,{"$f":"IF(L75<-150000,\"Neklas\",INDEX(Tabulka!$A$4:$AH$84,MATCH(K75,Tabulka!$A$4:$A$84,0)-1,34)+INDEX($D$2:$E$17,MATCH(K75,$D$2:$D$17,0),2))","v":0.99999993899999995},"Zdenek Kanaďan",{"$f":"INDEX(Tabulka!$A$4:$AH$84,MATCH($N75,Tabulka!$A$4:$A$84,0)+3,34)+INDEX($D$2:$E$17,MATCH($N75,$D$2:$D$17,0),2)","v":4.9999999390000003},"Zdenek Kanaďan",{"$f":"IF(R75>55000,\"Neklas\",INDEX(Tabulka!$A$4:$AH$84,MATCH($P75,Tabulka!$A$4:$A$84,0),34)+INDEX($D$2:$F$17,MATCH($P75,$D$2:$D$17,0),3))","v":1.0000000609999999},50011.000000091,50011.000000091,"Zdenek Kanaďan",{"$f":"IF(X75<-55000,\"Neklas\",INDEX(Tabulka!$A$4:$AH$84,MATCH($T75,Tabulka!$A$4:$A$84,0)+1,34)+INDEX($D$2:$F$17,MATCH($T75,$D$2:$D$17,0),3))","v":1.0000001219999999},50010.000000091,50010.000000091,-50000.000000091]
[null,null,null,null,null,null,null,null,null,null,"Karel Karl",-100003.000000243,{"$f":"IF(L76<-150000,\"Neklas\",INDEX(Tabulka!$A$4:$AH$84,MATCH(K76,Tabulka!$A$4:$A$84,0)-1,34)+INDEX($D$2:$E$17,MATCH(K76,$D$2:$D$17,0),2))","v":0.99999992900000001},"Karel Karl",{"$f":"INDEX(Tabulka!$A$4:$AH$84,MATCH($N76,Tabulka!$A$4:$A$84,0)+3,34)+INDEX($D$2:$E$17,MATCH($N76,$D$2:$D$17,0),2)","v":3.9999999289999999},"Karel Karl",{"$f":"IF(R76>55000,\"Neklas\",INDEX(Tabulka!$A$4:$AH$84,MATCH($P76,Tabulka!$A$4:$A$84,0),34)+INDEX($D$2:$F$17,MATCH($P76,$D$2:$D$17,0),3))","v":2.0000000710000001},50013.000000100998,50013.000000100998,"Karel Karl",{"$f":"IF(X76<-55000,\"Neklas\",INDEX(Tabulka!$A$4:$AH$84,MATCH($T76,Tabulka!$A$4:$A$84,0)+1,34)+INDEX($D$2:$F$17,MATCH($T76,$D$2:$D$17,0),3))","v":2.0000001420000002},50011.000000100998,50011.000000100998,-50000.000000100998]
[null,null,null,null,null,null,null,null,null,null,"Míra Chalupník",-100004.00000019297,{"$f":"IF(L77<-150000,\"Neklas\",INDEX(Tabulka!$A$4:$AH$84,MATCH(K77,Tabulka!$A$4:$A$84,0)-1,34)+INDEX($D$2:$E$17,MATCH(K77,$D$2:$D$17,0),2))","v":-4.0989999999999998E-8},"Míra Chalupník",{"$f":"INDEX(Tabulka!$A$4:$AH$84,MATCH($N77,Tabulka!$A$4:$A$84,0)+3,34)+INDEX($D$2:$E$17,MATCH($N77,$D$2:$D$17,0),2)","v":3.9999999590000002},"Míra Chalupník",{"$f":"IF(R77>55000,\"Neklas\",INDEX(Tabulka!$A$4:$AH$84,MATCH($P77,Tabulka!$A$4:$A$84,0),34)+INDEX($D$2:$F$17,MATCH($P77,$D$2:$D$17,0),3))","v":2.0000000409999998},50014.000000111002,50014.000000111002,"Míra Chalupník",{"$f":"IF(X77<-55000,\"Neklas\",INDEX(Tabulka!$A$4:$AH$84,MATCH($T77,Tabulka!$A$4:$A$84,0)+1,34)+INDEX($D$2:$F$17,MATCH($T77,$D$2:$D$17,0),3))","v":2.0000000819999997},50012.000000111002,50012.000000111002,-50000.000000111002]
[null,null,null,null,null,null,null,null,null,null,"Petr Šum",-100008.00000042298,{"$f":"IF(L78<-150000,\"Neklas\",INDEX(Tabulka!$A$4:$AH$84,MATCH(K78,Tabulka!$A$4:$A$84,0)-1,34)+INDEX($D$2:$E$17,MATCH(K78,$D$2:$D$17,0),2))","v":-1.5099E-7},"Petr Šum",{"$f":"INDEX(Tabulka!$A$4:$AH$84,MATCH($N78,Tabulka!$A$4:$A$84,0)+3,34)+INDEX($D$2:$E$17,MATCH($N78,$D$2:$D$17,0),2)","v":3.9999998489999999},"Petr Šum",{"$f":"IF(R78>55000,\"Neklas\",INDEX(Tabulka!$A$4:$AH$84,MATCH($P78,Tabulka!$A$4:$A$84,0),34)+INDEX($D$2:$F$17,MATCH($P78,$D$2:$D$17,0),3))","v":4.0000001510000001},50017.000000120999,50017.000000120999,"Petr Šum",{"$f":"IF(X78<-55000,\"Neklas\",INDEX(Tabulka!$A$4:$AH$84,MATCH($T78,Tabulka!$A$4:$A$84,0)+1,34)+INDEX($D$2:$F$17,MATCH($T78,$D$2:$D$17,0),3))","v":4.0000003020000001},50013.000000120999,50013.000000120999,-50000.000000120999]
[null,null,null,null,null,null,null,null,null,null,"Jiří Fiala",-180000.00000017299,{"$f":"IF(L79<-150000,\"Neklas\",INDEX(Tabulka!$A$4:$AH$84,MATCH(K79,Tabulka!$A$4:$A$84,0)-1,34)+INDEX($D$2:$E$17,MATCH(K79,$D$2:$D$17,0),2))","v":"Neklas"},"Jiří Fiala",{"$f":"INDEX(Tabulka!$A$4:$AH$84,MATCH($N79,Tabulka!$A$4:$A$84,0)+3,34)+INDEX($D$2:$E$17,MATCH($N79,$D$2:$D$17,0),2)","v":-2.0999999999999999E-8},"Jiří Fiala",{"$f":"IF(R79>55000,\"Neklas\",INDEX(Tabulka!$A$4:$AH$84,MATCH($P79,Tabulka!$A$4:$A$84,0),34)+INDEX($D$2:$F$17,MATCH($P79,$D$2:$D$17,0),3))","v":"Neklas"},90014.000000130996,90014.000000130996,"Jiří Fiala",{"$f":"IF(X79<-55000,\"Neklas\",INDEX(Tabulka!$A$4:$AH$84,MATCH($T79,Tabulka!$A$4:$A$84,0)+1,34)+INDEX($D$2:$F$17,MATCH($T79,$D$2:$D$17,0),3))","v":"Neklas"},90014.000000130996,90014.000000130996,-90000.000000130996]
[null,null,null,null,null,null,null,null,null,null,"Iva Ivanka",-180000.00000024299,{"$f":"IF(L80<-150000,\"Neklas\",INDEX(Tabulka!$A$4:$AH$84,MATCH(K80,Tabulka!$A$4:$A$84,0)-1,34)+INDEX($D$2:$E$17,MATCH(K80,$D$2:$D$17,0),2))","v":"Neklas"},"Iva Ivanka",{"$f":"INDEX(Tabulka!$A$4:$AH$84,MATCH($N80,Tabulka!$A$4:$A$84,0)+3,34)+INDEX($D$2:$E$17,MATCH($N80,$D$2:$D$17,0),2)","v":-5.0999999999999993E-8},"Iva Ivanka",{"$f":"IF(R80>55000,\"Neklas\",INDEX(Tabulka!$A$4:$AH$84,MATCH($P80,Tabulka!$A$4:$A$84,0),34)+INDEX($D$2:$F$17,MATCH($P80,$D$2:$D$17,0),3))","v":"Neklas"},90015.000000140994,{"$f":"IF(O15<0,O15*-1+ROW(M15),O15)","v":90015.000000140994},"Iva Ivanka",{"$f":"IF(X80<-55000,\"Neklas\",INDEX(Tabulka!$A$4:$AH$84,MATCH($T80,Tabulka!$A$4:$A$84,0)+1,34)+INDEX($D$2:$F$17,MATCH($T80,$D$2:$D$17,0),3))","v":"Neklas"},90015.000000140994,90015.000000140994,-90000.000000140994]
[null,null,null,null,null,null,null,null,null,null,"Míra Kulhan",-180000.00000033301,{"$f":"IF(L81<-150000,\"Neklas\",INDEX(Tabulka!$A$4:$AH$84,MATCH(K81,Tabulka!$A$4:$A$84,0)-1,34)+INDEX($D$2:$E$17,MATCH(K81,$D$2:$D$17,0),2))","v":"Neklas"},"Míra Kulhan",{"$f":"INDEX(Tabulka!$A$4:$AH$84,MATCH($N81,Tabulka!$A$4:$A$84,0)+3,34)+INDEX($D$2:$E$17,MATCH($N81,$D$2:$D$17,0),2)","v":-9.0999999999999981E-8},"Míra Kulhan",{"$f":"IF(R81>55000,\"Neklas\",INDEX(Tabulka!$A$4:$AH$84,MATCH($P81,Tabulka!$A$4:$A$84,0),34)+INDEX($D$2:$F$17,MATCH($P81,$D$2:$D$17,0),3))","v":"Neklas"},90016.000000151005,90016.000000151005,"Míra Kulhan",{"$f":"IF(X81<-55000,\"Neklas\",INDEX(Tabulka!$A$4:$AH$84,MATCH($T81,Tabulka!$A$4:$A$84,0)+1,34)+INDEX($D$2:$F$17,MATCH($T81,$D$2:$D$17,0),3))","v":"Neklas"},90016.000000151005,90016.000000151005,-90000.000000151005]
[null,null,null,null,null,null,null,null,null,null,"Pavel Pernekr",-180000.00000036298,{"$f":"IF(L82<-150000,\"Neklas\",INDEX(Tabulka!$A$4:$AH$84,MATCH(K82,Tabulka!$A$4:$A$84,0)-1,34)+INDEX($D$2:$E$17,MATCH(K82,$D$2:$D$17,0),2))","v":"Neklas"},"Pavel Pernekr",{"$f":"INDEX(Tabulka!$A$4:$AH$84,MATCH($N82,Tabulka!$A$4:$A$84,0)+3,34)+INDEX($D$2:$E$17,MATCH($N82,$D$2:$D$17,0),2)","v":-1.0099999999999998E-7},{"$f":"INDEX($J$2:$J$17,MATCH(IF(R82>10000,R82*-1+ROW(M17),R82),$O$2:$O$17,0),1)","v":"Pavel Pernekr"},{"$f":"IF(R82>55000,\"Neklas\",INDEX(Tabulka!$A$4:$AH$84,MATCH($P82,Tabulka!$A$4:$A$84,0),34)+INDEX($D$2:$F$17,MATCH($P82,$D$2:$D$17,0),3))","v":"Neklas"},90017.000000161002,90017.000000161002,"Pavel Pernekr",{"$f":"IF(X82<-55000,\"Neklas\",INDEX(Tabulka!$A$4:$AH$84,MATCH($T82,Tabulka!$A$4:$A$84,0)+1,34)+INDEX($D$2:$F$17,MATCH($T82,$D$2:$D$17,0),3))","v":"Neklas"},90017.000000161002,90017.000000161002,-90000.000000161002]
[]
[null,null,null,null,null,null,null,null,null,null,"Přehozy",null,null,null,null,"Průměr bodů",null,null,null,null,"Počet bodů"]
[null,null,null,null,null,null,null,null,null,null,1,2,3,4,5,1,2,3,4,5,1,2,3,4,5]
[null,null,null,null,null,null,null,null,null,null,{"$f":"INDEX($J$2:$J$17,MATCH(O86,$P$2:$P$17,0),1)","v":"Míra Šedivý"},{"$f":"IF(O86<-55000,\"Neklas\",INDEX(Tabulka!$A$4:$AH$84,MATCH($K86,Tabulka!$A$4:$A$84,0)+2,34)+INDEX($D$2:$F$17,MATCH($K86,$D$2:$D$17,0),3))","v":2.0000001310500002},{"$f":"SMALL($N$86:$N$101,Y2)","v":2.0000000610500002},{"$f":"IF(P2<0,P2*-1+ROW(E2),P2)","v":16.000000011079997},{"$f":"IF(M86>10000,M86*-1+ROW(E2),M86)","v":2.0000000610500002},{"$f":"INDEX($AJ$2:$AJ$17,MATCH(S86,$AL$2:$AL$17,0),1)","v":"Kuba Šedivý"},{"$f":"IF(R86>55000,\"Neklas\",INDEX(Přehled_body!$EG$3:$FF$130,MATCH(P86,Přehled_body!$EH$3:$EH$130,0),1)+INDEX($D$2:$F$17,MATCH(P86,$D$2:$D$17,0),3))","v":25.272727393727273},{"$f":"SMALL($S$86:$S$101,$Y2)","v":25.272727323727274},{"$f":"IF(AL2<0,AL2*-1,AL2)","v":25.272727323727274},{"$f":"IF(R86>10000,R86*-1,R86)","v":25.272727323727274},{"$f":"INDEX($AM$2:$AM$17,MATCH(X86,$AO$2:$AO$17,0),1)","v":"Kuba Šedivý"},{"$f":"IF(W86>55000,\"Neklas\",INDEX(Přehled_body!$EG$3:$FF$130,MATCH(U86,Přehled_body!$EH$3:$EH$130,0)-1,1)+INDEX($D$2:$F$17,MATCH(U86,$D$2:$D$17,0),3))","v":278.00000012100003},{"$f":"SMALL($X$86:$X$101,$Y2)","v":278.00000005099997},{"$f":"IF(AO2<0,AO2*-1,AO2)","v":278.00000005099997},{"$f":"IF(W86>10000,W86*-1,W86)","v":278.00000005099997}]
[null,null,null,null,null,null,null,null,null,null,"Adam Šmíd",{"$f":"IF(O87<-55000,\"Neklas\",INDEX(Tabulka!$A$4:$AH$84,MATCH($K87,Tabulka!$A$4:$A$84,0)+2,34)+INDEX($D$2:$F$17,MATCH($K87,$D$2:$D$17,0),3))","v":2.0000001410900001},2.0000000710900001,10.000000021089999,2.0000000710900001,"Milan Veselý",{"$f":"IF(R87>55000,\"Neklas\",INDEX(Přehled_body!$EG$3:$FF$130,MATCH(P87,Přehled_body!$EH$3:$EH$130,0),1)+INDEX($D$2:$F$17,MATCH(P87,$D$2:$D$17,0),3))","v":39.782608856652175},39.782608706652169,{"$f":"IF(AL3<0,AL3*-1,AL3)","v":39.782608706652169},{"$f":"IF(R87>10000,R87*-1,R87)","v":39.782608706652169},"Adam Šmíd",{"$f":"IF(W87>55000,\"Neklas\",INDEX(Přehled_body!$EG$3:$FF$130,MATCH(U87,Přehled_body!$EH$3:$EH$130,0)-1,1)+INDEX($D$2:$F$17,MATCH(U87,$D$2:$D$17,0),3))","v":1828.0000001410001},{"$f":"SMALL($X$86:$X$101,$Y3)","v":1828.0000000709999},1828.0000000709999,{"$f":"IF(W87>10000,W87*-1,W87)","v":1828.0000000709999}]
[null,null,null,null,null,null,null,null,null,null,"Kuba Šedivý",{"$f":"IF(O88<-55000,\"Neklas\",INDEX(Tabulka!$A$4:$AH$84,MATCH($K88,Tabulka!$A$4:$A$84,0)+2,34)+INDEX($D$2:$F$17,MATCH($K88,$D$2:$D$17,0),3))","v":8.0000001209999994},8.0000000510000007,21.000000031030002,8.0000000510000007,"Standa Roth",{"$f":"IF(R88>55000,\"Neklas\",INDEX(Přehled_body!$EG$3:$FF$130,MATCH(P88,Přehled_body!$EH$3:$EH$130,0),1)+INDEX($D$2:$F$17,MATCH(P88,$D$2:$D$17,0),3))","v":49.03333344433333},49.03333335433333,49.03333335433333,49.03333335433333,"Míra Šedivý",{"$f":"IF(W88>55000,\"Neklas\",INDEX(Přehled_body!$EG$3:$FF$130,MATCH(U88,Přehled_body!$EH$3:$EH$130,0)-1,1)+INDEX($D$2:$F$17,MATCH(U88,$D$2:$D$17,0),3))","v":1994.000000131},1994.000000061,1994.000000061,1994.000000061]
[null,null,null,null,null,null,null,null,null,null,"Standa Roth",{"$f":"IF(O89<-55000,\"Neklas\",INDEX(Tabulka!$A$4:$AH$84,MATCH($K89,Tabulka!$A$4:$A$84,0)+2,34)+INDEX($D$2:$F$17,MATCH($K89,$D$2:$D$17,0),3))","v":10.000000111089999},10.000000021089999,15.000000041069995,10.000000021089999,"Libor Hruška",{"$f":"IF(R89>55000,\"Neklas\",INDEX(Přehled_body!$EG$3:$FF$130,MATCH(P89,Přehled_body!$EH$3:$EH$130,0),1)+INDEX($D$2:$F$17,MATCH(P89,$D$2:$D$17,0),3))","v":49.26086959621739},49.260869606217391,49.260869606217391,49.260869606217391,"Milan Veselý",{"$f":"IF(W89>55000,\"Neklas\",INDEX(Přehled_body!$EG$3:$FF$130,MATCH(U89,Přehled_body!$EH$3:$EH$130,0)-1,1)+INDEX($D$2:$F$17,MATCH(U89,$D$2:$D$17,0),3))","v":2745.0000001610001},2745.0000000109999,2745.0000000109999,2745.0000000109999]
[null,null,null,null,null,null,null,null,null,null,"Jiří Blín",{"$f":"IF(O90<-55000,\"Neklas\",INDEX(Tabulka!$A$4:$AH$84,MATCH($K90,Tabulka!$A$4:$A$84,0)+2,34)+INDEX($D$2:$F$17,MATCH($K90,$D$2:$D$17,0),3))","v":11.000000011099999},11.0000000811,8.0000000510000007,11.0000000811,"Jarda Klein",{"$f":"IF(R90>55000,\"Neklas\",INDEX(Přehled_body!$EG$3:$FF$130,MATCH(P90,Přehled_body!$EH$3:$EH$130,0),1)+INDEX($D$2:$F$17,MATCH(P90,$D$2:$D$17,0),3))","v":50.114754179360659},50.114754129360655,50.114754129360655,50.114754129360655,"Standa Roth",{"$f":"IF(W90>55000,\"Neklas\",INDEX(Přehled_body!$EG$3:$FF$130,MATCH(U90,Přehled_body!$EH$3:$EH$130,0)-1,1)+INDEX($D$2:$F$17,MATCH(U90,$D$2:$D$17,0),3))","v":2942.0000001110002},2942.0000000209998,2942.0000000209998,2942.0000000209998]
[null,null,null,null,null,null,null,null,null,null,"Libor Hruška",{"$f":"IF(O91<-55000,\"Neklas\",INDEX(Tabulka!$A$4:$AH$84,MATCH($K91,Tabulka!$A$4:$A$84,0)+2,34)+INDEX($D$2:$F$17,MATCH($K91,$D$2:$D$17,0),3))","v":15.000000031069996},15.000000041069995,2.0000000610500002,15.000000041069995,"Míra Šedivý",{"$f":"IF(R91>55000,\"Neklas\",INDEX(Přehled_body!$EG$3:$FF$130,MATCH(P91,Přehled_body!$EH$3:$EH$130,0),1)+INDEX($D$2:$F$17,MATCH(P91,$D$2:$D$17,0),3))","v":66.466666797666662},66.466666727666663,66.466666727666663,66.466666727666663,"Jarda Klein",{"$f":"IF(W91>55000,\"Neklas\",INDEX(Přehled_body!$EG$3:$FF$130,MATCH(U91,Přehled_body!$EH$3:$EH$130,0)-1,1)+INDEX($D$2:$F$17,MATCH(U91,$D$2:$D$17,0),3))","v":3057.0000000810001},3057.0000000310001,3057.0000000310001,3057.0000000310001]
[null,null,null,null,null,null,null,null,null,null,"Milan Veselý",{"$f":"IF(O92<-55000,\"Neklas\",INDEX(Tabulka!$A$4:$AH$84,MATCH($K92,Tabulka!$A$4:$A$84,0)+2,34)+INDEX($D$2:$F$17,MATCH($K92,$D$2:$D$17,0),3))","v":16.000000161079996},16.000000011079997,2.0000000710900001,16.000000011079997,"Jiří Blín",{"$f":"IF(R92>55000,\"Neklas\",INDEX(Přehled_body!$EG$3:$FF$130,MATCH(P92,Přehled_body!$EH$3:$EH$130,0),1)+INDEX($D$2:$F$17,MATCH(P92,$D$2:$D$17,0),3))","v":71.782608706652169},71.782608776652168,71.782608776652168,71.782608776652168,"Libor Hruška",{"$f":"IF(W92>55000,\"Neklas\",INDEX(Přehled_body!$EG$3:$FF$130,MATCH(U92,Přehled_body!$EH$3:$EH$130,0)-1,1)+INDEX($D$2:$F$17,MATCH(U92,$D$2:$D$17,0),3))","v":3399.0000000310001},3399.000000041,3399.000000041,3399.000000041]
[null,null,null,null,null,null,null,null,null,null,"Jarda Klein",{"$f":"IF(O93<-55000,\"Neklas\",INDEX(Tabulka!$A$4:$AH$84,MATCH($K93,Tabulka!$A$4:$A$84,0)+2,34)+INDEX($D$2:$F$17,MATCH($K93,$D$2:$D$17,0),3))","v":21.000000081030002},21.000000031030002,11.0000000811,21.000000031030002,"Adam Šmíd",{"$f":"IF(R93>55000,\"Neklas\",INDEX(Přehled_body!$EG$3:$FF$130,MATCH(P93,Přehled_body!$EH$3:$EH$130,0),1)+INDEX($D$2:$F$17,MATCH(P93,$D$2:$D$17,0),3))","v":96.210526456789481},96.210526386789482,96.210526386789482,96.210526386789482,"Jiří Blín",{"$f":"IF(W93>55000,\"Neklas\",INDEX(Přehled_body!$EG$3:$FF$130,MATCH(U93,Přehled_body!$EH$3:$EH$130,0)-1,1)+INDEX($D$2:$F$17,MATCH(U93,$D$2:$D$17,0),3))","v":4953.0000000110003},4953.0000000809996,4953.0000000809996,4953.0000000809996]
[null,null,null,null,null,null,null,null,null,null,"Zdenek Kanaďan",{"$f":"IF(O94<-55000,\"Neklas\",INDEX(Tabulka!$A$4:$AH$84,MATCH($K94,Tabulka!$A$4:$A$84,0)+2,34)+INDEX($D$2:$F$17,MATCH($K94,$D$2:$D$17,0),3))","v":6.1009999999999988E-8},50009.999999909,50009.999999909,-49999.999999909,"Petr Šum",{"$f":"IF(R94>55000,\"Neklas\",INDEX(Přehled_body!$EG$3:$FF$130,MATCH(P94,Přehled_body!$EH$3:$EH$130,0),1)+INDEX($D$2:$F$17,MATCH(P94,$D$2:$D$17,0),3))","v":156.75000015099999},49843.250000120999,49843.250000120999,-49843.250000120999,"Míra Chalupník",{"$f":"IF(W94>55000,\"Neklas\",INDEX(Přehled_body!$EG$3:$FF$130,MATCH(U94,Přehled_body!$EH$3:$EH$130,0)-1,1)+INDEX($D$2:$F$17,MATCH(U94,$D$2:$D$17,0),3))","v":325.00000004100002},50325.000000111002,50325.000000111002,-50325.000000111002]
[null,null,null,null,null,null,null,null,null,null,"Karel Karl",{"$f":"IF(O95<-55000,\"Neklas\",INDEX(Tabulka!$A$4:$AH$84,MATCH($K95,Tabulka!$A$4:$A$84,0)+2,34)+INDEX($D$2:$F$17,MATCH($K95,$D$2:$D$17,0),3))","v":7.1009999999999985E-8},50010.999999899002,50010.999999899002,-49999.999999899002,"Zdenek Kanaďan",{"$f":"IF(R95>55000,\"Neklas\",INDEX(Přehled_body!$EG$3:$FF$130,MATCH(P95,Přehled_body!$EH$3:$EH$130,0),1)+INDEX($D$2:$F$17,MATCH(P95,$D$2:$D$17,0),3))","v":66.400000061},49933.600000090999,49933.600000090999,-49933.600000090999,"Zdenek Kanaďan",{"$f":"IF(W95>55000,\"Neklas\",INDEX(Přehled_body!$EG$3:$FF$130,MATCH(U95,Přehled_body!$EH$3:$EH$130,0)-1,1)+INDEX($D$2:$F$17,MATCH(U95,$D$2:$D$17,0),3))","v":332.00000006099998},50332.000000091,50332.000000091,-50332.000000091]
[null,null,null,null,null,null,null,null,null,null,"Míra Chalupník",{"$f":"IF(O96<-55000,\"Neklas\",INDEX(Tabulka!$A$4:$AH$84,MATCH($K96,Tabulka!$A$4:$A$84,0)+2,34)+INDEX($D$2:$F$17,MATCH($K96,$D$2:$D$17,0),3))","v":1.0000000410000001},50011.999999888998,50011.999999888998,-49999.999999888998,"Míra Chalupník",{"$f":"IF(R96>55000,\"Neklas\",INDEX(Přehled_body!$EG$3:$FF$130,MATCH(P96,Přehled_body!$EH$3:$EH$130,0),1)+INDEX($D$2:$F$17,MATCH(P96,$D$2:$D$17,0),3))","v":81.250000041000007},50081.250000111002,50081.250000111002,-50081.250000111002,"Karel Karl",{"$f":"IF(W96>55000,\"Neklas\",INDEX(Přehled_body!$EG$3:$FF$130,MATCH(U96,Přehled_body!$EH$3:$EH$130,0)-1,1)+INDEX($D$2:$F$17,MATCH(U96,$D$2:$D$17,0),3))","v":566.00000007100004},50566.000000100998,50566.000000100998,-50566.000000100998]
[null,null,null,null,null,null,null,null,null,null,"Petr Šum",{"$f":"IF(O97<-55000,\"Neklas\",INDEX(Tabulka!$A$4:$AH$84,MATCH($K97,Tabulka!$A$4:$A$84,0)+2,34)+INDEX($D$2:$F$17,MATCH($K97,$D$2:$D$17,0),3))","v":1.5101000000000003E-7},50012.999999879001,50012.999999879001,-49999.999999879001,"Karel Karl",{"$f":"IF(R97>55000,\"Neklas\",INDEX(Přehled_body!$EG$3:$FF$130,MATCH(P97,Přehled_body!$EH$3:$EH$130,0),1)+INDEX($D$2:$F$17,MATCH(P97,$D$2:$D$17,0),3))","v":141.50000007099999},50141.500000100998,50141.500000100998,-50141.500000100998,"Petr Šum",{"$f":"IF(W97>55000,\"Neklas\",INDEX(Přehled_body!$EG$3:$FF$130,MATCH(U97,Přehled_body!$EH$3:$EH$130,0)-1,1)+INDEX($D$2:$F$17,MATCH(U97,$D$2:$D$17,0),3))","v":627.00000015099999},50627.000000120999,50627.000000120999,-50627.000000120999]
[null,null,null,null,null,null,null,null,null,null,"Jiří Fiala",{"$f":"IF(O98<-55000,\"Neklas\",INDEX(Tabulka!$A$4:$AH$84,MATCH($K98,Tabulka!$A$4:$A$84,0)+2,34)+INDEX($D$2:$F$17,MATCH($K98,$D$2:$D$17,0),3))","v":"Neklas"},90013.999999869004,90013.999999869004,-89999.999999869004,"Jiří Fiala",{"$f":"IF(R98>55000,\"Neklas\",INDEX(Přehled_body!$EG$3:$FF$130,MATCH(P98,Přehled_body!$EH$3:$EH$130,0),1)+INDEX($D$2:$F$17,MATCH(P98,$D$2:$D$17,0),3))","v":"Neklas"},90000.000000130996,90000.000000130996,-90000.000000130996,"Jiří Fiala",{"$f":"IF(W98>55000,\"Neklas\",INDEX(Přehled_body!$EG$3:$FF$130,MATCH(U98,Přehled_body!$EH$3:$EH$130,0)-1,1)+INDEX($D$2:$F$17,MATCH(U98,$D$2:$D$17,0),3))","v":"Neklas"},90000.000000130996,90000.000000130996,-90000.000000130996]
[null,null,null,null,null,null,null,null,null,null,"Iva Ivanka",{"$f":"IF(O99<-55000,\"Neklas\",INDEX(Tabulka!$A$4:$AH$84,MATCH($K99,Tabulka!$A$4:$A$84,0)+2,34)+INDEX($D$2:$F$17,MATCH($K99,$D$2:$D$17,0),3))","v":"Neklas"},90014.999999859006,90014.999999859006,-89999.999999859006,"Iva Ivanka",{"$f":"IF(R99>55000,\"Neklas\",INDEX(Přehled_body!$EG$3:$FF$130,MATCH(P99,Přehled_body!$EH$3:$EH$130,0),1)+INDEX($D$2:$F$17,MATCH(P99,$D$2:$D$17,0),3))","v":"Neklas"},90000.000000140994,90000.000000140994,-90000.000000140994,"Iva Ivanka",{"$f":"IF(W99>55000,\"Neklas\",INDEX(Přehled_body!$EG$3:$FF$130,MATCH(U99,Přehled_body!$EH$3:$EH$130,0)-1,1)+INDEX($D$2:$F$17,MATCH(U99,$D$2:$D$17,0),3))","v":"Neklas"},90000.000000140994,90000.000000140994,-90000.000000140994]
[null,null,null,null,null,null,null,null,null,null,"Míra Kulhan",{"$f":"IF(O100<-55000,\"Neklas\",INDEX(Tabulka!$A$4:$AH$84,MATCH($K100,Tabulka!$A$4:$A$84,0)+2,34)+INDEX($D$2:$F$17,MATCH($K100,$D$2:$D$17,0),3))","v":"Neklas"},90015.999999848995,90015.999999848995,-89999.999999848995,"Míra Kulhan",{"$f":"IF(R100>55000,\"Neklas\",INDEX(Přehled_body!$EG$3:$FF$130,MATCH(P100,Přehled_body!$EH$3:$EH$130,0),1)+INDEX($D$2:$F$17,MATCH(P100,$D$2:$D$17,0),3))","v":"Neklas"},90000.000000151005,90000.000000151005,-90000.000000151005,"Míra Kulhan",{"$f":"IF(W100>55000,\"Neklas\",INDEX(Přehled_body!$EG$3:$FF$130,MATCH(U100,Přehled_body!$EH$3:$EH$130,0)-1,1)+INDEX($D$2:$F$17,MATCH(U100,$D$2:$D$17,0),3))","v":"Neklas"},90000.000000151005,90000.000000151005,-90000.000000151005]
[null,null,null,null,null,null,null,null,null,null,"Pavel Pernekr",{"$f":"IF(O101<-55000,\"Neklas\",INDEX(Tabulka!$A$4:$AH$84,MATCH($K101,Tabulka!$A$4:$A$84,0)+2,34)+INDEX($D$2:$F$17,MATCH($K101,$D$2:$D$17,0),3))","v":"Neklas"},90016.999999838998,90016.999999838998,-89999.999999838998,"Pavel Pernekr",{"$f":"IF(R101>55000,\"Neklas\",INDEX(Přehled_body!$EG$3:$FF$130,MATCH(P101,Přehled_body!$EH$3:$EH$130,0),1)+INDEX($D$2:$F$17,MATCH(P101,$D$2:$D$17,0),3))","v":"Neklas"},90000.000000161002,90000.000000161002,-90000.000000161002,"Pavel Pernekr",{"$f":"IF(W101>55000,\"Neklas\",INDEX(Přehled_body!$EG$3:$FF$130,MATCH(U101,Přehled_body!$EH$3:$EH$130,0)-1,1)+INDEX($D$2:$F$17,MATCH(U101,$D$2:$D$17,0),3))","v":"Neklas"},90000.000000161002,90000.000000161002,-90000.000000161002]
[]
[]
[]
[]
[]
[]
[]
[]
[]
[]
[]
[]
[]
[]
[]
[]
[]
[]
[]
[]
[]
[]
[]
[]
[]
[]
[]
[]
[]
[]
[]
[]
[]
[]
[]
[]
[]
[]
[]
[]
[]
["2021-01-02"]
[1900]
["2021.06.29 11:12:59"]

{"sheet":"Zápisy_tisk","index":4,"n_rows":38,"n_cols":13,"rows_kept":38,"cut":false,"hidden":true,"merged":[]}
["Den -",null,null,null,null,null,null,"Den -"]
["Jméno","1.","2.","3.","4.","5.",null,"Jméno","1.","2.","3.","4.","5."]
[]
[]
[]
[]
[]
[]
[]
[]
[]
[]
["Den -",null,null,null,null,null,null,"Den -"]
["Jméno","1.","2.","3.","4.","5.",null,"Jméno","1.","2.","3.","4.","5."]
[]
[]
[]
[]
[]
[]
[]
[]
[]
[]
["Den -",null,null,null,null,null,null,"Den -"]
["Jméno","1.","2.","3.","4.","5.",null,"Jméno","1.","2.","3.","4.","5."]
[]
[]
[]
[]
[]
[]
[]
[]
[]
[]
["Den -",null,null,null,null,null,null,"Den -"]
["Jméno","1.","2.","3.","4.","5.",null,"Jméno","1.","2.","3.","4.","5."]

{"sheet":"Zápisy","index":5,"n_rows":88,"n_cols":22,"rows_kept":88,"cut":false,"hidden":false,"merged":[[13,1,13,21],[0,1,0,21]]}
[null,"1. pololetí"]
[null,"Den -","2021-06-22",null,null,null,null,null,"Den -","2021-06-29",null,null,null,null,null,"Den -"]
[null,"Jméno","1.","2.","3.","4.","5.","Přehozy","Jméno","1.","2.","3.","4.","5.","Přehozy","Jméno","1.","2.","3.","4.","5.","Přehozy"]
[null,"Libor",37,5,60,null,null,2,"Libor",0,80,31]
[null,"Milan",40,55,0,null,null,null,"Kuba",79,18,0]
[null,"Jirka B",56,7,10,null,null,null,"Jirka B",67,112,66]
[null,"Standa",51,72,16,null,null,null,"Standa",26,110,185]
[null,"Jarda",0,0,4,null,null,null,"Adam",47,25,49]
[null,"Kulhan",null,25,null,null,null,null,"Ivka",229,137,55]
[null,null,null,null,null,null,null,null,"Míra Ch",97,113,152]
[null,null,null,null,null,null,null,null,"Jarda",92,0,104]
[]
[]
[null,"2. pololetí"]
[null,"Den -","2021-07-13",null,null,null,null,null,"Den -","2021-07-20",null,null,null,null,null,"Den -","2021-07-27"]
[null,"Jméno","1.","2.","3.","4.","5.","Přehozy","Jméno","1.","2.","3.","4.","5.","Přehozy","Jméno","1.","2.","3.","4.","5.","Přehozy"]
[null,"Libor",19,45,98,0,null,4,"Libor",0,0,25,0,null,2,"Libor",0,16,70,74]
[null,"Kuba",0,40,1,null,null,null,"Milan",0,61,0,0,null,3,"Milan",4,241,0,0]
[null,"Milan",0,23,46,101,null,null,"Jirka B",90,81,28,16,null,null,"Míra Š",109,109,20,33]
[null,"Jirka B",105,61,0,68,null,null,"Standa",1,72,0,0,null,2,"Jirka B",164,84,193,89]
[null,"Standa",8,116,88,93,null,null,"Jarda",9,95,9,32,null,null,"Jarda",21,0,0,75]
[null,"Míra Ch",28,138,116,43,null,1,null,null,null,null,null,null,null,"Adam",null,null,156,49]
[null,"Jarda",25,0,28,98,null,3]
[null,"Adam",null,null,null,15]
[]
[]
[null,"Den -","2021-08-10",null,null,null,null,null,"Den -","2021-08-31",null,null,null,null,null,"Den -","2021-09-07"]
[null,"Jméno","1.","2.","3.","4.","5.","Přehozy","Jméno","1.","2.","3.","4.","5.","Přehozy","Jméno","1.","2.","3.","4.","5.","Přehozy"]
[null,"Libor",140,0,56,182,null,1,"Libor",118,178,33,21,null,1,"Libor",33,74,3,67,null,2]
[null,"Milan",0,82,31,8,null,1,"Milan",0,0,26,75,null,1,"Míra Š",30,21,49,141]
[null,"Míra Š",101,46,28,102,null,null,"Jirka B",42,95,37,85,null,1,"Milan",84,0,25,0]
[null,"Jirka B",139,66,22,71,null,null,"Standa",105,193,93,30,null,null,"Jirka B",27,125,16,168,null,3]
[null,"Standa",50,44,96,19,null,2,"Adam",null,null,null,85,null,null,"Standa",0,70,17,132]
[null,"Adam",null,null,115,132,null,null,"Karel H",240,273,0,53,null,null,"Adam"]
[null,"Jarda",133,0,0,0,null,null,"Jarda",149,28,0,0,null,3,"Jarda",28,155,0,18,null,1]
[]
[]
[]
[null,"Den -","2021-09-14",null,null,null,null,null,"Den -","2021-09-21",null,null,null,null,null,"Den -","2021-10-05"]
[null,"Jméno","1.","2.","3.","4.","5.","Přehozy","Jméno","1.","2.","3.","4.","5.","Přehozy","Jméno","1.","2.","3.","4.","5.","Přehozy"]
[null,"Libor",85,0,11,90,null,null,"Libor",71,108,41,33,null,null,"Libor",26,0,23]
[null,"Míra Š",154,15,77,114,null,null,"Míra Š",48,75,100,90,null,null,"Milan",35,0,8]
[null,"Milan",0,43,0,77,null,null,"Milan",0,0,34,33,null,1,"Jirka B",12,104,135]
[null,"Jirka B",37,2,31,151,null,2,"Jirka B",164,149,136,0,null,null,"Standa",0,64,115]
[null,"Standa",105,61,58,0,null,null,"Standa",144,49,0,16,null,null,"Adam",null,132,81]
[null,"Adam",null,null,49,65,null,2,"Adam",null,null,195,53,null,null,"Jarda",39,14,0]
[null,"Jarda",108,26,11,149,null,1]
[]
[]
[]
[null,"Den -","2021-10-12",null,null,null,null,null,"Den -","2021-10-19",null,null,null,null,null,"Den -","2021-10-26"]
[null,"Jméno","1.","2.","3.","4.","5.","Přehozy","Jméno","1.","2.","3.","4.","5.","Přehozy","Jméno","1.","2.","3.","4.","5.","Přehozy"]
[null,"Libor",16,22,23,28,null,2,"Libor",50,54,0,53,21,2,"Libor",30,67,98,41,null,1]
[null,"Kuba",54,0,0,38,null,3,"Míra Š",0,159,102,36,0,1,"Milan",126,0,78,63]
[null,"Milan",126,26,0,0,null,null,"Milan",0,83,116,0,0,null,"Jirka B",0,165,26,0]
[null,"Jirka B",0,21,55,67,null,null,"Jirka B",0,0,23,51,109,1,"Standa",55,108,0,31]
[null,"Standa",45,75,64,16,null,3,"Jarda",0,111,32,0,67,1,"Adam",null,null,null,12]
[null,"Jarda",8,0,22,78,null,1,null,null,null,null,null,null,null,"Jarda",22,155,265,25,null,2]
[]
[]
[]
[]
[null,"Den -","2021-11-02",null,null,null,null,null,"Den -","2021-11-09",null,null,null,null,null,"Den -","2021-11-23"]
[null,"Jméno","1.","2.","3.","4.","5.","Přehozy","Jméno","1.","2.","3.","4.","5.","Přehozy","Jméno","1.","2.","3.","4.","5.","Přehozy"]
[null,"Libor",56,0,110,15,null,1,"Libor",9,52,122,64,44,1,"Libor",31,0,0,23,null,2]
[null,"Milan",0,113,71,162,null,null,"Míra Š",0,0,69,166,0,1,"Milan",70,16,56,45]
[null,"Jirka B",202,92,40,121,null,null,"Milan",0,98,50,96,22,1,"Jirka B",0,0,97,19,null,2]
[null,"Standa",93,15,0,0,null,null,"Jirka B",184,67,14,49,81,null,"Standa",3,58,60,0]
[null,"Adam",null,60,106,97,null,null,"Standa",28,14,25,0,0,1,"Adam",null,109,232,85]
[null,"Jarda",136,175,152,31,null,null,"Adam"]
[null,null,null,null,null,null,null,null,"Zdeněk",82,0,111,50,89]
[null,null,null,null,null,null,null,null,"Jarda",20,15,0,28,14,2]
[]
[]
[null,"Den -","2021-11-30",null,null,null,null,null,"Den -","2021-12-07",null,null,null,null,null,"Den -","2021-12-14"]
[null,"Jméno","1.","2.","3.","4.","5.","Přehozy","Jméno","1.","2.","3.","4.","5.","Přehozy","Jméno","1.","2.","3.","4.","5.","Přehozy"]
[null,"Libor",96,122,52,69,null,null,"Libor",145,36,22,38]
[null,"Milan",0,46,0,0,null,null,"Kuba",0,19,16,110,null,2]
[null,"Jirka B",21,159,125,158,null,1,"Milan",152,82,8,103,null,2]
[null,"Standa",85,0,78,98,null,1,"Jirka B",179,1,32,22,null,1]
[null,"Adam",null,null,null,null,null,null,"Petr Š",286,262,55,124]
[null,"Jarda",64,37,97,72,null,1,"Standa",64,0,22,66,null,1]
[null,null,null,null,null,null,null,null,"Jarda",57,124,0,0,null,1]
[]
[]
[]
[null,"Den -","2021-12-21",null,null,null,null,null,"Den -",null,null,null,null,null,null,"Den -"]
[null,"Jméno","1.","2.","3.","4.","5.","Přehozy","Jméno","1.","2.","3.","4.","5.","Přehozy","Jméno","1.","2.","3.","4.","5.","Přehozy"]